{"text_format":"1","workbook":"xlsx","n_sheets":4,"sheets":["Eingabeliste","Zusammenfassung","Daten","Preise"],"not_rendered":{"charts":0,"images":2,"macros":1,"external_links":0,"defined_names":0,"comments":0,"pivot_tables":0},"unopened":[],"bounds":{"document_bytes":16777216,"sheet_cells":100000,"rows_first":2000,"rows_last":500,"rows_between":2000,"halvings":0,"cell_chars":16384,"cell_head_chars":4096},"cells_cut":0,"cells_raw":0,"read":"whole","date_system":"1900"}

{"sheet":"Eingabeliste","index":0,"n_rows":340,"n_cols":33,"rows_kept":340,"cut":false,"hidden":false,"merged":[[3,15,3,17],[3,19,3,21],[2,22,2,25]]}
[1,1,0,0,1,0,0,0,0,1,1,1,1,0,1,0,0,0,1,0,0,0,0,0,0,0,0,0,0,0,0,0]
[null,{"$f":"SUM(B5:B340)","v":0},null,null,{"$f":"Preise!AA2","v":0}]
["Position","Anzahl ","Rahmen-\nlichtbreite","Rahmen- \nsichtbreite","Banklänge\naussen","Überstand\nvorne","Leibung\nMass C","Aussen-\ndämmung","Dämmstärke","Banktiefe","Gefälle","Hintere\nAufbordung","Vordere\nAbbordung","Oberfläche","Abschluss\nlinks","Bordhöhe ","Bordbreite","E-Mass","Abschluss\nrechts","Bordhöhe ","Bordbreite","E-Mass","Optionen\nAbschlüsse",null,null,null,"Isolations-\nMaterial","Isolationtyp","Isolation \nMass B","Isolation\nÜberstand Li","Isolation\nÜberstand Re","Isolation\nÜberstand Hi","Material"]
["[-]","[Stk]","[mm]","[mm]","[mm]","[mm]","[mm]","[mm]","[mm]","[mm]","[°]","[mm]","[mm]","[-]","[-]","[mm]",null,null,"[-]","[mm]",null,null,"[-]","x","y","z","[-]","[-]","[mm]","[mm]","[mm]","[mm]","[-]"]
[null,null,null,{"$f":"IF(A5=\"\",\"\",IF(Daten!B$3=TRUE,Daten!B$7,\"\"))","v":""},{"$f":"IFERROR(IF(C5=\"\",\"\",C5+(2*D5)+IF(O5=Daten!M$13,6,0)+IF(S5=Daten!M$13,6,0)+IF(Q5=\"-\",0,Q5)+IF(U5=\"-\",0,U5)),\"\")","v":""},{"$f":"IF(OR(A5=\"\",AND(F$1=0,Daten!F$3=FALSE)),\"\",Daten!B$6)","v":""},{"$f":"IF(A5=\"\",\"\",IF(Daten!B$5=\"??\",\"\",Daten!B$5))","v":""},{"$f":"IF(A5=\"\",\"\",IF(Daten!B$3=FALSE,\"\",Daten!B$4))","v":""},{"$f":"IFERROR(IF(A5=\"\",\"\",G5+H5+IF(AND(G5>0,H5>0),5,0))-IF(Daten!H$21=TRUE,H5,0),\"\")","v":""},{"$f":"IFERROR(IF(A5=\"\",\"\",I5+IF(Daten!H$21=TRUE,H5,0)+IF(F5=\"\",0,F5)-IF(Daten!F$3=TRUE,Daten!F$10,0)),\"\")","v":""},{"$f":"IF(A5=\"\",\"\",Daten!D$14)","v":""},{"$f":"IF(A5=\"\",\"\",Daten!D$12)","v":""},{"$f":"IF(A5=\"\",\"\",Daten!D$13)","v":""},{"$f":"IF(A5=\"\",\"\",Daten!M$2)","v":""},{"$f":"IF(A5=\"\",\"\",IF(Daten!D$6=Daten!N$11,Daten!M$11,IF(Daten!D$6=Daten!N$13,Daten!M$13,IF(AND(Daten!$D$6=Daten!$M$10,Daten!$D$8=TRUE),Daten!$M$14,Daten!D$6))))","v":""},{"$f":"IF($A5=\"\",\"\",IF(OR(O5=\"Putzbord\",O5=\"Flexila PU\"),Daten!$D$15,IF(OR(O5=\"Stehbord\",O5=\"Stehbord HB\",O5=\"Flexila STB\",O5=\"Jalousiebord\"),Daten!$D$19,\"-\")))","v":""},{"$f":"IF($A5=\"\",\"\",IF(O5=\"Putzbord\",Daten!$D$16,IF(O5=\"Flexila PU\",_xlfn.NUMBERVALUE(MID(Daten!$D$17,1,2)),\"-\")))","v":""},{"$f":"IF($A5=\"\",\"\",IF(OR(O5=\"Putzbord\",O5=\"Flexila PU\"),Daten!$D$18,IF(OR(O5=\"Stehbord\",O5=\"Stehbord HB\",O5=\"Flexila STB\",O5=\"Jalousiebord\"),Daten!$D$21,\"-\")))","v":""},{"$f":"IF(A5=\"\",\"\",IF(Daten!D$6=Daten!N$11,Daten!M$11,IF(Daten!D$6=Daten!N$13,Daten!M$13,IF(AND(Daten!$D$6=Daten!$M$10,Daten!$D$8=TRUE),Daten!$M$14,Daten!D$6))))","v":""},{"$f":"IF($A5=\"\",\"\",IF(OR(S5=\"Putzbord\",S5=\"Flexila PU\"),Daten!$D$15,IF(OR(S5=\"Stehbord\",S5=\"Stehbord HB\",S5=\"Flexila STB\",S5=\"Jalousiebord\"),Daten!$D$19,\"-\")))","v":""},{"$f":"IF($A5=\"\",\"\",IF(S5=\"Putzbord\",Daten!$D$16,IF(S5=\"Flexila PU\",_xlfn.NUMBERVALUE(MID(Daten!$D$17,1,2)),\"-\")))","v":""},{"$f":"IF($A5=\"\",\"\",IF(OR(S5=\"Putzbord\",S5=\"Flexila PU\"),Daten!$D$18,IF(OR(S5=\"Stehbord\",S5=\"Stehbord HB\",S5=\"Flexila STB\",S5=\"Jalousiebord\"),Daten!$D$21,\"-\")))","v":""},{"$f":"IF(A5=\"\",\"\",IF(AND(Daten!D$6=\"Jalousiebord\",OR(O5=\"Stehbord\",S5=\"Stehbord\")),\"Jalousienklinkung\",\"\"))","v":""},{"$f":"IF(W5=\"\",\"\",Daten!D$20)","v":""},null,null,{"$f":"IF(A5=\"\",\"\",IF(Daten!F$1=\"A\",\"Ohne\",IF(OR(N5=\"Gerstenkorn roh\",N5=\"Riffelblech roh\"),\"XPS\",Daten!F$2)))","v":""},{"$f":"IF(A5=\"\",\"\",IF(AA5=\"Ohne\",\"A\",IF(AA5=\"XPS\",IF(Daten!F$1=\"D\",\"B\",Daten!F$1),Daten!F$1)))","v":""},{"$f":"IF(A5=\"\",\"\",IF(AB5=\"A\",\"-\",Daten!F$7))","v":""},{"$f":"IF(A5=\"\",\"\",IF(AB5=\"A\",\"-\",IF(AND(Daten!F$8=0,O5=\"Putzbord\"),5-Q5,0)))","v":""},{"$f":"IF(A5=\"\",\"\",IF(AB5=\"A\",\"-\",IF(AND(Daten!F$8=0,S5=\"Putzbord\"),5-U5,0)))","v":""},{"$f":"IF(A5=\"\",\"\",IF(AB5=\"A\",\"-\",Daten!F$10))","v":""},{"$f":"IFERROR(IF(A5=\"\",\"\",VLOOKUP(N5,Daten!N$1:O$7,2,FALSE)),\"\")","v":""}]
[null,null,null,{"$f":"IF(A6=\"\",\"\",IF(Daten!B$3=TRUE,Daten!B$7,\"\"))","v":""},{"$f":"IFERROR(IF(C6=\"\",\"\",C6+(2*D6)+IF(O6=Daten!M$13,6,0)+IF(S6=Daten!M$13,6,0)+IF(Q6=\"-\",0,Q6)+IF(U6=\"-\",0,U6)),\"\")","v":""},{"$f":"IF(OR(A6=\"\",AND(F$1=0,Daten!F$3=FALSE)),\"\",Daten!B$6)","v":""},{"$f":"IF(A6=\"\",\"\",IF(Daten!B$5=\"??\",\"\",Daten!B$5))","v":""},{"$f":"IF(A6=\"\",\"\",IF(Daten!B$3=FALSE,\"\",Daten!B$4))","v":""},{"$f":"IFERROR(IF(A6=\"\",\"\",G6+H6+IF(AND(G6>0,H6>0),5,0))-IF(Daten!H$21=TRUE,H6,0),\"\")","v":""},{"$f":"IFERROR(IF(A6=\"\",\"\",I6+IF(Daten!H$21=TRUE,H6,0)+IF(F6=\"\",0,F6)-IF(Daten!F$3=TRUE,Daten!F$10,0)),\"\")","v":""},{"$f":"IF(A6=\"\",\"\",Daten!D$14)","v":""},{"$f":"IF(A6=\"\",\"\",Daten!D$12)","v":""},{"$f":"IF(A6=\"\",\"\",Daten!D$13)","v":""},{"$f":"IF(A6=\"\",\"\",Daten!M$2)","v":""},{"$f":"IF(A6=\"\",\"\",IF(Daten!D$6=Daten!N$11,Daten!M$11,IF(Daten!D$6=Daten!N$13,Daten!M$13,IF(AND(Daten!$D$6=Daten!$M$10,Daten!$D$8=TRUE),Daten!$M$14,Daten!D$6))))","v":""},{"$f":"IF($A6=\"\",\"\",IF(OR(O6=\"Putzbord\",O6=\"Flexila PU\"),Daten!$D$15,IF(OR(O6=\"Stehbord\",O6=\"Stehbord HB\",O6=\"Flexila STB\",O6=\"Jalousiebord\"),Daten!$D$19,\"-\")))","v":""},{"$f":"IF($A6=\"\",\"\",IF(O6=\"Putzbord\",Daten!$D$16,IF(O6=\"Flexila PU\",_xlfn.NUMBERVALUE(MID(Daten!$D$17,1,2)),\"-\")))","v":""},{"$f":"IF($A6=\"\",\"\",IF(OR(O6=\"Putzbord\",O6=\"Flexila PU\"),Daten!$D$18,IF(OR(O6=\"Stehbord\",O6=\"Stehbord HB\",O6=\"Flexila STB\",O6=\"Jalousiebord\"),Daten!$D$21,\"-\")))","v":""},{"$f":"IF(A6=\"\",\"\",IF(Daten!D$6=Daten!N$11,Daten!M$11,IF(Daten!D$6=Daten!N$13,Daten!M$13,IF(AND(Daten!$D$6=Daten!$M$10,Daten!$D$8=TRUE),Daten!$M$14,Daten!D$6))))","v":""},{"$f":"IF($A6=\"\",\"\",IF(OR(S6=\"Putzbord\",S6=\"Flexila PU\"),Daten!$D$15,IF(OR(S6=\"Stehbord\",S6=\"Stehbord HB\",S6=\"Flexila STB\",S6=\"Jalousiebord\"),Daten!$D$19,\"-\")))","v":""},{"$f":"IF($A6=\"\",\"\",IF(S6=\"Putzbord\",Daten!$D$16,IF(S6=\"Flexila PU\",_xlfn.NUMBERVALUE(MID(Daten!$D$17,1,2)),\"-\")))","v":""},{"$f":"IF($A6=\"\",\"\",IF(OR(S6=\"Putzbord\",S6=\"Flexila PU\"),Daten!$D$18,IF(OR(S6=\"Stehbord\",S6=\"Stehbord HB\",S6=\"Flexila STB\",S6=\"Jalousiebord\"),Daten!$D$21,\"-\")))","v":""},{"$f":"IF(A6=\"\",\"\",IF(AND(Daten!D$6=\"Jalousiebord\",OR(O6=\"Stehbord\",S6=\"Stehbord\")),\"Jalousienklinkung\",\"\"))","v":""},{"$f":"IF(W6=\"\",\"\",Daten!D$20)","v":""},null,null,{"$f":"IF(A6=\"\",\"\",IF(Daten!F$1=\"A\",\"Ohne\",IF(OR(N6=\"Gerstenkorn roh\",N6=\"Riffelblech roh\"),\"XPS\",Daten!F$2)))","v":""},{"$f":"IF(A6=\"\",\"\",IF(AA6=\"Ohne\",\"A\",IF(AA6=\"XPS\",IF(Daten!F$1=\"D\",\"B\",Daten!F$1),Daten!F$1)))","v":""},{"$f":"IF(A6=\"\",\"\",IF(AB6=\"A\",\"-\",Daten!F$7))","v":""},{"$f":"IF(A6=\"\",\"\",IF(AB6=\"A\",\"-\",IF(AND(Daten!F$8=0,O6=\"Putzbord\"),5-Q6,0)))","v":""},{"$f":"IF(A6=\"\",\"\",IF(AB6=\"A\",\"-\",IF(AND(Daten!F$8=0,S6=\"Putzbord\"),5-U6,0)))","v":""},{"$f":"IF(A6=\"\",\"\",IF(AB6=\"A\",\"-\",Daten!F$10))","v":""},{"$f":"IFERROR(IF(A6=\"\",\"\",VLOOKUP(N6,Daten!N$1:O$7,2,FALSE)),\"\")","v":""}]
[null,null,null,{"$f":"IF(A7=\"\",\"\",IF(Daten!B$3=TRUE,Daten!B$7,\"\"))","v":""},{"$f":"IFERROR(IF(C7=\"\",\"\",C7+(2*D7)+IF(O7=Daten!M$13,6,0)+IF(S7=Daten!M$13,6,0)+IF(Q7=\"-\",0,Q7)+IF(U7=\"-\",0,U7)),\"\")","v":""},{"$f":"IF(OR(A7=\"\",AND(F$1=0,Daten!F$3=FALSE)),\"\",Daten!B$6)","v":""},{"$f":"IF(A7=\"\",\"\",IF(Daten!B$5=\"??\",\"\",Daten!B$5))","v":""},{"$f":"IF(A7=\"\",\"\",IF(Daten!B$3=FALSE,\"\",Daten!B$4))","v":""},{"$f":"IFERROR(IF(A7=\"\",\"\",G7+H7+IF(AND(G7>0,H7>0),5,0))-IF(Daten!H$21=TRUE,H7,0),\"\")","v":""},{"$f":"IFERROR(IF(A7=\"\",\"\",I7+IF(Daten!H$21=TRUE,H7,0)+IF(F7=\"\",0,F7)-IF(Daten!F$3=TRUE,Daten!F$10,0)),\"\")","v":""},{"$f":"IF(A7=\"\",\"\",Daten!D$14)","v":""},{"$f":"IF(A7=\"\",\"\",Daten!D$12)","v":""},{"$f":"IF(A7=\"\",\"\",Daten!D$13)","v":""},{"$f":"IF(A7=\"\",\"\",Daten!M$2)","v":""},{"$f":"IF(A7=\"\",\"\",IF(Daten!D$6=Daten!N$11,Daten!M$11,IF(Daten!D$6=Daten!N$13,Daten!M$13,IF(AND(Daten!$D$6=Daten!$M$10,Daten!$D$8=TRUE),Daten!$M$14,Daten!D$6))))","v":""},{"$f":"IF($A7=\"\",\"\",IF(OR(O7=\"Putzbord\",O7=\"Flexila PU\"),Daten!$D$15,IF(OR(O7=\"Stehbord\",O7=\"Stehbord HB\",O7=\"Flexila STB\",O7=\"Jalousiebord\"),Daten!$D$19,\"-\")))","v":""},{"$f":"IF($A7=\"\",\"\",IF(O7=\"Putzbord\",Daten!$D$16,IF(O7=\"Flexila PU\",_xlfn.NUMBERVALUE(MID(Daten!$D$17,1,2)),\"-\")))","v":""},{"$f":"IF($A7=\"\",\"\",IF(OR(O7=\"Putzbord\",O7=\"Flexila PU\"),Daten!$D$18,IF(OR(O7=\"Stehbord\",O7=\"Stehbord HB\",O7=\"Flexila STB\",O7=\"Jalousiebord\"),Daten!$D$21,\"-\")))","v":""},{"$f":"IF(A7=\"\",\"\",IF(Daten!D$6=Daten!N$11,Daten!M$11,IF(Daten!D$6=Daten!N$13,Daten!M$13,IF(AND(Daten!$D$6=Daten!$M$10,Daten!$D$8=TRUE),Daten!$M$14,Daten!D$6))))","v":""},{"$f":"IF($A7=\"\",\"\",IF(OR(S7=\"Putzbord\",S7=\"Flexila PU\"),Daten!$D$15,IF(OR(S7=\"Stehbord\",S7=\"Stehbord HB\",S7=\"Flexila STB\",S7=\"Jalousiebord\"),Daten!$D$19,\"-\")))","v":""},{"$f":"IF($A7=\"\",\"\",IF(S7=\"Putzbord\",Daten!$D$16,IF(S7=\"Flexila PU\",_xlfn.NUMBERVALUE(MID(Daten!$D$17,1,2)),\"-\")))","v":""},{"$f":"IF($A7=\"\",\"\",IF(OR(S7=\"Putzbord\",S7=\"Flexila PU\"),Daten!$D$18,IF(OR(S7=\"Stehbord\",S7=\"Stehbord HB\",S7=\"Flexila STB\",S7=\"Jalousiebord\"),Daten!$D$21,\"-\")))","v":""},{"$f":"IF(A7=\"\",\"\",IF(AND(Daten!D$6=\"Jalousiebord\",OR(O7=\"Stehbord\",S7=\"Stehbord\")),\"Jalousienklinkung\",\"\"))","v":""},{"$f":"IF(W7=\"\",\"\",Daten!D$20)","v":""},null,null,{"$f":"IF(A7=\"\",\"\",IF(Daten!F$1=\"A\",\"Ohne\",IF(OR(N7=\"Gerstenkorn roh\",N7=\"Riffelblech roh\"),\"XPS\",Daten!F$2)))","v":""},{"$f":"IF(A7=\"\",\"\",IF(AA7=\"Ohne\",\"A\",IF(AA7=\"XPS\",IF(Daten!F$1=\"D\",\"B\",Daten!F$1),Daten!F$1)))","v":""},{"$f":"IF(A7=\"\",\"\",IF(AB7=\"A\",\"-\",Daten!F$7))","v":""},{"$f":"IF(A7=\"\",\"\",IF(AB7=\"A\",\"-\",IF(AND(Daten!F$8=0,O7=\"Putzbord\"),5-Q7,0)))","v":""},{"$f":"IF(A7=\"\",\"\",IF(AB7=\"A\",\"-\",IF(AND(Daten!F$8=0,S7=\"Putzbord\"),5-U7,0)))","v":""},{"$f":"IF(A7=\"\",\"\",IF(AB7=\"A\",\"-\",Daten!F$10))","v":""},{"$f":"IFERROR(IF(A7=\"\",\"\",VLOOKUP(N7,Daten!N$1:O$7,2,FALSE)),\"\")","v":""}]
[null,null,null,{"$f":"IF(A8=\"\",\"\",IF(Daten!B$3=TRUE,Daten!B$7,\"\"))","v":""},{"$f":"IFERROR(IF(C8=\"\",\"\",C8+(2*D8)+IF(O8=Daten!M$13,6,0)+IF(S8=Daten!M$13,6,0)+IF(Q8=\"-\",0,Q8)+IF(U8=\"-\",0,U8)),\"\")","v":""},{"$f":"IF(OR(A8=\"\",AND(F$1=0,Daten!F$3=FALSE)),\"\",Daten!B$6)","v":""},{"$f":"IF(A8=\"\",\"\",IF(Daten!B$5=\"??\",\"\",Daten!B$5))","v":""},{"$f":"IF(A8=\"\",\"\",IF(Daten!B$3=FALSE,\"\",Daten!B$4))","v":""},{"$f":"IFERROR(IF(A8=\"\",\"\",G8+H8+IF(AND(G8>0,H8>0),5,0))-IF(Daten!H$21=TRUE,H8,0),\"\")","v":""},{"$f":"IFERROR(IF(A8=\"\",\"\",I8+IF(Daten!H$21=TRUE,H8,0)+IF(F8=\"\",0,F8)-IF(Daten!F$3=TRUE,Daten!F$10,0)),\"\")","v":""},{"$f":"IF(A8=\"\",\"\",Daten!D$14)","v":""},{"$f":"IF(A8=\"\",\"\",Daten!D$12)","v":""},{"$f":"IF(A8=\"\",\"\",Daten!D$13)","v":""},{"$f":"IF(A8=\"\",\"\",Daten!M$2)","v":""},{"$f":"IF(A8=\"\",\"\",IF(Daten!D$6=Daten!N$11,Daten!M$11,IF(Daten!D$6=Daten!N$13,Daten!M$13,IF(AND(Daten!$D$6=Daten!$M$10,Daten!$D$8=TRUE),Daten!$M$14,Daten!D$6))))","v":""},{"$f":"IF($A8=\"\",\"\",IF(OR(O8=\"Putzbord\",O8=\"Flexila PU\"),Daten!$D$15,IF(OR(O8=\"Stehbord\",O8=\"Stehbord HB\",O8=\"Flexila STB\",O8=\"Jalousiebord\"),Daten!$D$19,\"-\")))","v":""},{"$f":"IF($A8=\"\",\"\",IF(O8=\"Putzbord\",Daten!$D$16,IF(O8=\"Flexila PU\",_xlfn.NUMBERVALUE(MID(Daten!$D$17,1,2)),\"-\")))","v":""},{"$f":"IF($A8=\"\",\"\",IF(OR(O8=\"Putzbord\",O8=\"Flexila PU\"),Daten!$D$18,IF(OR(O8=\"Stehbord\",O8=\"Stehbord HB\",O8=\"Flexila STB\",O8=\"Jalousiebord\"),Daten!$D$21,\"-\")))","v":""},{"$f":"IF(A8=\"\",\"\",IF(Daten!D$6=Daten!N$11,Daten!M$11,IF(Daten!D$6=Daten!N$13,Daten!M$13,IF(AND(Daten!$D$6=Daten!$M$10,Daten!$D$8=TRUE),Daten!$M$14,Daten!D$6))))","v":""},{"$f":"IF($A8=\"\",\"\",IF(OR(S8=\"Putzbord\",S8=\"Flexila PU\"),Daten!$D$15,IF(OR(S8=\"Stehbord\",S8=\"Stehbord HB\",S8=\"Flexila STB\",S8=\"Jalousiebord\"),Daten!$D$19,\"-\")))","v":""},{"$f":"IF($A8=\"\",\"\",IF(S8=\"Putzbord\",Daten!$D$16,IF(S8=\"Flexila PU\",_xlfn.NUMBERVALUE(MID(Daten!$D$17,1,2)),\"-\")))","v":""},{"$f":"IF($A8=\"\",\"\",IF(OR(S8=\"Putzbord\",S8=\"Flexila PU\"),Daten!$D$18,IF(OR(S8=\"Stehbord\",S8=\"Stehbord HB\",S8=\"Flexila STB\",S8=\"Jalousiebord\"),Daten!$D$21,\"-\")))","v":""},{"$f":"IF(A8=\"\",\"\",IF(AND(Daten!D$6=\"Jalousiebord\",OR(O8=\"Stehbord\",S8=\"Stehbord\")),\"Jalousienklinkung\",\"\"))","v":""},{"$f":"IF(W8=\"\",\"\",Daten!D$20)","v":""},null,null,{"$f":"IF(A8=\"\",\"\",IF(Daten!F$1=\"A\",\"Ohne\",IF(OR(N8=\"Gerstenkorn roh\",N8=\"Riffelblech roh\"),\"XPS\",Daten!F$2)))","v":""},{"$f":"IF(A8=\"\",\"\",IF(AA8=\"Ohne\",\"A\",IF(AA8=\"XPS\",IF(Daten!F$1=\"D\",\"B\",Daten!F$1),Daten!F$1)))","v":""},{"$f":"IF(A8=\"\",\"\",IF(AB8=\"A\",\"-\",Daten!F$7))","v":""},{"$f":"IF(A8=\"\",\"\",IF(AB8=\"A\",\"-\",IF(AND(Daten!F$8=0,O8=\"Putzbord\"),5-Q8,0)))","v":""},{"$f":"IF(A8=\"\",\"\",IF(AB8=\"A\",\"-\",IF(AND(Daten!F$8=0,S8=\"Putzbord\"),5-U8,0)))","v":""},{"$f":"IF(A8=\"\",\"\",IF(AB8=\"A\",\"-\",Daten!F$10))","v":""},{"$f":"IFERROR(IF(A8=\"\",\"\",VLOOKUP(N8,Daten!N$1:O$7,2,FALSE)),\"\")","v":""}]
[null,null,null,{"$f":"IF(A9=\"\",\"\",IF(Daten!B$3=TRUE,Daten!B$7,\"\"))","v":""},{"$f":"IFERROR(IF(C9=\"\",\"\",C9+(2*D9)+IF(O9=Daten!M$13,6,0)+IF(S9=Daten!M$13,6,0)+IF(Q9=\"-\",0,Q9)+IF(U9=\"-\",0,U9)),\"\")","v":""},{"$f":"IF(OR(A9=\"\",AND(F$1=0,Daten!F$3=FALSE)),\"\",Daten!B$6)","v":""},{"$f":"IF(A9=\"\",\"\",IF(Daten!B$5=\"??\",\"\",Daten!B$5))","v":""},{"$f":"IF(A9=\"\",\"\",IF(Daten!B$3=FALSE,\"\",Daten!B$4))","v":""},{"$f":"IFERROR(IF(A9=\"\",\"\",G9+H9+IF(AND(G9>0,H9>0),5,0))-IF(Daten!H$21=TRUE,H9,0),\"\")","v":""},{"$f":"IFERROR(IF(A9=\"\",\"\",I9+IF(Daten!H$21=TRUE,H9,0)+IF(F9=\"\",0,F9)-IF(Daten!F$3=TRUE,Daten!F$10,0)),\"\")","v":""},{"$f":"IF(A9=\"\",\"\",Daten!D$14)","v":""},{"$f":"IF(A9=\"\",\"\",Daten!D$12)","v":""},{"$f":"IF(A9=\"\",\"\",Daten!D$13)","v":""},{"$f":"IF(A9=\"\",\"\",Daten!M$2)","v":""},{"$f":"IF(A9=\"\",\"\",IF(Daten!D$6=Daten!N$11,Daten!M$11,IF(Daten!D$6=Daten!N$13,Daten!M$13,IF(AND(Daten!$D$6=Daten!$M$10,Daten!$D$8=TRUE),Daten!$M$14,Daten!D$6))))","v":""},{"$f":"IF($A9=\"\",\"\",IF(OR(O9=\"Putzbord\",O9=\"Flexila PU\"),Daten!$D$15,IF(OR(O9=\"Stehbord\",O9=\"Stehbord HB\",O9=\"Flexila STB\",O9=\"Jalousiebord\"),Daten!$D$19,\"-\")))","v":""},{"$f":"IF($A9=\"\",\"\",IF(O9=\"Putzbord\",Daten!$D$16,IF(O9=\"Flexila PU\",_xlfn.NUMBERVALUE(MID(Daten!$D$17,1,2)),\"-\")))","v":""},{"$f":"IF($A9=\"\",\"\",IF(OR(O9=\"Putzbord\",O9=\"Flexila PU\"),Daten!$D$18,IF(OR(O9=\"Stehbord\",O9=\"Stehbord HB\",O9=\"Flexila STB\",O9=\"Jalousiebord\"),Daten!$D$21,\"-\")))","v":""},{"$f":"IF(A9=\"\",\"\",IF(Daten!D$6=Daten!N$11,Daten!M$11,IF(Daten!D$6=Daten!N$13,Daten!M$13,IF(AND(Daten!$D$6=Daten!$M$10,Daten!$D$8=TRUE),Daten!$M$14,Daten!D$6))))","v":""},{"$f":"IF($A9=\"\",\"\",IF(OR(S9=\"Putzbord\",S9=\"Flexila PU\"),Daten!$D$15,IF(OR(S9=\"Stehbord\",S9=\"Stehbord HB\",S9=\"Flexila STB\",S9=\"Jalousiebord\"),Daten!$D$19,\"-\")))","v":""},{"$f":"IF($A9=\"\",\"\",IF(S9=\"Putzbord\",Daten!$D$16,IF(S9=\"Flexila PU\",_xlfn.NUMBERVALUE(MID(Daten!$D$17,1,2)),\"-\")))","v":""},{"$f":"IF($A9=\"\",\"\",IF(OR(S9=\"Putzbord\",S9=\"Flexila PU\"),Daten!$D$18,IF(OR(S9=\"Stehbord\",S9=\"Stehbord HB\",S9=\"Flexila STB\",S9=\"Jalousiebord\"),Daten!$D$21,\"-\")))","v":""},{"$f":"IF(A9=\"\",\"\",IF(AND(Daten!D$6=\"Jalousiebord\",OR(O9=\"Stehbord\",S9=\"Stehbord\")),\"Jalousienklinkung\",\"\"))","v":""},{"$f":"IF(W9=\"\",\"\",Daten!D$20)","v":""},null,null,{"$f":"IF(A9=\"\",\"\",IF(Daten!F$1=\"A\",\"Ohne\",IF(OR(N9=\"Gerstenkorn roh\",N9=\"Riffelblech roh\"),\"XPS\",Daten!F$2)))","v":""},{"$f":"IF(A9=\"\",\"\",IF(AA9=\"Ohne\",\"A\",IF(AA9=\"XPS\",IF(Daten!F$1=\"D\",\"B\",Daten!F$1),Daten!F$1)))","v":""},{"$f":"IF(A9=\"\",\"\",IF(AB9=\"A\",\"-\",Daten!F$7))","v":""},{"$f":"IF(A9=\"\",\"\",IF(AB9=\"A\",\"-\",IF(AND(Daten!F$8=0,O9=\"Putzbord\"),5-Q9,0)))","v":""},{"$f":"IF(A9=\"\",\"\",IF(AB9=\"A\",\"-\",IF(AND(Daten!F$8=0,S9=\"Putzbord\"),5-U9,0)))","v":""},{"$f":"IF(A9=\"\",\"\",IF(AB9=\"A\",\"-\",Daten!F$10))","v":""},{"$f":"IFERROR(IF(A9=\"\",\"\",VLOOKUP(N9,Daten!N$1:O$7,2,FALSE)),\"\")","v":""}]
[null,null,null,{"$f":"IF(A10=\"\",\"\",IF(Daten!B$3=TRUE,Daten!B$7,\"\"))","v":""},{"$f":"IFERROR(IF(C10=\"\",\"\",C10+(2*D10)+IF(O10=Daten!M$13,6,0)+IF(S10=Daten!M$13,6,0)+IF(Q10=\"-\",0,Q10)+IF(U10=\"-\",0,U10)),\"\")","v":""},{"$f":"IF(OR(A10=\"\",AND(F$1=0,Daten!F$3=FALSE)),\"\",Daten!B$6)","v":""},{"$f":"IF(A10=\"\",\"\",IF(Daten!B$5=\"??\",\"\",Daten!B$5))","v":""},{"$f":"IF(A10=\"\",\"\",IF(Daten!B$3=FALSE,\"\",Daten!B$4))","v":""},{"$f":"IFERROR(IF(A10=\"\",\"\",G10+H10+IF(AND(G10>0,H10>0),5,0))-IF(Daten!H$21=TRUE,H10,0),\"\")","v":""},{"$f":"IFERROR(IF(A10=\"\",\"\",I10+IF(Daten!H$21=TRUE,H10,0)+IF(F10=\"\",0,F10)-IF(Daten!F$3=TRUE,Daten!F$10,0)),\"\")","v":""},{"$f":"IF(A10=\"\",\"\",Daten!D$14)","v":""},{"$f":"IF(A10=\"\",\"\",Daten!D$12)","v":""},{"$f":"IF(A10=\"\",\"\",Daten!D$13)","v":""},{"$f":"IF(A10=\"\",\"\",Daten!M$2)","v":""},{"$f":"IF(A10=\"\",\"\",IF(Daten!D$6=Daten!N$11,Daten!M$11,IF(Daten!D$6=Daten!N$13,Daten!M$13,IF(AND(Daten!$D$6=Daten!$M$10,Daten!$D$8=TRUE),Daten!$M$14,Daten!D$6))))","v":""},{"$f":"IF($A10=\"\",\"\",IF(OR(O10=\"Putzbord\",O10=\"Flexila PU\"),Daten!$D$15,IF(OR(O10=\"Stehbord\",O10=\"Stehbord HB\",O10=\"Flexila STB\",O10=\"Jalousiebord\"),Daten!$D$19,\"-\")))","v":""},{"$f":"IF($A10=\"\",\"\",IF(O10=\"Putzbord\",Daten!$D$16,IF(O10=\"Flexila PU\",_xlfn.NUMBERVALUE(MID(Daten!$D$17,1,2)),\"-\")))","v":""},{"$f":"IF($A10=\"\",\"\",IF(OR(O10=\"Putzbord\",O10=\"Flexila PU\"),Daten!$D$18,IF(OR(O10=\"Stehbord\",O10=\"Stehbord HB\",O10=\"Flexila STB\",O10=\"Jalousiebord\"),Daten!$D$21,\"-\")))","v":""},{"$f":"IF(A10=\"\",\"\",IF(Daten!D$6=Daten!N$11,Daten!M$11,IF(Daten!D$6=Daten!N$13,Daten!M$13,IF(AND(Daten!$D$6=Daten!$M$10,Daten!$D$8=TRUE),Daten!$M$14,Daten!D$6))))","v":""},{"$f":"IF($A10=\"\",\"\",IF(OR(S10=\"Putzbord\",S10=\"Flexila PU\"),Daten!$D$15,IF(OR(S10=\"Stehbord\",S10=\"Stehbord HB\",S10=\"Flexila STB\",S10=\"Jalousiebord\"),Daten!$D$19,\"-\")))","v":""},{"$f":"IF($A10=\"\",\"\",IF(S10=\"Putzbord\",Daten!$D$16,IF(S10=\"Flexila PU\",_xlfn.NUMBERVALUE(MID(Daten!$D$17,1,2)),\"-\")))","v":""},{"$f":"IF($A10=\"\",\"\",IF(OR(S10=\"Putzbord\",S10=\"Flexila PU\"),Daten!$D$18,IF(OR(S10=\"Stehbord\",S10=\"Stehbord HB\",S10=\"Flexila STB\",S10=\"Jalousiebord\"),Daten!$D$21,\"-\")))","v":""},{"$f":"IF(A10=\"\",\"\",IF(AND(Daten!D$6=\"Jalousiebord\",OR(O10=\"Stehbord\",S10=\"Stehbord\")),\"Jalousienklinkung\",\"\"))","v":""},{"$f":"IF(W10=\"\",\"\",Daten!D$20)","v":""},null,null,{"$f":"IF(A10=\"\",\"\",IF(Daten!F$1=\"A\",\"Ohne\",IF(OR(N10=\"Gerstenkorn roh\",N10=\"Riffelblech roh\"),\"XPS\",Daten!F$2)))","v":""},{"$f":"IF(A10=\"\",\"\",IF(AA10=\"Ohne\",\"A\",IF(AA10=\"XPS\",IF(Daten!F$1=\"D\",\"B\",Daten!F$1),Daten!F$1)))","v":""},{"$f":"IF(A10=\"\",\"\",IF(AB10=\"A\",\"-\",Daten!F$7))","v":""},{"$f":"IF(A10=\"\",\"\",IF(AB10=\"A\",\"-\",IF(AND(Daten!F$8=0,O10=\"Putzbord\"),5-Q10,0)))","v":""},{"$f":"IF(A10=\"\",\"\",IF(AB10=\"A\",\"-\",IF(AND(Daten!F$8=0,S10=\"Putzbord\"),5-U10,0)))","v":""},{"$f":"IF(A10=\"\",\"\",IF(AB10=\"A\",\"-\",Daten!F$10))","v":""},{"$f":"IFERROR(IF(A10=\"\",\"\",VLOOKUP(N10,Daten!N$1:O$7,2,FALSE)),\"\")","v":""}]
[null,null,null,{"$f":"IF(A11=\"\",\"\",IF(Daten!B$3=TRUE,Daten!B$7,\"\"))","v":""},{"$f":"IFERROR(IF(C11=\"\",\"\",C11+(2*D11)+IF(O11=Daten!M$13,6,0)+IF(S11=Daten!M$13,6,0)+IF(Q11=\"-\",0,Q11)+IF(U11=\"-\",0,U11)),\"\")","v":""},{"$f":"IF(OR(A11=\"\",AND(F$1=0,Daten!F$3=FALSE)),\"\",Daten!B$6)","v":""},{"$f":"IF(A11=\"\",\"\",IF(Daten!B$5=\"??\",\"\",Daten!B$5))","v":""},{"$f":"IF(A11=\"\",\"\",IF(Daten!B$3=FALSE,\"\",Daten!B$4))","v":""},{"$f":"IFERROR(IF(A11=\"\",\"\",G11+H11+IF(AND(G11>0,H11>0),5,0))-IF(Daten!H$21=TRUE,H11,0),\"\")","v":""},{"$f":"IFERROR(IF(A11=\"\",\"\",I11+IF(Daten!H$21=TRUE,H11,0)+IF(F11=\"\",0,F11)-IF(Daten!F$3=TRUE,Daten!F$10,0)),\"\")","v":""},{"$f":"IF(A11=\"\",\"\",Daten!D$14)","v":""},{"$f":"IF(A11=\"\",\"\",Daten!D$12)","v":""},{"$f":"IF(A11=\"\",\"\",Daten!D$13)","v":""},{"$f":"IF(A11=\"\",\"\",Daten!M$2)","v":""},{"$f":"IF(A11=\"\",\"\",IF(Daten!D$6=Daten!N$11,Daten!M$11,IF(Daten!D$6=Daten!N$13,Daten!M$13,IF(AND(Daten!$D$6=Daten!$M$10,Daten!$D$8=TRUE),Daten!$M$14,Daten!D$6))))","v":""},{"$f":"IF($A11=\"\",\"\",IF(OR(O11=\"Putzbord\",O11=\"Flexila PU\"),Daten!$D$15,IF(OR(O11=\"Stehbord\",O11=\"Stehbord HB\",O11=\"Flexila STB\",O11=\"Jalousiebord\"),Daten!$D$19,\"-\")))","v":""},{"$f":"IF($A11=\"\",\"\",IF(O11=\"Putzbord\",Daten!$D$16,IF(O11=\"Flexila PU\",_xlfn.NUMBERVALUE(MID(Daten!$D$17,1,2)),\"-\")))","v":""},{"$f":"IF($A11=\"\",\"\",IF(OR(O11=\"Putzbord\",O11=\"Flexila PU\"),Daten!$D$18,IF(OR(O11=\"Stehbord\",O11=\"Stehbord HB\",O11=\"Flexila STB\",O11=\"Jalousiebord\"),Daten!$D$21,\"-\")))","v":""},{"$f":"IF(A11=\"\",\"\",IF(Daten!D$6=Daten!N$11,Daten!M$11,IF(Daten!D$6=Daten!N$13,Daten!M$13,IF(AND(Daten!$D$6=Daten!$M$10,Daten!$D$8=TRUE),Daten!$M$14,Daten!D$6))))","v":""},{"$f":"IF($A11=\"\",\"\",IF(OR(S11=\"Putzbord\",S11=\"Flexila PU\"),Daten!$D$15,IF(OR(S11=\"Stehbord\",S11=\"Stehbord HB\",S11=\"Flexila STB\",S11=\"Jalousiebord\"),Daten!$D$19,\"-\")))","v":""},{"$f":"IF($A11=\"\",\"\",IF(S11=\"Putzbord\",Daten!$D$16,IF(S11=\"Flexila PU\",_xlfn.NUMBERVALUE(MID(Daten!$D$17,1,2)),\"-\")))","v":""},{"$f":"IF($A11=\"\",\"\",IF(OR(S11=\"Putzbord\",S11=\"Flexila PU\"),Daten!$D$18,IF(OR(S11=\"Stehbord\",S11=\"Stehbord HB\",S11=\"Flexila STB\",S11=\"Jalousiebord\"),Daten!$D$21,\"-\")))","v":""},{"$f":"IF(A11=\"\",\"\",IF(AND(Daten!D$6=\"Jalousiebord\",OR(O11=\"Stehbord\",S11=\"Stehbord\")),\"Jalousienklinkung\",\"\"))","v":""},{"$f":"IF(W11=\"\",\"\",Daten!D$20)","v":""},null,null,{"$f":"IF(A11=\"\",\"\",IF(Daten!F$1=\"A\",\"Ohne\",IF(OR(N11=\"Gerstenkorn roh\",N11=\"Riffelblech roh\"),\"XPS\",Daten!F$2)))","v":""},{"$f":"IF(A11=\"\",\"\",IF(AA11=\"Ohne\",\"A\",IF(AA11=\"XPS\",IF(Daten!F$1=\"D\",\"B\",Daten!F$1),Daten!F$1)))","v":""},{"$f":"IF(A11=\"\",\"\",IF(AB11=\"A\",\"-\",Daten!F$7))","v":""},{"$f":"IF(A11=\"\",\"\",IF(AB11=\"A\",\"-\",IF(AND(Daten!F$8=0,O11=\"Putzbord\"),5-Q11,0)))","v":""},{"$f":"IF(A11=\"\",\"\",IF(AB11=\"A\",\"-\",IF(AND(Daten!F$8=0,S11=\"Putzbord\"),5-U11,0)))","v":""},{"$f":"IF(A11=\"\",\"\",IF(AB11=\"A\",\"-\",Daten!F$10))","v":""},{"$f":"IFERROR(IF(A11=\"\",\"\",VLOOKUP(N11,Daten!N$1:O$7,2,FALSE)),\"\")","v":""}]
[null,null,null,{"$f":"IF(A12=\"\",\"\",IF(Daten!B$3=TRUE,Daten!B$7,\"\"))","v":""},{"$f":"IFERROR(IF(C12=\"\",\"\",C12+(2*D12)+IF(O12=Daten!M$13,6,0)+IF(S12=Daten!M$13,6,0)+IF(Q12=\"-\",0,Q12)+IF(U12=\"-\",0,U12)),\"\")","v":""},{"$f":"IF(OR(A12=\"\",AND(F$1=0,Daten!F$3=FALSE)),\"\",Daten!B$6)","v":""},{"$f":"IF(A12=\"\",\"\",IF(Daten!B$5=\"??\",\"\",Daten!B$5))","v":""},{"$f":"IF(A12=\"\",\"\",IF(Daten!B$3=FALSE,\"\",Daten!B$4))","v":""},{"$f":"IFERROR(IF(A12=\"\",\"\",G12+H12+IF(AND(G12>0,H12>0),5,0))-IF(Daten!H$21=TRUE,H12,0),\"\")","v":""},{"$f":"IFERROR(IF(A12=\"\",\"\",I12+IF(Daten!H$21=TRUE,H12,0)+IF(F12=\"\",0,F12)-IF(Daten!F$3=TRUE,Daten!F$10,0)),\"\")","v":""},{"$f":"IF(A12=\"\",\"\",Daten!D$14)","v":""},{"$f":"IF(A12=\"\",\"\",Daten!D$12)","v":""},{"$f":"IF(A12=\"\",\"\",Daten!D$13)","v":""},{"$f":"IF(A12=\"\",\"\",Daten!M$2)","v":""},{"$f":"IF(A12=\"\",\"\",IF(Daten!D$6=Daten!N$11,Daten!M$11,IF(Daten!D$6=Daten!N$13,Daten!M$13,IF(AND(Daten!$D$6=Daten!$M$10,Daten!$D$8=TRUE),Daten!$M$14,Daten!D$6))))","v":""},{"$f":"IF($A12=\"\",\"\",IF(OR(O12=\"Putzbord\",O12=\"Flexila PU\"),Daten!$D$15,IF(OR(O12=\"Stehbord\",O12=\"Stehbord HB\",O12=\"Flexila STB\",O12=\"Jalousiebord\"),Daten!$D$19,\"-\")))","v":""},{"$f":"IF($A12=\"\",\"\",IF(O12=\"Putzbord\",Daten!$D$16,IF(O12=\"Flexila PU\",_xlfn.NUMBERVALUE(MID(Daten!$D$17,1,2)),\"-\")))","v":""},{"$f":"IF($A12=\"\",\"\",IF(OR(O12=\"Putzbord\",O12=\"Flexila PU\"),Daten!$D$18,IF(OR(O12=\"Stehbord\",O12=\"Stehbord HB\",O12=\"Flexila STB\",O12=\"Jalousiebord\"),Daten!$D$21,\"-\")))","v":""},{"$f":"IF(A12=\"\",\"\",IF(Daten!D$6=Daten!N$11,Daten!M$11,IF(Daten!D$6=Daten!N$13,Daten!M$13,IF(AND(Daten!$D$6=Daten!$M$10,Daten!$D$8=TRUE),Daten!$M$14,Daten!D$6))))","v":""},{"$f":"IF($A12=\"\",\"\",IF(OR(S12=\"Putzbord\",S12=\"Flexila PU\"),Daten!$D$15,IF(OR(S12=\"Stehbord\",S12=\"Stehbord HB\",S12=\"Flexila STB\",S12=\"Jalousiebord\"),Daten!$D$19,\"-\")))","v":""},{"$f":"IF($A12=\"\",\"\",IF(S12=\"Putzbord\",Daten!$D$16,IF(S12=\"Flexila PU\",_xlfn.NUMBERVALUE(MID(Daten!$D$17,1,2)),\"-\")))","v":""},{"$f":"IF($A12=\"\",\"\",IF(OR(S12=\"Putzbord\",S12=\"Flexila PU\"),Daten!$D$18,IF(OR(S12=\"Stehbord\",S12=\"Stehbord HB\",S12=\"Flexila STB\",S12=\"Jalousiebord\"),Daten!$D$21,\"-\")))","v":""},{"$f":"IF(A12=\"\",\"\",IF(AND(Daten!D$6=\"Jalousiebord\",OR(O12=\"Stehbord\",S12=\"Stehbord\")),\"Jalousienklinkung\",\"\"))","v":""},{"$f":"IF(W12=\"\",\"\",Daten!D$20)","v":""},null,null,{"$f":"IF(A12=\"\",\"\",IF(Daten!F$1=\"A\",\"Ohne\",IF(OR(N12=\"Gerstenkorn roh\",N12=\"Riffelblech roh\"),\"XPS\",Daten!F$2)))","v":""},{"$f":"IF(A12=\"\",\"\",IF(AA12=\"Ohne\",\"A\",IF(AA12=\"XPS\",IF(Daten!F$1=\"D\",\"B\",Daten!F$1),Daten!F$1)))","v":""},{"$f":"IF(A12=\"\",\"\",IF(AB12=\"A\",\"-\",Daten!F$7))","v":""},{"$f":"IF(A12=\"\",\"\",IF(AB12=\"A\",\"-\",IF(AND(Daten!F$8=0,O12=\"Putzbord\"),5-Q12,0)))","v":""},{"$f":"IF(A12=\"\",\"\",IF(AB12=\"A\",\"-\",IF(AND(Daten!F$8=0,S12=\"Putzbord\"),5-U12,0)))","v":""},{"$f":"IF(A12=\"\",\"\",IF(AB12=\"A\",\"-\",Daten!F$10))","v":""},{"$f":"IFERROR(IF(A12=\"\",\"\",VLOOKUP(N12,Daten!N$1:O$7,2,FALSE)),\"\")","v":""}]
[null,null,null,{"$f":"IF(A13=\"\",\"\",IF(Daten!B$3=TRUE,Daten!B$7,\"\"))","v":""},{"$f":"IFERROR(IF(C13=\"\",\"\",C13+(2*D13)+IF(O13=Daten!M$13,6,0)+IF(S13=Daten!M$13,6,0)+IF(Q13=\"-\",0,Q13)+IF(U13=\"-\",0,U13)),\"\")","v":""},{"$f":"IF(OR(A13=\"\",AND(F$1=0,Daten!F$3=FALSE)),\"\",Daten!B$6)","v":""},{"$f":"IF(A13=\"\",\"\",IF(Daten!B$5=\"??\",\"\",Daten!B$5))","v":""},{"$f":"IF(A13=\"\",\"\",IF(Daten!B$3=FALSE,\"\",Daten!B$4))","v":""},{"$f":"IFERROR(IF(A13=\"\",\"\",G13+H13+IF(AND(G13>0,H13>0),5,0))-IF(Daten!H$21=TRUE,H13,0),\"\")","v":""},{"$f":"IFERROR(IF(A13=\"\",\"\",I13+IF(Daten!H$21=TRUE,H13,0)+IF(F13=\"\",0,F13)-IF(Daten!F$3=TRUE,Daten!F$10,0)),\"\")","v":""},{"$f":"IF(A13=\"\",\"\",Daten!D$14)","v":""},{"$f":"IF(A13=\"\",\"\",Daten!D$12)","v":""},{"$f":"IF(A13=\"\",\"\",Daten!D$13)","v":""},{"$f":"IF(A13=\"\",\"\",Daten!M$2)","v":""},{"$f":"IF(A13=\"\",\"\",IF(Daten!D$6=Daten!N$11,Daten!M$11,IF(Daten!D$6=Daten!N$13,Daten!M$13,IF(AND(Daten!$D$6=Daten!$M$10,Daten!$D$8=TRUE),Daten!$M$14,Daten!D$6))))","v":""},{"$f":"IF($A13=\"\",\"\",IF(OR(O13=\"Putzbord\",O13=\"Flexila PU\"),Daten!$D$15,IF(OR(O13=\"Stehbord\",O13=\"Stehbord HB\",O13=\"Flexila STB\",O13=\"Jalousiebord\"),Daten!$D$19,\"-\")))","v":""},{"$f":"IF($A13=\"\",\"\",IF(O13=\"Putzbord\",Daten!$D$16,IF(O13=\"Flexila PU\",_xlfn.NUMBERVALUE(MID(Daten!$D$17,1,2)),\"-\")))","v":""},{"$f":"IF($A13=\"\",\"\",IF(OR(O13=\"Putzbord\",O13=\"Flexila PU\"),Daten!$D$18,IF(OR(O13=\"Stehbord\",O13=\"Stehbord HB\",O13=\"Flexila STB\",O13=\"Jalousiebord\"),Daten!$D$21,\"-\")))","v":""},{"$f":"IF(A13=\"\",\"\",IF(Daten!D$6=Daten!N$11,Daten!M$11,IF(Daten!D$6=Daten!N$13,Daten!M$13,IF(AND(Daten!$D$6=Daten!$M$10,Daten!$D$8=TRUE),Daten!$M$14,Daten!D$6))))","v":""},{"$f":"IF($A13=\"\",\"\",IF(OR(S13=\"Putzbord\",S13=\"Flexila PU\"),Daten!$D$15,IF(OR(S13=\"Stehbord\",S13=\"Stehbord HB\",S13=\"Flexila STB\",S13=\"Jalousiebord\"),Daten!$D$19,\"-\")))","v":""},{"$f":"IF($A13=\"\",\"\",IF(S13=\"Putzbord\",Daten!$D$16,IF(S13=\"Flexila PU\",_xlfn.NUMBERVALUE(MID(Daten!$D$17,1,2)),\"-\")))","v":""},{"$f":"IF($A13=\"\",\"\",IF(OR(S13=\"Putzbord\",S13=\"Flexila PU\"),Daten!$D$18,IF(OR(S13=\"Stehbord\",S13=\"Stehbord HB\",S13=\"Flexila STB\",S13=\"Jalousiebord\"),Daten!$D$21,\"-\")))","v":""},{"$f":"IF(A13=\"\",\"\",IF(AND(Daten!D$6=\"Jalousiebord\",OR(O13=\"Stehbord\",S13=\"Stehbord\")),\"Jalousienklinkung\",\"\"))","v":""},{"$f":"IF(W13=\"\",\"\",Daten!D$20)","v":""},null,null,{"$f":"IF(A13=\"\",\"\",IF(Daten!F$1=\"A\",\"Ohne\",IF(OR(N13=\"Gerstenkorn roh\",N13=\"Riffelblech roh\"),\"XPS\",Daten!F$2)))","v":""},{"$f":"IF(A13=\"\",\"\",IF(AA13=\"Ohne\",\"A\",IF(AA13=\"XPS\",IF(Daten!F$1=\"D\",\"B\",Daten!F$1),Daten!F$1)))","v":""},{"$f":"IF(A13=\"\",\"\",IF(AB13=\"A\",\"-\",Daten!F$7))","v":""},{"$f":"IF(A13=\"\",\"\",IF(AB13=\"A\",\"-\",IF(AND(Daten!F$8=0,O13=\"Putzbord\"),5-Q13,0)))","v":""},{"$f":"IF(A13=\"\",\"\",IF(AB13=\"A\",\"-\",IF(AND(Daten!F$8=0,S13=\"Putzbord\"),5-U13,0)))","v":""},{"$f":"IF(A13=\"\",\"\",IF(AB13=\"A\",\"-\",Daten!F$10))","v":""},{"$f":"IFERROR(IF(A13=\"\",\"\",VLOOKUP(N13,Daten!N$1:O$7,2,FALSE)),\"\")","v":""}]
[null,null,null,{"$f":"IF(A14=\"\",\"\",IF(Daten!B$3=TRUE,Daten!B$7,\"\"))","v":""},{"$f":"IFERROR(IF(C14=\"\",\"\",C14+(2*D14)+IF(O14=Daten!M$13,6,0)+IF(S14=Daten!M$13,6,0)+IF(Q14=\"-\",0,Q14)+IF(U14=\"-\",0,U14)),\"\")","v":""},{"$f":"IF(OR(A14=\"\",AND(F$1=0,Daten!F$3=FALSE)),\"\",Daten!B$6)","v":""},{"$f":"IF(A14=\"\",\"\",IF(Daten!B$5=\"??\",\"\",Daten!B$5))","v":""},{"$f":"IF(A14=\"\",\"\",IF(Daten!B$3=FALSE,\"\",Daten!B$4))","v":""},{"$f":"IFERROR(IF(A14=\"\",\"\",G14+H14+IF(AND(G14>0,H14>0),5,0))-IF(Daten!H$21=TRUE,H14,0),\"\")","v":""},{"$f":"IFERROR(IF(A14=\"\",\"\",I14+IF(Daten!H$21=TRUE,H14,0)+IF(F14=\"\",0,F14)-IF(Daten!F$3=TRUE,Daten!F$10,0)),\"\")","v":""},{"$f":"IF(A14=\"\",\"\",Daten!D$14)","v":""},{"$f":"IF(A14=\"\",\"\",Daten!D$12)","v":""},{"$f":"IF(A14=\"\",\"\",Daten!D$13)","v":""},{"$f":"IF(A14=\"\",\"\",Daten!M$2)","v":""},{"$f":"IF(A14=\"\",\"\",IF(Daten!D$6=Daten!N$11,Daten!M$11,IF(Daten!D$6=Daten!N$13,Daten!M$13,IF(AND(Daten!$D$6=Daten!$M$10,Daten!$D$8=TRUE),Daten!$M$14,Daten!D$6))))","v":""},{"$f":"IF($A14=\"\",\"\",IF(OR(O14=\"Putzbord\",O14=\"Flexila PU\"),Daten!$D$15,IF(OR(O14=\"Stehbord\",O14=\"Stehbord HB\",O14=\"Flexila STB\",O14=\"Jalousiebord\"),Daten!$D$19,\"-\")))","v":""},{"$f":"IF($A14=\"\",\"\",IF(O14=\"Putzbord\",Daten!$D$16,IF(O14=\"Flexila PU\",_xlfn.NUMBERVALUE(MID(Daten!$D$17,1,2)),\"-\")))","v":""},{"$f":"IF($A14=\"\",\"\",IF(OR(O14=\"Putzbord\",O14=\"Flexila PU\"),Daten!$D$18,IF(OR(O14=\"Stehbord\",O14=\"Stehbord HB\",O14=\"Flexila STB\",O14=\"Jalousiebord\"),Daten!$D$21,\"-\")))","v":""},{"$f":"IF(A14=\"\",\"\",IF(Daten!D$6=Daten!N$11,Daten!M$11,IF(Daten!D$6=Daten!N$13,Daten!M$13,IF(AND(Daten!$D$6=Daten!$M$10,Daten!$D$8=TRUE),Daten!$M$14,Daten!D$6))))","v":""},{"$f":"IF($A14=\"\",\"\",IF(OR(S14=\"Putzbord\",S14=\"Flexila PU\"),Daten!$D$15,IF(OR(S14=\"Stehbord\",S14=\"Stehbord HB\",S14=\"Flexila STB\",S14=\"Jalousiebord\"),Daten!$D$19,\"-\")))","v":""},{"$f":"IF($A14=\"\",\"\",IF(S14=\"Putzbord\",Daten!$D$16,IF(S14=\"Flexila PU\",_xlfn.NUMBERVALUE(MID(Daten!$D$17,1,2)),\"-\")))","v":""},{"$f":"IF($A14=\"\",\"\",IF(OR(S14=\"Putzbord\",S14=\"Flexila PU\"),Daten!$D$18,IF(OR(S14=\"Stehbord\",S14=\"Stehbord HB\",S14=\"Flexila STB\",S14=\"Jalousiebord\"),Daten!$D$21,\"-\")))","v":""},{"$f":"IF(A14=\"\",\"\",IF(AND(Daten!D$6=\"Jalousiebord\",OR(O14=\"Stehbord\",S14=\"Stehbord\")),\"Jalousienklinkung\",\"\"))","v":""},{"$f":"IF(W14=\"\",\"\",Daten!D$20)","v":""},null,null,{"$f":"IF(A14=\"\",\"\",IF(Daten!F$1=\"A\",\"Ohne\",IF(OR(N14=\"Gerstenkorn roh\",N14=\"Riffelblech roh\"),\"XPS\",Daten!F$2)))","v":""},{"$f":"IF(A14=\"\",\"\",IF(AA14=\"Ohne\",\"A\",IF(AA14=\"XPS\",IF(Daten!F$1=\"D\",\"B\",Daten!F$1),Daten!F$1)))","v":""},{"$f":"IF(A14=\"\",\"\",IF(AB14=\"A\",\"-\",Daten!F$7))","v":""},{"$f":"IF(A14=\"\",\"\",IF(AB14=\"A\",\"-\",IF(AND(Daten!F$8=0,O14=\"Putzbord\"),5-Q14,0)))","v":""},{"$f":"IF(A14=\"\",\"\",IF(AB14=\"A\",\"-\",IF(AND(Daten!F$8=0,S14=\"Putzbord\"),5-U14,0)))","v":""},{"$f":"IF(A14=\"\",\"\",IF(AB14=\"A\",\"-\",Daten!F$10))","v":""},{"$f":"IFERROR(IF(A14=\"\",\"\",VLOOKUP(N14,Daten!N$1:O$7,2,FALSE)),\"\")","v":""}]
[null,null,null,{"$f":"IF(A15=\"\",\"\",IF(Daten!B$3=TRUE,Daten!B$7,\"\"))","v":""},{"$f":"IFERROR(IF(C15=\"\",\"\",C15+(2*D15)+IF(O15=Daten!M$13,6,0)+IF(S15=Daten!M$13,6,0)+IF(Q15=\"-\",0,Q15)+IF(U15=\"-\",0,U15)),\"\")","v":""},{"$f":"IF(OR(A15=\"\",AND(F$1=0,Daten!F$3=FALSE)),\"\",Daten!B$6)","v":""},{"$f":"IF(A15=\"\",\"\",IF(Daten!B$5=\"??\",\"\",Daten!B$5))","v":""},{"$f":"IF(A15=\"\",\"\",IF(Daten!B$3=FALSE,\"\",Daten!B$4))","v":""},{"$f":"IFERROR(IF(A15=\"\",\"\",G15+H15+IF(AND(G15>0,H15>0),5,0))-IF(Daten!H$21=TRUE,H15,0),\"\")","v":""},{"$f":"IFERROR(IF(A15=\"\",\"\",I15+IF(Daten!H$21=TRUE,H15,0)+IF(F15=\"\",0,F15)-IF(Daten!F$3=TRUE,Daten!F$10,0)),\"\")","v":""},{"$f":"IF(A15=\"\",\"\",Daten!D$14)","v":""},{"$f":"IF(A15=\"\",\"\",Daten!D$12)","v":""},{"$f":"IF(A15=\"\",\"\",Daten!D$13)","v":""},{"$f":"IF(A15=\"\",\"\",Daten!M$2)","v":""},{"$f":"IF(A15=\"\",\"\",IF(Daten!D$6=Daten!N$11,Daten!M$11,IF(Daten!D$6=Daten!N$13,Daten!M$13,IF(AND(Daten!$D$6=Daten!$M$10,Daten!$D$8=TRUE),Daten!$M$14,Daten!D$6))))","v":""},{"$f":"IF($A15=\"\",\"\",IF(OR(O15=\"Putzbord\",O15=\"Flexila PU\"),Daten!$D$15,IF(OR(O15=\"Stehbord\",O15=\"Stehbord HB\",O15=\"Flexila STB\",O15=\"Jalousiebord\"),Daten!$D$19,\"-\")))","v":""},{"$f":"IF($A15=\"\",\"\",IF(O15=\"Putzbord\",Daten!$D$16,IF(O15=\"Flexila PU\",_xlfn.NUMBERVALUE(MID(Daten!$D$17,1,2)),\"-\")))","v":""},{"$f":"IF($A15=\"\",\"\",IF(OR(O15=\"Putzbord\",O15=\"Flexila PU\"),Daten!$D$18,IF(OR(O15=\"Stehbord\",O15=\"Stehbord HB\",O15=\"Flexila STB\",O15=\"Jalousiebord\"),Daten!$D$21,\"-\")))","v":""},{"$f":"IF(A15=\"\",\"\",IF(Daten!D$6=Daten!N$11,Daten!M$11,IF(Daten!D$6=Daten!N$13,Daten!M$13,IF(AND(Daten!$D$6=Daten!$M$10,Daten!$D$8=TRUE),Daten!$M$14,Daten!D$6))))","v":""},{"$f":"IF($A15=\"\",\"\",IF(OR(S15=\"Putzbord\",S15=\"Flexila PU\"),Daten!$D$15,IF(OR(S15=\"Stehbord\",S15=\"Stehbord HB\",S15=\"Flexila STB\",S15=\"Jalousiebord\"),Daten!$D$19,\"-\")))","v":""},{"$f":"IF($A15=\"\",\"\",IF(S15=\"Putzbord\",Daten!$D$16,IF(S15=\"Flexila PU\",_xlfn.NUMBERVALUE(MID(Daten!$D$17,1,2)),\"-\")))","v":""},{"$f":"IF($A15=\"\",\"\",IF(OR(S15=\"Putzbord\",S15=\"Flexila PU\"),Daten!$D$18,IF(OR(S15=\"Stehbord\",S15=\"Stehbord HB\",S15=\"Flexila STB\",S15=\"Jalousiebord\"),Daten!$D$21,\"-\")))","v":""},{"$f":"IF(A15=\"\",\"\",IF(AND(Daten!D$6=\"Jalousiebord\",OR(O15=\"Stehbord\",S15=\"Stehbord\")),\"Jalousienklinkung\",\"\"))","v":""},{"$f":"IF(W15=\"\",\"\",Daten!D$20)","v":""},null,null,{"$f":"IF(A15=\"\",\"\",IF(Daten!F$1=\"A\",\"Ohne\",IF(OR(N15=\"Gerstenkorn roh\",N15=\"Riffelblech roh\"),\"XPS\",Daten!F$2)))","v":""},{"$f":"IF(A15=\"\",\"\",IF(AA15=\"Ohne\",\"A\",IF(AA15=\"XPS\",IF(Daten!F$1=\"D\",\"B\",Daten!F$1),Daten!F$1)))","v":""},{"$f":"IF(A15=\"\",\"\",IF(AB15=\"A\",\"-\",Daten!F$7))","v":""},{"$f":"IF(A15=\"\",\"\",IF(AB15=\"A\",\"-\",IF(AND(Daten!F$8=0,O15=\"Putzbord\"),5-Q15,0)))","v":""},{"$f":"IF(A15=\"\",\"\",IF(AB15=\"A\",\"-\",IF(AND(Daten!F$8=0,S15=\"Putzbord\"),5-U15,0)))","v":""},{"$f":"IF(A15=\"\",\"\",IF(AB15=\"A\",\"-\",Daten!F$10))","v":""},{"$f":"IFERROR(IF(A15=\"\",\"\",VLOOKUP(N15,Daten!N$1:O$7,2,FALSE)),\"\")","v":""}]
[null,null,null,{"$f":"IF(A16=\"\",\"\",IF(Daten!B$3=TRUE,Daten!B$7,\"\"))","v":""},{"$f":"IFERROR(IF(C16=\"\",\"\",C16+(2*D16)+IF(O16=Daten!M$13,6,0)+IF(S16=Daten!M$13,6,0)+IF(Q16=\"-\",0,Q16)+IF(U16=\"-\",0,U16)),\"\")","v":""},{"$f":"IF(OR(A16=\"\",AND(F$1=0,Daten!F$3=FALSE)),\"\",Daten!B$6)","v":""},{"$f":"IF(A16=\"\",\"\",IF(Daten!B$5=\"??\",\"\",Daten!B$5))","v":""},{"$f":"IF(A16=\"\",\"\",IF(Daten!B$3=FALSE,\"\",Daten!B$4))","v":""},{"$f":"IFERROR(IF(A16=\"\",\"\",G16+H16+IF(AND(G16>0,H16>0),5,0))-IF(Daten!H$21=TRUE,H16,0),\"\")","v":""},{"$f":"IFERROR(IF(A16=\"\",\"\",I16+IF(Daten!H$21=TRUE,H16,0)+IF(F16=\"\",0,F16)-IF(Daten!F$3=TRUE,Daten!F$10,0)),\"\")","v":""},{"$f":"IF(A16=\"\",\"\",Daten!D$14)","v":""},{"$f":"IF(A16=\"\",\"\",Daten!D$12)","v":""},{"$f":"IF(A16=\"\",\"\",Daten!D$13)","v":""},{"$f":"IF(A16=\"\",\"\",Daten!M$2)","v":""},{"$f":"IF(A16=\"\",\"\",IF(Daten!D$6=Daten!N$11,Daten!M$11,IF(Daten!D$6=Daten!N$13,Daten!M$13,IF(AND(Daten!$D$6=Daten!$M$10,Daten!$D$8=TRUE),Daten!$M$14,Daten!D$6))))","v":""},{"$f":"IF($A16=\"\",\"\",IF(OR(O16=\"Putzbord\",O16=\"Flexila PU\"),Daten!$D$15,IF(OR(O16=\"Stehbord\",O16=\"Stehbord HB\",O16=\"Flexila STB\",O16=\"Jalousiebord\"),Daten!$D$19,\"-\")))","v":""},{"$f":"IF($A16=\"\",\"\",IF(O16=\"Putzbord\",Daten!$D$16,IF(O16=\"Flexila PU\",_xlfn.NUMBERVALUE(MID(Daten!$D$17,1,2)),\"-\")))","v":""},{"$f":"IF($A16=\"\",\"\",IF(OR(O16=\"Putzbord\",O16=\"Flexila PU\"),Daten!$D$18,IF(OR(O16=\"Stehbord\",O16=\"Stehbord HB\",O16=\"Flexila STB\",O16=\"Jalousiebord\"),Daten!$D$21,\"-\")))","v":""},{"$f":"IF(A16=\"\",\"\",IF(Daten!D$6=Daten!N$11,Daten!M$11,IF(Daten!D$6=Daten!N$13,Daten!M$13,IF(AND(Daten!$D$6=Daten!$M$10,Daten!$D$8=TRUE),Daten!$M$14,Daten!D$6))))","v":""},{"$f":"IF($A16=\"\",\"\",IF(OR(S16=\"Putzbord\",S16=\"Flexila PU\"),Daten!$D$15,IF(OR(S16=\"Stehbord\",S16=\"Stehbord HB\",S16=\"Flexila STB\",S16=\"Jalousiebord\"),Daten!$D$19,\"-\")))","v":""},{"$f":"IF($A16=\"\",\"\",IF(S16=\"Putzbord\",Daten!$D$16,IF(S16=\"Flexila PU\",_xlfn.NUMBERVALUE(MID(Daten!$D$17,1,2)),\"-\")))","v":""},{"$f":"IF($A16=\"\",\"\",IF(OR(S16=\"Putzbord\",S16=\"Flexila PU\"),Daten!$D$18,IF(OR(S16=\"Stehbord\",S16=\"Stehbord HB\",S16=\"Flexila STB\",S16=\"Jalousiebord\"),Daten!$D$21,\"-\")))","v":""},{"$f":"IF(A16=\"\",\"\",IF(AND(Daten!D$6=\"Jalousiebord\",OR(O16=\"Stehbord\",S16=\"Stehbord\")),\"Jalousienklinkung\",\"\"))","v":""},{"$f":"IF(W16=\"\",\"\",Daten!D$20)","v":""},null,null,{"$f":"IF(A16=\"\",\"\",IF(Daten!F$1=\"A\",\"Ohne\",IF(OR(N16=\"Gerstenkorn roh\",N16=\"Riffelblech roh\"),\"XPS\",Daten!F$2)))","v":""},{"$f":"IF(A16=\"\",\"\",IF(AA16=\"Ohne\",\"A\",IF(AA16=\"XPS\",IF(Daten!F$1=\"D\",\"B\",Daten!F$1),Daten!F$1)))","v":""},{"$f":"IF(A16=\"\",\"\",IF(AB16=\"A\",\"-\",Daten!F$7))","v":""},{"$f":"IF(A16=\"\",\"\",IF(AB16=\"A\",\"-\",IF(AND(Daten!F$8=0,O16=\"Putzbord\"),5-Q16,0)))","v":""},{"$f":"IF(A16=\"\",\"\",IF(AB16=\"A\",\"-\",IF(AND(Daten!F$8=0,S16=\"Putzbord\"),5-U16,0)))","v":""},{"$f":"IF(A16=\"\",\"\",IF(AB16=\"A\",\"-\",Daten!F$10))","v":""},{"$f":"IFERROR(IF(A16=\"\",\"\",VLOOKUP(N16,Daten!N$1:O$7,2,FALSE)),\"\")","v":""}]
[null,null,null,{"$f":"IF(A17=\"\",\"\",IF(Daten!B$3=TRUE,Daten!B$7,\"\"))","v":""},{"$f":"IFERROR(IF(C17=\"\",\"\",C17+(2*D17)+IF(O17=Daten!M$13,6,0)+IF(S17=Daten!M$13,6,0)+IF(Q17=\"-\",0,Q17)+IF(U17=\"-\",0,U17)),\"\")","v":""},{"$f":"IF(OR(A17=\"\",AND(F$1=0,Daten!F$3=FALSE)),\"\",Daten!B$6)","v":""},{"$f":"IF(A17=\"\",\"\",IF(Daten!B$5=\"??\",\"\",Daten!B$5))","v":""},{"$f":"IF(A17=\"\",\"\",IF(Daten!B$3=FALSE,\"\",Daten!B$4))","v":""},{"$f":"IFERROR(IF(A17=\"\",\"\",G17+H17+IF(AND(G17>0,H17>0),5,0))-IF(Daten!H$21=TRUE,H17,0),\"\")","v":""},{"$f":"IFERROR(IF(A17=\"\",\"\",I17+IF(Daten!H$21=TRUE,H17,0)+IF(F17=\"\",0,F17)-IF(Daten!F$3=TRUE,Daten!F$10,0)),\"\")","v":""},{"$f":"IF(A17=\"\",\"\",Daten!D$14)","v":""},{"$f":"IF(A17=\"\",\"\",Daten!D$12)","v":""},{"$f":"IF(A17=\"\",\"\",Daten!D$13)","v":""},{"$f":"IF(A17=\"\",\"\",Daten!M$2)","v":""},{"$f":"IF(A17=\"\",\"\",IF(Daten!D$6=Daten!N$11,Daten!M$11,IF(Daten!D$6=Daten!N$13,Daten!M$13,IF(AND(Daten!$D$6=Daten!$M$10,Daten!$D$8=TRUE),Daten!$M$14,Daten!D$6))))","v":""},{"$f":"IF($A17=\"\",\"\",IF(OR(O17=\"Putzbord\",O17=\"Flexila PU\"),Daten!$D$15,IF(OR(O17=\"Stehbord\",O17=\"Stehbord HB\",O17=\"Flexila STB\",O17=\"Jalousiebord\"),Daten!$D$19,\"-\")))","v":""},{"$f":"IF($A17=\"\",\"\",IF(O17=\"Putzbord\",Daten!$D$16,IF(O17=\"Flexila PU\",_xlfn.NUMBERVALUE(MID(Daten!$D$17,1,2)),\"-\")))","v":""},{"$f":"IF($A17=\"\",\"\",IF(OR(O17=\"Putzbord\",O17=\"Flexila PU\"),Daten!$D$18,IF(OR(O17=\"Stehbord\",O17=\"Stehbord HB\",O17=\"Flexila STB\",O17=\"Jalousiebord\"),Daten!$D$21,\"-\")))","v":""},{"$f":"IF(A17=\"\",\"\",IF(Daten!D$6=Daten!N$11,Daten!M$11,IF(Daten!D$6=Daten!N$13,Daten!M$13,IF(AND(Daten!$D$6=Daten!$M$10,Daten!$D$8=TRUE),Daten!$M$14,Daten!D$6))))","v":""},{"$f":"IF($A17=\"\",\"\",IF(OR(S17=\"Putzbord\",S17=\"Flexila PU\"),Daten!$D$15,IF(OR(S17=\"Stehbord\",S17=\"Stehbord HB\",S17=\"Flexila STB\",S17=\"Jalousiebord\"),Daten!$D$19,\"-\")))","v":""},{"$f":"IF($A17=\"\",\"\",IF(S17=\"Putzbord\",Daten!$D$16,IF(S17=\"Flexila PU\",_xlfn.NUMBERVALUE(MID(Daten!$D$17,1,2)),\"-\")))","v":""},{"$f":"IF($A17=\"\",\"\",IF(OR(S17=\"Putzbord\",S17=\"Flexila PU\"),Daten!$D$18,IF(OR(S17=\"Stehbord\",S17=\"Stehbord HB\",S17=\"Flexila STB\",S17=\"Jalousiebord\"),Daten!$D$21,\"-\")))","v":""},{"$f":"IF(A17=\"\",\"\",IF(AND(Daten!D$6=\"Jalousiebord\",OR(O17=\"Stehbord\",S17=\"Stehbord\")),\"Jalousienklinkung\",\"\"))","v":""},{"$f":"IF(W17=\"\",\"\",Daten!D$20)","v":""},null,null,{"$f":"IF(A17=\"\",\"\",IF(Daten!F$1=\"A\",\"Ohne\",IF(OR(N17=\"Gerstenkorn roh\",N17=\"Riffelblech roh\"),\"XPS\",Daten!F$2)))","v":""},{"$f":"IF(A17=\"\",\"\",IF(AA17=\"Ohne\",\"A\",IF(AA17=\"XPS\",IF(Daten!F$1=\"D\",\"B\",Daten!F$1),Daten!F$1)))","v":""},{"$f":"IF(A17=\"\",\"\",IF(AB17=\"A\",\"-\",Daten!F$7))","v":""},{"$f":"IF(A17=\"\",\"\",IF(AB17=\"A\",\"-\",IF(AND(Daten!F$8=0,O17=\"Putzbord\"),5-Q17,0)))","v":""},{"$f":"IF(A17=\"\",\"\",IF(AB17=\"A\",\"-\",IF(AND(Daten!F$8=0,S17=\"Putzbord\"),5-U17,0)))","v":""},{"$f":"IF(A17=\"\",\"\",IF(AB17=\"A\",\"-\",Daten!F$10))","v":""},{"$f":"IFERROR(IF(A17=\"\",\"\",VLOOKUP(N17,Daten!N$1:O$7,2,FALSE)),\"\")","v":""}]
[null,null,null,{"$f":"IF(A18=\"\",\"\",IF(Daten!B$3=TRUE,Daten!B$7,\"\"))","v":""},{"$f":"IFERROR(IF(C18=\"\",\"\",C18+(2*D18)+IF(O18=Daten!M$13,6,0)+IF(S18=Daten!M$13,6,0)+IF(Q18=\"-\",0,Q18)+IF(U18=\"-\",0,U18)),\"\")","v":""},{"$f":"IF(OR(A18=\"\",AND(F$1=0,Daten!F$3=FALSE)),\"\",Daten!B$6)","v":""},{"$f":"IF(A18=\"\",\"\",IF(Daten!B$5=\"??\",\"\",Daten!B$5))","v":""},{"$f":"IF(A18=\"\",\"\",IF(Daten!B$3=FALSE,\"\",Daten!B$4))","v":""},{"$f":"IFERROR(IF(A18=\"\",\"\",G18+H18+IF(AND(G18>0,H18>0),5,0))-IF(Daten!H$21=TRUE,H18,0),\"\")","v":""},{"$f":"IFERROR(IF(A18=\"\",\"\",I18+IF(Daten!H$21=TRUE,H18,0)+IF(F18=\"\",0,F18)-IF(Daten!F$3=TRUE,Daten!F$10,0)),\"\")","v":""},{"$f":"IF(A18=\"\",\"\",Daten!D$14)","v":""},{"$f":"IF(A18=\"\",\"\",Daten!D$12)","v":""},{"$f":"IF(A18=\"\",\"\",Daten!D$13)","v":""},{"$f":"IF(A18=\"\",\"\",Daten!M$2)","v":""},{"$f":"IF(A18=\"\",\"\",IF(Daten!D$6=Daten!N$11,Daten!M$11,IF(Daten!D$6=Daten!N$13,Daten!M$13,IF(AND(Daten!$D$6=Daten!$M$10,Daten!$D$8=TRUE),Daten!$M$14,Daten!D$6))))","v":""},{"$f":"IF($A18=\"\",\"\",IF(OR(O18=\"Putzbord\",O18=\"Flexila PU\"),Daten!$D$15,IF(OR(O18=\"Stehbord\",O18=\"Stehbord HB\",O18=\"Flexila STB\",O18=\"Jalousiebord\"),Daten!$D$19,\"-\")))","v":""},{"$f":"IF($A18=\"\",\"\",IF(O18=\"Putzbord\",Daten!$D$16,IF(O18=\"Flexila PU\",_xlfn.NUMBERVALUE(MID(Daten!$D$17,1,2)),\"-\")))","v":""},{"$f":"IF($A18=\"\",\"\",IF(OR(O18=\"Putzbord\",O18=\"Flexila PU\"),Daten!$D$18,IF(OR(O18=\"Stehbord\",O18=\"Stehbord HB\",O18=\"Flexila STB\",O18=\"Jalousiebord\"),Daten!$D$21,\"-\")))","v":""},{"$f":"IF(A18=\"\",\"\",IF(Daten!D$6=Daten!N$11,Daten!M$11,IF(Daten!D$6=Daten!N$13,Daten!M$13,IF(AND(Daten!$D$6=Daten!$M$10,Daten!$D$8=TRUE),Daten!$M$14,Daten!D$6))))","v":""},{"$f":"IF($A18=\"\",\"\",IF(OR(S18=\"Putzbord\",S18=\"Flexila PU\"),Daten!$D$15,IF(OR(S18=\"Stehbord\",S18=\"Stehbord HB\",S18=\"Flexila STB\",S18=\"Jalousiebord\"),Daten!$D$19,\"-\")))","v":""},{"$f":"IF($A18=\"\",\"\",IF(S18=\"Putzbord\",Daten!$D$16,IF(S18=\"Flexila PU\",_xlfn.NUMBERVALUE(MID(Daten!$D$17,1,2)),\"-\")))","v":""},{"$f":"IF($A18=\"\",\"\",IF(OR(S18=\"Putzbord\",S18=\"Flexila PU\"),Daten!$D$18,IF(OR(S18=\"Stehbord\",S18=\"Stehbord HB\",S18=\"Flexila STB\",S18=\"Jalousiebord\"),Daten!$D$21,\"-\")))","v":""},{"$f":"IF(A18=\"\",\"\",IF(AND(Daten!D$6=\"Jalousiebord\",OR(O18=\"Stehbord\",S18=\"Stehbord\")),\"Jalousienklinkung\",\"\"))","v":""},{"$f":"IF(W18=\"\",\"\",Daten!D$20)","v":""},null,null,{"$f":"IF(A18=\"\",\"\",IF(Daten!F$1=\"A\",\"Ohne\",IF(OR(N18=\"Gerstenkorn roh\",N18=\"Riffelblech roh\"),\"XPS\",Daten!F$2)))","v":""},{"$f":"IF(A18=\"\",\"\",IF(AA18=\"Ohne\",\"A\",IF(AA18=\"XPS\",IF(Daten!F$1=\"D\",\"B\",Daten!F$1),Daten!F$1)))","v":""},{"$f":"IF(A18=\"\",\"\",IF(AB18=\"A\",\"-\",Daten!F$7))","v":""},{"$f":"IF(A18=\"\",\"\",IF(AB18=\"A\",\"-\",IF(AND(Daten!F$8=0,O18=\"Putzbord\"),5-Q18,0)))","v":""},{"$f":"IF(A18=\"\",\"\",IF(AB18=\"A\",\"-\",IF(AND(Daten!F$8=0,S18=\"Putzbord\"),5-U18,0)))","v":""},{"$f":"IF(A18=\"\",\"\",IF(AB18=\"A\",\"-\",Daten!F$10))","v":""},{"$f":"IFERROR(IF(A18=\"\",\"\",VLOOKUP(N18,Daten!N$1:O$7,2,FALSE)),\"\")","v":""}]
[null,null,null,{"$f":"IF(A19=\"\",\"\",IF(Daten!B$3=TRUE,Daten!B$7,\"\"))","v":""},{"$f":"IFERROR(IF(C19=\"\",\"\",C19+(2*D19)+IF(O19=Daten!M$13,6,0)+IF(S19=Daten!M$13,6,0)+IF(Q19=\"-\",0,Q19)+IF(U19=\"-\",0,U19)),\"\")","v":""},{"$f":"IF(OR(A19=\"\",AND(F$1=0,Daten!F$3=FALSE)),\"\",Daten!B$6)","v":""},{"$f":"IF(A19=\"\",\"\",IF(Daten!B$5=\"??\",\"\",Daten!B$5))","v":""},{"$f":"IF(A19=\"\",\"\",IF(Daten!B$3=FALSE,\"\",Daten!B$4))","v":""},{"$f":"IFERROR(IF(A19=\"\",\"\",G19+H19+IF(AND(G19>0,H19>0),5,0))-IF(Daten!H$21=TRUE,H19,0),\"\")","v":""},{"$f":"IFERROR(IF(A19=\"\",\"\",I19+IF(Daten!H$21=TRUE,H19,0)+IF(F19=\"\",0,F19)-IF(Daten!F$3=TRUE,Daten!F$10,0)),\"\")","v":""},{"$f":"IF(A19=\"\",\"\",Daten!D$14)","v":""},{"$f":"IF(A19=\"\",\"\",Daten!D$12)","v":""},{"$f":"IF(A19=\"\",\"\",Daten!D$13)","v":""},{"$f":"IF(A19=\"\",\"\",Daten!M$2)","v":""},{"$f":"IF(A19=\"\",\"\",IF(Daten!D$6=Daten!N$11,Daten!M$11,IF(Daten!D$6=Daten!N$13,Daten!M$13,IF(AND(Daten!$D$6=Daten!$M$10,Daten!$D$8=TRUE),Daten!$M$14,Daten!D$6))))","v":""},{"$f":"IF($A19=\"\",\"\",IF(OR(O19=\"Putzbord\",O19=\"Flexila PU\"),Daten!$D$15,IF(OR(O19=\"Stehbord\",O19=\"Stehbord HB\",O19=\"Flexila STB\",O19=\"Jalousiebord\"),Daten!$D$19,\"-\")))","v":""},{"$f":"IF($A19=\"\",\"\",IF(O19=\"Putzbord\",Daten!$D$16,IF(O19=\"Flexila PU\",_xlfn.NUMBERVALUE(MID(Daten!$D$17,1,2)),\"-\")))","v":""},{"$f":"IF($A19=\"\",\"\",IF(OR(O19=\"Putzbord\",O19=\"Flexila PU\"),Daten!$D$18,IF(OR(O19=\"Stehbord\",O19=\"Stehbord HB\",O19=\"Flexila STB\",O19=\"Jalousiebord\"),Daten!$D$21,\"-\")))","v":""},{"$f":"IF(A19=\"\",\"\",IF(Daten!D$6=Daten!N$11,Daten!M$11,IF(Daten!D$6=Daten!N$13,Daten!M$13,IF(AND(Daten!$D$6=Daten!$M$10,Daten!$D$8=TRUE),Daten!$M$14,Daten!D$6))))","v":""},{"$f":"IF($A19=\"\",\"\",IF(OR(S19=\"Putzbord\",S19=\"Flexila PU\"),Daten!$D$15,IF(OR(S19=\"Stehbord\",S19=\"Stehbord HB\",S19=\"Flexila STB\",S19=\"Jalousiebord\"),Daten!$D$19,\"-\")))","v":""},{"$f":"IF($A19=\"\",\"\",IF(S19=\"Putzbord\",Daten!$D$16,IF(S19=\"Flexila PU\",_xlfn.NUMBERVALUE(MID(Daten!$D$17,1,2)),\"-\")))","v":""},{"$f":"IF($A19=\"\",\"\",IF(OR(S19=\"Putzbord\",S19=\"Flexila PU\"),Daten!$D$18,IF(OR(S19=\"Stehbord\",S19=\"Stehbord HB\",S19=\"Flexila STB\",S19=\"Jalousiebord\"),Daten!$D$21,\"-\")))","v":""},{"$f":"IF(A19=\"\",\"\",IF(AND(Daten!D$6=\"Jalousiebord\",OR(O19=\"Stehbord\",S19=\"Stehbord\")),\"Jalousienklinkung\",\"\"))","v":""},{"$f":"IF(W19=\"\",\"\",Daten!D$20)","v":""},null,null,{"$f":"IF(A19=\"\",\"\",IF(Daten!F$1=\"A\",\"Ohne\",IF(OR(N19=\"Gerstenkorn roh\",N19=\"Riffelblech roh\"),\"XPS\",Daten!F$2)))","v":""},{"$f":"IF(A19=\"\",\"\",IF(AA19=\"Ohne\",\"A\",IF(AA19=\"XPS\",IF(Daten!F$1=\"D\",\"B\",Daten!F$1),Daten!F$1)))","v":""},{"$f":"IF(A19=\"\",\"\",IF(AB19=\"A\",\"-\",Daten!F$7))","v":""},{"$f":"IF(A19=\"\",\"\",IF(AB19=\"A\",\"-\",IF(AND(Daten!F$8=0,O19=\"Putzbord\"),5-Q19,0)))","v":""},{"$f":"IF(A19=\"\",\"\",IF(AB19=\"A\",\"-\",IF(AND(Daten!F$8=0,S19=\"Putzbord\"),5-U19,0)))","v":""},{"$f":"IF(A19=\"\",\"\",IF(AB19=\"A\",\"-\",Daten!F$10))","v":""},{"$f":"IFERROR(IF(A19=\"\",\"\",VLOOKUP(N19,Daten!N$1:O$7,2,FALSE)),\"\")","v":""}]
[null,null,null,{"$f":"IF(A20=\"\",\"\",IF(Daten!B$3=TRUE,Daten!B$7,\"\"))","v":""},{"$f":"IFERROR(IF(C20=\"\",\"\",C20+(2*D20)+IF(O20=Daten!M$13,6,0)+IF(S20=Daten!M$13,6,0)+IF(Q20=\"-\",0,Q20)+IF(U20=\"-\",0,U20)),\"\")","v":""},{"$f":"IF(OR(A20=\"\",AND(F$1=0,Daten!F$3=FALSE)),\"\",Daten!B$6)","v":""},{"$f":"IF(A20=\"\",\"\",IF(Daten!B$5=\"??\",\"\",Daten!B$5))","v":""},{"$f":"IF(A20=\"\",\"\",IF(Daten!B$3=FALSE,\"\",Daten!B$4))","v":""},{"$f":"IFERROR(IF(A20=\"\",\"\",G20+H20+IF(AND(G20>0,H20>0),5,0))-IF(Daten!H$21=TRUE,H20,0),\"\")","v":""},{"$f":"IFERROR(IF(A20=\"\",\"\",I20+IF(Daten!H$21=TRUE,H20,0)+IF(F20=\"\",0,F20)-IF(Daten!F$3=TRUE,Daten!F$10,0)),\"\")","v":""},{"$f":"IF(A20=\"\",\"\",Daten!D$14)","v":""},{"$f":"IF(A20=\"\",\"\",Daten!D$12)","v":""},{"$f":"IF(A20=\"\",\"\",Daten!D$13)","v":""},{"$f":"IF(A20=\"\",\"\",Daten!M$2)","v":""},{"$f":"IF(A20=\"\",\"\",IF(Daten!D$6=Daten!N$11,Daten!M$11,IF(Daten!D$6=Daten!N$13,Daten!M$13,IF(AND(Daten!$D$6=Daten!$M$10,Daten!$D$8=TRUE),Daten!$M$14,Daten!D$6))))","v":""},{"$f":"IF($A20=\"\",\"\",IF(OR(O20=\"Putzbord\",O20=\"Flexila PU\"),Daten!$D$15,IF(OR(O20=\"Stehbord\",O20=\"Stehbord HB\",O20=\"Flexila STB\",O20=\"Jalousiebord\"),Daten!$D$19,\"-\")))","v":""},{"$f":"IF($A20=\"\",\"\",IF(O20=\"Putzbord\",Daten!$D$16,IF(O20=\"Flexila PU\",_xlfn.NUMBERVALUE(MID(Daten!$D$17,1,2)),\"-\")))","v":""},{"$f":"IF($A20=\"\",\"\",IF(OR(O20=\"Putzbord\",O20=\"Flexila PU\"),Daten!$D$18,IF(OR(O20=\"Stehbord\",O20=\"Stehbord HB\",O20=\"Flexila STB\",O20=\"Jalousiebord\"),Daten!$D$21,\"-\")))","v":""},{"$f":"IF(A20=\"\",\"\",IF(Daten!D$6=Daten!N$11,Daten!M$11,IF(Daten!D$6=Daten!N$13,Daten!M$13,IF(AND(Daten!$D$6=Daten!$M$10,Daten!$D$8=TRUE),Daten!$M$14,Daten!D$6))))","v":""},{"$f":"IF($A20=\"\",\"\",IF(OR(S20=\"Putzbord\",S20=\"Flexila PU\"),Daten!$D$15,IF(OR(S20=\"Stehbord\",S20=\"Stehbord HB\",S20=\"Flexila STB\",S20=\"Jalousiebord\"),Daten!$D$19,\"-\")))","v":""},{"$f":"IF($A20=\"\",\"\",IF(S20=\"Putzbord\",Daten!$D$16,IF(S20=\"Flexila PU\",_xlfn.NUMBERVALUE(MID(Daten!$D$17,1,2)),\"-\")))","v":""},{"$f":"IF($A20=\"\",\"\",IF(OR(S20=\"Putzbord\",S20=\"Flexila PU\"),Daten!$D$18,IF(OR(S20=\"Stehbord\",S20=\"Stehbord HB\",S20=\"Flexila STB\",S20=\"Jalousiebord\"),Daten!$D$21,\"-\")))","v":""},{"$f":"IF(A20=\"\",\"\",IF(AND(Daten!D$6=\"Jalousiebord\",OR(O20=\"Stehbord\",S20=\"Stehbord\")),\"Jalousienklinkung\",\"\"))","v":""},{"$f":"IF(W20=\"\",\"\",Daten!D$20)","v":""},null,null,{"$f":"IF(A20=\"\",\"\",IF(Daten!F$1=\"A\",\"Ohne\",IF(OR(N20=\"Gerstenkorn roh\",N20=\"Riffelblech roh\"),\"XPS\",Daten!F$2)))","v":""},{"$f":"IF(A20=\"\",\"\",IF(AA20=\"Ohne\",\"A\",IF(AA20=\"XPS\",IF(Daten!F$1=\"D\",\"B\",Daten!F$1),Daten!F$1)))","v":""},{"$f":"IF(A20=\"\",\"\",IF(AB20=\"A\",\"-\",Daten!F$7))","v":""},{"$f":"IF(A20=\"\",\"\",IF(AB20=\"A\",\"-\",IF(AND(Daten!F$8=0,O20=\"Putzbord\"),5-Q20,0)))","v":""},{"$f":"IF(A20=\"\",\"\",IF(AB20=\"A\",\"-\",IF(AND(Daten!F$8=0,S20=\"Putzbord\"),5-U20,0)))","v":""},{"$f":"IF(A20=\"\",\"\",IF(AB20=\"A\",\"-\",Daten!F$10))","v":""},{"$f":"IFERROR(IF(A20=\"\",\"\",VLOOKUP(N20,Daten!N$1:O$7,2,FALSE)),\"\")","v":""}]
[null,null,null,{"$f":"IF(A21=\"\",\"\",IF(Daten!B$3=TRUE,Daten!B$7,\"\"))","v":""},{"$f":"IFERROR(IF(C21=\"\",\"\",C21+(2*D21)+IF(O21=Daten!M$13,6,0)+IF(S21=Daten!M$13,6,0)+IF(Q21=\"-\",0,Q21)+IF(U21=\"-\",0,U21)),\"\")","v":""},{"$f":"IF(OR(A21=\"\",AND(F$1=0,Daten!F$3=FALSE)),\"\",Daten!B$6)","v":""},{"$f":"IF(A21=\"\",\"\",IF(Daten!B$5=\"??\",\"\",Daten!B$5))","v":""},{"$f":"IF(A21=\"\",\"\",IF(Daten!B$3=FALSE,\"\",Daten!B$4))","v":""},{"$f":"IFERROR(IF(A21=\"\",\"\",G21+H21+IF(AND(G21>0,H21>0),5,0))-IF(Daten!H$21=TRUE,H21,0),\"\")","v":""},{"$f":"IFERROR(IF(A21=\"\",\"\",I21+IF(Daten!H$21=TRUE,H21,0)+IF(F21=\"\",0,F21)-IF(Daten!F$3=TRUE,Daten!F$10,0)),\"\")","v":""},{"$f":"IF(A21=\"\",\"\",Daten!D$14)","v":""},{"$f":"IF(A21=\"\",\"\",Daten!D$12)","v":""},{"$f":"IF(A21=\"\",\"\",Daten!D$13)","v":""},{"$f":"IF(A21=\"\",\"\",Daten!M$2)","v":""},{"$f":"IF(A21=\"\",\"\",IF(Daten!D$6=Daten!N$11,Daten!M$11,IF(Daten!D$6=Daten!N$13,Daten!M$13,IF(AND(Daten!$D$6=Daten!$M$10,Daten!$D$8=TRUE),Daten!$M$14,Daten!D$6))))","v":""},{"$f":"IF($A21=\"\",\"\",IF(OR(O21=\"Putzbord\",O21=\"Flexila PU\"),Daten!$D$15,IF(OR(O21=\"Stehbord\",O21=\"Stehbord HB\",O21=\"Flexila STB\",O21=\"Jalousiebord\"),Daten!$D$19,\"-\")))","v":""},{"$f":"IF($A21=\"\",\"\",IF(O21=\"Putzbord\",Daten!$D$16,IF(O21=\"Flexila PU\",_xlfn.NUMBERVALUE(MID(Daten!$D$17,1,2)),\"-\")))","v":""},{"$f":"IF($A21=\"\",\"\",IF(OR(O21=\"Putzbord\",O21=\"Flexila PU\"),Daten!$D$18,IF(OR(O21=\"Stehbord\",O21=\"Stehbord HB\",O21=\"Flexila STB\",O21=\"Jalousiebord\"),Daten!$D$21,\"-\")))","v":""},{"$f":"IF(A21=\"\",\"\",IF(Daten!D$6=Daten!N$11,Daten!M$11,IF(Daten!D$6=Daten!N$13,Daten!M$13,IF(AND(Daten!$D$6=Daten!$M$10,Daten!$D$8=TRUE),Daten!$M$14,Daten!D$6))))","v":""},{"$f":"IF($A21=\"\",\"\",IF(OR(S21=\"Putzbord\",S21=\"Flexila PU\"),Daten!$D$15,IF(OR(S21=\"Stehbord\",S21=\"Stehbord HB\",S21=\"Flexila STB\",S21=\"Jalousiebord\"),Daten!$D$19,\"-\")))","v":""},{"$f":"IF($A21=\"\",\"\",IF(S21=\"Putzbord\",Daten!$D$16,IF(S21=\"Flexila PU\",_xlfn.NUMBERVALUE(MID(Daten!$D$17,1,2)),\"-\")))","v":""},{"$f":"IF($A21=\"\",\"\",IF(OR(S21=\"Putzbord\",S21=\"Flexila PU\"),Daten!$D$18,IF(OR(S21=\"Stehbord\",S21=\"Stehbord HB\",S21=\"Flexila STB\",S21=\"Jalousiebord\"),Daten!$D$21,\"-\")))","v":""},{"$f":"IF(A21=\"\",\"\",IF(AND(Daten!D$6=\"Jalousiebord\",OR(O21=\"Stehbord\",S21=\"Stehbord\")),\"Jalousienklinkung\",\"\"))","v":""},{"$f":"IF(W21=\"\",\"\",Daten!D$20)","v":""},null,null,{"$f":"IF(A21=\"\",\"\",IF(Daten!F$1=\"A\",\"Ohne\",IF(OR(N21=\"Gerstenkorn roh\",N21=\"Riffelblech roh\"),\"XPS\",Daten!F$2)))","v":""},{"$f":"IF(A21=\"\",\"\",IF(AA21=\"Ohne\",\"A\",IF(AA21=\"XPS\",IF(Daten!F$1=\"D\",\"B\",Daten!F$1),Daten!F$1)))","v":""},{"$f":"IF(A21=\"\",\"\",IF(AB21=\"A\",\"-\",Daten!F$7))","v":""},{"$f":"IF(A21=\"\",\"\",IF(AB21=\"A\",\"-\",IF(AND(Daten!F$8=0,O21=\"Putzbord\"),5-Q21,0)))","v":""},{"$f":"IF(A21=\"\",\"\",IF(AB21=\"A\",\"-\",IF(AND(Daten!F$8=0,S21=\"Putzbord\"),5-U21,0)))","v":""},{"$f":"IF(A21=\"\",\"\",IF(AB21=\"A\",\"-\",Daten!F$10))","v":""},{"$f":"IFERROR(IF(A21=\"\",\"\",VLOOKUP(N21,Daten!N$1:O$7,2,FALSE)),\"\")","v":""}]
[null,null,null,{"$f":"IF(A22=\"\",\"\",IF(Daten!B$3=TRUE,Daten!B$7,\"\"))","v":""},{"$f":"IFERROR(IF(C22=\"\",\"\",C22+(2*D22)+IF(O22=Daten!M$13,6,0)+IF(S22=Daten!M$13,6,0)+IF(Q22=\"-\",0,Q22)+IF(U22=\"-\",0,U22)),\"\")","v":""},{"$f":"IF(OR(A22=\"\",AND(F$1=0,Daten!F$3=FALSE)),\"\",Daten!B$6)","v":""},{"$f":"IF(A22=\"\",\"\",IF(Daten!B$5=\"??\",\"\",Daten!B$5))","v":""},{"$f":"IF(A22=\"\",\"\",IF(Daten!B$3=FALSE,\"\",Daten!B$4))","v":""},{"$f":"IFERROR(IF(A22=\"\",\"\",G22+H22+IF(AND(G22>0,H22>0),5,0))-IF(Daten!H$21=TRUE,H22,0),\"\")","v":""},{"$f":"IFERROR(IF(A22=\"\",\"\",I22+IF(Daten!H$21=TRUE,H22,0)+IF(F22=\"\",0,F22)-IF(Daten!F$3=TRUE,Daten!F$10,0)),\"\")","v":""},{"$f":"IF(A22=\"\",\"\",Daten!D$14)","v":""},{"$f":"IF(A22=\"\",\"\",Daten!D$12)","v":""},{"$f":"IF(A22=\"\",\"\",Daten!D$13)","v":""},{"$f":"IF(A22=\"\",\"\",Daten!M$2)","v":""},{"$f":"IF(A22=\"\",\"\",IF(Daten!D$6=Daten!N$11,Daten!M$11,IF(Daten!D$6=Daten!N$13,Daten!M$13,IF(AND(Daten!$D$6=Daten!$M$10,Daten!$D$8=TRUE),Daten!$M$14,Daten!D$6))))","v":""},{"$f":"IF($A22=\"\",\"\",IF(OR(O22=\"Putzbord\",O22=\"Flexila PU\"),Daten!$D$15,IF(OR(O22=\"Stehbord\",O22=\"Stehbord HB\",O22=\"Flexila STB\",O22=\"Jalousiebord\"),Daten!$D$19,\"-\")))","v":""},{"$f":"IF($A22=\"\",\"\",IF(O22=\"Putzbord\",Daten!$D$16,IF(O22=\"Flexila PU\",_xlfn.NUMBERVALUE(MID(Daten!$D$17,1,2)),\"-\")))","v":""},{"$f":"IF($A22=\"\",\"\",IF(OR(O22=\"Putzbord\",O22=\"Flexila PU\"),Daten!$D$18,IF(OR(O22=\"Stehbord\",O22=\"Stehbord HB\",O22=\"Flexila STB\",O22=\"Jalousiebord\"),Daten!$D$21,\"-\")))","v":""},{"$f":"IF(A22=\"\",\"\",IF(Daten!D$6=Daten!N$11,Daten!M$11,IF(Daten!D$6=Daten!N$13,Daten!M$13,IF(AND(Daten!$D$6=Daten!$M$10,Daten!$D$8=TRUE),Daten!$M$14,Daten!D$6))))","v":""},{"$f":"IF($A22=\"\",\"\",IF(OR(S22=\"Putzbord\",S22=\"Flexila PU\"),Daten!$D$15,IF(OR(S22=\"Stehbord\",S22=\"Stehbord HB\",S22=\"Flexila STB\",S22=\"Jalousiebord\"),Daten!$D$19,\"-\")))","v":""},{"$f":"IF($A22=\"\",\"\",IF(S22=\"Putzbord\",Daten!$D$16,IF(S22=\"Flexila PU\",_xlfn.NUMBERVALUE(MID(Daten!$D$17,1,2)),\"-\")))","v":""},{"$f":"IF($A22=\"\",\"\",IF(OR(S22=\"Putzbord\",S22=\"Flexila PU\"),Daten!$D$18,IF(OR(S22=\"Stehbord\",S22=\"Stehbord HB\",S22=\"Flexila STB\",S22=\"Jalousiebord\"),Daten!$D$21,\"-\")))","v":""},{"$f":"IF(A22=\"\",\"\",IF(AND(Daten!D$6=\"Jalousiebord\",OR(O22=\"Stehbord\",S22=\"Stehbord\")),\"Jalousienklinkung\",\"\"))","v":""},{"$f":"IF(W22=\"\",\"\",Daten!D$20)","v":""},null,null,{"$f":"IF(A22=\"\",\"\",IF(Daten!F$1=\"A\",\"Ohne\",IF(OR(N22=\"Gerstenkorn roh\",N22=\"Riffelblech roh\"),\"XPS\",Daten!F$2)))","v":""},{"$f":"IF(A22=\"\",\"\",IF(AA22=\"Ohne\",\"A\",IF(AA22=\"XPS\",IF(Daten!F$1=\"D\",\"B\",Daten!F$1),Daten!F$1)))","v":""},{"$f":"IF(A22=\"\",\"\",IF(AB22=\"A\",\"-\",Daten!F$7))","v":""},{"$f":"IF(A22=\"\",\"\",IF(AB22=\"A\",\"-\",IF(AND(Daten!F$8=0,O22=\"Putzbord\"),5-Q22,0)))","v":""},{"$f":"IF(A22=\"\",\"\",IF(AB22=\"A\",\"-\",IF(AND(Daten!F$8=0,S22=\"Putzbord\"),5-U22,0)))","v":""},{"$f":"IF(A22=\"\",\"\",IF(AB22=\"A\",\"-\",Daten!F$10))","v":""},{"$f":"IFERROR(IF(A22=\"\",\"\",VLOOKUP(N22,Daten!N$1:O$7,2,FALSE)),\"\")","v":""}]
[null,null,null,{"$f":"IF(A23=\"\",\"\",IF(Daten!B$3=TRUE,Daten!B$7,\"\"))","v":""},{"$f":"IFERROR(IF(C23=\"\",\"\",C23+(2*D23)+IF(O23=Daten!M$13,6,0)+IF(S23=Daten!M$13,6,0)+IF(Q23=\"-\",0,Q23)+IF(U23=\"-\",0,U23)),\"\")","v":""},{"$f":"IF(OR(A23=\"\",AND(F$1=0,Daten!F$3=FALSE)),\"\",Daten!B$6)","v":""},{"$f":"IF(A23=\"\",\"\",IF(Daten!B$5=\"??\",\"\",Daten!B$5))","v":""},{"$f":"IF(A23=\"\",\"\",IF(Daten!B$3=FALSE,\"\",Daten!B$4))","v":""},{"$f":"IFERROR(IF(A23=\"\",\"\",G23+H23+IF(AND(G23>0,H23>0),5,0))-IF(Daten!H$21=TRUE,H23,0),\"\")","v":""},{"$f":"IFERROR(IF(A23=\"\",\"\",I23+IF(Daten!H$21=TRUE,H23,0)+IF(F23=\"\",0,F23)-IF(Daten!F$3=TRUE,Daten!F$10,0)),\"\")","v":""},{"$f":"IF(A23=\"\",\"\",Daten!D$14)","v":""},{"$f":"IF(A23=\"\",\"\",Daten!D$12)","v":""},{"$f":"IF(A23=\"\",\"\",Daten!D$13)","v":""},{"$f":"IF(A23=\"\",\"\",Daten!M$2)","v":""},{"$f":"IF(A23=\"\",\"\",IF(Daten!D$6=Daten!N$11,Daten!M$11,IF(Daten!D$6=Daten!N$13,Daten!M$13,IF(AND(Daten!$D$6=Daten!$M$10,Daten!$D$8=TRUE),Daten!$M$14,Daten!D$6))))","v":""},{"$f":"IF($A23=\"\",\"\",IF(OR(O23=\"Putzbord\",O23=\"Flexila PU\"),Daten!$D$15,IF(OR(O23=\"Stehbord\",O23=\"Stehbord HB\",O23=\"Flexila STB\",O23=\"Jalousiebord\"),Daten!$D$19,\"-\")))","v":""},{"$f":"IF($A23=\"\",\"\",IF(O23=\"Putzbord\",Daten!$D$16,IF(O23=\"Flexila PU\",_xlfn.NUMBERVALUE(MID(Daten!$D$17,1,2)),\"-\")))","v":""},{"$f":"IF($A23=\"\",\"\",IF(OR(O23=\"Putzbord\",O23=\"Flexila PU\"),Daten!$D$18,IF(OR(O23=\"Stehbord\",O23=\"Stehbord HB\",O23=\"Flexila STB\",O23=\"Jalousiebord\"),Daten!$D$21,\"-\")))","v":""},{"$f":"IF(A23=\"\",\"\",IF(Daten!D$6=Daten!N$11,Daten!M$11,IF(Daten!D$6=Daten!N$13,Daten!M$13,IF(AND(Daten!$D$6=Daten!$M$10,Daten!$D$8=TRUE),Daten!$M$14,Daten!D$6))))","v":""},{"$f":"IF($A23=\"\",\"\",IF(OR(S23=\"Putzbord\",S23=\"Flexila PU\"),Daten!$D$15,IF(OR(S23=\"Stehbord\",S23=\"Stehbord HB\",S23=\"Flexila STB\",S23=\"Jalousiebord\"),Daten!$D$19,\"-\")))","v":""},{"$f":"IF($A23=\"\",\"\",IF(S23=\"Putzbord\",Daten!$D$16,IF(S23=\"Flexila PU\",_xlfn.NUMBERVALUE(MID(Daten!$D$17,1,2)),\"-\")))","v":""},{"$f":"IF($A23=\"\",\"\",IF(OR(S23=\"Putzbord\",S23=\"Flexila PU\"),Daten!$D$18,IF(OR(S23=\"Stehbord\",S23=\"Stehbord HB\",S23=\"Flexila STB\",S23=\"Jalousiebord\"),Daten!$D$21,\"-\")))","v":""},{"$f":"IF(A23=\"\",\"\",IF(AND(Daten!D$6=\"Jalousiebord\",OR(O23=\"Stehbord\",S23=\"Stehbord\")),\"Jalousienklinkung\",\"\"))","v":""},{"$f":"IF(W23=\"\",\"\",Daten!D$20)","v":""},null,null,{"$f":"IF(A23=\"\",\"\",IF(Daten!F$1=\"A\",\"Ohne\",IF(OR(N23=\"Gerstenkorn roh\",N23=\"Riffelblech roh\"),\"XPS\",Daten!F$2)))","v":""},{"$f":"IF(A23=\"\",\"\",IF(AA23=\"Ohne\",\"A\",IF(AA23=\"XPS\",IF(Daten!F$1=\"D\",\"B\",Daten!F$1),Daten!F$1)))","v":""},{"$f":"IF(A23=\"\",\"\",IF(AB23=\"A\",\"-\",Daten!F$7))","v":""},{"$f":"IF(A23=\"\",\"\",IF(AB23=\"A\",\"-\",IF(AND(Daten!F$8=0,O23=\"Putzbord\"),5-Q23,0)))","v":""},{"$f":"IF(A23=\"\",\"\",IF(AB23=\"A\",\"-\",IF(AND(Daten!F$8=0,S23=\"Putzbord\"),5-U23,0)))","v":""},{"$f":"IF(A23=\"\",\"\",IF(AB23=\"A\",\"-\",Daten!F$10))","v":""},{"$f":"IFERROR(IF(A23=\"\",\"\",VLOOKUP(N23,Daten!N$1:O$7,2,FALSE)),\"\")","v":""}]
[null,null,null,{"$f":"IF(A24=\"\",\"\",IF(Daten!B$3=TRUE,Daten!B$7,\"\"))","v":""},{"$f":"IFERROR(IF(C24=\"\",\"\",C24+(2*D24)+IF(O24=Daten!M$13,6,0)+IF(S24=Daten!M$13,6,0)+IF(Q24=\"-\",0,Q24)+IF(U24=\"-\",0,U24)),\"\")","v":""},{"$f":"IF(OR(A24=\"\",AND(F$1=0,Daten!F$3=FALSE)),\"\",Daten!B$6)","v":""},{"$f":"IF(A24=\"\",\"\",IF(Daten!B$5=\"??\",\"\",Daten!B$5))","v":""},{"$f":"IF(A24=\"\",\"\",IF(Daten!B$3=FALSE,\"\",Daten!B$4))","v":""},{"$f":"IFERROR(IF(A24=\"\",\"\",G24+H24+IF(AND(G24>0,H24>0),5,0))-IF(Daten!H$21=TRUE,H24,0),\"\")","v":""},{"$f":"IFERROR(IF(A24=\"\",\"\",I24+IF(Daten!H$21=TRUE,H24,0)+IF(F24=\"\",0,F24)-IF(Daten!F$3=TRUE,Daten!F$10,0)),\"\")","v":""},{"$f":"IF(A24=\"\",\"\",Daten!D$14)","v":""},{"$f":"IF(A24=\"\",\"\",Daten!D$12)","v":""},{"$f":"IF(A24=\"\",\"\",Daten!D$13)","v":""},{"$f":"IF(A24=\"\",\"\",Daten!M$2)","v":""},{"$f":"IF(A24=\"\",\"\",IF(Daten!D$6=Daten!N$11,Daten!M$11,IF(Daten!D$6=Daten!N$13,Daten!M$13,IF(AND(Daten!$D$6=Daten!$M$10,Daten!$D$8=TRUE),Daten!$M$14,Daten!D$6))))","v":""},{"$f":"IF($A24=\"\",\"\",IF(OR(O24=\"Putzbord\",O24=\"Flexila PU\"),Daten!$D$15,IF(OR(O24=\"Stehbord\",O24=\"Stehbord HB\",O24=\"Flexila STB\",O24=\"Jalousiebord\"),Daten!$D$19,\"-\")))","v":""},{"$f":"IF($A24=\"\",\"\",IF(O24=\"Putzbord\",Daten!$D$16,IF(O24=\"Flexila PU\",_xlfn.NUMBERVALUE(MID(Daten!$D$17,1,2)),\"-\")))","v":""},{"$f":"IF($A24=\"\",\"\",IF(OR(O24=\"Putzbord\",O24=\"Flexila PU\"),Daten!$D$18,IF(OR(O24=\"Stehbord\",O24=\"Stehbord HB\",O24=\"Flexila STB\",O24=\"Jalousiebord\"),Daten!$D$21,\"-\")))","v":""},{"$f":"IF(A24=\"\",\"\",IF(Daten!D$6=Daten!N$11,Daten!M$11,IF(Daten!D$6=Daten!N$13,Daten!M$13,IF(AND(Daten!$D$6=Daten!$M$10,Daten!$D$8=TRUE),Daten!$M$14,Daten!D$6))))","v":""},{"$f":"IF($A24=\"\",\"\",IF(OR(S24=\"Putzbord\",S24=\"Flexila PU\"),Daten!$D$15,IF(OR(S24=\"Stehbord\",S24=\"Stehbord HB\",S24=\"Flexila STB\",S24=\"Jalousiebord\"),Daten!$D$19,\"-\")))","v":""},{"$f":"IF($A24=\"\",\"\",IF(S24=\"Putzbord\",Daten!$D$16,IF(S24=\"Flexila PU\",_xlfn.NUMBERVALUE(MID(Daten!$D$17,1,2)),\"-\")))","v":""},{"$f":"IF($A24=\"\",\"\",IF(OR(S24=\"Putzbord\",S24=\"Flexila PU\"),Daten!$D$18,IF(OR(S24=\"Stehbord\",S24=\"Stehbord HB\",S24=\"Flexila STB\",S24=\"Jalousiebord\"),Daten!$D$21,\"-\")))","v":""},{"$f":"IF(A24=\"\",\"\",IF(AND(Daten!D$6=\"Jalousiebord\",OR(O24=\"Stehbord\",S24=\"Stehbord\")),\"Jalousienklinkung\",\"\"))","v":""},{"$f":"IF(W24=\"\",\"\",Daten!D$20)","v":""},null,null,{"$f":"IF(A24=\"\",\"\",IF(Daten!F$1=\"A\",\"Ohne\",IF(OR(N24=\"Gerstenkorn roh\",N24=\"Riffelblech roh\"),\"XPS\",Daten!F$2)))","v":""},{"$f":"IF(A24=\"\",\"\",IF(AA24=\"Ohne\",\"A\",IF(AA24=\"XPS\",IF(Daten!F$1=\"D\",\"B\",Daten!F$1),Daten!F$1)))","v":""},{"$f":"IF(A24=\"\",\"\",IF(AB24=\"A\",\"-\",Daten!F$7))","v":""},{"$f":"IF(A24=\"\",\"\",IF(AB24=\"A\",\"-\",IF(AND(Daten!F$8=0,O24=\"Putzbord\"),5-Q24,0)))","v":""},{"$f":"IF(A24=\"\",\"\",IF(AB24=\"A\",\"-\",IF(AND(Daten!F$8=0,S24=\"Putzbord\"),5-U24,0)))","v":""},{"$f":"IF(A24=\"\",\"\",IF(AB24=\"A\",\"-\",Daten!F$10))","v":""},{"$f":"IFERROR(IF(A24=\"\",\"\",VLOOKUP(N24,Daten!N$1:O$7,2,FALSE)),\"\")","v":""}]
[null,null,null,{"$f":"IF(A25=\"\",\"\",IF(Daten!B$3=TRUE,Daten!B$7,\"\"))","v":""},{"$f":"IFERROR(IF(C25=\"\",\"\",C25+(2*D25)+IF(O25=Daten!M$13,6,0)+IF(S25=Daten!M$13,6,0)+IF(Q25=\"-\",0,Q25)+IF(U25=\"-\",0,U25)),\"\")","v":""},{"$f":"IF(OR(A25=\"\",AND(F$1=0,Daten!F$3=FALSE)),\"\",Daten!B$6)","v":""},{"$f":"IF(A25=\"\",\"\",IF(Daten!B$5=\"??\",\"\",Daten!B$5))","v":""},{"$f":"IF(A25=\"\",\"\",IF(Daten!B$3=FALSE,\"\",Daten!B$4))","v":""},{"$f":"IFERROR(IF(A25=\"\",\"\",G25+H25+IF(AND(G25>0,H25>0),5,0))-IF(Daten!H$21=TRUE,H25,0),\"\")","v":""},{"$f":"IFERROR(IF(A25=\"\",\"\",I25+IF(Daten!H$21=TRUE,H25,0)+IF(F25=\"\",0,F25)-IF(Daten!F$3=TRUE,Daten!F$10,0)),\"\")","v":""},{"$f":"IF(A25=\"\",\"\",Daten!D$14)","v":""},{"$f":"IF(A25=\"\",\"\",Daten!D$12)","v":""},{"$f":"IF(A25=\"\",\"\",Daten!D$13)","v":""},{"$f":"IF(A25=\"\",\"\",Daten!M$2)","v":""},{"$f":"IF(A25=\"\",\"\",IF(Daten!D$6=Daten!N$11,Daten!M$11,IF(Daten!D$6=Daten!N$13,Daten!M$13,IF(AND(Daten!$D$6=Daten!$M$10,Daten!$D$8=TRUE),Daten!$M$14,Daten!D$6))))","v":""},{"$f":"IF($A25=\"\",\"\",IF(OR(O25=\"Putzbord\",O25=\"Flexila PU\"),Daten!$D$15,IF(OR(O25=\"Stehbord\",O25=\"Stehbord HB\",O25=\"Flexila STB\",O25=\"Jalousiebord\"),Daten!$D$19,\"-\")))","v":""},{"$f":"IF($A25=\"\",\"\",IF(O25=\"Putzbord\",Daten!$D$16,IF(O25=\"Flexila PU\",_xlfn.NUMBERVALUE(MID(Daten!$D$17,1,2)),\"-\")))","v":""},{"$f":"IF($A25=\"\",\"\",IF(OR(O25=\"Putzbord\",O25=\"Flexila PU\"),Daten!$D$18,IF(OR(O25=\"Stehbord\",O25=\"Stehbord HB\",O25=\"Flexila STB\",O25=\"Jalousiebord\"),Daten!$D$21,\"-\")))","v":""},{"$f":"IF(A25=\"\",\"\",IF(Daten!D$6=Daten!N$11,Daten!M$11,IF(Daten!D$6=Daten!N$13,Daten!M$13,IF(AND(Daten!$D$6=Daten!$M$10,Daten!$D$8=TRUE),Daten!$M$14,Daten!D$6))))","v":""},{"$f":"IF($A25=\"\",\"\",IF(OR(S25=\"Putzbord\",S25=\"Flexila PU\"),Daten!$D$15,IF(OR(S25=\"Stehbord\",S25=\"Stehbord HB\",S25=\"Flexila STB\",S25=\"Jalousiebord\"),Daten!$D$19,\"-\")))","v":""},{"$f":"IF($A25=\"\",\"\",IF(S25=\"Putzbord\",Daten!$D$16,IF(S25=\"Flexila PU\",_xlfn.NUMBERVALUE(MID(Daten!$D$17,1,2)),\"-\")))","v":""},{"$f":"IF($A25=\"\",\"\",IF(OR(S25=\"Putzbord\",S25=\"Flexila PU\"),Daten!$D$18,IF(OR(S25=\"Stehbord\",S25=\"Stehbord HB\",S25=\"Flexila STB\",S25=\"Jalousiebord\"),Daten!$D$21,\"-\")))","v":""},{"$f":"IF(A25=\"\",\"\",IF(AND(Daten!D$6=\"Jalousiebord\",OR(O25=\"Stehbord\",S25=\"Stehbord\")),\"Jalousienklinkung\",\"\"))","v":""},{"$f":"IF(W25=\"\",\"\",Daten!D$20)","v":""},null,null,{"$f":"IF(A25=\"\",\"\",IF(Daten!F$1=\"A\",\"Ohne\",IF(OR(N25=\"Gerstenkorn roh\",N25=\"Riffelblech roh\"),\"XPS\",Daten!F$2)))","v":""},{"$f":"IF(A25=\"\",\"\",IF(AA25=\"Ohne\",\"A\",IF(AA25=\"XPS\",IF(Daten!F$1=\"D\",\"B\",Daten!F$1),Daten!F$1)))","v":""},{"$f":"IF(A25=\"\",\"\",IF(AB25=\"A\",\"-\",Daten!F$7))","v":""},{"$f":"IF(A25=\"\",\"\",IF(AB25=\"A\",\"-\",IF(AND(Daten!F$8=0,O25=\"Putzbord\"),5-Q25,0)))","v":""},{"$f":"IF(A25=\"\",\"\",IF(AB25=\"A\",\"-\",IF(AND(Daten!F$8=0,S25=\"Putzbord\"),5-U25,0)))","v":""},{"$f":"IF(A25=\"\",\"\",IF(AB25=\"A\",\"-\",Daten!F$10))","v":""},{"$f":"IFERROR(IF(A25=\"\",\"\",VLOOKUP(N25,Daten!N$1:O$7,2,FALSE)),\"\")","v":""}]
[null,null,null,{"$f":"IF(A26=\"\",\"\",IF(Daten!B$3=TRUE,Daten!B$7,\"\"))","v":""},{"$f":"IFERROR(IF(C26=\"\",\"\",C26+(2*D26)+IF(O26=Daten!M$13,6,0)+IF(S26=Daten!M$13,6,0)+IF(Q26=\"-\",0,Q26)+IF(U26=\"-\",0,U26)),\"\")","v":""},{"$f":"IF(OR(A26=\"\",AND(F$1=0,Daten!F$3=FALSE)),\"\",Daten!B$6)","v":""},{"$f":"IF(A26=\"\",\"\",IF(Daten!B$5=\"??\",\"\",Daten!B$5))","v":""},{"$f":"IF(A26=\"\",\"\",IF(Daten!B$3=FALSE,\"\",Daten!B$4))","v":""},{"$f":"IFERROR(IF(A26=\"\",\"\",G26+H26+IF(AND(G26>0,H26>0),5,0))-IF(Daten!H$21=TRUE,H26,0),\"\")","v":""},{"$f":"IFERROR(IF(A26=\"\",\"\",I26+IF(Daten!H$21=TRUE,H26,0)+IF(F26=\"\",0,F26)-IF(Daten!F$3=TRUE,Daten!F$10,0)),\"\")","v":""},{"$f":"IF(A26=\"\",\"\",Daten!D$14)","v":""},{"$f":"IF(A26=\"\",\"\",Daten!D$12)","v":""},{"$f":"IF(A26=\"\",\"\",Daten!D$13)","v":""},{"$f":"IF(A26=\"\",\"\",Daten!M$2)","v":""},{"$f":"IF(A26=\"\",\"\",IF(Daten!D$6=Daten!N$11,Daten!M$11,IF(Daten!D$6=Daten!N$13,Daten!M$13,IF(AND(Daten!$D$6=Daten!$M$10,Daten!$D$8=TRUE),Daten!$M$14,Daten!D$6))))","v":""},{"$f":"IF($A26=\"\",\"\",IF(OR(O26=\"Putzbord\",O26=\"Flexila PU\"),Daten!$D$15,IF(OR(O26=\"Stehbord\",O26=\"Stehbord HB\",O26=\"Flexila STB\",O26=\"Jalousiebord\"),Daten!$D$19,\"-\")))","v":""},{"$f":"IF($A26=\"\",\"\",IF(O26=\"Putzbord\",Daten!$D$16,IF(O26=\"Flexila PU\",_xlfn.NUMBERVALUE(MID(Daten!$D$17,1,2)),\"-\")))","v":""},{"$f":"IF($A26=\"\",\"\",IF(OR(O26=\"Putzbord\",O26=\"Flexila PU\"),Daten!$D$18,IF(OR(O26=\"Stehbord\",O26=\"Stehbord HB\",O26=\"Flexila STB\",O26=\"Jalousiebord\"),Daten!$D$21,\"-\")))","v":""},{"$f":"IF(A26=\"\",\"\",IF(Daten!D$6=Daten!N$11,Daten!M$11,IF(Daten!D$6=Daten!N$13,Daten!M$13,IF(AND(Daten!$D$6=Daten!$M$10,Daten!$D$8=TRUE),Daten!$M$14,Daten!D$6))))","v":""},{"$f":"IF($A26=\"\",\"\",IF(OR(S26=\"Putzbord\",S26=\"Flexila PU\"),Daten!$D$15,IF(OR(S26=\"Stehbord\",S26=\"Stehbord HB\",S26=\"Flexila STB\",S26=\"Jalousiebord\"),Daten!$D$19,\"-\")))","v":""},{"$f":"IF($A26=\"\",\"\",IF(S26=\"Putzbord\",Daten!$D$16,IF(S26=\"Flexila PU\",_xlfn.NUMBERVALUE(MID(Daten!$D$17,1,2)),\"-\")))","v":""},{"$f":"IF($A26=\"\",\"\",IF(OR(S26=\"Putzbord\",S26=\"Flexila PU\"),Daten!$D$18,IF(OR(S26=\"Stehbord\",S26=\"Stehbord HB\",S26=\"Flexila STB\",S26=\"Jalousiebord\"),Daten!$D$21,\"-\")))","v":""},{"$f":"IF(A26=\"\",\"\",IF(AND(Daten!D$6=\"Jalousiebord\",OR(O26=\"Stehbord\",S26=\"Stehbord\")),\"Jalousienklinkung\",\"\"))","v":""},{"$f":"IF(W26=\"\",\"\",Daten!D$20)","v":""},null,null,{"$f":"IF(A26=\"\",\"\",IF(Daten!F$1=\"A\",\"Ohne\",IF(OR(N26=\"Gerstenkorn roh\",N26=\"Riffelblech roh\"),\"XPS\",Daten!F$2)))","v":""},{"$f":"IF(A26=\"\",\"\",IF(AA26=\"Ohne\",\"A\",IF(AA26=\"XPS\",IF(Daten!F$1=\"D\",\"B\",Daten!F$1),Daten!F$1)))","v":""},{"$f":"IF(A26=\"\",\"\",IF(AB26=\"A\",\"-\",Daten!F$7))","v":""},{"$f":"IF(A26=\"\",\"\",IF(AB26=\"A\",\"-\",IF(AND(Daten!F$8=0,O26=\"Putzbord\"),5-Q26,0)))","v":""},{"$f":"IF(A26=\"\",\"\",IF(AB26=\"A\",\"-\",IF(AND(Daten!F$8=0,S26=\"Putzbord\"),5-U26,0)))","v":""},{"$f":"IF(A26=\"\",\"\",IF(AB26=\"A\",\"-\",Daten!F$10))","v":""},{"$f":"IFERROR(IF(A26=\"\",\"\",VLOOKUP(N26,Daten!N$1:O$7,2,FALSE)),\"\")","v":""}]
[null,null,null,{"$f":"IF(A27=\"\",\"\",IF(Daten!B$3=TRUE,Daten!B$7,\"\"))","v":""},{"$f":"IFERROR(IF(C27=\"\",\"\",C27+(2*D27)+IF(O27=Daten!M$13,6,0)+IF(S27=Daten!M$13,6,0)+IF(Q27=\"-\",0,Q27)+IF(U27=\"-\",0,U27)),\"\")","v":""},{"$f":"IF(OR(A27=\"\",AND(F$1=0,Daten!F$3=FALSE)),\"\",Daten!B$6)","v":""},{"$f":"IF(A27=\"\",\"\",IF(Daten!B$5=\"??\",\"\",Daten!B$5))","v":""},{"$f":"IF(A27=\"\",\"\",IF(Daten!B$3=FALSE,\"\",Daten!B$4))","v":""},{"$f":"IFERROR(IF(A27=\"\",\"\",G27+H27+IF(AND(G27>0,H27>0),5,0))-IF(Daten!H$21=TRUE,H27,0),\"\")","v":""},{"$f":"IFERROR(IF(A27=\"\",\"\",I27+IF(Daten!H$21=TRUE,H27,0)+IF(F27=\"\",0,F27)-IF(Daten!F$3=TRUE,Daten!F$10,0)),\"\")","v":""},{"$f":"IF(A27=\"\",\"\",Daten!D$14)","v":""},{"$f":"IF(A27=\"\",\"\",Daten!D$12)","v":""},{"$f":"IF(A27=\"\",\"\",Daten!D$13)","v":""},{"$f":"IF(A27=\"\",\"\",Daten!M$2)","v":""},{"$f":"IF(A27=\"\",\"\",IF(Daten!D$6=Daten!N$11,Daten!M$11,IF(Daten!D$6=Daten!N$13,Daten!M$13,IF(AND(Daten!$D$6=Daten!$M$10,Daten!$D$8=TRUE),Daten!$M$14,Daten!D$6))))","v":""},{"$f":"IF($A27=\"\",\"\",IF(OR(O27=\"Putzbord\",O27=\"Flexila PU\"),Daten!$D$15,IF(OR(O27=\"Stehbord\",O27=\"Stehbord HB\",O27=\"Flexila STB\",O27=\"Jalousiebord\"),Daten!$D$19,\"-\")))","v":""},{"$f":"IF($A27=\"\",\"\",IF(O27=\"Putzbord\",Daten!$D$16,IF(O27=\"Flexila PU\",_xlfn.NUMBERVALUE(MID(Daten!$D$17,1,2)),\"-\")))","v":""},{"$f":"IF($A27=\"\",\"\",IF(OR(O27=\"Putzbord\",O27=\"Flexila PU\"),Daten!$D$18,IF(OR(O27=\"Stehbord\",O27=\"Stehbord HB\",O27=\"Flexila STB\",O27=\"Jalousiebord\"),Daten!$D$21,\"-\")))","v":""},{"$f":"IF(A27=\"\",\"\",IF(Daten!D$6=Daten!N$11,Daten!M$11,IF(Daten!D$6=Daten!N$13,Daten!M$13,IF(AND(Daten!$D$6=Daten!$M$10,Daten!$D$8=TRUE),Daten!$M$14,Daten!D$6))))","v":""},{"$f":"IF($A27=\"\",\"\",IF(OR(S27=\"Putzbord\",S27=\"Flexila PU\"),Daten!$D$15,IF(OR(S27=\"Stehbord\",S27=\"Stehbord HB\",S27=\"Flexila STB\",S27=\"Jalousiebord\"),Daten!$D$19,\"-\")))","v":""},{"$f":"IF($A27=\"\",\"\",IF(S27=\"Putzbord\",Daten!$D$16,IF(S27=\"Flexila PU\",_xlfn.NUMBERVALUE(MID(Daten!$D$17,1,2)),\"-\")))","v":""},{"$f":"IF($A27=\"\",\"\",IF(OR(S27=\"Putzbord\",S27=\"Flexila PU\"),Daten!$D$18,IF(OR(S27=\"Stehbord\",S27=\"Stehbord HB\",S27=\"Flexila STB\",S27=\"Jalousiebord\"),Daten!$D$21,\"-\")))","v":""},{"$f":"IF(A27=\"\",\"\",IF(AND(Daten!D$6=\"Jalousiebord\",OR(O27=\"Stehbord\",S27=\"Stehbord\")),\"Jalousienklinkung\",\"\"))","v":""},{"$f":"IF(W27=\"\",\"\",Daten!D$20)","v":""},null,null,{"$f":"IF(A27=\"\",\"\",IF(Daten!F$1=\"A\",\"Ohne\",IF(OR(N27=\"Gerstenkorn roh\",N27=\"Riffelblech roh\"),\"XPS\",Daten!F$2)))","v":""},{"$f":"IF(A27=\"\",\"\",IF(AA27=\"Ohne\",\"A\",IF(AA27=\"XPS\",IF(Daten!F$1=\"D\",\"B\",Daten!F$1),Daten!F$1)))","v":""},{"$f":"IF(A27=\"\",\"\",IF(AB27=\"A\",\"-\",Daten!F$7))","v":""},{"$f":"IF(A27=\"\",\"\",IF(AB27=\"A\",\"-\",IF(AND(Daten!F$8=0,O27=\"Putzbord\"),5-Q27,0)))","v":""},{"$f":"IF(A27=\"\",\"\",IF(AB27=\"A\",\"-\",IF(AND(Daten!F$8=0,S27=\"Putzbord\"),5-U27,0)))","v":""},{"$f":"IF(A27=\"\",\"\",IF(AB27=\"A\",\"-\",Daten!F$10))","v":""},{"$f":"IFERROR(IF(A27=\"\",\"\",VLOOKUP(N27,Daten!N$1:O$7,2,FALSE)),\"\")","v":""}]
[null,null,null,{"$f":"IF(A28=\"\",\"\",IF(Daten!B$3=TRUE,Daten!B$7,\"\"))","v":""},{"$f":"IFERROR(IF(C28=\"\",\"\",C28+(2*D28)+IF(O28=Daten!M$13,6,0)+IF(S28=Daten!M$13,6,0)+IF(Q28=\"-\",0,Q28)+IF(U28=\"-\",0,U28)),\"\")","v":""},{"$f":"IF(OR(A28=\"\",AND(F$1=0,Daten!F$3=FALSE)),\"\",Daten!B$6)","v":""},{"$f":"IF(A28=\"\",\"\",IF(Daten!B$5=\"??\",\"\",Daten!B$5))","v":""},{"$f":"IF(A28=\"\",\"\",IF(Daten!B$3=FALSE,\"\",Daten!B$4))","v":""},{"$f":"IFERROR(IF(A28=\"\",\"\",G28+H28+IF(AND(G28>0,H28>0),5,0))-IF(Daten!H$21=TRUE,H28,0),\"\")","v":""},{"$f":"IFERROR(IF(A28=\"\",\"\",I28+IF(Daten!H$21=TRUE,H28,0)+IF(F28=\"\",0,F28)-IF(Daten!F$3=TRUE,Daten!F$10,0)),\"\")","v":""},{"$f":"IF(A28=\"\",\"\",Daten!D$14)","v":""},{"$f":"IF(A28=\"\",\"\",Daten!D$12)","v":""},{"$f":"IF(A28=\"\",\"\",Daten!D$13)","v":""},{"$f":"IF(A28=\"\",\"\",Daten!M$2)","v":""},{"$f":"IF(A28=\"\",\"\",IF(Daten!D$6=Daten!N$11,Daten!M$11,IF(Daten!D$6=Daten!N$13,Daten!M$13,IF(AND(Daten!$D$6=Daten!$M$10,Daten!$D$8=TRUE),Daten!$M$14,Daten!D$6))))","v":""},{"$f":"IF($A28=\"\",\"\",IF(OR(O28=\"Putzbord\",O28=\"Flexila PU\"),Daten!$D$15,IF(OR(O28=\"Stehbord\",O28=\"Stehbord HB\",O28=\"Flexila STB\",O28=\"Jalousiebord\"),Daten!$D$19,\"-\")))","v":""},{"$f":"IF($A28=\"\",\"\",IF(O28=\"Putzbord\",Daten!$D$16,IF(O28=\"Flexila PU\",_xlfn.NUMBERVALUE(MID(Daten!$D$17,1,2)),\"-\")))","v":""},{"$f":"IF($A28=\"\",\"\",IF(OR(O28=\"Putzbord\",O28=\"Flexila PU\"),Daten!$D$18,IF(OR(O28=\"Stehbord\",O28=\"Stehbord HB\",O28=\"Flexila STB\",O28=\"Jalousiebord\"),Daten!$D$21,\"-\")))","v":""},{"$f":"IF(A28=\"\",\"\",IF(Daten!D$6=Daten!N$11,Daten!M$11,IF(Daten!D$6=Daten!N$13,Daten!M$13,IF(AND(Daten!$D$6=Daten!$M$10,Daten!$D$8=TRUE),Daten!$M$14,Daten!D$6))))","v":""},{"$f":"IF($A28=\"\",\"\",IF(OR(S28=\"Putzbord\",S28=\"Flexila PU\"),Daten!$D$15,IF(OR(S28=\"Stehbord\",S28=\"Stehbord HB\",S28=\"Flexila STB\",S28=\"Jalousiebord\"),Daten!$D$19,\"-\")))","v":""},{"$f":"IF($A28=\"\",\"\",IF(S28=\"Putzbord\",Daten!$D$16,IF(S28=\"Flexila PU\",_xlfn.NUMBERVALUE(MID(Daten!$D$17,1,2)),\"-\")))","v":""},{"$f":"IF($A28=\"\",\"\",IF(OR(S28=\"Putzbord\",S28=\"Flexila PU\"),Daten!$D$18,IF(OR(S28=\"Stehbord\",S28=\"Stehbord HB\",S28=\"Flexila STB\",S28=\"Jalousiebord\"),Daten!$D$21,\"-\")))","v":""},{"$f":"IF(A28=\"\",\"\",IF(AND(Daten!D$6=\"Jalousiebord\",OR(O28=\"Stehbord\",S28=\"Stehbord\")),\"Jalousienklinkung\",\"\"))","v":""},{"$f":"IF(W28=\"\",\"\",Daten!D$20)","v":""},null,null,{"$f":"IF(A28=\"\",\"\",IF(Daten!F$1=\"A\",\"Ohne\",IF(OR(N28=\"Gerstenkorn roh\",N28=\"Riffelblech roh\"),\"XPS\",Daten!F$2)))","v":""},{"$f":"IF(A28=\"\",\"\",IF(AA28=\"Ohne\",\"A\",IF(AA28=\"XPS\",IF(Daten!F$1=\"D\",\"B\",Daten!F$1),Daten!F$1)))","v":""},{"$f":"IF(A28=\"\",\"\",IF(AB28=\"A\",\"-\",Daten!F$7))","v":""},{"$f":"IF(A28=\"\",\"\",IF(AB28=\"A\",\"-\",IF(AND(Daten!F$8=0,O28=\"Putzbord\"),5-Q28,0)))","v":""},{"$f":"IF(A28=\"\",\"\",IF(AB28=\"A\",\"-\",IF(AND(Daten!F$8=0,S28=\"Putzbord\"),5-U28,0)))","v":""},{"$f":"IF(A28=\"\",\"\",IF(AB28=\"A\",\"-\",Daten!F$10))","v":""},{"$f":"IFERROR(IF(A28=\"\",\"\",VLOOKUP(N28,Daten!N$1:O$7,2,FALSE)),\"\")","v":""}]
[null,null,null,{"$f":"IF(A29=\"\",\"\",IF(Daten!B$3=TRUE,Daten!B$7,\"\"))","v":""},{"$f":"IFERROR(IF(C29=\"\",\"\",C29+(2*D29)+IF(O29=Daten!M$13,6,0)+IF(S29=Daten!M$13,6,0)+IF(Q29=\"-\",0,Q29)+IF(U29=\"-\",0,U29)),\"\")","v":""},{"$f":"IF(OR(A29=\"\",AND(F$1=0,Daten!F$3=FALSE)),\"\",Daten!B$6)","v":""},{"$f":"IF(A29=\"\",\"\",IF(Daten!B$5=\"??\",\"\",Daten!B$5))","v":""},{"$f":"IF(A29=\"\",\"\",IF(Daten!B$3=FALSE,\"\",Daten!B$4))","v":""},{"$f":"IFERROR(IF(A29=\"\",\"\",G29+H29+IF(AND(G29>0,H29>0),5,0))-IF(Daten!H$21=TRUE,H29,0),\"\")","v":""},{"$f":"IFERROR(IF(A29=\"\",\"\",I29+IF(Daten!H$21=TRUE,H29,0)+IF(F29=\"\",0,F29)-IF(Daten!F$3=TRUE,Daten!F$10,0)),\"\")","v":""},{"$f":"IF(A29=\"\",\"\",Daten!D$14)","v":""},{"$f":"IF(A29=\"\",\"\",Daten!D$12)","v":""},{"$f":"IF(A29=\"\",\"\",Daten!D$13)","v":""},{"$f":"IF(A29=\"\",\"\",Daten!M$2)","v":""},{"$f":"IF(A29=\"\",\"\",IF(Daten!D$6=Daten!N$11,Daten!M$11,IF(Daten!D$6=Daten!N$13,Daten!M$13,IF(AND(Daten!$D$6=Daten!$M$10,Daten!$D$8=TRUE),Daten!$M$14,Daten!D$6))))","v":""},{"$f":"IF($A29=\"\",\"\",IF(OR(O29=\"Putzbord\",O29=\"Flexila PU\"),Daten!$D$15,IF(OR(O29=\"Stehbord\",O29=\"Stehbord HB\",O29=\"Flexila STB\",O29=\"Jalousiebord\"),Daten!$D$19,\"-\")))","v":""},{"$f":"IF($A29=\"\",\"\",IF(O29=\"Putzbord\",Daten!$D$16,IF(O29=\"Flexila PU\",_xlfn.NUMBERVALUE(MID(Daten!$D$17,1,2)),\"-\")))","v":""},{"$f":"IF($A29=\"\",\"\",IF(OR(O29=\"Putzbord\",O29=\"Flexila PU\"),Daten!$D$18,IF(OR(O29=\"Stehbord\",O29=\"Stehbord HB\",O29=\"Flexila STB\",O29=\"Jalousiebord\"),Daten!$D$21,\"-\")))","v":""},{"$f":"IF(A29=\"\",\"\",IF(Daten!D$6=Daten!N$11,Daten!M$11,IF(Daten!D$6=Daten!N$13,Daten!M$13,IF(AND(Daten!$D$6=Daten!$M$10,Daten!$D$8=TRUE),Daten!$M$14,Daten!D$6))))","v":""},{"$f":"IF($A29=\"\",\"\",IF(OR(S29=\"Putzbord\",S29=\"Flexila PU\"),Daten!$D$15,IF(OR(S29=\"Stehbord\",S29=\"Stehbord HB\",S29=\"Flexila STB\",S29=\"Jalousiebord\"),Daten!$D$19,\"-\")))","v":""},{"$f":"IF($A29=\"\",\"\",IF(S29=\"Putzbord\",Daten!$D$16,IF(S29=\"Flexila PU\",_xlfn.NUMBERVALUE(MID(Daten!$D$17,1,2)),\"-\")))","v":""},{"$f":"IF($A29=\"\",\"\",IF(OR(S29=\"Putzbord\",S29=\"Flexila PU\"),Daten!$D$18,IF(OR(S29=\"Stehbord\",S29=\"Stehbord HB\",S29=\"Flexila STB\",S29=\"Jalousiebord\"),Daten!$D$21,\"-\")))","v":""},{"$f":"IF(A29=\"\",\"\",IF(AND(Daten!D$6=\"Jalousiebord\",OR(O29=\"Stehbord\",S29=\"Stehbord\")),\"Jalousienklinkung\",\"\"))","v":""},{"$f":"IF(W29=\"\",\"\",Daten!D$20)","v":""},null,null,{"$f":"IF(A29=\"\",\"\",IF(Daten!F$1=\"A\",\"Ohne\",IF(OR(N29=\"Gerstenkorn roh\",N29=\"Riffelblech roh\"),\"XPS\",Daten!F$2)))","v":""},{"$f":"IF(A29=\"\",\"\",IF(AA29=\"Ohne\",\"A\",IF(AA29=\"XPS\",IF(Daten!F$1=\"D\",\"B\",Daten!F$1),Daten!F$1)))","v":""},{"$f":"IF(A29=\"\",\"\",IF(AB29=\"A\",\"-\",Daten!F$7))","v":""},{"$f":"IF(A29=\"\",\"\",IF(AB29=\"A\",\"-\",IF(AND(Daten!F$8=0,O29=\"Putzbord\"),5-Q29,0)))","v":""},{"$f":"IF(A29=\"\",\"\",IF(AB29=\"A\",\"-\",IF(AND(Daten!F$8=0,S29=\"Putzbord\"),5-U29,0)))","v":""},{"$f":"IF(A29=\"\",\"\",IF(AB29=\"A\",\"-\",Daten!F$10))","v":""},{"$f":"IFERROR(IF(A29=\"\",\"\",VLOOKUP(N29,Daten!N$1:O$7,2,FALSE)),\"\")","v":""}]
[null,null,null,{"$f":"IF(A30=\"\",\"\",IF(Daten!B$3=TRUE,Daten!B$7,\"\"))","v":""},{"$f":"IFERROR(IF(C30=\"\",\"\",C30+(2*D30)+IF(O30=Daten!M$13,6,0)+IF(S30=Daten!M$13,6,0)+IF(Q30=\"-\",0,Q30)+IF(U30=\"-\",0,U30)),\"\")","v":""},{"$f":"IF(OR(A30=\"\",AND(F$1=0,Daten!F$3=FALSE)),\"\",Daten!B$6)","v":""},{"$f":"IF(A30=\"\",\"\",IF(Daten!B$5=\"??\",\"\",Daten!B$5))","v":""},{"$f":"IF(A30=\"\",\"\",IF(Daten!B$3=FALSE,\"\",Daten!B$4))","v":""},{"$f":"IFERROR(IF(A30=\"\",\"\",G30+H30+IF(AND(G30>0,H30>0),5,0))-IF(Daten!H$21=TRUE,H30,0),\"\")","v":""},{"$f":"IFERROR(IF(A30=\"\",\"\",I30+IF(Daten!H$21=TRUE,H30,0)+IF(F30=\"\",0,F30)-IF(Daten!F$3=TRUE,Daten!F$10,0)),\"\")","v":""},{"$f":"IF(A30=\"\",\"\",Daten!D$14)","v":""},{"$f":"IF(A30=\"\",\"\",Daten!D$12)","v":""},{"$f":"IF(A30=\"\",\"\",Daten!D$13)","v":""},{"$f":"IF(A30=\"\",\"\",Daten!M$2)","v":""},{"$f":"IF(A30=\"\",\"\",IF(Daten!D$6=Daten!N$11,Daten!M$11,IF(Daten!D$6=Daten!N$13,Daten!M$13,IF(AND(Daten!$D$6=Daten!$M$10,Daten!$D$8=TRUE),Daten!$M$14,Daten!D$6))))","v":""},{"$f":"IF($A30=\"\",\"\",IF(OR(O30=\"Putzbord\",O30=\"Flexila PU\"),Daten!$D$15,IF(OR(O30=\"Stehbord\",O30=\"Stehbord HB\",O30=\"Flexila STB\",O30=\"Jalousiebord\"),Daten!$D$19,\"-\")))","v":""},{"$f":"IF($A30=\"\",\"\",IF(O30=\"Putzbord\",Daten!$D$16,IF(O30=\"Flexila PU\",_xlfn.NUMBERVALUE(MID(Daten!$D$17,1,2)),\"-\")))","v":""},{"$f":"IF($A30=\"\",\"\",IF(OR(O30=\"Putzbord\",O30=\"Flexila PU\"),Daten!$D$18,IF(OR(O30=\"Stehbord\",O30=\"Stehbord HB\",O30=\"Flexila STB\",O30=\"Jalousiebord\"),Daten!$D$21,\"-\")))","v":""},{"$f":"IF(A30=\"\",\"\",IF(Daten!D$6=Daten!N$11,Daten!M$11,IF(Daten!D$6=Daten!N$13,Daten!M$13,IF(AND(Daten!$D$6=Daten!$M$10,Daten!$D$8=TRUE),Daten!$M$14,Daten!D$6))))","v":""},{"$f":"IF($A30=\"\",\"\",IF(OR(S30=\"Putzbord\",S30=\"Flexila PU\"),Daten!$D$15,IF(OR(S30=\"Stehbord\",S30=\"Stehbord HB\",S30=\"Flexila STB\",S30=\"Jalousiebord\"),Daten!$D$19,\"-\")))","v":""},{"$f":"IF($A30=\"\",\"\",IF(S30=\"Putzbord\",Daten!$D$16,IF(S30=\"Flexila PU\",_xlfn.NUMBERVALUE(MID(Daten!$D$17,1,2)),\"-\")))","v":""},{"$f":"IF($A30=\"\",\"\",IF(OR(S30=\"Putzbord\",S30=\"Flexila PU\"),Daten!$D$18,IF(OR(S30=\"Stehbord\",S30=\"Stehbord HB\",S30=\"Flexila STB\",S30=\"Jalousiebord\"),Daten!$D$21,\"-\")))","v":""},{"$f":"IF(A30=\"\",\"\",IF(AND(Daten!D$6=\"Jalousiebord\",OR(O30=\"Stehbord\",S30=\"Stehbord\")),\"Jalousienklinkung\",\"\"))","v":""},{"$f":"IF(W30=\"\",\"\",Daten!D$20)","v":""},null,null,{"$f":"IF(A30=\"\",\"\",IF(Daten!F$1=\"A\",\"Ohne\",IF(OR(N30=\"Gerstenkorn roh\",N30=\"Riffelblech roh\"),\"XPS\",Daten!F$2)))","v":""},{"$f":"IF(A30=\"\",\"\",IF(AA30=\"Ohne\",\"A\",IF(AA30=\"XPS\",IF(Daten!F$1=\"D\",\"B\",Daten!F$1),Daten!F$1)))","v":""},{"$f":"IF(A30=\"\",\"\",IF(AB30=\"A\",\"-\",Daten!F$7))","v":""},{"$f":"IF(A30=\"\",\"\",IF(AB30=\"A\",\"-\",IF(AND(Daten!F$8=0,O30=\"Putzbord\"),5-Q30,0)))","v":""},{"$f":"IF(A30=\"\",\"\",IF(AB30=\"A\",\"-\",IF(AND(Daten!F$8=0,S30=\"Putzbord\"),5-U30,0)))","v":""},{"$f":"IF(A30=\"\",\"\",IF(AB30=\"A\",\"-\",Daten!F$10))","v":""},{"$f":"IFERROR(IF(A30=\"\",\"\",VLOOKUP(N30,Daten!N$1:O$7,2,FALSE)),\"\")","v":""}]
[null,null,null,{"$f":"IF(A31=\"\",\"\",IF(Daten!B$3=TRUE,Daten!B$7,\"\"))","v":""},{"$f":"IFERROR(IF(C31=\"\",\"\",C31+(2*D31)+IF(O31=Daten!M$13,6,0)+IF(S31=Daten!M$13,6,0)+IF(Q31=\"-\",0,Q31)+IF(U31=\"-\",0,U31)),\"\")","v":""},{"$f":"IF(OR(A31=\"\",AND(F$1=0,Daten!F$3=FALSE)),\"\",Daten!B$6)","v":""},{"$f":"IF(A31=\"\",\"\",IF(Daten!B$5=\"??\",\"\",Daten!B$5))","v":""},{"$f":"IF(A31=\"\",\"\",IF(Daten!B$3=FALSE,\"\",Daten!B$4))","v":""},{"$f":"IFERROR(IF(A31=\"\",\"\",G31+H31+IF(AND(G31>0,H31>0),5,0))-IF(Daten!H$21=TRUE,H31,0),\"\")","v":""},{"$f":"IFERROR(IF(A31=\"\",\"\",I31+IF(Daten!H$21=TRUE,H31,0)+IF(F31=\"\",0,F31)-IF(Daten!F$3=TRUE,Daten!F$10,0)),\"\")","v":""},{"$f":"IF(A31=\"\",\"\",Daten!D$14)","v":""},{"$f":"IF(A31=\"\",\"\",Daten!D$12)","v":""},{"$f":"IF(A31=\"\",\"\",Daten!D$13)","v":""},{"$f":"IF(A31=\"\",\"\",Daten!M$2)","v":""},{"$f":"IF(A31=\"\",\"\",IF(Daten!D$6=Daten!N$11,Daten!M$11,IF(Daten!D$6=Daten!N$13,Daten!M$13,IF(AND(Daten!$D$6=Daten!$M$10,Daten!$D$8=TRUE),Daten!$M$14,Daten!D$6))))","v":""},{"$f":"IF($A31=\"\",\"\",IF(OR(O31=\"Putzbord\",O31=\"Flexila PU\"),Daten!$D$15,IF(OR(O31=\"Stehbord\",O31=\"Stehbord HB\",O31=\"Flexila STB\",O31=\"Jalousiebord\"),Daten!$D$19,\"-\")))","v":""},{"$f":"IF($A31=\"\",\"\",IF(O31=\"Putzbord\",Daten!$D$16,IF(O31=\"Flexila PU\",_xlfn.NUMBERVALUE(MID(Daten!$D$17,1,2)),\"-\")))","v":""},{"$f":"IF($A31=\"\",\"\",IF(OR(O31=\"Putzbord\",O31=\"Flexila PU\"),Daten!$D$18,IF(OR(O31=\"Stehbord\",O31=\"Stehbord HB\",O31=\"Flexila STB\",O31=\"Jalousiebord\"),Daten!$D$21,\"-\")))","v":""},{"$f":"IF(A31=\"\",\"\",IF(Daten!D$6=Daten!N$11,Daten!M$11,IF(Daten!D$6=Daten!N$13,Daten!M$13,IF(AND(Daten!$D$6=Daten!$M$10,Daten!$D$8=TRUE),Daten!$M$14,Daten!D$6))))","v":""},{"$f":"IF($A31=\"\",\"\",IF(OR(S31=\"Putzbord\",S31=\"Flexila PU\"),Daten!$D$15,IF(OR(S31=\"Stehbord\",S31=\"Stehbord HB\",S31=\"Flexila STB\",S31=\"Jalousiebord\"),Daten!$D$19,\"-\")))","v":""},{"$f":"IF($A31=\"\",\"\",IF(S31=\"Putzbord\",Daten!$D$16,IF(S31=\"Flexila PU\",_xlfn.NUMBERVALUE(MID(Daten!$D$17,1,2)),\"-\")))","v":""},{"$f":"IF($A31=\"\",\"\",IF(OR(S31=\"Putzbord\",S31=\"Flexila PU\"),Daten!$D$18,IF(OR(S31=\"Stehbord\",S31=\"Stehbord HB\",S31=\"Flexila STB\",S31=\"Jalousiebord\"),Daten!$D$21,\"-\")))","v":""},{"$f":"IF(A31=\"\",\"\",IF(AND(Daten!D$6=\"Jalousiebord\",OR(O31=\"Stehbord\",S31=\"Stehbord\")),\"Jalousienklinkung\",\"\"))","v":""},{"$f":"IF(W31=\"\",\"\",Daten!D$20)","v":""},null,null,{"$f":"IF(A31=\"\",\"\",IF(Daten!F$1=\"A\",\"Ohne\",IF(OR(N31=\"Gerstenkorn roh\",N31=\"Riffelblech roh\"),\"XPS\",Daten!F$2)))","v":""},{"$f":"IF(A31=\"\",\"\",IF(AA31=\"Ohne\",\"A\",IF(AA31=\"XPS\",IF(Daten!F$1=\"D\",\"B\",Daten!F$1),Daten!F$1)))","v":""},{"$f":"IF(A31=\"\",\"\",IF(AB31=\"A\",\"-\",Daten!F$7))","v":""},{"$f":"IF(A31=\"\",\"\",IF(AB31=\"A\",\"-\",IF(AND(Daten!F$8=0,O31=\"Putzbord\"),5-Q31,0)))","v":""},{"$f":"IF(A31=\"\",\"\",IF(AB31=\"A\",\"-\",IF(AND(Daten!F$8=0,S31=\"Putzbord\"),5-U31,0)))","v":""},{"$f":"IF(A31=\"\",\"\",IF(AB31=\"A\",\"-\",Daten!F$10))","v":""},{"$f":"IFERROR(IF(A31=\"\",\"\",VLOOKUP(N31,Daten!N$1:O$7,2,FALSE)),\"\")","v":""}]
[null,null,null,{"$f":"IF(A32=\"\",\"\",IF(Daten!B$3=TRUE,Daten!B$7,\"\"))","v":""},{"$f":"IFERROR(IF(C32=\"\",\"\",C32+(2*D32)+IF(O32=Daten!M$13,6,0)+IF(S32=Daten!M$13,6,0)+IF(Q32=\"-\",0,Q32)+IF(U32=\"-\",0,U32)),\"\")","v":""},{"$f":"IF(OR(A32=\"\",AND(F$1=0,Daten!F$3=FALSE)),\"\",Daten!B$6)","v":""},{"$f":"IF(A32=\"\",\"\",IF(Daten!B$5=\"??\",\"\",Daten!B$5))","v":""},{"$f":"IF(A32=\"\",\"\",IF(Daten!B$3=FALSE,\"\",Daten!B$4))","v":""},{"$f":"IFERROR(IF(A32=\"\",\"\",G32+H32+IF(AND(G32>0,H32>0),5,0))-IF(Daten!H$21=TRUE,H32,0),\"\")","v":""},{"$f":"IFERROR(IF(A32=\"\",\"\",I32+IF(Daten!H$21=TRUE,H32,0)+IF(F32=\"\",0,F32)-IF(Daten!F$3=TRUE,Daten!F$10,0)),\"\")","v":""},{"$f":"IF(A32=\"\",\"\",Daten!D$14)","v":""},{"$f":"IF(A32=\"\",\"\",Daten!D$12)","v":""},{"$f":"IF(A32=\"\",\"\",Daten!D$13)","v":""},{"$f":"IF(A32=\"\",\"\",Daten!M$2)","v":""},{"$f":"IF(A32=\"\",\"\",IF(Daten!D$6=Daten!N$11,Daten!M$11,IF(Daten!D$6=Daten!N$13,Daten!M$13,IF(AND(Daten!$D$6=Daten!$M$10,Daten!$D$8=TRUE),Daten!$M$14,Daten!D$6))))","v":""},{"$f":"IF($A32=\"\",\"\",IF(OR(O32=\"Putzbord\",O32=\"Flexila PU\"),Daten!$D$15,IF(OR(O32=\"Stehbord\",O32=\"Stehbord HB\",O32=\"Flexila STB\",O32=\"Jalousiebord\"),Daten!$D$19,\"-\")))","v":""},{"$f":"IF($A32=\"\",\"\",IF(O32=\"Putzbord\",Daten!$D$16,IF(O32=\"Flexila PU\",_xlfn.NUMBERVALUE(MID(Daten!$D$17,1,2)),\"-\")))","v":""},{"$f":"IF($A32=\"\",\"\",IF(OR(O32=\"Putzbord\",O32=\"Flexila PU\"),Daten!$D$18,IF(OR(O32=\"Stehbord\",O32=\"Stehbord HB\",O32=\"Flexila STB\",O32=\"Jalousiebord\"),Daten!$D$21,\"-\")))","v":""},{"$f":"IF(A32=\"\",\"\",IF(Daten!D$6=Daten!N$11,Daten!M$11,IF(Daten!D$6=Daten!N$13,Daten!M$13,IF(AND(Daten!$D$6=Daten!$M$10,Daten!$D$8=TRUE),Daten!$M$14,Daten!D$6))))","v":""},{"$f":"IF($A32=\"\",\"\",IF(OR(S32=\"Putzbord\",S32=\"Flexila PU\"),Daten!$D$15,IF(OR(S32=\"Stehbord\",S32=\"Stehbord HB\",S32=\"Flexila STB\",S32=\"Jalousiebord\"),Daten!$D$19,\"-\")))","v":""},{"$f":"IF($A32=\"\",\"\",IF(S32=\"Putzbord\",Daten!$D$16,IF(S32=\"Flexila PU\",_xlfn.NUMBERVALUE(MID(Daten!$D$17,1,2)),\"-\")))","v":""},{"$f":"IF($A32=\"\",\"\",IF(OR(S32=\"Putzbord\",S32=\"Flexila PU\"),Daten!$D$18,IF(OR(S32=\"Stehbord\",S32=\"Stehbord HB\",S32=\"Flexila STB\",S32=\"Jalousiebord\"),Daten!$D$21,\"-\")))","v":""},{"$f":"IF(A32=\"\",\"\",IF(AND(Daten!D$6=\"Jalousiebord\",OR(O32=\"Stehbord\",S32=\"Stehbord\")),\"Jalousienklinkung\",\"\"))","v":""},{"$f":"IF(W32=\"\",\"\",Daten!D$20)","v":""},null,null,{"$f":"IF(A32=\"\",\"\",IF(Daten!F$1=\"A\",\"Ohne\",IF(OR(N32=\"Gerstenkorn roh\",N32=\"Riffelblech roh\"),\"XPS\",Daten!F$2)))","v":""},{"$f":"IF(A32=\"\",\"\",IF(AA32=\"Ohne\",\"A\",IF(AA32=\"XPS\",IF(Daten!F$1=\"D\",\"B\",Daten!F$1),Daten!F$1)))","v":""},{"$f":"IF(A32=\"\",\"\",IF(AB32=\"A\",\"-\",Daten!F$7))","v":""},{"$f":"IF(A32=\"\",\"\",IF(AB32=\"A\",\"-\",IF(AND(Daten!F$8=0,O32=\"Putzbord\"),5-Q32,0)))","v":""},{"$f":"IF(A32=\"\",\"\",IF(AB32=\"A\",\"-\",IF(AND(Daten!F$8=0,S32=\"Putzbord\"),5-U32,0)))","v":""},{"$f":"IF(A32=\"\",\"\",IF(AB32=\"A\",\"-\",Daten!F$10))","v":""},{"$f":"IFERROR(IF(A32=\"\",\"\",VLOOKUP(N32,Daten!N$1:O$7,2,FALSE)),\"\")","v":""}]
[null,null,null,{"$f":"IF(A33=\"\",\"\",IF(Daten!B$3=TRUE,Daten!B$7,\"\"))","v":""},{"$f":"IFERROR(IF(C33=\"\",\"\",C33+(2*D33)+IF(O33=Daten!M$13,6,0)+IF(S33=Daten!M$13,6,0)+IF(Q33=\"-\",0,Q33)+IF(U33=\"-\",0,U33)),\"\")","v":""},{"$f":"IF(OR(A33=\"\",AND(F$1=0,Daten!F$3=FALSE)),\"\",Daten!B$6)","v":""},{"$f":"IF(A33=\"\",\"\",IF(Daten!B$5=\"??\",\"\",Daten!B$5))","v":""},{"$f":"IF(A33=\"\",\"\",IF(Daten!B$3=FALSE,\"\",Daten!B$4))","v":""},{"$f":"IFERROR(IF(A33=\"\",\"\",G33+H33+IF(AND(G33>0,H33>0),5,0))-IF(Daten!H$21=TRUE,H33,0),\"\")","v":""},{"$f":"IFERROR(IF(A33=\"\",\"\",I33+IF(Daten!H$21=TRUE,H33,0)+IF(F33=\"\",0,F33)-IF(Daten!F$3=TRUE,Daten!F$10,0)),\"\")","v":""},{"$f":"IF(A33=\"\",\"\",Daten!D$14)","v":""},{"$f":"IF(A33=\"\",\"\",Daten!D$12)","v":""},{"$f":"IF(A33=\"\",\"\",Daten!D$13)","v":""},{"$f":"IF(A33=\"\",\"\",Daten!M$2)","v":""},{"$f":"IF(A33=\"\",\"\",IF(Daten!D$6=Daten!N$11,Daten!M$11,IF(Daten!D$6=Daten!N$13,Daten!M$13,IF(AND(Daten!$D$6=Daten!$M$10,Daten!$D$8=TRUE),Daten!$M$14,Daten!D$6))))","v":""},{"$f":"IF($A33=\"\",\"\",IF(OR(O33=\"Putzbord\",O33=\"Flexila PU\"),Daten!$D$15,IF(OR(O33=\"Stehbord\",O33=\"Stehbord HB\",O33=\"Flexila STB\",O33=\"Jalousiebord\"),Daten!$D$19,\"-\")))","v":""},{"$f":"IF($A33=\"\",\"\",IF(O33=\"Putzbord\",Daten!$D$16,IF(O33=\"Flexila PU\",_xlfn.NUMBERVALUE(MID(Daten!$D$17,1,2)),\"-\")))","v":""},{"$f":"IF($A33=\"\",\"\",IF(OR(O33=\"Putzbord\",O33=\"Flexila PU\"),Daten!$D$18,IF(OR(O33=\"Stehbord\",O33=\"Stehbord HB\",O33=\"Flexila STB\",O33=\"Jalousiebord\"),Daten!$D$21,\"-\")))","v":""},{"$f":"IF(A33=\"\",\"\",IF(Daten!D$6=Daten!N$11,Daten!M$11,IF(Daten!D$6=Daten!N$13,Daten!M$13,IF(AND(Daten!$D$6=Daten!$M$10,Daten!$D$8=TRUE),Daten!$M$14,Daten!D$6))))","v":""},{"$f":"IF($A33=\"\",\"\",IF(OR(S33=\"Putzbord\",S33=\"Flexila PU\"),Daten!$D$15,IF(OR(S33=\"Stehbord\",S33=\"Stehbord HB\",S33=\"Flexila STB\",S33=\"Jalousiebord\"),Daten!$D$19,\"-\")))","v":""},{"$f":"IF($A33=\"\",\"\",IF(S33=\"Putzbord\",Daten!$D$16,IF(S33=\"Flexila PU\",_xlfn.NUMBERVALUE(MID(Daten!$D$17,1,2)),\"-\")))","v":""},{"$f":"IF($A33=\"\",\"\",IF(OR(S33=\"Putzbord\",S33=\"Flexila PU\"),Daten!$D$18,IF(OR(S33=\"Stehbord\",S33=\"Stehbord HB\",S33=\"Flexila STB\",S33=\"Jalousiebord\"),Daten!$D$21,\"-\")))","v":""},{"$f":"IF(A33=\"\",\"\",IF(AND(Daten!D$6=\"Jalousiebord\",OR(O33=\"Stehbord\",S33=\"Stehbord\")),\"Jalousienklinkung\",\"\"))","v":""},{"$f":"IF(W33=\"\",\"\",Daten!D$20)","v":""},null,null,{"$f":"IF(A33=\"\",\"\",IF(Daten!F$1=\"A\",\"Ohne\",IF(OR(N33=\"Gerstenkorn roh\",N33=\"Riffelblech roh\"),\"XPS\",Daten!F$2)))","v":""},{"$f":"IF(A33=\"\",\"\",IF(AA33=\"Ohne\",\"A\",IF(AA33=\"XPS\",IF(Daten!F$1=\"D\",\"B\",Daten!F$1),Daten!F$1)))","v":""},{"$f":"IF(A33=\"\",\"\",IF(AB33=\"A\",\"-\",Daten!F$7))","v":""},{"$f":"IF(A33=\"\",\"\",IF(AB33=\"A\",\"-\",IF(AND(Daten!F$8=0,O33=\"Putzbord\"),5-Q33,0)))","v":""},{"$f":"IF(A33=\"\",\"\",IF(AB33=\"A\",\"-\",IF(AND(Daten!F$8=0,S33=\"Putzbord\"),5-U33,0)))","v":""},{"$f":"IF(A33=\"\",\"\",IF(AB33=\"A\",\"-\",Daten!F$10))","v":""},{"$f":"IFERROR(IF(A33=\"\",\"\",VLOOKUP(N33,Daten!N$1:O$7,2,FALSE)),\"\")","v":""}]
[null,null,null,{"$f":"IF(A34=\"\",\"\",IF(Daten!B$3=TRUE,Daten!B$7,\"\"))","v":""},{"$f":"IFERROR(IF(C34=\"\",\"\",C34+(2*D34)+IF(O34=Daten!M$13,6,0)+IF(S34=Daten!M$13,6,0)+IF(Q34=\"-\",0,Q34)+IF(U34=\"-\",0,U34)),\"\")","v":""},{"$f":"IF(OR(A34=\"\",AND(F$1=0,Daten!F$3=FALSE)),\"\",Daten!B$6)","v":""},{"$f":"IF(A34=\"\",\"\",IF(Daten!B$5=\"??\",\"\",Daten!B$5))","v":""},{"$f":"IF(A34=\"\",\"\",IF(Daten!B$3=FALSE,\"\",Daten!B$4))","v":""},{"$f":"IFERROR(IF(A34=\"\",\"\",G34+H34+IF(AND(G34>0,H34>0),5,0))-IF(Daten!H$21=TRUE,H34,0),\"\")","v":""},{"$f":"IFERROR(IF(A34=\"\",\"\",I34+IF(Daten!H$21=TRUE,H34,0)+IF(F34=\"\",0,F34)-IF(Daten!F$3=TRUE,Daten!F$10,0)),\"\")","v":""},{"$f":"IF(A34=\"\",\"\",Daten!D$14)","v":""},{"$f":"IF(A34=\"\",\"\",Daten!D$12)","v":""},{"$f":"IF(A34=\"\",\"\",Daten!D$13)","v":""},{"$f":"IF(A34=\"\",\"\",Daten!M$2)","v":""},{"$f":"IF(A34=\"\",\"\",IF(Daten!D$6=Daten!N$11,Daten!M$11,IF(Daten!D$6=Daten!N$13,Daten!M$13,IF(AND(Daten!$D$6=Daten!$M$10,Daten!$D$8=TRUE),Daten!$M$14,Daten!D$6))))","v":""},{"$f":"IF($A34=\"\",\"\",IF(OR(O34=\"Putzbord\",O34=\"Flexila PU\"),Daten!$D$15,IF(OR(O34=\"Stehbord\",O34=\"Stehbord HB\",O34=\"Flexila STB\",O34=\"Jalousiebord\"),Daten!$D$19,\"-\")))","v":""},{"$f":"IF($A34=\"\",\"\",IF(O34=\"Putzbord\",Daten!$D$16,IF(O34=\"Flexila PU\",_xlfn.NUMBERVALUE(MID(Daten!$D$17,1,2)),\"-\")))","v":""},{"$f":"IF($A34=\"\",\"\",IF(OR(O34=\"Putzbord\",O34=\"Flexila PU\"),Daten!$D$18,IF(OR(O34=\"Stehbord\",O34=\"Stehbord HB\",O34=\"Flexila STB\",O34=\"Jalousiebord\"),Daten!$D$21,\"-\")))","v":""},{"$f":"IF(A34=\"\",\"\",IF(Daten!D$6=Daten!N$11,Daten!M$11,IF(Daten!D$6=Daten!N$13,Daten!M$13,IF(AND(Daten!$D$6=Daten!$M$10,Daten!$D$8=TRUE),Daten!$M$14,Daten!D$6))))","v":""},{"$f":"IF($A34=\"\",\"\",IF(OR(S34=\"Putzbord\",S34=\"Flexila PU\"),Daten!$D$15,IF(OR(S34=\"Stehbord\",S34=\"Stehbord HB\",S34=\"Flexila STB\",S34=\"Jalousiebord\"),Daten!$D$19,\"-\")))","v":""},{"$f":"IF($A34=\"\",\"\",IF(S34=\"Putzbord\",Daten!$D$16,IF(S34=\"Flexila PU\",_xlfn.NUMBERVALUE(MID(Daten!$D$17,1,2)),\"-\")))","v":""},{"$f":"IF($A34=\"\",\"\",IF(OR(S34=\"Putzbord\",S34=\"Flexila PU\"),Daten!$D$18,IF(OR(S34=\"Stehbord\",S34=\"Stehbord HB\",S34=\"Flexila STB\",S34=\"Jalousiebord\"),Daten!$D$21,\"-\")))","v":""},{"$f":"IF(A34=\"\",\"\",IF(AND(Daten!D$6=\"Jalousiebord\",OR(O34=\"Stehbord\",S34=\"Stehbord\")),\"Jalousienklinkung\",\"\"))","v":""},{"$f":"IF(W34=\"\",\"\",Daten!D$20)","v":""},null,null,{"$f":"IF(A34=\"\",\"\",IF(Daten!F$1=\"A\",\"Ohne\",IF(OR(N34=\"Gerstenkorn roh\",N34=\"Riffelblech roh\"),\"XPS\",Daten!F$2)))","v":""},{"$f":"IF(A34=\"\",\"\",IF(AA34=\"Ohne\",\"A\",IF(AA34=\"XPS\",IF(Daten!F$1=\"D\",\"B\",Daten!F$1),Daten!F$1)))","v":""},{"$f":"IF(A34=\"\",\"\",IF(AB34=\"A\",\"-\",Daten!F$7))","v":""},{"$f":"IF(A34=\"\",\"\",IF(AB34=\"A\",\"-\",IF(AND(Daten!F$8=0,O34=\"Putzbord\"),5-Q34,0)))","v":""},{"$f":"IF(A34=\"\",\"\",IF(AB34=\"A\",\"-\",IF(AND(Daten!F$8=0,S34=\"Putzbord\"),5-U34,0)))","v":""},{"$f":"IF(A34=\"\",\"\",IF(AB34=\"A\",\"-\",Daten!F$10))","v":""},{"$f":"IFERROR(IF(A34=\"\",\"\",VLOOKUP(N34,Daten!N$1:O$7,2,FALSE)),\"\")","v":""}]
[null,null,null,{"$f":"IF(A35=\"\",\"\",IF(Daten!B$3=TRUE,Daten!B$7,\"\"))","v":""},{"$f":"IFERROR(IF(C35=\"\",\"\",C35+(2*D35)+IF(O35=Daten!M$13,6,0)+IF(S35=Daten!M$13,6,0)+IF(Q35=\"-\",0,Q35)+IF(U35=\"-\",0,U35)),\"\")","v":""},{"$f":"IF(OR(A35=\"\",AND(F$1=0,Daten!F$3=FALSE)),\"\",Daten!B$6)","v":""},{"$f":"IF(A35=\"\",\"\",IF(Daten!B$5=\"??\",\"\",Daten!B$5))","v":""},{"$f":"IF(A35=\"\",\"\",IF(Daten!B$3=FALSE,\"\",Daten!B$4))","v":""},{"$f":"IFERROR(IF(A35=\"\",\"\",G35+H35+IF(AND(G35>0,H35>0),5,0))-IF(Daten!H$21=TRUE,H35,0),\"\")","v":""},{"$f":"IFERROR(IF(A35=\"\",\"\",I35+IF(Daten!H$21=TRUE,H35,0)+IF(F35=\"\",0,F35)-IF(Daten!F$3=TRUE,Daten!F$10,0)),\"\")","v":""},{"$f":"IF(A35=\"\",\"\",Daten!D$14)","v":""},{"$f":"IF(A35=\"\",\"\",Daten!D$12)","v":""},{"$f":"IF(A35=\"\",\"\",Daten!D$13)","v":""},{"$f":"IF(A35=\"\",\"\",Daten!M$2)","v":""},{"$f":"IF(A35=\"\",\"\",IF(Daten!D$6=Daten!N$11,Daten!M$11,IF(Daten!D$6=Daten!N$13,Daten!M$13,IF(AND(Daten!$D$6=Daten!$M$10,Daten!$D$8=TRUE),Daten!$M$14,Daten!D$6))))","v":""},{"$f":"IF($A35=\"\",\"\",IF(OR(O35=\"Putzbord\",O35=\"Flexila PU\"),Daten!$D$15,IF(OR(O35=\"Stehbord\",O35=\"Stehbord HB\",O35=\"Flexila STB\",O35=\"Jalousiebord\"),Daten!$D$19,\"-\")))","v":""},{"$f":"IF($A35=\"\",\"\",IF(O35=\"Putzbord\",Daten!$D$16,IF(O35=\"Flexila PU\",_xlfn.NUMBERVALUE(MID(Daten!$D$17,1,2)),\"-\")))","v":""},{"$f":"IF($A35=\"\",\"\",IF(OR(O35=\"Putzbord\",O35=\"Flexila PU\"),Daten!$D$18,IF(OR(O35=\"Stehbord\",O35=\"Stehbord HB\",O35=\"Flexila STB\",O35=\"Jalousiebord\"),Daten!$D$21,\"-\")))","v":""},{"$f":"IF(A35=\"\",\"\",IF(Daten!D$6=Daten!N$11,Daten!M$11,IF(Daten!D$6=Daten!N$13,Daten!M$13,IF(AND(Daten!$D$6=Daten!$M$10,Daten!$D$8=TRUE),Daten!$M$14,Daten!D$6))))","v":""},{"$f":"IF($A35=\"\",\"\",IF(OR(S35=\"Putzbord\",S35=\"Flexila PU\"),Daten!$D$15,IF(OR(S35=\"Stehbord\",S35=\"Stehbord HB\",S35=\"Flexila STB\",S35=\"Jalousiebord\"),Daten!$D$19,\"-\")))","v":""},{"$f":"IF($A35=\"\",\"\",IF(S35=\"Putzbord\",Daten!$D$16,IF(S35=\"Flexila PU\",_xlfn.NUMBERVALUE(MID(Daten!$D$17,1,2)),\"-\")))","v":""},{"$f":"IF($A35=\"\",\"\",IF(OR(S35=\"Putzbord\",S35=\"Flexila PU\"),Daten!$D$18,IF(OR(S35=\"Stehbord\",S35=\"Stehbord HB\",S35=\"Flexila STB\",S35=\"Jalousiebord\"),Daten!$D$21,\"-\")))","v":""},{"$f":"IF(A35=\"\",\"\",IF(AND(Daten!D$6=\"Jalousiebord\",OR(O35=\"Stehbord\",S35=\"Stehbord\")),\"Jalousienklinkung\",\"\"))","v":""},{"$f":"IF(W35=\"\",\"\",Daten!D$20)","v":""},null,null,{"$f":"IF(A35=\"\",\"\",IF(Daten!F$1=\"A\",\"Ohne\",IF(OR(N35=\"Gerstenkorn roh\",N35=\"Riffelblech roh\"),\"XPS\",Daten!F$2)))","v":""},{"$f":"IF(A35=\"\",\"\",IF(AA35=\"Ohne\",\"A\",IF(AA35=\"XPS\",IF(Daten!F$1=\"D\",\"B\",Daten!F$1),Daten!F$1)))","v":""},{"$f":"IF(A35=\"\",\"\",IF(AB35=\"A\",\"-\",Daten!F$7))","v":""},{"$f":"IF(A35=\"\",\"\",IF(AB35=\"A\",\"-\",IF(AND(Daten!F$8=0,O35=\"Putzbord\"),5-Q35,0)))","v":""},{"$f":"IF(A35=\"\",\"\",IF(AB35=\"A\",\"-\",IF(AND(Daten!F$8=0,S35=\"Putzbord\"),5-U35,0)))","v":""},{"$f":"IF(A35=\"\",\"\",IF(AB35=\"A\",\"-\",Daten!F$10))","v":""},{"$f":"IFERROR(IF(A35=\"\",\"\",VLOOKUP(N35,Daten!N$1:O$7,2,FALSE)),\"\")","v":""}]
[null,null,null,{"$f":"IF(A36=\"\",\"\",IF(Daten!B$3=TRUE,Daten!B$7,\"\"))","v":""},{"$f":"IFERROR(IF(C36=\"\",\"\",C36+(2*D36)+IF(O36=Daten!M$13,6,0)+IF(S36=Daten!M$13,6,0)+IF(Q36=\"-\",0,Q36)+IF(U36=\"-\",0,U36)),\"\")","v":""},{"$f":"IF(OR(A36=\"\",AND(F$1=0,Daten!F$3=FALSE)),\"\",Daten!B$6)","v":""},{"$f":"IF(A36=\"\",\"\",IF(Daten!B$5=\"??\",\"\",Daten!B$5))","v":""},{"$f":"IF(A36=\"\",\"\",IF(Daten!B$3=FALSE,\"\",Daten!B$4))","v":""},{"$f":"IFERROR(IF(A36=\"\",\"\",G36+H36+IF(AND(G36>0,H36>0),5,0))-IF(Daten!H$21=TRUE,H36,0),\"\")","v":""},{"$f":"IFERROR(IF(A36=\"\",\"\",I36+IF(Daten!H$21=TRUE,H36,0)+IF(F36=\"\",0,F36)-IF(Daten!F$3=TRUE,Daten!F$10,0)),\"\")","v":""},{"$f":"IF(A36=\"\",\"\",Daten!D$14)","v":""},{"$f":"IF(A36=\"\",\"\",Daten!D$12)","v":""},{"$f":"IF(A36=\"\",\"\",Daten!D$13)","v":""},{"$f":"IF(A36=\"\",\"\",Daten!M$2)","v":""},{"$f":"IF(A36=\"\",\"\",IF(Daten!D$6=Daten!N$11,Daten!M$11,IF(Daten!D$6=Daten!N$13,Daten!M$13,IF(AND(Daten!$D$6=Daten!$M$10,Daten!$D$8=TRUE),Daten!$M$14,Daten!D$6))))","v":""},{"$f":"IF($A36=\"\",\"\",IF(OR(O36=\"Putzbord\",O36=\"Flexila PU\"),Daten!$D$15,IF(OR(O36=\"Stehbord\",O36=\"Stehbord HB\",O36=\"Flexila STB\",O36=\"Jalousiebord\"),Daten!$D$19,\"-\")))","v":""},{"$f":"IF($A36=\"\",\"\",IF(O36=\"Putzbord\",Daten!$D$16,IF(O36=\"Flexila PU\",_xlfn.NUMBERVALUE(MID(Daten!$D$17,1,2)),\"-\")))","v":""},{"$f":"IF($A36=\"\",\"\",IF(OR(O36=\"Putzbord\",O36=\"Flexila PU\"),Daten!$D$18,IF(OR(O36=\"Stehbord\",O36=\"Stehbord HB\",O36=\"Flexila STB\",O36=\"Jalousiebord\"),Daten!$D$21,\"-\")))","v":""},{"$f":"IF(A36=\"\",\"\",IF(Daten!D$6=Daten!N$11,Daten!M$11,IF(Daten!D$6=Daten!N$13,Daten!M$13,IF(AND(Daten!$D$6=Daten!$M$10,Daten!$D$8=TRUE),Daten!$M$14,Daten!D$6))))","v":""},{"$f":"IF($A36=\"\",\"\",IF(OR(S36=\"Putzbord\",S36=\"Flexila PU\"),Daten!$D$15,IF(OR(S36=\"Stehbord\",S36=\"Stehbord HB\",S36=\"Flexila STB\",S36=\"Jalousiebord\"),Daten!$D$19,\"-\")))","v":""},{"$f":"IF($A36=\"\",\"\",IF(S36=\"Putzbord\",Daten!$D$16,IF(S36=\"Flexila PU\",_xlfn.NUMBERVALUE(MID(Daten!$D$17,1,2)),\"-\")))","v":""},{"$f":"IF($A36=\"\",\"\",IF(OR(S36=\"Putzbord\",S36=\"Flexila PU\"),Daten!$D$18,IF(OR(S36=\"Stehbord\",S36=\"Stehbord HB\",S36=\"Flexila STB\",S36=\"Jalousiebord\"),Daten!$D$21,\"-\")))","v":""},{"$f":"IF(A36=\"\",\"\",IF(AND(Daten!D$6=\"Jalousiebord\",OR(O36=\"Stehbord\",S36=\"Stehbord\")),\"Jalousienklinkung\",\"\"))","v":""},{"$f":"IF(W36=\"\",\"\",Daten!D$20)","v":""},null,null,{"$f":"IF(A36=\"\",\"\",IF(Daten!F$1=\"A\",\"Ohne\",IF(OR(N36=\"Gerstenkorn roh\",N36=\"Riffelblech roh\"),\"XPS\",Daten!F$2)))","v":""},{"$f":"IF(A36=\"\",\"\",IF(AA36=\"Ohne\",\"A\",IF(AA36=\"XPS\",IF(Daten!F$1=\"D\",\"B\",Daten!F$1),Daten!F$1)))","v":""},{"$f":"IF(A36=\"\",\"\",IF(AB36=\"A\",\"-\",Daten!F$7))","v":""},{"$f":"IF(A36=\"\",\"\",IF(AB36=\"A\",\"-\",IF(AND(Daten!F$8=0,O36=\"Putzbord\"),5-Q36,0)))","v":""},{"$f":"IF(A36=\"\",\"\",IF(AB36=\"A\",\"-\",IF(AND(Daten!F$8=0,S36=\"Putzbord\"),5-U36,0)))","v":""},{"$f":"IF(A36=\"\",\"\",IF(AB36=\"A\",\"-\",Daten!F$10))","v":""},{"$f":"IFERROR(IF(A36=\"\",\"\",VLOOKUP(N36,Daten!N$1:O$7,2,FALSE)),\"\")","v":""}]
[null,null,null,{"$f":"IF(A37=\"\",\"\",IF(Daten!B$3=TRUE,Daten!B$7,\"\"))","v":""},{"$f":"IFERROR(IF(C37=\"\",\"\",C37+(2*D37)+IF(O37=Daten!M$13,6,0)+IF(S37=Daten!M$13,6,0)+IF(Q37=\"-\",0,Q37)+IF(U37=\"-\",0,U37)),\"\")","v":""},{"$f":"IF(OR(A37=\"\",AND(F$1=0,Daten!F$3=FALSE)),\"\",Daten!B$6)","v":""},{"$f":"IF(A37=\"\",\"\",IF(Daten!B$5=\"??\",\"\",Daten!B$5))","v":""},{"$f":"IF(A37=\"\",\"\",IF(Daten!B$3=FALSE,\"\",Daten!B$4))","v":""},{"$f":"IFERROR(IF(A37=\"\",\"\",G37+H37+IF(AND(G37>0,H37>0),5,0))-IF(Daten!H$21=TRUE,H37,0),\"\")","v":""},{"$f":"IFERROR(IF(A37=\"\",\"\",I37+IF(Daten!H$21=TRUE,H37,0)+IF(F37=\"\",0,F37)-IF(Daten!F$3=TRUE,Daten!F$10,0)),\"\")","v":""},{"$f":"IF(A37=\"\",\"\",Daten!D$14)","v":""},{"$f":"IF(A37=\"\",\"\",Daten!D$12)","v":""},{"$f":"IF(A37=\"\",\"\",Daten!D$13)","v":""},{"$f":"IF(A37=\"\",\"\",Daten!M$2)","v":""},{"$f":"IF(A37=\"\",\"\",IF(Daten!D$6=Daten!N$11,Daten!M$11,IF(Daten!D$6=Daten!N$13,Daten!M$13,IF(AND(Daten!$D$6=Daten!$M$10,Daten!$D$8=TRUE),Daten!$M$14,Daten!D$6))))","v":""},{"$f":"IF($A37=\"\",\"\",IF(OR(O37=\"Putzbord\",O37=\"Flexila PU\"),Daten!$D$15,IF(OR(O37=\"Stehbord\",O37=\"Stehbord HB\",O37=\"Flexila STB\",O37=\"Jalousiebord\"),Daten!$D$19,\"-\")))","v":""},{"$f":"IF($A37=\"\",\"\",IF(O37=\"Putzbord\",Daten!$D$16,IF(O37=\"Flexila PU\",_xlfn.NUMBERVALUE(MID(Daten!$D$17,1,2)),\"-\")))","v":""},{"$f":"IF($A37=\"\",\"\",IF(OR(O37=\"Putzbord\",O37=\"Flexila PU\"),Daten!$D$18,IF(OR(O37=\"Stehbord\",O37=\"Stehbord HB\",O37=\"Flexila STB\",O37=\"Jalousiebord\"),Daten!$D$21,\"-\")))","v":""},{"$f":"IF(A37=\"\",\"\",IF(Daten!D$6=Daten!N$11,Daten!M$11,IF(Daten!D$6=Daten!N$13,Daten!M$13,IF(AND(Daten!$D$6=Daten!$M$10,Daten!$D$8=TRUE),Daten!$M$14,Daten!D$6))))","v":""},{"$f":"IF($A37=\"\",\"\",IF(OR(S37=\"Putzbord\",S37=\"Flexila PU\"),Daten!$D$15,IF(OR(S37=\"Stehbord\",S37=\"Stehbord HB\",S37=\"Flexila STB\",S37=\"Jalousiebord\"),Daten!$D$19,\"-\")))","v":""},{"$f":"IF($A37=\"\",\"\",IF(S37=\"Putzbord\",Daten!$D$16,IF(S37=\"Flexila PU\",_xlfn.NUMBERVALUE(MID(Daten!$D$17,1,2)),\"-\")))","v":""},{"$f":"IF($A37=\"\",\"\",IF(OR(S37=\"Putzbord\",S37=\"Flexila PU\"),Daten!$D$18,IF(OR(S37=\"Stehbord\",S37=\"Stehbord HB\",S37=\"Flexila STB\",S37=\"Jalousiebord\"),Daten!$D$21,\"-\")))","v":""},{"$f":"IF(A37=\"\",\"\",IF(AND(Daten!D$6=\"Jalousiebord\",OR(O37=\"Stehbord\",S37=\"Stehbord\")),\"Jalousienklinkung\",\"\"))","v":""},{"$f":"IF(W37=\"\",\"\",Daten!D$20)","v":""},null,null,{"$f":"IF(A37=\"\",\"\",IF(Daten!F$1=\"A\",\"Ohne\",IF(OR(N37=\"Gerstenkorn roh\",N37=\"Riffelblech roh\"),\"XPS\",Daten!F$2)))","v":""},{"$f":"IF(A37=\"\",\"\",IF(AA37=\"Ohne\",\"A\",IF(AA37=\"XPS\",IF(Daten!F$1=\"D\",\"B\",Daten!F$1),Daten!F$1)))","v":""},{"$f":"IF(A37=\"\",\"\",IF(AB37=\"A\",\"-\",Daten!F$7))","v":""},{"$f":"IF(A37=\"\",\"\",IF(AB37=\"A\",\"-\",IF(AND(Daten!F$8=0,O37=\"Putzbord\"),5-Q37,0)))","v":""},{"$f":"IF(A37=\"\",\"\",IF(AB37=\"A\",\"-\",IF(AND(Daten!F$8=0,S37=\"Putzbord\"),5-U37,0)))","v":""},{"$f":"IF(A37=\"\",\"\",IF(AB37=\"A\",\"-\",Daten!F$10))","v":""},{"$f":"IFERROR(IF(A37=\"\",\"\",VLOOKUP(N37,Daten!N$1:O$7,2,FALSE)),\"\")","v":""}]
[null,null,null,{"$f":"IF(A38=\"\",\"\",IF(Daten!B$3=TRUE,Daten!B$7,\"\"))","v":""},{"$f":"IFERROR(IF(C38=\"\",\"\",C38+(2*D38)+IF(O38=Daten!M$13,6,0)+IF(S38=Daten!M$13,6,0)+IF(Q38=\"-\",0,Q38)+IF(U38=\"-\",0,U38)),\"\")","v":""},{"$f":"IF(OR(A38=\"\",AND(F$1=0,Daten!F$3=FALSE)),\"\",Daten!B$6)","v":""},{"$f":"IF(A38=\"\",\"\",IF(Daten!B$5=\"??\",\"\",Daten!B$5))","v":""},{"$f":"IF(A38=\"\",\"\",IF(Daten!B$3=FALSE,\"\",Daten!B$4))","v":""},{"$f":"IFERROR(IF(A38=\"\",\"\",G38+H38+IF(AND(G38>0,H38>0),5,0))-IF(Daten!H$21=TRUE,H38,0),\"\")","v":""},{"$f":"IFERROR(IF(A38=\"\",\"\",I38+IF(Daten!H$21=TRUE,H38,0)+IF(F38=\"\",0,F38)-IF(Daten!F$3=TRUE,Daten!F$10,0)),\"\")","v":""},{"$f":"IF(A38=\"\",\"\",Daten!D$14)","v":""},{"$f":"IF(A38=\"\",\"\",Daten!D$12)","v":""},{"$f":"IF(A38=\"\",\"\",Daten!D$13)","v":""},{"$f":"IF(A38=\"\",\"\",Daten!M$2)","v":""},{"$f":"IF(A38=\"\",\"\",IF(Daten!D$6=Daten!N$11,Daten!M$11,IF(Daten!D$6=Daten!N$13,Daten!M$13,IF(AND(Daten!$D$6=Daten!$M$10,Daten!$D$8=TRUE),Daten!$M$14,Daten!D$6))))","v":""},{"$f":"IF($A38=\"\",\"\",IF(OR(O38=\"Putzbord\",O38=\"Flexila PU\"),Daten!$D$15,IF(OR(O38=\"Stehbord\",O38=\"Stehbord HB\",O38=\"Flexila STB\",O38=\"Jalousiebord\"),Daten!$D$19,\"-\")))","v":""},{"$f":"IF($A38=\"\",\"\",IF(O38=\"Putzbord\",Daten!$D$16,IF(O38=\"Flexila PU\",_xlfn.NUMBERVALUE(MID(Daten!$D$17,1,2)),\"-\")))","v":""},{"$f":"IF($A38=\"\",\"\",IF(OR(O38=\"Putzbord\",O38=\"Flexila PU\"),Daten!$D$18,IF(OR(O38=\"Stehbord\",O38=\"Stehbord HB\",O38=\"Flexila STB\",O38=\"Jalousiebord\"),Daten!$D$21,\"-\")))","v":""},{"$f":"IF(A38=\"\",\"\",IF(Daten!D$6=Daten!N$11,Daten!M$11,IF(Daten!D$6=Daten!N$13,Daten!M$13,IF(AND(Daten!$D$6=Daten!$M$10,Daten!$D$8=TRUE),Daten!$M$14,Daten!D$6))))","v":""},{"$f":"IF($A38=\"\",\"\",IF(OR(S38=\"Putzbord\",S38=\"Flexila PU\"),Daten!$D$15,IF(OR(S38=\"Stehbord\",S38=\"Stehbord HB\",S38=\"Flexila STB\",S38=\"Jalousiebord\"),Daten!$D$19,\"-\")))","v":""},{"$f":"IF($A38=\"\",\"\",IF(S38=\"Putzbord\",Daten!$D$16,IF(S38=\"Flexila PU\",_xlfn.NUMBERVALUE(MID(Daten!$D$17,1,2)),\"-\")))","v":""},{"$f":"IF($A38=\"\",\"\",IF(OR(S38=\"Putzbord\",S38=\"Flexila PU\"),Daten!$D$18,IF(OR(S38=\"Stehbord\",S38=\"Stehbord HB\",S38=\"Flexila STB\",S38=\"Jalousiebord\"),Daten!$D$21,\"-\")))","v":""},{"$f":"IF(A38=\"\",\"\",IF(AND(Daten!D$6=\"Jalousiebord\",OR(O38=\"Stehbord\",S38=\"Stehbord\")),\"Jalousienklinkung\",\"\"))","v":""},{"$f":"IF(W38=\"\",\"\",Daten!D$20)","v":""},null,null,{"$f":"IF(A38=\"\",\"\",IF(Daten!F$1=\"A\",\"Ohne\",IF(OR(N38=\"Gerstenkorn roh\",N38=\"Riffelblech roh\"),\"XPS\",Daten!F$2)))","v":""},{"$f":"IF(A38=\"\",\"\",IF(AA38=\"Ohne\",\"A\",IF(AA38=\"XPS\",IF(Daten!F$1=\"D\",\"B\",Daten!F$1),Daten!F$1)))","v":""},{"$f":"IF(A38=\"\",\"\",IF(AB38=\"A\",\"-\",Daten!F$7))","v":""},{"$f":"IF(A38=\"\",\"\",IF(AB38=\"A\",\"-\",IF(AND(Daten!F$8=0,O38=\"Putzbord\"),5-Q38,0)))","v":""},{"$f":"IF(A38=\"\",\"\",IF(AB38=\"A\",\"-\",IF(AND(Daten!F$8=0,S38=\"Putzbord\"),5-U38,0)))","v":""},{"$f":"IF(A38=\"\",\"\",IF(AB38=\"A\",\"-\",Daten!F$10))","v":""},{"$f":"IFERROR(IF(A38=\"\",\"\",VLOOKUP(N38,Daten!N$1:O$7,2,FALSE)),\"\")","v":""}]
[null,null,null,{"$f":"IF(A39=\"\",\"\",IF(Daten!B$3=TRUE,Daten!B$7,\"\"))","v":""},{"$f":"IFERROR(IF(C39=\"\",\"\",C39+(2*D39)+IF(O39=Daten!M$13,6,0)+IF(S39=Daten!M$13,6,0)+IF(Q39=\"-\",0,Q39)+IF(U39=\"-\",0,U39)),\"\")","v":""},{"$f":"IF(OR(A39=\"\",AND(F$1=0,Daten!F$3=FALSE)),\"\",Daten!B$6)","v":""},{"$f":"IF(A39=\"\",\"\",IF(Daten!B$5=\"??\",\"\",Daten!B$5))","v":""},{"$f":"IF(A39=\"\",\"\",IF(Daten!B$3=FALSE,\"\",Daten!B$4))","v":""},{"$f":"IFERROR(IF(A39=\"\",\"\",G39+H39+IF(AND(G39>0,H39>0),5,0))-IF(Daten!H$21=TRUE,H39,0),\"\")","v":""},{"$f":"IFERROR(IF(A39=\"\",\"\",I39+IF(Daten!H$21=TRUE,H39,0)+IF(F39=\"\",0,F39)-IF(Daten!F$3=TRUE,Daten!F$10,0)),\"\")","v":""},{"$f":"IF(A39=\"\",\"\",Daten!D$14)","v":""},{"$f":"IF(A39=\"\",\"\",Daten!D$12)","v":""},{"$f":"IF(A39=\"\",\"\",Daten!D$13)","v":""},{"$f":"IF(A39=\"\",\"\",Daten!M$2)","v":""},{"$f":"IF(A39=\"\",\"\",IF(Daten!D$6=Daten!N$11,Daten!M$11,IF(Daten!D$6=Daten!N$13,Daten!M$13,IF(AND(Daten!$D$6=Daten!$M$10,Daten!$D$8=TRUE),Daten!$M$14,Daten!D$6))))","v":""},{"$f":"IF($A39=\"\",\"\",IF(OR(O39=\"Putzbord\",O39=\"Flexila PU\"),Daten!$D$15,IF(OR(O39=\"Stehbord\",O39=\"Stehbord HB\",O39=\"Flexila STB\",O39=\"Jalousiebord\"),Daten!$D$19,\"-\")))","v":""},{"$f":"IF($A39=\"\",\"\",IF(O39=\"Putzbord\",Daten!$D$16,IF(O39=\"Flexila PU\",_xlfn.NUMBERVALUE(MID(Daten!$D$17,1,2)),\"-\")))","v":""},{"$f":"IF($A39=\"\",\"\",IF(OR(O39=\"Putzbord\",O39=\"Flexila PU\"),Daten!$D$18,IF(OR(O39=\"Stehbord\",O39=\"Stehbord HB\",O39=\"Flexila STB\",O39=\"Jalousiebord\"),Daten!$D$21,\"-\")))","v":""},{"$f":"IF(A39=\"\",\"\",IF(Daten!D$6=Daten!N$11,Daten!M$11,IF(Daten!D$6=Daten!N$13,Daten!M$13,IF(AND(Daten!$D$6=Daten!$M$10,Daten!$D$8=TRUE),Daten!$M$14,Daten!D$6))))","v":""},{"$f":"IF($A39=\"\",\"\",IF(OR(S39=\"Putzbord\",S39=\"Flexila PU\"),Daten!$D$15,IF(OR(S39=\"Stehbord\",S39=\"Stehbord HB\",S39=\"Flexila STB\",S39=\"Jalousiebord\"),Daten!$D$19,\"-\")))","v":""},{"$f":"IF($A39=\"\",\"\",IF(S39=\"Putzbord\",Daten!$D$16,IF(S39=\"Flexila PU\",_xlfn.NUMBERVALUE(MID(Daten!$D$17,1,2)),\"-\")))","v":""},{"$f":"IF($A39=\"\",\"\",IF(OR(S39=\"Putzbord\",S39=\"Flexila PU\"),Daten!$D$18,IF(OR(S39=\"Stehbord\",S39=\"Stehbord HB\",S39=\"Flexila STB\",S39=\"Jalousiebord\"),Daten!$D$21,\"-\")))","v":""},{"$f":"IF(A39=\"\",\"\",IF(AND(Daten!D$6=\"Jalousiebord\",OR(O39=\"Stehbord\",S39=\"Stehbord\")),\"Jalousienklinkung\",\"\"))","v":""},{"$f":"IF(W39=\"\",\"\",Daten!D$20)","v":""},null,null,{"$f":"IF(A39=\"\",\"\",IF(Daten!F$1=\"A\",\"Ohne\",IF(OR(N39=\"Gerstenkorn roh\",N39=\"Riffelblech roh\"),\"XPS\",Daten!F$2)))","v":""},{"$f":"IF(A39=\"\",\"\",IF(AA39=\"Ohne\",\"A\",IF(AA39=\"XPS\",IF(Daten!F$1=\"D\",\"B\",Daten!F$1),Daten!F$1)))","v":""},{"$f":"IF(A39=\"\",\"\",IF(AB39=\"A\",\"-\",Daten!F$7))","v":""},{"$f":"IF(A39=\"\",\"\",IF(AB39=\"A\",\"-\",IF(AND(Daten!F$8=0,O39=\"Putzbord\"),5-Q39,0)))","v":""},{"$f":"IF(A39=\"\",\"\",IF(AB39=\"A\",\"-\",IF(AND(Daten!F$8=0,S39=\"Putzbord\"),5-U39,0)))","v":""},{"$f":"IF(A39=\"\",\"\",IF(AB39=\"A\",\"-\",Daten!F$10))","v":""},{"$f":"IFERROR(IF(A39=\"\",\"\",VLOOKUP(N39,Daten!N$1:O$7,2,FALSE)),\"\")","v":""}]
[null,null,null,{"$f":"IF(A40=\"\",\"\",IF(Daten!B$3=TRUE,Daten!B$7,\"\"))","v":""},{"$f":"IFERROR(IF(C40=\"\",\"\",C40+(2*D40)+IF(O40=Daten!M$13,6,0)+IF(S40=Daten!M$13,6,0)+IF(Q40=\"-\",0,Q40)+IF(U40=\"-\",0,U40)),\"\")","v":""},{"$f":"IF(OR(A40=\"\",AND(F$1=0,Daten!F$3=FALSE)),\"\",Daten!B$6)","v":""},{"$f":"IF(A40=\"\",\"\",IF(Daten!B$5=\"??\",\"\",Daten!B$5))","v":""},{"$f":"IF(A40=\"\",\"\",IF(Daten!B$3=FALSE,\"\",Daten!B$4))","v":""},{"$f":"IFERROR(IF(A40=\"\",\"\",G40+H40+IF(AND(G40>0,H40>0),5,0))-IF(Daten!H$21=TRUE,H40,0),\"\")","v":""},{"$f":"IFERROR(IF(A40=\"\",\"\",I40+IF(Daten!H$21=TRUE,H40,0)+IF(F40=\"\",0,F40)-IF(Daten!F$3=TRUE,Daten!F$10,0)),\"\")","v":""},{"$f":"IF(A40=\"\",\"\",Daten!D$14)","v":""},{"$f":"IF(A40=\"\",\"\",Daten!D$12)","v":""},{"$f":"IF(A40=\"\",\"\",Daten!D$13)","v":""},{"$f":"IF(A40=\"\",\"\",Daten!M$2)","v":""},{"$f":"IF(A40=\"\",\"\",IF(Daten!D$6=Daten!N$11,Daten!M$11,IF(Daten!D$6=Daten!N$13,Daten!M$13,IF(AND(Daten!$D$6=Daten!$M$10,Daten!$D$8=TRUE),Daten!$M$14,Daten!D$6))))","v":""},{"$f":"IF($A40=\"\",\"\",IF(OR(O40=\"Putzbord\",O40=\"Flexila PU\"),Daten!$D$15,IF(OR(O40=\"Stehbord\",O40=\"Stehbord HB\",O40=\"Flexila STB\",O40=\"Jalousiebord\"),Daten!$D$19,\"-\")))","v":""},{"$f":"IF($A40=\"\",\"\",IF(O40=\"Putzbord\",Daten!$D$16,IF(O40=\"Flexila PU\",_xlfn.NUMBERVALUE(MID(Daten!$D$17,1,2)),\"-\")))","v":""},{"$f":"IF($A40=\"\",\"\",IF(OR(O40=\"Putzbord\",O40=\"Flexila PU\"),Daten!$D$18,IF(OR(O40=\"Stehbord\",O40=\"Stehbord HB\",O40=\"Flexila STB\",O40=\"Jalousiebord\"),Daten!$D$21,\"-\")))","v":""},{"$f":"IF(A40=\"\",\"\",IF(Daten!D$6=Daten!N$11,Daten!M$11,IF(Daten!D$6=Daten!N$13,Daten!M$13,IF(AND(Daten!$D$6=Daten!$M$10,Daten!$D$8=TRUE),Daten!$M$14,Daten!D$6))))","v":""},{"$f":"IF($A40=\"\",\"\",IF(OR(S40=\"Putzbord\",S40=\"Flexila PU\"),Daten!$D$15,IF(OR(S40=\"Stehbord\",S40=\"Stehbord HB\",S40=\"Flexila STB\",S40=\"Jalousiebord\"),Daten!$D$19,\"-\")))","v":""},{"$f":"IF($A40=\"\",\"\",IF(S40=\"Putzbord\",Daten!$D$16,IF(S40=\"Flexila PU\",_xlfn.NUMBERVALUE(MID(Daten!$D$17,1,2)),\"-\")))","v":""},{"$f":"IF($A40=\"\",\"\",IF(OR(S40=\"Putzbord\",S40=\"Flexila PU\"),Daten!$D$18,IF(OR(S40=\"Stehbord\",S40=\"Stehbord HB\",S40=\"Flexila STB\",S40=\"Jalousiebord\"),Daten!$D$21,\"-\")))","v":""},{"$f":"IF(A40=\"\",\"\",IF(AND(Daten!D$6=\"Jalousiebord\",OR(O40=\"Stehbord\",S40=\"Stehbord\")),\"Jalousienklinkung\",\"\"))","v":""},{"$f":"IF(W40=\"\",\"\",Daten!D$20)","v":""},null,null,{"$f":"IF(A40=\"\",\"\",IF(Daten!F$1=\"A\",\"Ohne\",IF(OR(N40=\"Gerstenkorn roh\",N40=\"Riffelblech roh\"),\"XPS\",Daten!F$2)))","v":""},{"$f":"IF(A40=\"\",\"\",IF(AA40=\"Ohne\",\"A\",IF(AA40=\"XPS\",IF(Daten!F$1=\"D\",\"B\",Daten!F$1),Daten!F$1)))","v":""},{"$f":"IF(A40=\"\",\"\",IF(AB40=\"A\",\"-\",Daten!F$7))","v":""},{"$f":"IF(A40=\"\",\"\",IF(AB40=\"A\",\"-\",IF(AND(Daten!F$8=0,O40=\"Putzbord\"),5-Q40,0)))","v":""},{"$f":"IF(A40=\"\",\"\",IF(AB40=\"A\",\"-\",IF(AND(Daten!F$8=0,S40=\"Putzbord\"),5-U40,0)))","v":""},{"$f":"IF(A40=\"\",\"\",IF(AB40=\"A\",\"-\",Daten!F$10))","v":""},{"$f":"IFERROR(IF(A40=\"\",\"\",VLOOKUP(N40,Daten!N$1:O$7,2,FALSE)),\"\")","v":""}]
[null,null,null,{"$f":"IF(A41=\"\",\"\",IF(Daten!B$3=TRUE,Daten!B$7,\"\"))","v":""},{"$f":"IFERROR(IF(C41=\"\",\"\",C41+(2*D41)+IF(O41=Daten!M$13,6,0)+IF(S41=Daten!M$13,6,0)+IF(Q41=\"-\",0,Q41)+IF(U41=\"-\",0,U41)),\"\")","v":""},{"$f":"IF(OR(A41=\"\",AND(F$1=0,Daten!F$3=FALSE)),\"\",Daten!B$6)","v":""},{"$f":"IF(A41=\"\",\"\",IF(Daten!B$5=\"??\",\"\",Daten!B$5))","v":""},{"$f":"IF(A41=\"\",\"\",IF(Daten!B$3=FALSE,\"\",Daten!B$4))","v":""},{"$f":"IFERROR(IF(A41=\"\",\"\",G41+H41+IF(AND(G41>0,H41>0),5,0))-IF(Daten!H$21=TRUE,H41,0),\"\")","v":""},{"$f":"IFERROR(IF(A41=\"\",\"\",I41+IF(Daten!H$21=TRUE,H41,0)+IF(F41=\"\",0,F41)-IF(Daten!F$3=TRUE,Daten!F$10,0)),\"\")","v":""},{"$f":"IF(A41=\"\",\"\",Daten!D$14)","v":""},{"$f":"IF(A41=\"\",\"\",Daten!D$12)","v":""},{"$f":"IF(A41=\"\",\"\",Daten!D$13)","v":""},{"$f":"IF(A41=\"\",\"\",Daten!M$2)","v":""},{"$f":"IF(A41=\"\",\"\",IF(Daten!D$6=Daten!N$11,Daten!M$11,IF(Daten!D$6=Daten!N$13,Daten!M$13,IF(AND(Daten!$D$6=Daten!$M$10,Daten!$D$8=TRUE),Daten!$M$14,Daten!D$6))))","v":""},{"$f":"IF($A41=\"\",\"\",IF(OR(O41=\"Putzbord\",O41=\"Flexila PU\"),Daten!$D$15,IF(OR(O41=\"Stehbord\",O41=\"Stehbord HB\",O41=\"Flexila STB\",O41=\"Jalousiebord\"),Daten!$D$19,\"-\")))","v":""},{"$f":"IF($A41=\"\",\"\",IF(O41=\"Putzbord\",Daten!$D$16,IF(O41=\"Flexila PU\",_xlfn.NUMBERVALUE(MID(Daten!$D$17,1,2)),\"-\")))","v":""},{"$f":"IF($A41=\"\",\"\",IF(OR(O41=\"Putzbord\",O41=\"Flexila PU\"),Daten!$D$18,IF(OR(O41=\"Stehbord\",O41=\"Stehbord HB\",O41=\"Flexila STB\",O41=\"Jalousiebord\"),Daten!$D$21,\"-\")))","v":""},{"$f":"IF(A41=\"\",\"\",IF(Daten!D$6=Daten!N$11,Daten!M$11,IF(Daten!D$6=Daten!N$13,Daten!M$13,IF(AND(Daten!$D$6=Daten!$M$10,Daten!$D$8=TRUE),Daten!$M$14,Daten!D$6))))","v":""},{"$f":"IF($A41=\"\",\"\",IF(OR(S41=\"Putzbord\",S41=\"Flexila PU\"),Daten!$D$15,IF(OR(S41=\"Stehbord\",S41=\"Stehbord HB\",S41=\"Flexila STB\",S41=\"Jalousiebord\"),Daten!$D$19,\"-\")))","v":""},{"$f":"IF($A41=\"\",\"\",IF(S41=\"Putzbord\",Daten!$D$16,IF(S41=\"Flexila PU\",_xlfn.NUMBERVALUE(MID(Daten!$D$17,1,2)),\"-\")))","v":""},{"$f":"IF($A41=\"\",\"\",IF(OR(S41=\"Putzbord\",S41=\"Flexila PU\"),Daten!$D$18,IF(OR(S41=\"Stehbord\",S41=\"Stehbord HB\",S41=\"Flexila STB\",S41=\"Jalousiebord\"),Daten!$D$21,\"-\")))","v":""},{"$f":"IF(A41=\"\",\"\",IF(AND(Daten!D$6=\"Jalousiebord\",OR(O41=\"Stehbord\",S41=\"Stehbord\")),\"Jalousienklinkung\",\"\"))","v":""},{"$f":"IF(W41=\"\",\"\",Daten!D$20)","v":""},null,null,{"$f":"IF(A41=\"\",\"\",IF(Daten!F$1=\"A\",\"Ohne\",IF(OR(N41=\"Gerstenkorn roh\",N41=\"Riffelblech roh\"),\"XPS\",Daten!F$2)))","v":""},{"$f":"IF(A41=\"\",\"\",IF(AA41=\"Ohne\",\"A\",IF(AA41=\"XPS\",IF(Daten!F$1=\"D\",\"B\",Daten!F$1),Daten!F$1)))","v":""},{"$f":"IF(A41=\"\",\"\",IF(AB41=\"A\",\"-\",Daten!F$7))","v":""},{"$f":"IF(A41=\"\",\"\",IF(AB41=\"A\",\"-\",IF(AND(Daten!F$8=0,O41=\"Putzbord\"),5-Q41,0)))","v":""},{"$f":"IF(A41=\"\",\"\",IF(AB41=\"A\",\"-\",IF(AND(Daten!F$8=0,S41=\"Putzbord\"),5-U41,0)))","v":""},{"$f":"IF(A41=\"\",\"\",IF(AB41=\"A\",\"-\",Daten!F$10))","v":""},{"$f":"IFERROR(IF(A41=\"\",\"\",VLOOKUP(N41,Daten!N$1:O$7,2,FALSE)),\"\")","v":""}]
[null,null,null,{"$f":"IF(A42=\"\",\"\",IF(Daten!B$3=TRUE,Daten!B$7,\"\"))","v":""},{"$f":"IFERROR(IF(C42=\"\",\"\",C42+(2*D42)+IF(O42=Daten!M$13,6,0)+IF(S42=Daten!M$13,6,0)+IF(Q42=\"-\",0,Q42)+IF(U42=\"-\",0,U42)),\"\")","v":""},{"$f":"IF(OR(A42=\"\",AND(F$1=0,Daten!F$3=FALSE)),\"\",Daten!B$6)","v":""},{"$f":"IF(A42=\"\",\"\",IF(Daten!B$5=\"??\",\"\",Daten!B$5))","v":""},{"$f":"IF(A42=\"\",\"\",IF(Daten!B$3=FALSE,\"\",Daten!B$4))","v":""},{"$f":"IFERROR(IF(A42=\"\",\"\",G42+H42+IF(AND(G42>0,H42>0),5,0))-IF(Daten!H$21=TRUE,H42,0),\"\")","v":""},{"$f":"IFERROR(IF(A42=\"\",\"\",I42+IF(Daten!H$21=TRUE,H42,0)+IF(F42=\"\",0,F42)-IF(Daten!F$3=TRUE,Daten!F$10,0)),\"\")","v":""},{"$f":"IF(A42=\"\",\"\",Daten!D$14)","v":""},{"$f":"IF(A42=\"\",\"\",Daten!D$12)","v":""},{"$f":"IF(A42=\"\",\"\",Daten!D$13)","v":""},{"$f":"IF(A42=\"\",\"\",Daten!M$2)","v":""},{"$f":"IF(A42=\"\",\"\",IF(Daten!D$6=Daten!N$11,Daten!M$11,IF(Daten!D$6=Daten!N$13,Daten!M$13,IF(AND(Daten!$D$6=Daten!$M$10,Daten!$D$8=TRUE),Daten!$M$14,Daten!D$6))))","v":""},{"$f":"IF($A42=\"\",\"\",IF(OR(O42=\"Putzbord\",O42=\"Flexila PU\"),Daten!$D$15,IF(OR(O42=\"Stehbord\",O42=\"Stehbord HB\",O42=\"Flexila STB\",O42=\"Jalousiebord\"),Daten!$D$19,\"-\")))","v":""},{"$f":"IF($A42=\"\",\"\",IF(O42=\"Putzbord\",Daten!$D$16,IF(O42=\"Flexila PU\",_xlfn.NUMBERVALUE(MID(Daten!$D$17,1,2)),\"-\")))","v":""},{"$f":"IF($A42=\"\",\"\",IF(OR(O42=\"Putzbord\",O42=\"Flexila PU\"),Daten!$D$18,IF(OR(O42=\"Stehbord\",O42=\"Stehbord HB\",O42=\"Flexila STB\",O42=\"Jalousiebord\"),Daten!$D$21,\"-\")))","v":""},{"$f":"IF(A42=\"\",\"\",IF(Daten!D$6=Daten!N$11,Daten!M$11,IF(Daten!D$6=Daten!N$13,Daten!M$13,IF(AND(Daten!$D$6=Daten!$M$10,Daten!$D$8=TRUE),Daten!$M$14,Daten!D$6))))","v":""},{"$f":"IF($A42=\"\",\"\",IF(OR(S42=\"Putzbord\",S42=\"Flexila PU\"),Daten!$D$15,IF(OR(S42=\"Stehbord\",S42=\"Stehbord HB\",S42=\"Flexila STB\",S42=\"Jalousiebord\"),Daten!$D$19,\"-\")))","v":""},{"$f":"IF($A42=\"\",\"\",IF(S42=\"Putzbord\",Daten!$D$16,IF(S42=\"Flexila PU\",_xlfn.NUMBERVALUE(MID(Daten!$D$17,1,2)),\"-\")))","v":""},{"$f":"IF($A42=\"\",\"\",IF(OR(S42=\"Putzbord\",S42=\"Flexila PU\"),Daten!$D$18,IF(OR(S42=\"Stehbord\",S42=\"Stehbord HB\",S42=\"Flexila STB\",S42=\"Jalousiebord\"),Daten!$D$21,\"-\")))","v":""},{"$f":"IF(A42=\"\",\"\",IF(AND(Daten!D$6=\"Jalousiebord\",OR(O42=\"Stehbord\",S42=\"Stehbord\")),\"Jalousienklinkung\",\"\"))","v":""},{"$f":"IF(W42=\"\",\"\",Daten!D$20)","v":""},null,null,{"$f":"IF(A42=\"\",\"\",IF(Daten!F$1=\"A\",\"Ohne\",IF(OR(N42=\"Gerstenkorn roh\",N42=\"Riffelblech roh\"),\"XPS\",Daten!F$2)))","v":""},{"$f":"IF(A42=\"\",\"\",IF(AA42=\"Ohne\",\"A\",IF(AA42=\"XPS\",IF(Daten!F$1=\"D\",\"B\",Daten!F$1),Daten!F$1)))","v":""},{"$f":"IF(A42=\"\",\"\",IF(AB42=\"A\",\"-\",Daten!F$7))","v":""},{"$f":"IF(A42=\"\",\"\",IF(AB42=\"A\",\"-\",IF(AND(Daten!F$8=0,O42=\"Putzbord\"),5-Q42,0)))","v":""},{"$f":"IF(A42=\"\",\"\",IF(AB42=\"A\",\"-\",IF(AND(Daten!F$8=0,S42=\"Putzbord\"),5-U42,0)))","v":""},{"$f":"IF(A42=\"\",\"\",IF(AB42=\"A\",\"-\",Daten!F$10))","v":""},{"$f":"IFERROR(IF(A42=\"\",\"\",VLOOKUP(N42,Daten!N$1:O$7,2,FALSE)),\"\")","v":""}]
[null,null,null,{"$f":"IF(A43=\"\",\"\",IF(Daten!B$3=TRUE,Daten!B$7,\"\"))","v":""},{"$f":"IFERROR(IF(C43=\"\",\"\",C43+(2*D43)+IF(O43=Daten!M$13,6,0)+IF(S43=Daten!M$13,6,0)+IF(Q43=\"-\",0,Q43)+IF(U43=\"-\",0,U43)),\"\")","v":""},{"$f":"IF(OR(A43=\"\",AND(F$1=0,Daten!F$3=FALSE)),\"\",Daten!B$6)","v":""},{"$f":"IF(A43=\"\",\"\",IF(Daten!B$5=\"??\",\"\",Daten!B$5))","v":""},{"$f":"IF(A43=\"\",\"\",IF(Daten!B$3=FALSE,\"\",Daten!B$4))","v":""},{"$f":"IFERROR(IF(A43=\"\",\"\",G43+H43+IF(AND(G43>0,H43>0),5,0))-IF(Daten!H$21=TRUE,H43,0),\"\")","v":""},{"$f":"IFERROR(IF(A43=\"\",\"\",I43+IF(Daten!H$21=TRUE,H43,0)+IF(F43=\"\",0,F43)-IF(Daten!F$3=TRUE,Daten!F$10,0)),\"\")","v":""},{"$f":"IF(A43=\"\",\"\",Daten!D$14)","v":""},{"$f":"IF(A43=\"\",\"\",Daten!D$12)","v":""},{"$f":"IF(A43=\"\",\"\",Daten!D$13)","v":""},{"$f":"IF(A43=\"\",\"\",Daten!M$2)","v":""},{"$f":"IF(A43=\"\",\"\",IF(Daten!D$6=Daten!N$11,Daten!M$11,IF(Daten!D$6=Daten!N$13,Daten!M$13,IF(AND(Daten!$D$6=Daten!$M$10,Daten!$D$8=TRUE),Daten!$M$14,Daten!D$6))))","v":""},{"$f":"IF($A43=\"\",\"\",IF(OR(O43=\"Putzbord\",O43=\"Flexila PU\"),Daten!$D$15,IF(OR(O43=\"Stehbord\",O43=\"Stehbord HB\",O43=\"Flexila STB\",O43=\"Jalousiebord\"),Daten!$D$19,\"-\")))","v":""},{"$f":"IF($A43=\"\",\"\",IF(O43=\"Putzbord\",Daten!$D$16,IF(O43=\"Flexila PU\",_xlfn.NUMBERVALUE(MID(Daten!$D$17,1,2)),\"-\")))","v":""},{"$f":"IF($A43=\"\",\"\",IF(OR(O43=\"Putzbord\",O43=\"Flexila PU\"),Daten!$D$18,IF(OR(O43=\"Stehbord\",O43=\"Stehbord HB\",O43=\"Flexila STB\",O43=\"Jalousiebord\"),Daten!$D$21,\"-\")))","v":""},{"$f":"IF(A43=\"\",\"\",IF(Daten!D$6=Daten!N$11,Daten!M$11,IF(Daten!D$6=Daten!N$13,Daten!M$13,IF(AND(Daten!$D$6=Daten!$M$10,Daten!$D$8=TRUE),Daten!$M$14,Daten!D$6))))","v":""},{"$f":"IF($A43=\"\",\"\",IF(OR(S43=\"Putzbord\",S43=\"Flexila PU\"),Daten!$D$15,IF(OR(S43=\"Stehbord\",S43=\"Stehbord HB\",S43=\"Flexila STB\",S43=\"Jalousiebord\"),Daten!$D$19,\"-\")))","v":""},{"$f":"IF($A43=\"\",\"\",IF(S43=\"Putzbord\",Daten!$D$16,IF(S43=\"Flexila PU\",_xlfn.NUMBERVALUE(MID(Daten!$D$17,1,2)),\"-\")))","v":""},{"$f":"IF($A43=\"\",\"\",IF(OR(S43=\"Putzbord\",S43=\"Flexila PU\"),Daten!$D$18,IF(OR(S43=\"Stehbord\",S43=\"Stehbord HB\",S43=\"Flexila STB\",S43=\"Jalousiebord\"),Daten!$D$21,\"-\")))","v":""},{"$f":"IF(A43=\"\",\"\",IF(AND(Daten!D$6=\"Jalousiebord\",OR(O43=\"Stehbord\",S43=\"Stehbord\")),\"Jalousienklinkung\",\"\"))","v":""},{"$f":"IF(W43=\"\",\"\",Daten!D$20)","v":""},null,null,{"$f":"IF(A43=\"\",\"\",IF(Daten!F$1=\"A\",\"Ohne\",IF(OR(N43=\"Gerstenkorn roh\",N43=\"Riffelblech roh\"),\"XPS\",Daten!F$2)))","v":""},{"$f":"IF(A43=\"\",\"\",IF(AA43=\"Ohne\",\"A\",IF(AA43=\"XPS\",IF(Daten!F$1=\"D\",\"B\",Daten!F$1),Daten!F$1)))","v":""},{"$f":"IF(A43=\"\",\"\",IF(AB43=\"A\",\"-\",Daten!F$7))","v":""},{"$f":"IF(A43=\"\",\"\",IF(AB43=\"A\",\"-\",IF(AND(Daten!F$8=0,O43=\"Putzbord\"),5-Q43,0)))","v":""},{"$f":"IF(A43=\"\",\"\",IF(AB43=\"A\",\"-\",IF(AND(Daten!F$8=0,S43=\"Putzbord\"),5-U43,0)))","v":""},{"$f":"IF(A43=\"\",\"\",IF(AB43=\"A\",\"-\",Daten!F$10))","v":""},{"$f":"IFERROR(IF(A43=\"\",\"\",VLOOKUP(N43,Daten!N$1:O$7,2,FALSE)),\"\")","v":""}]
[null,null,null,{"$f":"IF(A44=\"\",\"\",IF(Daten!B$3=TRUE,Daten!B$7,\"\"))","v":""},{"$f":"IFERROR(IF(C44=\"\",\"\",C44+(2*D44)+IF(O44=Daten!M$13,6,0)+IF(S44=Daten!M$13,6,0)+IF(Q44=\"-\",0,Q44)+IF(U44=\"-\",0,U44)),\"\")","v":""},{"$f":"IF(OR(A44=\"\",AND(F$1=0,Daten!F$3=FALSE)),\"\",Daten!B$6)","v":""},{"$f":"IF(A44=\"\",\"\",IF(Daten!B$5=\"??\",\"\",Daten!B$5))","v":""},{"$f":"IF(A44=\"\",\"\",IF(Daten!B$3=FALSE,\"\",Daten!B$4))","v":""},{"$f":"IFERROR(IF(A44=\"\",\"\",G44+H44+IF(AND(G44>0,H44>0),5,0))-IF(Daten!H$21=TRUE,H44,0),\"\")","v":""},{"$f":"IFERROR(IF(A44=\"\",\"\",I44+IF(Daten!H$21=TRUE,H44,0)+IF(F44=\"\",0,F44)-IF(Daten!F$3=TRUE,Daten!F$10,0)),\"\")","v":""},{"$f":"IF(A44=\"\",\"\",Daten!D$14)","v":""},{"$f":"IF(A44=\"\",\"\",Daten!D$12)","v":""},{"$f":"IF(A44=\"\",\"\",Daten!D$13)","v":""},{"$f":"IF(A44=\"\",\"\",Daten!M$2)","v":""},{"$f":"IF(A44=\"\",\"\",IF(Daten!D$6=Daten!N$11,Daten!M$11,IF(Daten!D$6=Daten!N$13,Daten!M$13,IF(AND(Daten!$D$6=Daten!$M$10,Daten!$D$8=TRUE),Daten!$M$14,Daten!D$6))))","v":""},{"$f":"IF($A44=\"\",\"\",IF(OR(O44=\"Putzbord\",O44=\"Flexila PU\"),Daten!$D$15,IF(OR(O44=\"Stehbord\",O44=\"Stehbord HB\",O44=\"Flexila STB\",O44=\"Jalousiebord\"),Daten!$D$19,\"-\")))","v":""},{"$f":"IF($A44=\"\",\"\",IF(O44=\"Putzbord\",Daten!$D$16,IF(O44=\"Flexila PU\",_xlfn.NUMBERVALUE(MID(Daten!$D$17,1,2)),\"-\")))","v":""},{"$f":"IF($A44=\"\",\"\",IF(OR(O44=\"Putzbord\",O44=\"Flexila PU\"),Daten!$D$18,IF(OR(O44=\"Stehbord\",O44=\"Stehbord HB\",O44=\"Flexila STB\",O44=\"Jalousiebord\"),Daten!$D$21,\"-\")))","v":""},{"$f":"IF(A44=\"\",\"\",IF(Daten!D$6=Daten!N$11,Daten!M$11,IF(Daten!D$6=Daten!N$13,Daten!M$13,IF(AND(Daten!$D$6=Daten!$M$10,Daten!$D$8=TRUE),Daten!$M$14,Daten!D$6))))","v":""},{"$f":"IF($A44=\"\",\"\",IF(OR(S44=\"Putzbord\",S44=\"Flexila PU\"),Daten!$D$15,IF(OR(S44=\"Stehbord\",S44=\"Stehbord HB\",S44=\"Flexila STB\",S44=\"Jalousiebord\"),Daten!$D$19,\"-\")))","v":""},{"$f":"IF($A44=\"\",\"\",IF(S44=\"Putzbord\",Daten!$D$16,IF(S44=\"Flexila PU\",_xlfn.NUMBERVALUE(MID(Daten!$D$17,1,2)),\"-\")))","v":""},{"$f":"IF($A44=\"\",\"\",IF(OR(S44=\"Putzbord\",S44=\"Flexila PU\"),Daten!$D$18,IF(OR(S44=\"Stehbord\",S44=\"Stehbord HB\",S44=\"Flexila STB\",S44=\"Jalousiebord\"),Daten!$D$21,\"-\")))","v":""},{"$f":"IF(A44=\"\",\"\",IF(AND(Daten!D$6=\"Jalousiebord\",OR(O44=\"Stehbord\",S44=\"Stehbord\")),\"Jalousienklinkung\",\"\"))","v":""},{"$f":"IF(W44=\"\",\"\",Daten!D$20)","v":""},null,null,{"$f":"IF(A44=\"\",\"\",IF(Daten!F$1=\"A\",\"Ohne\",IF(OR(N44=\"Gerstenkorn roh\",N44=\"Riffelblech roh\"),\"XPS\",Daten!F$2)))","v":""},{"$f":"IF(A44=\"\",\"\",IF(AA44=\"Ohne\",\"A\",IF(AA44=\"XPS\",IF(Daten!F$1=\"D\",\"B\",Daten!F$1),Daten!F$1)))","v":""},{"$f":"IF(A44=\"\",\"\",IF(AB44=\"A\",\"-\",Daten!F$7))","v":""},{"$f":"IF(A44=\"\",\"\",IF(AB44=\"A\",\"-\",IF(AND(Daten!F$8=0,O44=\"Putzbord\"),5-Q44,0)))","v":""},{"$f":"IF(A44=\"\",\"\",IF(AB44=\"A\",\"-\",IF(AND(Daten!F$8=0,S44=\"Putzbord\"),5-U44,0)))","v":""},{"$f":"IF(A44=\"\",\"\",IF(AB44=\"A\",\"-\",Daten!F$10))","v":""},{"$f":"IFERROR(IF(A44=\"\",\"\",VLOOKUP(N44,Daten!N$1:O$7,2,FALSE)),\"\")","v":""}]
[null,null,null,{"$f":"IF(A45=\"\",\"\",IF(Daten!B$3=TRUE,Daten!B$7,\"\"))","v":""},{"$f":"IFERROR(IF(C45=\"\",\"\",C45+(2*D45)+IF(O45=Daten!M$13,6,0)+IF(S45=Daten!M$13,6,0)+IF(Q45=\"-\",0,Q45)+IF(U45=\"-\",0,U45)),\"\")","v":""},{"$f":"IF(OR(A45=\"\",AND(F$1=0,Daten!F$3=FALSE)),\"\",Daten!B$6)","v":""},{"$f":"IF(A45=\"\",\"\",IF(Daten!B$5=\"??\",\"\",Daten!B$5))","v":""},{"$f":"IF(A45=\"\",\"\",IF(Daten!B$3=FALSE,\"\",Daten!B$4))","v":""},{"$f":"IFERROR(IF(A45=\"\",\"\",G45+H45+IF(AND(G45>0,H45>0),5,0))-IF(Daten!H$21=TRUE,H45,0),\"\")","v":""},{"$f":"IFERROR(IF(A45=\"\",\"\",I45+IF(Daten!H$21=TRUE,H45,0)+IF(F45=\"\",0,F45)-IF(Daten!F$3=TRUE,Daten!F$10,0)),\"\")","v":""},{"$f":"IF(A45=\"\",\"\",Daten!D$14)","v":""},{"$f":"IF(A45=\"\",\"\",Daten!D$12)","v":""},{"$f":"IF(A45=\"\",\"\",Daten!D$13)","v":""},{"$f":"IF(A45=\"\",\"\",Daten!M$2)","v":""},{"$f":"IF(A45=\"\",\"\",IF(Daten!D$6=Daten!N$11,Daten!M$11,IF(Daten!D$6=Daten!N$13,Daten!M$13,IF(AND(Daten!$D$6=Daten!$M$10,Daten!$D$8=TRUE),Daten!$M$14,Daten!D$6))))","v":""},{"$f":"IF($A45=\"\",\"\",IF(OR(O45=\"Putzbord\",O45=\"Flexila PU\"),Daten!$D$15,IF(OR(O45=\"Stehbord\",O45=\"Stehbord HB\",O45=\"Flexila STB\",O45=\"Jalousiebord\"),Daten!$D$19,\"-\")))","v":""},{"$f":"IF($A45=\"\",\"\",IF(O45=\"Putzbord\",Daten!$D$16,IF(O45=\"Flexila PU\",_xlfn.NUMBERVALUE(MID(Daten!$D$17,1,2)),\"-\")))","v":""},{"$f":"IF($A45=\"\",\"\",IF(OR(O45=\"Putzbord\",O45=\"Flexila PU\"),Daten!$D$18,IF(OR(O45=\"Stehbord\",O45=\"Stehbord HB\",O45=\"Flexila STB\",O45=\"Jalousiebord\"),Daten!$D$21,\"-\")))","v":""},{"$f":"IF(A45=\"\",\"\",IF(Daten!D$6=Daten!N$11,Daten!M$11,IF(Daten!D$6=Daten!N$13,Daten!M$13,IF(AND(Daten!$D$6=Daten!$M$10,Daten!$D$8=TRUE),Daten!$M$14,Daten!D$6))))","v":""},{"$f":"IF($A45=\"\",\"\",IF(OR(S45=\"Putzbord\",S45=\"Flexila PU\"),Daten!$D$15,IF(OR(S45=\"Stehbord\",S45=\"Stehbord HB\",S45=\"Flexila STB\",S45=\"Jalousiebord\"),Daten!$D$19,\"-\")))","v":""},{"$f":"IF($A45=\"\",\"\",IF(S45=\"Putzbord\",Daten!$D$16,IF(S45=\"Flexila PU\",_xlfn.NUMBERVALUE(MID(Daten!$D$17,1,2)),\"-\")))","v":""},{"$f":"IF($A45=\"\",\"\",IF(OR(S45=\"Putzbord\",S45=\"Flexila PU\"),Daten!$D$18,IF(OR(S45=\"Stehbord\",S45=\"Stehbord HB\",S45=\"Flexila STB\",S45=\"Jalousiebord\"),Daten!$D$21,\"-\")))","v":""},{"$f":"IF(A45=\"\",\"\",IF(AND(Daten!D$6=\"Jalousiebord\",OR(O45=\"Stehbord\",S45=\"Stehbord\")),\"Jalousienklinkung\",\"\"))","v":""},{"$f":"IF(W45=\"\",\"\",Daten!D$20)","v":""},null,null,{"$f":"IF(A45=\"\",\"\",IF(Daten!F$1=\"A\",\"Ohne\",IF(OR(N45=\"Gerstenkorn roh\",N45=\"Riffelblech roh\"),\"XPS\",Daten!F$2)))","v":""},{"$f":"IF(A45=\"\",\"\",IF(AA45=\"Ohne\",\"A\",IF(AA45=\"XPS\",IF(Daten!F$1=\"D\",\"B\",Daten!F$1),Daten!F$1)))","v":""},{"$f":"IF(A45=\"\",\"\",IF(AB45=\"A\",\"-\",Daten!F$7))","v":""},{"$f":"IF(A45=\"\",\"\",IF(AB45=\"A\",\"-\",IF(AND(Daten!F$8=0,O45=\"Putzbord\"),5-Q45,0)))","v":""},{"$f":"IF(A45=\"\",\"\",IF(AB45=\"A\",\"-\",IF(AND(Daten!F$8=0,S45=\"Putzbord\"),5-U45,0)))","v":""},{"$f":"IF(A45=\"\",\"\",IF(AB45=\"A\",\"-\",Daten!F$10))","v":""},{"$f":"IFERROR(IF(A45=\"\",\"\",VLOOKUP(N45,Daten!N$1:O$7,2,FALSE)),\"\")","v":""}]
[null,null,null,{"$f":"IF(A46=\"\",\"\",IF(Daten!B$3=TRUE,Daten!B$7,\"\"))","v":""},{"$f":"IFERROR(IF(C46=\"\",\"\",C46+(2*D46)+IF(O46=Daten!M$13,6,0)+IF(S46=Daten!M$13,6,0)+IF(Q46=\"-\",0,Q46)+IF(U46=\"-\",0,U46)),\"\")","v":""},{"$f":"IF(OR(A46=\"\",AND(F$1=0,Daten!F$3=FALSE)),\"\",Daten!B$6)","v":""},{"$f":"IF(A46=\"\",\"\",IF(Daten!B$5=\"??\",\"\",Daten!B$5))","v":""},{"$f":"IF(A46=\"\",\"\",IF(Daten!B$3=FALSE,\"\",Daten!B$4))","v":""},{"$f":"IFERROR(IF(A46=\"\",\"\",G46+H46+IF(AND(G46>0,H46>0),5,0))-IF(Daten!H$21=TRUE,H46,0),\"\")","v":""},{"$f":"IFERROR(IF(A46=\"\",\"\",I46+IF(Daten!H$21=TRUE,H46,0)+IF(F46=\"\",0,F46)-IF(Daten!F$3=TRUE,Daten!F$10,0)),\"\")","v":""},{"$f":"IF(A46=\"\",\"\",Daten!D$14)","v":""},{"$f":"IF(A46=\"\",\"\",Daten!D$12)","v":""},{"$f":"IF(A46=\"\",\"\",Daten!D$13)","v":""},{"$f":"IF(A46=\"\",\"\",Daten!M$2)","v":""},{"$f":"IF(A46=\"\",\"\",IF(Daten!D$6=Daten!N$11,Daten!M$11,IF(Daten!D$6=Daten!N$13,Daten!M$13,IF(AND(Daten!$D$6=Daten!$M$10,Daten!$D$8=TRUE),Daten!$M$14,Daten!D$6))))","v":""},{"$f":"IF($A46=\"\",\"\",IF(OR(O46=\"Putzbord\",O46=\"Flexila PU\"),Daten!$D$15,IF(OR(O46=\"Stehbord\",O46=\"Stehbord HB\",O46=\"Flexila STB\",O46=\"Jalousiebord\"),Daten!$D$19,\"-\")))","v":""},{"$f":"IF($A46=\"\",\"\",IF(O46=\"Putzbord\",Daten!$D$16,IF(O46=\"Flexila PU\",_xlfn.NUMBERVALUE(MID(Daten!$D$17,1,2)),\"-\")))","v":""},{"$f":"IF($A46=\"\",\"\",IF(OR(O46=\"Putzbord\",O46=\"Flexila PU\"),Daten!$D$18,IF(OR(O46=\"Stehbord\",O46=\"Stehbord HB\",O46=\"Flexila STB\",O46=\"Jalousiebord\"),Daten!$D$21,\"-\")))","v":""},{"$f":"IF(A46=\"\",\"\",IF(Daten!D$6=Daten!N$11,Daten!M$11,IF(Daten!D$6=Daten!N$13,Daten!M$13,IF(AND(Daten!$D$6=Daten!$M$10,Daten!$D$8=TRUE),Daten!$M$14,Daten!D$6))))","v":""},{"$f":"IF($A46=\"\",\"\",IF(OR(S46=\"Putzbord\",S46=\"Flexila PU\"),Daten!$D$15,IF(OR(S46=\"Stehbord\",S46=\"Stehbord HB\",S46=\"Flexila STB\",S46=\"Jalousiebord\"),Daten!$D$19,\"-\")))","v":""},{"$f":"IF($A46=\"\",\"\",IF(S46=\"Putzbord\",Daten!$D$16,IF(S46=\"Flexila PU\",_xlfn.NUMBERVALUE(MID(Daten!$D$17,1,2)),\"-\")))","v":""},{"$f":"IF($A46=\"\",\"\",IF(OR(S46=\"Putzbord\",S46=\"Flexila PU\"),Daten!$D$18,IF(OR(S46=\"Stehbord\",S46=\"Stehbord HB\",S46=\"Flexila STB\",S46=\"Jalousiebord\"),Daten!$D$21,\"-\")))","v":""},{"$f":"IF(A46=\"\",\"\",IF(AND(Daten!D$6=\"Jalousiebord\",OR(O46=\"Stehbord\",S46=\"Stehbord\")),\"Jalousienklinkung\",\"\"))","v":""},{"$f":"IF(W46=\"\",\"\",Daten!D$20)","v":""},null,null,{"$f":"IF(A46=\"\",\"\",IF(Daten!F$1=\"A\",\"Ohne\",IF(OR(N46=\"Gerstenkorn roh\",N46=\"Riffelblech roh\"),\"XPS\",Daten!F$2)))","v":""},{"$f":"IF(A46=\"\",\"\",IF(AA46=\"Ohne\",\"A\",IF(AA46=\"XPS\",IF(Daten!F$1=\"D\",\"B\",Daten!F$1),Daten!F$1)))","v":""},{"$f":"IF(A46=\"\",\"\",IF(AB46=\"A\",\"-\",Daten!F$7))","v":""},{"$f":"IF(A46=\"\",\"\",IF(AB46=\"A\",\"-\",IF(AND(Daten!F$8=0,O46=\"Putzbord\"),5-Q46,0)))","v":""},{"$f":"IF(A46=\"\",\"\",IF(AB46=\"A\",\"-\",IF(AND(Daten!F$8=0,S46=\"Putzbord\"),5-U46,0)))","v":""},{"$f":"IF(A46=\"\",\"\",IF(AB46=\"A\",\"-\",Daten!F$10))","v":""},{"$f":"IFERROR(IF(A46=\"\",\"\",VLOOKUP(N46,Daten!N$1:O$7,2,FALSE)),\"\")","v":""}]
[null,null,null,{"$f":"IF(A47=\"\",\"\",IF(Daten!B$3=TRUE,Daten!B$7,\"\"))","v":""},{"$f":"IFERROR(IF(C47=\"\",\"\",C47+(2*D47)+IF(O47=Daten!M$13,6,0)+IF(S47=Daten!M$13,6,0)+IF(Q47=\"-\",0,Q47)+IF(U47=\"-\",0,U47)),\"\")","v":""},{"$f":"IF(OR(A47=\"\",AND(F$1=0,Daten!F$3=FALSE)),\"\",Daten!B$6)","v":""},{"$f":"IF(A47=\"\",\"\",IF(Daten!B$5=\"??\",\"\",Daten!B$5))","v":""},{"$f":"IF(A47=\"\",\"\",IF(Daten!B$3=FALSE,\"\",Daten!B$4))","v":""},{"$f":"IFERROR(IF(A47=\"\",\"\",G47+H47+IF(AND(G47>0,H47>0),5,0))-IF(Daten!H$21=TRUE,H47,0),\"\")","v":""},{"$f":"IFERROR(IF(A47=\"\",\"\",I47+IF(Daten!H$21=TRUE,H47,0)+IF(F47=\"\",0,F47)-IF(Daten!F$3=TRUE,Daten!F$10,0)),\"\")","v":""},{"$f":"IF(A47=\"\",\"\",Daten!D$14)","v":""},{"$f":"IF(A47=\"\",\"\",Daten!D$12)","v":""},{"$f":"IF(A47=\"\",\"\",Daten!D$13)","v":""},{"$f":"IF(A47=\"\",\"\",Daten!M$2)","v":""},{"$f":"IF(A47=\"\",\"\",IF(Daten!D$6=Daten!N$11,Daten!M$11,IF(Daten!D$6=Daten!N$13,Daten!M$13,IF(AND(Daten!$D$6=Daten!$M$10,Daten!$D$8=TRUE),Daten!$M$14,Daten!D$6))))","v":""},{"$f":"IF($A47=\"\",\"\",IF(OR(O47=\"Putzbord\",O47=\"Flexila PU\"),Daten!$D$15,IF(OR(O47=\"Stehbord\",O47=\"Stehbord HB\",O47=\"Flexila STB\",O47=\"Jalousiebord\"),Daten!$D$19,\"-\")))","v":""},{"$f":"IF($A47=\"\",\"\",IF(O47=\"Putzbord\",Daten!$D$16,IF(O47=\"Flexila PU\",_xlfn.NUMBERVALUE(MID(Daten!$D$17,1,2)),\"-\")))","v":""},{"$f":"IF($A47=\"\",\"\",IF(OR(O47=\"Putzbord\",O47=\"Flexila PU\"),Daten!$D$18,IF(OR(O47=\"Stehbord\",O47=\"Stehbord HB\",O47=\"Flexila STB\",O47=\"Jalousiebord\"),Daten!$D$21,\"-\")))","v":""},{"$f":"IF(A47=\"\",\"\",IF(Daten!D$6=Daten!N$11,Daten!M$11,IF(Daten!D$6=Daten!N$13,Daten!M$13,IF(AND(Daten!$D$6=Daten!$M$10,Daten!$D$8=TRUE),Daten!$M$14,Daten!D$6))))","v":""},{"$f":"IF($A47=\"\",\"\",IF(OR(S47=\"Putzbord\",S47=\"Flexila PU\"),Daten!$D$15,IF(OR(S47=\"Stehbord\",S47=\"Stehbord HB\",S47=\"Flexila STB\",S47=\"Jalousiebord\"),Daten!$D$19,\"-\")))","v":""},{"$f":"IF($A47=\"\",\"\",IF(S47=\"Putzbord\",Daten!$D$16,IF(S47=\"Flexila PU\",_xlfn.NUMBERVALUE(MID(Daten!$D$17,1,2)),\"-\")))","v":""},{"$f":"IF($A47=\"\",\"\",IF(OR(S47=\"Putzbord\",S47=\"Flexila PU\"),Daten!$D$18,IF(OR(S47=\"Stehbord\",S47=\"Stehbord HB\",S47=\"Flexila STB\",S47=\"Jalousiebord\"),Daten!$D$21,\"-\")))","v":""},{"$f":"IF(A47=\"\",\"\",IF(AND(Daten!D$6=\"Jalousiebord\",OR(O47=\"Stehbord\",S47=\"Stehbord\")),\"Jalousienklinkung\",\"\"))","v":""},{"$f":"IF(W47=\"\",\"\",Daten!D$20)","v":""},null,null,{"$f":"IF(A47=\"\",\"\",IF(Daten!F$1=\"A\",\"Ohne\",IF(OR(N47=\"Gerstenkorn roh\",N47=\"Riffelblech roh\"),\"XPS\",Daten!F$2)))","v":""},{"$f":"IF(A47=\"\",\"\",IF(AA47=\"Ohne\",\"A\",IF(AA47=\"XPS\",IF(Daten!F$1=\"D\",\"B\",Daten!F$1),Daten!F$1)))","v":""},{"$f":"IF(A47=\"\",\"\",IF(AB47=\"A\",\"-\",Daten!F$7))","v":""},{"$f":"IF(A47=\"\",\"\",IF(AB47=\"A\",\"-\",IF(AND(Daten!F$8=0,O47=\"Putzbord\"),5-Q47,0)))","v":""},{"$f":"IF(A47=\"\",\"\",IF(AB47=\"A\",\"-\",IF(AND(Daten!F$8=0,S47=\"Putzbord\"),5-U47,0)))","v":""},{"$f":"IF(A47=\"\",\"\",IF(AB47=\"A\",\"-\",Daten!F$10))","v":""},{"$f":"IFERROR(IF(A47=\"\",\"\",VLOOKUP(N47,Daten!N$1:O$7,2,FALSE)),\"\")","v":""}]
[null,null,null,{"$f":"IF(A48=\"\",\"\",IF(Daten!B$3=TRUE,Daten!B$7,\"\"))","v":""},{"$f":"IFERROR(IF(C48=\"\",\"\",C48+(2*D48)+IF(O48=Daten!M$13,6,0)+IF(S48=Daten!M$13,6,0)+IF(Q48=\"-\",0,Q48)+IF(U48=\"-\",0,U48)),\"\")","v":""},{"$f":"IF(OR(A48=\"\",AND(F$1=0,Daten!F$3=FALSE)),\"\",Daten!B$6)","v":""},{"$f":"IF(A48=\"\",\"\",IF(Daten!B$5=\"??\",\"\",Daten!B$5))","v":""},{"$f":"IF(A48=\"\",\"\",IF(Daten!B$3=FALSE,\"\",Daten!B$4))","v":""},{"$f":"IFERROR(IF(A48=\"\",\"\",G48+H48+IF(AND(G48>0,H48>0),5,0))-IF(Daten!H$21=TRUE,H48,0),\"\")","v":""},{"$f":"IFERROR(IF(A48=\"\",\"\",I48+IF(Daten!H$21=TRUE,H48,0)+IF(F48=\"\",0,F48)-IF(Daten!F$3=TRUE,Daten!F$10,0)),\"\")","v":""},{"$f":"IF(A48=\"\",\"\",Daten!D$14)","v":""},{"$f":"IF(A48=\"\",\"\",Daten!D$12)","v":""},{"$f":"IF(A48=\"\",\"\",Daten!D$13)","v":""},{"$f":"IF(A48=\"\",\"\",Daten!M$2)","v":""},{"$f":"IF(A48=\"\",\"\",IF(Daten!D$6=Daten!N$11,Daten!M$11,IF(Daten!D$6=Daten!N$13,Daten!M$13,IF(AND(Daten!$D$6=Daten!$M$10,Daten!$D$8=TRUE),Daten!$M$14,Daten!D$6))))","v":""},{"$f":"IF($A48=\"\",\"\",IF(OR(O48=\"Putzbord\",O48=\"Flexila PU\"),Daten!$D$15,IF(OR(O48=\"Stehbord\",O48=\"Stehbord HB\",O48=\"Flexila STB\",O48=\"Jalousiebord\"),Daten!$D$19,\"-\")))","v":""},{"$f":"IF($A48=\"\",\"\",IF(O48=\"Putzbord\",Daten!$D$16,IF(O48=\"Flexila PU\",_xlfn.NUMBERVALUE(MID(Daten!$D$17,1,2)),\"-\")))","v":""},{"$f":"IF($A48=\"\",\"\",IF(OR(O48=\"Putzbord\",O48=\"Flexila PU\"),Daten!$D$18,IF(OR(O48=\"Stehbord\",O48=\"Stehbord HB\",O48=\"Flexila STB\",O48=\"Jalousiebord\"),Daten!$D$21,\"-\")))","v":""},{"$f":"IF(A48=\"\",\"\",IF(Daten!D$6=Daten!N$11,Daten!M$11,IF(Daten!D$6=Daten!N$13,Daten!M$13,IF(AND(Daten!$D$6=Daten!$M$10,Daten!$D$8=TRUE),Daten!$M$14,Daten!D$6))))","v":""},{"$f":"IF($A48=\"\",\"\",IF(OR(S48=\"Putzbord\",S48=\"Flexila PU\"),Daten!$D$15,IF(OR(S48=\"Stehbord\",S48=\"Stehbord HB\",S48=\"Flexila STB\",S48=\"Jalousiebord\"),Daten!$D$19,\"-\")))","v":""},{"$f":"IF($A48=\"\",\"\",IF(S48=\"Putzbord\",Daten!$D$16,IF(S48=\"Flexila PU\",_xlfn.NUMBERVALUE(MID(Daten!$D$17,1,2)),\"-\")))","v":""},{"$f":"IF($A48=\"\",\"\",IF(OR(S48=\"Putzbord\",S48=\"Flexila PU\"),Daten!$D$18,IF(OR(S48=\"Stehbord\",S48=\"Stehbord HB\",S48=\"Flexila STB\",S48=\"Jalousiebord\"),Daten!$D$21,\"-\")))","v":""},{"$f":"IF(A48=\"\",\"\",IF(AND(Daten!D$6=\"Jalousiebord\",OR(O48=\"Stehbord\",S48=\"Stehbord\")),\"Jalousienklinkung\",\"\"))","v":""},{"$f":"IF(W48=\"\",\"\",Daten!D$20)","v":""},null,null,{"$f":"IF(A48=\"\",\"\",IF(Daten!F$1=\"A\",\"Ohne\",IF(OR(N48=\"Gerstenkorn roh\",N48=\"Riffelblech roh\"),\"XPS\",Daten!F$2)))","v":""},{"$f":"IF(A48=\"\",\"\",IF(AA48=\"Ohne\",\"A\",IF(AA48=\"XPS\",IF(Daten!F$1=\"D\",\"B\",Daten!F$1),Daten!F$1)))","v":""},{"$f":"IF(A48=\"\",\"\",IF(AB48=\"A\",\"-\",Daten!F$7))","v":""},{"$f":"IF(A48=\"\",\"\",IF(AB48=\"A\",\"-\",IF(AND(Daten!F$8=0,O48=\"Putzbord\"),5-Q48,0)))","v":""},{"$f":"IF(A48=\"\",\"\",IF(AB48=\"A\",\"-\",IF(AND(Daten!F$8=0,S48=\"Putzbord\"),5-U48,0)))","v":""},{"$f":"IF(A48=\"\",\"\",IF(AB48=\"A\",\"-\",Daten!F$10))","v":""},{"$f":"IFERROR(IF(A48=\"\",\"\",VLOOKUP(N48,Daten!N$1:O$7,2,FALSE)),\"\")","v":""}]
[null,null,null,{"$f":"IF(A49=\"\",\"\",IF(Daten!B$3=TRUE,Daten!B$7,\"\"))","v":""},{"$f":"IFERROR(IF(C49=\"\",\"\",C49+(2*D49)+IF(O49=Daten!M$13,6,0)+IF(S49=Daten!M$13,6,0)+IF(Q49=\"-\",0,Q49)+IF(U49=\"-\",0,U49)),\"\")","v":""},{"$f":"IF(OR(A49=\"\",AND(F$1=0,Daten!F$3=FALSE)),\"\",Daten!B$6)","v":""},{"$f":"IF(A49=\"\",\"\",IF(Daten!B$5=\"??\",\"\",Daten!B$5))","v":""},{"$f":"IF(A49=\"\",\"\",IF(Daten!B$3=FALSE,\"\",Daten!B$4))","v":""},{"$f":"IFERROR(IF(A49=\"\",\"\",G49+H49+IF(AND(G49>0,H49>0),5,0))-IF(Daten!H$21=TRUE,H49,0),\"\")","v":""},{"$f":"IFERROR(IF(A49=\"\",\"\",I49+IF(Daten!H$21=TRUE,H49,0)+IF(F49=\"\",0,F49)-IF(Daten!F$3=TRUE,Daten!F$10,0)),\"\")","v":""},{"$f":"IF(A49=\"\",\"\",Daten!D$14)","v":""},{"$f":"IF(A49=\"\",\"\",Daten!D$12)","v":""},{"$f":"IF(A49=\"\",\"\",Daten!D$13)","v":""},{"$f":"IF(A49=\"\",\"\",Daten!M$2)","v":""},{"$f":"IF(A49=\"\",\"\",IF(Daten!D$6=Daten!N$11,Daten!M$11,IF(Daten!D$6=Daten!N$13,Daten!M$13,IF(AND(Daten!$D$6=Daten!$M$10,Daten!$D$8=TRUE),Daten!$M$14,Daten!D$6))))","v":""},{"$f":"IF($A49=\"\",\"\",IF(OR(O49=\"Putzbord\",O49=\"Flexila PU\"),Daten!$D$15,IF(OR(O49=\"Stehbord\",O49=\"Stehbord HB\",O49=\"Flexila STB\",O49=\"Jalousiebord\"),Daten!$D$19,\"-\")))","v":""},{"$f":"IF($A49=\"\",\"\",IF(O49=\"Putzbord\",Daten!$D$16,IF(O49=\"Flexila PU\",_xlfn.NUMBERVALUE(MID(Daten!$D$17,1,2)),\"-\")))","v":""},{"$f":"IF($A49=\"\",\"\",IF(OR(O49=\"Putzbord\",O49=\"Flexila PU\"),Daten!$D$18,IF(OR(O49=\"Stehbord\",O49=\"Stehbord HB\",O49=\"Flexila STB\",O49=\"Jalousiebord\"),Daten!$D$21,\"-\")))","v":""},{"$f":"IF(A49=\"\",\"\",IF(Daten!D$6=Daten!N$11,Daten!M$11,IF(Daten!D$6=Daten!N$13,Daten!M$13,IF(AND(Daten!$D$6=Daten!$M$10,Daten!$D$8=TRUE),Daten!$M$14,Daten!D$6))))","v":""},{"$f":"IF($A49=\"\",\"\",IF(OR(S49=\"Putzbord\",S49=\"Flexila PU\"),Daten!$D$15,IF(OR(S49=\"Stehbord\",S49=\"Stehbord HB\",S49=\"Flexila STB\",S49=\"Jalousiebord\"),Daten!$D$19,\"-\")))","v":""},{"$f":"IF($A49=\"\",\"\",IF(S49=\"Putzbord\",Daten!$D$16,IF(S49=\"Flexila PU\",_xlfn.NUMBERVALUE(MID(Daten!$D$17,1,2)),\"-\")))","v":""},{"$f":"IF($A49=\"\",\"\",IF(OR(S49=\"Putzbord\",S49=\"Flexila PU\"),Daten!$D$18,IF(OR(S49=\"Stehbord\",S49=\"Stehbord HB\",S49=\"Flexila STB\",S49=\"Jalousiebord\"),Daten!$D$21,\"-\")))","v":""},{"$f":"IF(A49=\"\",\"\",IF(AND(Daten!D$6=\"Jalousiebord\",OR(O49=\"Stehbord\",S49=\"Stehbord\")),\"Jalousienklinkung\",\"\"))","v":""},{"$f":"IF(W49=\"\",\"\",Daten!D$20)","v":""},null,null,{"$f":"IF(A49=\"\",\"\",IF(Daten!F$1=\"A\",\"Ohne\",IF(OR(N49=\"Gerstenkorn roh\",N49=\"Riffelblech roh\"),\"XPS\",Daten!F$2)))","v":""},{"$f":"IF(A49=\"\",\"\",IF(AA49=\"Ohne\",\"A\",IF(AA49=\"XPS\",IF(Daten!F$1=\"D\",\"B\",Daten!F$1),Daten!F$1)))","v":""},{"$f":"IF(A49=\"\",\"\",IF(AB49=\"A\",\"-\",Daten!F$7))","v":""},{"$f":"IF(A49=\"\",\"\",IF(AB49=\"A\",\"-\",IF(AND(Daten!F$8=0,O49=\"Putzbord\"),5-Q49,0)))","v":""},{"$f":"IF(A49=\"\",\"\",IF(AB49=\"A\",\"-\",IF(AND(Daten!F$8=0,S49=\"Putzbord\"),5-U49,0)))","v":""},{"$f":"IF(A49=\"\",\"\",IF(AB49=\"A\",\"-\",Daten!F$10))","v":""},{"$f":"IFERROR(IF(A49=\"\",\"\",VLOOKUP(N49,Daten!N$1:O$7,2,FALSE)),\"\")","v":""}]
[null,null,null,{"$f":"IF(A50=\"\",\"\",IF(Daten!B$3=TRUE,Daten!B$7,\"\"))","v":""},{"$f":"IFERROR(IF(C50=\"\",\"\",C50+(2*D50)+IF(O50=Daten!M$13,6,0)+IF(S50=Daten!M$13,6,0)+IF(Q50=\"-\",0,Q50)+IF(U50=\"-\",0,U50)),\"\")","v":""},{"$f":"IF(OR(A50=\"\",AND(F$1=0,Daten!F$3=FALSE)),\"\",Daten!B$6)","v":""},{"$f":"IF(A50=\"\",\"\",IF(Daten!B$5=\"??\",\"\",Daten!B$5))","v":""},{"$f":"IF(A50=\"\",\"\",IF(Daten!B$3=FALSE,\"\",Daten!B$4))","v":""},{"$f":"IFERROR(IF(A50=\"\",\"\",G50+H50+IF(AND(G50>0,H50>0),5,0))-IF(Daten!H$21=TRUE,H50,0),\"\")","v":""},{"$f":"IFERROR(IF(A50=\"\",\"\",I50+IF(Daten!H$21=TRUE,H50,0)+IF(F50=\"\",0,F50)-IF(Daten!F$3=TRUE,Daten!F$10,0)),\"\")","v":""},{"$f":"IF(A50=\"\",\"\",Daten!D$14)","v":""},{"$f":"IF(A50=\"\",\"\",Daten!D$12)","v":""},{"$f":"IF(A50=\"\",\"\",Daten!D$13)","v":""},{"$f":"IF(A50=\"\",\"\",Daten!M$2)","v":""},{"$f":"IF(A50=\"\",\"\",IF(Daten!D$6=Daten!N$11,Daten!M$11,IF(Daten!D$6=Daten!N$13,Daten!M$13,IF(AND(Daten!$D$6=Daten!$M$10,Daten!$D$8=TRUE),Daten!$M$14,Daten!D$6))))","v":""},{"$f":"IF($A50=\"\",\"\",IF(OR(O50=\"Putzbord\",O50=\"Flexila PU\"),Daten!$D$15,IF(OR(O50=\"Stehbord\",O50=\"Stehbord HB\",O50=\"Flexila STB\",O50=\"Jalousiebord\"),Daten!$D$19,\"-\")))","v":""},{"$f":"IF($A50=\"\",\"\",IF(O50=\"Putzbord\",Daten!$D$16,IF(O50=\"Flexila PU\",_xlfn.NUMBERVALUE(MID(Daten!$D$17,1,2)),\"-\")))","v":""},{"$f":"IF($A50=\"\",\"\",IF(OR(O50=\"Putzbord\",O50=\"Flexila PU\"),Daten!$D$18,IF(OR(O50=\"Stehbord\",O50=\"Stehbord HB\",O50=\"Flexila STB\",O50=\"Jalousiebord\"),Daten!$D$21,\"-\")))","v":""},{"$f":"IF(A50=\"\",\"\",IF(Daten!D$6=Daten!N$11,Daten!M$11,IF(Daten!D$6=Daten!N$13,Daten!M$13,IF(AND(Daten!$D$6=Daten!$M$10,Daten!$D$8=TRUE),Daten!$M$14,Daten!D$6))))","v":""},{"$f":"IF($A50=\"\",\"\",IF(OR(S50=\"Putzbord\",S50=\"Flexila PU\"),Daten!$D$15,IF(OR(S50=\"Stehbord\",S50=\"Stehbord HB\",S50=\"Flexila STB\",S50=\"Jalousiebord\"),Daten!$D$19,\"-\")))","v":""},{"$f":"IF($A50=\"\",\"\",IF(S50=\"Putzbord\",Daten!$D$16,IF(S50=\"Flexila PU\",_xlfn.NUMBERVALUE(MID(Daten!$D$17,1,2)),\"-\")))","v":""},{"$f":"IF($A50=\"\",\"\",IF(OR(S50=\"Putzbord\",S50=\"Flexila PU\"),Daten!$D$18,IF(OR(S50=\"Stehbord\",S50=\"Stehbord HB\",S50=\"Flexila STB\",S50=\"Jalousiebord\"),Daten!$D$21,\"-\")))","v":""},{"$f":"IF(A50=\"\",\"\",IF(AND(Daten!D$6=\"Jalousiebord\",OR(O50=\"Stehbord\",S50=\"Stehbord\")),\"Jalousienklinkung\",\"\"))","v":""},{"$f":"IF(W50=\"\",\"\",Daten!D$20)","v":""},null,null,{"$f":"IF(A50=\"\",\"\",IF(Daten!F$1=\"A\",\"Ohne\",IF(OR(N50=\"Gerstenkorn roh\",N50=\"Riffelblech roh\"),\"XPS\",Daten!F$2)))","v":""},{"$f":"IF(A50=\"\",\"\",IF(AA50=\"Ohne\",\"A\",IF(AA50=\"XPS\",IF(Daten!F$1=\"D\",\"B\",Daten!F$1),Daten!F$1)))","v":""},{"$f":"IF(A50=\"\",\"\",IF(AB50=\"A\",\"-\",Daten!F$7))","v":""},{"$f":"IF(A50=\"\",\"\",IF(AB50=\"A\",\"-\",IF(AND(Daten!F$8=0,O50=\"Putzbord\"),5-Q50,0)))","v":""},{"$f":"IF(A50=\"\",\"\",IF(AB50=\"A\",\"-\",IF(AND(Daten!F$8=0,S50=\"Putzbord\"),5-U50,0)))","v":""},{"$f":"IF(A50=\"\",\"\",IF(AB50=\"A\",\"-\",Daten!F$10))","v":""},{"$f":"IFERROR(IF(A50=\"\",\"\",VLOOKUP(N50,Daten!N$1:O$7,2,FALSE)),\"\")","v":""}]
[null,null,null,{"$f":"IF(A51=\"\",\"\",IF(Daten!B$3=TRUE,Daten!B$7,\"\"))","v":""},{"$f":"IFERROR(IF(C51=\"\",\"\",C51+(2*D51)+IF(O51=Daten!M$13,6,0)+IF(S51=Daten!M$13,6,0)+IF(Q51=\"-\",0,Q51)+IF(U51=\"-\",0,U51)),\"\")","v":""},{"$f":"IF(OR(A51=\"\",AND(F$1=0,Daten!F$3=FALSE)),\"\",Daten!B$6)","v":""},{"$f":"IF(A51=\"\",\"\",IF(Daten!B$5=\"??\",\"\",Daten!B$5))","v":""},{"$f":"IF(A51=\"\",\"\",IF(Daten!B$3=FALSE,\"\",Daten!B$4))","v":""},{"$f":"IFERROR(IF(A51=\"\",\"\",G51+H51+IF(AND(G51>0,H51>0),5,0))-IF(Daten!H$21=TRUE,H51,0),\"\")","v":""},{"$f":"IFERROR(IF(A51=\"\",\"\",I51+IF(Daten!H$21=TRUE,H51,0)+IF(F51=\"\",0,F51)-IF(Daten!F$3=TRUE,Daten!F$10,0)),\"\")","v":""},{"$f":"IF(A51=\"\",\"\",Daten!D$14)","v":""},{"$f":"IF(A51=\"\",\"\",Daten!D$12)","v":""},{"$f":"IF(A51=\"\",\"\",Daten!D$13)","v":""},{"$f":"IF(A51=\"\",\"\",Daten!M$2)","v":""},{"$f":"IF(A51=\"\",\"\",IF(Daten!D$6=Daten!N$11,Daten!M$11,IF(Daten!D$6=Daten!N$13,Daten!M$13,IF(AND(Daten!$D$6=Daten!$M$10,Daten!$D$8=TRUE),Daten!$M$14,Daten!D$6))))","v":""},{"$f":"IF($A51=\"\",\"\",IF(OR(O51=\"Putzbord\",O51=\"Flexila PU\"),Daten!$D$15,IF(OR(O51=\"Stehbord\",O51=\"Stehbord HB\",O51=\"Flexila STB\",O51=\"Jalousiebord\"),Daten!$D$19,\"-\")))","v":""},{"$f":"IF($A51=\"\",\"\",IF(O51=\"Putzbord\",Daten!$D$16,IF(O51=\"Flexila PU\",_xlfn.NUMBERVALUE(MID(Daten!$D$17,1,2)),\"-\")))","v":""},{"$f":"IF($A51=\"\",\"\",IF(OR(O51=\"Putzbord\",O51=\"Flexila PU\"),Daten!$D$18,IF(OR(O51=\"Stehbord\",O51=\"Stehbord HB\",O51=\"Flexila STB\",O51=\"Jalousiebord\"),Daten!$D$21,\"-\")))","v":""},{"$f":"IF(A51=\"\",\"\",IF(Daten!D$6=Daten!N$11,Daten!M$11,IF(Daten!D$6=Daten!N$13,Daten!M$13,IF(AND(Daten!$D$6=Daten!$M$10,Daten!$D$8=TRUE),Daten!$M$14,Daten!D$6))))","v":""},{"$f":"IF($A51=\"\",\"\",IF(OR(S51=\"Putzbord\",S51=\"Flexila PU\"),Daten!$D$15,IF(OR(S51=\"Stehbord\",S51=\"Stehbord HB\",S51=\"Flexila STB\",S51=\"Jalousiebord\"),Daten!$D$19,\"-\")))","v":""},{"$f":"IF($A51=\"\",\"\",IF(S51=\"Putzbord\",Daten!$D$16,IF(S51=\"Flexila PU\",_xlfn.NUMBERVALUE(MID(Daten!$D$17,1,2)),\"-\")))","v":""},{"$f":"IF($A51=\"\",\"\",IF(OR(S51=\"Putzbord\",S51=\"Flexila PU\"),Daten!$D$18,IF(OR(S51=\"Stehbord\",S51=\"Stehbord HB\",S51=\"Flexila STB\",S51=\"Jalousiebord\"),Daten!$D$21,\"-\")))","v":""},{"$f":"IF(A51=\"\",\"\",IF(AND(Daten!D$6=\"Jalousiebord\",OR(O51=\"Stehbord\",S51=\"Stehbord\")),\"Jalousienklinkung\",\"\"))","v":""},{"$f":"IF(W51=\"\",\"\",Daten!D$20)","v":""},null,null,{"$f":"IF(A51=\"\",\"\",IF(Daten!F$1=\"A\",\"Ohne\",IF(OR(N51=\"Gerstenkorn roh\",N51=\"Riffelblech roh\"),\"XPS\",Daten!F$2)))","v":""},{"$f":"IF(A51=\"\",\"\",IF(AA51=\"Ohne\",\"A\",IF(AA51=\"XPS\",IF(Daten!F$1=\"D\",\"B\",Daten!F$1),Daten!F$1)))","v":""},{"$f":"IF(A51=\"\",\"\",IF(AB51=\"A\",\"-\",Daten!F$7))","v":""},{"$f":"IF(A51=\"\",\"\",IF(AB51=\"A\",\"-\",IF(AND(Daten!F$8=0,O51=\"Putzbord\"),5-Q51,0)))","v":""},{"$f":"IF(A51=\"\",\"\",IF(AB51=\"A\",\"-\",IF(AND(Daten!F$8=0,S51=\"Putzbord\"),5-U51,0)))","v":""},{"$f":"IF(A51=\"\",\"\",IF(AB51=\"A\",\"-\",Daten!F$10))","v":""},{"$f":"IFERROR(IF(A51=\"\",\"\",VLOOKUP(N51,Daten!N$1:O$7,2,FALSE)),\"\")","v":""}]
[null,null,null,{"$f":"IF(A52=\"\",\"\",IF(Daten!B$3=TRUE,Daten!B$7,\"\"))","v":""},{"$f":"IFERROR(IF(C52=\"\",\"\",C52+(2*D52)+IF(O52=Daten!M$13,6,0)+IF(S52=Daten!M$13,6,0)+IF(Q52=\"-\",0,Q52)+IF(U52=\"-\",0,U52)),\"\")","v":""},{"$f":"IF(OR(A52=\"\",AND(F$1=0,Daten!F$3=FALSE)),\"\",Daten!B$6)","v":""},{"$f":"IF(A52=\"\",\"\",IF(Daten!B$5=\"??\",\"\",Daten!B$5))","v":""},{"$f":"IF(A52=\"\",\"\",IF(Daten!B$3=FALSE,\"\",Daten!B$4))","v":""},{"$f":"IFERROR(IF(A52=\"\",\"\",G52+H52+IF(AND(G52>0,H52>0),5,0))-IF(Daten!H$21=TRUE,H52,0),\"\")","v":""},{"$f":"IFERROR(IF(A52=\"\",\"\",I52+IF(Daten!H$21=TRUE,H52,0)+IF(F52=\"\",0,F52)-IF(Daten!F$3=TRUE,Daten!F$10,0)),\"\")","v":""},{"$f":"IF(A52=\"\",\"\",Daten!D$14)","v":""},{"$f":"IF(A52=\"\",\"\",Daten!D$12)","v":""},{"$f":"IF(A52=\"\",\"\",Daten!D$13)","v":""},{"$f":"IF(A52=\"\",\"\",Daten!M$2)","v":""},{"$f":"IF(A52=\"\",\"\",IF(Daten!D$6=Daten!N$11,Daten!M$11,IF(Daten!D$6=Daten!N$13,Daten!M$13,IF(AND(Daten!$D$6=Daten!$M$10,Daten!$D$8=TRUE),Daten!$M$14,Daten!D$6))))","v":""},{"$f":"IF($A52=\"\",\"\",IF(OR(O52=\"Putzbord\",O52=\"Flexila PU\"),Daten!$D$15,IF(OR(O52=\"Stehbord\",O52=\"Stehbord HB\",O52=\"Flexila STB\",O52=\"Jalousiebord\"),Daten!$D$19,\"-\")))","v":""},{"$f":"IF($A52=\"\",\"\",IF(O52=\"Putzbord\",Daten!$D$16,IF(O52=\"Flexila PU\",_xlfn.NUMBERVALUE(MID(Daten!$D$17,1,2)),\"-\")))","v":""},{"$f":"IF($A52=\"\",\"\",IF(OR(O52=\"Putzbord\",O52=\"Flexila PU\"),Daten!$D$18,IF(OR(O52=\"Stehbord\",O52=\"Stehbord HB\",O52=\"Flexila STB\",O52=\"Jalousiebord\"),Daten!$D$21,\"-\")))","v":""},{"$f":"IF(A52=\"\",\"\",IF(Daten!D$6=Daten!N$11,Daten!M$11,IF(Daten!D$6=Daten!N$13,Daten!M$13,IF(AND(Daten!$D$6=Daten!$M$10,Daten!$D$8=TRUE),Daten!$M$14,Daten!D$6))))","v":""},{"$f":"IF($A52=\"\",\"\",IF(OR(S52=\"Putzbord\",S52=\"Flexila PU\"),Daten!$D$15,IF(OR(S52=\"Stehbord\",S52=\"Stehbord HB\",S52=\"Flexila STB\",S52=\"Jalousiebord\"),Daten!$D$19,\"-\")))","v":""},{"$f":"IF($A52=\"\",\"\",IF(S52=\"Putzbord\",Daten!$D$16,IF(S52=\"Flexila PU\",_xlfn.NUMBERVALUE(MID(Daten!$D$17,1,2)),\"-\")))","v":""},{"$f":"IF($A52=\"\",\"\",IF(OR(S52=\"Putzbord\",S52=\"Flexila PU\"),Daten!$D$18,IF(OR(S52=\"Stehbord\",S52=\"Stehbord HB\",S52=\"Flexila STB\",S52=\"Jalousiebord\"),Daten!$D$21,\"-\")))","v":""},{"$f":"IF(A52=\"\",\"\",IF(AND(Daten!D$6=\"Jalousiebord\",OR(O52=\"Stehbord\",S52=\"Stehbord\")),\"Jalousienklinkung\",\"\"))","v":""},{"$f":"IF(W52=\"\",\"\",Daten!D$20)","v":""},null,null,{"$f":"IF(A52=\"\",\"\",IF(Daten!F$1=\"A\",\"Ohne\",IF(OR(N52=\"Gerstenkorn roh\",N52=\"Riffelblech roh\"),\"XPS\",Daten!F$2)))","v":""},{"$f":"IF(A52=\"\",\"\",IF(AA52=\"Ohne\",\"A\",IF(AA52=\"XPS\",IF(Daten!F$1=\"D\",\"B\",Daten!F$1),Daten!F$1)))","v":""},{"$f":"IF(A52=\"\",\"\",IF(AB52=\"A\",\"-\",Daten!F$7))","v":""},{"$f":"IF(A52=\"\",\"\",IF(AB52=\"A\",\"-\",IF(AND(Daten!F$8=0,O52=\"Putzbord\"),5-Q52,0)))","v":""},{"$f":"IF(A52=\"\",\"\",IF(AB52=\"A\",\"-\",IF(AND(Daten!F$8=0,S52=\"Putzbord\"),5-U52,0)))","v":""},{"$f":"IF(A52=\"\",\"\",IF(AB52=\"A\",\"-\",Daten!F$10))","v":""},{"$f":"IFERROR(IF(A52=\"\",\"\",VLOOKUP(N52,Daten!N$1:O$7,2,FALSE)),\"\")","v":""}]
[null,null,null,{"$f":"IF(A53=\"\",\"\",IF(Daten!B$3=TRUE,Daten!B$7,\"\"))","v":""},{"$f":"IFERROR(IF(C53=\"\",\"\",C53+(2*D53)+IF(O53=Daten!M$13,6,0)+IF(S53=Daten!M$13,6,0)+IF(Q53=\"-\",0,Q53)+IF(U53=\"-\",0,U53)),\"\")","v":""},{"$f":"IF(OR(A53=\"\",AND(F$1=0,Daten!F$3=FALSE)),\"\",Daten!B$6)","v":""},{"$f":"IF(A53=\"\",\"\",IF(Daten!B$5=\"??\",\"\",Daten!B$5))","v":""},{"$f":"IF(A53=\"\",\"\",IF(Daten!B$3=FALSE,\"\",Daten!B$4))","v":""},{"$f":"IFERROR(IF(A53=\"\",\"\",G53+H53+IF(AND(G53>0,H53>0),5,0))-IF(Daten!H$21=TRUE,H53,0),\"\")","v":""},{"$f":"IFERROR(IF(A53=\"\",\"\",I53+IF(Daten!H$21=TRUE,H53,0)+IF(F53=\"\",0,F53)-IF(Daten!F$3=TRUE,Daten!F$10,0)),\"\")","v":""},{"$f":"IF(A53=\"\",\"\",Daten!D$14)","v":""},{"$f":"IF(A53=\"\",\"\",Daten!D$12)","v":""},{"$f":"IF(A53=\"\",\"\",Daten!D$13)","v":""},{"$f":"IF(A53=\"\",\"\",Daten!M$2)","v":""},{"$f":"IF(A53=\"\",\"\",IF(Daten!D$6=Daten!N$11,Daten!M$11,IF(Daten!D$6=Daten!N$13,Daten!M$13,IF(AND(Daten!$D$6=Daten!$M$10,Daten!$D$8=TRUE),Daten!$M$14,Daten!D$6))))","v":""},{"$f":"IF($A53=\"\",\"\",IF(OR(O53=\"Putzbord\",O53=\"Flexila PU\"),Daten!$D$15,IF(OR(O53=\"Stehbord\",O53=\"Stehbord HB\",O53=\"Flexila STB\",O53=\"Jalousiebord\"),Daten!$D$19,\"-\")))","v":""},{"$f":"IF($A53=\"\",\"\",IF(O53=\"Putzbord\",Daten!$D$16,IF(O53=\"Flexila PU\",_xlfn.NUMBERVALUE(MID(Daten!$D$17,1,2)),\"-\")))","v":""},{"$f":"IF($A53=\"\",\"\",IF(OR(O53=\"Putzbord\",O53=\"Flexila PU\"),Daten!$D$18,IF(OR(O53=\"Stehbord\",O53=\"Stehbord HB\",O53=\"Flexila STB\",O53=\"Jalousiebord\"),Daten!$D$21,\"-\")))","v":""},{"$f":"IF(A53=\"\",\"\",IF(Daten!D$6=Daten!N$11,Daten!M$11,IF(Daten!D$6=Daten!N$13,Daten!M$13,IF(AND(Daten!$D$6=Daten!$M$10,Daten!$D$8=TRUE),Daten!$M$14,Daten!D$6))))","v":""},{"$f":"IF($A53=\"\",\"\",IF(OR(S53=\"Putzbord\",S53=\"Flexila PU\"),Daten!$D$15,IF(OR(S53=\"Stehbord\",S53=\"Stehbord HB\",S53=\"Flexila STB\",S53=\"Jalousiebord\"),Daten!$D$19,\"-\")))","v":""},{"$f":"IF($A53=\"\",\"\",IF(S53=\"Putzbord\",Daten!$D$16,IF(S53=\"Flexila PU\",_xlfn.NUMBERVALUE(MID(Daten!$D$17,1,2)),\"-\")))","v":""},{"$f":"IF($A53=\"\",\"\",IF(OR(S53=\"Putzbord\",S53=\"Flexila PU\"),Daten!$D$18,IF(OR(S53=\"Stehbord\",S53=\"Stehbord HB\",S53=\"Flexila STB\",S53=\"Jalousiebord\"),Daten!$D$21,\"-\")))","v":""},{"$f":"IF(A53=\"\",\"\",IF(AND(Daten!D$6=\"Jalousiebord\",OR(O53=\"Stehbord\",S53=\"Stehbord\")),\"Jalousienklinkung\",\"\"))","v":""},{"$f":"IF(W53=\"\",\"\",Daten!D$20)","v":""},null,null,{"$f":"IF(A53=\"\",\"\",IF(Daten!F$1=\"A\",\"Ohne\",IF(OR(N53=\"Gerstenkorn roh\",N53=\"Riffelblech roh\"),\"XPS\",Daten!F$2)))","v":""},{"$f":"IF(A53=\"\",\"\",IF(AA53=\"Ohne\",\"A\",IF(AA53=\"XPS\",IF(Daten!F$1=\"D\",\"B\",Daten!F$1),Daten!F$1)))","v":""},{"$f":"IF(A53=\"\",\"\",IF(AB53=\"A\",\"-\",Daten!F$7))","v":""},{"$f":"IF(A53=\"\",\"\",IF(AB53=\"A\",\"-\",IF(AND(Daten!F$8=0,O53=\"Putzbord\"),5-Q53,0)))","v":""},{"$f":"IF(A53=\"\",\"\",IF(AB53=\"A\",\"-\",IF(AND(Daten!F$8=0,S53=\"Putzbord\"),5-U53,0)))","v":""},{"$f":"IF(A53=\"\",\"\",IF(AB53=\"A\",\"-\",Daten!F$10))","v":""},{"$f":"IFERROR(IF(A53=\"\",\"\",VLOOKUP(N53,Daten!N$1:O$7,2,FALSE)),\"\")","v":""}]
[null,null,null,{"$f":"IF(A54=\"\",\"\",IF(Daten!B$3=TRUE,Daten!B$7,\"\"))","v":""},{"$f":"IFERROR(IF(C54=\"\",\"\",C54+(2*D54)+IF(O54=Daten!M$13,6,0)+IF(S54=Daten!M$13,6,0)+IF(Q54=\"-\",0,Q54)+IF(U54=\"-\",0,U54)),\"\")","v":""},{"$f":"IF(OR(A54=\"\",AND(F$1=0,Daten!F$3=FALSE)),\"\",Daten!B$6)","v":""},{"$f":"IF(A54=\"\",\"\",IF(Daten!B$5=\"??\",\"\",Daten!B$5))","v":""},{"$f":"IF(A54=\"\",\"\",IF(Daten!B$3=FALSE,\"\",Daten!B$4))","v":""},{"$f":"IFERROR(IF(A54=\"\",\"\",G54+H54+IF(AND(G54>0,H54>0),5,0))-IF(Daten!H$21=TRUE,H54,0),\"\")","v":""},{"$f":"IFERROR(IF(A54=\"\",\"\",I54+IF(Daten!H$21=TRUE,H54,0)+IF(F54=\"\",0,F54)-IF(Daten!F$3=TRUE,Daten!F$10,0)),\"\")","v":""},{"$f":"IF(A54=\"\",\"\",Daten!D$14)","v":""},{"$f":"IF(A54=\"\",\"\",Daten!D$12)","v":""},{"$f":"IF(A54=\"\",\"\",Daten!D$13)","v":""},{"$f":"IF(A54=\"\",\"\",Daten!M$2)","v":""},{"$f":"IF(A54=\"\",\"\",IF(Daten!D$6=Daten!N$11,Daten!M$11,IF(Daten!D$6=Daten!N$13,Daten!M$13,IF(AND(Daten!$D$6=Daten!$M$10,Daten!$D$8=TRUE),Daten!$M$14,Daten!D$6))))","v":""},{"$f":"IF($A54=\"\",\"\",IF(OR(O54=\"Putzbord\",O54=\"Flexila PU\"),Daten!$D$15,IF(OR(O54=\"Stehbord\",O54=\"Stehbord HB\",O54=\"Flexila STB\",O54=\"Jalousiebord\"),Daten!$D$19,\"-\")))","v":""},{"$f":"IF($A54=\"\",\"\",IF(O54=\"Putzbord\",Daten!$D$16,IF(O54=\"Flexila PU\",_xlfn.NUMBERVALUE(MID(Daten!$D$17,1,2)),\"-\")))","v":""},{"$f":"IF($A54=\"\",\"\",IF(OR(O54=\"Putzbord\",O54=\"Flexila PU\"),Daten!$D$18,IF(OR(O54=\"Stehbord\",O54=\"Stehbord HB\",O54=\"Flexila STB\",O54=\"Jalousiebord\"),Daten!$D$21,\"-\")))","v":""},{"$f":"IF(A54=\"\",\"\",IF(Daten!D$6=Daten!N$11,Daten!M$11,IF(Daten!D$6=Daten!N$13,Daten!M$13,IF(AND(Daten!$D$6=Daten!$M$10,Daten!$D$8=TRUE),Daten!$M$14,Daten!D$6))))","v":""},{"$f":"IF($A54=\"\",\"\",IF(OR(S54=\"Putzbord\",S54=\"Flexila PU\"),Daten!$D$15,IF(OR(S54=\"Stehbord\",S54=\"Stehbord HB\",S54=\"Flexila STB\",S54=\"Jalousiebord\"),Daten!$D$19,\"-\")))","v":""},{"$f":"IF($A54=\"\",\"\",IF(S54=\"Putzbord\",Daten!$D$16,IF(S54=\"Flexila PU\",_xlfn.NUMBERVALUE(MID(Daten!$D$17,1,2)),\"-\")))","v":""},{"$f":"IF($A54=\"\",\"\",IF(OR(S54=\"Putzbord\",S54=\"Flexila PU\"),Daten!$D$18,IF(OR(S54=\"Stehbord\",S54=\"Stehbord HB\",S54=\"Flexila STB\",S54=\"Jalousiebord\"),Daten!$D$21,\"-\")))","v":""},{"$f":"IF(A54=\"\",\"\",IF(AND(Daten!D$6=\"Jalousiebord\",OR(O54=\"Stehbord\",S54=\"Stehbord\")),\"Jalousienklinkung\",\"\"))","v":""},{"$f":"IF(W54=\"\",\"\",Daten!D$20)","v":""},null,null,{"$f":"IF(A54=\"\",\"\",IF(Daten!F$1=\"A\",\"Ohne\",IF(OR(N54=\"Gerstenkorn roh\",N54=\"Riffelblech roh\"),\"XPS\",Daten!F$2)))","v":""},{"$f":"IF(A54=\"\",\"\",IF(AA54=\"Ohne\",\"A\",IF(AA54=\"XPS\",IF(Daten!F$1=\"D\",\"B\",Daten!F$1),Daten!F$1)))","v":""},{"$f":"IF(A54=\"\",\"\",IF(AB54=\"A\",\"-\",Daten!F$7))","v":""},{"$f":"IF(A54=\"\",\"\",IF(AB54=\"A\",\"-\",IF(AND(Daten!F$8=0,O54=\"Putzbord\"),5-Q54,0)))","v":""},{"$f":"IF(A54=\"\",\"\",IF(AB54=\"A\",\"-\",IF(AND(Daten!F$8=0,S54=\"Putzbord\"),5-U54,0)))","v":""},{"$f":"IF(A54=\"\",\"\",IF(AB54=\"A\",\"-\",Daten!F$10))","v":""},{"$f":"IFERROR(IF(A54=\"\",\"\",VLOOKUP(N54,Daten!N$1:O$7,2,FALSE)),\"\")","v":""}]
[null,null,null,{"$f":"IF(A55=\"\",\"\",IF(Daten!B$3=TRUE,Daten!B$7,\"\"))","v":""},{"$f":"IFERROR(IF(C55=\"\",\"\",C55+(2*D55)+IF(O55=Daten!M$13,6,0)+IF(S55=Daten!M$13,6,0)+IF(Q55=\"-\",0,Q55)+IF(U55=\"-\",0,U55)),\"\")","v":""},{"$f":"IF(OR(A55=\"\",AND(F$1=0,Daten!F$3=FALSE)),\"\",Daten!B$6)","v":""},{"$f":"IF(A55=\"\",\"\",IF(Daten!B$5=\"??\",\"\",Daten!B$5))","v":""},{"$f":"IF(A55=\"\",\"\",IF(Daten!B$3=FALSE,\"\",Daten!B$4))","v":""},{"$f":"IFERROR(IF(A55=\"\",\"\",G55+H55+IF(AND(G55>0,H55>0),5,0))-IF(Daten!H$21=TRUE,H55,0),\"\")","v":""},{"$f":"IFERROR(IF(A55=\"\",\"\",I55+IF(Daten!H$21=TRUE,H55,0)+IF(F55=\"\",0,F55)-IF(Daten!F$3=TRUE,Daten!F$10,0)),\"\")","v":""},{"$f":"IF(A55=\"\",\"\",Daten!D$14)","v":""},{"$f":"IF(A55=\"\",\"\",Daten!D$12)","v":""},{"$f":"IF(A55=\"\",\"\",Daten!D$13)","v":""},{"$f":"IF(A55=\"\",\"\",Daten!M$2)","v":""},{"$f":"IF(A55=\"\",\"\",IF(Daten!D$6=Daten!N$11,Daten!M$11,IF(Daten!D$6=Daten!N$13,Daten!M$13,IF(AND(Daten!$D$6=Daten!$M$10,Daten!$D$8=TRUE),Daten!$M$14,Daten!D$6))))","v":""},{"$f":"IF($A55=\"\",\"\",IF(OR(O55=\"Putzbord\",O55=\"Flexila PU\"),Daten!$D$15,IF(OR(O55=\"Stehbord\",O55=\"Stehbord HB\",O55=\"Flexila STB\",O55=\"Jalousiebord\"),Daten!$D$19,\"-\")))","v":""},{"$f":"IF($A55=\"\",\"\",IF(O55=\"Putzbord\",Daten!$D$16,IF(O55=\"Flexila PU\",_xlfn.NUMBERVALUE(MID(Daten!$D$17,1,2)),\"-\")))","v":""},{"$f":"IF($A55=\"\",\"\",IF(OR(O55=\"Putzbord\",O55=\"Flexila PU\"),Daten!$D$18,IF(OR(O55=\"Stehbord\",O55=\"Stehbord HB\",O55=\"Flexila STB\",O55=\"Jalousiebord\"),Daten!$D$21,\"-\")))","v":""},{"$f":"IF(A55=\"\",\"\",IF(Daten!D$6=Daten!N$11,Daten!M$11,IF(Daten!D$6=Daten!N$13,Daten!M$13,IF(AND(Daten!$D$6=Daten!$M$10,Daten!$D$8=TRUE),Daten!$M$14,Daten!D$6))))","v":""},{"$f":"IF($A55=\"\",\"\",IF(OR(S55=\"Putzbord\",S55=\"Flexila PU\"),Daten!$D$15,IF(OR(S55=\"Stehbord\",S55=\"Stehbord HB\",S55=\"Flexila STB\",S55=\"Jalousiebord\"),Daten!$D$19,\"-\")))","v":""},{"$f":"IF($A55=\"\",\"\",IF(S55=\"Putzbord\",Daten!$D$16,IF(S55=\"Flexila PU\",_xlfn.NUMBERVALUE(MID(Daten!$D$17,1,2)),\"-\")))","v":""},{"$f":"IF($A55=\"\",\"\",IF(OR(S55=\"Putzbord\",S55=\"Flexila PU\"),Daten!$D$18,IF(OR(S55=\"Stehbord\",S55=\"Stehbord HB\",S55=\"Flexila STB\",S55=\"Jalousiebord\"),Daten!$D$21,\"-\")))","v":""},{"$f":"IF(A55=\"\",\"\",IF(AND(Daten!D$6=\"Jalousiebord\",OR(O55=\"Stehbord\",S55=\"Stehbord\")),\"Jalousienklinkung\",\"\"))","v":""},{"$f":"IF(W55=\"\",\"\",Daten!D$20)","v":""},null,null,{"$f":"IF(A55=\"\",\"\",IF(Daten!F$1=\"A\",\"Ohne\",IF(OR(N55=\"Gerstenkorn roh\",N55=\"Riffelblech roh\"),\"XPS\",Daten!F$2)))","v":""},{"$f":"IF(A55=\"\",\"\",IF(AA55=\"Ohne\",\"A\",IF(AA55=\"XPS\",IF(Daten!F$1=\"D\",\"B\",Daten!F$1),Daten!F$1)))","v":""},{"$f":"IF(A55=\"\",\"\",IF(AB55=\"A\",\"-\",Daten!F$7))","v":""},{"$f":"IF(A55=\"\",\"\",IF(AB55=\"A\",\"-\",IF(AND(Daten!F$8=0,O55=\"Putzbord\"),5-Q55,0)))","v":""},{"$f":"IF(A55=\"\",\"\",IF(AB55=\"A\",\"-\",IF(AND(Daten!F$8=0,S55=\"Putzbord\"),5-U55,0)))","v":""},{"$f":"IF(A55=\"\",\"\",IF(AB55=\"A\",\"-\",Daten!F$10))","v":""},{"$f":"IFERROR(IF(A55=\"\",\"\",VLOOKUP(N55,Daten!N$1:O$7,2,FALSE)),\"\")","v":""}]
[null,null,null,{"$f":"IF(A56=\"\",\"\",IF(Daten!B$3=TRUE,Daten!B$7,\"\"))","v":""},{"$f":"IFERROR(IF(C56=\"\",\"\",C56+(2*D56)+IF(O56=Daten!M$13,6,0)+IF(S56=Daten!M$13,6,0)+IF(Q56=\"-\",0,Q56)+IF(U56=\"-\",0,U56)),\"\")","v":""},{"$f":"IF(OR(A56=\"\",AND(F$1=0,Daten!F$3=FALSE)),\"\",Daten!B$6)","v":""},{"$f":"IF(A56=\"\",\"\",IF(Daten!B$5=\"??\",\"\",Daten!B$5))","v":""},{"$f":"IF(A56=\"\",\"\",IF(Daten!B$3=FALSE,\"\",Daten!B$4))","v":""},{"$f":"IFERROR(IF(A56=\"\",\"\",G56+H56+IF(AND(G56>0,H56>0),5,0))-IF(Daten!H$21=TRUE,H56,0),\"\")","v":""},{"$f":"IFERROR(IF(A56=\"\",\"\",I56+IF(Daten!H$21=TRUE,H56,0)+IF(F56=\"\",0,F56)-IF(Daten!F$3=TRUE,Daten!F$10,0)),\"\")","v":""},{"$f":"IF(A56=\"\",\"\",Daten!D$14)","v":""},{"$f":"IF(A56=\"\",\"\",Daten!D$12)","v":""},{"$f":"IF(A56=\"\",\"\",Daten!D$13)","v":""},{"$f":"IF(A56=\"\",\"\",Daten!M$2)","v":""},{"$f":"IF(A56=\"\",\"\",IF(Daten!D$6=Daten!N$11,Daten!M$11,IF(Daten!D$6=Daten!N$13,Daten!M$13,IF(AND(Daten!$D$6=Daten!$M$10,Daten!$D$8=TRUE),Daten!$M$14,Daten!D$6))))","v":""},{"$f":"IF($A56=\"\",\"\",IF(OR(O56=\"Putzbord\",O56=\"Flexila PU\"),Daten!$D$15,IF(OR(O56=\"Stehbord\",O56=\"Stehbord HB\",O56=\"Flexila STB\",O56=\"Jalousiebord\"),Daten!$D$19,\"-\")))","v":""},{"$f":"IF($A56=\"\",\"\",IF(O56=\"Putzbord\",Daten!$D$16,IF(O56=\"Flexila PU\",_xlfn.NUMBERVALUE(MID(Daten!$D$17,1,2)),\"-\")))","v":""},{"$f":"IF($A56=\"\",\"\",IF(OR(O56=\"Putzbord\",O56=\"Flexila PU\"),Daten!$D$18,IF(OR(O56=\"Stehbord\",O56=\"Stehbord HB\",O56=\"Flexila STB\",O56=\"Jalousiebord\"),Daten!$D$21,\"-\")))","v":""},{"$f":"IF(A56=\"\",\"\",IF(Daten!D$6=Daten!N$11,Daten!M$11,IF(Daten!D$6=Daten!N$13,Daten!M$13,IF(AND(Daten!$D$6=Daten!$M$10,Daten!$D$8=TRUE),Daten!$M$14,Daten!D$6))))","v":""},{"$f":"IF($A56=\"\",\"\",IF(OR(S56=\"Putzbord\",S56=\"Flexila PU\"),Daten!$D$15,IF(OR(S56=\"Stehbord\",S56=\"Stehbord HB\",S56=\"Flexila STB\",S56=\"Jalousiebord\"),Daten!$D$19,\"-\")))","v":""},{"$f":"IF($A56=\"\",\"\",IF(S56=\"Putzbord\",Daten!$D$16,IF(S56=\"Flexila PU\",_xlfn.NUMBERVALUE(MID(Daten!$D$17,1,2)),\"-\")))","v":""},{"$f":"IF($A56=\"\",\"\",IF(OR(S56=\"Putzbord\",S56=\"Flexila PU\"),Daten!$D$18,IF(OR(S56=\"Stehbord\",S56=\"Stehbord HB\",S56=\"Flexila STB\",S56=\"Jalousiebord\"),Daten!$D$21,\"-\")))","v":""},{"$f":"IF(A56=\"\",\"\",IF(AND(Daten!D$6=\"Jalousiebord\",OR(O56=\"Stehbord\",S56=\"Stehbord\")),\"Jalousienklinkung\",\"\"))","v":""},{"$f":"IF(W56=\"\",\"\",Daten!D$20)","v":""},null,null,{"$f":"IF(A56=\"\",\"\",IF(Daten!F$1=\"A\",\"Ohne\",IF(OR(N56=\"Gerstenkorn roh\",N56=\"Riffelblech roh\"),\"XPS\",Daten!F$2)))","v":""},{"$f":"IF(A56=\"\",\"\",IF(AA56=\"Ohne\",\"A\",IF(AA56=\"XPS\",IF(Daten!F$1=\"D\",\"B\",Daten!F$1),Daten!F$1)))","v":""},{"$f":"IF(A56=\"\",\"\",IF(AB56=\"A\",\"-\",Daten!F$7))","v":""},{"$f":"IF(A56=\"\",\"\",IF(AB56=\"A\",\"-\",IF(AND(Daten!F$8=0,O56=\"Putzbord\"),5-Q56,0)))","v":""},{"$f":"IF(A56=\"\",\"\",IF(AB56=\"A\",\"-\",IF(AND(Daten!F$8=0,S56=\"Putzbord\"),5-U56,0)))","v":""},{"$f":"IF(A56=\"\",\"\",IF(AB56=\"A\",\"-\",Daten!F$10))","v":""},{"$f":"IFERROR(IF(A56=\"\",\"\",VLOOKUP(N56,Daten!N$1:O$7,2,FALSE)),\"\")","v":""}]
[null,null,null,{"$f":"IF(A57=\"\",\"\",IF(Daten!B$3=TRUE,Daten!B$7,\"\"))","v":""},{"$f":"IFERROR(IF(C57=\"\",\"\",C57+(2*D57)+IF(O57=Daten!M$13,6,0)+IF(S57=Daten!M$13,6,0)+IF(Q57=\"-\",0,Q57)+IF(U57=\"-\",0,U57)),\"\")","v":""},{"$f":"IF(OR(A57=\"\",AND(F$1=0,Daten!F$3=FALSE)),\"\",Daten!B$6)","v":""},{"$f":"IF(A57=\"\",\"\",IF(Daten!B$5=\"??\",\"\",Daten!B$5))","v":""},{"$f":"IF(A57=\"\",\"\",IF(Daten!B$3=FALSE,\"\",Daten!B$4))","v":""},{"$f":"IFERROR(IF(A57=\"\",\"\",G57+H57+IF(AND(G57>0,H57>0),5,0))-IF(Daten!H$21=TRUE,H57,0),\"\")","v":""},{"$f":"IFERROR(IF(A57=\"\",\"\",I57+IF(Daten!H$21=TRUE,H57,0)+IF(F57=\"\",0,F57)-IF(Daten!F$3=TRUE,Daten!F$10,0)),\"\")","v":""},{"$f":"IF(A57=\"\",\"\",Daten!D$14)","v":""},{"$f":"IF(A57=\"\",\"\",Daten!D$12)","v":""},{"$f":"IF(A57=\"\",\"\",Daten!D$13)","v":""},{"$f":"IF(A57=\"\",\"\",Daten!M$2)","v":""},{"$f":"IF(A57=\"\",\"\",IF(Daten!D$6=Daten!N$11,Daten!M$11,IF(Daten!D$6=Daten!N$13,Daten!M$13,IF(AND(Daten!$D$6=Daten!$M$10,Daten!$D$8=TRUE),Daten!$M$14,Daten!D$6))))","v":""},{"$f":"IF($A57=\"\",\"\",IF(OR(O57=\"Putzbord\",O57=\"Flexila PU\"),Daten!$D$15,IF(OR(O57=\"Stehbord\",O57=\"Stehbord HB\",O57=\"Flexila STB\",O57=\"Jalousiebord\"),Daten!$D$19,\"-\")))","v":""},{"$f":"IF($A57=\"\",\"\",IF(O57=\"Putzbord\",Daten!$D$16,IF(O57=\"Flexila PU\",_xlfn.NUMBERVALUE(MID(Daten!$D$17,1,2)),\"-\")))","v":""},{"$f":"IF($A57=\"\",\"\",IF(OR(O57=\"Putzbord\",O57=\"Flexila PU\"),Daten!$D$18,IF(OR(O57=\"Stehbord\",O57=\"Stehbord HB\",O57=\"Flexila STB\",O57=\"Jalousiebord\"),Daten!$D$21,\"-\")))","v":""},{"$f":"IF(A57=\"\",\"\",IF(Daten!D$6=Daten!N$11,Daten!M$11,IF(Daten!D$6=Daten!N$13,Daten!M$13,IF(AND(Daten!$D$6=Daten!$M$10,Daten!$D$8=TRUE),Daten!$M$14,Daten!D$6))))","v":""},{"$f":"IF($A57=\"\",\"\",IF(OR(S57=\"Putzbord\",S57=\"Flexila PU\"),Daten!$D$15,IF(OR(S57=\"Stehbord\",S57=\"Stehbord HB\",S57=\"Flexila STB\",S57=\"Jalousiebord\"),Daten!$D$19,\"-\")))","v":""},{"$f":"IF($A57=\"\",\"\",IF(S57=\"Putzbord\",Daten!$D$16,IF(S57=\"Flexila PU\",_xlfn.NUMBERVALUE(MID(Daten!$D$17,1,2)),\"-\")))","v":""},{"$f":"IF($A57=\"\",\"\",IF(OR(S57=\"Putzbord\",S57=\"Flexila PU\"),Daten!$D$18,IF(OR(S57=\"Stehbord\",S57=\"Stehbord HB\",S57=\"Flexila STB\",S57=\"Jalousiebord\"),Daten!$D$21,\"-\")))","v":""},{"$f":"IF(A57=\"\",\"\",IF(AND(Daten!D$6=\"Jalousiebord\",OR(O57=\"Stehbord\",S57=\"Stehbord\")),\"Jalousienklinkung\",\"\"))","v":""},{"$f":"IF(W57=\"\",\"\",Daten!D$20)","v":""},null,null,{"$f":"IF(A57=\"\",\"\",IF(Daten!F$1=\"A\",\"Ohne\",IF(OR(N57=\"Gerstenkorn roh\",N57=\"Riffelblech roh\"),\"XPS\",Daten!F$2)))","v":""},{"$f":"IF(A57=\"\",\"\",IF(AA57=\"Ohne\",\"A\",IF(AA57=\"XPS\",IF(Daten!F$1=\"D\",\"B\",Daten!F$1),Daten!F$1)))","v":""},{"$f":"IF(A57=\"\",\"\",IF(AB57=\"A\",\"-\",Daten!F$7))","v":""},{"$f":"IF(A57=\"\",\"\",IF(AB57=\"A\",\"-\",IF(AND(Daten!F$8=0,O57=\"Putzbord\"),5-Q57,0)))","v":""},{"$f":"IF(A57=\"\",\"\",IF(AB57=\"A\",\"-\",IF(AND(Daten!F$8=0,S57=\"Putzbord\"),5-U57,0)))","v":""},{"$f":"IF(A57=\"\",\"\",IF(AB57=\"A\",\"-\",Daten!F$10))","v":""},{"$f":"IFERROR(IF(A57=\"\",\"\",VLOOKUP(N57,Daten!N$1:O$7,2,FALSE)),\"\")","v":""}]
[null,null,null,{"$f":"IF(A58=\"\",\"\",IF(Daten!B$3=TRUE,Daten!B$7,\"\"))","v":""},{"$f":"IFERROR(IF(C58=\"\",\"\",C58+(2*D58)+IF(O58=Daten!M$13,6,0)+IF(S58=Daten!M$13,6,0)+IF(Q58=\"-\",0,Q58)+IF(U58=\"-\",0,U58)),\"\")","v":""},{"$f":"IF(OR(A58=\"\",AND(F$1=0,Daten!F$3=FALSE)),\"\",Daten!B$6)","v":""},{"$f":"IF(A58=\"\",\"\",IF(Daten!B$5=\"??\",\"\",Daten!B$5))","v":""},{"$f":"IF(A58=\"\",\"\",IF(Daten!B$3=FALSE,\"\",Daten!B$4))","v":""},{"$f":"IFERROR(IF(A58=\"\",\"\",G58+H58+IF(AND(G58>0,H58>0),5,0))-IF(Daten!H$21=TRUE,H58,0),\"\")","v":""},{"$f":"IFERROR(IF(A58=\"\",\"\",I58+IF(Daten!H$21=TRUE,H58,0)+IF(F58=\"\",0,F58)-IF(Daten!F$3=TRUE,Daten!F$10,0)),\"\")","v":""},{"$f":"IF(A58=\"\",\"\",Daten!D$14)","v":""},{"$f":"IF(A58=\"\",\"\",Daten!D$12)","v":""},{"$f":"IF(A58=\"\",\"\",Daten!D$13)","v":""},{"$f":"IF(A58=\"\",\"\",Daten!M$2)","v":""},{"$f":"IF(A58=\"\",\"\",IF(Daten!D$6=Daten!N$11,Daten!M$11,IF(Daten!D$6=Daten!N$13,Daten!M$13,IF(AND(Daten!$D$6=Daten!$M$10,Daten!$D$8=TRUE),Daten!$M$14,Daten!D$6))))","v":""},{"$f":"IF($A58=\"\",\"\",IF(OR(O58=\"Putzbord\",O58=\"Flexila PU\"),Daten!$D$15,IF(OR(O58=\"Stehbord\",O58=\"Stehbord HB\",O58=\"Flexila STB\",O58=\"Jalousiebord\"),Daten!$D$19,\"-\")))","v":""},{"$f":"IF($A58=\"\",\"\",IF(O58=\"Putzbord\",Daten!$D$16,IF(O58=\"Flexila PU\",_xlfn.NUMBERVALUE(MID(Daten!$D$17,1,2)),\"-\")))","v":""},{"$f":"IF($A58=\"\",\"\",IF(OR(O58=\"Putzbord\",O58=\"Flexila PU\"),Daten!$D$18,IF(OR(O58=\"Stehbord\",O58=\"Stehbord HB\",O58=\"Flexila STB\",O58=\"Jalousiebord\"),Daten!$D$21,\"-\")))","v":""},{"$f":"IF(A58=\"\",\"\",IF(Daten!D$6=Daten!N$11,Daten!M$11,IF(Daten!D$6=Daten!N$13,Daten!M$13,IF(AND(Daten!$D$6=Daten!$M$10,Daten!$D$8=TRUE),Daten!$M$14,Daten!D$6))))","v":""},{"$f":"IF($A58=\"\",\"\",IF(OR(S58=\"Putzbord\",S58=\"Flexila PU\"),Daten!$D$15,IF(OR(S58=\"Stehbord\",S58=\"Stehbord HB\",S58=\"Flexila STB\",S58=\"Jalousiebord\"),Daten!$D$19,\"-\")))","v":""},{"$f":"IF($A58=\"\",\"\",IF(S58=\"Putzbord\",Daten!$D$16,IF(S58=\"Flexila PU\",_xlfn.NUMBERVALUE(MID(Daten!$D$17,1,2)),\"-\")))","v":""},{"$f":"IF($A58=\"\",\"\",IF(OR(S58=\"Putzbord\",S58=\"Flexila PU\"),Daten!$D$18,IF(OR(S58=\"Stehbord\",S58=\"Stehbord HB\",S58=\"Flexila STB\",S58=\"Jalousiebord\"),Daten!$D$21,\"-\")))","v":""},{"$f":"IF(A58=\"\",\"\",IF(AND(Daten!D$6=\"Jalousiebord\",OR(O58=\"Stehbord\",S58=\"Stehbord\")),\"Jalousienklinkung\",\"\"))","v":""},{"$f":"IF(W58=\"\",\"\",Daten!D$20)","v":""},null,null,{"$f":"IF(A58=\"\",\"\",IF(Daten!F$1=\"A\",\"Ohne\",IF(OR(N58=\"Gerstenkorn roh\",N58=\"Riffelblech roh\"),\"XPS\",Daten!F$2)))","v":""},{"$f":"IF(A58=\"\",\"\",IF(AA58=\"Ohne\",\"A\",IF(AA58=\"XPS\",IF(Daten!F$1=\"D\",\"B\",Daten!F$1),Daten!F$1)))","v":""},{"$f":"IF(A58=\"\",\"\",IF(AB58=\"A\",\"-\",Daten!F$7))","v":""},{"$f":"IF(A58=\"\",\"\",IF(AB58=\"A\",\"-\",IF(AND(Daten!F$8=0,O58=\"Putzbord\"),5-Q58,0)))","v":""},{"$f":"IF(A58=\"\",\"\",IF(AB58=\"A\",\"-\",IF(AND(Daten!F$8=0,S58=\"Putzbord\"),5-U58,0)))","v":""},{"$f":"IF(A58=\"\",\"\",IF(AB58=\"A\",\"-\",Daten!F$10))","v":""},{"$f":"IFERROR(IF(A58=\"\",\"\",VLOOKUP(N58,Daten!N$1:O$7,2,FALSE)),\"\")","v":""}]
[null,null,null,{"$f":"IF(A59=\"\",\"\",IF(Daten!B$3=TRUE,Daten!B$7,\"\"))","v":""},{"$f":"IFERROR(IF(C59=\"\",\"\",C59+(2*D59)+IF(O59=Daten!M$13,6,0)+IF(S59=Daten!M$13,6,0)+IF(Q59=\"-\",0,Q59)+IF(U59=\"-\",0,U59)),\"\")","v":""},{"$f":"IF(OR(A59=\"\",AND(F$1=0,Daten!F$3=FALSE)),\"\",Daten!B$6)","v":""},{"$f":"IF(A59=\"\",\"\",IF(Daten!B$5=\"??\",\"\",Daten!B$5))","v":""},{"$f":"IF(A59=\"\",\"\",IF(Daten!B$3=FALSE,\"\",Daten!B$4))","v":""},{"$f":"IFERROR(IF(A59=\"\",\"\",G59+H59+IF(AND(G59>0,H59>0),5,0))-IF(Daten!H$21=TRUE,H59,0),\"\")","v":""},{"$f":"IFERROR(IF(A59=\"\",\"\",I59+IF(Daten!H$21=TRUE,H59,0)+IF(F59=\"\",0,F59)-IF(Daten!F$3=TRUE,Daten!F$10,0)),\"\")","v":""},{"$f":"IF(A59=\"\",\"\",Daten!D$14)","v":""},{"$f":"IF(A59=\"\",\"\",Daten!D$12)","v":""},{"$f":"IF(A59=\"\",\"\",Daten!D$13)","v":""},{"$f":"IF(A59=\"\",\"\",Daten!M$2)","v":""},{"$f":"IF(A59=\"\",\"\",IF(Daten!D$6=Daten!N$11,Daten!M$11,IF(Daten!D$6=Daten!N$13,Daten!M$13,IF(AND(Daten!$D$6=Daten!$M$10,Daten!$D$8=TRUE),Daten!$M$14,Daten!D$6))))","v":""},{"$f":"IF($A59=\"\",\"\",IF(OR(O59=\"Putzbord\",O59=\"Flexila PU\"),Daten!$D$15,IF(OR(O59=\"Stehbord\",O59=\"Stehbord HB\",O59=\"Flexila STB\",O59=\"Jalousiebord\"),Daten!$D$19,\"-\")))","v":""},{"$f":"IF($A59=\"\",\"\",IF(O59=\"Putzbord\",Daten!$D$16,IF(O59=\"Flexila PU\",_xlfn.NUMBERVALUE(MID(Daten!$D$17,1,2)),\"-\")))","v":""},{"$f":"IF($A59=\"\",\"\",IF(OR(O59=\"Putzbord\",O59=\"Flexila PU\"),Daten!$D$18,IF(OR(O59=\"Stehbord\",O59=\"Stehbord HB\",O59=\"Flexila STB\",O59=\"Jalousiebord\"),Daten!$D$21,\"-\")))","v":""},{"$f":"IF(A59=\"\",\"\",IF(Daten!D$6=Daten!N$11,Daten!M$11,IF(Daten!D$6=Daten!N$13,Daten!M$13,IF(AND(Daten!$D$6=Daten!$M$10,Daten!$D$8=TRUE),Daten!$M$14,Daten!D$6))))","v":""},{"$f":"IF($A59=\"\",\"\",IF(OR(S59=\"Putzbord\",S59=\"Flexila PU\"),Daten!$D$15,IF(OR(S59=\"Stehbord\",S59=\"Stehbord HB\",S59=\"Flexila STB\",S59=\"Jalousiebord\"),Daten!$D$19,\"-\")))","v":""},{"$f":"IF($A59=\"\",\"\",IF(S59=\"Putzbord\",Daten!$D$16,IF(S59=\"Flexila PU\",_xlfn.NUMBERVALUE(MID(Daten!$D$17,1,2)),\"-\")))","v":""},{"$f":"IF($A59=\"\",\"\",IF(OR(S59=\"Putzbord\",S59=\"Flexila PU\"),Daten!$D$18,IF(OR(S59=\"Stehbord\",S59=\"Stehbord HB\",S59=\"Flexila STB\",S59=\"Jalousiebord\"),Daten!$D$21,\"-\")))","v":""},{"$f":"IF(A59=\"\",\"\",IF(AND(Daten!D$6=\"Jalousiebord\",OR(O59=\"Stehbord\",S59=\"Stehbord\")),\"Jalousienklinkung\",\"\"))","v":""},{"$f":"IF(W59=\"\",\"\",Daten!D$20)","v":""},null,null,{"$f":"IF(A59=\"\",\"\",IF(Daten!F$1=\"A\",\"Ohne\",IF(OR(N59=\"Gerstenkorn roh\",N59=\"Riffelblech roh\"),\"XPS\",Daten!F$2)))","v":""},{"$f":"IF(A59=\"\",\"\",IF(AA59=\"Ohne\",\"A\",IF(AA59=\"XPS\",IF(Daten!F$1=\"D\",\"B\",Daten!F$1),Daten!F$1)))","v":""},{"$f":"IF(A59=\"\",\"\",IF(AB59=\"A\",\"-\",Daten!F$7))","v":""},{"$f":"IF(A59=\"\",\"\",IF(AB59=\"A\",\"-\",IF(AND(Daten!F$8=0,O59=\"Putzbord\"),5-Q59,0)))","v":""},{"$f":"IF(A59=\"\",\"\",IF(AB59=\"A\",\"-\",IF(AND(Daten!F$8=0,S59=\"Putzbord\"),5-U59,0)))","v":""},{"$f":"IF(A59=\"\",\"\",IF(AB59=\"A\",\"-\",Daten!F$10))","v":""},{"$f":"IFERROR(IF(A59=\"\",\"\",VLOOKUP(N59,Daten!N$1:O$7,2,FALSE)),\"\")","v":""}]
[null,null,null,{"$f":"IF(A60=\"\",\"\",IF(Daten!B$3=TRUE,Daten!B$7,\"\"))","v":""},{"$f":"IFERROR(IF(C60=\"\",\"\",C60+(2*D60)+IF(O60=Daten!M$13,6,0)+IF(S60=Daten!M$13,6,0)+IF(Q60=\"-\",0,Q60)+IF(U60=\"-\",0,U60)),\"\")","v":""},{"$f":"IF(OR(A60=\"\",AND(F$1=0,Daten!F$3=FALSE)),\"\",Daten!B$6)","v":""},{"$f":"IF(A60=\"\",\"\",IF(Daten!B$5=\"??\",\"\",Daten!B$5))","v":""},{"$f":"IF(A60=\"\",\"\",IF(Daten!B$3=FALSE,\"\",Daten!B$4))","v":""},{"$f":"IFERROR(IF(A60=\"\",\"\",G60+H60+IF(AND(G60>0,H60>0),5,0))-IF(Daten!H$21=TRUE,H60,0),\"\")","v":""},{"$f":"IFERROR(IF(A60=\"\",\"\",I60+IF(Daten!H$21=TRUE,H60,0)+IF(F60=\"\",0,F60)-IF(Daten!F$3=TRUE,Daten!F$10,0)),\"\")","v":""},{"$f":"IF(A60=\"\",\"\",Daten!D$14)","v":""},{"$f":"IF(A60=\"\",\"\",Daten!D$12)","v":""},{"$f":"IF(A60=\"\",\"\",Daten!D$13)","v":""},{"$f":"IF(A60=\"\",\"\",Daten!M$2)","v":""},{"$f":"IF(A60=\"\",\"\",IF(Daten!D$6=Daten!N$11,Daten!M$11,IF(Daten!D$6=Daten!N$13,Daten!M$13,IF(AND(Daten!$D$6=Daten!$M$10,Daten!$D$8=TRUE),Daten!$M$14,Daten!D$6))))","v":""},{"$f":"IF($A60=\"\",\"\",IF(OR(O60=\"Putzbord\",O60=\"Flexila PU\"),Daten!$D$15,IF(OR(O60=\"Stehbord\",O60=\"Stehbord HB\",O60=\"Flexila STB\",O60=\"Jalousiebord\"),Daten!$D$19,\"-\")))","v":""},{"$f":"IF($A60=\"\",\"\",IF(O60=\"Putzbord\",Daten!$D$16,IF(O60=\"Flexila PU\",_xlfn.NUMBERVALUE(MID(Daten!$D$17,1,2)),\"-\")))","v":""},{"$f":"IF($A60=\"\",\"\",IF(OR(O60=\"Putzbord\",O60=\"Flexila PU\"),Daten!$D$18,IF(OR(O60=\"Stehbord\",O60=\"Stehbord HB\",O60=\"Flexila STB\",O60=\"Jalousiebord\"),Daten!$D$21,\"-\")))","v":""},{"$f":"IF(A60=\"\",\"\",IF(Daten!D$6=Daten!N$11,Daten!M$11,IF(Daten!D$6=Daten!N$13,Daten!M$13,IF(AND(Daten!$D$6=Daten!$M$10,Daten!$D$8=TRUE),Daten!$M$14,Daten!D$6))))","v":""},{"$f":"IF($A60=\"\",\"\",IF(OR(S60=\"Putzbord\",S60=\"Flexila PU\"),Daten!$D$15,IF(OR(S60=\"Stehbord\",S60=\"Stehbord HB\",S60=\"Flexila STB\",S60=\"Jalousiebord\"),Daten!$D$19,\"-\")))","v":""},{"$f":"IF($A60=\"\",\"\",IF(S60=\"Putzbord\",Daten!$D$16,IF(S60=\"Flexila PU\",_xlfn.NUMBERVALUE(MID(Daten!$D$17,1,2)),\"-\")))","v":""},{"$f":"IF($A60=\"\",\"\",IF(OR(S60=\"Putzbord\",S60=\"Flexila PU\"),Daten!$D$18,IF(OR(S60=\"Stehbord\",S60=\"Stehbord HB\",S60=\"Flexila STB\",S60=\"Jalousiebord\"),Daten!$D$21,\"-\")))","v":""},{"$f":"IF(A60=\"\",\"\",IF(AND(Daten!D$6=\"Jalousiebord\",OR(O60=\"Stehbord\",S60=\"Stehbord\")),\"Jalousienklinkung\",\"\"))","v":""},{"$f":"IF(W60=\"\",\"\",Daten!D$20)","v":""},null,null,{"$f":"IF(A60=\"\",\"\",IF(Daten!F$1=\"A\",\"Ohne\",IF(OR(N60=\"Gerstenkorn roh\",N60=\"Riffelblech roh\"),\"XPS\",Daten!F$2)))","v":""},{"$f":"IF(A60=\"\",\"\",IF(AA60=\"Ohne\",\"A\",IF(AA60=\"XPS\",IF(Daten!F$1=\"D\",\"B\",Daten!F$1),Daten!F$1)))","v":""},{"$f":"IF(A60=\"\",\"\",IF(AB60=\"A\",\"-\",Daten!F$7))","v":""},{"$f":"IF(A60=\"\",\"\",IF(AB60=\"A\",\"-\",IF(AND(Daten!F$8=0,O60=\"Putzbord\"),5-Q60,0)))","v":""},{"$f":"IF(A60=\"\",\"\",IF(AB60=\"A\",\"-\",IF(AND(Daten!F$8=0,S60=\"Putzbord\"),5-U60,0)))","v":""},{"$f":"IF(A60=\"\",\"\",IF(AB60=\"A\",\"-\",Daten!F$10))","v":""},{"$f":"IFERROR(IF(A60=\"\",\"\",VLOOKUP(N60,Daten!N$1:O$7,2,FALSE)),\"\")","v":""}]
[null,null,null,{"$f":"IF(A61=\"\",\"\",IF(Daten!B$3=TRUE,Daten!B$7,\"\"))","v":""},{"$f":"IFERROR(IF(C61=\"\",\"\",C61+(2*D61)+IF(O61=Daten!M$13,6,0)+IF(S61=Daten!M$13,6,0)+IF(Q61=\"-\",0,Q61)+IF(U61=\"-\",0,U61)),\"\")","v":""},{"$f":"IF(OR(A61=\"\",AND(F$1=0,Daten!F$3=FALSE)),\"\",Daten!B$6)","v":""},{"$f":"IF(A61=\"\",\"\",IF(Daten!B$5=\"??\",\"\",Daten!B$5))","v":""},{"$f":"IF(A61=\"\",\"\",IF(Daten!B$3=FALSE,\"\",Daten!B$4))","v":""},{"$f":"IFERROR(IF(A61=\"\",\"\",G61+H61+IF(AND(G61>0,H61>0),5,0))-IF(Daten!H$21=TRUE,H61,0),\"\")","v":""},{"$f":"IFERROR(IF(A61=\"\",\"\",I61+IF(Daten!H$21=TRUE,H61,0)+IF(F61=\"\",0,F61)-IF(Daten!F$3=TRUE,Daten!F$10,0)),\"\")","v":""},{"$f":"IF(A61=\"\",\"\",Daten!D$14)","v":""},{"$f":"IF(A61=\"\",\"\",Daten!D$12)","v":""},{"$f":"IF(A61=\"\",\"\",Daten!D$13)","v":""},{"$f":"IF(A61=\"\",\"\",Daten!M$2)","v":""},{"$f":"IF(A61=\"\",\"\",IF(Daten!D$6=Daten!N$11,Daten!M$11,IF(Daten!D$6=Daten!N$13,Daten!M$13,IF(AND(Daten!$D$6=Daten!$M$10,Daten!$D$8=TRUE),Daten!$M$14,Daten!D$6))))","v":""},{"$f":"IF($A61=\"\",\"\",IF(OR(O61=\"Putzbord\",O61=\"Flexila PU\"),Daten!$D$15,IF(OR(O61=\"Stehbord\",O61=\"Stehbord HB\",O61=\"Flexila STB\",O61=\"Jalousiebord\"),Daten!$D$19,\"-\")))","v":""},{"$f":"IF($A61=\"\",\"\",IF(O61=\"Putzbord\",Daten!$D$16,IF(O61=\"Flexila PU\",_xlfn.NUMBERVALUE(MID(Daten!$D$17,1,2)),\"-\")))","v":""},{"$f":"IF($A61=\"\",\"\",IF(OR(O61=\"Putzbord\",O61=\"Flexila PU\"),Daten!$D$18,IF(OR(O61=\"Stehbord\",O61=\"Stehbord HB\",O61=\"Flexila STB\",O61=\"Jalousiebord\"),Daten!$D$21,\"-\")))","v":""},{"$f":"IF(A61=\"\",\"\",IF(Daten!D$6=Daten!N$11,Daten!M$11,IF(Daten!D$6=Daten!N$13,Daten!M$13,IF(AND(Daten!$D$6=Daten!$M$10,Daten!$D$8=TRUE),Daten!$M$14,Daten!D$6))))","v":""},{"$f":"IF($A61=\"\",\"\",IF(OR(S61=\"Putzbord\",S61=\"Flexila PU\"),Daten!$D$15,IF(OR(S61=\"Stehbord\",S61=\"Stehbord HB\",S61=\"Flexila STB\",S61=\"Jalousiebord\"),Daten!$D$19,\"-\")))","v":""},{"$f":"IF($A61=\"\",\"\",IF(S61=\"Putzbord\",Daten!$D$16,IF(S61=\"Flexila PU\",_xlfn.NUMBERVALUE(MID(Daten!$D$17,1,2)),\"-\")))","v":""},{"$f":"IF($A61=\"\",\"\",IF(OR(S61=\"Putzbord\",S61=\"Flexila PU\"),Daten!$D$18,IF(OR(S61=\"Stehbord\",S61=\"Stehbord HB\",S61=\"Flexila STB\",S61=\"Jalousiebord\"),Daten!$D$21,\"-\")))","v":""},{"$f":"IF(A61=\"\",\"\",IF(AND(Daten!D$6=\"Jalousiebord\",OR(O61=\"Stehbord\",S61=\"Stehbord\")),\"Jalousienklinkung\",\"\"))","v":""},{"$f":"IF(W61=\"\",\"\",Daten!D$20)","v":""},null,null,{"$f":"IF(A61=\"\",\"\",IF(Daten!F$1=\"A\",\"Ohne\",IF(OR(N61=\"Gerstenkorn roh\",N61=\"Riffelblech roh\"),\"XPS\",Daten!F$2)))","v":""},{"$f":"IF(A61=\"\",\"\",IF(AA61=\"Ohne\",\"A\",IF(AA61=\"XPS\",IF(Daten!F$1=\"D\",\"B\",Daten!F$1),Daten!F$1)))","v":""},{"$f":"IF(A61=\"\",\"\",IF(AB61=\"A\",\"-\",Daten!F$7))","v":""},{"$f":"IF(A61=\"\",\"\",IF(AB61=\"A\",\"-\",IF(AND(Daten!F$8=0,O61=\"Putzbord\"),5-Q61,0)))","v":""},{"$f":"IF(A61=\"\",\"\",IF(AB61=\"A\",\"-\",IF(AND(Daten!F$8=0,S61=\"Putzbord\"),5-U61,0)))","v":""},{"$f":"IF(A61=\"\",\"\",IF(AB61=\"A\",\"-\",Daten!F$10))","v":""},{"$f":"IFERROR(IF(A61=\"\",\"\",VLOOKUP(N61,Daten!N$1:O$7,2,FALSE)),\"\")","v":""}]
[null,null,null,{"$f":"IF(A62=\"\",\"\",IF(Daten!B$3=TRUE,Daten!B$7,\"\"))","v":""},{"$f":"IFERROR(IF(C62=\"\",\"\",C62+(2*D62)+IF(O62=Daten!M$13,6,0)+IF(S62=Daten!M$13,6,0)+IF(Q62=\"-\",0,Q62)+IF(U62=\"-\",0,U62)),\"\")","v":""},{"$f":"IF(OR(A62=\"\",AND(F$1=0,Daten!F$3=FALSE)),\"\",Daten!B$6)","v":""},{"$f":"IF(A62=\"\",\"\",IF(Daten!B$5=\"??\",\"\",Daten!B$5))","v":""},{"$f":"IF(A62=\"\",\"\",IF(Daten!B$3=FALSE,\"\",Daten!B$4))","v":""},{"$f":"IFERROR(IF(A62=\"\",\"\",G62+H62+IF(AND(G62>0,H62>0),5,0))-IF(Daten!H$21=TRUE,H62,0),\"\")","v":""},{"$f":"IFERROR(IF(A62=\"\",\"\",I62+IF(Daten!H$21=TRUE,H62,0)+IF(F62=\"\",0,F62)-IF(Daten!F$3=TRUE,Daten!F$10,0)),\"\")","v":""},{"$f":"IF(A62=\"\",\"\",Daten!D$14)","v":""},{"$f":"IF(A62=\"\",\"\",Daten!D$12)","v":""},{"$f":"IF(A62=\"\",\"\",Daten!D$13)","v":""},{"$f":"IF(A62=\"\",\"\",Daten!M$2)","v":""},{"$f":"IF(A62=\"\",\"\",IF(Daten!D$6=Daten!N$11,Daten!M$11,IF(Daten!D$6=Daten!N$13,Daten!M$13,IF(AND(Daten!$D$6=Daten!$M$10,Daten!$D$8=TRUE),Daten!$M$14,Daten!D$6))))","v":""},{"$f":"IF($A62=\"\",\"\",IF(OR(O62=\"Putzbord\",O62=\"Flexila PU\"),Daten!$D$15,IF(OR(O62=\"Stehbord\",O62=\"Stehbord HB\",O62=\"Flexila STB\",O62=\"Jalousiebord\"),Daten!$D$19,\"-\")))","v":""},{"$f":"IF($A62=\"\",\"\",IF(O62=\"Putzbord\",Daten!$D$16,IF(O62=\"Flexila PU\",_xlfn.NUMBERVALUE(MID(Daten!$D$17,1,2)),\"-\")))","v":""},{"$f":"IF($A62=\"\",\"\",IF(OR(O62=\"Putzbord\",O62=\"Flexila PU\"),Daten!$D$18,IF(OR(O62=\"Stehbord\",O62=\"Stehbord HB\",O62=\"Flexila STB\",O62=\"Jalousiebord\"),Daten!$D$21,\"-\")))","v":""},{"$f":"IF(A62=\"\",\"\",IF(Daten!D$6=Daten!N$11,Daten!M$11,IF(Daten!D$6=Daten!N$13,Daten!M$13,IF(AND(Daten!$D$6=Daten!$M$10,Daten!$D$8=TRUE),Daten!$M$14,Daten!D$6))))","v":""},{"$f":"IF($A62=\"\",\"\",IF(OR(S62=\"Putzbord\",S62=\"Flexila PU\"),Daten!$D$15,IF(OR(S62=\"Stehbord\",S62=\"Stehbord HB\",S62=\"Flexila STB\",S62=\"Jalousiebord\"),Daten!$D$19,\"-\")))","v":""},{"$f":"IF($A62=\"\",\"\",IF(S62=\"Putzbord\",Daten!$D$16,IF(S62=\"Flexila PU\",_xlfn.NUMBERVALUE(MID(Daten!$D$17,1,2)),\"-\")))","v":""},{"$f":"IF($A62=\"\",\"\",IF(OR(S62=\"Putzbord\",S62=\"Flexila PU\"),Daten!$D$18,IF(OR(S62=\"Stehbord\",S62=\"Stehbord HB\",S62=\"Flexila STB\",S62=\"Jalousiebord\"),Daten!$D$21,\"-\")))","v":""},{"$f":"IF(A62=\"\",\"\",IF(AND(Daten!D$6=\"Jalousiebord\",OR(O62=\"Stehbord\",S62=\"Stehbord\")),\"Jalousienklinkung\",\"\"))","v":""},{"$f":"IF(W62=\"\",\"\",Daten!D$20)","v":""},null,null,{"$f":"IF(A62=\"\",\"\",IF(Daten!F$1=\"A\",\"Ohne\",IF(OR(N62=\"Gerstenkorn roh\",N62=\"Riffelblech roh\"),\"XPS\",Daten!F$2)))","v":""},{"$f":"IF(A62=\"\",\"\",IF(AA62=\"Ohne\",\"A\",IF(AA62=\"XPS\",IF(Daten!F$1=\"D\",\"B\",Daten!F$1),Daten!F$1)))","v":""},{"$f":"IF(A62=\"\",\"\",IF(AB62=\"A\",\"-\",Daten!F$7))","v":""},{"$f":"IF(A62=\"\",\"\",IF(AB62=\"A\",\"-\",IF(AND(Daten!F$8=0,O62=\"Putzbord\"),5-Q62,0)))","v":""},{"$f":"IF(A62=\"\",\"\",IF(AB62=\"A\",\"-\",IF(AND(Daten!F$8=0,S62=\"Putzbord\"),5-U62,0)))","v":""},{"$f":"IF(A62=\"\",\"\",IF(AB62=\"A\",\"-\",Daten!F$10))","v":""},{"$f":"IFERROR(IF(A62=\"\",\"\",VLOOKUP(N62,Daten!N$1:O$7,2,FALSE)),\"\")","v":""}]
[null,null,null,{"$f":"IF(A63=\"\",\"\",IF(Daten!B$3=TRUE,Daten!B$7,\"\"))","v":""},{"$f":"IFERROR(IF(C63=\"\",\"\",C63+(2*D63)+IF(O63=Daten!M$13,6,0)+IF(S63=Daten!M$13,6,0)+IF(Q63=\"-\",0,Q63)+IF(U63=\"-\",0,U63)),\"\")","v":""},{"$f":"IF(OR(A63=\"\",AND(F$1=0,Daten!F$3=FALSE)),\"\",Daten!B$6)","v":""},{"$f":"IF(A63=\"\",\"\",IF(Daten!B$5=\"??\",\"\",Daten!B$5))","v":""},{"$f":"IF(A63=\"\",\"\",IF(Daten!B$3=FALSE,\"\",Daten!B$4))","v":""},{"$f":"IFERROR(IF(A63=\"\",\"\",G63+H63+IF(AND(G63>0,H63>0),5,0))-IF(Daten!H$21=TRUE,H63,0),\"\")","v":""},{"$f":"IFERROR(IF(A63=\"\",\"\",I63+IF(Daten!H$21=TRUE,H63,0)+IF(F63=\"\",0,F63)-IF(Daten!F$3=TRUE,Daten!F$10,0)),\"\")","v":""},{"$f":"IF(A63=\"\",\"\",Daten!D$14)","v":""},{"$f":"IF(A63=\"\",\"\",Daten!D$12)","v":""},{"$f":"IF(A63=\"\",\"\",Daten!D$13)","v":""},{"$f":"IF(A63=\"\",\"\",Daten!M$2)","v":""},{"$f":"IF(A63=\"\",\"\",IF(Daten!D$6=Daten!N$11,Daten!M$11,IF(Daten!D$6=Daten!N$13,Daten!M$13,IF(AND(Daten!$D$6=Daten!$M$10,Daten!$D$8=TRUE),Daten!$M$14,Daten!D$6))))","v":""},{"$f":"IF($A63=\"\",\"\",IF(OR(O63=\"Putzbord\",O63=\"Flexila PU\"),Daten!$D$15,IF(OR(O63=\"Stehbord\",O63=\"Stehbord HB\",O63=\"Flexila STB\",O63=\"Jalousiebord\"),Daten!$D$19,\"-\")))","v":""},{"$f":"IF($A63=\"\",\"\",IF(O63=\"Putzbord\",Daten!$D$16,IF(O63=\"Flexila PU\",_xlfn.NUMBERVALUE(MID(Daten!$D$17,1,2)),\"-\")))","v":""},{"$f":"IF($A63=\"\",\"\",IF(OR(O63=\"Putzbord\",O63=\"Flexila PU\"),Daten!$D$18,IF(OR(O63=\"Stehbord\",O63=\"Stehbord HB\",O63=\"Flexila STB\",O63=\"Jalousiebord\"),Daten!$D$21,\"-\")))","v":""},{"$f":"IF(A63=\"\",\"\",IF(Daten!D$6=Daten!N$11,Daten!M$11,IF(Daten!D$6=Daten!N$13,Daten!M$13,IF(AND(Daten!$D$6=Daten!$M$10,Daten!$D$8=TRUE),Daten!$M$14,Daten!D$6))))","v":""},{"$f":"IF($A63=\"\",\"\",IF(OR(S63=\"Putzbord\",S63=\"Flexila PU\"),Daten!$D$15,IF(OR(S63=\"Stehbord\",S63=\"Stehbord HB\",S63=\"Flexila STB\",S63=\"Jalousiebord\"),Daten!$D$19,\"-\")))","v":""},{"$f":"IF($A63=\"\",\"\",IF(S63=\"Putzbord\",Daten!$D$16,IF(S63=\"Flexila PU\",_xlfn.NUMBERVALUE(MID(Daten!$D$17,1,2)),\"-\")))","v":""},{"$f":"IF($A63=\"\",\"\",IF(OR(S63=\"Putzbord\",S63=\"Flexila PU\"),Daten!$D$18,IF(OR(S63=\"Stehbord\",S63=\"Stehbord HB\",S63=\"Flexila STB\",S63=\"Jalousiebord\"),Daten!$D$21,\"-\")))","v":""},{"$f":"IF(A63=\"\",\"\",IF(AND(Daten!D$6=\"Jalousiebord\",OR(O63=\"Stehbord\",S63=\"Stehbord\")),\"Jalousienklinkung\",\"\"))","v":""},{"$f":"IF(W63=\"\",\"\",Daten!D$20)","v":""},null,null,{"$f":"IF(A63=\"\",\"\",IF(Daten!F$1=\"A\",\"Ohne\",IF(OR(N63=\"Gerstenkorn roh\",N63=\"Riffelblech roh\"),\"XPS\",Daten!F$2)))","v":""},{"$f":"IF(A63=\"\",\"\",IF(AA63=\"Ohne\",\"A\",IF(AA63=\"XPS\",IF(Daten!F$1=\"D\",\"B\",Daten!F$1),Daten!F$1)))","v":""},{"$f":"IF(A63=\"\",\"\",IF(AB63=\"A\",\"-\",Daten!F$7))","v":""},{"$f":"IF(A63=\"\",\"\",IF(AB63=\"A\",\"-\",IF(AND(Daten!F$8=0,O63=\"Putzbord\"),5-Q63,0)))","v":""},{"$f":"IF(A63=\"\",\"\",IF(AB63=\"A\",\"-\",IF(AND(Daten!F$8=0,S63=\"Putzbord\"),5-U63,0)))","v":""},{"$f":"IF(A63=\"\",\"\",IF(AB63=\"A\",\"-\",Daten!F$10))","v":""},{"$f":"IFERROR(IF(A63=\"\",\"\",VLOOKUP(N63,Daten!N$1:O$7,2,FALSE)),\"\")","v":""}]
[null,null,null,{"$f":"IF(A64=\"\",\"\",IF(Daten!B$3=TRUE,Daten!B$7,\"\"))","v":""},{"$f":"IFERROR(IF(C64=\"\",\"\",C64+(2*D64)+IF(O64=Daten!M$13,6,0)+IF(S64=Daten!M$13,6,0)+IF(Q64=\"-\",0,Q64)+IF(U64=\"-\",0,U64)),\"\")","v":""},{"$f":"IF(OR(A64=\"\",AND(F$1=0,Daten!F$3=FALSE)),\"\",Daten!B$6)","v":""},{"$f":"IF(A64=\"\",\"\",IF(Daten!B$5=\"??\",\"\",Daten!B$5))","v":""},{"$f":"IF(A64=\"\",\"\",IF(Daten!B$3=FALSE,\"\",Daten!B$4))","v":""},{"$f":"IFERROR(IF(A64=\"\",\"\",G64+H64+IF(AND(G64>0,H64>0),5,0))-IF(Daten!H$21=TRUE,H64,0),\"\")","v":""},{"$f":"IFERROR(IF(A64=\"\",\"\",I64+IF(Daten!H$21=TRUE,H64,0)+IF(F64=\"\",0,F64)-IF(Daten!F$3=TRUE,Daten!F$10,0)),\"\")","v":""},{"$f":"IF(A64=\"\",\"\",Daten!D$14)","v":""},{"$f":"IF(A64=\"\",\"\",Daten!D$12)","v":""},{"$f":"IF(A64=\"\",\"\",Daten!D$13)","v":""},{"$f":"IF(A64=\"\",\"\",Daten!M$2)","v":""},{"$f":"IF(A64=\"\",\"\",IF(Daten!D$6=Daten!N$11,Daten!M$11,IF(Daten!D$6=Daten!N$13,Daten!M$13,IF(AND(Daten!$D$6=Daten!$M$10,Daten!$D$8=TRUE),Daten!$M$14,Daten!D$6))))","v":""},{"$f":"IF($A64=\"\",\"\",IF(OR(O64=\"Putzbord\",O64=\"Flexila PU\"),Daten!$D$15,IF(OR(O64=\"Stehbord\",O64=\"Stehbord HB\",O64=\"Flexila STB\",O64=\"Jalousiebord\"),Daten!$D$19,\"-\")))","v":""},{"$f":"IF($A64=\"\",\"\",IF(O64=\"Putzbord\",Daten!$D$16,IF(O64=\"Flexila PU\",_xlfn.NUMBERVALUE(MID(Daten!$D$17,1,2)),\"-\")))","v":""},{"$f":"IF($A64=\"\",\"\",IF(OR(O64=\"Putzbord\",O64=\"Flexila PU\"),Daten!$D$18,IF(OR(O64=\"Stehbord\",O64=\"Stehbord HB\",O64=\"Flexila STB\",O64=\"Jalousiebord\"),Daten!$D$21,\"-\")))","v":""},{"$f":"IF(A64=\"\",\"\",IF(Daten!D$6=Daten!N$11,Daten!M$11,IF(Daten!D$6=Daten!N$13,Daten!M$13,IF(AND(Daten!$D$6=Daten!$M$10,Daten!$D$8=TRUE),Daten!$M$14,Daten!D$6))))","v":""},{"$f":"IF($A64=\"\",\"\",IF(OR(S64=\"Putzbord\",S64=\"Flexila PU\"),Daten!$D$15,IF(OR(S64=\"Stehbord\",S64=\"Stehbord HB\",S64=\"Flexila STB\",S64=\"Jalousiebord\"),Daten!$D$19,\"-\")))","v":""},{"$f":"IF($A64=\"\",\"\",IF(S64=\"Putzbord\",Daten!$D$16,IF(S64=\"Flexila PU\",_xlfn.NUMBERVALUE(MID(Daten!$D$17,1,2)),\"-\")))","v":""},{"$f":"IF($A64=\"\",\"\",IF(OR(S64=\"Putzbord\",S64=\"Flexila PU\"),Daten!$D$18,IF(OR(S64=\"Stehbord\",S64=\"Stehbord HB\",S64=\"Flexila STB\",S64=\"Jalousiebord\"),Daten!$D$21,\"-\")))","v":""},{"$f":"IF(A64=\"\",\"\",IF(AND(Daten!D$6=\"Jalousiebord\",OR(O64=\"Stehbord\",S64=\"Stehbord\")),\"Jalousienklinkung\",\"\"))","v":""},{"$f":"IF(W64=\"\",\"\",Daten!D$20)","v":""},null,null,{"$f":"IF(A64=\"\",\"\",IF(Daten!F$1=\"A\",\"Ohne\",IF(OR(N64=\"Gerstenkorn roh\",N64=\"Riffelblech roh\"),\"XPS\",Daten!F$2)))","v":""},{"$f":"IF(A64=\"\",\"\",IF(AA64=\"Ohne\",\"A\",IF(AA64=\"XPS\",IF(Daten!F$1=\"D\",\"B\",Daten!F$1),Daten!F$1)))","v":""},{"$f":"IF(A64=\"\",\"\",IF(AB64=\"A\",\"-\",Daten!F$7))","v":""},{"$f":"IF(A64=\"\",\"\",IF(AB64=\"A\",\"-\",IF(AND(Daten!F$8=0,O64=\"Putzbord\"),5-Q64,0)))","v":""},{"$f":"IF(A64=\"\",\"\",IF(AB64=\"A\",\"-\",IF(AND(Daten!F$8=0,S64=\"Putzbord\"),5-U64,0)))","v":""},{"$f":"IF(A64=\"\",\"\",IF(AB64=\"A\",\"-\",Daten!F$10))","v":""},{"$f":"IFERROR(IF(A64=\"\",\"\",VLOOKUP(N64,Daten!N$1:O$7,2,FALSE)),\"\")","v":""}]
[null,null,null,{"$f":"IF(A65=\"\",\"\",IF(Daten!B$3=TRUE,Daten!B$7,\"\"))","v":""},{"$f":"IFERROR(IF(C65=\"\",\"\",C65+(2*D65)+IF(O65=Daten!M$13,6,0)+IF(S65=Daten!M$13,6,0)+IF(Q65=\"-\",0,Q65)+IF(U65=\"-\",0,U65)),\"\")","v":""},{"$f":"IF(OR(A65=\"\",AND(F$1=0,Daten!F$3=FALSE)),\"\",Daten!B$6)","v":""},{"$f":"IF(A65=\"\",\"\",IF(Daten!B$5=\"??\",\"\",Daten!B$5))","v":""},{"$f":"IF(A65=\"\",\"\",IF(Daten!B$3=FALSE,\"\",Daten!B$4))","v":""},{"$f":"IFERROR(IF(A65=\"\",\"\",G65+H65+IF(AND(G65>0,H65>0),5,0))-IF(Daten!H$21=TRUE,H65,0),\"\")","v":""},{"$f":"IFERROR(IF(A65=\"\",\"\",I65+IF(Daten!H$21=TRUE,H65,0)+IF(F65=\"\",0,F65)-IF(Daten!F$3=TRUE,Daten!F$10,0)),\"\")","v":""},{"$f":"IF(A65=\"\",\"\",Daten!D$14)","v":""},{"$f":"IF(A65=\"\",\"\",Daten!D$12)","v":""},{"$f":"IF(A65=\"\",\"\",Daten!D$13)","v":""},{"$f":"IF(A65=\"\",\"\",Daten!M$2)","v":""},{"$f":"IF(A65=\"\",\"\",IF(Daten!D$6=Daten!N$11,Daten!M$11,IF(Daten!D$6=Daten!N$13,Daten!M$13,IF(AND(Daten!$D$6=Daten!$M$10,Daten!$D$8=TRUE),Daten!$M$14,Daten!D$6))))","v":""},{"$f":"IF($A65=\"\",\"\",IF(OR(O65=\"Putzbord\",O65=\"Flexila PU\"),Daten!$D$15,IF(OR(O65=\"Stehbord\",O65=\"Stehbord HB\",O65=\"Flexila STB\",O65=\"Jalousiebord\"),Daten!$D$19,\"-\")))","v":""},{"$f":"IF($A65=\"\",\"\",IF(O65=\"Putzbord\",Daten!$D$16,IF(O65=\"Flexila PU\",_xlfn.NUMBERVALUE(MID(Daten!$D$17,1,2)),\"-\")))","v":""},{"$f":"IF($A65=\"\",\"\",IF(OR(O65=\"Putzbord\",O65=\"Flexila PU\"),Daten!$D$18,IF(OR(O65=\"Stehbord\",O65=\"Stehbord HB\",O65=\"Flexila STB\",O65=\"Jalousiebord\"),Daten!$D$21,\"-\")))","v":""},{"$f":"IF(A65=\"\",\"\",IF(Daten!D$6=Daten!N$11,Daten!M$11,IF(Daten!D$6=Daten!N$13,Daten!M$13,IF(AND(Daten!$D$6=Daten!$M$10,Daten!$D$8=TRUE),Daten!$M$14,Daten!D$6))))","v":""},{"$f":"IF($A65=\"\",\"\",IF(OR(S65=\"Putzbord\",S65=\"Flexila PU\"),Daten!$D$15,IF(OR(S65=\"Stehbord\",S65=\"Stehbord HB\",S65=\"Flexila STB\",S65=\"Jalousiebord\"),Daten!$D$19,\"-\")))","v":""},{"$f":"IF($A65=\"\",\"\",IF(S65=\"Putzbord\",Daten!$D$16,IF(S65=\"Flexila PU\",_xlfn.NUMBERVALUE(MID(Daten!$D$17,1,2)),\"-\")))","v":""},{"$f":"IF($A65=\"\",\"\",IF(OR(S65=\"Putzbord\",S65=\"Flexila PU\"),Daten!$D$18,IF(OR(S65=\"Stehbord\",S65=\"Stehbord HB\",S65=\"Flexila STB\",S65=\"Jalousiebord\"),Daten!$D$21,\"-\")))","v":""},{"$f":"IF(A65=\"\",\"\",IF(AND(Daten!D$6=\"Jalousiebord\",OR(O65=\"Stehbord\",S65=\"Stehbord\")),\"Jalousienklinkung\",\"\"))","v":""},{"$f":"IF(W65=\"\",\"\",Daten!D$20)","v":""},null,null,{"$f":"IF(A65=\"\",\"\",IF(Daten!F$1=\"A\",\"Ohne\",IF(OR(N65=\"Gerstenkorn roh\",N65=\"Riffelblech roh\"),\"XPS\",Daten!F$2)))","v":""},{"$f":"IF(A65=\"\",\"\",IF(AA65=\"Ohne\",\"A\",IF(AA65=\"XPS\",IF(Daten!F$1=\"D\",\"B\",Daten!F$1),Daten!F$1)))","v":""},{"$f":"IF(A65=\"\",\"\",IF(AB65=\"A\",\"-\",Daten!F$7))","v":""},{"$f":"IF(A65=\"\",\"\",IF(AB65=\"A\",\"-\",IF(AND(Daten!F$8=0,O65=\"Putzbord\"),5-Q65,0)))","v":""},{"$f":"IF(A65=\"\",\"\",IF(AB65=\"A\",\"-\",IF(AND(Daten!F$8=0,S65=\"Putzbord\"),5-U65,0)))","v":""},{"$f":"IF(A65=\"\",\"\",IF(AB65=\"A\",\"-\",Daten!F$10))","v":""},{"$f":"IFERROR(IF(A65=\"\",\"\",VLOOKUP(N65,Daten!N$1:O$7,2,FALSE)),\"\")","v":""}]
[null,null,null,{"$f":"IF(A66=\"\",\"\",IF(Daten!B$3=TRUE,Daten!B$7,\"\"))","v":""},{"$f":"IFERROR(IF(C66=\"\",\"\",C66+(2*D66)+IF(O66=Daten!M$13,6,0)+IF(S66=Daten!M$13,6,0)+IF(Q66=\"-\",0,Q66)+IF(U66=\"-\",0,U66)),\"\")","v":""},{"$f":"IF(OR(A66=\"\",AND(F$1=0,Daten!F$3=FALSE)),\"\",Daten!B$6)","v":""},{"$f":"IF(A66=\"\",\"\",IF(Daten!B$5=\"??\",\"\",Daten!B$5))","v":""},{"$f":"IF(A66=\"\",\"\",IF(Daten!B$3=FALSE,\"\",Daten!B$4))","v":""},{"$f":"IFERROR(IF(A66=\"\",\"\",G66+H66+IF(AND(G66>0,H66>0),5,0))-IF(Daten!H$21=TRUE,H66,0),\"\")","v":""},{"$f":"IFERROR(IF(A66=\"\",\"\",I66+IF(Daten!H$21=TRUE,H66,0)+IF(F66=\"\",0,F66)-IF(Daten!F$3=TRUE,Daten!F$10,0)),\"\")","v":""},{"$f":"IF(A66=\"\",\"\",Daten!D$14)","v":""},{"$f":"IF(A66=\"\",\"\",Daten!D$12)","v":""},{"$f":"IF(A66=\"\",\"\",Daten!D$13)","v":""},{"$f":"IF(A66=\"\",\"\",Daten!M$2)","v":""},{"$f":"IF(A66=\"\",\"\",IF(Daten!D$6=Daten!N$11,Daten!M$11,IF(Daten!D$6=Daten!N$13,Daten!M$13,IF(AND(Daten!$D$6=Daten!$M$10,Daten!$D$8=TRUE),Daten!$M$14,Daten!D$6))))","v":""},{"$f":"IF($A66=\"\",\"\",IF(OR(O66=\"Putzbord\",O66=\"Flexila PU\"),Daten!$D$15,IF(OR(O66=\"Stehbord\",O66=\"Stehbord HB\",O66=\"Flexila STB\",O66=\"Jalousiebord\"),Daten!$D$19,\"-\")))","v":""},{"$f":"IF($A66=\"\",\"\",IF(O66=\"Putzbord\",Daten!$D$16,IF(O66=\"Flexila PU\",_xlfn.NUMBERVALUE(MID(Daten!$D$17,1,2)),\"-\")))","v":""},{"$f":"IF($A66=\"\",\"\",IF(OR(O66=\"Putzbord\",O66=\"Flexila PU\"),Daten!$D$18,IF(OR(O66=\"Stehbord\",O66=\"Stehbord HB\",O66=\"Flexila STB\",O66=\"Jalousiebord\"),Daten!$D$21,\"-\")))","v":""},{"$f":"IF(A66=\"\",\"\",IF(Daten!D$6=Daten!N$11,Daten!M$11,IF(Daten!D$6=Daten!N$13,Daten!M$13,IF(AND(Daten!$D$6=Daten!$M$10,Daten!$D$8=TRUE),Daten!$M$14,Daten!D$6))))","v":""},{"$f":"IF($A66=\"\",\"\",IF(OR(S66=\"Putzbord\",S66=\"Flexila PU\"),Daten!$D$15,IF(OR(S66=\"Stehbord\",S66=\"Stehbord HB\",S66=\"Flexila STB\",S66=\"Jalousiebord\"),Daten!$D$19,\"-\")))","v":""},{"$f":"IF($A66=\"\",\"\",IF(S66=\"Putzbord\",Daten!$D$16,IF(S66=\"Flexila PU\",_xlfn.NUMBERVALUE(MID(Daten!$D$17,1,2)),\"-\")))","v":""},{"$f":"IF($A66=\"\",\"\",IF(OR(S66=\"Putzbord\",S66=\"Flexila PU\"),Daten!$D$18,IF(OR(S66=\"Stehbord\",S66=\"Stehbord HB\",S66=\"Flexila STB\",S66=\"Jalousiebord\"),Daten!$D$21,\"-\")))","v":""},{"$f":"IF(A66=\"\",\"\",IF(AND(Daten!D$6=\"Jalousiebord\",OR(O66=\"Stehbord\",S66=\"Stehbord\")),\"Jalousienklinkung\",\"\"))","v":""},{"$f":"IF(W66=\"\",\"\",Daten!D$20)","v":""},null,null,{"$f":"IF(A66=\"\",\"\",IF(Daten!F$1=\"A\",\"Ohne\",IF(OR(N66=\"Gerstenkorn roh\",N66=\"Riffelblech roh\"),\"XPS\",Daten!F$2)))","v":""},{"$f":"IF(A66=\"\",\"\",IF(AA66=\"Ohne\",\"A\",IF(AA66=\"XPS\",IF(Daten!F$1=\"D\",\"B\",Daten!F$1),Daten!F$1)))","v":""},{"$f":"IF(A66=\"\",\"\",IF(AB66=\"A\",\"-\",Daten!F$7))","v":""},{"$f":"IF(A66=\"\",\"\",IF(AB66=\"A\",\"-\",IF(AND(Daten!F$8=0,O66=\"Putzbord\"),5-Q66,0)))","v":""},{"$f":"IF(A66=\"\",\"\",IF(AB66=\"A\",\"-\",IF(AND(Daten!F$8=0,S66=\"Putzbord\"),5-U66,0)))","v":""},{"$f":"IF(A66=\"\",\"\",IF(AB66=\"A\",\"-\",Daten!F$10))","v":""},{"$f":"IFERROR(IF(A66=\"\",\"\",VLOOKUP(N66,Daten!N$1:O$7,2,FALSE)),\"\")","v":""}]
[null,null,null,{"$f":"IF(A67=\"\",\"\",IF(Daten!B$3=TRUE,Daten!B$7,\"\"))","v":""},{"$f":"IFERROR(IF(C67=\"\",\"\",C67+(2*D67)+IF(O67=Daten!M$13,6,0)+IF(S67=Daten!M$13,6,0)+IF(Q67=\"-\",0,Q67)+IF(U67=\"-\",0,U67)),\"\")","v":""},{"$f":"IF(OR(A67=\"\",AND(F$1=0,Daten!F$3=FALSE)),\"\",Daten!B$6)","v":""},{"$f":"IF(A67=\"\",\"\",IF(Daten!B$5=\"??\",\"\",Daten!B$5))","v":""},{"$f":"IF(A67=\"\",\"\",IF(Daten!B$3=FALSE,\"\",Daten!B$4))","v":""},{"$f":"IFERROR(IF(A67=\"\",\"\",G67+H67+IF(AND(G67>0,H67>0),5,0))-IF(Daten!H$21=TRUE,H67,0),\"\")","v":""},{"$f":"IFERROR(IF(A67=\"\",\"\",I67+IF(Daten!H$21=TRUE,H67,0)+IF(F67=\"\",0,F67)-IF(Daten!F$3=TRUE,Daten!F$10,0)),\"\")","v":""},{"$f":"IF(A67=\"\",\"\",Daten!D$14)","v":""},{"$f":"IF(A67=\"\",\"\",Daten!D$12)","v":""},{"$f":"IF(A67=\"\",\"\",Daten!D$13)","v":""},{"$f":"IF(A67=\"\",\"\",Daten!M$2)","v":""},{"$f":"IF(A67=\"\",\"\",IF(Daten!D$6=Daten!N$11,Daten!M$11,IF(Daten!D$6=Daten!N$13,Daten!M$13,IF(AND(Daten!$D$6=Daten!$M$10,Daten!$D$8=TRUE),Daten!$M$14,Daten!D$6))))","v":""},{"$f":"IF($A67=\"\",\"\",IF(OR(O67=\"Putzbord\",O67=\"Flexila PU\"),Daten!$D$15,IF(OR(O67=\"Stehbord\",O67=\"Stehbord HB\",O67=\"Flexila STB\",O67=\"Jalousiebord\"),Daten!$D$19,\"-\")))","v":""},{"$f":"IF($A67=\"\",\"\",IF(O67=\"Putzbord\",Daten!$D$16,IF(O67=\"Flexila PU\",_xlfn.NUMBERVALUE(MID(Daten!$D$17,1,2)),\"-\")))","v":""},{"$f":"IF($A67=\"\",\"\",IF(OR(O67=\"Putzbord\",O67=\"Flexila PU\"),Daten!$D$18,IF(OR(O67=\"Stehbord\",O67=\"Stehbord HB\",O67=\"Flexila STB\",O67=\"Jalousiebord\"),Daten!$D$21,\"-\")))","v":""},{"$f":"IF(A67=\"\",\"\",IF(Daten!D$6=Daten!N$11,Daten!M$11,IF(Daten!D$6=Daten!N$13,Daten!M$13,IF(AND(Daten!$D$6=Daten!$M$10,Daten!$D$8=TRUE),Daten!$M$14,Daten!D$6))))","v":""},{"$f":"IF($A67=\"\",\"\",IF(OR(S67=\"Putzbord\",S67=\"Flexila PU\"),Daten!$D$15,IF(OR(S67=\"Stehbord\",S67=\"Stehbord HB\",S67=\"Flexila STB\",S67=\"Jalousiebord\"),Daten!$D$19,\"-\")))","v":""},{"$f":"IF($A67=\"\",\"\",IF(S67=\"Putzbord\",Daten!$D$16,IF(S67=\"Flexila PU\",_xlfn.NUMBERVALUE(MID(Daten!$D$17,1,2)),\"-\")))","v":""},{"$f":"IF($A67=\"\",\"\",IF(OR(S67=\"Putzbord\",S67=\"Flexila PU\"),Daten!$D$18,IF(OR(S67=\"Stehbord\",S67=\"Stehbord HB\",S67=\"Flexila STB\",S67=\"Jalousiebord\"),Daten!$D$21,\"-\")))","v":""},{"$f":"IF(A67=\"\",\"\",IF(AND(Daten!D$6=\"Jalousiebord\",OR(O67=\"Stehbord\",S67=\"Stehbord\")),\"Jalousienklinkung\",\"\"))","v":""},{"$f":"IF(W67=\"\",\"\",Daten!D$20)","v":""},null,null,{"$f":"IF(A67=\"\",\"\",IF(Daten!F$1=\"A\",\"Ohne\",IF(OR(N67=\"Gerstenkorn roh\",N67=\"Riffelblech roh\"),\"XPS\",Daten!F$2)))","v":""},{"$f":"IF(A67=\"\",\"\",IF(AA67=\"Ohne\",\"A\",IF(AA67=\"XPS\",IF(Daten!F$1=\"D\",\"B\",Daten!F$1),Daten!F$1)))","v":""},{"$f":"IF(A67=\"\",\"\",IF(AB67=\"A\",\"-\",Daten!F$7))","v":""},{"$f":"IF(A67=\"\",\"\",IF(AB67=\"A\",\"-\",IF(AND(Daten!F$8=0,O67=\"Putzbord\"),5-Q67,0)))","v":""},{"$f":"IF(A67=\"\",\"\",IF(AB67=\"A\",\"-\",IF(AND(Daten!F$8=0,S67=\"Putzbord\"),5-U67,0)))","v":""},{"$f":"IF(A67=\"\",\"\",IF(AB67=\"A\",\"-\",Daten!F$10))","v":""},{"$f":"IFERROR(IF(A67=\"\",\"\",VLOOKUP(N67,Daten!N$1:O$7,2,FALSE)),\"\")","v":""}]
[null,null,null,{"$f":"IF(A68=\"\",\"\",IF(Daten!B$3=TRUE,Daten!B$7,\"\"))","v":""},{"$f":"IFERROR(IF(C68=\"\",\"\",C68+(2*D68)+IF(O68=Daten!M$13,6,0)+IF(S68=Daten!M$13,6,0)+IF(Q68=\"-\",0,Q68)+IF(U68=\"-\",0,U68)),\"\")","v":""},{"$f":"IF(OR(A68=\"\",AND(F$1=0,Daten!F$3=FALSE)),\"\",Daten!B$6)","v":""},{"$f":"IF(A68=\"\",\"\",IF(Daten!B$5=\"??\",\"\",Daten!B$5))","v":""},{"$f":"IF(A68=\"\",\"\",IF(Daten!B$3=FALSE,\"\",Daten!B$4))","v":""},{"$f":"IFERROR(IF(A68=\"\",\"\",G68+H68+IF(AND(G68>0,H68>0),5,0))-IF(Daten!H$21=TRUE,H68,0),\"\")","v":""},{"$f":"IFERROR(IF(A68=\"\",\"\",I68+IF(Daten!H$21=TRUE,H68,0)+IF(F68=\"\",0,F68)-IF(Daten!F$3=TRUE,Daten!F$10,0)),\"\")","v":""},{"$f":"IF(A68=\"\",\"\",Daten!D$14)","v":""},{"$f":"IF(A68=\"\",\"\",Daten!D$12)","v":""},{"$f":"IF(A68=\"\",\"\",Daten!D$13)","v":""},{"$f":"IF(A68=\"\",\"\",Daten!M$2)","v":""},{"$f":"IF(A68=\"\",\"\",IF(Daten!D$6=Daten!N$11,Daten!M$11,IF(Daten!D$6=Daten!N$13,Daten!M$13,IF(AND(Daten!$D$6=Daten!$M$10,Daten!$D$8=TRUE),Daten!$M$14,Daten!D$6))))","v":""},{"$f":"IF($A68=\"\",\"\",IF(OR(O68=\"Putzbord\",O68=\"Flexila PU\"),Daten!$D$15,IF(OR(O68=\"Stehbord\",O68=\"Stehbord HB\",O68=\"Flexila STB\",O68=\"Jalousiebord\"),Daten!$D$19,\"-\")))","v":""},{"$f":"IF($A68=\"\",\"\",IF(O68=\"Putzbord\",Daten!$D$16,IF(O68=\"Flexila PU\",_xlfn.NUMBERVALUE(MID(Daten!$D$17,1,2)),\"-\")))","v":""},{"$f":"IF($A68=\"\",\"\",IF(OR(O68=\"Putzbord\",O68=\"Flexila PU\"),Daten!$D$18,IF(OR(O68=\"Stehbord\",O68=\"Stehbord HB\",O68=\"Flexila STB\",O68=\"Jalousiebord\"),Daten!$D$21,\"-\")))","v":""},{"$f":"IF(A68=\"\",\"\",IF(Daten!D$6=Daten!N$11,Daten!M$11,IF(Daten!D$6=Daten!N$13,Daten!M$13,IF(AND(Daten!$D$6=Daten!$M$10,Daten!$D$8=TRUE),Daten!$M$14,Daten!D$6))))","v":""},{"$f":"IF($A68=\"\",\"\",IF(OR(S68=\"Putzbord\",S68=\"Flexila PU\"),Daten!$D$15,IF(OR(S68=\"Stehbord\",S68=\"Stehbord HB\",S68=\"Flexila STB\",S68=\"Jalousiebord\"),Daten!$D$19,\"-\")))","v":""},{"$f":"IF($A68=\"\",\"\",IF(S68=\"Putzbord\",Daten!$D$16,IF(S68=\"Flexila PU\",_xlfn.NUMBERVALUE(MID(Daten!$D$17,1,2)),\"-\")))","v":""},{"$f":"IF($A68=\"\",\"\",IF(OR(S68=\"Putzbord\",S68=\"Flexila PU\"),Daten!$D$18,IF(OR(S68=\"Stehbord\",S68=\"Stehbord HB\",S68=\"Flexila STB\",S68=\"Jalousiebord\"),Daten!$D$21,\"-\")))","v":""},{"$f":"IF(A68=\"\",\"\",IF(AND(Daten!D$6=\"Jalousiebord\",OR(O68=\"Stehbord\",S68=\"Stehbord\")),\"Jalousienklinkung\",\"\"))","v":""},{"$f":"IF(W68=\"\",\"\",Daten!D$20)","v":""},null,null,{"$f":"IF(A68=\"\",\"\",IF(Daten!F$1=\"A\",\"Ohne\",IF(OR(N68=\"Gerstenkorn roh\",N68=\"Riffelblech roh\"),\"XPS\",Daten!F$2)))","v":""},{"$f":"IF(A68=\"\",\"\",IF(AA68=\"Ohne\",\"A\",IF(AA68=\"XPS\",IF(Daten!F$1=\"D\",\"B\",Daten!F$1),Daten!F$1)))","v":""},{"$f":"IF(A68=\"\",\"\",IF(AB68=\"A\",\"-\",Daten!F$7))","v":""},{"$f":"IF(A68=\"\",\"\",IF(AB68=\"A\",\"-\",IF(AND(Daten!F$8=0,O68=\"Putzbord\"),5-Q68,0)))","v":""},{"$f":"IF(A68=\"\",\"\",IF(AB68=\"A\",\"-\",IF(AND(Daten!F$8=0,S68=\"Putzbord\"),5-U68,0)))","v":""},{"$f":"IF(A68=\"\",\"\",IF(AB68=\"A\",\"-\",Daten!F$10))","v":""},{"$f":"IFERROR(IF(A68=\"\",\"\",VLOOKUP(N68,Daten!N$1:O$7,2,FALSE)),\"\")","v":""}]
[null,null,null,{"$f":"IF(A69=\"\",\"\",IF(Daten!B$3=TRUE,Daten!B$7,\"\"))","v":""},{"$f":"IFERROR(IF(C69=\"\",\"\",C69+(2*D69)+IF(O69=Daten!M$13,6,0)+IF(S69=Daten!M$13,6,0)+IF(Q69=\"-\",0,Q69)+IF(U69=\"-\",0,U69)),\"\")","v":""},{"$f":"IF(OR(A69=\"\",AND(F$1=0,Daten!F$3=FALSE)),\"\",Daten!B$6)","v":""},{"$f":"IF(A69=\"\",\"\",IF(Daten!B$5=\"??\",\"\",Daten!B$5))","v":""},{"$f":"IF(A69=\"\",\"\",IF(Daten!B$3=FALSE,\"\",Daten!B$4))","v":""},{"$f":"IFERROR(IF(A69=\"\",\"\",G69+H69+IF(AND(G69>0,H69>0),5,0))-IF(Daten!H$21=TRUE,H69,0),\"\")","v":""},{"$f":"IFERROR(IF(A69=\"\",\"\",I69+IF(Daten!H$21=TRUE,H69,0)+IF(F69=\"\",0,F69)-IF(Daten!F$3=TRUE,Daten!F$10,0)),\"\")","v":""},{"$f":"IF(A69=\"\",\"\",Daten!D$14)","v":""},{"$f":"IF(A69=\"\",\"\",Daten!D$12)","v":""},{"$f":"IF(A69=\"\",\"\",Daten!D$13)","v":""},{"$f":"IF(A69=\"\",\"\",Daten!M$2)","v":""},{"$f":"IF(A69=\"\",\"\",IF(Daten!D$6=Daten!N$11,Daten!M$11,IF(Daten!D$6=Daten!N$13,Daten!M$13,IF(AND(Daten!$D$6=Daten!$M$10,Daten!$D$8=TRUE),Daten!$M$14,Daten!D$6))))","v":""},{"$f":"IF($A69=\"\",\"\",IF(OR(O69=\"Putzbord\",O69=\"Flexila PU\"),Daten!$D$15,IF(OR(O69=\"Stehbord\",O69=\"Stehbord HB\",O69=\"Flexila STB\",O69=\"Jalousiebord\"),Daten!$D$19,\"-\")))","v":""},{"$f":"IF($A69=\"\",\"\",IF(O69=\"Putzbord\",Daten!$D$16,IF(O69=\"Flexila PU\",_xlfn.NUMBERVALUE(MID(Daten!$D$17,1,2)),\"-\")))","v":""},{"$f":"IF($A69=\"\",\"\",IF(OR(O69=\"Putzbord\",O69=\"Flexila PU\"),Daten!$D$18,IF(OR(O69=\"Stehbord\",O69=\"Stehbord HB\",O69=\"Flexila STB\",O69=\"Jalousiebord\"),Daten!$D$21,\"-\")))","v":""},{"$f":"IF(A69=\"\",\"\",IF(Daten!D$6=Daten!N$11,Daten!M$11,IF(Daten!D$6=Daten!N$13,Daten!M$13,IF(AND(Daten!$D$6=Daten!$M$10,Daten!$D$8=TRUE),Daten!$M$14,Daten!D$6))))","v":""},{"$f":"IF($A69=\"\",\"\",IF(OR(S69=\"Putzbord\",S69=\"Flexila PU\"),Daten!$D$15,IF(OR(S69=\"Stehbord\",S69=\"Stehbord HB\",S69=\"Flexila STB\",S69=\"Jalousiebord\"),Daten!$D$19,\"-\")))","v":""},{"$f":"IF($A69=\"\",\"\",IF(S69=\"Putzbord\",Daten!$D$16,IF(S69=\"Flexila PU\",_xlfn.NUMBERVALUE(MID(Daten!$D$17,1,2)),\"-\")))","v":""},{"$f":"IF($A69=\"\",\"\",IF(OR(S69=\"Putzbord\",S69=\"Flexila PU\"),Daten!$D$18,IF(OR(S69=\"Stehbord\",S69=\"Stehbord HB\",S69=\"Flexila STB\",S69=\"Jalousiebord\"),Daten!$D$21,\"-\")))","v":""},{"$f":"IF(A69=\"\",\"\",IF(AND(Daten!D$6=\"Jalousiebord\",OR(O69=\"Stehbord\",S69=\"Stehbord\")),\"Jalousienklinkung\",\"\"))","v":""},{"$f":"IF(W69=\"\",\"\",Daten!D$20)","v":""},null,null,{"$f":"IF(A69=\"\",\"\",IF(Daten!F$1=\"A\",\"Ohne\",IF(OR(N69=\"Gerstenkorn roh\",N69=\"Riffelblech roh\"),\"XPS\",Daten!F$2)))","v":""},{"$f":"IF(A69=\"\",\"\",IF(AA69=\"Ohne\",\"A\",IF(AA69=\"XPS\",IF(Daten!F$1=\"D\",\"B\",Daten!F$1),Daten!F$1)))","v":""},{"$f":"IF(A69=\"\",\"\",IF(AB69=\"A\",\"-\",Daten!F$7))","v":""},{"$f":"IF(A69=\"\",\"\",IF(AB69=\"A\",\"-\",IF(AND(Daten!F$8=0,O69=\"Putzbord\"),5-Q69,0)))","v":""},{"$f":"IF(A69=\"\",\"\",IF(AB69=\"A\",\"-\",IF(AND(Daten!F$8=0,S69=\"Putzbord\"),5-U69,0)))","v":""},{"$f":"IF(A69=\"\",\"\",IF(AB69=\"A\",\"-\",Daten!F$10))","v":""},{"$f":"IFERROR(IF(A69=\"\",\"\",VLOOKUP(N69,Daten!N$1:O$7,2,FALSE)),\"\")","v":""}]
[null,null,null,{"$f":"IF(A70=\"\",\"\",IF(Daten!B$3=TRUE,Daten!B$7,\"\"))","v":""},{"$f":"IFERROR(IF(C70=\"\",\"\",C70+(2*D70)+IF(O70=Daten!M$13,6,0)+IF(S70=Daten!M$13,6,0)+IF(Q70=\"-\",0,Q70)+IF(U70=\"-\",0,U70)),\"\")","v":""},{"$f":"IF(OR(A70=\"\",AND(F$1=0,Daten!F$3=FALSE)),\"\",Daten!B$6)","v":""},{"$f":"IF(A70=\"\",\"\",IF(Daten!B$5=\"??\",\"\",Daten!B$5))","v":""},{"$f":"IF(A70=\"\",\"\",IF(Daten!B$3=FALSE,\"\",Daten!B$4))","v":""},{"$f":"IFERROR(IF(A70=\"\",\"\",G70+H70+IF(AND(G70>0,H70>0),5,0))-IF(Daten!H$21=TRUE,H70,0),\"\")","v":""},{"$f":"IFERROR(IF(A70=\"\",\"\",I70+IF(Daten!H$21=TRUE,H70,0)+IF(F70=\"\",0,F70)-IF(Daten!F$3=TRUE,Daten!F$10,0)),\"\")","v":""},{"$f":"IF(A70=\"\",\"\",Daten!D$14)","v":""},{"$f":"IF(A70=\"\",\"\",Daten!D$12)","v":""},{"$f":"IF(A70=\"\",\"\",Daten!D$13)","v":""},{"$f":"IF(A70=\"\",\"\",Daten!M$2)","v":""},{"$f":"IF(A70=\"\",\"\",IF(Daten!D$6=Daten!N$11,Daten!M$11,IF(Daten!D$6=Daten!N$13,Daten!M$13,IF(AND(Daten!$D$6=Daten!$M$10,Daten!$D$8=TRUE),Daten!$M$14,Daten!D$6))))","v":""},{"$f":"IF($A70=\"\",\"\",IF(OR(O70=\"Putzbord\",O70=\"Flexila PU\"),Daten!$D$15,IF(OR(O70=\"Stehbord\",O70=\"Stehbord HB\",O70=\"Flexila STB\",O70=\"Jalousiebord\"),Daten!$D$19,\"-\")))","v":""},{"$f":"IF($A70=\"\",\"\",IF(O70=\"Putzbord\",Daten!$D$16,IF(O70=\"Flexila PU\",_xlfn.NUMBERVALUE(MID(Daten!$D$17,1,2)),\"-\")))","v":""},{"$f":"IF($A70=\"\",\"\",IF(OR(O70=\"Putzbord\",O70=\"Flexila PU\"),Daten!$D$18,IF(OR(O70=\"Stehbord\",O70=\"Stehbord HB\",O70=\"Flexila STB\",O70=\"Jalousiebord\"),Daten!$D$21,\"-\")))","v":""},{"$f":"IF(A70=\"\",\"\",IF(Daten!D$6=Daten!N$11,Daten!M$11,IF(Daten!D$6=Daten!N$13,Daten!M$13,IF(AND(Daten!$D$6=Daten!$M$10,Daten!$D$8=TRUE),Daten!$M$14,Daten!D$6))))","v":""},{"$f":"IF($A70=\"\",\"\",IF(OR(S70=\"Putzbord\",S70=\"Flexila PU\"),Daten!$D$15,IF(OR(S70=\"Stehbord\",S70=\"Stehbord HB\",S70=\"Flexila STB\",S70=\"Jalousiebord\"),Daten!$D$19,\"-\")))","v":""},{"$f":"IF($A70=\"\",\"\",IF(S70=\"Putzbord\",Daten!$D$16,IF(S70=\"Flexila PU\",_xlfn.NUMBERVALUE(MID(Daten!$D$17,1,2)),\"-\")))","v":""},{"$f":"IF($A70=\"\",\"\",IF(OR(S70=\"Putzbord\",S70=\"Flexila PU\"),Daten!$D$18,IF(OR(S70=\"Stehbord\",S70=\"Stehbord HB\",S70=\"Flexila STB\",S70=\"Jalousiebord\"),Daten!$D$21,\"-\")))","v":""},{"$f":"IF(A70=\"\",\"\",IF(AND(Daten!D$6=\"Jalousiebord\",OR(O70=\"Stehbord\",S70=\"Stehbord\")),\"Jalousienklinkung\",\"\"))","v":""},{"$f":"IF(W70=\"\",\"\",Daten!D$20)","v":""},null,null,{"$f":"IF(A70=\"\",\"\",IF(Daten!F$1=\"A\",\"Ohne\",IF(OR(N70=\"Gerstenkorn roh\",N70=\"Riffelblech roh\"),\"XPS\",Daten!F$2)))","v":""},{"$f":"IF(A70=\"\",\"\",IF(AA70=\"Ohne\",\"A\",IF(AA70=\"XPS\",IF(Daten!F$1=\"D\",\"B\",Daten!F$1),Daten!F$1)))","v":""},{"$f":"IF(A70=\"\",\"\",IF(AB70=\"A\",\"-\",Daten!F$7))","v":""},{"$f":"IF(A70=\"\",\"\",IF(AB70=\"A\",\"-\",IF(AND(Daten!F$8=0,O70=\"Putzbord\"),5-Q70,0)))","v":""},{"$f":"IF(A70=\"\",\"\",IF(AB70=\"A\",\"-\",IF(AND(Daten!F$8=0,S70=\"Putzbord\"),5-U70,0)))","v":""},{"$f":"IF(A70=\"\",\"\",IF(AB70=\"A\",\"-\",Daten!F$10))","v":""},{"$f":"IFERROR(IF(A70=\"\",\"\",VLOOKUP(N70,Daten!N$1:O$7,2,FALSE)),\"\")","v":""}]
[null,null,null,{"$f":"IF(A71=\"\",\"\",IF(Daten!B$3=TRUE,Daten!B$7,\"\"))","v":""},{"$f":"IFERROR(IF(C71=\"\",\"\",C71+(2*D71)+IF(O71=Daten!M$13,6,0)+IF(S71=Daten!M$13,6,0)+IF(Q71=\"-\",0,Q71)+IF(U71=\"-\",0,U71)),\"\")","v":""},{"$f":"IF(OR(A71=\"\",AND(F$1=0,Daten!F$3=FALSE)),\"\",Daten!B$6)","v":""},{"$f":"IF(A71=\"\",\"\",IF(Daten!B$5=\"??\",\"\",Daten!B$5))","v":""},{"$f":"IF(A71=\"\",\"\",IF(Daten!B$3=FALSE,\"\",Daten!B$4))","v":""},{"$f":"IFERROR(IF(A71=\"\",\"\",G71+H71+IF(AND(G71>0,H71>0),5,0))-IF(Daten!H$21=TRUE,H71,0),\"\")","v":""},{"$f":"IFERROR(IF(A71=\"\",\"\",I71+IF(Daten!H$21=TRUE,H71,0)+IF(F71=\"\",0,F71)-IF(Daten!F$3=TRUE,Daten!F$10,0)),\"\")","v":""},{"$f":"IF(A71=\"\",\"\",Daten!D$14)","v":""},{"$f":"IF(A71=\"\",\"\",Daten!D$12)","v":""},{"$f":"IF(A71=\"\",\"\",Daten!D$13)","v":""},{"$f":"IF(A71=\"\",\"\",Daten!M$2)","v":""},{"$f":"IF(A71=\"\",\"\",IF(Daten!D$6=Daten!N$11,Daten!M$11,IF(Daten!D$6=Daten!N$13,Daten!M$13,IF(AND(Daten!$D$6=Daten!$M$10,Daten!$D$8=TRUE),Daten!$M$14,Daten!D$6))))","v":""},{"$f":"IF($A71=\"\",\"\",IF(OR(O71=\"Putzbord\",O71=\"Flexila PU\"),Daten!$D$15,IF(OR(O71=\"Stehbord\",O71=\"Stehbord HB\",O71=\"Flexila STB\",O71=\"Jalousiebord\"),Daten!$D$19,\"-\")))","v":""},{"$f":"IF($A71=\"\",\"\",IF(O71=\"Putzbord\",Daten!$D$16,IF(O71=\"Flexila PU\",_xlfn.NUMBERVALUE(MID(Daten!$D$17,1,2)),\"-\")))","v":""},{"$f":"IF($A71=\"\",\"\",IF(OR(O71=\"Putzbord\",O71=\"Flexila PU\"),Daten!$D$18,IF(OR(O71=\"Stehbord\",O71=\"Stehbord HB\",O71=\"Flexila STB\",O71=\"Jalousiebord\"),Daten!$D$21,\"-\")))","v":""},{"$f":"IF(A71=\"\",\"\",IF(Daten!D$6=Daten!N$11,Daten!M$11,IF(Daten!D$6=Daten!N$13,Daten!M$13,IF(AND(Daten!$D$6=Daten!$M$10,Daten!$D$8=TRUE),Daten!$M$14,Daten!D$6))))","v":""},{"$f":"IF($A71=\"\",\"\",IF(OR(S71=\"Putzbord\",S71=\"Flexila PU\"),Daten!$D$15,IF(OR(S71=\"Stehbord\",S71=\"Stehbord HB\",S71=\"Flexila STB\",S71=\"Jalousiebord\"),Daten!$D$19,\"-\")))","v":""},{"$f":"IF($A71=\"\",\"\",IF(S71=\"Putzbord\",Daten!$D$16,IF(S71=\"Flexila PU\",_xlfn.NUMBERVALUE(MID(Daten!$D$17,1,2)),\"-\")))","v":""},{"$f":"IF($A71=\"\",\"\",IF(OR(S71=\"Putzbord\",S71=\"Flexila PU\"),Daten!$D$18,IF(OR(S71=\"Stehbord\",S71=\"Stehbord HB\",S71=\"Flexila STB\",S71=\"Jalousiebord\"),Daten!$D$21,\"-\")))","v":""},{"$f":"IF(A71=\"\",\"\",IF(AND(Daten!D$6=\"Jalousiebord\",OR(O71=\"Stehbord\",S71=\"Stehbord\")),\"Jalousienklinkung\",\"\"))","v":""},{"$f":"IF(W71=\"\",\"\",Daten!D$20)","v":""},null,null,{"$f":"IF(A71=\"\",\"\",IF(Daten!F$1=\"A\",\"Ohne\",IF(OR(N71=\"Gerstenkorn roh\",N71=\"Riffelblech roh\"),\"XPS\",Daten!F$2)))","v":""},{"$f":"IF(A71=\"\",\"\",IF(AA71=\"Ohne\",\"A\",IF(AA71=\"XPS\",IF(Daten!F$1=\"D\",\"B\",Daten!F$1),Daten!F$1)))","v":""},{"$f":"IF(A71=\"\",\"\",IF(AB71=\"A\",\"-\",Daten!F$7))","v":""},{"$f":"IF(A71=\"\",\"\",IF(AB71=\"A\",\"-\",IF(AND(Daten!F$8=0,O71=\"Putzbord\"),5-Q71,0)))","v":""},{"$f":"IF(A71=\"\",\"\",IF(AB71=\"A\",\"-\",IF(AND(Daten!F$8=0,S71=\"Putzbord\"),5-U71,0)))","v":""},{"$f":"IF(A71=\"\",\"\",IF(AB71=\"A\",\"-\",Daten!F$10))","v":""},{"$f":"IFERROR(IF(A71=\"\",\"\",VLOOKUP(N71,Daten!N$1:O$7,2,FALSE)),\"\")","v":""}]
[null,null,null,{"$f":"IF(A72=\"\",\"\",IF(Daten!B$3=TRUE,Daten!B$7,\"\"))","v":""},{"$f":"IFERROR(IF(C72=\"\",\"\",C72+(2*D72)+IF(O72=Daten!M$13,6,0)+IF(S72=Daten!M$13,6,0)+IF(Q72=\"-\",0,Q72)+IF(U72=\"-\",0,U72)),\"\")","v":""},{"$f":"IF(OR(A72=\"\",AND(F$1=0,Daten!F$3=FALSE)),\"\",Daten!B$6)","v":""},{"$f":"IF(A72=\"\",\"\",IF(Daten!B$5=\"??\",\"\",Daten!B$5))","v":""},{"$f":"IF(A72=\"\",\"\",IF(Daten!B$3=FALSE,\"\",Daten!B$4))","v":""},{"$f":"IFERROR(IF(A72=\"\",\"\",G72+H72+IF(AND(G72>0,H72>0),5,0))-IF(Daten!H$21=TRUE,H72,0),\"\")","v":""},{"$f":"IFERROR(IF(A72=\"\",\"\",I72+IF(Daten!H$21=TRUE,H72,0)+IF(F72=\"\",0,F72)-IF(Daten!F$3=TRUE,Daten!F$10,0)),\"\")","v":""},{"$f":"IF(A72=\"\",\"\",Daten!D$14)","v":""},{"$f":"IF(A72=\"\",\"\",Daten!D$12)","v":""},{"$f":"IF(A72=\"\",\"\",Daten!D$13)","v":""},{"$f":"IF(A72=\"\",\"\",Daten!M$2)","v":""},{"$f":"IF(A72=\"\",\"\",IF(Daten!D$6=Daten!N$11,Daten!M$11,IF(Daten!D$6=Daten!N$13,Daten!M$13,IF(AND(Daten!$D$6=Daten!$M$10,Daten!$D$8=TRUE),Daten!$M$14,Daten!D$6))))","v":""},{"$f":"IF($A72=\"\",\"\",IF(OR(O72=\"Putzbord\",O72=\"Flexila PU\"),Daten!$D$15,IF(OR(O72=\"Stehbord\",O72=\"Stehbord HB\",O72=\"Flexila STB\",O72=\"Jalousiebord\"),Daten!$D$19,\"-\")))","v":""},{"$f":"IF($A72=\"\",\"\",IF(O72=\"Putzbord\",Daten!$D$16,IF(O72=\"Flexila PU\",_xlfn.NUMBERVALUE(MID(Daten!$D$17,1,2)),\"-\")))","v":""},{"$f":"IF($A72=\"\",\"\",IF(OR(O72=\"Putzbord\",O72=\"Flexila PU\"),Daten!$D$18,IF(OR(O72=\"Stehbord\",O72=\"Stehbord HB\",O72=\"Flexila STB\",O72=\"Jalousiebord\"),Daten!$D$21,\"-\")))","v":""},{"$f":"IF(A72=\"\",\"\",IF(Daten!D$6=Daten!N$11,Daten!M$11,IF(Daten!D$6=Daten!N$13,Daten!M$13,IF(AND(Daten!$D$6=Daten!$M$10,Daten!$D$8=TRUE),Daten!$M$14,Daten!D$6))))","v":""},{"$f":"IF($A72=\"\",\"\",IF(OR(S72=\"Putzbord\",S72=\"Flexila PU\"),Daten!$D$15,IF(OR(S72=\"Stehbord\",S72=\"Stehbord HB\",S72=\"Flexila STB\",S72=\"Jalousiebord\"),Daten!$D$19,\"-\")))","v":""},{"$f":"IF($A72=\"\",\"\",IF(S72=\"Putzbord\",Daten!$D$16,IF(S72=\"Flexila PU\",_xlfn.NUMBERVALUE(MID(Daten!$D$17,1,2)),\"-\")))","v":""},{"$f":"IF($A72=\"\",\"\",IF(OR(S72=\"Putzbord\",S72=\"Flexila PU\"),Daten!$D$18,IF(OR(S72=\"Stehbord\",S72=\"Stehbord HB\",S72=\"Flexila STB\",S72=\"Jalousiebord\"),Daten!$D$21,\"-\")))","v":""},{"$f":"IF(A72=\"\",\"\",IF(AND(Daten!D$6=\"Jalousiebord\",OR(O72=\"Stehbord\",S72=\"Stehbord\")),\"Jalousienklinkung\",\"\"))","v":""},{"$f":"IF(W72=\"\",\"\",Daten!D$20)","v":""},null,null,{"$f":"IF(A72=\"\",\"\",IF(Daten!F$1=\"A\",\"Ohne\",IF(OR(N72=\"Gerstenkorn roh\",N72=\"Riffelblech roh\"),\"XPS\",Daten!F$2)))","v":""},{"$f":"IF(A72=\"\",\"\",IF(AA72=\"Ohne\",\"A\",IF(AA72=\"XPS\",IF(Daten!F$1=\"D\",\"B\",Daten!F$1),Daten!F$1)))","v":""},{"$f":"IF(A72=\"\",\"\",IF(AB72=\"A\",\"-\",Daten!F$7))","v":""},{"$f":"IF(A72=\"\",\"\",IF(AB72=\"A\",\"-\",IF(AND(Daten!F$8=0,O72=\"Putzbord\"),5-Q72,0)))","v":""},{"$f":"IF(A72=\"\",\"\",IF(AB72=\"A\",\"-\",IF(AND(Daten!F$8=0,S72=\"Putzbord\"),5-U72,0)))","v":""},{"$f":"IF(A72=\"\",\"\",IF(AB72=\"A\",\"-\",Daten!F$10))","v":""},{"$f":"IFERROR(IF(A72=\"\",\"\",VLOOKUP(N72,Daten!N$1:O$7,2,FALSE)),\"\")","v":""}]
[null,null,null,{"$f":"IF(A73=\"\",\"\",IF(Daten!B$3=TRUE,Daten!B$7,\"\"))","v":""},{"$f":"IFERROR(IF(C73=\"\",\"\",C73+(2*D73)+IF(O73=Daten!M$13,6,0)+IF(S73=Daten!M$13,6,0)+IF(Q73=\"-\",0,Q73)+IF(U73=\"-\",0,U73)),\"\")","v":""},{"$f":"IF(OR(A73=\"\",AND(F$1=0,Daten!F$3=FALSE)),\"\",Daten!B$6)","v":""},{"$f":"IF(A73=\"\",\"\",IF(Daten!B$5=\"??\",\"\",Daten!B$5))","v":""},{"$f":"IF(A73=\"\",\"\",IF(Daten!B$3=FALSE,\"\",Daten!B$4))","v":""},{"$f":"IFERROR(IF(A73=\"\",\"\",G73+H73+IF(AND(G73>0,H73>0),5,0))-IF(Daten!H$21=TRUE,H73,0),\"\")","v":""},{"$f":"IFERROR(IF(A73=\"\",\"\",I73+IF(Daten!H$21=TRUE,H73,0)+IF(F73=\"\",0,F73)-IF(Daten!F$3=TRUE,Daten!F$10,0)),\"\")","v":""},{"$f":"IF(A73=\"\",\"\",Daten!D$14)","v":""},{"$f":"IF(A73=\"\",\"\",Daten!D$12)","v":""},{"$f":"IF(A73=\"\",\"\",Daten!D$13)","v":""},{"$f":"IF(A73=\"\",\"\",Daten!M$2)","v":""},{"$f":"IF(A73=\"\",\"\",IF(Daten!D$6=Daten!N$11,Daten!M$11,IF(Daten!D$6=Daten!N$13,Daten!M$13,IF(AND(Daten!$D$6=Daten!$M$10,Daten!$D$8=TRUE),Daten!$M$14,Daten!D$6))))","v":""},{"$f":"IF($A73=\"\",\"\",IF(OR(O73=\"Putzbord\",O73=\"Flexila PU\"),Daten!$D$15,IF(OR(O73=\"Stehbord\",O73=\"Stehbord HB\",O73=\"Flexila STB\",O73=\"Jalousiebord\"),Daten!$D$19,\"-\")))","v":""},{"$f":"IF($A73=\"\",\"\",IF(O73=\"Putzbord\",Daten!$D$16,IF(O73=\"Flexila PU\",_xlfn.NUMBERVALUE(MID(Daten!$D$17,1,2)),\"-\")))","v":""},{"$f":"IF($A73=\"\",\"\",IF(OR(O73=\"Putzbord\",O73=\"Flexila PU\"),Daten!$D$18,IF(OR(O73=\"Stehbord\",O73=\"Stehbord HB\",O73=\"Flexila STB\",O73=\"Jalousiebord\"),Daten!$D$21,\"-\")))","v":""},{"$f":"IF(A73=\"\",\"\",IF(Daten!D$6=Daten!N$11,Daten!M$11,IF(Daten!D$6=Daten!N$13,Daten!M$13,IF(AND(Daten!$D$6=Daten!$M$10,Daten!$D$8=TRUE),Daten!$M$14,Daten!D$6))))","v":""},{"$f":"IF($A73=\"\",\"\",IF(OR(S73=\"Putzbord\",S73=\"Flexila PU\"),Daten!$D$15,IF(OR(S73=\"Stehbord\",S73=\"Stehbord HB\",S73=\"Flexila STB\",S73=\"Jalousiebord\"),Daten!$D$19,\"-\")))","v":""},{"$f":"IF($A73=\"\",\"\",IF(S73=\"Putzbord\",Daten!$D$16,IF(S73=\"Flexila PU\",_xlfn.NUMBERVALUE(MID(Daten!$D$17,1,2)),\"-\")))","v":""},{"$f":"IF($A73=\"\",\"\",IF(OR(S73=\"Putzbord\",S73=\"Flexila PU\"),Daten!$D$18,IF(OR(S73=\"Stehbord\",S73=\"Stehbord HB\",S73=\"Flexila STB\",S73=\"Jalousiebord\"),Daten!$D$21,\"-\")))","v":""},{"$f":"IF(A73=\"\",\"\",IF(AND(Daten!D$6=\"Jalousiebord\",OR(O73=\"Stehbord\",S73=\"Stehbord\")),\"Jalousienklinkung\",\"\"))","v":""},{"$f":"IF(W73=\"\",\"\",Daten!D$20)","v":""},null,null,{"$f":"IF(A73=\"\",\"\",IF(Daten!F$1=\"A\",\"Ohne\",IF(OR(N73=\"Gerstenkorn roh\",N73=\"Riffelblech roh\"),\"XPS\",Daten!F$2)))","v":""},{"$f":"IF(A73=\"\",\"\",IF(AA73=\"Ohne\",\"A\",IF(AA73=\"XPS\",IF(Daten!F$1=\"D\",\"B\",Daten!F$1),Daten!F$1)))","v":""},{"$f":"IF(A73=\"\",\"\",IF(AB73=\"A\",\"-\",Daten!F$7))","v":""},{"$f":"IF(A73=\"\",\"\",IF(AB73=\"A\",\"-\",IF(AND(Daten!F$8=0,O73=\"Putzbord\"),5-Q73,0)))","v":""},{"$f":"IF(A73=\"\",\"\",IF(AB73=\"A\",\"-\",IF(AND(Daten!F$8=0,S73=\"Putzbord\"),5-U73,0)))","v":""},{"$f":"IF(A73=\"\",\"\",IF(AB73=\"A\",\"-\",Daten!F$10))","v":""},{"$f":"IFERROR(IF(A73=\"\",\"\",VLOOKUP(N73,Daten!N$1:O$7,2,FALSE)),\"\")","v":""}]
[null,null,null,{"$f":"IF(A74=\"\",\"\",IF(Daten!B$3=TRUE,Daten!B$7,\"\"))","v":""},{"$f":"IFERROR(IF(C74=\"\",\"\",C74+(2*D74)+IF(O74=Daten!M$13,6,0)+IF(S74=Daten!M$13,6,0)+IF(Q74=\"-\",0,Q74)+IF(U74=\"-\",0,U74)),\"\")","v":""},{"$f":"IF(OR(A74=\"\",AND(F$1=0,Daten!F$3=FALSE)),\"\",Daten!B$6)","v":""},{"$f":"IF(A74=\"\",\"\",IF(Daten!B$5=\"??\",\"\",Daten!B$5))","v":""},{"$f":"IF(A74=\"\",\"\",IF(Daten!B$3=FALSE,\"\",Daten!B$4))","v":""},{"$f":"IFERROR(IF(A74=\"\",\"\",G74+H74+IF(AND(G74>0,H74>0),5,0))-IF(Daten!H$21=TRUE,H74,0),\"\")","v":""},{"$f":"IFERROR(IF(A74=\"\",\"\",I74+IF(Daten!H$21=TRUE,H74,0)+IF(F74=\"\",0,F74)-IF(Daten!F$3=TRUE,Daten!F$10,0)),\"\")","v":""},{"$f":"IF(A74=\"\",\"\",Daten!D$14)","v":""},{"$f":"IF(A74=\"\",\"\",Daten!D$12)","v":""},{"$f":"IF(A74=\"\",\"\",Daten!D$13)","v":""},{"$f":"IF(A74=\"\",\"\",Daten!M$2)","v":""},{"$f":"IF(A74=\"\",\"\",IF(Daten!D$6=Daten!N$11,Daten!M$11,IF(Daten!D$6=Daten!N$13,Daten!M$13,IF(AND(Daten!$D$6=Daten!$M$10,Daten!$D$8=TRUE),Daten!$M$14,Daten!D$6))))","v":""},{"$f":"IF($A74=\"\",\"\",IF(OR(O74=\"Putzbord\",O74=\"Flexila PU\"),Daten!$D$15,IF(OR(O74=\"Stehbord\",O74=\"Stehbord HB\",O74=\"Flexila STB\",O74=\"Jalousiebord\"),Daten!$D$19,\"-\")))","v":""},{"$f":"IF($A74=\"\",\"\",IF(O74=\"Putzbord\",Daten!$D$16,IF(O74=\"Flexila PU\",_xlfn.NUMBERVALUE(MID(Daten!$D$17,1,2)),\"-\")))","v":""},{"$f":"IF($A74=\"\",\"\",IF(OR(O74=\"Putzbord\",O74=\"Flexila PU\"),Daten!$D$18,IF(OR(O74=\"Stehbord\",O74=\"Stehbord HB\",O74=\"Flexila STB\",O74=\"Jalousiebord\"),Daten!$D$21,\"-\")))","v":""},{"$f":"IF(A74=\"\",\"\",IF(Daten!D$6=Daten!N$11,Daten!M$11,IF(Daten!D$6=Daten!N$13,Daten!M$13,IF(AND(Daten!$D$6=Daten!$M$10,Daten!$D$8=TRUE),Daten!$M$14,Daten!D$6))))","v":""},{"$f":"IF($A74=\"\",\"\",IF(OR(S74=\"Putzbord\",S74=\"Flexila PU\"),Daten!$D$15,IF(OR(S74=\"Stehbord\",S74=\"Stehbord HB\",S74=\"Flexila STB\",S74=\"Jalousiebord\"),Daten!$D$19,\"-\")))","v":""},{"$f":"IF($A74=\"\",\"\",IF(S74=\"Putzbord\",Daten!$D$16,IF(S74=\"Flexila PU\",_xlfn.NUMBERVALUE(MID(Daten!$D$17,1,2)),\"-\")))","v":""},{"$f":"IF($A74=\"\",\"\",IF(OR(S74=\"Putzbord\",S74=\"Flexila PU\"),Daten!$D$18,IF(OR(S74=\"Stehbord\",S74=\"Stehbord HB\",S74=\"Flexila STB\",S74=\"Jalousiebord\"),Daten!$D$21,\"-\")))","v":""},{"$f":"IF(A74=\"\",\"\",IF(AND(Daten!D$6=\"Jalousiebord\",OR(O74=\"Stehbord\",S74=\"Stehbord\")),\"Jalousienklinkung\",\"\"))","v":""},{"$f":"IF(W74=\"\",\"\",Daten!D$20)","v":""},null,null,{"$f":"IF(A74=\"\",\"\",IF(Daten!F$1=\"A\",\"Ohne\",IF(OR(N74=\"Gerstenkorn roh\",N74=\"Riffelblech roh\"),\"XPS\",Daten!F$2)))","v":""},{"$f":"IF(A74=\"\",\"\",IF(AA74=\"Ohne\",\"A\",IF(AA74=\"XPS\",IF(Daten!F$1=\"D\",\"B\",Daten!F$1),Daten!F$1)))","v":""},{"$f":"IF(A74=\"\",\"\",IF(AB74=\"A\",\"-\",Daten!F$7))","v":""},{"$f":"IF(A74=\"\",\"\",IF(AB74=\"A\",\"-\",IF(AND(Daten!F$8=0,O74=\"Putzbord\"),5-Q74,0)))","v":""},{"$f":"IF(A74=\"\",\"\",IF(AB74=\"A\",\"-\",IF(AND(Daten!F$8=0,S74=\"Putzbord\"),5-U74,0)))","v":""},{"$f":"IF(A74=\"\",\"\",IF(AB74=\"A\",\"-\",Daten!F$10))","v":""},{"$f":"IFERROR(IF(A74=\"\",\"\",VLOOKUP(N74,Daten!N$1:O$7,2,FALSE)),\"\")","v":""}]
[null,null,null,{"$f":"IF(A75=\"\",\"\",IF(Daten!B$3=TRUE,Daten!B$7,\"\"))","v":""},{"$f":"IFERROR(IF(C75=\"\",\"\",C75+(2*D75)+IF(O75=Daten!M$13,6,0)+IF(S75=Daten!M$13,6,0)+IF(Q75=\"-\",0,Q75)+IF(U75=\"-\",0,U75)),\"\")","v":""},{"$f":"IF(OR(A75=\"\",AND(F$1=0,Daten!F$3=FALSE)),\"\",Daten!B$6)","v":""},{"$f":"IF(A75=\"\",\"\",IF(Daten!B$5=\"??\",\"\",Daten!B$5))","v":""},{"$f":"IF(A75=\"\",\"\",IF(Daten!B$3=FALSE,\"\",Daten!B$4))","v":""},{"$f":"IFERROR(IF(A75=\"\",\"\",G75+H75+IF(AND(G75>0,H75>0),5,0))-IF(Daten!H$21=TRUE,H75,0),\"\")","v":""},{"$f":"IFERROR(IF(A75=\"\",\"\",I75+IF(Daten!H$21=TRUE,H75,0)+IF(F75=\"\",0,F75)-IF(Daten!F$3=TRUE,Daten!F$10,0)),\"\")","v":""},{"$f":"IF(A75=\"\",\"\",Daten!D$14)","v":""},{"$f":"IF(A75=\"\",\"\",Daten!D$12)","v":""},{"$f":"IF(A75=\"\",\"\",Daten!D$13)","v":""},{"$f":"IF(A75=\"\",\"\",Daten!M$2)","v":""},{"$f":"IF(A75=\"\",\"\",IF(Daten!D$6=Daten!N$11,Daten!M$11,IF(Daten!D$6=Daten!N$13,Daten!M$13,IF(AND(Daten!$D$6=Daten!$M$10,Daten!$D$8=TRUE),Daten!$M$14,Daten!D$6))))","v":""},{"$f":"IF($A75=\"\",\"\",IF(OR(O75=\"Putzbord\",O75=\"Flexila PU\"),Daten!$D$15,IF(OR(O75=\"Stehbord\",O75=\"Stehbord HB\",O75=\"Flexila STB\",O75=\"Jalousiebord\"),Daten!$D$19,\"-\")))","v":""},{"$f":"IF($A75=\"\",\"\",IF(O75=\"Putzbord\",Daten!$D$16,IF(O75=\"Flexila PU\",_xlfn.NUMBERVALUE(MID(Daten!$D$17,1,2)),\"-\")))","v":""},{"$f":"IF($A75=\"\",\"\",IF(OR(O75=\"Putzbord\",O75=\"Flexila PU\"),Daten!$D$18,IF(OR(O75=\"Stehbord\",O75=\"Stehbord HB\",O75=\"Flexila STB\",O75=\"Jalousiebord\"),Daten!$D$21,\"-\")))","v":""},{"$f":"IF(A75=\"\",\"\",IF(Daten!D$6=Daten!N$11,Daten!M$11,IF(Daten!D$6=Daten!N$13,Daten!M$13,IF(AND(Daten!$D$6=Daten!$M$10,Daten!$D$8=TRUE),Daten!$M$14,Daten!D$6))))","v":""},{"$f":"IF($A75=\"\",\"\",IF(OR(S75=\"Putzbord\",S75=\"Flexila PU\"),Daten!$D$15,IF(OR(S75=\"Stehbord\",S75=\"Stehbord HB\",S75=\"Flexila STB\",S75=\"Jalousiebord\"),Daten!$D$19,\"-\")))","v":""},{"$f":"IF($A75=\"\",\"\",IF(S75=\"Putzbord\",Daten!$D$16,IF(S75=\"Flexila PU\",_xlfn.NUMBERVALUE(MID(Daten!$D$17,1,2)),\"-\")))","v":""},{"$f":"IF($A75=\"\",\"\",IF(OR(S75=\"Putzbord\",S75=\"Flexila PU\"),Daten!$D$18,IF(OR(S75=\"Stehbord\",S75=\"Stehbord HB\",S75=\"Flexila STB\",S75=\"Jalousiebord\"),Daten!$D$21,\"-\")))","v":""},{"$f":"IF(A75=\"\",\"\",IF(AND(Daten!D$6=\"Jalousiebord\",OR(O75=\"Stehbord\",S75=\"Stehbord\")),\"Jalousienklinkung\",\"\"))","v":""},{"$f":"IF(W75=\"\",\"\",Daten!D$20)","v":""},null,null,{"$f":"IF(A75=\"\",\"\",IF(Daten!F$1=\"A\",\"Ohne\",IF(OR(N75=\"Gerstenkorn roh\",N75=\"Riffelblech roh\"),\"XPS\",Daten!F$2)))","v":""},{"$f":"IF(A75=\"\",\"\",IF(AA75=\"Ohne\",\"A\",IF(AA75=\"XPS\",IF(Daten!F$1=\"D\",\"B\",Daten!F$1),Daten!F$1)))","v":""},{"$f":"IF(A75=\"\",\"\",IF(AB75=\"A\",\"-\",Daten!F$7))","v":""},{"$f":"IF(A75=\"\",\"\",IF(AB75=\"A\",\"-\",IF(AND(Daten!F$8=0,O75=\"Putzbord\"),5-Q75,0)))","v":""},{"$f":"IF(A75=\"\",\"\",IF(AB75=\"A\",\"-\",IF(AND(Daten!F$8=0,S75=\"Putzbord\"),5-U75,0)))","v":""},{"$f":"IF(A75=\"\",\"\",IF(AB75=\"A\",\"-\",Daten!F$10))","v":""},{"$f":"IFERROR(IF(A75=\"\",\"\",VLOOKUP(N75,Daten!N$1:O$7,2,FALSE)),\"\")","v":""}]
[null,null,null,{"$f":"IF(A76=\"\",\"\",IF(Daten!B$3=TRUE,Daten!B$7,\"\"))","v":""},{"$f":"IFERROR(IF(C76=\"\",\"\",C76+(2*D76)+IF(O76=Daten!M$13,6,0)+IF(S76=Daten!M$13,6,0)+IF(Q76=\"-\",0,Q76)+IF(U76=\"-\",0,U76)),\"\")","v":""},{"$f":"IF(OR(A76=\"\",AND(F$1=0,Daten!F$3=FALSE)),\"\",Daten!B$6)","v":""},{"$f":"IF(A76=\"\",\"\",IF(Daten!B$5=\"??\",\"\",Daten!B$5))","v":""},{"$f":"IF(A76=\"\",\"\",IF(Daten!B$3=FALSE,\"\",Daten!B$4))","v":""},{"$f":"IFERROR(IF(A76=\"\",\"\",G76+H76+IF(AND(G76>0,H76>0),5,0))-IF(Daten!H$21=TRUE,H76,0),\"\")","v":""},{"$f":"IFERROR(IF(A76=\"\",\"\",I76+IF(Daten!H$21=TRUE,H76,0)+IF(F76=\"\",0,F76)-IF(Daten!F$3=TRUE,Daten!F$10,0)),\"\")","v":""},{"$f":"IF(A76=\"\",\"\",Daten!D$14)","v":""},{"$f":"IF(A76=\"\",\"\",Daten!D$12)","v":""},{"$f":"IF(A76=\"\",\"\",Daten!D$13)","v":""},{"$f":"IF(A76=\"\",\"\",Daten!M$2)","v":""},{"$f":"IF(A76=\"\",\"\",IF(Daten!D$6=Daten!N$11,Daten!M$11,IF(Daten!D$6=Daten!N$13,Daten!M$13,IF(AND(Daten!$D$6=Daten!$M$10,Daten!$D$8=TRUE),Daten!$M$14,Daten!D$6))))","v":""},{"$f":"IF($A76=\"\",\"\",IF(OR(O76=\"Putzbord\",O76=\"Flexila PU\"),Daten!$D$15,IF(OR(O76=\"Stehbord\",O76=\"Stehbord HB\",O76=\"Flexila STB\",O76=\"Jalousiebord\"),Daten!$D$19,\"-\")))","v":""},{"$f":"IF($A76=\"\",\"\",IF(O76=\"Putzbord\",Daten!$D$16,IF(O76=\"Flexila PU\",_xlfn.NUMBERVALUE(MID(Daten!$D$17,1,2)),\"-\")))","v":""},{"$f":"IF($A76=\"\",\"\",IF(OR(O76=\"Putzbord\",O76=\"Flexila PU\"),Daten!$D$18,IF(OR(O76=\"Stehbord\",O76=\"Stehbord HB\",O76=\"Flexila STB\",O76=\"Jalousiebord\"),Daten!$D$21,\"-\")))","v":""},{"$f":"IF(A76=\"\",\"\",IF(Daten!D$6=Daten!N$11,Daten!M$11,IF(Daten!D$6=Daten!N$13,Daten!M$13,IF(AND(Daten!$D$6=Daten!$M$10,Daten!$D$8=TRUE),Daten!$M$14,Daten!D$6))))","v":""},{"$f":"IF($A76=\"\",\"\",IF(OR(S76=\"Putzbord\",S76=\"Flexila PU\"),Daten!$D$15,IF(OR(S76=\"Stehbord\",S76=\"Stehbord HB\",S76=\"Flexila STB\",S76=\"Jalousiebord\"),Daten!$D$19,\"-\")))","v":""},{"$f":"IF($A76=\"\",\"\",IF(S76=\"Putzbord\",Daten!$D$16,IF(S76=\"Flexila PU\",_xlfn.NUMBERVALUE(MID(Daten!$D$17,1,2)),\"-\")))","v":""},{"$f":"IF($A76=\"\",\"\",IF(OR(S76=\"Putzbord\",S76=\"Flexila PU\"),Daten!$D$18,IF(OR(S76=\"Stehbord\",S76=\"Stehbord HB\",S76=\"Flexila STB\",S76=\"Jalousiebord\"),Daten!$D$21,\"-\")))","v":""},{"$f":"IF(A76=\"\",\"\",IF(AND(Daten!D$6=\"Jalousiebord\",OR(O76=\"Stehbord\",S76=\"Stehbord\")),\"Jalousienklinkung\",\"\"))","v":""},{"$f":"IF(W76=\"\",\"\",Daten!D$20)","v":""},null,null,{"$f":"IF(A76=\"\",\"\",IF(Daten!F$1=\"A\",\"Ohne\",IF(OR(N76=\"Gerstenkorn roh\",N76=\"Riffelblech roh\"),\"XPS\",Daten!F$2)))","v":""},{"$f":"IF(A76=\"\",\"\",IF(AA76=\"Ohne\",\"A\",IF(AA76=\"XPS\",IF(Daten!F$1=\"D\",\"B\",Daten!F$1),Daten!F$1)))","v":""},{"$f":"IF(A76=\"\",\"\",IF(AB76=\"A\",\"-\",Daten!F$7))","v":""},{"$f":"IF(A76=\"\",\"\",IF(AB76=\"A\",\"-\",IF(AND(Daten!F$8=0,O76=\"Putzbord\"),5-Q76,0)))","v":""},{"$f":"IF(A76=\"\",\"\",IF(AB76=\"A\",\"-\",IF(AND(Daten!F$8=0,S76=\"Putzbord\"),5-U76,0)))","v":""},{"$f":"IF(A76=\"\",\"\",IF(AB76=\"A\",\"-\",Daten!F$10))","v":""},{"$f":"IFERROR(IF(A76=\"\",\"\",VLOOKUP(N76,Daten!N$1:O$7,2,FALSE)),\"\")","v":""}]
[null,null,null,{"$f":"IF(A77=\"\",\"\",IF(Daten!B$3=TRUE,Daten!B$7,\"\"))","v":""},{"$f":"IFERROR(IF(C77=\"\",\"\",C77+(2*D77)+IF(O77=Daten!M$13,6,0)+IF(S77=Daten!M$13,6,0)+IF(Q77=\"-\",0,Q77)+IF(U77=\"-\",0,U77)),\"\")","v":""},{"$f":"IF(OR(A77=\"\",AND(F$1=0,Daten!F$3=FALSE)),\"\",Daten!B$6)","v":""},{"$f":"IF(A77=\"\",\"\",IF(Daten!B$5=\"??\",\"\",Daten!B$5))","v":""},{"$f":"IF(A77=\"\",\"\",IF(Daten!B$3=FALSE,\"\",Daten!B$4))","v":""},{"$f":"IFERROR(IF(A77=\"\",\"\",G77+H77+IF(AND(G77>0,H77>0),5,0))-IF(Daten!H$21=TRUE,H77,0),\"\")","v":""},{"$f":"IFERROR(IF(A77=\"\",\"\",I77+IF(Daten!H$21=TRUE,H77,0)+IF(F77=\"\",0,F77)-IF(Daten!F$3=TRUE,Daten!F$10,0)),\"\")","v":""},{"$f":"IF(A77=\"\",\"\",Daten!D$14)","v":""},{"$f":"IF(A77=\"\",\"\",Daten!D$12)","v":""},{"$f":"IF(A77=\"\",\"\",Daten!D$13)","v":""},{"$f":"IF(A77=\"\",\"\",Daten!M$2)","v":""},{"$f":"IF(A77=\"\",\"\",IF(Daten!D$6=Daten!N$11,Daten!M$11,IF(Daten!D$6=Daten!N$13,Daten!M$13,IF(AND(Daten!$D$6=Daten!$M$10,Daten!$D$8=TRUE),Daten!$M$14,Daten!D$6))))","v":""},{"$f":"IF($A77=\"\",\"\",IF(OR(O77=\"Putzbord\",O77=\"Flexila PU\"),Daten!$D$15,IF(OR(O77=\"Stehbord\",O77=\"Stehbord HB\",O77=\"Flexila STB\",O77=\"Jalousiebord\"),Daten!$D$19,\"-\")))","v":""},{"$f":"IF($A77=\"\",\"\",IF(O77=\"Putzbord\",Daten!$D$16,IF(O77=\"Flexila PU\",_xlfn.NUMBERVALUE(MID(Daten!$D$17,1,2)),\"-\")))","v":""},{"$f":"IF($A77=\"\",\"\",IF(OR(O77=\"Putzbord\",O77=\"Flexila PU\"),Daten!$D$18,IF(OR(O77=\"Stehbord\",O77=\"Stehbord HB\",O77=\"Flexila STB\",O77=\"Jalousiebord\"),Daten!$D$21,\"-\")))","v":""},{"$f":"IF(A77=\"\",\"\",IF(Daten!D$6=Daten!N$11,Daten!M$11,IF(Daten!D$6=Daten!N$13,Daten!M$13,IF(AND(Daten!$D$6=Daten!$M$10,Daten!$D$8=TRUE),Daten!$M$14,Daten!D$6))))","v":""},{"$f":"IF($A77=\"\",\"\",IF(OR(S77=\"Putzbord\",S77=\"Flexila PU\"),Daten!$D$15,IF(OR(S77=\"Stehbord\",S77=\"Stehbord HB\",S77=\"Flexila STB\",S77=\"Jalousiebord\"),Daten!$D$19,\"-\")))","v":""},{"$f":"IF($A77=\"\",\"\",IF(S77=\"Putzbord\",Daten!$D$16,IF(S77=\"Flexila PU\",_xlfn.NUMBERVALUE(MID(Daten!$D$17,1,2)),\"-\")))","v":""},{"$f":"IF($A77=\"\",\"\",IF(OR(S77=\"Putzbord\",S77=\"Flexila PU\"),Daten!$D$18,IF(OR(S77=\"Stehbord\",S77=\"Stehbord HB\",S77=\"Flexila STB\",S77=\"Jalousiebord\"),Daten!$D$21,\"-\")))","v":""},{"$f":"IF(A77=\"\",\"\",IF(AND(Daten!D$6=\"Jalousiebord\",OR(O77=\"Stehbord\",S77=\"Stehbord\")),\"Jalousienklinkung\",\"\"))","v":""},{"$f":"IF(W77=\"\",\"\",Daten!D$20)","v":""},null,null,{"$f":"IF(A77=\"\",\"\",IF(Daten!F$1=\"A\",\"Ohne\",IF(OR(N77=\"Gerstenkorn roh\",N77=\"Riffelblech roh\"),\"XPS\",Daten!F$2)))","v":""},{"$f":"IF(A77=\"\",\"\",IF(AA77=\"Ohne\",\"A\",IF(AA77=\"XPS\",IF(Daten!F$1=\"D\",\"B\",Daten!F$1),Daten!F$1)))","v":""},{"$f":"IF(A77=\"\",\"\",IF(AB77=\"A\",\"-\",Daten!F$7))","v":""},{"$f":"IF(A77=\"\",\"\",IF(AB77=\"A\",\"-\",IF(AND(Daten!F$8=0,O77=\"Putzbord\"),5-Q77,0)))","v":""},{"$f":"IF(A77=\"\",\"\",IF(AB77=\"A\",\"-\",IF(AND(Daten!F$8=0,S77=\"Putzbord\"),5-U77,0)))","v":""},{"$f":"IF(A77=\"\",\"\",IF(AB77=\"A\",\"-\",Daten!F$10))","v":""},{"$f":"IFERROR(IF(A77=\"\",\"\",VLOOKUP(N77,Daten!N$1:O$7,2,FALSE)),\"\")","v":""}]
[null,null,null,{"$f":"IF(A78=\"\",\"\",IF(Daten!B$3=TRUE,Daten!B$7,\"\"))","v":""},{"$f":"IFERROR(IF(C78=\"\",\"\",C78+(2*D78)+IF(O78=Daten!M$13,6,0)+IF(S78=Daten!M$13,6,0)+IF(Q78=\"-\",0,Q78)+IF(U78=\"-\",0,U78)),\"\")","v":""},{"$f":"IF(OR(A78=\"\",AND(F$1=0,Daten!F$3=FALSE)),\"\",Daten!B$6)","v":""},{"$f":"IF(A78=\"\",\"\",IF(Daten!B$5=\"??\",\"\",Daten!B$5))","v":""},{"$f":"IF(A78=\"\",\"\",IF(Daten!B$3=FALSE,\"\",Daten!B$4))","v":""},{"$f":"IFERROR(IF(A78=\"\",\"\",G78+H78+IF(AND(G78>0,H78>0),5,0))-IF(Daten!H$21=TRUE,H78,0),\"\")","v":""},{"$f":"IFERROR(IF(A78=\"\",\"\",I78+IF(Daten!H$21=TRUE,H78,0)+IF(F78=\"\",0,F78)-IF(Daten!F$3=TRUE,Daten!F$10,0)),\"\")","v":""},{"$f":"IF(A78=\"\",\"\",Daten!D$14)","v":""},{"$f":"IF(A78=\"\",\"\",Daten!D$12)","v":""},{"$f":"IF(A78=\"\",\"\",Daten!D$13)","v":""},{"$f":"IF(A78=\"\",\"\",Daten!M$2)","v":""},{"$f":"IF(A78=\"\",\"\",IF(Daten!D$6=Daten!N$11,Daten!M$11,IF(Daten!D$6=Daten!N$13,Daten!M$13,IF(AND(Daten!$D$6=Daten!$M$10,Daten!$D$8=TRUE),Daten!$M$14,Daten!D$6))))","v":""},{"$f":"IF($A78=\"\",\"\",IF(OR(O78=\"Putzbord\",O78=\"Flexila PU\"),Daten!$D$15,IF(OR(O78=\"Stehbord\",O78=\"Stehbord HB\",O78=\"Flexila STB\",O78=\"Jalousiebord\"),Daten!$D$19,\"-\")))","v":""},{"$f":"IF($A78=\"\",\"\",IF(O78=\"Putzbord\",Daten!$D$16,IF(O78=\"Flexila PU\",_xlfn.NUMBERVALUE(MID(Daten!$D$17,1,2)),\"-\")))","v":""},{"$f":"IF($A78=\"\",\"\",IF(OR(O78=\"Putzbord\",O78=\"Flexila PU\"),Daten!$D$18,IF(OR(O78=\"Stehbord\",O78=\"Stehbord HB\",O78=\"Flexila STB\",O78=\"Jalousiebord\"),Daten!$D$21,\"-\")))","v":""},{"$f":"IF(A78=\"\",\"\",IF(Daten!D$6=Daten!N$11,Daten!M$11,IF(Daten!D$6=Daten!N$13,Daten!M$13,IF(AND(Daten!$D$6=Daten!$M$10,Daten!$D$8=TRUE),Daten!$M$14,Daten!D$6))))","v":""},{"$f":"IF($A78=\"\",\"\",IF(OR(S78=\"Putzbord\",S78=\"Flexila PU\"),Daten!$D$15,IF(OR(S78=\"Stehbord\",S78=\"Stehbord HB\",S78=\"Flexila STB\",S78=\"Jalousiebord\"),Daten!$D$19,\"-\")))","v":""},{"$f":"IF($A78=\"\",\"\",IF(S78=\"Putzbord\",Daten!$D$16,IF(S78=\"Flexila PU\",_xlfn.NUMBERVALUE(MID(Daten!$D$17,1,2)),\"-\")))","v":""},{"$f":"IF($A78=\"\",\"\",IF(OR(S78=\"Putzbord\",S78=\"Flexila PU\"),Daten!$D$18,IF(OR(S78=\"Stehbord\",S78=\"Stehbord HB\",S78=\"Flexila STB\",S78=\"Jalousiebord\"),Daten!$D$21,\"-\")))","v":""},{"$f":"IF(A78=\"\",\"\",IF(AND(Daten!D$6=\"Jalousiebord\",OR(O78=\"Stehbord\",S78=\"Stehbord\")),\"Jalousienklinkung\",\"\"))","v":""},{"$f":"IF(W78=\"\",\"\",Daten!D$20)","v":""},null,null,{"$f":"IF(A78=\"\",\"\",IF(Daten!F$1=\"A\",\"Ohne\",IF(OR(N78=\"Gerstenkorn roh\",N78=\"Riffelblech roh\"),\"XPS\",Daten!F$2)))","v":""},{"$f":"IF(A78=\"\",\"\",IF(AA78=\"Ohne\",\"A\",IF(AA78=\"XPS\",IF(Daten!F$1=\"D\",\"B\",Daten!F$1),Daten!F$1)))","v":""},{"$f":"IF(A78=\"\",\"\",IF(AB78=\"A\",\"-\",Daten!F$7))","v":""},{"$f":"IF(A78=\"\",\"\",IF(AB78=\"A\",\"-\",IF(AND(Daten!F$8=0,O78=\"Putzbord\"),5-Q78,0)))","v":""},{"$f":"IF(A78=\"\",\"\",IF(AB78=\"A\",\"-\",IF(AND(Daten!F$8=0,S78=\"Putzbord\"),5-U78,0)))","v":""},{"$f":"IF(A78=\"\",\"\",IF(AB78=\"A\",\"-\",Daten!F$10))","v":""},{"$f":"IFERROR(IF(A78=\"\",\"\",VLOOKUP(N78,Daten!N$1:O$7,2,FALSE)),\"\")","v":""}]
[null,null,null,{"$f":"IF(A79=\"\",\"\",IF(Daten!B$3=TRUE,Daten!B$7,\"\"))","v":""},{"$f":"IFERROR(IF(C79=\"\",\"\",C79+(2*D79)+IF(O79=Daten!M$13,6,0)+IF(S79=Daten!M$13,6,0)+IF(Q79=\"-\",0,Q79)+IF(U79=\"-\",0,U79)),\"\")","v":""},{"$f":"IF(OR(A79=\"\",AND(F$1=0,Daten!F$3=FALSE)),\"\",Daten!B$6)","v":""},{"$f":"IF(A79=\"\",\"\",IF(Daten!B$5=\"??\",\"\",Daten!B$5))","v":""},{"$f":"IF(A79=\"\",\"\",IF(Daten!B$3=FALSE,\"\",Daten!B$4))","v":""},{"$f":"IFERROR(IF(A79=\"\",\"\",G79+H79+IF(AND(G79>0,H79>0),5,0))-IF(Daten!H$21=TRUE,H79,0),\"\")","v":""},{"$f":"IFERROR(IF(A79=\"\",\"\",I79+IF(Daten!H$21=TRUE,H79,0)+IF(F79=\"\",0,F79)-IF(Daten!F$3=TRUE,Daten!F$10,0)),\"\")","v":""},{"$f":"IF(A79=\"\",\"\",Daten!D$14)","v":""},{"$f":"IF(A79=\"\",\"\",Daten!D$12)","v":""},{"$f":"IF(A79=\"\",\"\",Daten!D$13)","v":""},{"$f":"IF(A79=\"\",\"\",Daten!M$2)","v":""},{"$f":"IF(A79=\"\",\"\",IF(Daten!D$6=Daten!N$11,Daten!M$11,IF(Daten!D$6=Daten!N$13,Daten!M$13,IF(AND(Daten!$D$6=Daten!$M$10,Daten!$D$8=TRUE),Daten!$M$14,Daten!D$6))))","v":""},{"$f":"IF($A79=\"\",\"\",IF(OR(O79=\"Putzbord\",O79=\"Flexila PU\"),Daten!$D$15,IF(OR(O79=\"Stehbord\",O79=\"Stehbord HB\",O79=\"Flexila STB\",O79=\"Jalousiebord\"),Daten!$D$19,\"-\")))","v":""},{"$f":"IF($A79=\"\",\"\",IF(O79=\"Putzbord\",Daten!$D$16,IF(O79=\"Flexila PU\",_xlfn.NUMBERVALUE(MID(Daten!$D$17,1,2)),\"-\")))","v":""},{"$f":"IF($A79=\"\",\"\",IF(OR(O79=\"Putzbord\",O79=\"Flexila PU\"),Daten!$D$18,IF(OR(O79=\"Stehbord\",O79=\"Stehbord HB\",O79=\"Flexila STB\",O79=\"Jalousiebord\"),Daten!$D$21,\"-\")))","v":""},{"$f":"IF(A79=\"\",\"\",IF(Daten!D$6=Daten!N$11,Daten!M$11,IF(Daten!D$6=Daten!N$13,Daten!M$13,IF(AND(Daten!$D$6=Daten!$M$10,Daten!$D$8=TRUE),Daten!$M$14,Daten!D$6))))","v":""},{"$f":"IF($A79=\"\",\"\",IF(OR(S79=\"Putzbord\",S79=\"Flexila PU\"),Daten!$D$15,IF(OR(S79=\"Stehbord\",S79=\"Stehbord HB\",S79=\"Flexila STB\",S79=\"Jalousiebord\"),Daten!$D$19,\"-\")))","v":""},{"$f":"IF($A79=\"\",\"\",IF(S79=\"Putzbord\",Daten!$D$16,IF(S79=\"Flexila PU\",_xlfn.NUMBERVALUE(MID(Daten!$D$17,1,2)),\"-\")))","v":""},{"$f":"IF($A79=\"\",\"\",IF(OR(S79=\"Putzbord\",S79=\"Flexila PU\"),Daten!$D$18,IF(OR(S79=\"Stehbord\",S79=\"Stehbord HB\",S79=\"Flexila STB\",S79=\"Jalousiebord\"),Daten!$D$21,\"-\")))","v":""},{"$f":"IF(A79=\"\",\"\",IF(AND(Daten!D$6=\"Jalousiebord\",OR(O79=\"Stehbord\",S79=\"Stehbord\")),\"Jalousienklinkung\",\"\"))","v":""},{"$f":"IF(W79=\"\",\"\",Daten!D$20)","v":""},null,null,{"$f":"IF(A79=\"\",\"\",IF(Daten!F$1=\"A\",\"Ohne\",IF(OR(N79=\"Gerstenkorn roh\",N79=\"Riffelblech roh\"),\"XPS\",Daten!F$2)))","v":""},{"$f":"IF(A79=\"\",\"\",IF(AA79=\"Ohne\",\"A\",IF(AA79=\"XPS\",IF(Daten!F$1=\"D\",\"B\",Daten!F$1),Daten!F$1)))","v":""},{"$f":"IF(A79=\"\",\"\",IF(AB79=\"A\",\"-\",Daten!F$7))","v":""},{"$f":"IF(A79=\"\",\"\",IF(AB79=\"A\",\"-\",IF(AND(Daten!F$8=0,O79=\"Putzbord\"),5-Q79,0)))","v":""},{"$f":"IF(A79=\"\",\"\",IF(AB79=\"A\",\"-\",IF(AND(Daten!F$8=0,S79=\"Putzbord\"),5-U79,0)))","v":""},{"$f":"IF(A79=\"\",\"\",IF(AB79=\"A\",\"-\",Daten!F$10))","v":""},{"$f":"IFERROR(IF(A79=\"\",\"\",VLOOKUP(N79,Daten!N$1:O$7,2,FALSE)),\"\")","v":""}]
[null,null,null,{"$f":"IF(A80=\"\",\"\",IF(Daten!B$3=TRUE,Daten!B$7,\"\"))","v":""},{"$f":"IFERROR(IF(C80=\"\",\"\",C80+(2*D80)+IF(O80=Daten!M$13,6,0)+IF(S80=Daten!M$13,6,0)+IF(Q80=\"-\",0,Q80)+IF(U80=\"-\",0,U80)),\"\")","v":""},{"$f":"IF(OR(A80=\"\",AND(F$1=0,Daten!F$3=FALSE)),\"\",Daten!B$6)","v":""},{"$f":"IF(A80=\"\",\"\",IF(Daten!B$5=\"??\",\"\",Daten!B$5))","v":""},{"$f":"IF(A80=\"\",\"\",IF(Daten!B$3=FALSE,\"\",Daten!B$4))","v":""},{"$f":"IFERROR(IF(A80=\"\",\"\",G80+H80+IF(AND(G80>0,H80>0),5,0))-IF(Daten!H$21=TRUE,H80,0),\"\")","v":""},{"$f":"IFERROR(IF(A80=\"\",\"\",I80+IF(Daten!H$21=TRUE,H80,0)+IF(F80=\"\",0,F80)-IF(Daten!F$3=TRUE,Daten!F$10,0)),\"\")","v":""},{"$f":"IF(A80=\"\",\"\",Daten!D$14)","v":""},{"$f":"IF(A80=\"\",\"\",Daten!D$12)","v":""},{"$f":"IF(A80=\"\",\"\",Daten!D$13)","v":""},{"$f":"IF(A80=\"\",\"\",Daten!M$2)","v":""},{"$f":"IF(A80=\"\",\"\",IF(Daten!D$6=Daten!N$11,Daten!M$11,IF(Daten!D$6=Daten!N$13,Daten!M$13,IF(AND(Daten!$D$6=Daten!$M$10,Daten!$D$8=TRUE),Daten!$M$14,Daten!D$6))))","v":""},{"$f":"IF($A80=\"\",\"\",IF(OR(O80=\"Putzbord\",O80=\"Flexila PU\"),Daten!$D$15,IF(OR(O80=\"Stehbord\",O80=\"Stehbord HB\",O80=\"Flexila STB\",O80=\"Jalousiebord\"),Daten!$D$19,\"-\")))","v":""},{"$f":"IF($A80=\"\",\"\",IF(O80=\"Putzbord\",Daten!$D$16,IF(O80=\"Flexila PU\",_xlfn.NUMBERVALUE(MID(Daten!$D$17,1,2)),\"-\")))","v":""},{"$f":"IF($A80=\"\",\"\",IF(OR(O80=\"Putzbord\",O80=\"Flexila PU\"),Daten!$D$18,IF(OR(O80=\"Stehbord\",O80=\"Stehbord HB\",O80=\"Flexila STB\",O80=\"Jalousiebord\"),Daten!$D$21,\"-\")))","v":""},{"$f":"IF(A80=\"\",\"\",IF(Daten!D$6=Daten!N$11,Daten!M$11,IF(Daten!D$6=Daten!N$13,Daten!M$13,IF(AND(Daten!$D$6=Daten!$M$10,Daten!$D$8=TRUE),Daten!$M$14,Daten!D$6))))","v":""},{"$f":"IF($A80=\"\",\"\",IF(OR(S80=\"Putzbord\",S80=\"Flexila PU\"),Daten!$D$15,IF(OR(S80=\"Stehbord\",S80=\"Stehbord HB\",S80=\"Flexila STB\",S80=\"Jalousiebord\"),Daten!$D$19,\"-\")))","v":""},{"$f":"IF($A80=\"\",\"\",IF(S80=\"Putzbord\",Daten!$D$16,IF(S80=\"Flexila PU\",_xlfn.NUMBERVALUE(MID(Daten!$D$17,1,2)),\"-\")))","v":""},{"$f":"IF($A80=\"\",\"\",IF(OR(S80=\"Putzbord\",S80=\"Flexila PU\"),Daten!$D$18,IF(OR(S80=\"Stehbord\",S80=\"Stehbord HB\",S80=\"Flexila STB\",S80=\"Jalousiebord\"),Daten!$D$21,\"-\")))","v":""},{"$f":"IF(A80=\"\",\"\",IF(AND(Daten!D$6=\"Jalousiebord\",OR(O80=\"Stehbord\",S80=\"Stehbord\")),\"Jalousienklinkung\",\"\"))","v":""},{"$f":"IF(W80=\"\",\"\",Daten!D$20)","v":""},null,null,{"$f":"IF(A80=\"\",\"\",IF(Daten!F$1=\"A\",\"Ohne\",IF(OR(N80=\"Gerstenkorn roh\",N80=\"Riffelblech roh\"),\"XPS\",Daten!F$2)))","v":""},{"$f":"IF(A80=\"\",\"\",IF(AA80=\"Ohne\",\"A\",IF(AA80=\"XPS\",IF(Daten!F$1=\"D\",\"B\",Daten!F$1),Daten!F$1)))","v":""},{"$f":"IF(A80=\"\",\"\",IF(AB80=\"A\",\"-\",Daten!F$7))","v":""},{"$f":"IF(A80=\"\",\"\",IF(AB80=\"A\",\"-\",IF(AND(Daten!F$8=0,O80=\"Putzbord\"),5-Q80,0)))","v":""},{"$f":"IF(A80=\"\",\"\",IF(AB80=\"A\",\"-\",IF(AND(Daten!F$8=0,S80=\"Putzbord\"),5-U80,0)))","v":""},{"$f":"IF(A80=\"\",\"\",IF(AB80=\"A\",\"-\",Daten!F$10))","v":""},{"$f":"IFERROR(IF(A80=\"\",\"\",VLOOKUP(N80,Daten!N$1:O$7,2,FALSE)),\"\")","v":""}]
[null,null,null,{"$f":"IF(A81=\"\",\"\",IF(Daten!B$3=TRUE,Daten!B$7,\"\"))","v":""},{"$f":"IFERROR(IF(C81=\"\",\"\",C81+(2*D81)+IF(O81=Daten!M$13,6,0)+IF(S81=Daten!M$13,6,0)+IF(Q81=\"-\",0,Q81)+IF(U81=\"-\",0,U81)),\"\")","v":""},{"$f":"IF(OR(A81=\"\",AND(F$1=0,Daten!F$3=FALSE)),\"\",Daten!B$6)","v":""},{"$f":"IF(A81=\"\",\"\",IF(Daten!B$5=\"??\",\"\",Daten!B$5))","v":""},{"$f":"IF(A81=\"\",\"\",IF(Daten!B$3=FALSE,\"\",Daten!B$4))","v":""},{"$f":"IFERROR(IF(A81=\"\",\"\",G81+H81+IF(AND(G81>0,H81>0),5,0))-IF(Daten!H$21=TRUE,H81,0),\"\")","v":""},{"$f":"IFERROR(IF(A81=\"\",\"\",I81+IF(Daten!H$21=TRUE,H81,0)+IF(F81=\"\",0,F81)-IF(Daten!F$3=TRUE,Daten!F$10,0)),\"\")","v":""},{"$f":"IF(A81=\"\",\"\",Daten!D$14)","v":""},{"$f":"IF(A81=\"\",\"\",Daten!D$12)","v":""},{"$f":"IF(A81=\"\",\"\",Daten!D$13)","v":""},{"$f":"IF(A81=\"\",\"\",Daten!M$2)","v":""},{"$f":"IF(A81=\"\",\"\",IF(Daten!D$6=Daten!N$11,Daten!M$11,IF(Daten!D$6=Daten!N$13,Daten!M$13,IF(AND(Daten!$D$6=Daten!$M$10,Daten!$D$8=TRUE),Daten!$M$14,Daten!D$6))))","v":""},{"$f":"IF($A81=\"\",\"\",IF(OR(O81=\"Putzbord\",O81=\"Flexila PU\"),Daten!$D$15,IF(OR(O81=\"Stehbord\",O81=\"Stehbord HB\",O81=\"Flexila STB\",O81=\"Jalousiebord\"),Daten!$D$19,\"-\")))","v":""},{"$f":"IF($A81=\"\",\"\",IF(O81=\"Putzbord\",Daten!$D$16,IF(O81=\"Flexila PU\",_xlfn.NUMBERVALUE(MID(Daten!$D$17,1,2)),\"-\")))","v":""},{"$f":"IF($A81=\"\",\"\",IF(OR(O81=\"Putzbord\",O81=\"Flexila PU\"),Daten!$D$18,IF(OR(O81=\"Stehbord\",O81=\"Stehbord HB\",O81=\"Flexila STB\",O81=\"Jalousiebord\"),Daten!$D$21,\"-\")))","v":""},{"$f":"IF(A81=\"\",\"\",IF(Daten!D$6=Daten!N$11,Daten!M$11,IF(Daten!D$6=Daten!N$13,Daten!M$13,IF(AND(Daten!$D$6=Daten!$M$10,Daten!$D$8=TRUE),Daten!$M$14,Daten!D$6))))","v":""},{"$f":"IF($A81=\"\",\"\",IF(OR(S81=\"Putzbord\",S81=\"Flexila PU\"),Daten!$D$15,IF(OR(S81=\"Stehbord\",S81=\"Stehbord HB\",S81=\"Flexila STB\",S81=\"Jalousiebord\"),Daten!$D$19,\"-\")))","v":""},{"$f":"IF($A81=\"\",\"\",IF(S81=\"Putzbord\",Daten!$D$16,IF(S81=\"Flexila PU\",_xlfn.NUMBERVALUE(MID(Daten!$D$17,1,2)),\"-\")))","v":""},{"$f":"IF($A81=\"\",\"\",IF(OR(S81=\"Putzbord\",S81=\"Flexila PU\"),Daten!$D$18,IF(OR(S81=\"Stehbord\",S81=\"Stehbord HB\",S81=\"Flexila STB\",S81=\"Jalousiebord\"),Daten!$D$21,\"-\")))","v":""},{"$f":"IF(A81=\"\",\"\",IF(AND(Daten!D$6=\"Jalousiebord\",OR(O81=\"Stehbord\",S81=\"Stehbord\")),\"Jalousienklinkung\",\"\"))","v":""},{"$f":"IF(W81=\"\",\"\",Daten!D$20)","v":""},null,null,{"$f":"IF(A81=\"\",\"\",IF(Daten!F$1=\"A\",\"Ohne\",IF(OR(N81=\"Gerstenkorn roh\",N81=\"Riffelblech roh\"),\"XPS\",Daten!F$2)))","v":""},{"$f":"IF(A81=\"\",\"\",IF(AA81=\"Ohne\",\"A\",IF(AA81=\"XPS\",IF(Daten!F$1=\"D\",\"B\",Daten!F$1),Daten!F$1)))","v":""},{"$f":"IF(A81=\"\",\"\",IF(AB81=\"A\",\"-\",Daten!F$7))","v":""},{"$f":"IF(A81=\"\",\"\",IF(AB81=\"A\",\"-\",IF(AND(Daten!F$8=0,O81=\"Putzbord\"),5-Q81,0)))","v":""},{"$f":"IF(A81=\"\",\"\",IF(AB81=\"A\",\"-\",IF(AND(Daten!F$8=0,S81=\"Putzbord\"),5-U81,0)))","v":""},{"$f":"IF(A81=\"\",\"\",IF(AB81=\"A\",\"-\",Daten!F$10))","v":""},{"$f":"IFERROR(IF(A81=\"\",\"\",VLOOKUP(N81,Daten!N$1:O$7,2,FALSE)),\"\")","v":""}]
[null,null,null,{"$f":"IF(A82=\"\",\"\",IF(Daten!B$3=TRUE,Daten!B$7,\"\"))","v":""},{"$f":"IFERROR(IF(C82=\"\",\"\",C82+(2*D82)+IF(O82=Daten!M$13,6,0)+IF(S82=Daten!M$13,6,0)+IF(Q82=\"-\",0,Q82)+IF(U82=\"-\",0,U82)),\"\")","v":""},{"$f":"IF(OR(A82=\"\",AND(F$1=0,Daten!F$3=FALSE)),\"\",Daten!B$6)","v":""},{"$f":"IF(A82=\"\",\"\",IF(Daten!B$5=\"??\",\"\",Daten!B$5))","v":""},{"$f":"IF(A82=\"\",\"\",IF(Daten!B$3=FALSE,\"\",Daten!B$4))","v":""},{"$f":"IFERROR(IF(A82=\"\",\"\",G82+H82+IF(AND(G82>0,H82>0),5,0))-IF(Daten!H$21=TRUE,H82,0),\"\")","v":""},{"$f":"IFERROR(IF(A82=\"\",\"\",I82+IF(Daten!H$21=TRUE,H82,0)+IF(F82=\"\",0,F82)-IF(Daten!F$3=TRUE,Daten!F$10,0)),\"\")","v":""},{"$f":"IF(A82=\"\",\"\",Daten!D$14)","v":""},{"$f":"IF(A82=\"\",\"\",Daten!D$12)","v":""},{"$f":"IF(A82=\"\",\"\",Daten!D$13)","v":""},{"$f":"IF(A82=\"\",\"\",Daten!M$2)","v":""},{"$f":"IF(A82=\"\",\"\",IF(Daten!D$6=Daten!N$11,Daten!M$11,IF(Daten!D$6=Daten!N$13,Daten!M$13,IF(AND(Daten!$D$6=Daten!$M$10,Daten!$D$8=TRUE),Daten!$M$14,Daten!D$6))))","v":""},{"$f":"IF($A82=\"\",\"\",IF(OR(O82=\"Putzbord\",O82=\"Flexila PU\"),Daten!$D$15,IF(OR(O82=\"Stehbord\",O82=\"Stehbord HB\",O82=\"Flexila STB\",O82=\"Jalousiebord\"),Daten!$D$19,\"-\")))","v":""},{"$f":"IF($A82=\"\",\"\",IF(O82=\"Putzbord\",Daten!$D$16,IF(O82=\"Flexila PU\",_xlfn.NUMBERVALUE(MID(Daten!$D$17,1,2)),\"-\")))","v":""},{"$f":"IF($A82=\"\",\"\",IF(OR(O82=\"Putzbord\",O82=\"Flexila PU\"),Daten!$D$18,IF(OR(O82=\"Stehbord\",O82=\"Stehbord HB\",O82=\"Flexila STB\",O82=\"Jalousiebord\"),Daten!$D$21,\"-\")))","v":""},{"$f":"IF(A82=\"\",\"\",IF(Daten!D$6=Daten!N$11,Daten!M$11,IF(Daten!D$6=Daten!N$13,Daten!M$13,IF(AND(Daten!$D$6=Daten!$M$10,Daten!$D$8=TRUE),Daten!$M$14,Daten!D$6))))","v":""},{"$f":"IF($A82=\"\",\"\",IF(OR(S82=\"Putzbord\",S82=\"Flexila PU\"),Daten!$D$15,IF(OR(S82=\"Stehbord\",S82=\"Stehbord HB\",S82=\"Flexila STB\",S82=\"Jalousiebord\"),Daten!$D$19,\"-\")))","v":""},{"$f":"IF($A82=\"\",\"\",IF(S82=\"Putzbord\",Daten!$D$16,IF(S82=\"Flexila PU\",_xlfn.NUMBERVALUE(MID(Daten!$D$17,1,2)),\"-\")))","v":""},{"$f":"IF($A82=\"\",\"\",IF(OR(S82=\"Putzbord\",S82=\"Flexila PU\"),Daten!$D$18,IF(OR(S82=\"Stehbord\",S82=\"Stehbord HB\",S82=\"Flexila STB\",S82=\"Jalousiebord\"),Daten!$D$21,\"-\")))","v":""},{"$f":"IF(A82=\"\",\"\",IF(AND(Daten!D$6=\"Jalousiebord\",OR(O82=\"Stehbord\",S82=\"Stehbord\")),\"Jalousienklinkung\",\"\"))","v":""},{"$f":"IF(W82=\"\",\"\",Daten!D$20)","v":""},null,null,{"$f":"IF(A82=\"\",\"\",IF(Daten!F$1=\"A\",\"Ohne\",IF(OR(N82=\"Gerstenkorn roh\",N82=\"Riffelblech roh\"),\"XPS\",Daten!F$2)))","v":""},{"$f":"IF(A82=\"\",\"\",IF(AA82=\"Ohne\",\"A\",IF(AA82=\"XPS\",IF(Daten!F$1=\"D\",\"B\",Daten!F$1),Daten!F$1)))","v":""},{"$f":"IF(A82=\"\",\"\",IF(AB82=\"A\",\"-\",Daten!F$7))","v":""},{"$f":"IF(A82=\"\",\"\",IF(AB82=\"A\",\"-\",IF(AND(Daten!F$8=0,O82=\"Putzbord\"),5-Q82,0)))","v":""},{"$f":"IF(A82=\"\",\"\",IF(AB82=\"A\",\"-\",IF(AND(Daten!F$8=0,S82=\"Putzbord\"),5-U82,0)))","v":""},{"$f":"IF(A82=\"\",\"\",IF(AB82=\"A\",\"-\",Daten!F$10))","v":""},{"$f":"IFERROR(IF(A82=\"\",\"\",VLOOKUP(N82,Daten!N$1:O$7,2,FALSE)),\"\")","v":""}]
[null,null,null,{"$f":"IF(A83=\"\",\"\",IF(Daten!B$3=TRUE,Daten!B$7,\"\"))","v":""},{"$f":"IFERROR(IF(C83=\"\",\"\",C83+(2*D83)+IF(O83=Daten!M$13,6,0)+IF(S83=Daten!M$13,6,0)+IF(Q83=\"-\",0,Q83)+IF(U83=\"-\",0,U83)),\"\")","v":""},{"$f":"IF(OR(A83=\"\",AND(F$1=0,Daten!F$3=FALSE)),\"\",Daten!B$6)","v":""},{"$f":"IF(A83=\"\",\"\",IF(Daten!B$5=\"??\",\"\",Daten!B$5))","v":""},{"$f":"IF(A83=\"\",\"\",IF(Daten!B$3=FALSE,\"\",Daten!B$4))","v":""},{"$f":"IFERROR(IF(A83=\"\",\"\",G83+H83+IF(AND(G83>0,H83>0),5,0))-IF(Daten!H$21=TRUE,H83,0),\"\")","v":""},{"$f":"IFERROR(IF(A83=\"\",\"\",I83+IF(Daten!H$21=TRUE,H83,0)+IF(F83=\"\",0,F83)-IF(Daten!F$3=TRUE,Daten!F$10,0)),\"\")","v":""},{"$f":"IF(A83=\"\",\"\",Daten!D$14)","v":""},{"$f":"IF(A83=\"\",\"\",Daten!D$12)","v":""},{"$f":"IF(A83=\"\",\"\",Daten!D$13)","v":""},{"$f":"IF(A83=\"\",\"\",Daten!M$2)","v":""},{"$f":"IF(A83=\"\",\"\",IF(Daten!D$6=Daten!N$11,Daten!M$11,IF(Daten!D$6=Daten!N$13,Daten!M$13,IF(AND(Daten!$D$6=Daten!$M$10,Daten!$D$8=TRUE),Daten!$M$14,Daten!D$6))))","v":""},{"$f":"IF($A83=\"\",\"\",IF(OR(O83=\"Putzbord\",O83=\"Flexila PU\"),Daten!$D$15,IF(OR(O83=\"Stehbord\",O83=\"Stehbord HB\",O83=\"Flexila STB\",O83=\"Jalousiebord\"),Daten!$D$19,\"-\")))","v":""},{"$f":"IF($A83=\"\",\"\",IF(O83=\"Putzbord\",Daten!$D$16,IF(O83=\"Flexila PU\",_xlfn.NUMBERVALUE(MID(Daten!$D$17,1,2)),\"-\")))","v":""},{"$f":"IF($A83=\"\",\"\",IF(OR(O83=\"Putzbord\",O83=\"Flexila PU\"),Daten!$D$18,IF(OR(O83=\"Stehbord\",O83=\"Stehbord HB\",O83=\"Flexila STB\",O83=\"Jalousiebord\"),Daten!$D$21,\"-\")))","v":""},{"$f":"IF(A83=\"\",\"\",IF(Daten!D$6=Daten!N$11,Daten!M$11,IF(Daten!D$6=Daten!N$13,Daten!M$13,IF(AND(Daten!$D$6=Daten!$M$10,Daten!$D$8=TRUE),Daten!$M$14,Daten!D$6))))","v":""},{"$f":"IF($A83=\"\",\"\",IF(OR(S83=\"Putzbord\",S83=\"Flexila PU\"),Daten!$D$15,IF(OR(S83=\"Stehbord\",S83=\"Stehbord HB\",S83=\"Flexila STB\",S83=\"Jalousiebord\"),Daten!$D$19,\"-\")))","v":""},{"$f":"IF($A83=\"\",\"\",IF(S83=\"Putzbord\",Daten!$D$16,IF(S83=\"Flexila PU\",_xlfn.NUMBERVALUE(MID(Daten!$D$17,1,2)),\"-\")))","v":""},{"$f":"IF($A83=\"\",\"\",IF(OR(S83=\"Putzbord\",S83=\"Flexila PU\"),Daten!$D$18,IF(OR(S83=\"Stehbord\",S83=\"Stehbord HB\",S83=\"Flexila STB\",S83=\"Jalousiebord\"),Daten!$D$21,\"-\")))","v":""},{"$f":"IF(A83=\"\",\"\",IF(AND(Daten!D$6=\"Jalousiebord\",OR(O83=\"Stehbord\",S83=\"Stehbord\")),\"Jalousienklinkung\",\"\"))","v":""},{"$f":"IF(W83=\"\",\"\",Daten!D$20)","v":""},null,null,{"$f":"IF(A83=\"\",\"\",IF(Daten!F$1=\"A\",\"Ohne\",IF(OR(N83=\"Gerstenkorn roh\",N83=\"Riffelblech roh\"),\"XPS\",Daten!F$2)))","v":""},{"$f":"IF(A83=\"\",\"\",IF(AA83=\"Ohne\",\"A\",IF(AA83=\"XPS\",IF(Daten!F$1=\"D\",\"B\",Daten!F$1),Daten!F$1)))","v":""},{"$f":"IF(A83=\"\",\"\",IF(AB83=\"A\",\"-\",Daten!F$7))","v":""},{"$f":"IF(A83=\"\",\"\",IF(AB83=\"A\",\"-\",IF(AND(Daten!F$8=0,O83=\"Putzbord\"),5-Q83,0)))","v":""},{"$f":"IF(A83=\"\",\"\",IF(AB83=\"A\",\"-\",IF(AND(Daten!F$8=0,S83=\"Putzbord\"),5-U83,0)))","v":""},{"$f":"IF(A83=\"\",\"\",IF(AB83=\"A\",\"-\",Daten!F$10))","v":""},{"$f":"IFERROR(IF(A83=\"\",\"\",VLOOKUP(N83,Daten!N$1:O$7,2,FALSE)),\"\")","v":""}]
[null,null,null,{"$f":"IF(A84=\"\",\"\",IF(Daten!B$3=TRUE,Daten!B$7,\"\"))","v":""},{"$f":"IFERROR(IF(C84=\"\",\"\",C84+(2*D84)+IF(O84=Daten!M$13,6,0)+IF(S84=Daten!M$13,6,0)+IF(Q84=\"-\",0,Q84)+IF(U84=\"-\",0,U84)),\"\")","v":""},{"$f":"IF(OR(A84=\"\",AND(F$1=0,Daten!F$3=FALSE)),\"\",Daten!B$6)","v":""},{"$f":"IF(A84=\"\",\"\",IF(Daten!B$5=\"??\",\"\",Daten!B$5))","v":""},{"$f":"IF(A84=\"\",\"\",IF(Daten!B$3=FALSE,\"\",Daten!B$4))","v":""},{"$f":"IFERROR(IF(A84=\"\",\"\",G84+H84+IF(AND(G84>0,H84>0),5,0))-IF(Daten!H$21=TRUE,H84,0),\"\")","v":""},{"$f":"IFERROR(IF(A84=\"\",\"\",I84+IF(Daten!H$21=TRUE,H84,0)+IF(F84=\"\",0,F84)-IF(Daten!F$3=TRUE,Daten!F$10,0)),\"\")","v":""},{"$f":"IF(A84=\"\",\"\",Daten!D$14)","v":""},{"$f":"IF(A84=\"\",\"\",Daten!D$12)","v":""},{"$f":"IF(A84=\"\",\"\",Daten!D$13)","v":""},{"$f":"IF(A84=\"\",\"\",Daten!M$2)","v":""},{"$f":"IF(A84=\"\",\"\",IF(Daten!D$6=Daten!N$11,Daten!M$11,IF(Daten!D$6=Daten!N$13,Daten!M$13,IF(AND(Daten!$D$6=Daten!$M$10,Daten!$D$8=TRUE),Daten!$M$14,Daten!D$6))))","v":""},{"$f":"IF($A84=\"\",\"\",IF(OR(O84=\"Putzbord\",O84=\"Flexila PU\"),Daten!$D$15,IF(OR(O84=\"Stehbord\",O84=\"Stehbord HB\",O84=\"Flexila STB\",O84=\"Jalousiebord\"),Daten!$D$19,\"-\")))","v":""},{"$f":"IF($A84=\"\",\"\",IF(O84=\"Putzbord\",Daten!$D$16,IF(O84=\"Flexila PU\",_xlfn.NUMBERVALUE(MID(Daten!$D$17,1,2)),\"-\")))","v":""},{"$f":"IF($A84=\"\",\"\",IF(OR(O84=\"Putzbord\",O84=\"Flexila PU\"),Daten!$D$18,IF(OR(O84=\"Stehbord\",O84=\"Stehbord HB\",O84=\"Flexila STB\",O84=\"Jalousiebord\"),Daten!$D$21,\"-\")))","v":""},{"$f":"IF(A84=\"\",\"\",IF(Daten!D$6=Daten!N$11,Daten!M$11,IF(Daten!D$6=Daten!N$13,Daten!M$13,IF(AND(Daten!$D$6=Daten!$M$10,Daten!$D$8=TRUE),Daten!$M$14,Daten!D$6))))","v":""},{"$f":"IF($A84=\"\",\"\",IF(OR(S84=\"Putzbord\",S84=\"Flexila PU\"),Daten!$D$15,IF(OR(S84=\"Stehbord\",S84=\"Stehbord HB\",S84=\"Flexila STB\",S84=\"Jalousiebord\"),Daten!$D$19,\"-\")))","v":""},{"$f":"IF($A84=\"\",\"\",IF(S84=\"Putzbord\",Daten!$D$16,IF(S84=\"Flexila PU\",_xlfn.NUMBERVALUE(MID(Daten!$D$17,1,2)),\"-\")))","v":""},{"$f":"IF($A84=\"\",\"\",IF(OR(S84=\"Putzbord\",S84=\"Flexila PU\"),Daten!$D$18,IF(OR(S84=\"Stehbord\",S84=\"Stehbord HB\",S84=\"Flexila STB\",S84=\"Jalousiebord\"),Daten!$D$21,\"-\")))","v":""},{"$f":"IF(A84=\"\",\"\",IF(AND(Daten!D$6=\"Jalousiebord\",OR(O84=\"Stehbord\",S84=\"Stehbord\")),\"Jalousienklinkung\",\"\"))","v":""},{"$f":"IF(W84=\"\",\"\",Daten!D$20)","v":""},null,null,{"$f":"IF(A84=\"\",\"\",IF(Daten!F$1=\"A\",\"Ohne\",IF(OR(N84=\"Gerstenkorn roh\",N84=\"Riffelblech roh\"),\"XPS\",Daten!F$2)))","v":""},{"$f":"IF(A84=\"\",\"\",IF(AA84=\"Ohne\",\"A\",IF(AA84=\"XPS\",IF(Daten!F$1=\"D\",\"B\",Daten!F$1),Daten!F$1)))","v":""},{"$f":"IF(A84=\"\",\"\",IF(AB84=\"A\",\"-\",Daten!F$7))","v":""},{"$f":"IF(A84=\"\",\"\",IF(AB84=\"A\",\"-\",IF(AND(Daten!F$8=0,O84=\"Putzbord\"),5-Q84,0)))","v":""},{"$f":"IF(A84=\"\",\"\",IF(AB84=\"A\",\"-\",IF(AND(Daten!F$8=0,S84=\"Putzbord\"),5-U84,0)))","v":""},{"$f":"IF(A84=\"\",\"\",IF(AB84=\"A\",\"-\",Daten!F$10))","v":""},{"$f":"IFERROR(IF(A84=\"\",\"\",VLOOKUP(N84,Daten!N$1:O$7,2,FALSE)),\"\")","v":""}]
[null,null,null,{"$f":"IF(A85=\"\",\"\",IF(Daten!B$3=TRUE,Daten!B$7,\"\"))","v":""},{"$f":"IFERROR(IF(C85=\"\",\"\",C85+(2*D85)+IF(O85=Daten!M$13,6,0)+IF(S85=Daten!M$13,6,0)+IF(Q85=\"-\",0,Q85)+IF(U85=\"-\",0,U85)),\"\")","v":""},{"$f":"IF(OR(A85=\"\",AND(F$1=0,Daten!F$3=FALSE)),\"\",Daten!B$6)","v":""},{"$f":"IF(A85=\"\",\"\",IF(Daten!B$5=\"??\",\"\",Daten!B$5))","v":""},{"$f":"IF(A85=\"\",\"\",IF(Daten!B$3=FALSE,\"\",Daten!B$4))","v":""},{"$f":"IFERROR(IF(A85=\"\",\"\",G85+H85+IF(AND(G85>0,H85>0),5,0))-IF(Daten!H$21=TRUE,H85,0),\"\")","v":""},{"$f":"IFERROR(IF(A85=\"\",\"\",I85+IF(Daten!H$21=TRUE,H85,0)+IF(F85=\"\",0,F85)-IF(Daten!F$3=TRUE,Daten!F$10,0)),\"\")","v":""},{"$f":"IF(A85=\"\",\"\",Daten!D$14)","v":""},{"$f":"IF(A85=\"\",\"\",Daten!D$12)","v":""},{"$f":"IF(A85=\"\",\"\",Daten!D$13)","v":""},{"$f":"IF(A85=\"\",\"\",Daten!M$2)","v":""},{"$f":"IF(A85=\"\",\"\",IF(Daten!D$6=Daten!N$11,Daten!M$11,IF(Daten!D$6=Daten!N$13,Daten!M$13,IF(AND(Daten!$D$6=Daten!$M$10,Daten!$D$8=TRUE),Daten!$M$14,Daten!D$6))))","v":""},{"$f":"IF($A85=\"\",\"\",IF(OR(O85=\"Putzbord\",O85=\"Flexila PU\"),Daten!$D$15,IF(OR(O85=\"Stehbord\",O85=\"Stehbord HB\",O85=\"Flexila STB\",O85=\"Jalousiebord\"),Daten!$D$19,\"-\")))","v":""},{"$f":"IF($A85=\"\",\"\",IF(O85=\"Putzbord\",Daten!$D$16,IF(O85=\"Flexila PU\",_xlfn.NUMBERVALUE(MID(Daten!$D$17,1,2)),\"-\")))","v":""},{"$f":"IF($A85=\"\",\"\",IF(OR(O85=\"Putzbord\",O85=\"Flexila PU\"),Daten!$D$18,IF(OR(O85=\"Stehbord\",O85=\"Stehbord HB\",O85=\"Flexila STB\",O85=\"Jalousiebord\"),Daten!$D$21,\"-\")))","v":""},{"$f":"IF(A85=\"\",\"\",IF(Daten!D$6=Daten!N$11,Daten!M$11,IF(Daten!D$6=Daten!N$13,Daten!M$13,IF(AND(Daten!$D$6=Daten!$M$10,Daten!$D$8=TRUE),Daten!$M$14,Daten!D$6))))","v":""},{"$f":"IF($A85=\"\",\"\",IF(OR(S85=\"Putzbord\",S85=\"Flexila PU\"),Daten!$D$15,IF(OR(S85=\"Stehbord\",S85=\"Stehbord HB\",S85=\"Flexila STB\",S85=\"Jalousiebord\"),Daten!$D$19,\"-\")))","v":""},{"$f":"IF($A85=\"\",\"\",IF(S85=\"Putzbord\",Daten!$D$16,IF(S85=\"Flexila PU\",_xlfn.NUMBERVALUE(MID(Daten!$D$17,1,2)),\"-\")))","v":""},{"$f":"IF($A85=\"\",\"\",IF(OR(S85=\"Putzbord\",S85=\"Flexila PU\"),Daten!$D$18,IF(OR(S85=\"Stehbord\",S85=\"Stehbord HB\",S85=\"Flexila STB\",S85=\"Jalousiebord\"),Daten!$D$21,\"-\")))","v":""},{"$f":"IF(A85=\"\",\"\",IF(AND(Daten!D$6=\"Jalousiebord\",OR(O85=\"Stehbord\",S85=\"Stehbord\")),\"Jalousienklinkung\",\"\"))","v":""},{"$f":"IF(W85=\"\",\"\",Daten!D$20)","v":""},null,null,{"$f":"IF(A85=\"\",\"\",IF(Daten!F$1=\"A\",\"Ohne\",IF(OR(N85=\"Gerstenkorn roh\",N85=\"Riffelblech roh\"),\"XPS\",Daten!F$2)))","v":""},{"$f":"IF(A85=\"\",\"\",IF(AA85=\"Ohne\",\"A\",IF(AA85=\"XPS\",IF(Daten!F$1=\"D\",\"B\",Daten!F$1),Daten!F$1)))","v":""},{"$f":"IF(A85=\"\",\"\",IF(AB85=\"A\",\"-\",Daten!F$7))","v":""},{"$f":"IF(A85=\"\",\"\",IF(AB85=\"A\",\"-\",IF(AND(Daten!F$8=0,O85=\"Putzbord\"),5-Q85,0)))","v":""},{"$f":"IF(A85=\"\",\"\",IF(AB85=\"A\",\"-\",IF(AND(Daten!F$8=0,S85=\"Putzbord\"),5-U85,0)))","v":""},{"$f":"IF(A85=\"\",\"\",IF(AB85=\"A\",\"-\",Daten!F$10))","v":""},{"$f":"IFERROR(IF(A85=\"\",\"\",VLOOKUP(N85,Daten!N$1:O$7,2,FALSE)),\"\")","v":""}]
[null,null,null,{"$f":"IF(A86=\"\",\"\",IF(Daten!B$3=TRUE,Daten!B$7,\"\"))","v":""},{"$f":"IFERROR(IF(C86=\"\",\"\",C86+(2*D86)+IF(O86=Daten!M$13,6,0)+IF(S86=Daten!M$13,6,0)+IF(Q86=\"-\",0,Q86)+IF(U86=\"-\",0,U86)),\"\")","v":""},{"$f":"IF(OR(A86=\"\",AND(F$1=0,Daten!F$3=FALSE)),\"\",Daten!B$6)","v":""},{"$f":"IF(A86=\"\",\"\",IF(Daten!B$5=\"??\",\"\",Daten!B$5))","v":""},{"$f":"IF(A86=\"\",\"\",IF(Daten!B$3=FALSE,\"\",Daten!B$4))","v":""},{"$f":"IFERROR(IF(A86=\"\",\"\",G86+H86+IF(AND(G86>0,H86>0),5,0))-IF(Daten!H$21=TRUE,H86,0),\"\")","v":""},{"$f":"IFERROR(IF(A86=\"\",\"\",I86+IF(Daten!H$21=TRUE,H86,0)+IF(F86=\"\",0,F86)-IF(Daten!F$3=TRUE,Daten!F$10,0)),\"\")","v":""},{"$f":"IF(A86=\"\",\"\",Daten!D$14)","v":""},{"$f":"IF(A86=\"\",\"\",Daten!D$12)","v":""},{"$f":"IF(A86=\"\",\"\",Daten!D$13)","v":""},{"$f":"IF(A86=\"\",\"\",Daten!M$2)","v":""},{"$f":"IF(A86=\"\",\"\",IF(Daten!D$6=Daten!N$11,Daten!M$11,IF(Daten!D$6=Daten!N$13,Daten!M$13,IF(AND(Daten!$D$6=Daten!$M$10,Daten!$D$8=TRUE),Daten!$M$14,Daten!D$6))))","v":""},{"$f":"IF($A86=\"\",\"\",IF(OR(O86=\"Putzbord\",O86=\"Flexila PU\"),Daten!$D$15,IF(OR(O86=\"Stehbord\",O86=\"Stehbord HB\",O86=\"Flexila STB\",O86=\"Jalousiebord\"),Daten!$D$19,\"-\")))","v":""},{"$f":"IF($A86=\"\",\"\",IF(O86=\"Putzbord\",Daten!$D$16,IF(O86=\"Flexila PU\",_xlfn.NUMBERVALUE(MID(Daten!$D$17,1,2)),\"-\")))","v":""},{"$f":"IF($A86=\"\",\"\",IF(OR(O86=\"Putzbord\",O86=\"Flexila PU\"),Daten!$D$18,IF(OR(O86=\"Stehbord\",O86=\"Stehbord HB\",O86=\"Flexila STB\",O86=\"Jalousiebord\"),Daten!$D$21,\"-\")))","v":""},{"$f":"IF(A86=\"\",\"\",IF(Daten!D$6=Daten!N$11,Daten!M$11,IF(Daten!D$6=Daten!N$13,Daten!M$13,IF(AND(Daten!$D$6=Daten!$M$10,Daten!$D$8=TRUE),Daten!$M$14,Daten!D$6))))","v":""},{"$f":"IF($A86=\"\",\"\",IF(OR(S86=\"Putzbord\",S86=\"Flexila PU\"),Daten!$D$15,IF(OR(S86=\"Stehbord\",S86=\"Stehbord HB\",S86=\"Flexila STB\",S86=\"Jalousiebord\"),Daten!$D$19,\"-\")))","v":""},{"$f":"IF($A86=\"\",\"\",IF(S86=\"Putzbord\",Daten!$D$16,IF(S86=\"Flexila PU\",_xlfn.NUMBERVALUE(MID(Daten!$D$17,1,2)),\"-\")))","v":""},{"$f":"IF($A86=\"\",\"\",IF(OR(S86=\"Putzbord\",S86=\"Flexila PU\"),Daten!$D$18,IF(OR(S86=\"Stehbord\",S86=\"Stehbord HB\",S86=\"Flexila STB\",S86=\"Jalousiebord\"),Daten!$D$21,\"-\")))","v":""},{"$f":"IF(A86=\"\",\"\",IF(AND(Daten!D$6=\"Jalousiebord\",OR(O86=\"Stehbord\",S86=\"Stehbord\")),\"Jalousienklinkung\",\"\"))","v":""},{"$f":"IF(W86=\"\",\"\",Daten!D$20)","v":""},null,null,{"$f":"IF(A86=\"\",\"\",IF(Daten!F$1=\"A\",\"Ohne\",IF(OR(N86=\"Gerstenkorn roh\",N86=\"Riffelblech roh\"),\"XPS\",Daten!F$2)))","v":""},{"$f":"IF(A86=\"\",\"\",IF(AA86=\"Ohne\",\"A\",IF(AA86=\"XPS\",IF(Daten!F$1=\"D\",\"B\",Daten!F$1),Daten!F$1)))","v":""},{"$f":"IF(A86=\"\",\"\",IF(AB86=\"A\",\"-\",Daten!F$7))","v":""},{"$f":"IF(A86=\"\",\"\",IF(AB86=\"A\",\"-\",IF(AND(Daten!F$8=0,O86=\"Putzbord\"),5-Q86,0)))","v":""},{"$f":"IF(A86=\"\",\"\",IF(AB86=\"A\",\"-\",IF(AND(Daten!F$8=0,S86=\"Putzbord\"),5-U86,0)))","v":""},{"$f":"IF(A86=\"\",\"\",IF(AB86=\"A\",\"-\",Daten!F$10))","v":""},{"$f":"IFERROR(IF(A86=\"\",\"\",VLOOKUP(N86,Daten!N$1:O$7,2,FALSE)),\"\")","v":""}]
[null,null,null,{"$f":"IF(A87=\"\",\"\",IF(Daten!B$3=TRUE,Daten!B$7,\"\"))","v":""},{"$f":"IFERROR(IF(C87=\"\",\"\",C87+(2*D87)+IF(O87=Daten!M$13,6,0)+IF(S87=Daten!M$13,6,0)+IF(Q87=\"-\",0,Q87)+IF(U87=\"-\",0,U87)),\"\")","v":""},{"$f":"IF(OR(A87=\"\",AND(F$1=0,Daten!F$3=FALSE)),\"\",Daten!B$6)","v":""},{"$f":"IF(A87=\"\",\"\",IF(Daten!B$5=\"??\",\"\",Daten!B$5))","v":""},{"$f":"IF(A87=\"\",\"\",IF(Daten!B$3=FALSE,\"\",Daten!B$4))","v":""},{"$f":"IFERROR(IF(A87=\"\",\"\",G87+H87+IF(AND(G87>0,H87>0),5,0))-IF(Daten!H$21=TRUE,H87,0),\"\")","v":""},{"$f":"IFERROR(IF(A87=\"\",\"\",I87+IF(Daten!H$21=TRUE,H87,0)+IF(F87=\"\",0,F87)-IF(Daten!F$3=TRUE,Daten!F$10,0)),\"\")","v":""},{"$f":"IF(A87=\"\",\"\",Daten!D$14)","v":""},{"$f":"IF(A87=\"\",\"\",Daten!D$12)","v":""},{"$f":"IF(A87=\"\",\"\",Daten!D$13)","v":""},{"$f":"IF(A87=\"\",\"\",Daten!M$2)","v":""},{"$f":"IF(A87=\"\",\"\",IF(Daten!D$6=Daten!N$11,Daten!M$11,IF(Daten!D$6=Daten!N$13,Daten!M$13,IF(AND(Daten!$D$6=Daten!$M$10,Daten!$D$8=TRUE),Daten!$M$14,Daten!D$6))))","v":""},{"$f":"IF($A87=\"\",\"\",IF(OR(O87=\"Putzbord\",O87=\"Flexila PU\"),Daten!$D$15,IF(OR(O87=\"Stehbord\",O87=\"Stehbord HB\",O87=\"Flexila STB\",O87=\"Jalousiebord\"),Daten!$D$19,\"-\")))","v":""},{"$f":"IF($A87=\"\",\"\",IF(O87=\"Putzbord\",Daten!$D$16,IF(O87=\"Flexila PU\",_xlfn.NUMBERVALUE(MID(Daten!$D$17,1,2)),\"-\")))","v":""},{"$f":"IF($A87=\"\",\"\",IF(OR(O87=\"Putzbord\",O87=\"Flexila PU\"),Daten!$D$18,IF(OR(O87=\"Stehbord\",O87=\"Stehbord HB\",O87=\"Flexila STB\",O87=\"Jalousiebord\"),Daten!$D$21,\"-\")))","v":""},{"$f":"IF(A87=\"\",\"\",IF(Daten!D$6=Daten!N$11,Daten!M$11,IF(Daten!D$6=Daten!N$13,Daten!M$13,IF(AND(Daten!$D$6=Daten!$M$10,Daten!$D$8=TRUE),Daten!$M$14,Daten!D$6))))","v":""},{"$f":"IF($A87=\"\",\"\",IF(OR(S87=\"Putzbord\",S87=\"Flexila PU\"),Daten!$D$15,IF(OR(S87=\"Stehbord\",S87=\"Stehbord HB\",S87=\"Flexila STB\",S87=\"Jalousiebord\"),Daten!$D$19,\"-\")))","v":""},{"$f":"IF($A87=\"\",\"\",IF(S87=\"Putzbord\",Daten!$D$16,IF(S87=\"Flexila PU\",_xlfn.NUMBERVALUE(MID(Daten!$D$17,1,2)),\"-\")))","v":""},{"$f":"IF($A87=\"\",\"\",IF(OR(S87=\"Putzbord\",S87=\"Flexila PU\"),Daten!$D$18,IF(OR(S87=\"Stehbord\",S87=\"Stehbord HB\",S87=\"Flexila STB\",S87=\"Jalousiebord\"),Daten!$D$21,\"-\")))","v":""},{"$f":"IF(A87=\"\",\"\",IF(AND(Daten!D$6=\"Jalousiebord\",OR(O87=\"Stehbord\",S87=\"Stehbord\")),\"Jalousienklinkung\",\"\"))","v":""},{"$f":"IF(W87=\"\",\"\",Daten!D$20)","v":""},null,null,{"$f":"IF(A87=\"\",\"\",IF(Daten!F$1=\"A\",\"Ohne\",IF(OR(N87=\"Gerstenkorn roh\",N87=\"Riffelblech roh\"),\"XPS\",Daten!F$2)))","v":""},{"$f":"IF(A87=\"\",\"\",IF(AA87=\"Ohne\",\"A\",IF(AA87=\"XPS\",IF(Daten!F$1=\"D\",\"B\",Daten!F$1),Daten!F$1)))","v":""},{"$f":"IF(A87=\"\",\"\",IF(AB87=\"A\",\"-\",Daten!F$7))","v":""},{"$f":"IF(A87=\"\",\"\",IF(AB87=\"A\",\"-\",IF(AND(Daten!F$8=0,O87=\"Putzbord\"),5-Q87,0)))","v":""},{"$f":"IF(A87=\"\",\"\",IF(AB87=\"A\",\"-\",IF(AND(Daten!F$8=0,S87=\"Putzbord\"),5-U87,0)))","v":""},{"$f":"IF(A87=\"\",\"\",IF(AB87=\"A\",\"-\",Daten!F$10))","v":""},{"$f":"IFERROR(IF(A87=\"\",\"\",VLOOKUP(N87,Daten!N$1:O$7,2,FALSE)),\"\")","v":""}]
[null,null,null,{"$f":"IF(A88=\"\",\"\",IF(Daten!B$3=TRUE,Daten!B$7,\"\"))","v":""},{"$f":"IFERROR(IF(C88=\"\",\"\",C88+(2*D88)+IF(O88=Daten!M$13,6,0)+IF(S88=Daten!M$13,6,0)+IF(Q88=\"-\",0,Q88)+IF(U88=\"-\",0,U88)),\"\")","v":""},{"$f":"IF(OR(A88=\"\",AND(F$1=0,Daten!F$3=FALSE)),\"\",Daten!B$6)","v":""},{"$f":"IF(A88=\"\",\"\",IF(Daten!B$5=\"??\",\"\",Daten!B$5))","v":""},{"$f":"IF(A88=\"\",\"\",IF(Daten!B$3=FALSE,\"\",Daten!B$4))","v":""},{"$f":"IFERROR(IF(A88=\"\",\"\",G88+H88+IF(AND(G88>0,H88>0),5,0))-IF(Daten!H$21=TRUE,H88,0),\"\")","v":""},{"$f":"IFERROR(IF(A88=\"\",\"\",I88+IF(Daten!H$21=TRUE,H88,0)+IF(F88=\"\",0,F88)-IF(Daten!F$3=TRUE,Daten!F$10,0)),\"\")","v":""},{"$f":"IF(A88=\"\",\"\",Daten!D$14)","v":""},{"$f":"IF(A88=\"\",\"\",Daten!D$12)","v":""},{"$f":"IF(A88=\"\",\"\",Daten!D$13)","v":""},{"$f":"IF(A88=\"\",\"\",Daten!M$2)","v":""},{"$f":"IF(A88=\"\",\"\",IF(Daten!D$6=Daten!N$11,Daten!M$11,IF(Daten!D$6=Daten!N$13,Daten!M$13,IF(AND(Daten!$D$6=Daten!$M$10,Daten!$D$8=TRUE),Daten!$M$14,Daten!D$6))))","v":""},{"$f":"IF($A88=\"\",\"\",IF(OR(O88=\"Putzbord\",O88=\"Flexila PU\"),Daten!$D$15,IF(OR(O88=\"Stehbord\",O88=\"Stehbord HB\",O88=\"Flexila STB\",O88=\"Jalousiebord\"),Daten!$D$19,\"-\")))","v":""},{"$f":"IF($A88=\"\",\"\",IF(O88=\"Putzbord\",Daten!$D$16,IF(O88=\"Flexila PU\",_xlfn.NUMBERVALUE(MID(Daten!$D$17,1,2)),\"-\")))","v":""},{"$f":"IF($A88=\"\",\"\",IF(OR(O88=\"Putzbord\",O88=\"Flexila PU\"),Daten!$D$18,IF(OR(O88=\"Stehbord\",O88=\"Stehbord HB\",O88=\"Flexila STB\",O88=\"Jalousiebord\"),Daten!$D$21,\"-\")))","v":""},{"$f":"IF(A88=\"\",\"\",IF(Daten!D$6=Daten!N$11,Daten!M$11,IF(Daten!D$6=Daten!N$13,Daten!M$13,IF(AND(Daten!$D$6=Daten!$M$10,Daten!$D$8=TRUE),Daten!$M$14,Daten!D$6))))","v":""},{"$f":"IF($A88=\"\",\"\",IF(OR(S88=\"Putzbord\",S88=\"Flexila PU\"),Daten!$D$15,IF(OR(S88=\"Stehbord\",S88=\"Stehbord HB\",S88=\"Flexila STB\",S88=\"Jalousiebord\"),Daten!$D$19,\"-\")))","v":""},{"$f":"IF($A88=\"\",\"\",IF(S88=\"Putzbord\",Daten!$D$16,IF(S88=\"Flexila PU\",_xlfn.NUMBERVALUE(MID(Daten!$D$17,1,2)),\"-\")))","v":""},{"$f":"IF($A88=\"\",\"\",IF(OR(S88=\"Putzbord\",S88=\"Flexila PU\"),Daten!$D$18,IF(OR(S88=\"Stehbord\",S88=\"Stehbord HB\",S88=\"Flexila STB\",S88=\"Jalousiebord\"),Daten!$D$21,\"-\")))","v":""},{"$f":"IF(A88=\"\",\"\",IF(AND(Daten!D$6=\"Jalousiebord\",OR(O88=\"Stehbord\",S88=\"Stehbord\")),\"Jalousienklinkung\",\"\"))","v":""},{"$f":"IF(W88=\"\",\"\",Daten!D$20)","v":""},null,null,{"$f":"IF(A88=\"\",\"\",IF(Daten!F$1=\"A\",\"Ohne\",IF(OR(N88=\"Gerstenkorn roh\",N88=\"Riffelblech roh\"),\"XPS\",Daten!F$2)))","v":""},{"$f":"IF(A88=\"\",\"\",IF(AA88=\"Ohne\",\"A\",IF(AA88=\"XPS\",IF(Daten!F$1=\"D\",\"B\",Daten!F$1),Daten!F$1)))","v":""},{"$f":"IF(A88=\"\",\"\",IF(AB88=\"A\",\"-\",Daten!F$7))","v":""},{"$f":"IF(A88=\"\",\"\",IF(AB88=\"A\",\"-\",IF(AND(Daten!F$8=0,O88=\"Putzbord\"),5-Q88,0)))","v":""},{"$f":"IF(A88=\"\",\"\",IF(AB88=\"A\",\"-\",IF(AND(Daten!F$8=0,S88=\"Putzbord\"),5-U88,0)))","v":""},{"$f":"IF(A88=\"\",\"\",IF(AB88=\"A\",\"-\",Daten!F$10))","v":""},{"$f":"IFERROR(IF(A88=\"\",\"\",VLOOKUP(N88,Daten!N$1:O$7,2,FALSE)),\"\")","v":""}]
[null,null,null,{"$f":"IF(A89=\"\",\"\",IF(Daten!B$3=TRUE,Daten!B$7,\"\"))","v":""},{"$f":"IFERROR(IF(C89=\"\",\"\",C89+(2*D89)+IF(O89=Daten!M$13,6,0)+IF(S89=Daten!M$13,6,0)+IF(Q89=\"-\",0,Q89)+IF(U89=\"-\",0,U89)),\"\")","v":""},{"$f":"IF(OR(A89=\"\",AND(F$1=0,Daten!F$3=FALSE)),\"\",Daten!B$6)","v":""},{"$f":"IF(A89=\"\",\"\",IF(Daten!B$5=\"??\",\"\",Daten!B$5))","v":""},{"$f":"IF(A89=\"\",\"\",IF(Daten!B$3=FALSE,\"\",Daten!B$4))","v":""},{"$f":"IFERROR(IF(A89=\"\",\"\",G89+H89+IF(AND(G89>0,H89>0),5,0))-IF(Daten!H$21=TRUE,H89,0),\"\")","v":""},{"$f":"IFERROR(IF(A89=\"\",\"\",I89+IF(Daten!H$21=TRUE,H89,0)+IF(F89=\"\",0,F89)-IF(Daten!F$3=TRUE,Daten!F$10,0)),\"\")","v":""},{"$f":"IF(A89=\"\",\"\",Daten!D$14)","v":""},{"$f":"IF(A89=\"\",\"\",Daten!D$12)","v":""},{"$f":"IF(A89=\"\",\"\",Daten!D$13)","v":""},{"$f":"IF(A89=\"\",\"\",Daten!M$2)","v":""},{"$f":"IF(A89=\"\",\"\",IF(Daten!D$6=Daten!N$11,Daten!M$11,IF(Daten!D$6=Daten!N$13,Daten!M$13,IF(AND(Daten!$D$6=Daten!$M$10,Daten!$D$8=TRUE),Daten!$M$14,Daten!D$6))))","v":""},{"$f":"IF($A89=\"\",\"\",IF(OR(O89=\"Putzbord\",O89=\"Flexila PU\"),Daten!$D$15,IF(OR(O89=\"Stehbord\",O89=\"Stehbord HB\",O89=\"Flexila STB\",O89=\"Jalousiebord\"),Daten!$D$19,\"-\")))","v":""},{"$f":"IF($A89=\"\",\"\",IF(O89=\"Putzbord\",Daten!$D$16,IF(O89=\"Flexila PU\",_xlfn.NUMBERVALUE(MID(Daten!$D$17,1,2)),\"-\")))","v":""},{"$f":"IF($A89=\"\",\"\",IF(OR(O89=\"Putzbord\",O89=\"Flexila PU\"),Daten!$D$18,IF(OR(O89=\"Stehbord\",O89=\"Stehbord HB\",O89=\"Flexila STB\",O89=\"Jalousiebord\"),Daten!$D$21,\"-\")))","v":""},{"$f":"IF(A89=\"\",\"\",IF(Daten!D$6=Daten!N$11,Daten!M$11,IF(Daten!D$6=Daten!N$13,Daten!M$13,IF(AND(Daten!$D$6=Daten!$M$10,Daten!$D$8=TRUE),Daten!$M$14,Daten!D$6))))","v":""},{"$f":"IF($A89=\"\",\"\",IF(OR(S89=\"Putzbord\",S89=\"Flexila PU\"),Daten!$D$15,IF(OR(S89=\"Stehbord\",S89=\"Stehbord HB\",S89=\"Flexila STB\",S89=\"Jalousiebord\"),Daten!$D$19,\"-\")))","v":""},{"$f":"IF($A89=\"\",\"\",IF(S89=\"Putzbord\",Daten!$D$16,IF(S89=\"Flexila PU\",_xlfn.NUMBERVALUE(MID(Daten!$D$17,1,2)),\"-\")))","v":""},{"$f":"IF($A89=\"\",\"\",IF(OR(S89=\"Putzbord\",S89=\"Flexila PU\"),Daten!$D$18,IF(OR(S89=\"Stehbord\",S89=\"Stehbord HB\",S89=\"Flexila STB\",S89=\"Jalousiebord\"),Daten!$D$21,\"-\")))","v":""},{"$f":"IF(A89=\"\",\"\",IF(AND(Daten!D$6=\"Jalousiebord\",OR(O89=\"Stehbord\",S89=\"Stehbord\")),\"Jalousienklinkung\",\"\"))","v":""},{"$f":"IF(W89=\"\",\"\",Daten!D$20)","v":""},null,null,{"$f":"IF(A89=\"\",\"\",IF(Daten!F$1=\"A\",\"Ohne\",IF(OR(N89=\"Gerstenkorn roh\",N89=\"Riffelblech roh\"),\"XPS\",Daten!F$2)))","v":""},{"$f":"IF(A89=\"\",\"\",IF(AA89=\"Ohne\",\"A\",IF(AA89=\"XPS\",IF(Daten!F$1=\"D\",\"B\",Daten!F$1),Daten!F$1)))","v":""},{"$f":"IF(A89=\"\",\"\",IF(AB89=\"A\",\"-\",Daten!F$7))","v":""},{"$f":"IF(A89=\"\",\"\",IF(AB89=\"A\",\"-\",IF(AND(Daten!F$8=0,O89=\"Putzbord\"),5-Q89,0)))","v":""},{"$f":"IF(A89=\"\",\"\",IF(AB89=\"A\",\"-\",IF(AND(Daten!F$8=0,S89=\"Putzbord\"),5-U89,0)))","v":""},{"$f":"IF(A89=\"\",\"\",IF(AB89=\"A\",\"-\",Daten!F$10))","v":""},{"$f":"IFERROR(IF(A89=\"\",\"\",VLOOKUP(N89,Daten!N$1:O$7,2,FALSE)),\"\")","v":""}]
[null,null,null,{"$f":"IF(A90=\"\",\"\",IF(Daten!B$3=TRUE,Daten!B$7,\"\"))","v":""},{"$f":"IFERROR(IF(C90=\"\",\"\",C90+(2*D90)+IF(O90=Daten!M$13,6,0)+IF(S90=Daten!M$13,6,0)+IF(Q90=\"-\",0,Q90)+IF(U90=\"-\",0,U90)),\"\")","v":""},{"$f":"IF(OR(A90=\"\",AND(F$1=0,Daten!F$3=FALSE)),\"\",Daten!B$6)","v":""},{"$f":"IF(A90=\"\",\"\",IF(Daten!B$5=\"??\",\"\",Daten!B$5))","v":""},{"$f":"IF(A90=\"\",\"\",IF(Daten!B$3=FALSE,\"\",Daten!B$4))","v":""},{"$f":"IFERROR(IF(A90=\"\",\"\",G90+H90+IF(AND(G90>0,H90>0),5,0))-IF(Daten!H$21=TRUE,H90,0),\"\")","v":""},{"$f":"IFERROR(IF(A90=\"\",\"\",I90+IF(Daten!H$21=TRUE,H90,0)+IF(F90=\"\",0,F90)-IF(Daten!F$3=TRUE,Daten!F$10,0)),\"\")","v":""},{"$f":"IF(A90=\"\",\"\",Daten!D$14)","v":""},{"$f":"IF(A90=\"\",\"\",Daten!D$12)","v":""},{"$f":"IF(A90=\"\",\"\",Daten!D$13)","v":""},{"$f":"IF(A90=\"\",\"\",Daten!M$2)","v":""},{"$f":"IF(A90=\"\",\"\",IF(Daten!D$6=Daten!N$11,Daten!M$11,IF(Daten!D$6=Daten!N$13,Daten!M$13,IF(AND(Daten!$D$6=Daten!$M$10,Daten!$D$8=TRUE),Daten!$M$14,Daten!D$6))))","v":""},{"$f":"IF($A90=\"\",\"\",IF(OR(O90=\"Putzbord\",O90=\"Flexila PU\"),Daten!$D$15,IF(OR(O90=\"Stehbord\",O90=\"Stehbord HB\",O90=\"Flexila STB\",O90=\"Jalousiebord\"),Daten!$D$19,\"-\")))","v":""},{"$f":"IF($A90=\"\",\"\",IF(O90=\"Putzbord\",Daten!$D$16,IF(O90=\"Flexila PU\",_xlfn.NUMBERVALUE(MID(Daten!$D$17,1,2)),\"-\")))","v":""},{"$f":"IF($A90=\"\",\"\",IF(OR(O90=\"Putzbord\",O90=\"Flexila PU\"),Daten!$D$18,IF(OR(O90=\"Stehbord\",O90=\"Stehbord HB\",O90=\"Flexila STB\",O90=\"Jalousiebord\"),Daten!$D$21,\"-\")))","v":""},{"$f":"IF(A90=\"\",\"\",IF(Daten!D$6=Daten!N$11,Daten!M$11,IF(Daten!D$6=Daten!N$13,Daten!M$13,IF(AND(Daten!$D$6=Daten!$M$10,Daten!$D$8=TRUE),Daten!$M$14,Daten!D$6))))","v":""},{"$f":"IF($A90=\"\",\"\",IF(OR(S90=\"Putzbord\",S90=\"Flexila PU\"),Daten!$D$15,IF(OR(S90=\"Stehbord\",S90=\"Stehbord HB\",S90=\"Flexila STB\",S90=\"Jalousiebord\"),Daten!$D$19,\"-\")))","v":""},{"$f":"IF($A90=\"\",\"\",IF(S90=\"Putzbord\",Daten!$D$16,IF(S90=\"Flexila PU\",_xlfn.NUMBERVALUE(MID(Daten!$D$17,1,2)),\"-\")))","v":""},{"$f":"IF($A90=\"\",\"\",IF(OR(S90=\"Putzbord\",S90=\"Flexila PU\"),Daten!$D$18,IF(OR(S90=\"Stehbord\",S90=\"Stehbord HB\",S90=\"Flexila STB\",S90=\"Jalousiebord\"),Daten!$D$21,\"-\")))","v":""},{"$f":"IF(A90=\"\",\"\",IF(AND(Daten!D$6=\"Jalousiebord\",OR(O90=\"Stehbord\",S90=\"Stehbord\")),\"Jalousienklinkung\",\"\"))","v":""},{"$f":"IF(W90=\"\",\"\",Daten!D$20)","v":""},null,null,{"$f":"IF(A90=\"\",\"\",IF(Daten!F$1=\"A\",\"Ohne\",IF(OR(N90=\"Gerstenkorn roh\",N90=\"Riffelblech roh\"),\"XPS\",Daten!F$2)))","v":""},{"$f":"IF(A90=\"\",\"\",IF(AA90=\"Ohne\",\"A\",IF(AA90=\"XPS\",IF(Daten!F$1=\"D\",\"B\",Daten!F$1),Daten!F$1)))","v":""},{"$f":"IF(A90=\"\",\"\",IF(AB90=\"A\",\"-\",Daten!F$7))","v":""},{"$f":"IF(A90=\"\",\"\",IF(AB90=\"A\",\"-\",IF(AND(Daten!F$8=0,O90=\"Putzbord\"),5-Q90,0)))","v":""},{"$f":"IF(A90=\"\",\"\",IF(AB90=\"A\",\"-\",IF(AND(Daten!F$8=0,S90=\"Putzbord\"),5-U90,0)))","v":""},{"$f":"IF(A90=\"\",\"\",IF(AB90=\"A\",\"-\",Daten!F$10))","v":""},{"$f":"IFERROR(IF(A90=\"\",\"\",VLOOKUP(N90,Daten!N$1:O$7,2,FALSE)),\"\")","v":""}]
[null,null,null,{"$f":"IF(A91=\"\",\"\",IF(Daten!B$3=TRUE,Daten!B$7,\"\"))","v":""},{"$f":"IFERROR(IF(C91=\"\",\"\",C91+(2*D91)+IF(O91=Daten!M$13,6,0)+IF(S91=Daten!M$13,6,0)+IF(Q91=\"-\",0,Q91)+IF(U91=\"-\",0,U91)),\"\")","v":""},{"$f":"IF(OR(A91=\"\",AND(F$1=0,Daten!F$3=FALSE)),\"\",Daten!B$6)","v":""},{"$f":"IF(A91=\"\",\"\",IF(Daten!B$5=\"??\",\"\",Daten!B$5))","v":""},{"$f":"IF(A91=\"\",\"\",IF(Daten!B$3=FALSE,\"\",Daten!B$4))","v":""},{"$f":"IFERROR(IF(A91=\"\",\"\",G91+H91+IF(AND(G91>0,H91>0),5,0))-IF(Daten!H$21=TRUE,H91,0),\"\")","v":""},{"$f":"IFERROR(IF(A91=\"\",\"\",I91+IF(Daten!H$21=TRUE,H91,0)+IF(F91=\"\",0,F91)-IF(Daten!F$3=TRUE,Daten!F$10,0)),\"\")","v":""},{"$f":"IF(A91=\"\",\"\",Daten!D$14)","v":""},{"$f":"IF(A91=\"\",\"\",Daten!D$12)","v":""},{"$f":"IF(A91=\"\",\"\",Daten!D$13)","v":""},{"$f":"IF(A91=\"\",\"\",Daten!M$2)","v":""},{"$f":"IF(A91=\"\",\"\",IF(Daten!D$6=Daten!N$11,Daten!M$11,IF(Daten!D$6=Daten!N$13,Daten!M$13,IF(AND(Daten!$D$6=Daten!$M$10,Daten!$D$8=TRUE),Daten!$M$14,Daten!D$6))))","v":""},{"$f":"IF($A91=\"\",\"\",IF(OR(O91=\"Putzbord\",O91=\"Flexila PU\"),Daten!$D$15,IF(OR(O91=\"Stehbord\",O91=\"Stehbord HB\",O91=\"Flexila STB\",O91=\"Jalousiebord\"),Daten!$D$19,\"-\")))","v":""},{"$f":"IF($A91=\"\",\"\",IF(O91=\"Putzbord\",Daten!$D$16,IF(O91=\"Flexila PU\",_xlfn.NUMBERVALUE(MID(Daten!$D$17,1,2)),\"-\")))","v":""},{"$f":"IF($A91=\"\",\"\",IF(OR(O91=\"Putzbord\",O91=\"Flexila PU\"),Daten!$D$18,IF(OR(O91=\"Stehbord\",O91=\"Stehbord HB\",O91=\"Flexila STB\",O91=\"Jalousiebord\"),Daten!$D$21,\"-\")))","v":""},{"$f":"IF(A91=\"\",\"\",IF(Daten!D$6=Daten!N$11,Daten!M$11,IF(Daten!D$6=Daten!N$13,Daten!M$13,IF(AND(Daten!$D$6=Daten!$M$10,Daten!$D$8=TRUE),Daten!$M$14,Daten!D$6))))","v":""},{"$f":"IF($A91=\"\",\"\",IF(OR(S91=\"Putzbord\",S91=\"Flexila PU\"),Daten!$D$15,IF(OR(S91=\"Stehbord\",S91=\"Stehbord HB\",S91=\"Flexila STB\",S91=\"Jalousiebord\"),Daten!$D$19,\"-\")))","v":""},{"$f":"IF($A91=\"\",\"\",IF(S91=\"Putzbord\",Daten!$D$16,IF(S91=\"Flexila PU\",_xlfn.NUMBERVALUE(MID(Daten!$D$17,1,2)),\"-\")))","v":""},{"$f":"IF($A91=\"\",\"\",IF(OR(S91=\"Putzbord\",S91=\"Flexila PU\"),Daten!$D$18,IF(OR(S91=\"Stehbord\",S91=\"Stehbord HB\",S91=\"Flexila STB\",S91=\"Jalousiebord\"),Daten!$D$21,\"-\")))","v":""},{"$f":"IF(A91=\"\",\"\",IF(AND(Daten!D$6=\"Jalousiebord\",OR(O91=\"Stehbord\",S91=\"Stehbord\")),\"Jalousienklinkung\",\"\"))","v":""},{"$f":"IF(W91=\"\",\"\",Daten!D$20)","v":""},null,null,{"$f":"IF(A91=\"\",\"\",IF(Daten!F$1=\"A\",\"Ohne\",IF(OR(N91=\"Gerstenkorn roh\",N91=\"Riffelblech roh\"),\"XPS\",Daten!F$2)))","v":""},{"$f":"IF(A91=\"\",\"\",IF(AA91=\"Ohne\",\"A\",IF(AA91=\"XPS\",IF(Daten!F$1=\"D\",\"B\",Daten!F$1),Daten!F$1)))","v":""},{"$f":"IF(A91=\"\",\"\",IF(AB91=\"A\",\"-\",Daten!F$7))","v":""},{"$f":"IF(A91=\"\",\"\",IF(AB91=\"A\",\"-\",IF(AND(Daten!F$8=0,O91=\"Putzbord\"),5-Q91,0)))","v":""},{"$f":"IF(A91=\"\",\"\",IF(AB91=\"A\",\"-\",IF(AND(Daten!F$8=0,S91=\"Putzbord\"),5-U91,0)))","v":""},{"$f":"IF(A91=\"\",\"\",IF(AB91=\"A\",\"-\",Daten!F$10))","v":""},{"$f":"IFERROR(IF(A91=\"\",\"\",VLOOKUP(N91,Daten!N$1:O$7,2,FALSE)),\"\")","v":""}]
[null,null,null,{"$f":"IF(A92=\"\",\"\",IF(Daten!B$3=TRUE,Daten!B$7,\"\"))","v":""},{"$f":"IFERROR(IF(C92=\"\",\"\",C92+(2*D92)+IF(O92=Daten!M$13,6,0)+IF(S92=Daten!M$13,6,0)+IF(Q92=\"-\",0,Q92)+IF(U92=\"-\",0,U92)),\"\")","v":""},{"$f":"IF(OR(A92=\"\",AND(F$1=0,Daten!F$3=FALSE)),\"\",Daten!B$6)","v":""},{"$f":"IF(A92=\"\",\"\",IF(Daten!B$5=\"??\",\"\",Daten!B$5))","v":""},{"$f":"IF(A92=\"\",\"\",IF(Daten!B$3=FALSE,\"\",Daten!B$4))","v":""},{"$f":"IFERROR(IF(A92=\"\",\"\",G92+H92+IF(AND(G92>0,H92>0),5,0))-IF(Daten!H$21=TRUE,H92,0),\"\")","v":""},{"$f":"IFERROR(IF(A92=\"\",\"\",I92+IF(Daten!H$21=TRUE,H92,0)+IF(F92=\"\",0,F92)-IF(Daten!F$3=TRUE,Daten!F$10,0)),\"\")","v":""},{"$f":"IF(A92=\"\",\"\",Daten!D$14)","v":""},{"$f":"IF(A92=\"\",\"\",Daten!D$12)","v":""},{"$f":"IF(A92=\"\",\"\",Daten!D$13)","v":""},{"$f":"IF(A92=\"\",\"\",Daten!M$2)","v":""},{"$f":"IF(A92=\"\",\"\",IF(Daten!D$6=Daten!N$11,Daten!M$11,IF(Daten!D$6=Daten!N$13,Daten!M$13,IF(AND(Daten!$D$6=Daten!$M$10,Daten!$D$8=TRUE),Daten!$M$14,Daten!D$6))))","v":""},{"$f":"IF($A92=\"\",\"\",IF(OR(O92=\"Putzbord\",O92=\"Flexila PU\"),Daten!$D$15,IF(OR(O92=\"Stehbord\",O92=\"Stehbord HB\",O92=\"Flexila STB\",O92=\"Jalousiebord\"),Daten!$D$19,\"-\")))","v":""},{"$f":"IF($A92=\"\",\"\",IF(O92=\"Putzbord\",Daten!$D$16,IF(O92=\"Flexila PU\",_xlfn.NUMBERVALUE(MID(Daten!$D$17,1,2)),\"-\")))","v":""},{"$f":"IF($A92=\"\",\"\",IF(OR(O92=\"Putzbord\",O92=\"Flexila PU\"),Daten!$D$18,IF(OR(O92=\"Stehbord\",O92=\"Stehbord HB\",O92=\"Flexila STB\",O92=\"Jalousiebord\"),Daten!$D$21,\"-\")))","v":""},{"$f":"IF(A92=\"\",\"\",IF(Daten!D$6=Daten!N$11,Daten!M$11,IF(Daten!D$6=Daten!N$13,Daten!M$13,IF(AND(Daten!$D$6=Daten!$M$10,Daten!$D$8=TRUE),Daten!$M$14,Daten!D$6))))","v":""},{"$f":"IF($A92=\"\",\"\",IF(OR(S92=\"Putzbord\",S92=\"Flexila PU\"),Daten!$D$15,IF(OR(S92=\"Stehbord\",S92=\"Stehbord HB\",S92=\"Flexila STB\",S92=\"Jalousiebord\"),Daten!$D$19,\"-\")))","v":""},{"$f":"IF($A92=\"\",\"\",IF(S92=\"Putzbord\",Daten!$D$16,IF(S92=\"Flexila PU\",_xlfn.NUMBERVALUE(MID(Daten!$D$17,1,2)),\"-\")))","v":""},{"$f":"IF($A92=\"\",\"\",IF(OR(S92=\"Putzbord\",S92=\"Flexila PU\"),Daten!$D$18,IF(OR(S92=\"Stehbord\",S92=\"Stehbord HB\",S92=\"Flexila STB\",S92=\"Jalousiebord\"),Daten!$D$21,\"-\")))","v":""},{"$f":"IF(A92=\"\",\"\",IF(AND(Daten!D$6=\"Jalousiebord\",OR(O92=\"Stehbord\",S92=\"Stehbord\")),\"Jalousienklinkung\",\"\"))","v":""},{"$f":"IF(W92=\"\",\"\",Daten!D$20)","v":""},null,null,{"$f":"IF(A92=\"\",\"\",IF(Daten!F$1=\"A\",\"Ohne\",IF(OR(N92=\"Gerstenkorn roh\",N92=\"Riffelblech roh\"),\"XPS\",Daten!F$2)))","v":""},{"$f":"IF(A92=\"\",\"\",IF(AA92=\"Ohne\",\"A\",IF(AA92=\"XPS\",IF(Daten!F$1=\"D\",\"B\",Daten!F$1),Daten!F$1)))","v":""},{"$f":"IF(A92=\"\",\"\",IF(AB92=\"A\",\"-\",Daten!F$7))","v":""},{"$f":"IF(A92=\"\",\"\",IF(AB92=\"A\",\"-\",IF(AND(Daten!F$8=0,O92=\"Putzbord\"),5-Q92,0)))","v":""},{"$f":"IF(A92=\"\",\"\",IF(AB92=\"A\",\"-\",IF(AND(Daten!F$8=0,S92=\"Putzbord\"),5-U92,0)))","v":""},{"$f":"IF(A92=\"\",\"\",IF(AB92=\"A\",\"-\",Daten!F$10))","v":""},{"$f":"IFERROR(IF(A92=\"\",\"\",VLOOKUP(N92,Daten!N$1:O$7,2,FALSE)),\"\")","v":""}]
[null,null,null,{"$f":"IF(A93=\"\",\"\",IF(Daten!B$3=TRUE,Daten!B$7,\"\"))","v":""},{"$f":"IFERROR(IF(C93=\"\",\"\",C93+(2*D93)+IF(O93=Daten!M$13,6,0)+IF(S93=Daten!M$13,6,0)+IF(Q93=\"-\",0,Q93)+IF(U93=\"-\",0,U93)),\"\")","v":""},{"$f":"IF(OR(A93=\"\",AND(F$1=0,Daten!F$3=FALSE)),\"\",Daten!B$6)","v":""},{"$f":"IF(A93=\"\",\"\",IF(Daten!B$5=\"??\",\"\",Daten!B$5))","v":""},{"$f":"IF(A93=\"\",\"\",IF(Daten!B$3=FALSE,\"\",Daten!B$4))","v":""},{"$f":"IFERROR(IF(A93=\"\",\"\",G93+H93+IF(AND(G93>0,H93>0),5,0))-IF(Daten!H$21=TRUE,H93,0),\"\")","v":""},{"$f":"IFERROR(IF(A93=\"\",\"\",I93+IF(Daten!H$21=TRUE,H93,0)+IF(F93=\"\",0,F93)-IF(Daten!F$3=TRUE,Daten!F$10,0)),\"\")","v":""},{"$f":"IF(A93=\"\",\"\",Daten!D$14)","v":""},{"$f":"IF(A93=\"\",\"\",Daten!D$12)","v":""},{"$f":"IF(A93=\"\",\"\",Daten!D$13)","v":""},{"$f":"IF(A93=\"\",\"\",Daten!M$2)","v":""},{"$f":"IF(A93=\"\",\"\",IF(Daten!D$6=Daten!N$11,Daten!M$11,IF(Daten!D$6=Daten!N$13,Daten!M$13,IF(AND(Daten!$D$6=Daten!$M$10,Daten!$D$8=TRUE),Daten!$M$14,Daten!D$6))))","v":""},{"$f":"IF($A93=\"\",\"\",IF(OR(O93=\"Putzbord\",O93=\"Flexila PU\"),Daten!$D$15,IF(OR(O93=\"Stehbord\",O93=\"Stehbord HB\",O93=\"Flexila STB\",O93=\"Jalousiebord\"),Daten!$D$19,\"-\")))","v":""},{"$f":"IF($A93=\"\",\"\",IF(O93=\"Putzbord\",Daten!$D$16,IF(O93=\"Flexila PU\",_xlfn.NUMBERVALUE(MID(Daten!$D$17,1,2)),\"-\")))","v":""},{"$f":"IF($A93=\"\",\"\",IF(OR(O93=\"Putzbord\",O93=\"Flexila PU\"),Daten!$D$18,IF(OR(O93=\"Stehbord\",O93=\"Stehbord HB\",O93=\"Flexila STB\",O93=\"Jalousiebord\"),Daten!$D$21,\"-\")))","v":""},{"$f":"IF(A93=\"\",\"\",IF(Daten!D$6=Daten!N$11,Daten!M$11,IF(Daten!D$6=Daten!N$13,Daten!M$13,IF(AND(Daten!$D$6=Daten!$M$10,Daten!$D$8=TRUE),Daten!$M$14,Daten!D$6))))","v":""},{"$f":"IF($A93=\"\",\"\",IF(OR(S93=\"Putzbord\",S93=\"Flexila PU\"),Daten!$D$15,IF(OR(S93=\"Stehbord\",S93=\"Stehbord HB\",S93=\"Flexila STB\",S93=\"Jalousiebord\"),Daten!$D$19,\"-\")))","v":""},{"$f":"IF($A93=\"\",\"\",IF(S93=\"Putzbord\",Daten!$D$16,IF(S93=\"Flexila PU\",_xlfn.NUMBERVALUE(MID(Daten!$D$17,1,2)),\"-\")))","v":""},{"$f":"IF($A93=\"\",\"\",IF(OR(S93=\"Putzbord\",S93=\"Flexila PU\"),Daten!$D$18,IF(OR(S93=\"Stehbord\",S93=\"Stehbord HB\",S93=\"Flexila STB\",S93=\"Jalousiebord\"),Daten!$D$21,\"-\")))","v":""},{"$f":"IF(A93=\"\",\"\",IF(AND(Daten!D$6=\"Jalousiebord\",OR(O93=\"Stehbord\",S93=\"Stehbord\")),\"Jalousienklinkung\",\"\"))","v":""},{"$f":"IF(W93=\"\",\"\",Daten!D$20)","v":""},null,null,{"$f":"IF(A93=\"\",\"\",IF(Daten!F$1=\"A\",\"Ohne\",IF(OR(N93=\"Gerstenkorn roh\",N93=\"Riffelblech roh\"),\"XPS\",Daten!F$2)))","v":""},{"$f":"IF(A93=\"\",\"\",IF(AA93=\"Ohne\",\"A\",IF(AA93=\"XPS\",IF(Daten!F$1=\"D\",\"B\",Daten!F$1),Daten!F$1)))","v":""},{"$f":"IF(A93=\"\",\"\",IF(AB93=\"A\",\"-\",Daten!F$7))","v":""},{"$f":"IF(A93=\"\",\"\",IF(AB93=\"A\",\"-\",IF(AND(Daten!F$8=0,O93=\"Putzbord\"),5-Q93,0)))","v":""},{"$f":"IF(A93=\"\",\"\",IF(AB93=\"A\",\"-\",IF(AND(Daten!F$8=0,S93=\"Putzbord\"),5-U93,0)))","v":""},{"$f":"IF(A93=\"\",\"\",IF(AB93=\"A\",\"-\",Daten!F$10))","v":""},{"$f":"IFERROR(IF(A93=\"\",\"\",VLOOKUP(N93,Daten!N$1:O$7,2,FALSE)),\"\")","v":""}]
[null,null,null,{"$f":"IF(A94=\"\",\"\",IF(Daten!B$3=TRUE,Daten!B$7,\"\"))","v":""},{"$f":"IFERROR(IF(C94=\"\",\"\",C94+(2*D94)+IF(O94=Daten!M$13,6,0)+IF(S94=Daten!M$13,6,0)+IF(Q94=\"-\",0,Q94)+IF(U94=\"-\",0,U94)),\"\")","v":""},{"$f":"IF(OR(A94=\"\",AND(F$1=0,Daten!F$3=FALSE)),\"\",Daten!B$6)","v":""},{"$f":"IF(A94=\"\",\"\",IF(Daten!B$5=\"??\",\"\",Daten!B$5))","v":""},{"$f":"IF(A94=\"\",\"\",IF(Daten!B$3=FALSE,\"\",Daten!B$4))","v":""},{"$f":"IFERROR(IF(A94=\"\",\"\",G94+H94+IF(AND(G94>0,H94>0),5,0))-IF(Daten!H$21=TRUE,H94,0),\"\")","v":""},{"$f":"IFERROR(IF(A94=\"\",\"\",I94+IF(Daten!H$21=TRUE,H94,0)+IF(F94=\"\",0,F94)-IF(Daten!F$3=TRUE,Daten!F$10,0)),\"\")","v":""},{"$f":"IF(A94=\"\",\"\",Daten!D$14)","v":""},{"$f":"IF(A94=\"\",\"\",Daten!D$12)","v":""},{"$f":"IF(A94=\"\",\"\",Daten!D$13)","v":""},{"$f":"IF(A94=\"\",\"\",Daten!M$2)","v":""},{"$f":"IF(A94=\"\",\"\",IF(Daten!D$6=Daten!N$11,Daten!M$11,IF(Daten!D$6=Daten!N$13,Daten!M$13,IF(AND(Daten!$D$6=Daten!$M$10,Daten!$D$8=TRUE),Daten!$M$14,Daten!D$6))))","v":""},{"$f":"IF($A94=\"\",\"\",IF(OR(O94=\"Putzbord\",O94=\"Flexila PU\"),Daten!$D$15,IF(OR(O94=\"Stehbord\",O94=\"Stehbord HB\",O94=\"Flexila STB\",O94=\"Jalousiebord\"),Daten!$D$19,\"-\")))","v":""},{"$f":"IF($A94=\"\",\"\",IF(O94=\"Putzbord\",Daten!$D$16,IF(O94=\"Flexila PU\",_xlfn.NUMBERVALUE(MID(Daten!$D$17,1,2)),\"-\")))","v":""},{"$f":"IF($A94=\"\",\"\",IF(OR(O94=\"Putzbord\",O94=\"Flexila PU\"),Daten!$D$18,IF(OR(O94=\"Stehbord\",O94=\"Stehbord HB\",O94=\"Flexila STB\",O94=\"Jalousiebord\"),Daten!$D$21,\"-\")))","v":""},{"$f":"IF(A94=\"\",\"\",IF(Daten!D$6=Daten!N$11,Daten!M$11,IF(Daten!D$6=Daten!N$13,Daten!M$13,IF(AND(Daten!$D$6=Daten!$M$10,Daten!$D$8=TRUE),Daten!$M$14,Daten!D$6))))","v":""},{"$f":"IF($A94=\"\",\"\",IF(OR(S94=\"Putzbord\",S94=\"Flexila PU\"),Daten!$D$15,IF(OR(S94=\"Stehbord\",S94=\"Stehbord HB\",S94=\"Flexila STB\",S94=\"Jalousiebord\"),Daten!$D$19,\"-\")))","v":""},{"$f":"IF($A94=\"\",\"\",IF(S94=\"Putzbord\",Daten!$D$16,IF(S94=\"Flexila PU\",_xlfn.NUMBERVALUE(MID(Daten!$D$17,1,2)),\"-\")))","v":""},{"$f":"IF($A94=\"\",\"\",IF(OR(S94=\"Putzbord\",S94=\"Flexila PU\"),Daten!$D$18,IF(OR(S94=\"Stehbord\",S94=\"Stehbord HB\",S94=\"Flexila STB\",S94=\"Jalousiebord\"),Daten!$D$21,\"-\")))","v":""},{"$f":"IF(A94=\"\",\"\",IF(AND(Daten!D$6=\"Jalousiebord\",OR(O94=\"Stehbord\",S94=\"Stehbord\")),\"Jalousienklinkung\",\"\"))","v":""},{"$f":"IF(W94=\"\",\"\",Daten!D$20)","v":""},null,null,{"$f":"IF(A94=\"\",\"\",IF(Daten!F$1=\"A\",\"Ohne\",IF(OR(N94=\"Gerstenkorn roh\",N94=\"Riffelblech roh\"),\"XPS\",Daten!F$2)))","v":""},{"$f":"IF(A94=\"\",\"\",IF(AA94=\"Ohne\",\"A\",IF(AA94=\"XPS\",IF(Daten!F$1=\"D\",\"B\",Daten!F$1),Daten!F$1)))","v":""},{"$f":"IF(A94=\"\",\"\",IF(AB94=\"A\",\"-\",Daten!F$7))","v":""},{"$f":"IF(A94=\"\",\"\",IF(AB94=\"A\",\"-\",IF(AND(Daten!F$8=0,O94=\"Putzbord\"),5-Q94,0)))","v":""},{"$f":"IF(A94=\"\",\"\",IF(AB94=\"A\",\"-\",IF(AND(Daten!F$8=0,S94=\"Putzbord\"),5-U94,0)))","v":""},{"$f":"IF(A94=\"\",\"\",IF(AB94=\"A\",\"-\",Daten!F$10))","v":""},{"$f":"IFERROR(IF(A94=\"\",\"\",VLOOKUP(N94,Daten!N$1:O$7,2,FALSE)),\"\")","v":""}]
[null,null,null,{"$f":"IF(A95=\"\",\"\",IF(Daten!B$3=TRUE,Daten!B$7,\"\"))","v":""},{"$f":"IFERROR(IF(C95=\"\",\"\",C95+(2*D95)+IF(O95=Daten!M$13,6,0)+IF(S95=Daten!M$13,6,0)+IF(Q95=\"-\",0,Q95)+IF(U95=\"-\",0,U95)),\"\")","v":""},{"$f":"IF(OR(A95=\"\",AND(F$1=0,Daten!F$3=FALSE)),\"\",Daten!B$6)","v":""},{"$f":"IF(A95=\"\",\"\",IF(Daten!B$5=\"??\",\"\",Daten!B$5))","v":""},{"$f":"IF(A95=\"\",\"\",IF(Daten!B$3=FALSE,\"\",Daten!B$4))","v":""},{"$f":"IFERROR(IF(A95=\"\",\"\",G95+H95+IF(AND(G95>0,H95>0),5,0))-IF(Daten!H$21=TRUE,H95,0),\"\")","v":""},{"$f":"IFERROR(IF(A95=\"\",\"\",I95+IF(Daten!H$21=TRUE,H95,0)+IF(F95=\"\",0,F95)-IF(Daten!F$3=TRUE,Daten!F$10,0)),\"\")","v":""},{"$f":"IF(A95=\"\",\"\",Daten!D$14)","v":""},{"$f":"IF(A95=\"\",\"\",Daten!D$12)","v":""},{"$f":"IF(A95=\"\",\"\",Daten!D$13)","v":""},{"$f":"IF(A95=\"\",\"\",Daten!M$2)","v":""},{"$f":"IF(A95=\"\",\"\",IF(Daten!D$6=Daten!N$11,Daten!M$11,IF(Daten!D$6=Daten!N$13,Daten!M$13,IF(AND(Daten!$D$6=Daten!$M$10,Daten!$D$8=TRUE),Daten!$M$14,Daten!D$6))))","v":""},{"$f":"IF($A95=\"\",\"\",IF(OR(O95=\"Putzbord\",O95=\"Flexila PU\"),Daten!$D$15,IF(OR(O95=\"Stehbord\",O95=\"Stehbord HB\",O95=\"Flexila STB\",O95=\"Jalousiebord\"),Daten!$D$19,\"-\")))","v":""},{"$f":"IF($A95=\"\",\"\",IF(O95=\"Putzbord\",Daten!$D$16,IF(O95=\"Flexila PU\",_xlfn.NUMBERVALUE(MID(Daten!$D$17,1,2)),\"-\")))","v":""},{"$f":"IF($A95=\"\",\"\",IF(OR(O95=\"Putzbord\",O95=\"Flexila PU\"),Daten!$D$18,IF(OR(O95=\"Stehbord\",O95=\"Stehbord HB\",O95=\"Flexila STB\",O95=\"Jalousiebord\"),Daten!$D$21,\"-\")))","v":""},{"$f":"IF(A95=\"\",\"\",IF(Daten!D$6=Daten!N$11,Daten!M$11,IF(Daten!D$6=Daten!N$13,Daten!M$13,IF(AND(Daten!$D$6=Daten!$M$10,Daten!$D$8=TRUE),Daten!$M$14,Daten!D$6))))","v":""},{"$f":"IF($A95=\"\",\"\",IF(OR(S95=\"Putzbord\",S95=\"Flexila PU\"),Daten!$D$15,IF(OR(S95=\"Stehbord\",S95=\"Stehbord HB\",S95=\"Flexila STB\",S95=\"Jalousiebord\"),Daten!$D$19,\"-\")))","v":""},{"$f":"IF($A95=\"\",\"\",IF(S95=\"Putzbord\",Daten!$D$16,IF(S95=\"Flexila PU\",_xlfn.NUMBERVALUE(MID(Daten!$D$17,1,2)),\"-\")))","v":""},{"$f":"IF($A95=\"\",\"\",IF(OR(S95=\"Putzbord\",S95=\"Flexila PU\"),Daten!$D$18,IF(OR(S95=\"Stehbord\",S95=\"Stehbord HB\",S95=\"Flexila STB\",S95=\"Jalousiebord\"),Daten!$D$21,\"-\")))","v":""},{"$f":"IF(A95=\"\",\"\",IF(AND(Daten!D$6=\"Jalousiebord\",OR(O95=\"Stehbord\",S95=\"Stehbord\")),\"Jalousienklinkung\",\"\"))","v":""},{"$f":"IF(W95=\"\",\"\",Daten!D$20)","v":""},null,null,{"$f":"IF(A95=\"\",\"\",IF(Daten!F$1=\"A\",\"Ohne\",IF(OR(N95=\"Gerstenkorn roh\",N95=\"Riffelblech roh\"),\"XPS\",Daten!F$2)))","v":""},{"$f":"IF(A95=\"\",\"\",IF(AA95=\"Ohne\",\"A\",IF(AA95=\"XPS\",IF(Daten!F$1=\"D\",\"B\",Daten!F$1),Daten!F$1)))","v":""},{"$f":"IF(A95=\"\",\"\",IF(AB95=\"A\",\"-\",Daten!F$7))","v":""},{"$f":"IF(A95=\"\",\"\",IF(AB95=\"A\",\"-\",IF(AND(Daten!F$8=0,O95=\"Putzbord\"),5-Q95,0)))","v":""},{"$f":"IF(A95=\"\",\"\",IF(AB95=\"A\",\"-\",IF(AND(Daten!F$8=0,S95=\"Putzbord\"),5-U95,0)))","v":""},{"$f":"IF(A95=\"\",\"\",IF(AB95=\"A\",\"-\",Daten!F$10))","v":""},{"$f":"IFERROR(IF(A95=\"\",\"\",VLOOKUP(N95,Daten!N$1:O$7,2,FALSE)),\"\")","v":""}]
[null,null,null,{"$f":"IF(A96=\"\",\"\",IF(Daten!B$3=TRUE,Daten!B$7,\"\"))","v":""},{"$f":"IFERROR(IF(C96=\"\",\"\",C96+(2*D96)+IF(O96=Daten!M$13,6,0)+IF(S96=Daten!M$13,6,0)+IF(Q96=\"-\",0,Q96)+IF(U96=\"-\",0,U96)),\"\")","v":""},{"$f":"IF(OR(A96=\"\",AND(F$1=0,Daten!F$3=FALSE)),\"\",Daten!B$6)","v":""},{"$f":"IF(A96=\"\",\"\",IF(Daten!B$5=\"??\",\"\",Daten!B$5))","v":""},{"$f":"IF(A96=\"\",\"\",IF(Daten!B$3=FALSE,\"\",Daten!B$4))","v":""},{"$f":"IFERROR(IF(A96=\"\",\"\",G96+H96+IF(AND(G96>0,H96>0),5,0))-IF(Daten!H$21=TRUE,H96,0),\"\")","v":""},{"$f":"IFERROR(IF(A96=\"\",\"\",I96+IF(Daten!H$21=TRUE,H96,0)+IF(F96=\"\",0,F96)-IF(Daten!F$3=TRUE,Daten!F$10,0)),\"\")","v":""},{"$f":"IF(A96=\"\",\"\",Daten!D$14)","v":""},{"$f":"IF(A96=\"\",\"\",Daten!D$12)","v":""},{"$f":"IF(A96=\"\",\"\",Daten!D$13)","v":""},{"$f":"IF(A96=\"\",\"\",Daten!M$2)","v":""},{"$f":"IF(A96=\"\",\"\",IF(Daten!D$6=Daten!N$11,Daten!M$11,IF(Daten!D$6=Daten!N$13,Daten!M$13,IF(AND(Daten!$D$6=Daten!$M$10,Daten!$D$8=TRUE),Daten!$M$14,Daten!D$6))))","v":""},{"$f":"IF($A96=\"\",\"\",IF(OR(O96=\"Putzbord\",O96=\"Flexila PU\"),Daten!$D$15,IF(OR(O96=\"Stehbord\",O96=\"Stehbord HB\",O96=\"Flexila STB\",O96=\"Jalousiebord\"),Daten!$D$19,\"-\")))","v":""},{"$f":"IF($A96=\"\",\"\",IF(O96=\"Putzbord\",Daten!$D$16,IF(O96=\"Flexila PU\",_xlfn.NUMBERVALUE(MID(Daten!$D$17,1,2)),\"-\")))","v":""},{"$f":"IF($A96=\"\",\"\",IF(OR(O96=\"Putzbord\",O96=\"Flexila PU\"),Daten!$D$18,IF(OR(O96=\"Stehbord\",O96=\"Stehbord HB\",O96=\"Flexila STB\",O96=\"Jalousiebord\"),Daten!$D$21,\"-\")))","v":""},{"$f":"IF(A96=\"\",\"\",IF(Daten!D$6=Daten!N$11,Daten!M$11,IF(Daten!D$6=Daten!N$13,Daten!M$13,IF(AND(Daten!$D$6=Daten!$M$10,Daten!$D$8=TRUE),Daten!$M$14,Daten!D$6))))","v":""},{"$f":"IF($A96=\"\",\"\",IF(OR(S96=\"Putzbord\",S96=\"Flexila PU\"),Daten!$D$15,IF(OR(S96=\"Stehbord\",S96=\"Stehbord HB\",S96=\"Flexila STB\",S96=\"Jalousiebord\"),Daten!$D$19,\"-\")))","v":""},{"$f":"IF($A96=\"\",\"\",IF(S96=\"Putzbord\",Daten!$D$16,IF(S96=\"Flexila PU\",_xlfn.NUMBERVALUE(MID(Daten!$D$17,1,2)),\"-\")))","v":""},{"$f":"IF($A96=\"\",\"\",IF(OR(S96=\"Putzbord\",S96=\"Flexila PU\"),Daten!$D$18,IF(OR(S96=\"Stehbord\",S96=\"Stehbord HB\",S96=\"Flexila STB\",S96=\"Jalousiebord\"),Daten!$D$21,\"-\")))","v":""},{"$f":"IF(A96=\"\",\"\",IF(AND(Daten!D$6=\"Jalousiebord\",OR(O96=\"Stehbord\",S96=\"Stehbord\")),\"Jalousienklinkung\",\"\"))","v":""},{"$f":"IF(W96=\"\",\"\",Daten!D$20)","v":""},null,null,{"$f":"IF(A96=\"\",\"\",IF(Daten!F$1=\"A\",\"Ohne\",IF(OR(N96=\"Gerstenkorn roh\",N96=\"Riffelblech roh\"),\"XPS\",Daten!F$2)))","v":""},{"$f":"IF(A96=\"\",\"\",IF(AA96=\"Ohne\",\"A\",IF(AA96=\"XPS\",IF(Daten!F$1=\"D\",\"B\",Daten!F$1),Daten!F$1)))","v":""},{"$f":"IF(A96=\"\",\"\",IF(AB96=\"A\",\"-\",Daten!F$7))","v":""},{"$f":"IF(A96=\"\",\"\",IF(AB96=\"A\",\"-\",IF(AND(Daten!F$8=0,O96=\"Putzbord\"),5-Q96,0)))","v":""},{"$f":"IF(A96=\"\",\"\",IF(AB96=\"A\",\"-\",IF(AND(Daten!F$8=0,S96=\"Putzbord\"),5-U96,0)))","v":""},{"$f":"IF(A96=\"\",\"\",IF(AB96=\"A\",\"-\",Daten!F$10))","v":""},{"$f":"IFERROR(IF(A96=\"\",\"\",VLOOKUP(N96,Daten!N$1:O$7,2,FALSE)),\"\")","v":""}]
[null,null,null,{"$f":"IF(A97=\"\",\"\",IF(Daten!B$3=TRUE,Daten!B$7,\"\"))","v":""},{"$f":"IFERROR(IF(C97=\"\",\"\",C97+(2*D97)+IF(O97=Daten!M$13,6,0)+IF(S97=Daten!M$13,6,0)+IF(Q97=\"-\",0,Q97)+IF(U97=\"-\",0,U97)),\"\")","v":""},{"$f":"IF(OR(A97=\"\",AND(F$1=0,Daten!F$3=FALSE)),\"\",Daten!B$6)","v":""},{"$f":"IF(A97=\"\",\"\",IF(Daten!B$5=\"??\",\"\",Daten!B$5))","v":""},{"$f":"IF(A97=\"\",\"\",IF(Daten!B$3=FALSE,\"\",Daten!B$4))","v":""},{"$f":"IFERROR(IF(A97=\"\",\"\",G97+H97+IF(AND(G97>0,H97>0),5,0))-IF(Daten!H$21=TRUE,H97,0),\"\")","v":""},{"$f":"IFERROR(IF(A97=\"\",\"\",I97+IF(Daten!H$21=TRUE,H97,0)+IF(F97=\"\",0,F97)-IF(Daten!F$3=TRUE,Daten!F$10,0)),\"\")","v":""},{"$f":"IF(A97=\"\",\"\",Daten!D$14)","v":""},{"$f":"IF(A97=\"\",\"\",Daten!D$12)","v":""},{"$f":"IF(A97=\"\",\"\",Daten!D$13)","v":""},{"$f":"IF(A97=\"\",\"\",Daten!M$2)","v":""},{"$f":"IF(A97=\"\",\"\",IF(Daten!D$6=Daten!N$11,Daten!M$11,IF(Daten!D$6=Daten!N$13,Daten!M$13,IF(AND(Daten!$D$6=Daten!$M$10,Daten!$D$8=TRUE),Daten!$M$14,Daten!D$6))))","v":""},{"$f":"IF($A97=\"\",\"\",IF(OR(O97=\"Putzbord\",O97=\"Flexila PU\"),Daten!$D$15,IF(OR(O97=\"Stehbord\",O97=\"Stehbord HB\",O97=\"Flexila STB\",O97=\"Jalousiebord\"),Daten!$D$19,\"-\")))","v":""},{"$f":"IF($A97=\"\",\"\",IF(O97=\"Putzbord\",Daten!$D$16,IF(O97=\"Flexila PU\",_xlfn.NUMBERVALUE(MID(Daten!$D$17,1,2)),\"-\")))","v":""},{"$f":"IF($A97=\"\",\"\",IF(OR(O97=\"Putzbord\",O97=\"Flexila PU\"),Daten!$D$18,IF(OR(O97=\"Stehbord\",O97=\"Stehbord HB\",O97=\"Flexila STB\",O97=\"Jalousiebord\"),Daten!$D$21,\"-\")))","v":""},{"$f":"IF(A97=\"\",\"\",IF(Daten!D$6=Daten!N$11,Daten!M$11,IF(Daten!D$6=Daten!N$13,Daten!M$13,IF(AND(Daten!$D$6=Daten!$M$10,Daten!$D$8=TRUE),Daten!$M$14,Daten!D$6))))","v":""},{"$f":"IF($A97=\"\",\"\",IF(OR(S97=\"Putzbord\",S97=\"Flexila PU\"),Daten!$D$15,IF(OR(S97=\"Stehbord\",S97=\"Stehbord HB\",S97=\"Flexila STB\",S97=\"Jalousiebord\"),Daten!$D$19,\"-\")))","v":""},{"$f":"IF($A97=\"\",\"\",IF(S97=\"Putzbord\",Daten!$D$16,IF(S97=\"Flexila PU\",_xlfn.NUMBERVALUE(MID(Daten!$D$17,1,2)),\"-\")))","v":""},{"$f":"IF($A97=\"\",\"\",IF(OR(S97=\"Putzbord\",S97=\"Flexila PU\"),Daten!$D$18,IF(OR(S97=\"Stehbord\",S97=\"Stehbord HB\",S97=\"Flexila STB\",S97=\"Jalousiebord\"),Daten!$D$21,\"-\")))","v":""},{"$f":"IF(A97=\"\",\"\",IF(AND(Daten!D$6=\"Jalousiebord\",OR(O97=\"Stehbord\",S97=\"Stehbord\")),\"Jalousienklinkung\",\"\"))","v":""},{"$f":"IF(W97=\"\",\"\",Daten!D$20)","v":""},null,null,{"$f":"IF(A97=\"\",\"\",IF(Daten!F$1=\"A\",\"Ohne\",IF(OR(N97=\"Gerstenkorn roh\",N97=\"Riffelblech roh\"),\"XPS\",Daten!F$2)))","v":""},{"$f":"IF(A97=\"\",\"\",IF(AA97=\"Ohne\",\"A\",IF(AA97=\"XPS\",IF(Daten!F$1=\"D\",\"B\",Daten!F$1),Daten!F$1)))","v":""},{"$f":"IF(A97=\"\",\"\",IF(AB97=\"A\",\"-\",Daten!F$7))","v":""},{"$f":"IF(A97=\"\",\"\",IF(AB97=\"A\",\"-\",IF(AND(Daten!F$8=0,O97=\"Putzbord\"),5-Q97,0)))","v":""},{"$f":"IF(A97=\"\",\"\",IF(AB97=\"A\",\"-\",IF(AND(Daten!F$8=0,S97=\"Putzbord\"),5-U97,0)))","v":""},{"$f":"IF(A97=\"\",\"\",IF(AB97=\"A\",\"-\",Daten!F$10))","v":""},{"$f":"IFERROR(IF(A97=\"\",\"\",VLOOKUP(N97,Daten!N$1:O$7,2,FALSE)),\"\")","v":""}]
[null,null,null,{"$f":"IF(A98=\"\",\"\",IF(Daten!B$3=TRUE,Daten!B$7,\"\"))","v":""},{"$f":"IFERROR(IF(C98=\"\",\"\",C98+(2*D98)+IF(O98=Daten!M$13,6,0)+IF(S98=Daten!M$13,6,0)+IF(Q98=\"-\",0,Q98)+IF(U98=\"-\",0,U98)),\"\")","v":""},{"$f":"IF(OR(A98=\"\",AND(F$1=0,Daten!F$3=FALSE)),\"\",Daten!B$6)","v":""},{"$f":"IF(A98=\"\",\"\",IF(Daten!B$5=\"??\",\"\",Daten!B$5))","v":""},{"$f":"IF(A98=\"\",\"\",IF(Daten!B$3=FALSE,\"\",Daten!B$4))","v":""},{"$f":"IFERROR(IF(A98=\"\",\"\",G98+H98+IF(AND(G98>0,H98>0),5,0))-IF(Daten!H$21=TRUE,H98,0),\"\")","v":""},{"$f":"IFERROR(IF(A98=\"\",\"\",I98+IF(Daten!H$21=TRUE,H98,0)+IF(F98=\"\",0,F98)-IF(Daten!F$3=TRUE,Daten!F$10,0)),\"\")","v":""},{"$f":"IF(A98=\"\",\"\",Daten!D$14)","v":""},{"$f":"IF(A98=\"\",\"\",Daten!D$12)","v":""},{"$f":"IF(A98=\"\",\"\",Daten!D$13)","v":""},{"$f":"IF(A98=\"\",\"\",Daten!M$2)","v":""},{"$f":"IF(A98=\"\",\"\",IF(Daten!D$6=Daten!N$11,Daten!M$11,IF(Daten!D$6=Daten!N$13,Daten!M$13,IF(AND(Daten!$D$6=Daten!$M$10,Daten!$D$8=TRUE),Daten!$M$14,Daten!D$6))))","v":""},{"$f":"IF($A98=\"\",\"\",IF(OR(O98=\"Putzbord\",O98=\"Flexila PU\"),Daten!$D$15,IF(OR(O98=\"Stehbord\",O98=\"Stehbord HB\",O98=\"Flexila STB\",O98=\"Jalousiebord\"),Daten!$D$19,\"-\")))","v":""},{"$f":"IF($A98=\"\",\"\",IF(O98=\"Putzbord\",Daten!$D$16,IF(O98=\"Flexila PU\",_xlfn.NUMBERVALUE(MID(Daten!$D$17,1,2)),\"-\")))","v":""},{"$f":"IF($A98=\"\",\"\",IF(OR(O98=\"Putzbord\",O98=\"Flexila PU\"),Daten!$D$18,IF(OR(O98=\"Stehbord\",O98=\"Stehbord HB\",O98=\"Flexila STB\",O98=\"Jalousiebord\"),Daten!$D$21,\"-\")))","v":""},{"$f":"IF(A98=\"\",\"\",IF(Daten!D$6=Daten!N$11,Daten!M$11,IF(Daten!D$6=Daten!N$13,Daten!M$13,IF(AND(Daten!$D$6=Daten!$M$10,Daten!$D$8=TRUE),Daten!$M$14,Daten!D$6))))","v":""},{"$f":"IF($A98=\"\",\"\",IF(OR(S98=\"Putzbord\",S98=\"Flexila PU\"),Daten!$D$15,IF(OR(S98=\"Stehbord\",S98=\"Stehbord HB\",S98=\"Flexila STB\",S98=\"Jalousiebord\"),Daten!$D$19,\"-\")))","v":""},{"$f":"IF($A98=\"\",\"\",IF(S98=\"Putzbord\",Daten!$D$16,IF(S98=\"Flexila PU\",_xlfn.NUMBERVALUE(MID(Daten!$D$17,1,2)),\"-\")))","v":""},{"$f":"IF($A98=\"\",\"\",IF(OR(S98=\"Putzbord\",S98=\"Flexila PU\"),Daten!$D$18,IF(OR(S98=\"Stehbord\",S98=\"Stehbord HB\",S98=\"Flexila STB\",S98=\"Jalousiebord\"),Daten!$D$21,\"-\")))","v":""},{"$f":"IF(A98=\"\",\"\",IF(AND(Daten!D$6=\"Jalousiebord\",OR(O98=\"Stehbord\",S98=\"Stehbord\")),\"Jalousienklinkung\",\"\"))","v":""},{"$f":"IF(W98=\"\",\"\",Daten!D$20)","v":""},null,null,{"$f":"IF(A98=\"\",\"\",IF(Daten!F$1=\"A\",\"Ohne\",IF(OR(N98=\"Gerstenkorn roh\",N98=\"Riffelblech roh\"),\"XPS\",Daten!F$2)))","v":""},{"$f":"IF(A98=\"\",\"\",IF(AA98=\"Ohne\",\"A\",IF(AA98=\"XPS\",IF(Daten!F$1=\"D\",\"B\",Daten!F$1),Daten!F$1)))","v":""},{"$f":"IF(A98=\"\",\"\",IF(AB98=\"A\",\"-\",Daten!F$7))","v":""},{"$f":"IF(A98=\"\",\"\",IF(AB98=\"A\",\"-\",IF(AND(Daten!F$8=0,O98=\"Putzbord\"),5-Q98,0)))","v":""},{"$f":"IF(A98=\"\",\"\",IF(AB98=\"A\",\"-\",IF(AND(Daten!F$8=0,S98=\"Putzbord\"),5-U98,0)))","v":""},{"$f":"IF(A98=\"\",\"\",IF(AB98=\"A\",\"-\",Daten!F$10))","v":""},{"$f":"IFERROR(IF(A98=\"\",\"\",VLOOKUP(N98,Daten!N$1:O$7,2,FALSE)),\"\")","v":""}]
[null,null,null,{"$f":"IF(A99=\"\",\"\",IF(Daten!B$3=TRUE,Daten!B$7,\"\"))","v":""},{"$f":"IFERROR(IF(C99=\"\",\"\",C99+(2*D99)+IF(O99=Daten!M$13,6,0)+IF(S99=Daten!M$13,6,0)+IF(Q99=\"-\",0,Q99)+IF(U99=\"-\",0,U99)),\"\")","v":""},{"$f":"IF(OR(A99=\"\",AND(F$1=0,Daten!F$3=FALSE)),\"\",Daten!B$6)","v":""},{"$f":"IF(A99=\"\",\"\",IF(Daten!B$5=\"??\",\"\",Daten!B$5))","v":""},{"$f":"IF(A99=\"\",\"\",IF(Daten!B$3=FALSE,\"\",Daten!B$4))","v":""},{"$f":"IFERROR(IF(A99=\"\",\"\",G99+H99+IF(AND(G99>0,H99>0),5,0))-IF(Daten!H$21=TRUE,H99,0),\"\")","v":""},{"$f":"IFERROR(IF(A99=\"\",\"\",I99+IF(Daten!H$21=TRUE,H99,0)+IF(F99=\"\",0,F99)-IF(Daten!F$3=TRUE,Daten!F$10,0)),\"\")","v":""},{"$f":"IF(A99=\"\",\"\",Daten!D$14)","v":""},{"$f":"IF(A99=\"\",\"\",Daten!D$12)","v":""},{"$f":"IF(A99=\"\",\"\",Daten!D$13)","v":""},{"$f":"IF(A99=\"\",\"\",Daten!M$2)","v":""},{"$f":"IF(A99=\"\",\"\",IF(Daten!D$6=Daten!N$11,Daten!M$11,IF(Daten!D$6=Daten!N$13,Daten!M$13,IF(AND(Daten!$D$6=Daten!$M$10,Daten!$D$8=TRUE),Daten!$M$14,Daten!D$6))))","v":""},{"$f":"IF($A99=\"\",\"\",IF(OR(O99=\"Putzbord\",O99=\"Flexila PU\"),Daten!$D$15,IF(OR(O99=\"Stehbord\",O99=\"Stehbord HB\",O99=\"Flexila STB\",O99=\"Jalousiebord\"),Daten!$D$19,\"-\")))","v":""},{"$f":"IF($A99=\"\",\"\",IF(O99=\"Putzbord\",Daten!$D$16,IF(O99=\"Flexila PU\",_xlfn.NUMBERVALUE(MID(Daten!$D$17,1,2)),\"-\")))","v":""},{"$f":"IF($A99=\"\",\"\",IF(OR(O99=\"Putzbord\",O99=\"Flexila PU\"),Daten!$D$18,IF(OR(O99=\"Stehbord\",O99=\"Stehbord HB\",O99=\"Flexila STB\",O99=\"Jalousiebord\"),Daten!$D$21,\"-\")))","v":""},{"$f":"IF(A99=\"\",\"\",IF(Daten!D$6=Daten!N$11,Daten!M$11,IF(Daten!D$6=Daten!N$13,Daten!M$13,IF(AND(Daten!$D$6=Daten!$M$10,Daten!$D$8=TRUE),Daten!$M$14,Daten!D$6))))","v":""},{"$f":"IF($A99=\"\",\"\",IF(OR(S99=\"Putzbord\",S99=\"Flexila PU\"),Daten!$D$15,IF(OR(S99=\"Stehbord\",S99=\"Stehbord HB\",S99=\"Flexila STB\",S99=\"Jalousiebord\"),Daten!$D$19,\"-\")))","v":""},{"$f":"IF($A99=\"\",\"\",IF(S99=\"Putzbord\",Daten!$D$16,IF(S99=\"Flexila PU\",_xlfn.NUMBERVALUE(MID(Daten!$D$17,1,2)),\"-\")))","v":""},{"$f":"IF($A99=\"\",\"\",IF(OR(S99=\"Putzbord\",S99=\"Flexila PU\"),Daten!$D$18,IF(OR(S99=\"Stehbord\",S99=\"Stehbord HB\",S99=\"Flexila STB\",S99=\"Jalousiebord\"),Daten!$D$21,\"-\")))","v":""},{"$f":"IF(A99=\"\",\"\",IF(AND(Daten!D$6=\"Jalousiebord\",OR(O99=\"Stehbord\",S99=\"Stehbord\")),\"Jalousienklinkung\",\"\"))","v":""},{"$f":"IF(W99=\"\",\"\",Daten!D$20)","v":""},null,null,{"$f":"IF(A99=\"\",\"\",IF(Daten!F$1=\"A\",\"Ohne\",IF(OR(N99=\"Gerstenkorn roh\",N99=\"Riffelblech roh\"),\"XPS\",Daten!F$2)))","v":""},{"$f":"IF(A99=\"\",\"\",IF(AA99=\"Ohne\",\"A\",IF(AA99=\"XPS\",IF(Daten!F$1=\"D\",\"B\",Daten!F$1),Daten!F$1)))","v":""},{"$f":"IF(A99=\"\",\"\",IF(AB99=\"A\",\"-\",Daten!F$7))","v":""},{"$f":"IF(A99=\"\",\"\",IF(AB99=\"A\",\"-\",IF(AND(Daten!F$8=0,O99=\"Putzbord\"),5-Q99,0)))","v":""},{"$f":"IF(A99=\"\",\"\",IF(AB99=\"A\",\"-\",IF(AND(Daten!F$8=0,S99=\"Putzbord\"),5-U99,0)))","v":""},{"$f":"IF(A99=\"\",\"\",IF(AB99=\"A\",\"-\",Daten!F$10))","v":""},{"$f":"IFERROR(IF(A99=\"\",\"\",VLOOKUP(N99,Daten!N$1:O$7,2,FALSE)),\"\")","v":""}]
[null,null,null,{"$f":"IF(A100=\"\",\"\",IF(Daten!B$3=TRUE,Daten!B$7,\"\"))","v":""},{"$f":"IFERROR(IF(C100=\"\",\"\",C100+(2*D100)+IF(O100=Daten!M$13,6,0)+IF(S100=Daten!M$13,6,0)+IF(Q100=\"-\",0,Q100)+IF(U100=\"-\",0,U100)),\"\")","v":""},{"$f":"IF(OR(A100=\"\",AND(F$1=0,Daten!F$3=FALSE)),\"\",Daten!B$6)","v":""},{"$f":"IF(A100=\"\",\"\",IF(Daten!B$5=\"??\",\"\",Daten!B$5))","v":""},{"$f":"IF(A100=\"\",\"\",IF(Daten!B$3=FALSE,\"\",Daten!B$4))","v":""},{"$f":"IFERROR(IF(A100=\"\",\"\",G100+H100+IF(AND(G100>0,H100>0),5,0))-IF(Daten!H$21=TRUE,H100,0),\"\")","v":""},{"$f":"IFERROR(IF(A100=\"\",\"\",I100+IF(Daten!H$21=TRUE,H100,0)+IF(F100=\"\",0,F100)-IF(Daten!F$3=TRUE,Daten!F$10,0)),\"\")","v":""},{"$f":"IF(A100=\"\",\"\",Daten!D$14)","v":""},{"$f":"IF(A100=\"\",\"\",Daten!D$12)","v":""},{"$f":"IF(A100=\"\",\"\",Daten!D$13)","v":""},{"$f":"IF(A100=\"\",\"\",Daten!M$2)","v":""},{"$f":"IF(A100=\"\",\"\",IF(Daten!D$6=Daten!N$11,Daten!M$11,IF(Daten!D$6=Daten!N$13,Daten!M$13,IF(AND(Daten!$D$6=Daten!$M$10,Daten!$D$8=TRUE),Daten!$M$14,Daten!D$6))))","v":""},{"$f":"IF($A100=\"\",\"\",IF(OR(O100=\"Putzbord\",O100=\"Flexila PU\"),Daten!$D$15,IF(OR(O100=\"Stehbord\",O100=\"Stehbord HB\",O100=\"Flexila STB\",O100=\"Jalousiebord\"),Daten!$D$19,\"-\")))","v":""},{"$f":"IF($A100=\"\",\"\",IF(O100=\"Putzbord\",Daten!$D$16,IF(O100=\"Flexila PU\",_xlfn.NUMBERVALUE(MID(Daten!$D$17,1,2)),\"-\")))","v":""},{"$f":"IF($A100=\"\",\"\",IF(OR(O100=\"Putzbord\",O100=\"Flexila PU\"),Daten!$D$18,IF(OR(O100=\"Stehbord\",O100=\"Stehbord HB\",O100=\"Flexila STB\",O100=\"Jalousiebord\"),Daten!$D$21,\"-\")))","v":""},{"$f":"IF(A100=\"\",\"\",IF(Daten!D$6=Daten!N$11,Daten!M$11,IF(Daten!D$6=Daten!N$13,Daten!M$13,IF(AND(Daten!$D$6=Daten!$M$10,Daten!$D$8=TRUE),Daten!$M$14,Daten!D$6))))","v":""},{"$f":"IF($A100=\"\",\"\",IF(OR(S100=\"Putzbord\",S100=\"Flexila PU\"),Daten!$D$15,IF(OR(S100=\"Stehbord\",S100=\"Stehbord HB\",S100=\"Flexila STB\",S100=\"Jalousiebord\"),Daten!$D$19,\"-\")))","v":""},{"$f":"IF($A100=\"\",\"\",IF(S100=\"Putzbord\",Daten!$D$16,IF(S100=\"Flexila PU\",_xlfn.NUMBERVALUE(MID(Daten!$D$17,1,2)),\"-\")))","v":""},{"$f":"IF($A100=\"\",\"\",IF(OR(S100=\"Putzbord\",S100=\"Flexila PU\"),Daten!$D$18,IF(OR(S100=\"Stehbord\",S100=\"Stehbord HB\",S100=\"Flexila STB\",S100=\"Jalousiebord\"),Daten!$D$21,\"-\")))","v":""},{"$f":"IF(A100=\"\",\"\",IF(AND(Daten!D$6=\"Jalousiebord\",OR(O100=\"Stehbord\",S100=\"Stehbord\")),\"Jalousienklinkung\",\"\"))","v":""},{"$f":"IF(W100=\"\",\"\",Daten!D$20)","v":""},null,null,{"$f":"IF(A100=\"\",\"\",IF(Daten!F$1=\"A\",\"Ohne\",IF(OR(N100=\"Gerstenkorn roh\",N100=\"Riffelblech roh\"),\"XPS\",Daten!F$2)))","v":""},{"$f":"IF(A100=\"\",\"\",IF(AA100=\"Ohne\",\"A\",IF(AA100=\"XPS\",IF(Daten!F$1=\"D\",\"B\",Daten!F$1),Daten!F$1)))","v":""},{"$f":"IF(A100=\"\",\"\",IF(AB100=\"A\",\"-\",Daten!F$7))","v":""},{"$f":"IF(A100=\"\",\"\",IF(AB100=\"A\",\"-\",IF(AND(Daten!F$8=0,O100=\"Putzbord\"),5-Q100,0)))","v":""},{"$f":"IF(A100=\"\",\"\",IF(AB100=\"A\",\"-\",IF(AND(Daten!F$8=0,S100=\"Putzbord\"),5-U100,0)))","v":""},{"$f":"IF(A100=\"\",\"\",IF(AB100=\"A\",\"-\",Daten!F$10))","v":""},{"$f":"IFERROR(IF(A100=\"\",\"\",VLOOKUP(N100,Daten!N$1:O$7,2,FALSE)),\"\")","v":""}]
[null,null,null,{"$f":"IF(A101=\"\",\"\",IF(Daten!B$3=TRUE,Daten!B$7,\"\"))","v":""},{"$f":"IFERROR(IF(C101=\"\",\"\",C101+(2*D101)+IF(O101=Daten!M$13,6,0)+IF(S101=Daten!M$13,6,0)+IF(Q101=\"-\",0,Q101)+IF(U101=\"-\",0,U101)),\"\")","v":""},{"$f":"IF(OR(A101=\"\",AND(F$1=0,Daten!F$3=FALSE)),\"\",Daten!B$6)","v":""},{"$f":"IF(A101=\"\",\"\",IF(Daten!B$5=\"??\",\"\",Daten!B$5))","v":""},{"$f":"IF(A101=\"\",\"\",IF(Daten!B$3=FALSE,\"\",Daten!B$4))","v":""},{"$f":"IFERROR(IF(A101=\"\",\"\",G101+H101+IF(AND(G101>0,H101>0),5,0))-IF(Daten!H$21=TRUE,H101,0),\"\")","v":""},{"$f":"IFERROR(IF(A101=\"\",\"\",I101+IF(Daten!H$21=TRUE,H101,0)+IF(F101=\"\",0,F101)-IF(Daten!F$3=TRUE,Daten!F$10,0)),\"\")","v":""},{"$f":"IF(A101=\"\",\"\",Daten!D$14)","v":""},{"$f":"IF(A101=\"\",\"\",Daten!D$12)","v":""},{"$f":"IF(A101=\"\",\"\",Daten!D$13)","v":""},{"$f":"IF(A101=\"\",\"\",Daten!M$2)","v":""},{"$f":"IF(A101=\"\",\"\",IF(Daten!D$6=Daten!N$11,Daten!M$11,IF(Daten!D$6=Daten!N$13,Daten!M$13,IF(AND(Daten!$D$6=Daten!$M$10,Daten!$D$8=TRUE),Daten!$M$14,Daten!D$6))))","v":""},{"$f":"IF($A101=\"\",\"\",IF(OR(O101=\"Putzbord\",O101=\"Flexila PU\"),Daten!$D$15,IF(OR(O101=\"Stehbord\",O101=\"Stehbord HB\",O101=\"Flexila STB\",O101=\"Jalousiebord\"),Daten!$D$19,\"-\")))","v":""},{"$f":"IF($A101=\"\",\"\",IF(O101=\"Putzbord\",Daten!$D$16,IF(O101=\"Flexila PU\",_xlfn.NUMBERVALUE(MID(Daten!$D$17,1,2)),\"-\")))","v":""},{"$f":"IF($A101=\"\",\"\",IF(OR(O101=\"Putzbord\",O101=\"Flexila PU\"),Daten!$D$18,IF(OR(O101=\"Stehbord\",O101=\"Stehbord HB\",O101=\"Flexila STB\",O101=\"Jalousiebord\"),Daten!$D$21,\"-\")))","v":""},{"$f":"IF(A101=\"\",\"\",IF(Daten!D$6=Daten!N$11,Daten!M$11,IF(Daten!D$6=Daten!N$13,Daten!M$13,IF(AND(Daten!$D$6=Daten!$M$10,Daten!$D$8=TRUE),Daten!$M$14,Daten!D$6))))","v":""},{"$f":"IF($A101=\"\",\"\",IF(OR(S101=\"Putzbord\",S101=\"Flexila PU\"),Daten!$D$15,IF(OR(S101=\"Stehbord\",S101=\"Stehbord HB\",S101=\"Flexila STB\",S101=\"Jalousiebord\"),Daten!$D$19,\"-\")))","v":""},{"$f":"IF($A101=\"\",\"\",IF(S101=\"Putzbord\",Daten!$D$16,IF(S101=\"Flexila PU\",_xlfn.NUMBERVALUE(MID(Daten!$D$17,1,2)),\"-\")))","v":""},{"$f":"IF($A101=\"\",\"\",IF(OR(S101=\"Putzbord\",S101=\"Flexila PU\"),Daten!$D$18,IF(OR(S101=\"Stehbord\",S101=\"Stehbord HB\",S101=\"Flexila STB\",S101=\"Jalousiebord\"),Daten!$D$21,\"-\")))","v":""},{"$f":"IF(A101=\"\",\"\",IF(AND(Daten!D$6=\"Jalousiebord\",OR(O101=\"Stehbord\",S101=\"Stehbord\")),\"Jalousienklinkung\",\"\"))","v":""},{"$f":"IF(W101=\"\",\"\",Daten!D$20)","v":""},null,null,{"$f":"IF(A101=\"\",\"\",IF(Daten!F$1=\"A\",\"Ohne\",IF(OR(N101=\"Gerstenkorn roh\",N101=\"Riffelblech roh\"),\"XPS\",Daten!F$2)))","v":""},{"$f":"IF(A101=\"\",\"\",IF(AA101=\"Ohne\",\"A\",IF(AA101=\"XPS\",IF(Daten!F$1=\"D\",\"B\",Daten!F$1),Daten!F$1)))","v":""},{"$f":"IF(A101=\"\",\"\",IF(AB101=\"A\",\"-\",Daten!F$7))","v":""},{"$f":"IF(A101=\"\",\"\",IF(AB101=\"A\",\"-\",IF(AND(Daten!F$8=0,O101=\"Putzbord\"),5-Q101,0)))","v":""},{"$f":"IF(A101=\"\",\"\",IF(AB101=\"A\",\"-\",IF(AND(Daten!F$8=0,S101=\"Putzbord\"),5-U101,0)))","v":""},{"$f":"IF(A101=\"\",\"\",IF(AB101=\"A\",\"-\",Daten!F$10))","v":""},{"$f":"IFERROR(IF(A101=\"\",\"\",VLOOKUP(N101,Daten!N$1:O$7,2,FALSE)),\"\")","v":""}]
[null,null,null,{"$f":"IF(A102=\"\",\"\",IF(Daten!B$3=TRUE,Daten!B$7,\"\"))","v":""},{"$f":"IFERROR(IF(C102=\"\",\"\",C102+(2*D102)+IF(O102=Daten!M$13,6,0)+IF(S102=Daten!M$13,6,0)+IF(Q102=\"-\",0,Q102)+IF(U102=\"-\",0,U102)),\"\")","v":""},{"$f":"IF(OR(A102=\"\",AND(F$1=0,Daten!F$3=FALSE)),\"\",Daten!B$6)","v":""},{"$f":"IF(A102=\"\",\"\",IF(Daten!B$5=\"??\",\"\",Daten!B$5))","v":""},{"$f":"IF(A102=\"\",\"\",IF(Daten!B$3=FALSE,\"\",Daten!B$4))","v":""},{"$f":"IFERROR(IF(A102=\"\",\"\",G102+H102+IF(AND(G102>0,H102>0),5,0))-IF(Daten!H$21=TRUE,H102,0),\"\")","v":""},{"$f":"IFERROR(IF(A102=\"\",\"\",I102+IF(Daten!H$21=TRUE,H102,0)+IF(F102=\"\",0,F102)-IF(Daten!F$3=TRUE,Daten!F$10,0)),\"\")","v":""},{"$f":"IF(A102=\"\",\"\",Daten!D$14)","v":""},{"$f":"IF(A102=\"\",\"\",Daten!D$12)","v":""},{"$f":"IF(A102=\"\",\"\",Daten!D$13)","v":""},{"$f":"IF(A102=\"\",\"\",Daten!M$2)","v":""},{"$f":"IF(A102=\"\",\"\",IF(Daten!D$6=Daten!N$11,Daten!M$11,IF(Daten!D$6=Daten!N$13,Daten!M$13,IF(AND(Daten!$D$6=Daten!$M$10,Daten!$D$8=TRUE),Daten!$M$14,Daten!D$6))))","v":""},{"$f":"IF($A102=\"\",\"\",IF(OR(O102=\"Putzbord\",O102=\"Flexila PU\"),Daten!$D$15,IF(OR(O102=\"Stehbord\",O102=\"Stehbord HB\",O102=\"Flexila STB\",O102=\"Jalousiebord\"),Daten!$D$19,\"-\")))","v":""},{"$f":"IF($A102=\"\",\"\",IF(O102=\"Putzbord\",Daten!$D$16,IF(O102=\"Flexila PU\",_xlfn.NUMBERVALUE(MID(Daten!$D$17,1,2)),\"-\")))","v":""},{"$f":"IF($A102=\"\",\"\",IF(OR(O102=\"Putzbord\",O102=\"Flexila PU\"),Daten!$D$18,IF(OR(O102=\"Stehbord\",O102=\"Stehbord HB\",O102=\"Flexila STB\",O102=\"Jalousiebord\"),Daten!$D$21,\"-\")))","v":""},{"$f":"IF(A102=\"\",\"\",IF(Daten!D$6=Daten!N$11,Daten!M$11,IF(Daten!D$6=Daten!N$13,Daten!M$13,IF(AND(Daten!$D$6=Daten!$M$10,Daten!$D$8=TRUE),Daten!$M$14,Daten!D$6))))","v":""},{"$f":"IF($A102=\"\",\"\",IF(OR(S102=\"Putzbord\",S102=\"Flexila PU\"),Daten!$D$15,IF(OR(S102=\"Stehbord\",S102=\"Stehbord HB\",S102=\"Flexila STB\",S102=\"Jalousiebord\"),Daten!$D$19,\"-\")))","v":""},{"$f":"IF($A102=\"\",\"\",IF(S102=\"Putzbord\",Daten!$D$16,IF(S102=\"Flexila PU\",_xlfn.NUMBERVALUE(MID(Daten!$D$17,1,2)),\"-\")))","v":""},{"$f":"IF($A102=\"\",\"\",IF(OR(S102=\"Putzbord\",S102=\"Flexila PU\"),Daten!$D$18,IF(OR(S102=\"Stehbord\",S102=\"Stehbord HB\",S102=\"Flexila STB\",S102=\"Jalousiebord\"),Daten!$D$21,\"-\")))","v":""},{"$f":"IF(A102=\"\",\"\",IF(AND(Daten!D$6=\"Jalousiebord\",OR(O102=\"Stehbord\",S102=\"Stehbord\")),\"Jalousienklinkung\",\"\"))","v":""},{"$f":"IF(W102=\"\",\"\",Daten!D$20)","v":""},null,null,{"$f":"IF(A102=\"\",\"\",IF(Daten!F$1=\"A\",\"Ohne\",IF(OR(N102=\"Gerstenkorn roh\",N102=\"Riffelblech roh\"),\"XPS\",Daten!F$2)))","v":""},{"$f":"IF(A102=\"\",\"\",IF(AA102=\"Ohne\",\"A\",IF(AA102=\"XPS\",IF(Daten!F$1=\"D\",\"B\",Daten!F$1),Daten!F$1)))","v":""},{"$f":"IF(A102=\"\",\"\",IF(AB102=\"A\",\"-\",Daten!F$7))","v":""},{"$f":"IF(A102=\"\",\"\",IF(AB102=\"A\",\"-\",IF(AND(Daten!F$8=0,O102=\"Putzbord\"),5-Q102,0)))","v":""},{"$f":"IF(A102=\"\",\"\",IF(AB102=\"A\",\"-\",IF(AND(Daten!F$8=0,S102=\"Putzbord\"),5-U102,0)))","v":""},{"$f":"IF(A102=\"\",\"\",IF(AB102=\"A\",\"-\",Daten!F$10))","v":""},{"$f":"IFERROR(IF(A102=\"\",\"\",VLOOKUP(N102,Daten!N$1:O$7,2,FALSE)),\"\")","v":""}]
[null,null,null,{"$f":"IF(A103=\"\",\"\",IF(Daten!B$3=TRUE,Daten!B$7,\"\"))","v":""},{"$f":"IFERROR(IF(C103=\"\",\"\",C103+(2*D103)+IF(O103=Daten!M$13,6,0)+IF(S103=Daten!M$13,6,0)+IF(Q103=\"-\",0,Q103)+IF(U103=\"-\",0,U103)),\"\")","v":""},{"$f":"IF(OR(A103=\"\",AND(F$1=0,Daten!F$3=FALSE)),\"\",Daten!B$6)","v":""},{"$f":"IF(A103=\"\",\"\",IF(Daten!B$5=\"??\",\"\",Daten!B$5))","v":""},{"$f":"IF(A103=\"\",\"\",IF(Daten!B$3=FALSE,\"\",Daten!B$4))","v":""},{"$f":"IFERROR(IF(A103=\"\",\"\",G103+H103+IF(AND(G103>0,H103>0),5,0))-IF(Daten!H$21=TRUE,H103,0),\"\")","v":""},{"$f":"IFERROR(IF(A103=\"\",\"\",I103+IF(Daten!H$21=TRUE,H103,0)+IF(F103=\"\",0,F103)-IF(Daten!F$3=TRUE,Daten!F$10,0)),\"\")","v":""},{"$f":"IF(A103=\"\",\"\",Daten!D$14)","v":""},{"$f":"IF(A103=\"\",\"\",Daten!D$12)","v":""},{"$f":"IF(A103=\"\",\"\",Daten!D$13)","v":""},{"$f":"IF(A103=\"\",\"\",Daten!M$2)","v":""},{"$f":"IF(A103=\"\",\"\",IF(Daten!D$6=Daten!N$11,Daten!M$11,IF(Daten!D$6=Daten!N$13,Daten!M$13,IF(AND(Daten!$D$6=Daten!$M$10,Daten!$D$8=TRUE),Daten!$M$14,Daten!D$6))))","v":""},{"$f":"IF($A103=\"\",\"\",IF(OR(O103=\"Putzbord\",O103=\"Flexila PU\"),Daten!$D$15,IF(OR(O103=\"Stehbord\",O103=\"Stehbord HB\",O103=\"Flexila STB\",O103=\"Jalousiebord\"),Daten!$D$19,\"-\")))","v":""},{"$f":"IF($A103=\"\",\"\",IF(O103=\"Putzbord\",Daten!$D$16,IF(O103=\"Flexila PU\",_xlfn.NUMBERVALUE(MID(Daten!$D$17,1,2)),\"-\")))","v":""},{"$f":"IF($A103=\"\",\"\",IF(OR(O103=\"Putzbord\",O103=\"Flexila PU\"),Daten!$D$18,IF(OR(O103=\"Stehbord\",O103=\"Stehbord HB\",O103=\"Flexila STB\",O103=\"Jalousiebord\"),Daten!$D$21,\"-\")))","v":""},{"$f":"IF(A103=\"\",\"\",IF(Daten!D$6=Daten!N$11,Daten!M$11,IF(Daten!D$6=Daten!N$13,Daten!M$13,IF(AND(Daten!$D$6=Daten!$M$10,Daten!$D$8=TRUE),Daten!$M$14,Daten!D$6))))","v":""},{"$f":"IF($A103=\"\",\"\",IF(OR(S103=\"Putzbord\",S103=\"Flexila PU\"),Daten!$D$15,IF(OR(S103=\"Stehbord\",S103=\"Stehbord HB\",S103=\"Flexila STB\",S103=\"Jalousiebord\"),Daten!$D$19,\"-\")))","v":""},{"$f":"IF($A103=\"\",\"\",IF(S103=\"Putzbord\",Daten!$D$16,IF(S103=\"Flexila PU\",_xlfn.NUMBERVALUE(MID(Daten!$D$17,1,2)),\"-\")))","v":""},{"$f":"IF($A103=\"\",\"\",IF(OR(S103=\"Putzbord\",S103=\"Flexila PU\"),Daten!$D$18,IF(OR(S103=\"Stehbord\",S103=\"Stehbord HB\",S103=\"Flexila STB\",S103=\"Jalousiebord\"),Daten!$D$21,\"-\")))","v":""},{"$f":"IF(A103=\"\",\"\",IF(AND(Daten!D$6=\"Jalousiebord\",OR(O103=\"Stehbord\",S103=\"Stehbord\")),\"Jalousienklinkung\",\"\"))","v":""},{"$f":"IF(W103=\"\",\"\",Daten!D$20)","v":""},null,null,{"$f":"IF(A103=\"\",\"\",IF(Daten!F$1=\"A\",\"Ohne\",IF(OR(N103=\"Gerstenkorn roh\",N103=\"Riffelblech roh\"),\"XPS\",Daten!F$2)))","v":""},{"$f":"IF(A103=\"\",\"\",IF(AA103=\"Ohne\",\"A\",IF(AA103=\"XPS\",IF(Daten!F$1=\"D\",\"B\",Daten!F$1),Daten!F$1)))","v":""},{"$f":"IF(A103=\"\",\"\",IF(AB103=\"A\",\"-\",Daten!F$7))","v":""},{"$f":"IF(A103=\"\",\"\",IF(AB103=\"A\",\"-\",IF(AND(Daten!F$8=0,O103=\"Putzbord\"),5-Q103,0)))","v":""},{"$f":"IF(A103=\"\",\"\",IF(AB103=\"A\",\"-\",IF(AND(Daten!F$8=0,S103=\"Putzbord\"),5-U103,0)))","v":""},{"$f":"IF(A103=\"\",\"\",IF(AB103=\"A\",\"-\",Daten!F$10))","v":""},{"$f":"IFERROR(IF(A103=\"\",\"\",VLOOKUP(N103,Daten!N$1:O$7,2,FALSE)),\"\")","v":""}]
[null,null,null,{"$f":"IF(A104=\"\",\"\",IF(Daten!B$3=TRUE,Daten!B$7,\"\"))","v":""},{"$f":"IFERROR(IF(C104=\"\",\"\",C104+(2*D104)+IF(O104=Daten!M$13,6,0)+IF(S104=Daten!M$13,6,0)+IF(Q104=\"-\",0,Q104)+IF(U104=\"-\",0,U104)),\"\")","v":""},{"$f":"IF(OR(A104=\"\",AND(F$1=0,Daten!F$3=FALSE)),\"\",Daten!B$6)","v":""},{"$f":"IF(A104=\"\",\"\",IF(Daten!B$5=\"??\",\"\",Daten!B$5))","v":""},{"$f":"IF(A104=\"\",\"\",IF(Daten!B$3=FALSE,\"\",Daten!B$4))","v":""},{"$f":"IFERROR(IF(A104=\"\",\"\",G104+H104+IF(AND(G104>0,H104>0),5,0))-IF(Daten!H$21=TRUE,H104,0),\"\")","v":""},{"$f":"IFERROR(IF(A104=\"\",\"\",I104+IF(Daten!H$21=TRUE,H104,0)+IF(F104=\"\",0,F104)-IF(Daten!F$3=TRUE,Daten!F$10,0)),\"\")","v":""},{"$f":"IF(A104=\"\",\"\",Daten!D$14)","v":""},{"$f":"IF(A104=\"\",\"\",Daten!D$12)","v":""},{"$f":"IF(A104=\"\",\"\",Daten!D$13)","v":""},{"$f":"IF(A104=\"\",\"\",Daten!M$2)","v":""},{"$f":"IF(A104=\"\",\"\",IF(Daten!D$6=Daten!N$11,Daten!M$11,IF(Daten!D$6=Daten!N$13,Daten!M$13,IF(AND(Daten!$D$6=Daten!$M$10,Daten!$D$8=TRUE),Daten!$M$14,Daten!D$6))))","v":""},{"$f":"IF($A104=\"\",\"\",IF(OR(O104=\"Putzbord\",O104=\"Flexila PU\"),Daten!$D$15,IF(OR(O104=\"Stehbord\",O104=\"Stehbord HB\",O104=\"Flexila STB\",O104=\"Jalousiebord\"),Daten!$D$19,\"-\")))","v":""},{"$f":"IF($A104=\"\",\"\",IF(O104=\"Putzbord\",Daten!$D$16,IF(O104=\"Flexila PU\",_xlfn.NUMBERVALUE(MID(Daten!$D$17,1,2)),\"-\")))","v":""},{"$f":"IF($A104=\"\",\"\",IF(OR(O104=\"Putzbord\",O104=\"Flexila PU\"),Daten!$D$18,IF(OR(O104=\"Stehbord\",O104=\"Stehbord HB\",O104=\"Flexila STB\",O104=\"Jalousiebord\"),Daten!$D$21,\"-\")))","v":""},{"$f":"IF(A104=\"\",\"\",IF(Daten!D$6=Daten!N$11,Daten!M$11,IF(Daten!D$6=Daten!N$13,Daten!M$13,IF(AND(Daten!$D$6=Daten!$M$10,Daten!$D$8=TRUE),Daten!$M$14,Daten!D$6))))","v":""},{"$f":"IF($A104=\"\",\"\",IF(OR(S104=\"Putzbord\",S104=\"Flexila PU\"),Daten!$D$15,IF(OR(S104=\"Stehbord\",S104=\"Stehbord HB\",S104=\"Flexila STB\",S104=\"Jalousiebord\"),Daten!$D$19,\"-\")))","v":""},{"$f":"IF($A104=\"\",\"\",IF(S104=\"Putzbord\",Daten!$D$16,IF(S104=\"Flexila PU\",_xlfn.NUMBERVALUE(MID(Daten!$D$17,1,2)),\"-\")))","v":""},{"$f":"IF($A104=\"\",\"\",IF(OR(S104=\"Putzbord\",S104=\"Flexila PU\"),Daten!$D$18,IF(OR(S104=\"Stehbord\",S104=\"Stehbord HB\",S104=\"Flexila STB\",S104=\"Jalousiebord\"),Daten!$D$21,\"-\")))","v":""},{"$f":"IF(A104=\"\",\"\",IF(AND(Daten!D$6=\"Jalousiebord\",OR(O104=\"Stehbord\",S104=\"Stehbord\")),\"Jalousienklinkung\",\"\"))","v":""},{"$f":"IF(W104=\"\",\"\",Daten!D$20)","v":""},null,null,{"$f":"IF(A104=\"\",\"\",IF(Daten!F$1=\"A\",\"Ohne\",IF(OR(N104=\"Gerstenkorn roh\",N104=\"Riffelblech roh\"),\"XPS\",Daten!F$2)))","v":""},{"$f":"IF(A104=\"\",\"\",IF(AA104=\"Ohne\",\"A\",IF(AA104=\"XPS\",IF(Daten!F$1=\"D\",\"B\",Daten!F$1),Daten!F$1)))","v":""},{"$f":"IF(A104=\"\",\"\",IF(AB104=\"A\",\"-\",Daten!F$7))","v":""},{"$f":"IF(A104=\"\",\"\",IF(AB104=\"A\",\"-\",IF(AND(Daten!F$8=0,O104=\"Putzbord\"),5-Q104,0)))","v":""},{"$f":"IF(A104=\"\",\"\",IF(AB104=\"A\",\"-\",IF(AND(Daten!F$8=0,S104=\"Putzbord\"),5-U104,0)))","v":""},{"$f":"IF(A104=\"\",\"\",IF(AB104=\"A\",\"-\",Daten!F$10))","v":""},{"$f":"IFERROR(IF(A104=\"\",\"\",VLOOKUP(N104,Daten!N$1:O$7,2,FALSE)),\"\")","v":""}]
[null,null,null,{"$f":"IF(A105=\"\",\"\",IF(Daten!B$3=TRUE,Daten!B$7,\"\"))","v":""},{"$f":"IFERROR(IF(C105=\"\",\"\",C105+(2*D105)+IF(O105=Daten!M$13,6,0)+IF(S105=Daten!M$13,6,0)+IF(Q105=\"-\",0,Q105)+IF(U105=\"-\",0,U105)),\"\")","v":""},{"$f":"IF(OR(A105=\"\",AND(F$1=0,Daten!F$3=FALSE)),\"\",Daten!B$6)","v":""},{"$f":"IF(A105=\"\",\"\",IF(Daten!B$5=\"??\",\"\",Daten!B$5))","v":""},{"$f":"IF(A105=\"\",\"\",IF(Daten!B$3=FALSE,\"\",Daten!B$4))","v":""},{"$f":"IFERROR(IF(A105=\"\",\"\",G105+H105+IF(AND(G105>0,H105>0),5,0))-IF(Daten!H$21=TRUE,H105,0),\"\")","v":""},{"$f":"IFERROR(IF(A105=\"\",\"\",I105+IF(Daten!H$21=TRUE,H105,0)+IF(F105=\"\",0,F105)-IF(Daten!F$3=TRUE,Daten!F$10,0)),\"\")","v":""},{"$f":"IF(A105=\"\",\"\",Daten!D$14)","v":""},{"$f":"IF(A105=\"\",\"\",Daten!D$12)","v":""},{"$f":"IF(A105=\"\",\"\",Daten!D$13)","v":""},{"$f":"IF(A105=\"\",\"\",Daten!M$2)","v":""},{"$f":"IF(A105=\"\",\"\",IF(Daten!D$6=Daten!N$11,Daten!M$11,IF(Daten!D$6=Daten!N$13,Daten!M$13,IF(AND(Daten!$D$6=Daten!$M$10,Daten!$D$8=TRUE),Daten!$M$14,Daten!D$6))))","v":""},{"$f":"IF($A105=\"\",\"\",IF(OR(O105=\"Putzbord\",O105=\"Flexila PU\"),Daten!$D$15,IF(OR(O105=\"Stehbord\",O105=\"Stehbord HB\",O105=\"Flexila STB\",O105=\"Jalousiebord\"),Daten!$D$19,\"-\")))","v":""},{"$f":"IF($A105=\"\",\"\",IF(O105=\"Putzbord\",Daten!$D$16,IF(O105=\"Flexila PU\",_xlfn.NUMBERVALUE(MID(Daten!$D$17,1,2)),\"-\")))","v":""},{"$f":"IF($A105=\"\",\"\",IF(OR(O105=\"Putzbord\",O105=\"Flexila PU\"),Daten!$D$18,IF(OR(O105=\"Stehbord\",O105=\"Stehbord HB\",O105=\"Flexila STB\",O105=\"Jalousiebord\"),Daten!$D$21,\"-\")))","v":""},{"$f":"IF(A105=\"\",\"\",IF(Daten!D$6=Daten!N$11,Daten!M$11,IF(Daten!D$6=Daten!N$13,Daten!M$13,IF(AND(Daten!$D$6=Daten!$M$10,Daten!$D$8=TRUE),Daten!$M$14,Daten!D$6))))","v":""},{"$f":"IF($A105=\"\",\"\",IF(OR(S105=\"Putzbord\",S105=\"Flexila PU\"),Daten!$D$15,IF(OR(S105=\"Stehbord\",S105=\"Stehbord HB\",S105=\"Flexila STB\",S105=\"Jalousiebord\"),Daten!$D$19,\"-\")))","v":""},{"$f":"IF($A105=\"\",\"\",IF(S105=\"Putzbord\",Daten!$D$16,IF(S105=\"Flexila PU\",_xlfn.NUMBERVALUE(MID(Daten!$D$17,1,2)),\"-\")))","v":""},{"$f":"IF($A105=\"\",\"\",IF(OR(S105=\"Putzbord\",S105=\"Flexila PU\"),Daten!$D$18,IF(OR(S105=\"Stehbord\",S105=\"Stehbord HB\",S105=\"Flexila STB\",S105=\"Jalousiebord\"),Daten!$D$21,\"-\")))","v":""},{"$f":"IF(A105=\"\",\"\",IF(AND(Daten!D$6=\"Jalousiebord\",OR(O105=\"Stehbord\",S105=\"Stehbord\")),\"Jalousienklinkung\",\"\"))","v":""},{"$f":"IF(W105=\"\",\"\",Daten!D$20)","v":""},null,null,{"$f":"IF(A105=\"\",\"\",IF(Daten!F$1=\"A\",\"Ohne\",IF(OR(N105=\"Gerstenkorn roh\",N105=\"Riffelblech roh\"),\"XPS\",Daten!F$2)))","v":""},{"$f":"IF(A105=\"\",\"\",IF(AA105=\"Ohne\",\"A\",IF(AA105=\"XPS\",IF(Daten!F$1=\"D\",\"B\",Daten!F$1),Daten!F$1)))","v":""},{"$f":"IF(A105=\"\",\"\",IF(AB105=\"A\",\"-\",Daten!F$7))","v":""},{"$f":"IF(A105=\"\",\"\",IF(AB105=\"A\",\"-\",IF(AND(Daten!F$8=0,O105=\"Putzbord\"),5-Q105,0)))","v":""},{"$f":"IF(A105=\"\",\"\",IF(AB105=\"A\",\"-\",IF(AND(Daten!F$8=0,S105=\"Putzbord\"),5-U105,0)))","v":""},{"$f":"IF(A105=\"\",\"\",IF(AB105=\"A\",\"-\",Daten!F$10))","v":""},{"$f":"IFERROR(IF(A105=\"\",\"\",VLOOKUP(N105,Daten!N$1:O$7,2,FALSE)),\"\")","v":""}]
[null,null,null,{"$f":"IF(A106=\"\",\"\",IF(Daten!B$3=TRUE,Daten!B$7,\"\"))","v":""},{"$f":"IFERROR(IF(C106=\"\",\"\",C106+(2*D106)+IF(O106=Daten!M$13,6,0)+IF(S106=Daten!M$13,6,0)+IF(Q106=\"-\",0,Q106)+IF(U106=\"-\",0,U106)),\"\")","v":""},{"$f":"IF(OR(A106=\"\",AND(F$1=0,Daten!F$3=FALSE)),\"\",Daten!B$6)","v":""},{"$f":"IF(A106=\"\",\"\",IF(Daten!B$5=\"??\",\"\",Daten!B$5))","v":""},{"$f":"IF(A106=\"\",\"\",IF(Daten!B$3=FALSE,\"\",Daten!B$4))","v":""},{"$f":"IFERROR(IF(A106=\"\",\"\",G106+H106+IF(AND(G106>0,H106>0),5,0))-IF(Daten!H$21=TRUE,H106,0),\"\")","v":""},{"$f":"IFERROR(IF(A106=\"\",\"\",I106+IF(Daten!H$21=TRUE,H106,0)+IF(F106=\"\",0,F106)-IF(Daten!F$3=TRUE,Daten!F$10,0)),\"\")","v":""},{"$f":"IF(A106=\"\",\"\",Daten!D$14)","v":""},{"$f":"IF(A106=\"\",\"\",Daten!D$12)","v":""},{"$f":"IF(A106=\"\",\"\",Daten!D$13)","v":""},{"$f":"IF(A106=\"\",\"\",Daten!M$2)","v":""},{"$f":"IF(A106=\"\",\"\",IF(Daten!D$6=Daten!N$11,Daten!M$11,IF(Daten!D$6=Daten!N$13,Daten!M$13,IF(AND(Daten!$D$6=Daten!$M$10,Daten!$D$8=TRUE),Daten!$M$14,Daten!D$6))))","v":""},{"$f":"IF($A106=\"\",\"\",IF(OR(O106=\"Putzbord\",O106=\"Flexila PU\"),Daten!$D$15,IF(OR(O106=\"Stehbord\",O106=\"Stehbord HB\",O106=\"Flexila STB\",O106=\"Jalousiebord\"),Daten!$D$19,\"-\")))","v":""},{"$f":"IF($A106=\"\",\"\",IF(O106=\"Putzbord\",Daten!$D$16,IF(O106=\"Flexila PU\",_xlfn.NUMBERVALUE(MID(Daten!$D$17,1,2)),\"-\")))","v":""},{"$f":"IF($A106=\"\",\"\",IF(OR(O106=\"Putzbord\",O106=\"Flexila PU\"),Daten!$D$18,IF(OR(O106=\"Stehbord\",O106=\"Stehbord HB\",O106=\"Flexila STB\",O106=\"Jalousiebord\"),Daten!$D$21,\"-\")))","v":""},{"$f":"IF(A106=\"\",\"\",IF(Daten!D$6=Daten!N$11,Daten!M$11,IF(Daten!D$6=Daten!N$13,Daten!M$13,IF(AND(Daten!$D$6=Daten!$M$10,Daten!$D$8=TRUE),Daten!$M$14,Daten!D$6))))","v":""},{"$f":"IF($A106=\"\",\"\",IF(OR(S106=\"Putzbord\",S106=\"Flexila PU\"),Daten!$D$15,IF(OR(S106=\"Stehbord\",S106=\"Stehbord HB\",S106=\"Flexila STB\",S106=\"Jalousiebord\"),Daten!$D$19,\"-\")))","v":""},{"$f":"IF($A106=\"\",\"\",IF(S106=\"Putzbord\",Daten!$D$16,IF(S106=\"Flexila PU\",_xlfn.NUMBERVALUE(MID(Daten!$D$17,1,2)),\"-\")))","v":""},{"$f":"IF($A106=\"\",\"\",IF(OR(S106=\"Putzbord\",S106=\"Flexila PU\"),Daten!$D$18,IF(OR(S106=\"Stehbord\",S106=\"Stehbord HB\",S106=\"Flexila STB\",S106=\"Jalousiebord\"),Daten!$D$21,\"-\")))","v":""},{"$f":"IF(A106=\"\",\"\",IF(AND(Daten!D$6=\"Jalousiebord\",OR(O106=\"Stehbord\",S106=\"Stehbord\")),\"Jalousienklinkung\",\"\"))","v":""},{"$f":"IF(W106=\"\",\"\",Daten!D$20)","v":""},null,null,{"$f":"IF(A106=\"\",\"\",IF(Daten!F$1=\"A\",\"Ohne\",IF(OR(N106=\"Gerstenkorn roh\",N106=\"Riffelblech roh\"),\"XPS\",Daten!F$2)))","v":""},{"$f":"IF(A106=\"\",\"\",IF(AA106=\"Ohne\",\"A\",IF(AA106=\"XPS\",IF(Daten!F$1=\"D\",\"B\",Daten!F$1),Daten!F$1)))","v":""},{"$f":"IF(A106=\"\",\"\",IF(AB106=\"A\",\"-\",Daten!F$7))","v":""},{"$f":"IF(A106=\"\",\"\",IF(AB106=\"A\",\"-\",IF(AND(Daten!F$8=0,O106=\"Putzbord\"),5-Q106,0)))","v":""},{"$f":"IF(A106=\"\",\"\",IF(AB106=\"A\",\"-\",IF(AND(Daten!F$8=0,S106=\"Putzbord\"),5-U106,0)))","v":""},{"$f":"IF(A106=\"\",\"\",IF(AB106=\"A\",\"-\",Daten!F$10))","v":""},{"$f":"IFERROR(IF(A106=\"\",\"\",VLOOKUP(N106,Daten!N$1:O$7,2,FALSE)),\"\")","v":""}]
[null,null,null,{"$f":"IF(A107=\"\",\"\",IF(Daten!B$3=TRUE,Daten!B$7,\"\"))","v":""},{"$f":"IFERROR(IF(C107=\"\",\"\",C107+(2*D107)+IF(O107=Daten!M$13,6,0)+IF(S107=Daten!M$13,6,0)+IF(Q107=\"-\",0,Q107)+IF(U107=\"-\",0,U107)),\"\")","v":""},{"$f":"IF(OR(A107=\"\",AND(F$1=0,Daten!F$3=FALSE)),\"\",Daten!B$6)","v":""},{"$f":"IF(A107=\"\",\"\",IF(Daten!B$5=\"??\",\"\",Daten!B$5))","v":""},{"$f":"IF(A107=\"\",\"\",IF(Daten!B$3=FALSE,\"\",Daten!B$4))","v":""},{"$f":"IFERROR(IF(A107=\"\",\"\",G107+H107+IF(AND(G107>0,H107>0),5,0))-IF(Daten!H$21=TRUE,H107,0),\"\")","v":""},{"$f":"IFERROR(IF(A107=\"\",\"\",I107+IF(Daten!H$21=TRUE,H107,0)+IF(F107=\"\",0,F107)-IF(Daten!F$3=TRUE,Daten!F$10,0)),\"\")","v":""},{"$f":"IF(A107=\"\",\"\",Daten!D$14)","v":""},{"$f":"IF(A107=\"\",\"\",Daten!D$12)","v":""},{"$f":"IF(A107=\"\",\"\",Daten!D$13)","v":""},{"$f":"IF(A107=\"\",\"\",Daten!M$2)","v":""},{"$f":"IF(A107=\"\",\"\",IF(Daten!D$6=Daten!N$11,Daten!M$11,IF(Daten!D$6=Daten!N$13,Daten!M$13,IF(AND(Daten!$D$6=Daten!$M$10,Daten!$D$8=TRUE),Daten!$M$14,Daten!D$6))))","v":""},{"$f":"IF($A107=\"\",\"\",IF(OR(O107=\"Putzbord\",O107=\"Flexila PU\"),Daten!$D$15,IF(OR(O107=\"Stehbord\",O107=\"Stehbord HB\",O107=\"Flexila STB\",O107=\"Jalousiebord\"),Daten!$D$19,\"-\")))","v":""},{"$f":"IF($A107=\"\",\"\",IF(O107=\"Putzbord\",Daten!$D$16,IF(O107=\"Flexila PU\",_xlfn.NUMBERVALUE(MID(Daten!$D$17,1,2)),\"-\")))","v":""},{"$f":"IF($A107=\"\",\"\",IF(OR(O107=\"Putzbord\",O107=\"Flexila PU\"),Daten!$D$18,IF(OR(O107=\"Stehbord\",O107=\"Stehbord HB\",O107=\"Flexila STB\",O107=\"Jalousiebord\"),Daten!$D$21,\"-\")))","v":""},{"$f":"IF(A107=\"\",\"\",IF(Daten!D$6=Daten!N$11,Daten!M$11,IF(Daten!D$6=Daten!N$13,Daten!M$13,IF(AND(Daten!$D$6=Daten!$M$10,Daten!$D$8=TRUE),Daten!$M$14,Daten!D$6))))","v":""},{"$f":"IF($A107=\"\",\"\",IF(OR(S107=\"Putzbord\",S107=\"Flexila PU\"),Daten!$D$15,IF(OR(S107=\"Stehbord\",S107=\"Stehbord HB\",S107=\"Flexila STB\",S107=\"Jalousiebord\"),Daten!$D$19,\"-\")))","v":""},{"$f":"IF($A107=\"\",\"\",IF(S107=\"Putzbord\",Daten!$D$16,IF(S107=\"Flexila PU\",_xlfn.NUMBERVALUE(MID(Daten!$D$17,1,2)),\"-\")))","v":""},{"$f":"IF($A107=\"\",\"\",IF(OR(S107=\"Putzbord\",S107=\"Flexila PU\"),Daten!$D$18,IF(OR(S107=\"Stehbord\",S107=\"Stehbord HB\",S107=\"Flexila STB\",S107=\"Jalousiebord\"),Daten!$D$21,\"-\")))","v":""},{"$f":"IF(A107=\"\",\"\",IF(AND(Daten!D$6=\"Jalousiebord\",OR(O107=\"Stehbord\",S107=\"Stehbord\")),\"Jalousienklinkung\",\"\"))","v":""},{"$f":"IF(W107=\"\",\"\",Daten!D$20)","v":""},null,null,{"$f":"IF(A107=\"\",\"\",IF(Daten!F$1=\"A\",\"Ohne\",IF(OR(N107=\"Gerstenkorn roh\",N107=\"Riffelblech roh\"),\"XPS\",Daten!F$2)))","v":""},{"$f":"IF(A107=\"\",\"\",IF(AA107=\"Ohne\",\"A\",IF(AA107=\"XPS\",IF(Daten!F$1=\"D\",\"B\",Daten!F$1),Daten!F$1)))","v":""},{"$f":"IF(A107=\"\",\"\",IF(AB107=\"A\",\"-\",Daten!F$7))","v":""},{"$f":"IF(A107=\"\",\"\",IF(AB107=\"A\",\"-\",IF(AND(Daten!F$8=0,O107=\"Putzbord\"),5-Q107,0)))","v":""},{"$f":"IF(A107=\"\",\"\",IF(AB107=\"A\",\"-\",IF(AND(Daten!F$8=0,S107=\"Putzbord\"),5-U107,0)))","v":""},{"$f":"IF(A107=\"\",\"\",IF(AB107=\"A\",\"-\",Daten!F$10))","v":""},{"$f":"IFERROR(IF(A107=\"\",\"\",VLOOKUP(N107,Daten!N$1:O$7,2,FALSE)),\"\")","v":""}]
[null,null,null,{"$f":"IF(A108=\"\",\"\",IF(Daten!B$3=TRUE,Daten!B$7,\"\"))","v":""},{"$f":"IFERROR(IF(C108=\"\",\"\",C108+(2*D108)+IF(O108=Daten!M$13,6,0)+IF(S108=Daten!M$13,6,0)+IF(Q108=\"-\",0,Q108)+IF(U108=\"-\",0,U108)),\"\")","v":""},{"$f":"IF(OR(A108=\"\",AND(F$1=0,Daten!F$3=FALSE)),\"\",Daten!B$6)","v":""},{"$f":"IF(A108=\"\",\"\",IF(Daten!B$5=\"??\",\"\",Daten!B$5))","v":""},{"$f":"IF(A108=\"\",\"\",IF(Daten!B$3=FALSE,\"\",Daten!B$4))","v":""},{"$f":"IFERROR(IF(A108=\"\",\"\",G108+H108+IF(AND(G108>0,H108>0),5,0))-IF(Daten!H$21=TRUE,H108,0),\"\")","v":""},{"$f":"IFERROR(IF(A108=\"\",\"\",I108+IF(Daten!H$21=TRUE,H108,0)+IF(F108=\"\",0,F108)-IF(Daten!F$3=TRUE,Daten!F$10,0)),\"\")","v":""},{"$f":"IF(A108=\"\",\"\",Daten!D$14)","v":""},{"$f":"IF(A108=\"\",\"\",Daten!D$12)","v":""},{"$f":"IF(A108=\"\",\"\",Daten!D$13)","v":""},{"$f":"IF(A108=\"\",\"\",Daten!M$2)","v":""},{"$f":"IF(A108=\"\",\"\",IF(Daten!D$6=Daten!N$11,Daten!M$11,IF(Daten!D$6=Daten!N$13,Daten!M$13,IF(AND(Daten!$D$6=Daten!$M$10,Daten!$D$8=TRUE),Daten!$M$14,Daten!D$6))))","v":""},{"$f":"IF($A108=\"\",\"\",IF(OR(O108=\"Putzbord\",O108=\"Flexila PU\"),Daten!$D$15,IF(OR(O108=\"Stehbord\",O108=\"Stehbord HB\",O108=\"Flexila STB\",O108=\"Jalousiebord\"),Daten!$D$19,\"-\")))","v":""},{"$f":"IF($A108=\"\",\"\",IF(O108=\"Putzbord\",Daten!$D$16,IF(O108=\"Flexila PU\",_xlfn.NUMBERVALUE(MID(Daten!$D$17,1,2)),\"-\")))","v":""},{"$f":"IF($A108=\"\",\"\",IF(OR(O108=\"Putzbord\",O108=\"Flexila PU\"),Daten!$D$18,IF(OR(O108=\"Stehbord\",O108=\"Stehbord HB\",O108=\"Flexila STB\",O108=\"Jalousiebord\"),Daten!$D$21,\"-\")))","v":""},{"$f":"IF(A108=\"\",\"\",IF(Daten!D$6=Daten!N$11,Daten!M$11,IF(Daten!D$6=Daten!N$13,Daten!M$13,IF(AND(Daten!$D$6=Daten!$M$10,Daten!$D$8=TRUE),Daten!$M$14,Daten!D$6))))","v":""},{"$f":"IF($A108=\"\",\"\",IF(OR(S108=\"Putzbord\",S108=\"Flexila PU\"),Daten!$D$15,IF(OR(S108=\"Stehbord\",S108=\"Stehbord HB\",S108=\"Flexila STB\",S108=\"Jalousiebord\"),Daten!$D$19,\"-\")))","v":""},{"$f":"IF($A108=\"\",\"\",IF(S108=\"Putzbord\",Daten!$D$16,IF(S108=\"Flexila PU\",_xlfn.NUMBERVALUE(MID(Daten!$D$17,1,2)),\"-\")))","v":""},{"$f":"IF($A108=\"\",\"\",IF(OR(S108=\"Putzbord\",S108=\"Flexila PU\"),Daten!$D$18,IF(OR(S108=\"Stehbord\",S108=\"Stehbord HB\",S108=\"Flexila STB\",S108=\"Jalousiebord\"),Daten!$D$21,\"-\")))","v":""},{"$f":"IF(A108=\"\",\"\",IF(AND(Daten!D$6=\"Jalousiebord\",OR(O108=\"Stehbord\",S108=\"Stehbord\")),\"Jalousienklinkung\",\"\"))","v":""},{"$f":"IF(W108=\"\",\"\",Daten!D$20)","v":""},null,null,{"$f":"IF(A108=\"\",\"\",IF(Daten!F$1=\"A\",\"Ohne\",IF(OR(N108=\"Gerstenkorn roh\",N108=\"Riffelblech roh\"),\"XPS\",Daten!F$2)))","v":""},{"$f":"IF(A108=\"\",\"\",IF(AA108=\"Ohne\",\"A\",IF(AA108=\"XPS\",IF(Daten!F$1=\"D\",\"B\",Daten!F$1),Daten!F$1)))","v":""},{"$f":"IF(A108=\"\",\"\",IF(AB108=\"A\",\"-\",Daten!F$7))","v":""},{"$f":"IF(A108=\"\",\"\",IF(AB108=\"A\",\"-\",IF(AND(Daten!F$8=0,O108=\"Putzbord\"),5-Q108,0)))","v":""},{"$f":"IF(A108=\"\",\"\",IF(AB108=\"A\",\"-\",IF(AND(Daten!F$8=0,S108=\"Putzbord\"),5-U108,0)))","v":""},{"$f":"IF(A108=\"\",\"\",IF(AB108=\"A\",\"-\",Daten!F$10))","v":""},{"$f":"IFERROR(IF(A108=\"\",\"\",VLOOKUP(N108,Daten!N$1:O$7,2,FALSE)),\"\")","v":""}]
[null,null,null,{"$f":"IF(A109=\"\",\"\",IF(Daten!B$3=TRUE,Daten!B$7,\"\"))","v":""},{"$f":"IFERROR(IF(C109=\"\",\"\",C109+(2*D109)+IF(O109=Daten!M$13,6,0)+IF(S109=Daten!M$13,6,0)+IF(Q109=\"-\",0,Q109)+IF(U109=\"-\",0,U109)),\"\")","v":""},{"$f":"IF(OR(A109=\"\",AND(F$1=0,Daten!F$3=FALSE)),\"\",Daten!B$6)","v":""},{"$f":"IF(A109=\"\",\"\",IF(Daten!B$5=\"??\",\"\",Daten!B$5))","v":""},{"$f":"IF(A109=\"\",\"\",IF(Daten!B$3=FALSE,\"\",Daten!B$4))","v":""},{"$f":"IFERROR(IF(A109=\"\",\"\",G109+H109+IF(AND(G109>0,H109>0),5,0))-IF(Daten!H$21=TRUE,H109,0),\"\")","v":""},{"$f":"IFERROR(IF(A109=\"\",\"\",I109+IF(Daten!H$21=TRUE,H109,0)+IF(F109=\"\",0,F109)-IF(Daten!F$3=TRUE,Daten!F$10,0)),\"\")","v":""},{"$f":"IF(A109=\"\",\"\",Daten!D$14)","v":""},{"$f":"IF(A109=\"\",\"\",Daten!D$12)","v":""},{"$f":"IF(A109=\"\",\"\",Daten!D$13)","v":""},{"$f":"IF(A109=\"\",\"\",Daten!M$2)","v":""},{"$f":"IF(A109=\"\",\"\",IF(Daten!D$6=Daten!N$11,Daten!M$11,IF(Daten!D$6=Daten!N$13,Daten!M$13,IF(AND(Daten!$D$6=Daten!$M$10,Daten!$D$8=TRUE),Daten!$M$14,Daten!D$6))))","v":""},{"$f":"IF($A109=\"\",\"\",IF(OR(O109=\"Putzbord\",O109=\"Flexila PU\"),Daten!$D$15,IF(OR(O109=\"Stehbord\",O109=\"Stehbord HB\",O109=\"Flexila STB\",O109=\"Jalousiebord\"),Daten!$D$19,\"-\")))","v":""},{"$f":"IF($A109=\"\",\"\",IF(O109=\"Putzbord\",Daten!$D$16,IF(O109=\"Flexila PU\",_xlfn.NUMBERVALUE(MID(Daten!$D$17,1,2)),\"-\")))","v":""},{"$f":"IF($A109=\"\",\"\",IF(OR(O109=\"Putzbord\",O109=\"Flexila PU\"),Daten!$D$18,IF(OR(O109=\"Stehbord\",O109=\"Stehbord HB\",O109=\"Flexila STB\",O109=\"Jalousiebord\"),Daten!$D$21,\"-\")))","v":""},{"$f":"IF(A109=\"\",\"\",IF(Daten!D$6=Daten!N$11,Daten!M$11,IF(Daten!D$6=Daten!N$13,Daten!M$13,IF(AND(Daten!$D$6=Daten!$M$10,Daten!$D$8=TRUE),Daten!$M$14,Daten!D$6))))","v":""},{"$f":"IF($A109=\"\",\"\",IF(OR(S109=\"Putzbord\",S109=\"Flexila PU\"),Daten!$D$15,IF(OR(S109=\"Stehbord\",S109=\"Stehbord HB\",S109=\"Flexila STB\",S109=\"Jalousiebord\"),Daten!$D$19,\"-\")))","v":""},{"$f":"IF($A109=\"\",\"\",IF(S109=\"Putzbord\",Daten!$D$16,IF(S109=\"Flexila PU\",_xlfn.NUMBERVALUE(MID(Daten!$D$17,1,2)),\"-\")))","v":""},{"$f":"IF($A109=\"\",\"\",IF(OR(S109=\"Putzbord\",S109=\"Flexila PU\"),Daten!$D$18,IF(OR(S109=\"Stehbord\",S109=\"Stehbord HB\",S109=\"Flexila STB\",S109=\"Jalousiebord\"),Daten!$D$21,\"-\")))","v":""},{"$f":"IF(A109=\"\",\"\",IF(AND(Daten!D$6=\"Jalousiebord\",OR(O109=\"Stehbord\",S109=\"Stehbord\")),\"Jalousienklinkung\",\"\"))","v":""},{"$f":"IF(W109=\"\",\"\",Daten!D$20)","v":""},null,null,{"$f":"IF(A109=\"\",\"\",IF(Daten!F$1=\"A\",\"Ohne\",IF(OR(N109=\"Gerstenkorn roh\",N109=\"Riffelblech roh\"),\"XPS\",Daten!F$2)))","v":""},{"$f":"IF(A109=\"\",\"\",IF(AA109=\"Ohne\",\"A\",IF(AA109=\"XPS\",IF(Daten!F$1=\"D\",\"B\",Daten!F$1),Daten!F$1)))","v":""},{"$f":"IF(A109=\"\",\"\",IF(AB109=\"A\",\"-\",Daten!F$7))","v":""},{"$f":"IF(A109=\"\",\"\",IF(AB109=\"A\",\"-\",IF(AND(Daten!F$8=0,O109=\"Putzbord\"),5-Q109,0)))","v":""},{"$f":"IF(A109=\"\",\"\",IF(AB109=\"A\",\"-\",IF(AND(Daten!F$8=0,S109=\"Putzbord\"),5-U109,0)))","v":""},{"$f":"IF(A109=\"\",\"\",IF(AB109=\"A\",\"-\",Daten!F$10))","v":""},{"$f":"IFERROR(IF(A109=\"\",\"\",VLOOKUP(N109,Daten!N$1:O$7,2,FALSE)),\"\")","v":""}]
[null,null,null,{"$f":"IF(A110=\"\",\"\",IF(Daten!B$3=TRUE,Daten!B$7,\"\"))","v":""},{"$f":"IFERROR(IF(C110=\"\",\"\",C110+(2*D110)+IF(O110=Daten!M$13,6,0)+IF(S110=Daten!M$13,6,0)+IF(Q110=\"-\",0,Q110)+IF(U110=\"-\",0,U110)),\"\")","v":""},{"$f":"IF(OR(A110=\"\",AND(F$1=0,Daten!F$3=FALSE)),\"\",Daten!B$6)","v":""},{"$f":"IF(A110=\"\",\"\",IF(Daten!B$5=\"??\",\"\",Daten!B$5))","v":""},{"$f":"IF(A110=\"\",\"\",IF(Daten!B$3=FALSE,\"\",Daten!B$4))","v":""},{"$f":"IFERROR(IF(A110=\"\",\"\",G110+H110+IF(AND(G110>0,H110>0),5,0))-IF(Daten!H$21=TRUE,H110,0),\"\")","v":""},{"$f":"IFERROR(IF(A110=\"\",\"\",I110+IF(Daten!H$21=TRUE,H110,0)+IF(F110=\"\",0,F110)-IF(Daten!F$3=TRUE,Daten!F$10,0)),\"\")","v":""},{"$f":"IF(A110=\"\",\"\",Daten!D$14)","v":""},{"$f":"IF(A110=\"\",\"\",Daten!D$12)","v":""},{"$f":"IF(A110=\"\",\"\",Daten!D$13)","v":""},{"$f":"IF(A110=\"\",\"\",Daten!M$2)","v":""},{"$f":"IF(A110=\"\",\"\",IF(Daten!D$6=Daten!N$11,Daten!M$11,IF(Daten!D$6=Daten!N$13,Daten!M$13,IF(AND(Daten!$D$6=Daten!$M$10,Daten!$D$8=TRUE),Daten!$M$14,Daten!D$6))))","v":""},{"$f":"IF($A110=\"\",\"\",IF(OR(O110=\"Putzbord\",O110=\"Flexila PU\"),Daten!$D$15,IF(OR(O110=\"Stehbord\",O110=\"Stehbord HB\",O110=\"Flexila STB\",O110=\"Jalousiebord\"),Daten!$D$19,\"-\")))","v":""},{"$f":"IF($A110=\"\",\"\",IF(O110=\"Putzbord\",Daten!$D$16,IF(O110=\"Flexila PU\",_xlfn.NUMBERVALUE(MID(Daten!$D$17,1,2)),\"-\")))","v":""},{"$f":"IF($A110=\"\",\"\",IF(OR(O110=\"Putzbord\",O110=\"Flexila PU\"),Daten!$D$18,IF(OR(O110=\"Stehbord\",O110=\"Stehbord HB\",O110=\"Flexila STB\",O110=\"Jalousiebord\"),Daten!$D$21,\"-\")))","v":""},{"$f":"IF(A110=\"\",\"\",IF(Daten!D$6=Daten!N$11,Daten!M$11,IF(Daten!D$6=Daten!N$13,Daten!M$13,IF(AND(Daten!$D$6=Daten!$M$10,Daten!$D$8=TRUE),Daten!$M$14,Daten!D$6))))","v":""},{"$f":"IF($A110=\"\",\"\",IF(OR(S110=\"Putzbord\",S110=\"Flexila PU\"),Daten!$D$15,IF(OR(S110=\"Stehbord\",S110=\"Stehbord HB\",S110=\"Flexila STB\",S110=\"Jalousiebord\"),Daten!$D$19,\"-\")))","v":""},{"$f":"IF($A110=\"\",\"\",IF(S110=\"Putzbord\",Daten!$D$16,IF(S110=\"Flexila PU\",_xlfn.NUMBERVALUE(MID(Daten!$D$17,1,2)),\"-\")))","v":""},{"$f":"IF($A110=\"\",\"\",IF(OR(S110=\"Putzbord\",S110=\"Flexila PU\"),Daten!$D$18,IF(OR(S110=\"Stehbord\",S110=\"Stehbord HB\",S110=\"Flexila STB\",S110=\"Jalousiebord\"),Daten!$D$21,\"-\")))","v":""},{"$f":"IF(A110=\"\",\"\",IF(AND(Daten!D$6=\"Jalousiebord\",OR(O110=\"Stehbord\",S110=\"Stehbord\")),\"Jalousienklinkung\",\"\"))","v":""},{"$f":"IF(W110=\"\",\"\",Daten!D$20)","v":""},null,null,{"$f":"IF(A110=\"\",\"\",IF(Daten!F$1=\"A\",\"Ohne\",IF(OR(N110=\"Gerstenkorn roh\",N110=\"Riffelblech roh\"),\"XPS\",Daten!F$2)))","v":""},{"$f":"IF(A110=\"\",\"\",IF(AA110=\"Ohne\",\"A\",IF(AA110=\"XPS\",IF(Daten!F$1=\"D\",\"B\",Daten!F$1),Daten!F$1)))","v":""},{"$f":"IF(A110=\"\",\"\",IF(AB110=\"A\",\"-\",Daten!F$7))","v":""},{"$f":"IF(A110=\"\",\"\",IF(AB110=\"A\",\"-\",IF(AND(Daten!F$8=0,O110=\"Putzbord\"),5-Q110,0)))","v":""},{"$f":"IF(A110=\"\",\"\",IF(AB110=\"A\",\"-\",IF(AND(Daten!F$8=0,S110=\"Putzbord\"),5-U110,0)))","v":""},{"$f":"IF(A110=\"\",\"\",IF(AB110=\"A\",\"-\",Daten!F$10))","v":""},{"$f":"IFERROR(IF(A110=\"\",\"\",VLOOKUP(N110,Daten!N$1:O$7,2,FALSE)),\"\")","v":""}]
[null,null,null,{"$f":"IF(A111=\"\",\"\",IF(Daten!B$3=TRUE,Daten!B$7,\"\"))","v":""},{"$f":"IFERROR(IF(C111=\"\",\"\",C111+(2*D111)+IF(O111=Daten!M$13,6,0)+IF(S111=Daten!M$13,6,0)+IF(Q111=\"-\",0,Q111)+IF(U111=\"-\",0,U111)),\"\")","v":""},{"$f":"IF(OR(A111=\"\",AND(F$1=0,Daten!F$3=FALSE)),\"\",Daten!B$6)","v":""},{"$f":"IF(A111=\"\",\"\",IF(Daten!B$5=\"??\",\"\",Daten!B$5))","v":""},{"$f":"IF(A111=\"\",\"\",IF(Daten!B$3=FALSE,\"\",Daten!B$4))","v":""},{"$f":"IFERROR(IF(A111=\"\",\"\",G111+H111+IF(AND(G111>0,H111>0),5,0))-IF(Daten!H$21=TRUE,H111,0),\"\")","v":""},{"$f":"IFERROR(IF(A111=\"\",\"\",I111+IF(Daten!H$21=TRUE,H111,0)+IF(F111=\"\",0,F111)-IF(Daten!F$3=TRUE,Daten!F$10,0)),\"\")","v":""},{"$f":"IF(A111=\"\",\"\",Daten!D$14)","v":""},{"$f":"IF(A111=\"\",\"\",Daten!D$12)","v":""},{"$f":"IF(A111=\"\",\"\",Daten!D$13)","v":""},{"$f":"IF(A111=\"\",\"\",Daten!M$2)","v":""},{"$f":"IF(A111=\"\",\"\",IF(Daten!D$6=Daten!N$11,Daten!M$11,IF(Daten!D$6=Daten!N$13,Daten!M$13,IF(AND(Daten!$D$6=Daten!$M$10,Daten!$D$8=TRUE),Daten!$M$14,Daten!D$6))))","v":""},{"$f":"IF($A111=\"\",\"\",IF(OR(O111=\"Putzbord\",O111=\"Flexila PU\"),Daten!$D$15,IF(OR(O111=\"Stehbord\",O111=\"Stehbord HB\",O111=\"Flexila STB\",O111=\"Jalousiebord\"),Daten!$D$19,\"-\")))","v":""},{"$f":"IF($A111=\"\",\"\",IF(O111=\"Putzbord\",Daten!$D$16,IF(O111=\"Flexila PU\",_xlfn.NUMBERVALUE(MID(Daten!$D$17,1,2)),\"-\")))","v":""},{"$f":"IF($A111=\"\",\"\",IF(OR(O111=\"Putzbord\",O111=\"Flexila PU\"),Daten!$D$18,IF(OR(O111=\"Stehbord\",O111=\"Stehbord HB\",O111=\"Flexila STB\",O111=\"Jalousiebord\"),Daten!$D$21,\"-\")))","v":""},{"$f":"IF(A111=\"\",\"\",IF(Daten!D$6=Daten!N$11,Daten!M$11,IF(Daten!D$6=Daten!N$13,Daten!M$13,IF(AND(Daten!$D$6=Daten!$M$10,Daten!$D$8=TRUE),Daten!$M$14,Daten!D$6))))","v":""},{"$f":"IF($A111=\"\",\"\",IF(OR(S111=\"Putzbord\",S111=\"Flexila PU\"),Daten!$D$15,IF(OR(S111=\"Stehbord\",S111=\"Stehbord HB\",S111=\"Flexila STB\",S111=\"Jalousiebord\"),Daten!$D$19,\"-\")))","v":""},{"$f":"IF($A111=\"\",\"\",IF(S111=\"Putzbord\",Daten!$D$16,IF(S111=\"Flexila PU\",_xlfn.NUMBERVALUE(MID(Daten!$D$17,1,2)),\"-\")))","v":""},{"$f":"IF($A111=\"\",\"\",IF(OR(S111=\"Putzbord\",S111=\"Flexila PU\"),Daten!$D$18,IF(OR(S111=\"Stehbord\",S111=\"Stehbord HB\",S111=\"Flexila STB\",S111=\"Jalousiebord\"),Daten!$D$21,\"-\")))","v":""},{"$f":"IF(A111=\"\",\"\",IF(AND(Daten!D$6=\"Jalousiebord\",OR(O111=\"Stehbord\",S111=\"Stehbord\")),\"Jalousienklinkung\",\"\"))","v":""},{"$f":"IF(W111=\"\",\"\",Daten!D$20)","v":""},null,null,{"$f":"IF(A111=\"\",\"\",IF(Daten!F$1=\"A\",\"Ohne\",IF(OR(N111=\"Gerstenkorn roh\",N111=\"Riffelblech roh\"),\"XPS\",Daten!F$2)))","v":""},{"$f":"IF(A111=\"\",\"\",IF(AA111=\"Ohne\",\"A\",IF(AA111=\"XPS\",IF(Daten!F$1=\"D\",\"B\",Daten!F$1),Daten!F$1)))","v":""},{"$f":"IF(A111=\"\",\"\",IF(AB111=\"A\",\"-\",Daten!F$7))","v":""},{"$f":"IF(A111=\"\",\"\",IF(AB111=\"A\",\"-\",IF(AND(Daten!F$8=0,O111=\"Putzbord\"),5-Q111,0)))","v":""},{"$f":"IF(A111=\"\",\"\",IF(AB111=\"A\",\"-\",IF(AND(Daten!F$8=0,S111=\"Putzbord\"),5-U111,0)))","v":""},{"$f":"IF(A111=\"\",\"\",IF(AB111=\"A\",\"-\",Daten!F$10))","v":""},{"$f":"IFERROR(IF(A111=\"\",\"\",VLOOKUP(N111,Daten!N$1:O$7,2,FALSE)),\"\")","v":""}]
[null,null,null,{"$f":"IF(A112=\"\",\"\",IF(Daten!B$3=TRUE,Daten!B$7,\"\"))","v":""},{"$f":"IFERROR(IF(C112=\"\",\"\",C112+(2*D112)+IF(O112=Daten!M$13,6,0)+IF(S112=Daten!M$13,6,0)+IF(Q112=\"-\",0,Q112)+IF(U112=\"-\",0,U112)),\"\")","v":""},{"$f":"IF(OR(A112=\"\",AND(F$1=0,Daten!F$3=FALSE)),\"\",Daten!B$6)","v":""},{"$f":"IF(A112=\"\",\"\",IF(Daten!B$5=\"??\",\"\",Daten!B$5))","v":""},{"$f":"IF(A112=\"\",\"\",IF(Daten!B$3=FALSE,\"\",Daten!B$4))","v":""},{"$f":"IFERROR(IF(A112=\"\",\"\",G112+H112+IF(AND(G112>0,H112>0),5,0))-IF(Daten!H$21=TRUE,H112,0),\"\")","v":""},{"$f":"IFERROR(IF(A112=\"\",\"\",I112+IF(Daten!H$21=TRUE,H112,0)+IF(F112=\"\",0,F112)-IF(Daten!F$3=TRUE,Daten!F$10,0)),\"\")","v":""},{"$f":"IF(A112=\"\",\"\",Daten!D$14)","v":""},{"$f":"IF(A112=\"\",\"\",Daten!D$12)","v":""},{"$f":"IF(A112=\"\",\"\",Daten!D$13)","v":""},{"$f":"IF(A112=\"\",\"\",Daten!M$2)","v":""},{"$f":"IF(A112=\"\",\"\",IF(Daten!D$6=Daten!N$11,Daten!M$11,IF(Daten!D$6=Daten!N$13,Daten!M$13,IF(AND(Daten!$D$6=Daten!$M$10,Daten!$D$8=TRUE),Daten!$M$14,Daten!D$6))))","v":""},{"$f":"IF($A112=\"\",\"\",IF(OR(O112=\"Putzbord\",O112=\"Flexila PU\"),Daten!$D$15,IF(OR(O112=\"Stehbord\",O112=\"Stehbord HB\",O112=\"Flexila STB\",O112=\"Jalousiebord\"),Daten!$D$19,\"-\")))","v":""},{"$f":"IF($A112=\"\",\"\",IF(O112=\"Putzbord\",Daten!$D$16,IF(O112=\"Flexila PU\",_xlfn.NUMBERVALUE(MID(Daten!$D$17,1,2)),\"-\")))","v":""},{"$f":"IF($A112=\"\",\"\",IF(OR(O112=\"Putzbord\",O112=\"Flexila PU\"),Daten!$D$18,IF(OR(O112=\"Stehbord\",O112=\"Stehbord HB\",O112=\"Flexila STB\",O112=\"Jalousiebord\"),Daten!$D$21,\"-\")))","v":""},{"$f":"IF(A112=\"\",\"\",IF(Daten!D$6=Daten!N$11,Daten!M$11,IF(Daten!D$6=Daten!N$13,Daten!M$13,IF(AND(Daten!$D$6=Daten!$M$10,Daten!$D$8=TRUE),Daten!$M$14,Daten!D$6))))","v":""},{"$f":"IF($A112=\"\",\"\",IF(OR(S112=\"Putzbord\",S112=\"Flexila PU\"),Daten!$D$15,IF(OR(S112=\"Stehbord\",S112=\"Stehbord HB\",S112=\"Flexila STB\",S112=\"Jalousiebord\"),Daten!$D$19,\"-\")))","v":""},{"$f":"IF($A112=\"\",\"\",IF(S112=\"Putzbord\",Daten!$D$16,IF(S112=\"Flexila PU\",_xlfn.NUMBERVALUE(MID(Daten!$D$17,1,2)),\"-\")))","v":""},{"$f":"IF($A112=\"\",\"\",IF(OR(S112=\"Putzbord\",S112=\"Flexila PU\"),Daten!$D$18,IF(OR(S112=\"Stehbord\",S112=\"Stehbord HB\",S112=\"Flexila STB\",S112=\"Jalousiebord\"),Daten!$D$21,\"-\")))","v":""},{"$f":"IF(A112=\"\",\"\",IF(AND(Daten!D$6=\"Jalousiebord\",OR(O112=\"Stehbord\",S112=\"Stehbord\")),\"Jalousienklinkung\",\"\"))","v":""},{"$f":"IF(W112=\"\",\"\",Daten!D$20)","v":""},null,null,{"$f":"IF(A112=\"\",\"\",IF(Daten!F$1=\"A\",\"Ohne\",IF(OR(N112=\"Gerstenkorn roh\",N112=\"Riffelblech roh\"),\"XPS\",Daten!F$2)))","v":""},{"$f":"IF(A112=\"\",\"\",IF(AA112=\"Ohne\",\"A\",IF(AA112=\"XPS\",IF(Daten!F$1=\"D\",\"B\",Daten!F$1),Daten!F$1)))","v":""},{"$f":"IF(A112=\"\",\"\",IF(AB112=\"A\",\"-\",Daten!F$7))","v":""},{"$f":"IF(A112=\"\",\"\",IF(AB112=\"A\",\"-\",IF(AND(Daten!F$8=0,O112=\"Putzbord\"),5-Q112,0)))","v":""},{"$f":"IF(A112=\"\",\"\",IF(AB112=\"A\",\"-\",IF(AND(Daten!F$8=0,S112=\"Putzbord\"),5-U112,0)))","v":""},{"$f":"IF(A112=\"\",\"\",IF(AB112=\"A\",\"-\",Daten!F$10))","v":""},{"$f":"IFERROR(IF(A112=\"\",\"\",VLOOKUP(N112,Daten!N$1:O$7,2,FALSE)),\"\")","v":""}]
[null,null,null,{"$f":"IF(A113=\"\",\"\",IF(Daten!B$3=TRUE,Daten!B$7,\"\"))","v":""},{"$f":"IFERROR(IF(C113=\"\",\"\",C113+(2*D113)+IF(O113=Daten!M$13,6,0)+IF(S113=Daten!M$13,6,0)+IF(Q113=\"-\",0,Q113)+IF(U113=\"-\",0,U113)),\"\")","v":""},{"$f":"IF(OR(A113=\"\",AND(F$1=0,Daten!F$3=FALSE)),\"\",Daten!B$6)","v":""},{"$f":"IF(A113=\"\",\"\",IF(Daten!B$5=\"??\",\"\",Daten!B$5))","v":""},{"$f":"IF(A113=\"\",\"\",IF(Daten!B$3=FALSE,\"\",Daten!B$4))","v":""},{"$f":"IFERROR(IF(A113=\"\",\"\",G113+H113+IF(AND(G113>0,H113>0),5,0))-IF(Daten!H$21=TRUE,H113,0),\"\")","v":""},{"$f":"IFERROR(IF(A113=\"\",\"\",I113+IF(Daten!H$21=TRUE,H113,0)+IF(F113=\"\",0,F113)-IF(Daten!F$3=TRUE,Daten!F$10,0)),\"\")","v":""},{"$f":"IF(A113=\"\",\"\",Daten!D$14)","v":""},{"$f":"IF(A113=\"\",\"\",Daten!D$12)","v":""},{"$f":"IF(A113=\"\",\"\",Daten!D$13)","v":""},{"$f":"IF(A113=\"\",\"\",Daten!M$2)","v":""},{"$f":"IF(A113=\"\",\"\",IF(Daten!D$6=Daten!N$11,Daten!M$11,IF(Daten!D$6=Daten!N$13,Daten!M$13,IF(AND(Daten!$D$6=Daten!$M$10,Daten!$D$8=TRUE),Daten!$M$14,Daten!D$6))))","v":""},{"$f":"IF($A113=\"\",\"\",IF(OR(O113=\"Putzbord\",O113=\"Flexila PU\"),Daten!$D$15,IF(OR(O113=\"Stehbord\",O113=\"Stehbord HB\",O113=\"Flexila STB\",O113=\"Jalousiebord\"),Daten!$D$19,\"-\")))","v":""},{"$f":"IF($A113=\"\",\"\",IF(O113=\"Putzbord\",Daten!$D$16,IF(O113=\"Flexila PU\",_xlfn.NUMBERVALUE(MID(Daten!$D$17,1,2)),\"-\")))","v":""},{"$f":"IF($A113=\"\",\"\",IF(OR(O113=\"Putzbord\",O113=\"Flexila PU\"),Daten!$D$18,IF(OR(O113=\"Stehbord\",O113=\"Stehbord HB\",O113=\"Flexila STB\",O113=\"Jalousiebord\"),Daten!$D$21,\"-\")))","v":""},{"$f":"IF(A113=\"\",\"\",IF(Daten!D$6=Daten!N$11,Daten!M$11,IF(Daten!D$6=Daten!N$13,Daten!M$13,IF(AND(Daten!$D$6=Daten!$M$10,Daten!$D$8=TRUE),Daten!$M$14,Daten!D$6))))","v":""},{"$f":"IF($A113=\"\",\"\",IF(OR(S113=\"Putzbord\",S113=\"Flexila PU\"),Daten!$D$15,IF(OR(S113=\"Stehbord\",S113=\"Stehbord HB\",S113=\"Flexila STB\",S113=\"Jalousiebord\"),Daten!$D$19,\"-\")))","v":""},{"$f":"IF($A113=\"\",\"\",IF(S113=\"Putzbord\",Daten!$D$16,IF(S113=\"Flexila PU\",_xlfn.NUMBERVALUE(MID(Daten!$D$17,1,2)),\"-\")))","v":""},{"$f":"IF($A113=\"\",\"\",IF(OR(S113=\"Putzbord\",S113=\"Flexila PU\"),Daten!$D$18,IF(OR(S113=\"Stehbord\",S113=\"Stehbord HB\",S113=\"Flexila STB\",S113=\"Jalousiebord\"),Daten!$D$21,\"-\")))","v":""},{"$f":"IF(A113=\"\",\"\",IF(AND(Daten!D$6=\"Jalousiebord\",OR(O113=\"Stehbord\",S113=\"Stehbord\")),\"Jalousienklinkung\",\"\"))","v":""},{"$f":"IF(W113=\"\",\"\",Daten!D$20)","v":""},null,null,{"$f":"IF(A113=\"\",\"\",IF(Daten!F$1=\"A\",\"Ohne\",IF(OR(N113=\"Gerstenkorn roh\",N113=\"Riffelblech roh\"),\"XPS\",Daten!F$2)))","v":""},{"$f":"IF(A113=\"\",\"\",IF(AA113=\"Ohne\",\"A\",IF(AA113=\"XPS\",IF(Daten!F$1=\"D\",\"B\",Daten!F$1),Daten!F$1)))","v":""},{"$f":"IF(A113=\"\",\"\",IF(AB113=\"A\",\"-\",Daten!F$7))","v":""},{"$f":"IF(A113=\"\",\"\",IF(AB113=\"A\",\"-\",IF(AND(Daten!F$8=0,O113=\"Putzbord\"),5-Q113,0)))","v":""},{"$f":"IF(A113=\"\",\"\",IF(AB113=\"A\",\"-\",IF(AND(Daten!F$8=0,S113=\"Putzbord\"),5-U113,0)))","v":""},{"$f":"IF(A113=\"\",\"\",IF(AB113=\"A\",\"-\",Daten!F$10))","v":""},{"$f":"IFERROR(IF(A113=\"\",\"\",VLOOKUP(N113,Daten!N$1:O$7,2,FALSE)),\"\")","v":""}]
[null,null,null,{"$f":"IF(A114=\"\",\"\",IF(Daten!B$3=TRUE,Daten!B$7,\"\"))","v":""},{"$f":"IFERROR(IF(C114=\"\",\"\",C114+(2*D114)+IF(O114=Daten!M$13,6,0)+IF(S114=Daten!M$13,6,0)+IF(Q114=\"-\",0,Q114)+IF(U114=\"-\",0,U114)),\"\")","v":""},{"$f":"IF(OR(A114=\"\",AND(F$1=0,Daten!F$3=FALSE)),\"\",Daten!B$6)","v":""},{"$f":"IF(A114=\"\",\"\",IF(Daten!B$5=\"??\",\"\",Daten!B$5))","v":""},{"$f":"IF(A114=\"\",\"\",IF(Daten!B$3=FALSE,\"\",Daten!B$4))","v":""},{"$f":"IFERROR(IF(A114=\"\",\"\",G114+H114+IF(AND(G114>0,H114>0),5,0))-IF(Daten!H$21=TRUE,H114,0),\"\")","v":""},{"$f":"IFERROR(IF(A114=\"\",\"\",I114+IF(Daten!H$21=TRUE,H114,0)+IF(F114=\"\",0,F114)-IF(Daten!F$3=TRUE,Daten!F$10,0)),\"\")","v":""},{"$f":"IF(A114=\"\",\"\",Daten!D$14)","v":""},{"$f":"IF(A114=\"\",\"\",Daten!D$12)","v":""},{"$f":"IF(A114=\"\",\"\",Daten!D$13)","v":""},{"$f":"IF(A114=\"\",\"\",Daten!M$2)","v":""},{"$f":"IF(A114=\"\",\"\",IF(Daten!D$6=Daten!N$11,Daten!M$11,IF(Daten!D$6=Daten!N$13,Daten!M$13,IF(AND(Daten!$D$6=Daten!$M$10,Daten!$D$8=TRUE),Daten!$M$14,Daten!D$6))))","v":""},{"$f":"IF($A114=\"\",\"\",IF(OR(O114=\"Putzbord\",O114=\"Flexila PU\"),Daten!$D$15,IF(OR(O114=\"Stehbord\",O114=\"Stehbord HB\",O114=\"Flexila STB\",O114=\"Jalousiebord\"),Daten!$D$19,\"-\")))","v":""},{"$f":"IF($A114=\"\",\"\",IF(O114=\"Putzbord\",Daten!$D$16,IF(O114=\"Flexila PU\",_xlfn.NUMBERVALUE(MID(Daten!$D$17,1,2)),\"-\")))","v":""},{"$f":"IF($A114=\"\",\"\",IF(OR(O114=\"Putzbord\",O114=\"Flexila PU\"),Daten!$D$18,IF(OR(O114=\"Stehbord\",O114=\"Stehbord HB\",O114=\"Flexila STB\",O114=\"Jalousiebord\"),Daten!$D$21,\"-\")))","v":""},{"$f":"IF(A114=\"\",\"\",IF(Daten!D$6=Daten!N$11,Daten!M$11,IF(Daten!D$6=Daten!N$13,Daten!M$13,IF(AND(Daten!$D$6=Daten!$M$10,Daten!$D$8=TRUE),Daten!$M$14,Daten!D$6))))","v":""},{"$f":"IF($A114=\"\",\"\",IF(OR(S114=\"Putzbord\",S114=\"Flexila PU\"),Daten!$D$15,IF(OR(S114=\"Stehbord\",S114=\"Stehbord HB\",S114=\"Flexila STB\",S114=\"Jalousiebord\"),Daten!$D$19,\"-\")))","v":""},{"$f":"IF($A114=\"\",\"\",IF(S114=\"Putzbord\",Daten!$D$16,IF(S114=\"Flexila PU\",_xlfn.NUMBERVALUE(MID(Daten!$D$17,1,2)),\"-\")))","v":""},{"$f":"IF($A114=\"\",\"\",IF(OR(S114=\"Putzbord\",S114=\"Flexila PU\"),Daten!$D$18,IF(OR(S114=\"Stehbord\",S114=\"Stehbord HB\",S114=\"Flexila STB\",S114=\"Jalousiebord\"),Daten!$D$21,\"-\")))","v":""},{"$f":"IF(A114=\"\",\"\",IF(AND(Daten!D$6=\"Jalousiebord\",OR(O114=\"Stehbord\",S114=\"Stehbord\")),\"Jalousienklinkung\",\"\"))","v":""},{"$f":"IF(W114=\"\",\"\",Daten!D$20)","v":""},null,null,{"$f":"IF(A114=\"\",\"\",IF(Daten!F$1=\"A\",\"Ohne\",IF(OR(N114=\"Gerstenkorn roh\",N114=\"Riffelblech roh\"),\"XPS\",Daten!F$2)))","v":""},{"$f":"IF(A114=\"\",\"\",IF(AA114=\"Ohne\",\"A\",IF(AA114=\"XPS\",IF(Daten!F$1=\"D\",\"B\",Daten!F$1),Daten!F$1)))","v":""},{"$f":"IF(A114=\"\",\"\",IF(AB114=\"A\",\"-\",Daten!F$7))","v":""},{"$f":"IF(A114=\"\",\"\",IF(AB114=\"A\",\"-\",IF(AND(Daten!F$8=0,O114=\"Putzbord\"),5-Q114,0)))","v":""},{"$f":"IF(A114=\"\",\"\",IF(AB114=\"A\",\"-\",IF(AND(Daten!F$8=0,S114=\"Putzbord\"),5-U114,0)))","v":""},{"$f":"IF(A114=\"\",\"\",IF(AB114=\"A\",\"-\",Daten!F$10))","v":""},{"$f":"IFERROR(IF(A114=\"\",\"\",VLOOKUP(N114,Daten!N$1:O$7,2,FALSE)),\"\")","v":""}]
[null,null,null,{"$f":"IF(A115=\"\",\"\",IF(Daten!B$3=TRUE,Daten!B$7,\"\"))","v":""},{"$f":"IFERROR(IF(C115=\"\",\"\",C115+(2*D115)+IF(O115=Daten!M$13,6,0)+IF(S115=Daten!M$13,6,0)+IF(Q115=\"-\",0,Q115)+IF(U115=\"-\",0,U115)),\"\")","v":""},{"$f":"IF(OR(A115=\"\",AND(F$1=0,Daten!F$3=FALSE)),\"\",Daten!B$6)","v":""},{"$f":"IF(A115=\"\",\"\",IF(Daten!B$5=\"??\",\"\",Daten!B$5))","v":""},{"$f":"IF(A115=\"\",\"\",IF(Daten!B$3=FALSE,\"\",Daten!B$4))","v":""},{"$f":"IFERROR(IF(A115=\"\",\"\",G115+H115+IF(AND(G115>0,H115>0),5,0))-IF(Daten!H$21=TRUE,H115,0),\"\")","v":""},{"$f":"IFERROR(IF(A115=\"\",\"\",I115+IF(Daten!H$21=TRUE,H115,0)+IF(F115=\"\",0,F115)-IF(Daten!F$3=TRUE,Daten!F$10,0)),\"\")","v":""},{"$f":"IF(A115=\"\",\"\",Daten!D$14)","v":""},{"$f":"IF(A115=\"\",\"\",Daten!D$12)","v":""},{"$f":"IF(A115=\"\",\"\",Daten!D$13)","v":""},{"$f":"IF(A115=\"\",\"\",Daten!M$2)","v":""},{"$f":"IF(A115=\"\",\"\",IF(Daten!D$6=Daten!N$11,Daten!M$11,IF(Daten!D$6=Daten!N$13,Daten!M$13,IF(AND(Daten!$D$6=Daten!$M$10,Daten!$D$8=TRUE),Daten!$M$14,Daten!D$6))))","v":""},{"$f":"IF($A115=\"\",\"\",IF(OR(O115=\"Putzbord\",O115=\"Flexila PU\"),Daten!$D$15,IF(OR(O115=\"Stehbord\",O115=\"Stehbord HB\",O115=\"Flexila STB\",O115=\"Jalousiebord\"),Daten!$D$19,\"-\")))","v":""},{"$f":"IF($A115=\"\",\"\",IF(O115=\"Putzbord\",Daten!$D$16,IF(O115=\"Flexila PU\",_xlfn.NUMBERVALUE(MID(Daten!$D$17,1,2)),\"-\")))","v":""},{"$f":"IF($A115=\"\",\"\",IF(OR(O115=\"Putzbord\",O115=\"Flexila PU\"),Daten!$D$18,IF(OR(O115=\"Stehbord\",O115=\"Stehbord HB\",O115=\"Flexila STB\",O115=\"Jalousiebord\"),Daten!$D$21,\"-\")))","v":""},{"$f":"IF(A115=\"\",\"\",IF(Daten!D$6=Daten!N$11,Daten!M$11,IF(Daten!D$6=Daten!N$13,Daten!M$13,IF(AND(Daten!$D$6=Daten!$M$10,Daten!$D$8=TRUE),Daten!$M$14,Daten!D$6))))","v":""},{"$f":"IF($A115=\"\",\"\",IF(OR(S115=\"Putzbord\",S115=\"Flexila PU\"),Daten!$D$15,IF(OR(S115=\"Stehbord\",S115=\"Stehbord HB\",S115=\"Flexila STB\",S115=\"Jalousiebord\"),Daten!$D$19,\"-\")))","v":""},{"$f":"IF($A115=\"\",\"\",IF(S115=\"Putzbord\",Daten!$D$16,IF(S115=\"Flexila PU\",_xlfn.NUMBERVALUE(MID(Daten!$D$17,1,2)),\"-\")))","v":""},{"$f":"IF($A115=\"\",\"\",IF(OR(S115=\"Putzbord\",S115=\"Flexila PU\"),Daten!$D$18,IF(OR(S115=\"Stehbord\",S115=\"Stehbord HB\",S115=\"Flexila STB\",S115=\"Jalousiebord\"),Daten!$D$21,\"-\")))","v":""},{"$f":"IF(A115=\"\",\"\",IF(AND(Daten!D$6=\"Jalousiebord\",OR(O115=\"Stehbord\",S115=\"Stehbord\")),\"Jalousienklinkung\",\"\"))","v":""},{"$f":"IF(W115=\"\",\"\",Daten!D$20)","v":""},null,null,{"$f":"IF(A115=\"\",\"\",IF(Daten!F$1=\"A\",\"Ohne\",IF(OR(N115=\"Gerstenkorn roh\",N115=\"Riffelblech roh\"),\"XPS\",Daten!F$2)))","v":""},{"$f":"IF(A115=\"\",\"\",IF(AA115=\"Ohne\",\"A\",IF(AA115=\"XPS\",IF(Daten!F$1=\"D\",\"B\",Daten!F$1),Daten!F$1)))","v":""},{"$f":"IF(A115=\"\",\"\",IF(AB115=\"A\",\"-\",Daten!F$7))","v":""},{"$f":"IF(A115=\"\",\"\",IF(AB115=\"A\",\"-\",IF(AND(Daten!F$8=0,O115=\"Putzbord\"),5-Q115,0)))","v":""},{"$f":"IF(A115=\"\",\"\",IF(AB115=\"A\",\"-\",IF(AND(Daten!F$8=0,S115=\"Putzbord\"),5-U115,0)))","v":""},{"$f":"IF(A115=\"\",\"\",IF(AB115=\"A\",\"-\",Daten!F$10))","v":""},{"$f":"IFERROR(IF(A115=\"\",\"\",VLOOKUP(N115,Daten!N$1:O$7,2,FALSE)),\"\")","v":""}]
[null,null,null,{"$f":"IF(A116=\"\",\"\",IF(Daten!B$3=TRUE,Daten!B$7,\"\"))","v":""},{"$f":"IFERROR(IF(C116=\"\",\"\",C116+(2*D116)+IF(O116=Daten!M$13,6,0)+IF(S116=Daten!M$13,6,0)+IF(Q116=\"-\",0,Q116)+IF(U116=\"-\",0,U116)),\"\")","v":""},{"$f":"IF(OR(A116=\"\",AND(F$1=0,Daten!F$3=FALSE)),\"\",Daten!B$6)","v":""},{"$f":"IF(A116=\"\",\"\",IF(Daten!B$5=\"??\",\"\",Daten!B$5))","v":""},{"$f":"IF(A116=\"\",\"\",IF(Daten!B$3=FALSE,\"\",Daten!B$4))","v":""},{"$f":"IFERROR(IF(A116=\"\",\"\",G116+H116+IF(AND(G116>0,H116>0),5,0))-IF(Daten!H$21=TRUE,H116,0),\"\")","v":""},{"$f":"IFERROR(IF(A116=\"\",\"\",I116+IF(Daten!H$21=TRUE,H116,0)+IF(F116=\"\",0,F116)-IF(Daten!F$3=TRUE,Daten!F$10,0)),\"\")","v":""},{"$f":"IF(A116=\"\",\"\",Daten!D$14)","v":""},{"$f":"IF(A116=\"\",\"\",Daten!D$12)","v":""},{"$f":"IF(A116=\"\",\"\",Daten!D$13)","v":""},{"$f":"IF(A116=\"\",\"\",Daten!M$2)","v":""},{"$f":"IF(A116=\"\",\"\",IF(Daten!D$6=Daten!N$11,Daten!M$11,IF(Daten!D$6=Daten!N$13,Daten!M$13,IF(AND(Daten!$D$6=Daten!$M$10,Daten!$D$8=TRUE),Daten!$M$14,Daten!D$6))))","v":""},{"$f":"IF($A116=\"\",\"\",IF(OR(O116=\"Putzbord\",O116=\"Flexila PU\"),Daten!$D$15,IF(OR(O116=\"Stehbord\",O116=\"Stehbord HB\",O116=\"Flexila STB\",O116=\"Jalousiebord\"),Daten!$D$19,\"-\")))","v":""},{"$f":"IF($A116=\"\",\"\",IF(O116=\"Putzbord\",Daten!$D$16,IF(O116=\"Flexila PU\",_xlfn.NUMBERVALUE(MID(Daten!$D$17,1,2)),\"-\")))","v":""},{"$f":"IF($A116=\"\",\"\",IF(OR(O116=\"Putzbord\",O116=\"Flexila PU\"),Daten!$D$18,IF(OR(O116=\"Stehbord\",O116=\"Stehbord HB\",O116=\"Flexila STB\",O116=\"Jalousiebord\"),Daten!$D$21,\"-\")))","v":""},{"$f":"IF(A116=\"\",\"\",IF(Daten!D$6=Daten!N$11,Daten!M$11,IF(Daten!D$6=Daten!N$13,Daten!M$13,IF(AND(Daten!$D$6=Daten!$M$10,Daten!$D$8=TRUE),Daten!$M$14,Daten!D$6))))","v":""},{"$f":"IF($A116=\"\",\"\",IF(OR(S116=\"Putzbord\",S116=\"Flexila PU\"),Daten!$D$15,IF(OR(S116=\"Stehbord\",S116=\"Stehbord HB\",S116=\"Flexila STB\",S116=\"Jalousiebord\"),Daten!$D$19,\"-\")))","v":""},{"$f":"IF($A116=\"\",\"\",IF(S116=\"Putzbord\",Daten!$D$16,IF(S116=\"Flexila PU\",_xlfn.NUMBERVALUE(MID(Daten!$D$17,1,2)),\"-\")))","v":""},{"$f":"IF($A116=\"\",\"\",IF(OR(S116=\"Putzbord\",S116=\"Flexila PU\"),Daten!$D$18,IF(OR(S116=\"Stehbord\",S116=\"Stehbord HB\",S116=\"Flexila STB\",S116=\"Jalousiebord\"),Daten!$D$21,\"-\")))","v":""},{"$f":"IF(A116=\"\",\"\",IF(AND(Daten!D$6=\"Jalousiebord\",OR(O116=\"Stehbord\",S116=\"Stehbord\")),\"Jalousienklinkung\",\"\"))","v":""},{"$f":"IF(W116=\"\",\"\",Daten!D$20)","v":""},null,null,{"$f":"IF(A116=\"\",\"\",IF(Daten!F$1=\"A\",\"Ohne\",IF(OR(N116=\"Gerstenkorn roh\",N116=\"Riffelblech roh\"),\"XPS\",Daten!F$2)))","v":""},{"$f":"IF(A116=\"\",\"\",IF(AA116=\"Ohne\",\"A\",IF(AA116=\"XPS\",IF(Daten!F$1=\"D\",\"B\",Daten!F$1),Daten!F$1)))","v":""},{"$f":"IF(A116=\"\",\"\",IF(AB116=\"A\",\"-\",Daten!F$7))","v":""},{"$f":"IF(A116=\"\",\"\",IF(AB116=\"A\",\"-\",IF(AND(Daten!F$8=0,O116=\"Putzbord\"),5-Q116,0)))","v":""},{"$f":"IF(A116=\"\",\"\",IF(AB116=\"A\",\"-\",IF(AND(Daten!F$8=0,S116=\"Putzbord\"),5-U116,0)))","v":""},{"$f":"IF(A116=\"\",\"\",IF(AB116=\"A\",\"-\",Daten!F$10))","v":""},{"$f":"IFERROR(IF(A116=\"\",\"\",VLOOKUP(N116,Daten!N$1:O$7,2,FALSE)),\"\")","v":""}]
[null,null,null,{"$f":"IF(A117=\"\",\"\",IF(Daten!B$3=TRUE,Daten!B$7,\"\"))","v":""},{"$f":"IFERROR(IF(C117=\"\",\"\",C117+(2*D117)+IF(O117=Daten!M$13,6,0)+IF(S117=Daten!M$13,6,0)+IF(Q117=\"-\",0,Q117)+IF(U117=\"-\",0,U117)),\"\")","v":""},{"$f":"IF(OR(A117=\"\",AND(F$1=0,Daten!F$3=FALSE)),\"\",Daten!B$6)","v":""},{"$f":"IF(A117=\"\",\"\",IF(Daten!B$5=\"??\",\"\",Daten!B$5))","v":""},{"$f":"IF(A117=\"\",\"\",IF(Daten!B$3=FALSE,\"\",Daten!B$4))","v":""},{"$f":"IFERROR(IF(A117=\"\",\"\",G117+H117+IF(AND(G117>0,H117>0),5,0))-IF(Daten!H$21=TRUE,H117,0),\"\")","v":""},{"$f":"IFERROR(IF(A117=\"\",\"\",I117+IF(Daten!H$21=TRUE,H117,0)+IF(F117=\"\",0,F117)-IF(Daten!F$3=TRUE,Daten!F$10,0)),\"\")","v":""},{"$f":"IF(A117=\"\",\"\",Daten!D$14)","v":""},{"$f":"IF(A117=\"\",\"\",Daten!D$12)","v":""},{"$f":"IF(A117=\"\",\"\",Daten!D$13)","v":""},{"$f":"IF(A117=\"\",\"\",Daten!M$2)","v":""},{"$f":"IF(A117=\"\",\"\",IF(Daten!D$6=Daten!N$11,Daten!M$11,IF(Daten!D$6=Daten!N$13,Daten!M$13,IF(AND(Daten!$D$6=Daten!$M$10,Daten!$D$8=TRUE),Daten!$M$14,Daten!D$6))))","v":""},{"$f":"IF($A117=\"\",\"\",IF(OR(O117=\"Putzbord\",O117=\"Flexila PU\"),Daten!$D$15,IF(OR(O117=\"Stehbord\",O117=\"Stehbord HB\",O117=\"Flexila STB\",O117=\"Jalousiebord\"),Daten!$D$19,\"-\")))","v":""},{"$f":"IF($A117=\"\",\"\",IF(O117=\"Putzbord\",Daten!$D$16,IF(O117=\"Flexila PU\",_xlfn.NUMBERVALUE(MID(Daten!$D$17,1,2)),\"-\")))","v":""},{"$f":"IF($A117=\"\",\"\",IF(OR(O117=\"Putzbord\",O117=\"Flexila PU\"),Daten!$D$18,IF(OR(O117=\"Stehbord\",O117=\"Stehbord HB\",O117=\"Flexila STB\",O117=\"Jalousiebord\"),Daten!$D$21,\"-\")))","v":""},{"$f":"IF(A117=\"\",\"\",IF(Daten!D$6=Daten!N$11,Daten!M$11,IF(Daten!D$6=Daten!N$13,Daten!M$13,IF(AND(Daten!$D$6=Daten!$M$10,Daten!$D$8=TRUE),Daten!$M$14,Daten!D$6))))","v":""},{"$f":"IF($A117=\"\",\"\",IF(OR(S117=\"Putzbord\",S117=\"Flexila PU\"),Daten!$D$15,IF(OR(S117=\"Stehbord\",S117=\"Stehbord HB\",S117=\"Flexila STB\",S117=\"Jalousiebord\"),Daten!$D$19,\"-\")))","v":""},{"$f":"IF($A117=\"\",\"\",IF(S117=\"Putzbord\",Daten!$D$16,IF(S117=\"Flexila PU\",_xlfn.NUMBERVALUE(MID(Daten!$D$17,1,2)),\"-\")))","v":""},{"$f":"IF($A117=\"\",\"\",IF(OR(S117=\"Putzbord\",S117=\"Flexila PU\"),Daten!$D$18,IF(OR(S117=\"Stehbord\",S117=\"Stehbord HB\",S117=\"Flexila STB\",S117=\"Jalousiebord\"),Daten!$D$21,\"-\")))","v":""},{"$f":"IF(A117=\"\",\"\",IF(AND(Daten!D$6=\"Jalousiebord\",OR(O117=\"Stehbord\",S117=\"Stehbord\")),\"Jalousienklinkung\",\"\"))","v":""},{"$f":"IF(W117=\"\",\"\",Daten!D$20)","v":""},null,null,{"$f":"IF(A117=\"\",\"\",IF(Daten!F$1=\"A\",\"Ohne\",IF(OR(N117=\"Gerstenkorn roh\",N117=\"Riffelblech roh\"),\"XPS\",Daten!F$2)))","v":""},{"$f":"IF(A117=\"\",\"\",IF(AA117=\"Ohne\",\"A\",IF(AA117=\"XPS\",IF(Daten!F$1=\"D\",\"B\",Daten!F$1),Daten!F$1)))","v":""},{"$f":"IF(A117=\"\",\"\",IF(AB117=\"A\",\"-\",Daten!F$7))","v":""},{"$f":"IF(A117=\"\",\"\",IF(AB117=\"A\",\"-\",IF(AND(Daten!F$8=0,O117=\"Putzbord\"),5-Q117,0)))","v":""},{"$f":"IF(A117=\"\",\"\",IF(AB117=\"A\",\"-\",IF(AND(Daten!F$8=0,S117=\"Putzbord\"),5-U117,0)))","v":""},{"$f":"IF(A117=\"\",\"\",IF(AB117=\"A\",\"-\",Daten!F$10))","v":""},{"$f":"IFERROR(IF(A117=\"\",\"\",VLOOKUP(N117,Daten!N$1:O$7,2,FALSE)),\"\")","v":""}]
[null,null,null,{"$f":"IF(A118=\"\",\"\",IF(Daten!B$3=TRUE,Daten!B$7,\"\"))","v":""},{"$f":"IFERROR(IF(C118=\"\",\"\",C118+(2*D118)+IF(O118=Daten!M$13,6,0)+IF(S118=Daten!M$13,6,0)+IF(Q118=\"-\",0,Q118)+IF(U118=\"-\",0,U118)),\"\")","v":""},{"$f":"IF(OR(A118=\"\",AND(F$1=0,Daten!F$3=FALSE)),\"\",Daten!B$6)","v":""},{"$f":"IF(A118=\"\",\"\",IF(Daten!B$5=\"??\",\"\",Daten!B$5))","v":""},{"$f":"IF(A118=\"\",\"\",IF(Daten!B$3=FALSE,\"\",Daten!B$4))","v":""},{"$f":"IFERROR(IF(A118=\"\",\"\",G118+H118+IF(AND(G118>0,H118>0),5,0))-IF(Daten!H$21=TRUE,H118,0),\"\")","v":""},{"$f":"IFERROR(IF(A118=\"\",\"\",I118+IF(Daten!H$21=TRUE,H118,0)+IF(F118=\"\",0,F118)-IF(Daten!F$3=TRUE,Daten!F$10,0)),\"\")","v":""},{"$f":"IF(A118=\"\",\"\",Daten!D$14)","v":""},{"$f":"IF(A118=\"\",\"\",Daten!D$12)","v":""},{"$f":"IF(A118=\"\",\"\",Daten!D$13)","v":""},{"$f":"IF(A118=\"\",\"\",Daten!M$2)","v":""},{"$f":"IF(A118=\"\",\"\",IF(Daten!D$6=Daten!N$11,Daten!M$11,IF(Daten!D$6=Daten!N$13,Daten!M$13,IF(AND(Daten!$D$6=Daten!$M$10,Daten!$D$8=TRUE),Daten!$M$14,Daten!D$6))))","v":""},{"$f":"IF($A118=\"\",\"\",IF(OR(O118=\"Putzbord\",O118=\"Flexila PU\"),Daten!$D$15,IF(OR(O118=\"Stehbord\",O118=\"Stehbord HB\",O118=\"Flexila STB\",O118=\"Jalousiebord\"),Daten!$D$19,\"-\")))","v":""},{"$f":"IF($A118=\"\",\"\",IF(O118=\"Putzbord\",Daten!$D$16,IF(O118=\"Flexila PU\",_xlfn.NUMBERVALUE(MID(Daten!$D$17,1,2)),\"-\")))","v":""},{"$f":"IF($A118=\"\",\"\",IF(OR(O118=\"Putzbord\",O118=\"Flexila PU\"),Daten!$D$18,IF(OR(O118=\"Stehbord\",O118=\"Stehbord HB\",O118=\"Flexila STB\",O118=\"Jalousiebord\"),Daten!$D$21,\"-\")))","v":""},{"$f":"IF(A118=\"\",\"\",IF(Daten!D$6=Daten!N$11,Daten!M$11,IF(Daten!D$6=Daten!N$13,Daten!M$13,IF(AND(Daten!$D$6=Daten!$M$10,Daten!$D$8=TRUE),Daten!$M$14,Daten!D$6))))","v":""},{"$f":"IF($A118=\"\",\"\",IF(OR(S118=\"Putzbord\",S118=\"Flexila PU\"),Daten!$D$15,IF(OR(S118=\"Stehbord\",S118=\"Stehbord HB\",S118=\"Flexila STB\",S118=\"Jalousiebord\"),Daten!$D$19,\"-\")))","v":""},{"$f":"IF($A118=\"\",\"\",IF(S118=\"Putzbord\",Daten!$D$16,IF(S118=\"Flexila PU\",_xlfn.NUMBERVALUE(MID(Daten!$D$17,1,2)),\"-\")))","v":""},{"$f":"IF($A118=\"\",\"\",IF(OR(S118=\"Putzbord\",S118=\"Flexila PU\"),Daten!$D$18,IF(OR(S118=\"Stehbord\",S118=\"Stehbord HB\",S118=\"Flexila STB\",S118=\"Jalousiebord\"),Daten!$D$21,\"-\")))","v":""},{"$f":"IF(A118=\"\",\"\",IF(AND(Daten!D$6=\"Jalousiebord\",OR(O118=\"Stehbord\",S118=\"Stehbord\")),\"Jalousienklinkung\",\"\"))","v":""},{"$f":"IF(W118=\"\",\"\",Daten!D$20)","v":""},null,null,{"$f":"IF(A118=\"\",\"\",IF(Daten!F$1=\"A\",\"Ohne\",IF(OR(N118=\"Gerstenkorn roh\",N118=\"Riffelblech roh\"),\"XPS\",Daten!F$2)))","v":""},{"$f":"IF(A118=\"\",\"\",IF(AA118=\"Ohne\",\"A\",IF(AA118=\"XPS\",IF(Daten!F$1=\"D\",\"B\",Daten!F$1),Daten!F$1)))","v":""},{"$f":"IF(A118=\"\",\"\",IF(AB118=\"A\",\"-\",Daten!F$7))","v":""},{"$f":"IF(A118=\"\",\"\",IF(AB118=\"A\",\"-\",IF(AND(Daten!F$8=0,O118=\"Putzbord\"),5-Q118,0)))","v":""},{"$f":"IF(A118=\"\",\"\",IF(AB118=\"A\",\"-\",IF(AND(Daten!F$8=0,S118=\"Putzbord\"),5-U118,0)))","v":""},{"$f":"IF(A118=\"\",\"\",IF(AB118=\"A\",\"-\",Daten!F$10))","v":""},{"$f":"IFERROR(IF(A118=\"\",\"\",VLOOKUP(N118,Daten!N$1:O$7,2,FALSE)),\"\")","v":""}]
[null,null,null,{"$f":"IF(A119=\"\",\"\",IF(Daten!B$3=TRUE,Daten!B$7,\"\"))","v":""},{"$f":"IFERROR(IF(C119=\"\",\"\",C119+(2*D119)+IF(O119=Daten!M$13,6,0)+IF(S119=Daten!M$13,6,0)+IF(Q119=\"-\",0,Q119)+IF(U119=\"-\",0,U119)),\"\")","v":""},{"$f":"IF(OR(A119=\"\",AND(F$1=0,Daten!F$3=FALSE)),\"\",Daten!B$6)","v":""},{"$f":"IF(A119=\"\",\"\",IF(Daten!B$5=\"??\",\"\",Daten!B$5))","v":""},{"$f":"IF(A119=\"\",\"\",IF(Daten!B$3=FALSE,\"\",Daten!B$4))","v":""},{"$f":"IFERROR(IF(A119=\"\",\"\",G119+H119+IF(AND(G119>0,H119>0),5,0))-IF(Daten!H$21=TRUE,H119,0),\"\")","v":""},{"$f":"IFERROR(IF(A119=\"\",\"\",I119+IF(Daten!H$21=TRUE,H119,0)+IF(F119=\"\",0,F119)-IF(Daten!F$3=TRUE,Daten!F$10,0)),\"\")","v":""},{"$f":"IF(A119=\"\",\"\",Daten!D$14)","v":""},{"$f":"IF(A119=\"\",\"\",Daten!D$12)","v":""},{"$f":"IF(A119=\"\",\"\",Daten!D$13)","v":""},{"$f":"IF(A119=\"\",\"\",Daten!M$2)","v":""},{"$f":"IF(A119=\"\",\"\",IF(Daten!D$6=Daten!N$11,Daten!M$11,IF(Daten!D$6=Daten!N$13,Daten!M$13,IF(AND(Daten!$D$6=Daten!$M$10,Daten!$D$8=TRUE),Daten!$M$14,Daten!D$6))))","v":""},{"$f":"IF($A119=\"\",\"\",IF(OR(O119=\"Putzbord\",O119=\"Flexila PU\"),Daten!$D$15,IF(OR(O119=\"Stehbord\",O119=\"Stehbord HB\",O119=\"Flexila STB\",O119=\"Jalousiebord\"),Daten!$D$19,\"-\")))","v":""},{"$f":"IF($A119=\"\",\"\",IF(O119=\"Putzbord\",Daten!$D$16,IF(O119=\"Flexila PU\",_xlfn.NUMBERVALUE(MID(Daten!$D$17,1,2)),\"-\")))","v":""},{"$f":"IF($A119=\"\",\"\",IF(OR(O119=\"Putzbord\",O119=\"Flexila PU\"),Daten!$D$18,IF(OR(O119=\"Stehbord\",O119=\"Stehbord HB\",O119=\"Flexila STB\",O119=\"Jalousiebord\"),Daten!$D$21,\"-\")))","v":""},{"$f":"IF(A119=\"\",\"\",IF(Daten!D$6=Daten!N$11,Daten!M$11,IF(Daten!D$6=Daten!N$13,Daten!M$13,IF(AND(Daten!$D$6=Daten!$M$10,Daten!$D$8=TRUE),Daten!$M$14,Daten!D$6))))","v":""},{"$f":"IF($A119=\"\",\"\",IF(OR(S119=\"Putzbord\",S119=\"Flexila PU\"),Daten!$D$15,IF(OR(S119=\"Stehbord\",S119=\"Stehbord HB\",S119=\"Flexila STB\",S119=\"Jalousiebord\"),Daten!$D$19,\"-\")))","v":""},{"$f":"IF($A119=\"\",\"\",IF(S119=\"Putzbord\",Daten!$D$16,IF(S119=\"Flexila PU\",_xlfn.NUMBERVALUE(MID(Daten!$D$17,1,2)),\"-\")))","v":""},{"$f":"IF($A119=\"\",\"\",IF(OR(S119=\"Putzbord\",S119=\"Flexila PU\"),Daten!$D$18,IF(OR(S119=\"Stehbord\",S119=\"Stehbord HB\",S119=\"Flexila STB\",S119=\"Jalousiebord\"),Daten!$D$21,\"-\")))","v":""},{"$f":"IF(A119=\"\",\"\",IF(AND(Daten!D$6=\"Jalousiebord\",OR(O119=\"Stehbord\",S119=\"Stehbord\")),\"Jalousienklinkung\",\"\"))","v":""},{"$f":"IF(W119=\"\",\"\",Daten!D$20)","v":""},null,null,{"$f":"IF(A119=\"\",\"\",IF(Daten!F$1=\"A\",\"Ohne\",IF(OR(N119=\"Gerstenkorn roh\",N119=\"Riffelblech roh\"),\"XPS\",Daten!F$2)))","v":""},{"$f":"IF(A119=\"\",\"\",IF(AA119=\"Ohne\",\"A\",IF(AA119=\"XPS\",IF(Daten!F$1=\"D\",\"B\",Daten!F$1),Daten!F$1)))","v":""},{"$f":"IF(A119=\"\",\"\",IF(AB119=\"A\",\"-\",Daten!F$7))","v":""},{"$f":"IF(A119=\"\",\"\",IF(AB119=\"A\",\"-\",IF(AND(Daten!F$8=0,O119=\"Putzbord\"),5-Q119,0)))","v":""},{"$f":"IF(A119=\"\",\"\",IF(AB119=\"A\",\"-\",IF(AND(Daten!F$8=0,S119=\"Putzbord\"),5-U119,0)))","v":""},{"$f":"IF(A119=\"\",\"\",IF(AB119=\"A\",\"-\",Daten!F$10))","v":""},{"$f":"IFERROR(IF(A119=\"\",\"\",VLOOKUP(N119,Daten!N$1:O$7,2,FALSE)),\"\")","v":""}]
[null,null,null,{"$f":"IF(A120=\"\",\"\",IF(Daten!B$3=TRUE,Daten!B$7,\"\"))","v":""},{"$f":"IFERROR(IF(C120=\"\",\"\",C120+(2*D120)+IF(O120=Daten!M$13,6,0)+IF(S120=Daten!M$13,6,0)+IF(Q120=\"-\",0,Q120)+IF(U120=\"-\",0,U120)),\"\")","v":""},{"$f":"IF(OR(A120=\"\",AND(F$1=0,Daten!F$3=FALSE)),\"\",Daten!B$6)","v":""},{"$f":"IF(A120=\"\",\"\",IF(Daten!B$5=\"??\",\"\",Daten!B$5))","v":""},{"$f":"IF(A120=\"\",\"\",IF(Daten!B$3=FALSE,\"\",Daten!B$4))","v":""},{"$f":"IFERROR(IF(A120=\"\",\"\",G120+H120+IF(AND(G120>0,H120>0),5,0))-IF(Daten!H$21=TRUE,H120,0),\"\")","v":""},{"$f":"IFERROR(IF(A120=\"\",\"\",I120+IF(Daten!H$21=TRUE,H120,0)+IF(F120=\"\",0,F120)-IF(Daten!F$3=TRUE,Daten!F$10,0)),\"\")","v":""},{"$f":"IF(A120=\"\",\"\",Daten!D$14)","v":""},{"$f":"IF(A120=\"\",\"\",Daten!D$12)","v":""},{"$f":"IF(A120=\"\",\"\",Daten!D$13)","v":""},{"$f":"IF(A120=\"\",\"\",Daten!M$2)","v":""},{"$f":"IF(A120=\"\",\"\",IF(Daten!D$6=Daten!N$11,Daten!M$11,IF(Daten!D$6=Daten!N$13,Daten!M$13,IF(AND(Daten!$D$6=Daten!$M$10,Daten!$D$8=TRUE),Daten!$M$14,Daten!D$6))))","v":""},{"$f":"IF($A120=\"\",\"\",IF(OR(O120=\"Putzbord\",O120=\"Flexila PU\"),Daten!$D$15,IF(OR(O120=\"Stehbord\",O120=\"Stehbord HB\",O120=\"Flexila STB\",O120=\"Jalousiebord\"),Daten!$D$19,\"-\")))","v":""},{"$f":"IF($A120=\"\",\"\",IF(O120=\"Putzbord\",Daten!$D$16,IF(O120=\"Flexila PU\",_xlfn.NUMBERVALUE(MID(Daten!$D$17,1,2)),\"-\")))","v":""},{"$f":"IF($A120=\"\",\"\",IF(OR(O120=\"Putzbord\",O120=\"Flexila PU\"),Daten!$D$18,IF(OR(O120=\"Stehbord\",O120=\"Stehbord HB\",O120=\"Flexila STB\",O120=\"Jalousiebord\"),Daten!$D$21,\"-\")))","v":""},{"$f":"IF(A120=\"\",\"\",IF(Daten!D$6=Daten!N$11,Daten!M$11,IF(Daten!D$6=Daten!N$13,Daten!M$13,IF(AND(Daten!$D$6=Daten!$M$10,Daten!$D$8=TRUE),Daten!$M$14,Daten!D$6))))","v":""},{"$f":"IF($A120=\"\",\"\",IF(OR(S120=\"Putzbord\",S120=\"Flexila PU\"),Daten!$D$15,IF(OR(S120=\"Stehbord\",S120=\"Stehbord HB\",S120=\"Flexila STB\",S120=\"Jalousiebord\"),Daten!$D$19,\"-\")))","v":""},{"$f":"IF($A120=\"\",\"\",IF(S120=\"Putzbord\",Daten!$D$16,IF(S120=\"Flexila PU\",_xlfn.NUMBERVALUE(MID(Daten!$D$17,1,2)),\"-\")))","v":""},{"$f":"IF($A120=\"\",\"\",IF(OR(S120=\"Putzbord\",S120=\"Flexila PU\"),Daten!$D$18,IF(OR(S120=\"Stehbord\",S120=\"Stehbord HB\",S120=\"Flexila STB\",S120=\"Jalousiebord\"),Daten!$D$21,\"-\")))","v":""},{"$f":"IF(A120=\"\",\"\",IF(AND(Daten!D$6=\"Jalousiebord\",OR(O120=\"Stehbord\",S120=\"Stehbord\")),\"Jalousienklinkung\",\"\"))","v":""},{"$f":"IF(W120=\"\",\"\",Daten!D$20)","v":""},null,null,{"$f":"IF(A120=\"\",\"\",IF(Daten!F$1=\"A\",\"Ohne\",IF(OR(N120=\"Gerstenkorn roh\",N120=\"Riffelblech roh\"),\"XPS\",Daten!F$2)))","v":""},{"$f":"IF(A120=\"\",\"\",IF(AA120=\"Ohne\",\"A\",IF(AA120=\"XPS\",IF(Daten!F$1=\"D\",\"B\",Daten!F$1),Daten!F$1)))","v":""},{"$f":"IF(A120=\"\",\"\",IF(AB120=\"A\",\"-\",Daten!F$7))","v":""},{"$f":"IF(A120=\"\",\"\",IF(AB120=\"A\",\"-\",IF(AND(Daten!F$8=0,O120=\"Putzbord\"),5-Q120,0)))","v":""},{"$f":"IF(A120=\"\",\"\",IF(AB120=\"A\",\"-\",IF(AND(Daten!F$8=0,S120=\"Putzbord\"),5-U120,0)))","v":""},{"$f":"IF(A120=\"\",\"\",IF(AB120=\"A\",\"-\",Daten!F$10))","v":""},{"$f":"IFERROR(IF(A120=\"\",\"\",VLOOKUP(N120,Daten!N$1:O$7,2,FALSE)),\"\")","v":""}]
[null,null,null,{"$f":"IF(A121=\"\",\"\",IF(Daten!B$3=TRUE,Daten!B$7,\"\"))","v":""},{"$f":"IFERROR(IF(C121=\"\",\"\",C121+(2*D121)+IF(O121=Daten!M$13,6,0)+IF(S121=Daten!M$13,6,0)+IF(Q121=\"-\",0,Q121)+IF(U121=\"-\",0,U121)),\"\")","v":""},{"$f":"IF(OR(A121=\"\",AND(F$1=0,Daten!F$3=FALSE)),\"\",Daten!B$6)","v":""},{"$f":"IF(A121=\"\",\"\",IF(Daten!B$5=\"??\",\"\",Daten!B$5))","v":""},{"$f":"IF(A121=\"\",\"\",IF(Daten!B$3=FALSE,\"\",Daten!B$4))","v":""},{"$f":"IFERROR(IF(A121=\"\",\"\",G121+H121+IF(AND(G121>0,H121>0),5,0))-IF(Daten!H$21=TRUE,H121,0),\"\")","v":""},{"$f":"IFERROR(IF(A121=\"\",\"\",I121+IF(Daten!H$21=TRUE,H121,0)+IF(F121=\"\",0,F121)-IF(Daten!F$3=TRUE,Daten!F$10,0)),\"\")","v":""},{"$f":"IF(A121=\"\",\"\",Daten!D$14)","v":""},{"$f":"IF(A121=\"\",\"\",Daten!D$12)","v":""},{"$f":"IF(A121=\"\",\"\",Daten!D$13)","v":""},{"$f":"IF(A121=\"\",\"\",Daten!M$2)","v":""},{"$f":"IF(A121=\"\",\"\",IF(Daten!D$6=Daten!N$11,Daten!M$11,IF(Daten!D$6=Daten!N$13,Daten!M$13,IF(AND(Daten!$D$6=Daten!$M$10,Daten!$D$8=TRUE),Daten!$M$14,Daten!D$6))))","v":""},{"$f":"IF($A121=\"\",\"\",IF(OR(O121=\"Putzbord\",O121=\"Flexila PU\"),Daten!$D$15,IF(OR(O121=\"Stehbord\",O121=\"Stehbord HB\",O121=\"Flexila STB\",O121=\"Jalousiebord\"),Daten!$D$19,\"-\")))","v":""},{"$f":"IF($A121=\"\",\"\",IF(O121=\"Putzbord\",Daten!$D$16,IF(O121=\"Flexila PU\",_xlfn.NUMBERVALUE(MID(Daten!$D$17,1,2)),\"-\")))","v":""},{"$f":"IF($A121=\"\",\"\",IF(OR(O121=\"Putzbord\",O121=\"Flexila PU\"),Daten!$D$18,IF(OR(O121=\"Stehbord\",O121=\"Stehbord HB\",O121=\"Flexila STB\",O121=\"Jalousiebord\"),Daten!$D$21,\"-\")))","v":""},{"$f":"IF(A121=\"\",\"\",IF(Daten!D$6=Daten!N$11,Daten!M$11,IF(Daten!D$6=Daten!N$13,Daten!M$13,IF(AND(Daten!$D$6=Daten!$M$10,Daten!$D$8=TRUE),Daten!$M$14,Daten!D$6))))","v":""},{"$f":"IF($A121=\"\",\"\",IF(OR(S121=\"Putzbord\",S121=\"Flexila PU\"),Daten!$D$15,IF(OR(S121=\"Stehbord\",S121=\"Stehbord HB\",S121=\"Flexila STB\",S121=\"Jalousiebord\"),Daten!$D$19,\"-\")))","v":""},{"$f":"IF($A121=\"\",\"\",IF(S121=\"Putzbord\",Daten!$D$16,IF(S121=\"Flexila PU\",_xlfn.NUMBERVALUE(MID(Daten!$D$17,1,2)),\"-\")))","v":""},{"$f":"IF($A121=\"\",\"\",IF(OR(S121=\"Putzbord\",S121=\"Flexila PU\"),Daten!$D$18,IF(OR(S121=\"Stehbord\",S121=\"Stehbord HB\",S121=\"Flexila STB\",S121=\"Jalousiebord\"),Daten!$D$21,\"-\")))","v":""},{"$f":"IF(A121=\"\",\"\",IF(AND(Daten!D$6=\"Jalousiebord\",OR(O121=\"Stehbord\",S121=\"Stehbord\")),\"Jalousienklinkung\",\"\"))","v":""},{"$f":"IF(W121=\"\",\"\",Daten!D$20)","v":""},null,null,{"$f":"IF(A121=\"\",\"\",IF(Daten!F$1=\"A\",\"Ohne\",IF(OR(N121=\"Gerstenkorn roh\",N121=\"Riffelblech roh\"),\"XPS\",Daten!F$2)))","v":""},{"$f":"IF(A121=\"\",\"\",IF(AA121=\"Ohne\",\"A\",IF(AA121=\"XPS\",IF(Daten!F$1=\"D\",\"B\",Daten!F$1),Daten!F$1)))","v":""},{"$f":"IF(A121=\"\",\"\",IF(AB121=\"A\",\"-\",Daten!F$7))","v":""},{"$f":"IF(A121=\"\",\"\",IF(AB121=\"A\",\"-\",IF(AND(Daten!F$8=0,O121=\"Putzbord\"),5-Q121,0)))","v":""},{"$f":"IF(A121=\"\",\"\",IF(AB121=\"A\",\"-\",IF(AND(Daten!F$8=0,S121=\"Putzbord\"),5-U121,0)))","v":""},{"$f":"IF(A121=\"\",\"\",IF(AB121=\"A\",\"-\",Daten!F$10))","v":""},{"$f":"IFERROR(IF(A121=\"\",\"\",VLOOKUP(N121,Daten!N$1:O$7,2,FALSE)),\"\")","v":""}]
[null,null,null,{"$f":"IF(A122=\"\",\"\",IF(Daten!B$3=TRUE,Daten!B$7,\"\"))","v":""},{"$f":"IFERROR(IF(C122=\"\",\"\",C122+(2*D122)+IF(O122=Daten!M$13,6,0)+IF(S122=Daten!M$13,6,0)+IF(Q122=\"-\",0,Q122)+IF(U122=\"-\",0,U122)),\"\")","v":""},{"$f":"IF(OR(A122=\"\",AND(F$1=0,Daten!F$3=FALSE)),\"\",Daten!B$6)","v":""},{"$f":"IF(A122=\"\",\"\",IF(Daten!B$5=\"??\",\"\",Daten!B$5))","v":""},{"$f":"IF(A122=\"\",\"\",IF(Daten!B$3=FALSE,\"\",Daten!B$4))","v":""},{"$f":"IFERROR(IF(A122=\"\",\"\",G122+H122+IF(AND(G122>0,H122>0),5,0))-IF(Daten!H$21=TRUE,H122,0),\"\")","v":""},{"$f":"IFERROR(IF(A122=\"\",\"\",I122+IF(Daten!H$21=TRUE,H122,0)+IF(F122=\"\",0,F122)-IF(Daten!F$3=TRUE,Daten!F$10,0)),\"\")","v":""},{"$f":"IF(A122=\"\",\"\",Daten!D$14)","v":""},{"$f":"IF(A122=\"\",\"\",Daten!D$12)","v":""},{"$f":"IF(A122=\"\",\"\",Daten!D$13)","v":""},{"$f":"IF(A122=\"\",\"\",Daten!M$2)","v":""},{"$f":"IF(A122=\"\",\"\",IF(Daten!D$6=Daten!N$11,Daten!M$11,IF(Daten!D$6=Daten!N$13,Daten!M$13,IF(AND(Daten!$D$6=Daten!$M$10,Daten!$D$8=TRUE),Daten!$M$14,Daten!D$6))))","v":""},{"$f":"IF($A122=\"\",\"\",IF(OR(O122=\"Putzbord\",O122=\"Flexila PU\"),Daten!$D$15,IF(OR(O122=\"Stehbord\",O122=\"Stehbord HB\",O122=\"Flexila STB\",O122=\"Jalousiebord\"),Daten!$D$19,\"-\")))","v":""},{"$f":"IF($A122=\"\",\"\",IF(O122=\"Putzbord\",Daten!$D$16,IF(O122=\"Flexila PU\",_xlfn.NUMBERVALUE(MID(Daten!$D$17,1,2)),\"-\")))","v":""},{"$f":"IF($A122=\"\",\"\",IF(OR(O122=\"Putzbord\",O122=\"Flexila PU\"),Daten!$D$18,IF(OR(O122=\"Stehbord\",O122=\"Stehbord HB\",O122=\"Flexila STB\",O122=\"Jalousiebord\"),Daten!$D$21,\"-\")))","v":""},{"$f":"IF(A122=\"\",\"\",IF(Daten!D$6=Daten!N$11,Daten!M$11,IF(Daten!D$6=Daten!N$13,Daten!M$13,IF(AND(Daten!$D$6=Daten!$M$10,Daten!$D$8=TRUE),Daten!$M$14,Daten!D$6))))","v":""},{"$f":"IF($A122=\"\",\"\",IF(OR(S122=\"Putzbord\",S122=\"Flexila PU\"),Daten!$D$15,IF(OR(S122=\"Stehbord\",S122=\"Stehbord HB\",S122=\"Flexila STB\",S122=\"Jalousiebord\"),Daten!$D$19,\"-\")))","v":""},{"$f":"IF($A122=\"\",\"\",IF(S122=\"Putzbord\",Daten!$D$16,IF(S122=\"Flexila PU\",_xlfn.NUMBERVALUE(MID(Daten!$D$17,1,2)),\"-\")))","v":""},{"$f":"IF($A122=\"\",\"\",IF(OR(S122=\"Putzbord\",S122=\"Flexila PU\"),Daten!$D$18,IF(OR(S122=\"Stehbord\",S122=\"Stehbord HB\",S122=\"Flexila STB\",S122=\"Jalousiebord\"),Daten!$D$21,\"-\")))","v":""},{"$f":"IF(A122=\"\",\"\",IF(AND(Daten!D$6=\"Jalousiebord\",OR(O122=\"Stehbord\",S122=\"Stehbord\")),\"Jalousienklinkung\",\"\"))","v":""},{"$f":"IF(W122=\"\",\"\",Daten!D$20)","v":""},null,null,{"$f":"IF(A122=\"\",\"\",IF(Daten!F$1=\"A\",\"Ohne\",IF(OR(N122=\"Gerstenkorn roh\",N122=\"Riffelblech roh\"),\"XPS\",Daten!F$2)))","v":""},{"$f":"IF(A122=\"\",\"\",IF(AA122=\"Ohne\",\"A\",IF(AA122=\"XPS\",IF(Daten!F$1=\"D\",\"B\",Daten!F$1),Daten!F$1)))","v":""},{"$f":"IF(A122=\"\",\"\",IF(AB122=\"A\",\"-\",Daten!F$7))","v":""},{"$f":"IF(A122=\"\",\"\",IF(AB122=\"A\",\"-\",IF(AND(Daten!F$8=0,O122=\"Putzbord\"),5-Q122,0)))","v":""},{"$f":"IF(A122=\"\",\"\",IF(AB122=\"A\",\"-\",IF(AND(Daten!F$8=0,S122=\"Putzbord\"),5-U122,0)))","v":""},{"$f":"IF(A122=\"\",\"\",IF(AB122=\"A\",\"-\",Daten!F$10))","v":""},{"$f":"IFERROR(IF(A122=\"\",\"\",VLOOKUP(N122,Daten!N$1:O$7,2,FALSE)),\"\")","v":""}]
[null,null,null,{"$f":"IF(A123=\"\",\"\",IF(Daten!B$3=TRUE,Daten!B$7,\"\"))","v":""},{"$f":"IFERROR(IF(C123=\"\",\"\",C123+(2*D123)+IF(O123=Daten!M$13,6,0)+IF(S123=Daten!M$13,6,0)+IF(Q123=\"-\",0,Q123)+IF(U123=\"-\",0,U123)),\"\")","v":""},{"$f":"IF(OR(A123=\"\",AND(F$1=0,Daten!F$3=FALSE)),\"\",Daten!B$6)","v":""},{"$f":"IF(A123=\"\",\"\",IF(Daten!B$5=\"??\",\"\",Daten!B$5))","v":""},{"$f":"IF(A123=\"\",\"\",IF(Daten!B$3=FALSE,\"\",Daten!B$4))","v":""},{"$f":"IFERROR(IF(A123=\"\",\"\",G123+H123+IF(AND(G123>0,H123>0),5,0))-IF(Daten!H$21=TRUE,H123,0),\"\")","v":""},{"$f":"IFERROR(IF(A123=\"\",\"\",I123+IF(Daten!H$21=TRUE,H123,0)+IF(F123=\"\",0,F123)-IF(Daten!F$3=TRUE,Daten!F$10,0)),\"\")","v":""},{"$f":"IF(A123=\"\",\"\",Daten!D$14)","v":""},{"$f":"IF(A123=\"\",\"\",Daten!D$12)","v":""},{"$f":"IF(A123=\"\",\"\",Daten!D$13)","v":""},{"$f":"IF(A123=\"\",\"\",Daten!M$2)","v":""},{"$f":"IF(A123=\"\",\"\",IF(Daten!D$6=Daten!N$11,Daten!M$11,IF(Daten!D$6=Daten!N$13,Daten!M$13,IF(AND(Daten!$D$6=Daten!$M$10,Daten!$D$8=TRUE),Daten!$M$14,Daten!D$6))))","v":""},{"$f":"IF($A123=\"\",\"\",IF(OR(O123=\"Putzbord\",O123=\"Flexila PU\"),Daten!$D$15,IF(OR(O123=\"Stehbord\",O123=\"Stehbord HB\",O123=\"Flexila STB\",O123=\"Jalousiebord\"),Daten!$D$19,\"-\")))","v":""},{"$f":"IF($A123=\"\",\"\",IF(O123=\"Putzbord\",Daten!$D$16,IF(O123=\"Flexila PU\",_xlfn.NUMBERVALUE(MID(Daten!$D$17,1,2)),\"-\")))","v":""},{"$f":"IF($A123=\"\",\"\",IF(OR(O123=\"Putzbord\",O123=\"Flexila PU\"),Daten!$D$18,IF(OR(O123=\"Stehbord\",O123=\"Stehbord HB\",O123=\"Flexila STB\",O123=\"Jalousiebord\"),Daten!$D$21,\"-\")))","v":""},{"$f":"IF(A123=\"\",\"\",IF(Daten!D$6=Daten!N$11,Daten!M$11,IF(Daten!D$6=Daten!N$13,Daten!M$13,IF(AND(Daten!$D$6=Daten!$M$10,Daten!$D$8=TRUE),Daten!$M$14,Daten!D$6))))","v":""},{"$f":"IF($A123=\"\",\"\",IF(OR(S123=\"Putzbord\",S123=\"Flexila PU\"),Daten!$D$15,IF(OR(S123=\"Stehbord\",S123=\"Stehbord HB\",S123=\"Flexila STB\",S123=\"Jalousiebord\"),Daten!$D$19,\"-\")))","v":""},{"$f":"IF($A123=\"\",\"\",IF(S123=\"Putzbord\",Daten!$D$16,IF(S123=\"Flexila PU\",_xlfn.NUMBERVALUE(MID(Daten!$D$17,1,2)),\"-\")))","v":""},{"$f":"IF($A123=\"\",\"\",IF(OR(S123=\"Putzbord\",S123=\"Flexila PU\"),Daten!$D$18,IF(OR(S123=\"Stehbord\",S123=\"Stehbord HB\",S123=\"Flexila STB\",S123=\"Jalousiebord\"),Daten!$D$21,\"-\")))","v":""},{"$f":"IF(A123=\"\",\"\",IF(AND(Daten!D$6=\"Jalousiebord\",OR(O123=\"Stehbord\",S123=\"Stehbord\")),\"Jalousienklinkung\",\"\"))","v":""},{"$f":"IF(W123=\"\",\"\",Daten!D$20)","v":""},null,null,{"$f":"IF(A123=\"\",\"\",IF(Daten!F$1=\"A\",\"Ohne\",IF(OR(N123=\"Gerstenkorn roh\",N123=\"Riffelblech roh\"),\"XPS\",Daten!F$2)))","v":""},{"$f":"IF(A123=\"\",\"\",IF(AA123=\"Ohne\",\"A\",IF(AA123=\"XPS\",IF(Daten!F$1=\"D\",\"B\",Daten!F$1),Daten!F$1)))","v":""},{"$f":"IF(A123=\"\",\"\",IF(AB123=\"A\",\"-\",Daten!F$7))","v":""},{"$f":"IF(A123=\"\",\"\",IF(AB123=\"A\",\"-\",IF(AND(Daten!F$8=0,O123=\"Putzbord\"),5-Q123,0)))","v":""},{"$f":"IF(A123=\"\",\"\",IF(AB123=\"A\",\"-\",IF(AND(Daten!F$8=0,S123=\"Putzbord\"),5-U123,0)))","v":""},{"$f":"IF(A123=\"\",\"\",IF(AB123=\"A\",\"-\",Daten!F$10))","v":""},{"$f":"IFERROR(IF(A123=\"\",\"\",VLOOKUP(N123,Daten!N$1:O$7,2,FALSE)),\"\")","v":""}]
[null,null,null,{"$f":"IF(A124=\"\",\"\",IF(Daten!B$3=TRUE,Daten!B$7,\"\"))","v":""},{"$f":"IFERROR(IF(C124=\"\",\"\",C124+(2*D124)+IF(O124=Daten!M$13,6,0)+IF(S124=Daten!M$13,6,0)+IF(Q124=\"-\",0,Q124)+IF(U124=\"-\",0,U124)),\"\")","v":""},{"$f":"IF(OR(A124=\"\",AND(F$1=0,Daten!F$3=FALSE)),\"\",Daten!B$6)","v":""},{"$f":"IF(A124=\"\",\"\",IF(Daten!B$5=\"??\",\"\",Daten!B$5))","v":""},{"$f":"IF(A124=\"\",\"\",IF(Daten!B$3=FALSE,\"\",Daten!B$4))","v":""},{"$f":"IFERROR(IF(A124=\"\",\"\",G124+H124+IF(AND(G124>0,H124>0),5,0))-IF(Daten!H$21=TRUE,H124,0),\"\")","v":""},{"$f":"IFERROR(IF(A124=\"\",\"\",I124+IF(Daten!H$21=TRUE,H124,0)+IF(F124=\"\",0,F124)-IF(Daten!F$3=TRUE,Daten!F$10,0)),\"\")","v":""},{"$f":"IF(A124=\"\",\"\",Daten!D$14)","v":""},{"$f":"IF(A124=\"\",\"\",Daten!D$12)","v":""},{"$f":"IF(A124=\"\",\"\",Daten!D$13)","v":""},{"$f":"IF(A124=\"\",\"\",Daten!M$2)","v":""},{"$f":"IF(A124=\"\",\"\",IF(Daten!D$6=Daten!N$11,Daten!M$11,IF(Daten!D$6=Daten!N$13,Daten!M$13,IF(AND(Daten!$D$6=Daten!$M$10,Daten!$D$8=TRUE),Daten!$M$14,Daten!D$6))))","v":""},{"$f":"IF($A124=\"\",\"\",IF(OR(O124=\"Putzbord\",O124=\"Flexila PU\"),Daten!$D$15,IF(OR(O124=\"Stehbord\",O124=\"Stehbord HB\",O124=\"Flexila STB\",O124=\"Jalousiebord\"),Daten!$D$19,\"-\")))","v":""},{"$f":"IF($A124=\"\",\"\",IF(O124=\"Putzbord\",Daten!$D$16,IF(O124=\"Flexila PU\",_xlfn.NUMBERVALUE(MID(Daten!$D$17,1,2)),\"-\")))","v":""},{"$f":"IF($A124=\"\",\"\",IF(OR(O124=\"Putzbord\",O124=\"Flexila PU\"),Daten!$D$18,IF(OR(O124=\"Stehbord\",O124=\"Stehbord HB\",O124=\"Flexila STB\",O124=\"Jalousiebord\"),Daten!$D$21,\"-\")))","v":""},{"$f":"IF(A124=\"\",\"\",IF(Daten!D$6=Daten!N$11,Daten!M$11,IF(Daten!D$6=Daten!N$13,Daten!M$13,IF(AND(Daten!$D$6=Daten!$M$10,Daten!$D$8=TRUE),Daten!$M$14,Daten!D$6))))","v":""},{"$f":"IF($A124=\"\",\"\",IF(OR(S124=\"Putzbord\",S124=\"Flexila PU\"),Daten!$D$15,IF(OR(S124=\"Stehbord\",S124=\"Stehbord HB\",S124=\"Flexila STB\",S124=\"Jalousiebord\"),Daten!$D$19,\"-\")))","v":""},{"$f":"IF($A124=\"\",\"\",IF(S124=\"Putzbord\",Daten!$D$16,IF(S124=\"Flexila PU\",_xlfn.NUMBERVALUE(MID(Daten!$D$17,1,2)),\"-\")))","v":""},{"$f":"IF($A124=\"\",\"\",IF(OR(S124=\"Putzbord\",S124=\"Flexila PU\"),Daten!$D$18,IF(OR(S124=\"Stehbord\",S124=\"Stehbord HB\",S124=\"Flexila STB\",S124=\"Jalousiebord\"),Daten!$D$21,\"-\")))","v":""},{"$f":"IF(A124=\"\",\"\",IF(AND(Daten!D$6=\"Jalousiebord\",OR(O124=\"Stehbord\",S124=\"Stehbord\")),\"Jalousienklinkung\",\"\"))","v":""},{"$f":"IF(W124=\"\",\"\",Daten!D$20)","v":""},null,null,{"$f":"IF(A124=\"\",\"\",IF(Daten!F$1=\"A\",\"Ohne\",IF(OR(N124=\"Gerstenkorn roh\",N124=\"Riffelblech roh\"),\"XPS\",Daten!F$2)))","v":""},{"$f":"IF(A124=\"\",\"\",IF(AA124=\"Ohne\",\"A\",IF(AA124=\"XPS\",IF(Daten!F$1=\"D\",\"B\",Daten!F$1),Daten!F$1)))","v":""},{"$f":"IF(A124=\"\",\"\",IF(AB124=\"A\",\"-\",Daten!F$7))","v":""},{"$f":"IF(A124=\"\",\"\",IF(AB124=\"A\",\"-\",IF(AND(Daten!F$8=0,O124=\"Putzbord\"),5-Q124,0)))","v":""},{"$f":"IF(A124=\"\",\"\",IF(AB124=\"A\",\"-\",IF(AND(Daten!F$8=0,S124=\"Putzbord\"),5-U124,0)))","v":""},{"$f":"IF(A124=\"\",\"\",IF(AB124=\"A\",\"-\",Daten!F$10))","v":""},{"$f":"IFERROR(IF(A124=\"\",\"\",VLOOKUP(N124,Daten!N$1:O$7,2,FALSE)),\"\")","v":""}]
[null,null,null,{"$f":"IF(A125=\"\",\"\",IF(Daten!B$3=TRUE,Daten!B$7,\"\"))","v":""},{"$f":"IFERROR(IF(C125=\"\",\"\",C125+(2*D125)+IF(O125=Daten!M$13,6,0)+IF(S125=Daten!M$13,6,0)+IF(Q125=\"-\",0,Q125)+IF(U125=\"-\",0,U125)),\"\")","v":""},{"$f":"IF(OR(A125=\"\",AND(F$1=0,Daten!F$3=FALSE)),\"\",Daten!B$6)","v":""},{"$f":"IF(A125=\"\",\"\",IF(Daten!B$5=\"??\",\"\",Daten!B$5))","v":""},{"$f":"IF(A125=\"\",\"\",IF(Daten!B$3=FALSE,\"\",Daten!B$4))","v":""},{"$f":"IFERROR(IF(A125=\"\",\"\",G125+H125+IF(AND(G125>0,H125>0),5,0))-IF(Daten!H$21=TRUE,H125,0),\"\")","v":""},{"$f":"IFERROR(IF(A125=\"\",\"\",I125+IF(Daten!H$21=TRUE,H125,0)+IF(F125=\"\",0,F125)-IF(Daten!F$3=TRUE,Daten!F$10,0)),\"\")","v":""},{"$f":"IF(A125=\"\",\"\",Daten!D$14)","v":""},{"$f":"IF(A125=\"\",\"\",Daten!D$12)","v":""},{"$f":"IF(A125=\"\",\"\",Daten!D$13)","v":""},{"$f":"IF(A125=\"\",\"\",Daten!M$2)","v":""},{"$f":"IF(A125=\"\",\"\",IF(Daten!D$6=Daten!N$11,Daten!M$11,IF(Daten!D$6=Daten!N$13,Daten!M$13,IF(AND(Daten!$D$6=Daten!$M$10,Daten!$D$8=TRUE),Daten!$M$14,Daten!D$6))))","v":""},{"$f":"IF($A125=\"\",\"\",IF(OR(O125=\"Putzbord\",O125=\"Flexila PU\"),Daten!$D$15,IF(OR(O125=\"Stehbord\",O125=\"Stehbord HB\",O125=\"Flexila STB\",O125=\"Jalousiebord\"),Daten!$D$19,\"-\")))","v":""},{"$f":"IF($A125=\"\",\"\",IF(O125=\"Putzbord\",Daten!$D$16,IF(O125=\"Flexila PU\",_xlfn.NUMBERVALUE(MID(Daten!$D$17,1,2)),\"-\")))","v":""},{"$f":"IF($A125=\"\",\"\",IF(OR(O125=\"Putzbord\",O125=\"Flexila PU\"),Daten!$D$18,IF(OR(O125=\"Stehbord\",O125=\"Stehbord HB\",O125=\"Flexila STB\",O125=\"Jalousiebord\"),Daten!$D$21,\"-\")))","v":""},{"$f":"IF(A125=\"\",\"\",IF(Daten!D$6=Daten!N$11,Daten!M$11,IF(Daten!D$6=Daten!N$13,Daten!M$13,IF(AND(Daten!$D$6=Daten!$M$10,Daten!$D$8=TRUE),Daten!$M$14,Daten!D$6))))","v":""},{"$f":"IF($A125=\"\",\"\",IF(OR(S125=\"Putzbord\",S125=\"Flexila PU\"),Daten!$D$15,IF(OR(S125=\"Stehbord\",S125=\"Stehbord HB\",S125=\"Flexila STB\",S125=\"Jalousiebord\"),Daten!$D$19,\"-\")))","v":""},{"$f":"IF($A125=\"\",\"\",IF(S125=\"Putzbord\",Daten!$D$16,IF(S125=\"Flexila PU\",_xlfn.NUMBERVALUE(MID(Daten!$D$17,1,2)),\"-\")))","v":""},{"$f":"IF($A125=\"\",\"\",IF(OR(S125=\"Putzbord\",S125=\"Flexila PU\"),Daten!$D$18,IF(OR(S125=\"Stehbord\",S125=\"Stehbord HB\",S125=\"Flexila STB\",S125=\"Jalousiebord\"),Daten!$D$21,\"-\")))","v":""},{"$f":"IF(A125=\"\",\"\",IF(AND(Daten!D$6=\"Jalousiebord\",OR(O125=\"Stehbord\",S125=\"Stehbord\")),\"Jalousienklinkung\",\"\"))","v":""},{"$f":"IF(W125=\"\",\"\",Daten!D$20)","v":""},null,null,{"$f":"IF(A125=\"\",\"\",IF(Daten!F$1=\"A\",\"Ohne\",IF(OR(N125=\"Gerstenkorn roh\",N125=\"Riffelblech roh\"),\"XPS\",Daten!F$2)))","v":""},{"$f":"IF(A125=\"\",\"\",IF(AA125=\"Ohne\",\"A\",IF(AA125=\"XPS\",IF(Daten!F$1=\"D\",\"B\",Daten!F$1),Daten!F$1)))","v":""},{"$f":"IF(A125=\"\",\"\",IF(AB125=\"A\",\"-\",Daten!F$7))","v":""},{"$f":"IF(A125=\"\",\"\",IF(AB125=\"A\",\"-\",IF(AND(Daten!F$8=0,O125=\"Putzbord\"),5-Q125,0)))","v":""},{"$f":"IF(A125=\"\",\"\",IF(AB125=\"A\",\"-\",IF(AND(Daten!F$8=0,S125=\"Putzbord\"),5-U125,0)))","v":""},{"$f":"IF(A125=\"\",\"\",IF(AB125=\"A\",\"-\",Daten!F$10))","v":""},{"$f":"IFERROR(IF(A125=\"\",\"\",VLOOKUP(N125,Daten!N$1:O$7,2,FALSE)),\"\")","v":""}]
[null,null,null,{"$f":"IF(A126=\"\",\"\",IF(Daten!B$3=TRUE,Daten!B$7,\"\"))","v":""},{"$f":"IFERROR(IF(C126=\"\",\"\",C126+(2*D126)+IF(O126=Daten!M$13,6,0)+IF(S126=Daten!M$13,6,0)+IF(Q126=\"-\",0,Q126)+IF(U126=\"-\",0,U126)),\"\")","v":""},{"$f":"IF(OR(A126=\"\",AND(F$1=0,Daten!F$3=FALSE)),\"\",Daten!B$6)","v":""},{"$f":"IF(A126=\"\",\"\",IF(Daten!B$5=\"??\",\"\",Daten!B$5))","v":""},{"$f":"IF(A126=\"\",\"\",IF(Daten!B$3=FALSE,\"\",Daten!B$4))","v":""},{"$f":"IFERROR(IF(A126=\"\",\"\",G126+H126+IF(AND(G126>0,H126>0),5,0))-IF(Daten!H$21=TRUE,H126,0),\"\")","v":""},{"$f":"IFERROR(IF(A126=\"\",\"\",I126+IF(Daten!H$21=TRUE,H126,0)+IF(F126=\"\",0,F126)-IF(Daten!F$3=TRUE,Daten!F$10,0)),\"\")","v":""},{"$f":"IF(A126=\"\",\"\",Daten!D$14)","v":""},{"$f":"IF(A126=\"\",\"\",Daten!D$12)","v":""},{"$f":"IF(A126=\"\",\"\",Daten!D$13)","v":""},{"$f":"IF(A126=\"\",\"\",Daten!M$2)","v":""},{"$f":"IF(A126=\"\",\"\",IF(Daten!D$6=Daten!N$11,Daten!M$11,IF(Daten!D$6=Daten!N$13,Daten!M$13,IF(AND(Daten!$D$6=Daten!$M$10,Daten!$D$8=TRUE),Daten!$M$14,Daten!D$6))))","v":""},{"$f":"IF($A126=\"\",\"\",IF(OR(O126=\"Putzbord\",O126=\"Flexila PU\"),Daten!$D$15,IF(OR(O126=\"Stehbord\",O126=\"Stehbord HB\",O126=\"Flexila STB\",O126=\"Jalousiebord\"),Daten!$D$19,\"-\")))","v":""},{"$f":"IF($A126=\"\",\"\",IF(O126=\"Putzbord\",Daten!$D$16,IF(O126=\"Flexila PU\",_xlfn.NUMBERVALUE(MID(Daten!$D$17,1,2)),\"-\")))","v":""},{"$f":"IF($A126=\"\",\"\",IF(OR(O126=\"Putzbord\",O126=\"Flexila PU\"),Daten!$D$18,IF(OR(O126=\"Stehbord\",O126=\"Stehbord HB\",O126=\"Flexila STB\",O126=\"Jalousiebord\"),Daten!$D$21,\"-\")))","v":""},{"$f":"IF(A126=\"\",\"\",IF(Daten!D$6=Daten!N$11,Daten!M$11,IF(Daten!D$6=Daten!N$13,Daten!M$13,IF(AND(Daten!$D$6=Daten!$M$10,Daten!$D$8=TRUE),Daten!$M$14,Daten!D$6))))","v":""},{"$f":"IF($A126=\"\",\"\",IF(OR(S126=\"Putzbord\",S126=\"Flexila PU\"),Daten!$D$15,IF(OR(S126=\"Stehbord\",S126=\"Stehbord HB\",S126=\"Flexila STB\",S126=\"Jalousiebord\"),Daten!$D$19,\"-\")))","v":""},{"$f":"IF($A126=\"\",\"\",IF(S126=\"Putzbord\",Daten!$D$16,IF(S126=\"Flexila PU\",_xlfn.NUMBERVALUE(MID(Daten!$D$17,1,2)),\"-\")))","v":""},{"$f":"IF($A126=\"\",\"\",IF(OR(S126=\"Putzbord\",S126=\"Flexila PU\"),Daten!$D$18,IF(OR(S126=\"Stehbord\",S126=\"Stehbord HB\",S126=\"Flexila STB\",S126=\"Jalousiebord\"),Daten!$D$21,\"-\")))","v":""},{"$f":"IF(A126=\"\",\"\",IF(AND(Daten!D$6=\"Jalousiebord\",OR(O126=\"Stehbord\",S126=\"Stehbord\")),\"Jalousienklinkung\",\"\"))","v":""},{"$f":"IF(W126=\"\",\"\",Daten!D$20)","v":""},null,null,{"$f":"IF(A126=\"\",\"\",IF(Daten!F$1=\"A\",\"Ohne\",IF(OR(N126=\"Gerstenkorn roh\",N126=\"Riffelblech roh\"),\"XPS\",Daten!F$2)))","v":""},{"$f":"IF(A126=\"\",\"\",IF(AA126=\"Ohne\",\"A\",IF(AA126=\"XPS\",IF(Daten!F$1=\"D\",\"B\",Daten!F$1),Daten!F$1)))","v":""},{"$f":"IF(A126=\"\",\"\",IF(AB126=\"A\",\"-\",Daten!F$7))","v":""},{"$f":"IF(A126=\"\",\"\",IF(AB126=\"A\",\"-\",IF(AND(Daten!F$8=0,O126=\"Putzbord\"),5-Q126,0)))","v":""},{"$f":"IF(A126=\"\",\"\",IF(AB126=\"A\",\"-\",IF(AND(Daten!F$8=0,S126=\"Putzbord\"),5-U126,0)))","v":""},{"$f":"IF(A126=\"\",\"\",IF(AB126=\"A\",\"-\",Daten!F$10))","v":""},{"$f":"IFERROR(IF(A126=\"\",\"\",VLOOKUP(N126,Daten!N$1:O$7,2,FALSE)),\"\")","v":""}]
[null,null,null,{"$f":"IF(A127=\"\",\"\",IF(Daten!B$3=TRUE,Daten!B$7,\"\"))","v":""},{"$f":"IFERROR(IF(C127=\"\",\"\",C127+(2*D127)+IF(O127=Daten!M$13,6,0)+IF(S127=Daten!M$13,6,0)+IF(Q127=\"-\",0,Q127)+IF(U127=\"-\",0,U127)),\"\")","v":""},{"$f":"IF(OR(A127=\"\",AND(F$1=0,Daten!F$3=FALSE)),\"\",Daten!B$6)","v":""},{"$f":"IF(A127=\"\",\"\",IF(Daten!B$5=\"??\",\"\",Daten!B$5))","v":""},{"$f":"IF(A127=\"\",\"\",IF(Daten!B$3=FALSE,\"\",Daten!B$4))","v":""},{"$f":"IFERROR(IF(A127=\"\",\"\",G127+H127+IF(AND(G127>0,H127>0),5,0))-IF(Daten!H$21=TRUE,H127,0),\"\")","v":""},{"$f":"IFERROR(IF(A127=\"\",\"\",I127+IF(Daten!H$21=TRUE,H127,0)+IF(F127=\"\",0,F127)-IF(Daten!F$3=TRUE,Daten!F$10,0)),\"\")","v":""},{"$f":"IF(A127=\"\",\"\",Daten!D$14)","v":""},{"$f":"IF(A127=\"\",\"\",Daten!D$12)","v":""},{"$f":"IF(A127=\"\",\"\",Daten!D$13)","v":""},{"$f":"IF(A127=\"\",\"\",Daten!M$2)","v":""},{"$f":"IF(A127=\"\",\"\",IF(Daten!D$6=Daten!N$11,Daten!M$11,IF(Daten!D$6=Daten!N$13,Daten!M$13,IF(AND(Daten!$D$6=Daten!$M$10,Daten!$D$8=TRUE),Daten!$M$14,Daten!D$6))))","v":""},{"$f":"IF($A127=\"\",\"\",IF(OR(O127=\"Putzbord\",O127=\"Flexila PU\"),Daten!$D$15,IF(OR(O127=\"Stehbord\",O127=\"Stehbord HB\",O127=\"Flexila STB\",O127=\"Jalousiebord\"),Daten!$D$19,\"-\")))","v":""},{"$f":"IF($A127=\"\",\"\",IF(O127=\"Putzbord\",Daten!$D$16,IF(O127=\"Flexila PU\",_xlfn.NUMBERVALUE(MID(Daten!$D$17,1,2)),\"-\")))","v":""},{"$f":"IF($A127=\"\",\"\",IF(OR(O127=\"Putzbord\",O127=\"Flexila PU\"),Daten!$D$18,IF(OR(O127=\"Stehbord\",O127=\"Stehbord HB\",O127=\"Flexila STB\",O127=\"Jalousiebord\"),Daten!$D$21,\"-\")))","v":""},{"$f":"IF(A127=\"\",\"\",IF(Daten!D$6=Daten!N$11,Daten!M$11,IF(Daten!D$6=Daten!N$13,Daten!M$13,IF(AND(Daten!$D$6=Daten!$M$10,Daten!$D$8=TRUE),Daten!$M$14,Daten!D$6))))","v":""},{"$f":"IF($A127=\"\",\"\",IF(OR(S127=\"Putzbord\",S127=\"Flexila PU\"),Daten!$D$15,IF(OR(S127=\"Stehbord\",S127=\"Stehbord HB\",S127=\"Flexila STB\",S127=\"Jalousiebord\"),Daten!$D$19,\"-\")))","v":""},{"$f":"IF($A127=\"\",\"\",IF(S127=\"Putzbord\",Daten!$D$16,IF(S127=\"Flexila PU\",_xlfn.NUMBERVALUE(MID(Daten!$D$17,1,2)),\"-\")))","v":""},{"$f":"IF($A127=\"\",\"\",IF(OR(S127=\"Putzbord\",S127=\"Flexila PU\"),Daten!$D$18,IF(OR(S127=\"Stehbord\",S127=\"Stehbord HB\",S127=\"Flexila STB\",S127=\"Jalousiebord\"),Daten!$D$21,\"-\")))","v":""},{"$f":"IF(A127=\"\",\"\",IF(AND(Daten!D$6=\"Jalousiebord\",OR(O127=\"Stehbord\",S127=\"Stehbord\")),\"Jalousienklinkung\",\"\"))","v":""},{"$f":"IF(W127=\"\",\"\",Daten!D$20)","v":""},null,null,{"$f":"IF(A127=\"\",\"\",IF(Daten!F$1=\"A\",\"Ohne\",IF(OR(N127=\"Gerstenkorn roh\",N127=\"Riffelblech roh\"),\"XPS\",Daten!F$2)))","v":""},{"$f":"IF(A127=\"\",\"\",IF(AA127=\"Ohne\",\"A\",IF(AA127=\"XPS\",IF(Daten!F$1=\"D\",\"B\",Daten!F$1),Daten!F$1)))","v":""},{"$f":"IF(A127=\"\",\"\",IF(AB127=\"A\",\"-\",Daten!F$7))","v":""},{"$f":"IF(A127=\"\",\"\",IF(AB127=\"A\",\"-\",IF(AND(Daten!F$8=0,O127=\"Putzbord\"),5-Q127,0)))","v":""},{"$f":"IF(A127=\"\",\"\",IF(AB127=\"A\",\"-\",IF(AND(Daten!F$8=0,S127=\"Putzbord\"),5-U127,0)))","v":""},{"$f":"IF(A127=\"\",\"\",IF(AB127=\"A\",\"-\",Daten!F$10))","v":""},{"$f":"IFERROR(IF(A127=\"\",\"\",VLOOKUP(N127,Daten!N$1:O$7,2,FALSE)),\"\")","v":""}]
[null,null,null,{"$f":"IF(A128=\"\",\"\",IF(Daten!B$3=TRUE,Daten!B$7,\"\"))","v":""},{"$f":"IFERROR(IF(C128=\"\",\"\",C128+(2*D128)+IF(O128=Daten!M$13,6,0)+IF(S128=Daten!M$13,6,0)+IF(Q128=\"-\",0,Q128)+IF(U128=\"-\",0,U128)),\"\")","v":""},{"$f":"IF(OR(A128=\"\",AND(F$1=0,Daten!F$3=FALSE)),\"\",Daten!B$6)","v":""},{"$f":"IF(A128=\"\",\"\",IF(Daten!B$5=\"??\",\"\",Daten!B$5))","v":""},{"$f":"IF(A128=\"\",\"\",IF(Daten!B$3=FALSE,\"\",Daten!B$4))","v":""},{"$f":"IFERROR(IF(A128=\"\",\"\",G128+H128+IF(AND(G128>0,H128>0),5,0))-IF(Daten!H$21=TRUE,H128,0),\"\")","v":""},{"$f":"IFERROR(IF(A128=\"\",\"\",I128+IF(Daten!H$21=TRUE,H128,0)+IF(F128=\"\",0,F128)-IF(Daten!F$3=TRUE,Daten!F$10,0)),\"\")","v":""},{"$f":"IF(A128=\"\",\"\",Daten!D$14)","v":""},{"$f":"IF(A128=\"\",\"\",Daten!D$12)","v":""},{"$f":"IF(A128=\"\",\"\",Daten!D$13)","v":""},{"$f":"IF(A128=\"\",\"\",Daten!M$2)","v":""},{"$f":"IF(A128=\"\",\"\",IF(Daten!D$6=Daten!N$11,Daten!M$11,IF(Daten!D$6=Daten!N$13,Daten!M$13,IF(AND(Daten!$D$6=Daten!$M$10,Daten!$D$8=TRUE),Daten!$M$14,Daten!D$6))))","v":""},{"$f":"IF($A128=\"\",\"\",IF(OR(O128=\"Putzbord\",O128=\"Flexila PU\"),Daten!$D$15,IF(OR(O128=\"Stehbord\",O128=\"Stehbord HB\",O128=\"Flexila STB\",O128=\"Jalousiebord\"),Daten!$D$19,\"-\")))","v":""},{"$f":"IF($A128=\"\",\"\",IF(O128=\"Putzbord\",Daten!$D$16,IF(O128=\"Flexila PU\",_xlfn.NUMBERVALUE(MID(Daten!$D$17,1,2)),\"-\")))","v":""},{"$f":"IF($A128=\"\",\"\",IF(OR(O128=\"Putzbord\",O128=\"Flexila PU\"),Daten!$D$18,IF(OR(O128=\"Stehbord\",O128=\"Stehbord HB\",O128=\"Flexila STB\",O128=\"Jalousiebord\"),Daten!$D$21,\"-\")))","v":""},{"$f":"IF(A128=\"\",\"\",IF(Daten!D$6=Daten!N$11,Daten!M$11,IF(Daten!D$6=Daten!N$13,Daten!M$13,IF(AND(Daten!$D$6=Daten!$M$10,Daten!$D$8=TRUE),Daten!$M$14,Daten!D$6))))","v":""},{"$f":"IF($A128=\"\",\"\",IF(OR(S128=\"Putzbord\",S128=\"Flexila PU\"),Daten!$D$15,IF(OR(S128=\"Stehbord\",S128=\"Stehbord HB\",S128=\"Flexila STB\",S128=\"Jalousiebord\"),Daten!$D$19,\"-\")))","v":""},{"$f":"IF($A128=\"\",\"\",IF(S128=\"Putzbord\",Daten!$D$16,IF(S128=\"Flexila PU\",_xlfn.NUMBERVALUE(MID(Daten!$D$17,1,2)),\"-\")))","v":""},{"$f":"IF($A128=\"\",\"\",IF(OR(S128=\"Putzbord\",S128=\"Flexila PU\"),Daten!$D$18,IF(OR(S128=\"Stehbord\",S128=\"Stehbord HB\",S128=\"Flexila STB\",S128=\"Jalousiebord\"),Daten!$D$21,\"-\")))","v":""},{"$f":"IF(A128=\"\",\"\",IF(AND(Daten!D$6=\"Jalousiebord\",OR(O128=\"Stehbord\",S128=\"Stehbord\")),\"Jalousienklinkung\",\"\"))","v":""},{"$f":"IF(W128=\"\",\"\",Daten!D$20)","v":""},null,null,{"$f":"IF(A128=\"\",\"\",IF(Daten!F$1=\"A\",\"Ohne\",IF(OR(N128=\"Gerstenkorn roh\",N128=\"Riffelblech roh\"),\"XPS\",Daten!F$2)))","v":""},{"$f":"IF(A128=\"\",\"\",IF(AA128=\"Ohne\",\"A\",IF(AA128=\"XPS\",IF(Daten!F$1=\"D\",\"B\",Daten!F$1),Daten!F$1)))","v":""},{"$f":"IF(A128=\"\",\"\",IF(AB128=\"A\",\"-\",Daten!F$7))","v":""},{"$f":"IF(A128=\"\",\"\",IF(AB128=\"A\",\"-\",IF(AND(Daten!F$8=0,O128=\"Putzbord\"),5-Q128,0)))","v":""},{"$f":"IF(A128=\"\",\"\",IF(AB128=\"A\",\"-\",IF(AND(Daten!F$8=0,S128=\"Putzbord\"),5-U128,0)))","v":""},{"$f":"IF(A128=\"\",\"\",IF(AB128=\"A\",\"-\",Daten!F$10))","v":""},{"$f":"IFERROR(IF(A128=\"\",\"\",VLOOKUP(N128,Daten!N$1:O$7,2,FALSE)),\"\")","v":""}]
[null,null,null,{"$f":"IF(A129=\"\",\"\",IF(Daten!B$3=TRUE,Daten!B$7,\"\"))","v":""},{"$f":"IFERROR(IF(C129=\"\",\"\",C129+(2*D129)+IF(O129=Daten!M$13,6,0)+IF(S129=Daten!M$13,6,0)+IF(Q129=\"-\",0,Q129)+IF(U129=\"-\",0,U129)),\"\")","v":""},{"$f":"IF(OR(A129=\"\",AND(F$1=0,Daten!F$3=FALSE)),\"\",Daten!B$6)","v":""},{"$f":"IF(A129=\"\",\"\",IF(Daten!B$5=\"??\",\"\",Daten!B$5))","v":""},{"$f":"IF(A129=\"\",\"\",IF(Daten!B$3=FALSE,\"\",Daten!B$4))","v":""},{"$f":"IFERROR(IF(A129=\"\",\"\",G129+H129+IF(AND(G129>0,H129>0),5,0))-IF(Daten!H$21=TRUE,H129,0),\"\")","v":""},{"$f":"IFERROR(IF(A129=\"\",\"\",I129+IF(Daten!H$21=TRUE,H129,0)+IF(F129=\"\",0,F129)-IF(Daten!F$3=TRUE,Daten!F$10,0)),\"\")","v":""},{"$f":"IF(A129=\"\",\"\",Daten!D$14)","v":""},{"$f":"IF(A129=\"\",\"\",Daten!D$12)","v":""},{"$f":"IF(A129=\"\",\"\",Daten!D$13)","v":""},{"$f":"IF(A129=\"\",\"\",Daten!M$2)","v":""},{"$f":"IF(A129=\"\",\"\",IF(Daten!D$6=Daten!N$11,Daten!M$11,IF(Daten!D$6=Daten!N$13,Daten!M$13,IF(AND(Daten!$D$6=Daten!$M$10,Daten!$D$8=TRUE),Daten!$M$14,Daten!D$6))))","v":""},{"$f":"IF($A129=\"\",\"\",IF(OR(O129=\"Putzbord\",O129=\"Flexila PU\"),Daten!$D$15,IF(OR(O129=\"Stehbord\",O129=\"Stehbord HB\",O129=\"Flexila STB\",O129=\"Jalousiebord\"),Daten!$D$19,\"-\")))","v":""},{"$f":"IF($A129=\"\",\"\",IF(O129=\"Putzbord\",Daten!$D$16,IF(O129=\"Flexila PU\",_xlfn.NUMBERVALUE(MID(Daten!$D$17,1,2)),\"-\")))","v":""},{"$f":"IF($A129=\"\",\"\",IF(OR(O129=\"Putzbord\",O129=\"Flexila PU\"),Daten!$D$18,IF(OR(O129=\"Stehbord\",O129=\"Stehbord HB\",O129=\"Flexila STB\",O129=\"Jalousiebord\"),Daten!$D$21,\"-\")))","v":""},{"$f":"IF(A129=\"\",\"\",IF(Daten!D$6=Daten!N$11,Daten!M$11,IF(Daten!D$6=Daten!N$13,Daten!M$13,IF(AND(Daten!$D$6=Daten!$M$10,Daten!$D$8=TRUE),Daten!$M$14,Daten!D$6))))","v":""},{"$f":"IF($A129=\"\",\"\",IF(OR(S129=\"Putzbord\",S129=\"Flexila PU\"),Daten!$D$15,IF(OR(S129=\"Stehbord\",S129=\"Stehbord HB\",S129=\"Flexila STB\",S129=\"Jalousiebord\"),Daten!$D$19,\"-\")))","v":""},{"$f":"IF($A129=\"\",\"\",IF(S129=\"Putzbord\",Daten!$D$16,IF(S129=\"Flexila PU\",_xlfn.NUMBERVALUE(MID(Daten!$D$17,1,2)),\"-\")))","v":""},{"$f":"IF($A129=\"\",\"\",IF(OR(S129=\"Putzbord\",S129=\"Flexila PU\"),Daten!$D$18,IF(OR(S129=\"Stehbord\",S129=\"Stehbord HB\",S129=\"Flexila STB\",S129=\"Jalousiebord\"),Daten!$D$21,\"-\")))","v":""},{"$f":"IF(A129=\"\",\"\",IF(AND(Daten!D$6=\"Jalousiebord\",OR(O129=\"Stehbord\",S129=\"Stehbord\")),\"Jalousienklinkung\",\"\"))","v":""},{"$f":"IF(W129=\"\",\"\",Daten!D$20)","v":""},null,null,{"$f":"IF(A129=\"\",\"\",IF(Daten!F$1=\"A\",\"Ohne\",IF(OR(N129=\"Gerstenkorn roh\",N129=\"Riffelblech roh\"),\"XPS\",Daten!F$2)))","v":""},{"$f":"IF(A129=\"\",\"\",IF(AA129=\"Ohne\",\"A\",IF(AA129=\"XPS\",IF(Daten!F$1=\"D\",\"B\",Daten!F$1),Daten!F$1)))","v":""},{"$f":"IF(A129=\"\",\"\",IF(AB129=\"A\",\"-\",Daten!F$7))","v":""},{"$f":"IF(A129=\"\",\"\",IF(AB129=\"A\",\"-\",IF(AND(Daten!F$8=0,O129=\"Putzbord\"),5-Q129,0)))","v":""},{"$f":"IF(A129=\"\",\"\",IF(AB129=\"A\",\"-\",IF(AND(Daten!F$8=0,S129=\"Putzbord\"),5-U129,0)))","v":""},{"$f":"IF(A129=\"\",\"\",IF(AB129=\"A\",\"-\",Daten!F$10))","v":""},{"$f":"IFERROR(IF(A129=\"\",\"\",VLOOKUP(N129,Daten!N$1:O$7,2,FALSE)),\"\")","v":""}]
[null,null,null,{"$f":"IF(A130=\"\",\"\",IF(Daten!B$3=TRUE,Daten!B$7,\"\"))","v":""},{"$f":"IFERROR(IF(C130=\"\",\"\",C130+(2*D130)+IF(O130=Daten!M$13,6,0)+IF(S130=Daten!M$13,6,0)+IF(Q130=\"-\",0,Q130)+IF(U130=\"-\",0,U130)),\"\")","v":""},{"$f":"IF(OR(A130=\"\",AND(F$1=0,Daten!F$3=FALSE)),\"\",Daten!B$6)","v":""},{"$f":"IF(A130=\"\",\"\",IF(Daten!B$5=\"??\",\"\",Daten!B$5))","v":""},{"$f":"IF(A130=\"\",\"\",IF(Daten!B$3=FALSE,\"\",Daten!B$4))","v":""},{"$f":"IFERROR(IF(A130=\"\",\"\",G130+H130+IF(AND(G130>0,H130>0),5,0))-IF(Daten!H$21=TRUE,H130,0),\"\")","v":""},{"$f":"IFERROR(IF(A130=\"\",\"\",I130+IF(Daten!H$21=TRUE,H130,0)+IF(F130=\"\",0,F130)-IF(Daten!F$3=TRUE,Daten!F$10,0)),\"\")","v":""},{"$f":"IF(A130=\"\",\"\",Daten!D$14)","v":""},{"$f":"IF(A130=\"\",\"\",Daten!D$12)","v":""},{"$f":"IF(A130=\"\",\"\",Daten!D$13)","v":""},{"$f":"IF(A130=\"\",\"\",Daten!M$2)","v":""},{"$f":"IF(A130=\"\",\"\",IF(Daten!D$6=Daten!N$11,Daten!M$11,IF(Daten!D$6=Daten!N$13,Daten!M$13,IF(AND(Daten!$D$6=Daten!$M$10,Daten!$D$8=TRUE),Daten!$M$14,Daten!D$6))))","v":""},{"$f":"IF($A130=\"\",\"\",IF(OR(O130=\"Putzbord\",O130=\"Flexila PU\"),Daten!$D$15,IF(OR(O130=\"Stehbord\",O130=\"Stehbord HB\",O130=\"Flexila STB\",O130=\"Jalousiebord\"),Daten!$D$19,\"-\")))","v":""},{"$f":"IF($A130=\"\",\"\",IF(O130=\"Putzbord\",Daten!$D$16,IF(O130=\"Flexila PU\",_xlfn.NUMBERVALUE(MID(Daten!$D$17,1,2)),\"-\")))","v":""},{"$f":"IF($A130=\"\",\"\",IF(OR(O130=\"Putzbord\",O130=\"Flexila PU\"),Daten!$D$18,IF(OR(O130=\"Stehbord\",O130=\"Stehbord HB\",O130=\"Flexila STB\",O130=\"Jalousiebord\"),Daten!$D$21,\"-\")))","v":""},{"$f":"IF(A130=\"\",\"\",IF(Daten!D$6=Daten!N$11,Daten!M$11,IF(Daten!D$6=Daten!N$13,Daten!M$13,IF(AND(Daten!$D$6=Daten!$M$10,Daten!$D$8=TRUE),Daten!$M$14,Daten!D$6))))","v":""},{"$f":"IF($A130=\"\",\"\",IF(OR(S130=\"Putzbord\",S130=\"Flexila PU\"),Daten!$D$15,IF(OR(S130=\"Stehbord\",S130=\"Stehbord HB\",S130=\"Flexila STB\",S130=\"Jalousiebord\"),Daten!$D$19,\"-\")))","v":""},{"$f":"IF($A130=\"\",\"\",IF(S130=\"Putzbord\",Daten!$D$16,IF(S130=\"Flexila PU\",_xlfn.NUMBERVALUE(MID(Daten!$D$17,1,2)),\"-\")))","v":""},{"$f":"IF($A130=\"\",\"\",IF(OR(S130=\"Putzbord\",S130=\"Flexila PU\"),Daten!$D$18,IF(OR(S130=\"Stehbord\",S130=\"Stehbord HB\",S130=\"Flexila STB\",S130=\"Jalousiebord\"),Daten!$D$21,\"-\")))","v":""},{"$f":"IF(A130=\"\",\"\",IF(AND(Daten!D$6=\"Jalousiebord\",OR(O130=\"Stehbord\",S130=\"Stehbord\")),\"Jalousienklinkung\",\"\"))","v":""},{"$f":"IF(W130=\"\",\"\",Daten!D$20)","v":""},null,null,{"$f":"IF(A130=\"\",\"\",IF(Daten!F$1=\"A\",\"Ohne\",IF(OR(N130=\"Gerstenkorn roh\",N130=\"Riffelblech roh\"),\"XPS\",Daten!F$2)))","v":""},{"$f":"IF(A130=\"\",\"\",IF(AA130=\"Ohne\",\"A\",IF(AA130=\"XPS\",IF(Daten!F$1=\"D\",\"B\",Daten!F$1),Daten!F$1)))","v":""},{"$f":"IF(A130=\"\",\"\",IF(AB130=\"A\",\"-\",Daten!F$7))","v":""},{"$f":"IF(A130=\"\",\"\",IF(AB130=\"A\",\"-\",IF(AND(Daten!F$8=0,O130=\"Putzbord\"),5-Q130,0)))","v":""},{"$f":"IF(A130=\"\",\"\",IF(AB130=\"A\",\"-\",IF(AND(Daten!F$8=0,S130=\"Putzbord\"),5-U130,0)))","v":""},{"$f":"IF(A130=\"\",\"\",IF(AB130=\"A\",\"-\",Daten!F$10))","v":""},{"$f":"IFERROR(IF(A130=\"\",\"\",VLOOKUP(N130,Daten!N$1:O$7,2,FALSE)),\"\")","v":""}]
[null,null,null,{"$f":"IF(A131=\"\",\"\",IF(Daten!B$3=TRUE,Daten!B$7,\"\"))","v":""},{"$f":"IFERROR(IF(C131=\"\",\"\",C131+(2*D131)+IF(O131=Daten!M$13,6,0)+IF(S131=Daten!M$13,6,0)+IF(Q131=\"-\",0,Q131)+IF(U131=\"-\",0,U131)),\"\")","v":""},{"$f":"IF(OR(A131=\"\",AND(F$1=0,Daten!F$3=FALSE)),\"\",Daten!B$6)","v":""},{"$f":"IF(A131=\"\",\"\",IF(Daten!B$5=\"??\",\"\",Daten!B$5))","v":""},{"$f":"IF(A131=\"\",\"\",IF(Daten!B$3=FALSE,\"\",Daten!B$4))","v":""},{"$f":"IFERROR(IF(A131=\"\",\"\",G131+H131+IF(AND(G131>0,H131>0),5,0))-IF(Daten!H$21=TRUE,H131,0),\"\")","v":""},{"$f":"IFERROR(IF(A131=\"\",\"\",I131+IF(Daten!H$21=TRUE,H131,0)+IF(F131=\"\",0,F131)-IF(Daten!F$3=TRUE,Daten!F$10,0)),\"\")","v":""},{"$f":"IF(A131=\"\",\"\",Daten!D$14)","v":""},{"$f":"IF(A131=\"\",\"\",Daten!D$12)","v":""},{"$f":"IF(A131=\"\",\"\",Daten!D$13)","v":""},{"$f":"IF(A131=\"\",\"\",Daten!M$2)","v":""},{"$f":"IF(A131=\"\",\"\",IF(Daten!D$6=Daten!N$11,Daten!M$11,IF(Daten!D$6=Daten!N$13,Daten!M$13,IF(AND(Daten!$D$6=Daten!$M$10,Daten!$D$8=TRUE),Daten!$M$14,Daten!D$6))))","v":""},{"$f":"IF($A131=\"\",\"\",IF(OR(O131=\"Putzbord\",O131=\"Flexila PU\"),Daten!$D$15,IF(OR(O131=\"Stehbord\",O131=\"Stehbord HB\",O131=\"Flexila STB\",O131=\"Jalousiebord\"),Daten!$D$19,\"-\")))","v":""},{"$f":"IF($A131=\"\",\"\",IF(O131=\"Putzbord\",Daten!$D$16,IF(O131=\"Flexila PU\",_xlfn.NUMBERVALUE(MID(Daten!$D$17,1,2)),\"-\")))","v":""},{"$f":"IF($A131=\"\",\"\",IF(OR(O131=\"Putzbord\",O131=\"Flexila PU\"),Daten!$D$18,IF(OR(O131=\"Stehbord\",O131=\"Stehbord HB\",O131=\"Flexila STB\",O131=\"Jalousiebord\"),Daten!$D$21,\"-\")))","v":""},{"$f":"IF(A131=\"\",\"\",IF(Daten!D$6=Daten!N$11,Daten!M$11,IF(Daten!D$6=Daten!N$13,Daten!M$13,IF(AND(Daten!$D$6=Daten!$M$10,Daten!$D$8=TRUE),Daten!$M$14,Daten!D$6))))","v":""},{"$f":"IF($A131=\"\",\"\",IF(OR(S131=\"Putzbord\",S131=\"Flexila PU\"),Daten!$D$15,IF(OR(S131=\"Stehbord\",S131=\"Stehbord HB\",S131=\"Flexila STB\",S131=\"Jalousiebord\"),Daten!$D$19,\"-\")))","v":""},{"$f":"IF($A131=\"\",\"\",IF(S131=\"Putzbord\",Daten!$D$16,IF(S131=\"Flexila PU\",_xlfn.NUMBERVALUE(MID(Daten!$D$17,1,2)),\"-\")))","v":""},{"$f":"IF($A131=\"\",\"\",IF(OR(S131=\"Putzbord\",S131=\"Flexila PU\"),Daten!$D$18,IF(OR(S131=\"Stehbord\",S131=\"Stehbord HB\",S131=\"Flexila STB\",S131=\"Jalousiebord\"),Daten!$D$21,\"-\")))","v":""},{"$f":"IF(A131=\"\",\"\",IF(AND(Daten!D$6=\"Jalousiebord\",OR(O131=\"Stehbord\",S131=\"Stehbord\")),\"Jalousienklinkung\",\"\"))","v":""},{"$f":"IF(W131=\"\",\"\",Daten!D$20)","v":""},null,null,{"$f":"IF(A131=\"\",\"\",IF(Daten!F$1=\"A\",\"Ohne\",IF(OR(N131=\"Gerstenkorn roh\",N131=\"Riffelblech roh\"),\"XPS\",Daten!F$2)))","v":""},{"$f":"IF(A131=\"\",\"\",IF(AA131=\"Ohne\",\"A\",IF(AA131=\"XPS\",IF(Daten!F$1=\"D\",\"B\",Daten!F$1),Daten!F$1)))","v":""},{"$f":"IF(A131=\"\",\"\",IF(AB131=\"A\",\"-\",Daten!F$7))","v":""},{"$f":"IF(A131=\"\",\"\",IF(AB131=\"A\",\"-\",IF(AND(Daten!F$8=0,O131=\"Putzbord\"),5-Q131,0)))","v":""},{"$f":"IF(A131=\"\",\"\",IF(AB131=\"A\",\"-\",IF(AND(Daten!F$8=0,S131=\"Putzbord\"),5-U131,0)))","v":""},{"$f":"IF(A131=\"\",\"\",IF(AB131=\"A\",\"-\",Daten!F$10))","v":""},{"$f":"IFERROR(IF(A131=\"\",\"\",VLOOKUP(N131,Daten!N$1:O$7,2,FALSE)),\"\")","v":""}]
[null,null,null,{"$f":"IF(A132=\"\",\"\",IF(Daten!B$3=TRUE,Daten!B$7,\"\"))","v":""},{"$f":"IFERROR(IF(C132=\"\",\"\",C132+(2*D132)+IF(O132=Daten!M$13,6,0)+IF(S132=Daten!M$13,6,0)+IF(Q132=\"-\",0,Q132)+IF(U132=\"-\",0,U132)),\"\")","v":""},{"$f":"IF(OR(A132=\"\",AND(F$1=0,Daten!F$3=FALSE)),\"\",Daten!B$6)","v":""},{"$f":"IF(A132=\"\",\"\",IF(Daten!B$5=\"??\",\"\",Daten!B$5))","v":""},{"$f":"IF(A132=\"\",\"\",IF(Daten!B$3=FALSE,\"\",Daten!B$4))","v":""},{"$f":"IFERROR(IF(A132=\"\",\"\",G132+H132+IF(AND(G132>0,H132>0),5,0))-IF(Daten!H$21=TRUE,H132,0),\"\")","v":""},{"$f":"IFERROR(IF(A132=\"\",\"\",I132+IF(Daten!H$21=TRUE,H132,0)+IF(F132=\"\",0,F132)-IF(Daten!F$3=TRUE,Daten!F$10,0)),\"\")","v":""},{"$f":"IF(A132=\"\",\"\",Daten!D$14)","v":""},{"$f":"IF(A132=\"\",\"\",Daten!D$12)","v":""},{"$f":"IF(A132=\"\",\"\",Daten!D$13)","v":""},{"$f":"IF(A132=\"\",\"\",Daten!M$2)","v":""},{"$f":"IF(A132=\"\",\"\",IF(Daten!D$6=Daten!N$11,Daten!M$11,IF(Daten!D$6=Daten!N$13,Daten!M$13,IF(AND(Daten!$D$6=Daten!$M$10,Daten!$D$8=TRUE),Daten!$M$14,Daten!D$6))))","v":""},{"$f":"IF($A132=\"\",\"\",IF(OR(O132=\"Putzbord\",O132=\"Flexila PU\"),Daten!$D$15,IF(OR(O132=\"Stehbord\",O132=\"Stehbord HB\",O132=\"Flexila STB\",O132=\"Jalousiebord\"),Daten!$D$19,\"-\")))","v":""},{"$f":"IF($A132=\"\",\"\",IF(O132=\"Putzbord\",Daten!$D$16,IF(O132=\"Flexila PU\",_xlfn.NUMBERVALUE(MID(Daten!$D$17,1,2)),\"-\")))","v":""},{"$f":"IF($A132=\"\",\"\",IF(OR(O132=\"Putzbord\",O132=\"Flexila PU\"),Daten!$D$18,IF(OR(O132=\"Stehbord\",O132=\"Stehbord HB\",O132=\"Flexila STB\",O132=\"Jalousiebord\"),Daten!$D$21,\"-\")))","v":""},{"$f":"IF(A132=\"\",\"\",IF(Daten!D$6=Daten!N$11,Daten!M$11,IF(Daten!D$6=Daten!N$13,Daten!M$13,IF(AND(Daten!$D$6=Daten!$M$10,Daten!$D$8=TRUE),Daten!$M$14,Daten!D$6))))","v":""},{"$f":"IF($A132=\"\",\"\",IF(OR(S132=\"Putzbord\",S132=\"Flexila PU\"),Daten!$D$15,IF(OR(S132=\"Stehbord\",S132=\"Stehbord HB\",S132=\"Flexila STB\",S132=\"Jalousiebord\"),Daten!$D$19,\"-\")))","v":""},{"$f":"IF($A132=\"\",\"\",IF(S132=\"Putzbord\",Daten!$D$16,IF(S132=\"Flexila PU\",_xlfn.NUMBERVALUE(MID(Daten!$D$17,1,2)),\"-\")))","v":""},{"$f":"IF($A132=\"\",\"\",IF(OR(S132=\"Putzbord\",S132=\"Flexila PU\"),Daten!$D$18,IF(OR(S132=\"Stehbord\",S132=\"Stehbord HB\",S132=\"Flexila STB\",S132=\"Jalousiebord\"),Daten!$D$21,\"-\")))","v":""},{"$f":"IF(A132=\"\",\"\",IF(AND(Daten!D$6=\"Jalousiebord\",OR(O132=\"Stehbord\",S132=\"Stehbord\")),\"Jalousienklinkung\",\"\"))","v":""},{"$f":"IF(W132=\"\",\"\",Daten!D$20)","v":""},null,null,{"$f":"IF(A132=\"\",\"\",IF(Daten!F$1=\"A\",\"Ohne\",IF(OR(N132=\"Gerstenkorn roh\",N132=\"Riffelblech roh\"),\"XPS\",Daten!F$2)))","v":""},{"$f":"IF(A132=\"\",\"\",IF(AA132=\"Ohne\",\"A\",IF(AA132=\"XPS\",IF(Daten!F$1=\"D\",\"B\",Daten!F$1),Daten!F$1)))","v":""},{"$f":"IF(A132=\"\",\"\",IF(AB132=\"A\",\"-\",Daten!F$7))","v":""},{"$f":"IF(A132=\"\",\"\",IF(AB132=\"A\",\"-\",IF(AND(Daten!F$8=0,O132=\"Putzbord\"),5-Q132,0)))","v":""},{"$f":"IF(A132=\"\",\"\",IF(AB132=\"A\",\"-\",IF(AND(Daten!F$8=0,S132=\"Putzbord\"),5-U132,0)))","v":""},{"$f":"IF(A132=\"\",\"\",IF(AB132=\"A\",\"-\",Daten!F$10))","v":""},{"$f":"IFERROR(IF(A132=\"\",\"\",VLOOKUP(N132,Daten!N$1:O$7,2,FALSE)),\"\")","v":""}]
[null,null,null,{"$f":"IF(A133=\"\",\"\",IF(Daten!B$3=TRUE,Daten!B$7,\"\"))","v":""},{"$f":"IFERROR(IF(C133=\"\",\"\",C133+(2*D133)+IF(O133=Daten!M$13,6,0)+IF(S133=Daten!M$13,6,0)+IF(Q133=\"-\",0,Q133)+IF(U133=\"-\",0,U133)),\"\")","v":""},{"$f":"IF(OR(A133=\"\",AND(F$1=0,Daten!F$3=FALSE)),\"\",Daten!B$6)","v":""},{"$f":"IF(A133=\"\",\"\",IF(Daten!B$5=\"??\",\"\",Daten!B$5))","v":""},{"$f":"IF(A133=\"\",\"\",IF(Daten!B$3=FALSE,\"\",Daten!B$4))","v":""},{"$f":"IFERROR(IF(A133=\"\",\"\",G133+H133+IF(AND(G133>0,H133>0),5,0))-IF(Daten!H$21=TRUE,H133,0),\"\")","v":""},{"$f":"IFERROR(IF(A133=\"\",\"\",I133+IF(Daten!H$21=TRUE,H133,0)+IF(F133=\"\",0,F133)-IF(Daten!F$3=TRUE,Daten!F$10,0)),\"\")","v":""},{"$f":"IF(A133=\"\",\"\",Daten!D$14)","v":""},{"$f":"IF(A133=\"\",\"\",Daten!D$12)","v":""},{"$f":"IF(A133=\"\",\"\",Daten!D$13)","v":""},{"$f":"IF(A133=\"\",\"\",Daten!M$2)","v":""},{"$f":"IF(A133=\"\",\"\",IF(Daten!D$6=Daten!N$11,Daten!M$11,IF(Daten!D$6=Daten!N$13,Daten!M$13,IF(AND(Daten!$D$6=Daten!$M$10,Daten!$D$8=TRUE),Daten!$M$14,Daten!D$6))))","v":""},{"$f":"IF($A133=\"\",\"\",IF(OR(O133=\"Putzbord\",O133=\"Flexila PU\"),Daten!$D$15,IF(OR(O133=\"Stehbord\",O133=\"Stehbord HB\",O133=\"Flexila STB\",O133=\"Jalousiebord\"),Daten!$D$19,\"-\")))","v":""},{"$f":"IF($A133=\"\",\"\",IF(O133=\"Putzbord\",Daten!$D$16,IF(O133=\"Flexila PU\",_xlfn.NUMBERVALUE(MID(Daten!$D$17,1,2)),\"-\")))","v":""},{"$f":"IF($A133=\"\",\"\",IF(OR(O133=\"Putzbord\",O133=\"Flexila PU\"),Daten!$D$18,IF(OR(O133=\"Stehbord\",O133=\"Stehbord HB\",O133=\"Flexila STB\",O133=\"Jalousiebord\"),Daten!$D$21,\"-\")))","v":""},{"$f":"IF(A133=\"\",\"\",IF(Daten!D$6=Daten!N$11,Daten!M$11,IF(Daten!D$6=Daten!N$13,Daten!M$13,IF(AND(Daten!$D$6=Daten!$M$10,Daten!$D$8=TRUE),Daten!$M$14,Daten!D$6))))","v":""},{"$f":"IF($A133=\"\",\"\",IF(OR(S133=\"Putzbord\",S133=\"Flexila PU\"),Daten!$D$15,IF(OR(S133=\"Stehbord\",S133=\"Stehbord HB\",S133=\"Flexila STB\",S133=\"Jalousiebord\"),Daten!$D$19,\"-\")))","v":""},{"$f":"IF($A133=\"\",\"\",IF(S133=\"Putzbord\",Daten!$D$16,IF(S133=\"Flexila PU\",_xlfn.NUMBERVALUE(MID(Daten!$D$17,1,2)),\"-\")))","v":""},{"$f":"IF($A133=\"\",\"\",IF(OR(S133=\"Putzbord\",S133=\"Flexila PU\"),Daten!$D$18,IF(OR(S133=\"Stehbord\",S133=\"Stehbord HB\",S133=\"Flexila STB\",S133=\"Jalousiebord\"),Daten!$D$21,\"-\")))","v":""},{"$f":"IF(A133=\"\",\"\",IF(AND(Daten!D$6=\"Jalousiebord\",OR(O133=\"Stehbord\",S133=\"Stehbord\")),\"Jalousienklinkung\",\"\"))","v":""},{"$f":"IF(W133=\"\",\"\",Daten!D$20)","v":""},null,null,{"$f":"IF(A133=\"\",\"\",IF(Daten!F$1=\"A\",\"Ohne\",IF(OR(N133=\"Gerstenkorn roh\",N133=\"Riffelblech roh\"),\"XPS\",Daten!F$2)))","v":""},{"$f":"IF(A133=\"\",\"\",IF(AA133=\"Ohne\",\"A\",IF(AA133=\"XPS\",IF(Daten!F$1=\"D\",\"B\",Daten!F$1),Daten!F$1)))","v":""},{"$f":"IF(A133=\"\",\"\",IF(AB133=\"A\",\"-\",Daten!F$7))","v":""},{"$f":"IF(A133=\"\",\"\",IF(AB133=\"A\",\"-\",IF(AND(Daten!F$8=0,O133=\"Putzbord\"),5-Q133,0)))","v":""},{"$f":"IF(A133=\"\",\"\",IF(AB133=\"A\",\"-\",IF(AND(Daten!F$8=0,S133=\"Putzbord\"),5-U133,0)))","v":""},{"$f":"IF(A133=\"\",\"\",IF(AB133=\"A\",\"-\",Daten!F$10))","v":""},{"$f":"IFERROR(IF(A133=\"\",\"\",VLOOKUP(N133,Daten!N$1:O$7,2,FALSE)),\"\")","v":""}]
[null,null,null,{"$f":"IF(A134=\"\",\"\",IF(Daten!B$3=TRUE,Daten!B$7,\"\"))","v":""},{"$f":"IFERROR(IF(C134=\"\",\"\",C134+(2*D134)+IF(O134=Daten!M$13,6,0)+IF(S134=Daten!M$13,6,0)+IF(Q134=\"-\",0,Q134)+IF(U134=\"-\",0,U134)),\"\")","v":""},{"$f":"IF(OR(A134=\"\",AND(F$1=0,Daten!F$3=FALSE)),\"\",Daten!B$6)","v":""},{"$f":"IF(A134=\"\",\"\",IF(Daten!B$5=\"??\",\"\",Daten!B$5))","v":""},{"$f":"IF(A134=\"\",\"\",IF(Daten!B$3=FALSE,\"\",Daten!B$4))","v":""},{"$f":"IFERROR(IF(A134=\"\",\"\",G134+H134+IF(AND(G134>0,H134>0),5,0))-IF(Daten!H$21=TRUE,H134,0),\"\")","v":""},{"$f":"IFERROR(IF(A134=\"\",\"\",I134+IF(Daten!H$21=TRUE,H134,0)+IF(F134=\"\",0,F134)-IF(Daten!F$3=TRUE,Daten!F$10,0)),\"\")","v":""},{"$f":"IF(A134=\"\",\"\",Daten!D$14)","v":""},{"$f":"IF(A134=\"\",\"\",Daten!D$12)","v":""},{"$f":"IF(A134=\"\",\"\",Daten!D$13)","v":""},{"$f":"IF(A134=\"\",\"\",Daten!M$2)","v":""},{"$f":"IF(A134=\"\",\"\",IF(Daten!D$6=Daten!N$11,Daten!M$11,IF(Daten!D$6=Daten!N$13,Daten!M$13,IF(AND(Daten!$D$6=Daten!$M$10,Daten!$D$8=TRUE),Daten!$M$14,Daten!D$6))))","v":""},{"$f":"IF($A134=\"\",\"\",IF(OR(O134=\"Putzbord\",O134=\"Flexila PU\"),Daten!$D$15,IF(OR(O134=\"Stehbord\",O134=\"Stehbord HB\",O134=\"Flexila STB\",O134=\"Jalousiebord\"),Daten!$D$19,\"-\")))","v":""},{"$f":"IF($A134=\"\",\"\",IF(O134=\"Putzbord\",Daten!$D$16,IF(O134=\"Flexila PU\",_xlfn.NUMBERVALUE(MID(Daten!$D$17,1,2)),\"-\")))","v":""},{"$f":"IF($A134=\"\",\"\",IF(OR(O134=\"Putzbord\",O134=\"Flexila PU\"),Daten!$D$18,IF(OR(O134=\"Stehbord\",O134=\"Stehbord HB\",O134=\"Flexila STB\",O134=\"Jalousiebord\"),Daten!$D$21,\"-\")))","v":""},{"$f":"IF(A134=\"\",\"\",IF(Daten!D$6=Daten!N$11,Daten!M$11,IF(Daten!D$6=Daten!N$13,Daten!M$13,IF(AND(Daten!$D$6=Daten!$M$10,Daten!$D$8=TRUE),Daten!$M$14,Daten!D$6))))","v":""},{"$f":"IF($A134=\"\",\"\",IF(OR(S134=\"Putzbord\",S134=\"Flexila PU\"),Daten!$D$15,IF(OR(S134=\"Stehbord\",S134=\"Stehbord HB\",S134=\"Flexila STB\",S134=\"Jalousiebord\"),Daten!$D$19,\"-\")))","v":""},{"$f":"IF($A134=\"\",\"\",IF(S134=\"Putzbord\",Daten!$D$16,IF(S134=\"Flexila PU\",_xlfn.NUMBERVALUE(MID(Daten!$D$17,1,2)),\"-\")))","v":""},{"$f":"IF($A134=\"\",\"\",IF(OR(S134=\"Putzbord\",S134=\"Flexila PU\"),Daten!$D$18,IF(OR(S134=\"Stehbord\",S134=\"Stehbord HB\",S134=\"Flexila STB\",S134=\"Jalousiebord\"),Daten!$D$21,\"-\")))","v":""},{"$f":"IF(A134=\"\",\"\",IF(AND(Daten!D$6=\"Jalousiebord\",OR(O134=\"Stehbord\",S134=\"Stehbord\")),\"Jalousienklinkung\",\"\"))","v":""},{"$f":"IF(W134=\"\",\"\",Daten!D$20)","v":""},null,null,{"$f":"IF(A134=\"\",\"\",IF(Daten!F$1=\"A\",\"Ohne\",IF(OR(N134=\"Gerstenkorn roh\",N134=\"Riffelblech roh\"),\"XPS\",Daten!F$2)))","v":""},{"$f":"IF(A134=\"\",\"\",IF(AA134=\"Ohne\",\"A\",IF(AA134=\"XPS\",IF(Daten!F$1=\"D\",\"B\",Daten!F$1),Daten!F$1)))","v":""},{"$f":"IF(A134=\"\",\"\",IF(AB134=\"A\",\"-\",Daten!F$7))","v":""},{"$f":"IF(A134=\"\",\"\",IF(AB134=\"A\",\"-\",IF(AND(Daten!F$8=0,O134=\"Putzbord\"),5-Q134,0)))","v":""},{"$f":"IF(A134=\"\",\"\",IF(AB134=\"A\",\"-\",IF(AND(Daten!F$8=0,S134=\"Putzbord\"),5-U134,0)))","v":""},{"$f":"IF(A134=\"\",\"\",IF(AB134=\"A\",\"-\",Daten!F$10))","v":""},{"$f":"IFERROR(IF(A134=\"\",\"\",VLOOKUP(N134,Daten!N$1:O$7,2,FALSE)),\"\")","v":""}]
[null,null,null,{"$f":"IF(A135=\"\",\"\",IF(Daten!B$3=TRUE,Daten!B$7,\"\"))","v":""},{"$f":"IFERROR(IF(C135=\"\",\"\",C135+(2*D135)+IF(O135=Daten!M$13,6,0)+IF(S135=Daten!M$13,6,0)+IF(Q135=\"-\",0,Q135)+IF(U135=\"-\",0,U135)),\"\")","v":""},{"$f":"IF(OR(A135=\"\",AND(F$1=0,Daten!F$3=FALSE)),\"\",Daten!B$6)","v":""},{"$f":"IF(A135=\"\",\"\",IF(Daten!B$5=\"??\",\"\",Daten!B$5))","v":""},{"$f":"IF(A135=\"\",\"\",IF(Daten!B$3=FALSE,\"\",Daten!B$4))","v":""},{"$f":"IFERROR(IF(A135=\"\",\"\",G135+H135+IF(AND(G135>0,H135>0),5,0))-IF(Daten!H$21=TRUE,H135,0),\"\")","v":""},{"$f":"IFERROR(IF(A135=\"\",\"\",I135+IF(Daten!H$21=TRUE,H135,0)+IF(F135=\"\",0,F135)-IF(Daten!F$3=TRUE,Daten!F$10,0)),\"\")","v":""},{"$f":"IF(A135=\"\",\"\",Daten!D$14)","v":""},{"$f":"IF(A135=\"\",\"\",Daten!D$12)","v":""},{"$f":"IF(A135=\"\",\"\",Daten!D$13)","v":""},{"$f":"IF(A135=\"\",\"\",Daten!M$2)","v":""},{"$f":"IF(A135=\"\",\"\",IF(Daten!D$6=Daten!N$11,Daten!M$11,IF(Daten!D$6=Daten!N$13,Daten!M$13,IF(AND(Daten!$D$6=Daten!$M$10,Daten!$D$8=TRUE),Daten!$M$14,Daten!D$6))))","v":""},{"$f":"IF($A135=\"\",\"\",IF(OR(O135=\"Putzbord\",O135=\"Flexila PU\"),Daten!$D$15,IF(OR(O135=\"Stehbord\",O135=\"Stehbord HB\",O135=\"Flexila STB\",O135=\"Jalousiebord\"),Daten!$D$19,\"-\")))","v":""},{"$f":"IF($A135=\"\",\"\",IF(O135=\"Putzbord\",Daten!$D$16,IF(O135=\"Flexila PU\",_xlfn.NUMBERVALUE(MID(Daten!$D$17,1,2)),\"-\")))","v":""},{"$f":"IF($A135=\"\",\"\",IF(OR(O135=\"Putzbord\",O135=\"Flexila PU\"),Daten!$D$18,IF(OR(O135=\"Stehbord\",O135=\"Stehbord HB\",O135=\"Flexila STB\",O135=\"Jalousiebord\"),Daten!$D$21,\"-\")))","v":""},{"$f":"IF(A135=\"\",\"\",IF(Daten!D$6=Daten!N$11,Daten!M$11,IF(Daten!D$6=Daten!N$13,Daten!M$13,IF(AND(Daten!$D$6=Daten!$M$10,Daten!$D$8=TRUE),Daten!$M$14,Daten!D$6))))","v":""},{"$f":"IF($A135=\"\",\"\",IF(OR(S135=\"Putzbord\",S135=\"Flexila PU\"),Daten!$D$15,IF(OR(S135=\"Stehbord\",S135=\"Stehbord HB\",S135=\"Flexila STB\",S135=\"Jalousiebord\"),Daten!$D$19,\"-\")))","v":""},{"$f":"IF($A135=\"\",\"\",IF(S135=\"Putzbord\",Daten!$D$16,IF(S135=\"Flexila PU\",_xlfn.NUMBERVALUE(MID(Daten!$D$17,1,2)),\"-\")))","v":""},{"$f":"IF($A135=\"\",\"\",IF(OR(S135=\"Putzbord\",S135=\"Flexila PU\"),Daten!$D$18,IF(OR(S135=\"Stehbord\",S135=\"Stehbord HB\",S135=\"Flexila STB\",S135=\"Jalousiebord\"),Daten!$D$21,\"-\")))","v":""},{"$f":"IF(A135=\"\",\"\",IF(AND(Daten!D$6=\"Jalousiebord\",OR(O135=\"Stehbord\",S135=\"Stehbord\")),\"Jalousienklinkung\",\"\"))","v":""},{"$f":"IF(W135=\"\",\"\",Daten!D$20)","v":""},null,null,{"$f":"IF(A135=\"\",\"\",IF(Daten!F$1=\"A\",\"Ohne\",IF(OR(N135=\"Gerstenkorn roh\",N135=\"Riffelblech roh\"),\"XPS\",Daten!F$2)))","v":""},{"$f":"IF(A135=\"\",\"\",IF(AA135=\"Ohne\",\"A\",IF(AA135=\"XPS\",IF(Daten!F$1=\"D\",\"B\",Daten!F$1),Daten!F$1)))","v":""},{"$f":"IF(A135=\"\",\"\",IF(AB135=\"A\",\"-\",Daten!F$7))","v":""},{"$f":"IF(A135=\"\",\"\",IF(AB135=\"A\",\"-\",IF(AND(Daten!F$8=0,O135=\"Putzbord\"),5-Q135,0)))","v":""},{"$f":"IF(A135=\"\",\"\",IF(AB135=\"A\",\"-\",IF(AND(Daten!F$8=0,S135=\"Putzbord\"),5-U135,0)))","v":""},{"$f":"IF(A135=\"\",\"\",IF(AB135=\"A\",\"-\",Daten!F$10))","v":""},{"$f":"IFERROR(IF(A135=\"\",\"\",VLOOKUP(N135,Daten!N$1:O$7,2,FALSE)),\"\")","v":""}]
[null,null,null,{"$f":"IF(A136=\"\",\"\",IF(Daten!B$3=TRUE,Daten!B$7,\"\"))","v":""},{"$f":"IFERROR(IF(C136=\"\",\"\",C136+(2*D136)+IF(O136=Daten!M$13,6,0)+IF(S136=Daten!M$13,6,0)+IF(Q136=\"-\",0,Q136)+IF(U136=\"-\",0,U136)),\"\")","v":""},{"$f":"IF(OR(A136=\"\",AND(F$1=0,Daten!F$3=FALSE)),\"\",Daten!B$6)","v":""},{"$f":"IF(A136=\"\",\"\",IF(Daten!B$5=\"??\",\"\",Daten!B$5))","v":""},{"$f":"IF(A136=\"\",\"\",IF(Daten!B$3=FALSE,\"\",Daten!B$4))","v":""},{"$f":"IFERROR(IF(A136=\"\",\"\",G136+H136+IF(AND(G136>0,H136>0),5,0))-IF(Daten!H$21=TRUE,H136,0),\"\")","v":""},{"$f":"IFERROR(IF(A136=\"\",\"\",I136+IF(Daten!H$21=TRUE,H136,0)+IF(F136=\"\",0,F136)-IF(Daten!F$3=TRUE,Daten!F$10,0)),\"\")","v":""},{"$f":"IF(A136=\"\",\"\",Daten!D$14)","v":""},{"$f":"IF(A136=\"\",\"\",Daten!D$12)","v":""},{"$f":"IF(A136=\"\",\"\",Daten!D$13)","v":""},{"$f":"IF(A136=\"\",\"\",Daten!M$2)","v":""},{"$f":"IF(A136=\"\",\"\",IF(Daten!D$6=Daten!N$11,Daten!M$11,IF(Daten!D$6=Daten!N$13,Daten!M$13,IF(AND(Daten!$D$6=Daten!$M$10,Daten!$D$8=TRUE),Daten!$M$14,Daten!D$6))))","v":""},{"$f":"IF($A136=\"\",\"\",IF(OR(O136=\"Putzbord\",O136=\"Flexila PU\"),Daten!$D$15,IF(OR(O136=\"Stehbord\",O136=\"Stehbord HB\",O136=\"Flexila STB\",O136=\"Jalousiebord\"),Daten!$D$19,\"-\")))","v":""},{"$f":"IF($A136=\"\",\"\",IF(O136=\"Putzbord\",Daten!$D$16,IF(O136=\"Flexila PU\",_xlfn.NUMBERVALUE(MID(Daten!$D$17,1,2)),\"-\")))","v":""},{"$f":"IF($A136=\"\",\"\",IF(OR(O136=\"Putzbord\",O136=\"Flexila PU\"),Daten!$D$18,IF(OR(O136=\"Stehbord\",O136=\"Stehbord HB\",O136=\"Flexila STB\",O136=\"Jalousiebord\"),Daten!$D$21,\"-\")))","v":""},{"$f":"IF(A136=\"\",\"\",IF(Daten!D$6=Daten!N$11,Daten!M$11,IF(Daten!D$6=Daten!N$13,Daten!M$13,IF(AND(Daten!$D$6=Daten!$M$10,Daten!$D$8=TRUE),Daten!$M$14,Daten!D$6))))","v":""},{"$f":"IF($A136=\"\",\"\",IF(OR(S136=\"Putzbord\",S136=\"Flexila PU\"),Daten!$D$15,IF(OR(S136=\"Stehbord\",S136=\"Stehbord HB\",S136=\"Flexila STB\",S136=\"Jalousiebord\"),Daten!$D$19,\"-\")))","v":""},{"$f":"IF($A136=\"\",\"\",IF(S136=\"Putzbord\",Daten!$D$16,IF(S136=\"Flexila PU\",_xlfn.NUMBERVALUE(MID(Daten!$D$17,1,2)),\"-\")))","v":""},{"$f":"IF($A136=\"\",\"\",IF(OR(S136=\"Putzbord\",S136=\"Flexila PU\"),Daten!$D$18,IF(OR(S136=\"Stehbord\",S136=\"Stehbord HB\",S136=\"Flexila STB\",S136=\"Jalousiebord\"),Daten!$D$21,\"-\")))","v":""},{"$f":"IF(A136=\"\",\"\",IF(AND(Daten!D$6=\"Jalousiebord\",OR(O136=\"Stehbord\",S136=\"Stehbord\")),\"Jalousienklinkung\",\"\"))","v":""},{"$f":"IF(W136=\"\",\"\",Daten!D$20)","v":""},null,null,{"$f":"IF(A136=\"\",\"\",IF(Daten!F$1=\"A\",\"Ohne\",IF(OR(N136=\"Gerstenkorn roh\",N136=\"Riffelblech roh\"),\"XPS\",Daten!F$2)))","v":""},{"$f":"IF(A136=\"\",\"\",IF(AA136=\"Ohne\",\"A\",IF(AA136=\"XPS\",IF(Daten!F$1=\"D\",\"B\",Daten!F$1),Daten!F$1)))","v":""},{"$f":"IF(A136=\"\",\"\",IF(AB136=\"A\",\"-\",Daten!F$7))","v":""},{"$f":"IF(A136=\"\",\"\",IF(AB136=\"A\",\"-\",IF(AND(Daten!F$8=0,O136=\"Putzbord\"),5-Q136,0)))","v":""},{"$f":"IF(A136=\"\",\"\",IF(AB136=\"A\",\"-\",IF(AND(Daten!F$8=0,S136=\"Putzbord\"),5-U136,0)))","v":""},{"$f":"IF(A136=\"\",\"\",IF(AB136=\"A\",\"-\",Daten!F$10))","v":""},{"$f":"IFERROR(IF(A136=\"\",\"\",VLOOKUP(N136,Daten!N$1:O$7,2,FALSE)),\"\")","v":""}]
[null,null,null,{"$f":"IF(A137=\"\",\"\",IF(Daten!B$3=TRUE,Daten!B$7,\"\"))","v":""},{"$f":"IFERROR(IF(C137=\"\",\"\",C137+(2*D137)+IF(O137=Daten!M$13,6,0)+IF(S137=Daten!M$13,6,0)+IF(Q137=\"-\",0,Q137)+IF(U137=\"-\",0,U137)),\"\")","v":""},{"$f":"IF(OR(A137=\"\",AND(F$1=0,Daten!F$3=FALSE)),\"\",Daten!B$6)","v":""},{"$f":"IF(A137=\"\",\"\",IF(Daten!B$5=\"??\",\"\",Daten!B$5))","v":""},{"$f":"IF(A137=\"\",\"\",IF(Daten!B$3=FALSE,\"\",Daten!B$4))","v":""},{"$f":"IFERROR(IF(A137=\"\",\"\",G137+H137+IF(AND(G137>0,H137>0),5,0))-IF(Daten!H$21=TRUE,H137,0),\"\")","v":""},{"$f":"IFERROR(IF(A137=\"\",\"\",I137+IF(Daten!H$21=TRUE,H137,0)+IF(F137=\"\",0,F137)-IF(Daten!F$3=TRUE,Daten!F$10,0)),\"\")","v":""},{"$f":"IF(A137=\"\",\"\",Daten!D$14)","v":""},{"$f":"IF(A137=\"\",\"\",Daten!D$12)","v":""},{"$f":"IF(A137=\"\",\"\",Daten!D$13)","v":""},{"$f":"IF(A137=\"\",\"\",Daten!M$2)","v":""},{"$f":"IF(A137=\"\",\"\",IF(Daten!D$6=Daten!N$11,Daten!M$11,IF(Daten!D$6=Daten!N$13,Daten!M$13,IF(AND(Daten!$D$6=Daten!$M$10,Daten!$D$8=TRUE),Daten!$M$14,Daten!D$6))))","v":""},{"$f":"IF($A137=\"\",\"\",IF(OR(O137=\"Putzbord\",O137=\"Flexila PU\"),Daten!$D$15,IF(OR(O137=\"Stehbord\",O137=\"Stehbord HB\",O137=\"Flexila STB\",O137=\"Jalousiebord\"),Daten!$D$19,\"-\")))","v":""},{"$f":"IF($A137=\"\",\"\",IF(O137=\"Putzbord\",Daten!$D$16,IF(O137=\"Flexila PU\",_xlfn.NUMBERVALUE(MID(Daten!$D$17,1,2)),\"-\")))","v":""},{"$f":"IF($A137=\"\",\"\",IF(OR(O137=\"Putzbord\",O137=\"Flexila PU\"),Daten!$D$18,IF(OR(O137=\"Stehbord\",O137=\"Stehbord HB\",O137=\"Flexila STB\",O137=\"Jalousiebord\"),Daten!$D$21,\"-\")))","v":""},{"$f":"IF(A137=\"\",\"\",IF(Daten!D$6=Daten!N$11,Daten!M$11,IF(Daten!D$6=Daten!N$13,Daten!M$13,IF(AND(Daten!$D$6=Daten!$M$10,Daten!$D$8=TRUE),Daten!$M$14,Daten!D$6))))","v":""},{"$f":"IF($A137=\"\",\"\",IF(OR(S137=\"Putzbord\",S137=\"Flexila PU\"),Daten!$D$15,IF(OR(S137=\"Stehbord\",S137=\"Stehbord HB\",S137=\"Flexila STB\",S137=\"Jalousiebord\"),Daten!$D$19,\"-\")))","v":""},{"$f":"IF($A137=\"\",\"\",IF(S137=\"Putzbord\",Daten!$D$16,IF(S137=\"Flexila PU\",_xlfn.NUMBERVALUE(MID(Daten!$D$17,1,2)),\"-\")))","v":""},{"$f":"IF($A137=\"\",\"\",IF(OR(S137=\"Putzbord\",S137=\"Flexila PU\"),Daten!$D$18,IF(OR(S137=\"Stehbord\",S137=\"Stehbord HB\",S137=\"Flexila STB\",S137=\"Jalousiebord\"),Daten!$D$21,\"-\")))","v":""},{"$f":"IF(A137=\"\",\"\",IF(AND(Daten!D$6=\"Jalousiebord\",OR(O137=\"Stehbord\",S137=\"Stehbord\")),\"Jalousienklinkung\",\"\"))","v":""},{"$f":"IF(W137=\"\",\"\",Daten!D$20)","v":""},null,null,{"$f":"IF(A137=\"\",\"\",IF(Daten!F$1=\"A\",\"Ohne\",IF(OR(N137=\"Gerstenkorn roh\",N137=\"Riffelblech roh\"),\"XPS\",Daten!F$2)))","v":""},{"$f":"IF(A137=\"\",\"\",IF(AA137=\"Ohne\",\"A\",IF(AA137=\"XPS\",IF(Daten!F$1=\"D\",\"B\",Daten!F$1),Daten!F$1)))","v":""},{"$f":"IF(A137=\"\",\"\",IF(AB137=\"A\",\"-\",Daten!F$7))","v":""},{"$f":"IF(A137=\"\",\"\",IF(AB137=\"A\",\"-\",IF(AND(Daten!F$8=0,O137=\"Putzbord\"),5-Q137,0)))","v":""},{"$f":"IF(A137=\"\",\"\",IF(AB137=\"A\",\"-\",IF(AND(Daten!F$8=0,S137=\"Putzbord\"),5-U137,0)))","v":""},{"$f":"IF(A137=\"\",\"\",IF(AB137=\"A\",\"-\",Daten!F$10))","v":""},{"$f":"IFERROR(IF(A137=\"\",\"\",VLOOKUP(N137,Daten!N$1:O$7,2,FALSE)),\"\")","v":""}]
[null,null,null,{"$f":"IF(A138=\"\",\"\",IF(Daten!B$3=TRUE,Daten!B$7,\"\"))","v":""},{"$f":"IFERROR(IF(C138=\"\",\"\",C138+(2*D138)+IF(O138=Daten!M$13,6,0)+IF(S138=Daten!M$13,6,0)+IF(Q138=\"-\",0,Q138)+IF(U138=\"-\",0,U138)),\"\")","v":""},{"$f":"IF(OR(A138=\"\",AND(F$1=0,Daten!F$3=FALSE)),\"\",Daten!B$6)","v":""},{"$f":"IF(A138=\"\",\"\",IF(Daten!B$5=\"??\",\"\",Daten!B$5))","v":""},{"$f":"IF(A138=\"\",\"\",IF(Daten!B$3=FALSE,\"\",Daten!B$4))","v":""},{"$f":"IFERROR(IF(A138=\"\",\"\",G138+H138+IF(AND(G138>0,H138>0),5,0))-IF(Daten!H$21=TRUE,H138,0),\"\")","v":""},{"$f":"IFERROR(IF(A138=\"\",\"\",I138+IF(Daten!H$21=TRUE,H138,0)+IF(F138=\"\",0,F138)-IF(Daten!F$3=TRUE,Daten!F$10,0)),\"\")","v":""},{"$f":"IF(A138=\"\",\"\",Daten!D$14)","v":""},{"$f":"IF(A138=\"\",\"\",Daten!D$12)","v":""},{"$f":"IF(A138=\"\",\"\",Daten!D$13)","v":""},{"$f":"IF(A138=\"\",\"\",Daten!M$2)","v":""},{"$f":"IF(A138=\"\",\"\",IF(Daten!D$6=Daten!N$11,Daten!M$11,IF(Daten!D$6=Daten!N$13,Daten!M$13,IF(AND(Daten!$D$6=Daten!$M$10,Daten!$D$8=TRUE),Daten!$M$14,Daten!D$6))))","v":""},{"$f":"IF($A138=\"\",\"\",IF(OR(O138=\"Putzbord\",O138=\"Flexila PU\"),Daten!$D$15,IF(OR(O138=\"Stehbord\",O138=\"Stehbord HB\",O138=\"Flexila STB\",O138=\"Jalousiebord\"),Daten!$D$19,\"-\")))","v":""},{"$f":"IF($A138=\"\",\"\",IF(O138=\"Putzbord\",Daten!$D$16,IF(O138=\"Flexila PU\",_xlfn.NUMBERVALUE(MID(Daten!$D$17,1,2)),\"-\")))","v":""},{"$f":"IF($A138=\"\",\"\",IF(OR(O138=\"Putzbord\",O138=\"Flexila PU\"),Daten!$D$18,IF(OR(O138=\"Stehbord\",O138=\"Stehbord HB\",O138=\"Flexila STB\",O138=\"Jalousiebord\"),Daten!$D$21,\"-\")))","v":""},{"$f":"IF(A138=\"\",\"\",IF(Daten!D$6=Daten!N$11,Daten!M$11,IF(Daten!D$6=Daten!N$13,Daten!M$13,IF(AND(Daten!$D$6=Daten!$M$10,Daten!$D$8=TRUE),Daten!$M$14,Daten!D$6))))","v":""},{"$f":"IF($A138=\"\",\"\",IF(OR(S138=\"Putzbord\",S138=\"Flexila PU\"),Daten!$D$15,IF(OR(S138=\"Stehbord\",S138=\"Stehbord HB\",S138=\"Flexila STB\",S138=\"Jalousiebord\"),Daten!$D$19,\"-\")))","v":""},{"$f":"IF($A138=\"\",\"\",IF(S138=\"Putzbord\",Daten!$D$16,IF(S138=\"Flexila PU\",_xlfn.NUMBERVALUE(MID(Daten!$D$17,1,2)),\"-\")))","v":""},{"$f":"IF($A138=\"\",\"\",IF(OR(S138=\"Putzbord\",S138=\"Flexila PU\"),Daten!$D$18,IF(OR(S138=\"Stehbord\",S138=\"Stehbord HB\",S138=\"Flexila STB\",S138=\"Jalousiebord\"),Daten!$D$21,\"-\")))","v":""},{"$f":"IF(A138=\"\",\"\",IF(AND(Daten!D$6=\"Jalousiebord\",OR(O138=\"Stehbord\",S138=\"Stehbord\")),\"Jalousienklinkung\",\"\"))","v":""},{"$f":"IF(W138=\"\",\"\",Daten!D$20)","v":""},null,null,{"$f":"IF(A138=\"\",\"\",IF(Daten!F$1=\"A\",\"Ohne\",IF(OR(N138=\"Gerstenkorn roh\",N138=\"Riffelblech roh\"),\"XPS\",Daten!F$2)))","v":""},{"$f":"IF(A138=\"\",\"\",IF(AA138=\"Ohne\",\"A\",IF(AA138=\"XPS\",IF(Daten!F$1=\"D\",\"B\",Daten!F$1),Daten!F$1)))","v":""},{"$f":"IF(A138=\"\",\"\",IF(AB138=\"A\",\"-\",Daten!F$7))","v":""},{"$f":"IF(A138=\"\",\"\",IF(AB138=\"A\",\"-\",IF(AND(Daten!F$8=0,O138=\"Putzbord\"),5-Q138,0)))","v":""},{"$f":"IF(A138=\"\",\"\",IF(AB138=\"A\",\"-\",IF(AND(Daten!F$8=0,S138=\"Putzbord\"),5-U138,0)))","v":""},{"$f":"IF(A138=\"\",\"\",IF(AB138=\"A\",\"-\",Daten!F$10))","v":""},{"$f":"IFERROR(IF(A138=\"\",\"\",VLOOKUP(N138,Daten!N$1:O$7,2,FALSE)),\"\")","v":""}]
[null,null,null,{"$f":"IF(A139=\"\",\"\",IF(Daten!B$3=TRUE,Daten!B$7,\"\"))","v":""},{"$f":"IFERROR(IF(C139=\"\",\"\",C139+(2*D139)+IF(O139=Daten!M$13,6,0)+IF(S139=Daten!M$13,6,0)+IF(Q139=\"-\",0,Q139)+IF(U139=\"-\",0,U139)),\"\")","v":""},{"$f":"IF(OR(A139=\"\",AND(F$1=0,Daten!F$3=FALSE)),\"\",Daten!B$6)","v":""},{"$f":"IF(A139=\"\",\"\",IF(Daten!B$5=\"??\",\"\",Daten!B$5))","v":""},{"$f":"IF(A139=\"\",\"\",IF(Daten!B$3=FALSE,\"\",Daten!B$4))","v":""},{"$f":"IFERROR(IF(A139=\"\",\"\",G139+H139+IF(AND(G139>0,H139>0),5,0))-IF(Daten!H$21=TRUE,H139,0),\"\")","v":""},{"$f":"IFERROR(IF(A139=\"\",\"\",I139+IF(Daten!H$21=TRUE,H139,0)+IF(F139=\"\",0,F139)-IF(Daten!F$3=TRUE,Daten!F$10,0)),\"\")","v":""},{"$f":"IF(A139=\"\",\"\",Daten!D$14)","v":""},{"$f":"IF(A139=\"\",\"\",Daten!D$12)","v":""},{"$f":"IF(A139=\"\",\"\",Daten!D$13)","v":""},{"$f":"IF(A139=\"\",\"\",Daten!M$2)","v":""},{"$f":"IF(A139=\"\",\"\",IF(Daten!D$6=Daten!N$11,Daten!M$11,IF(Daten!D$6=Daten!N$13,Daten!M$13,IF(AND(Daten!$D$6=Daten!$M$10,Daten!$D$8=TRUE),Daten!$M$14,Daten!D$6))))","v":""},{"$f":"IF($A139=\"\",\"\",IF(OR(O139=\"Putzbord\",O139=\"Flexila PU\"),Daten!$D$15,IF(OR(O139=\"Stehbord\",O139=\"Stehbord HB\",O139=\"Flexila STB\",O139=\"Jalousiebord\"),Daten!$D$19,\"-\")))","v":""},{"$f":"IF($A139=\"\",\"\",IF(O139=\"Putzbord\",Daten!$D$16,IF(O139=\"Flexila PU\",_xlfn.NUMBERVALUE(MID(Daten!$D$17,1,2)),\"-\")))","v":""},{"$f":"IF($A139=\"\",\"\",IF(OR(O139=\"Putzbord\",O139=\"Flexila PU\"),Daten!$D$18,IF(OR(O139=\"Stehbord\",O139=\"Stehbord HB\",O139=\"Flexila STB\",O139=\"Jalousiebord\"),Daten!$D$21,\"-\")))","v":""},{"$f":"IF(A139=\"\",\"\",IF(Daten!D$6=Daten!N$11,Daten!M$11,IF(Daten!D$6=Daten!N$13,Daten!M$13,IF(AND(Daten!$D$6=Daten!$M$10,Daten!$D$8=TRUE),Daten!$M$14,Daten!D$6))))","v":""},{"$f":"IF($A139=\"\",\"\",IF(OR(S139=\"Putzbord\",S139=\"Flexila PU\"),Daten!$D$15,IF(OR(S139=\"Stehbord\",S139=\"Stehbord HB\",S139=\"Flexila STB\",S139=\"Jalousiebord\"),Daten!$D$19,\"-\")))","v":""},{"$f":"IF($A139=\"\",\"\",IF(S139=\"Putzbord\",Daten!$D$16,IF(S139=\"Flexila PU\",_xlfn.NUMBERVALUE(MID(Daten!$D$17,1,2)),\"-\")))","v":""},{"$f":"IF($A139=\"\",\"\",IF(OR(S139=\"Putzbord\",S139=\"Flexila PU\"),Daten!$D$18,IF(OR(S139=\"Stehbord\",S139=\"Stehbord HB\",S139=\"Flexila STB\",S139=\"Jalousiebord\"),Daten!$D$21,\"-\")))","v":""},{"$f":"IF(A139=\"\",\"\",IF(AND(Daten!D$6=\"Jalousiebord\",OR(O139=\"Stehbord\",S139=\"Stehbord\")),\"Jalousienklinkung\",\"\"))","v":""},{"$f":"IF(W139=\"\",\"\",Daten!D$20)","v":""},null,null,{"$f":"IF(A139=\"\",\"\",IF(Daten!F$1=\"A\",\"Ohne\",IF(OR(N139=\"Gerstenkorn roh\",N139=\"Riffelblech roh\"),\"XPS\",Daten!F$2)))","v":""},{"$f":"IF(A139=\"\",\"\",IF(AA139=\"Ohne\",\"A\",IF(AA139=\"XPS\",IF(Daten!F$1=\"D\",\"B\",Daten!F$1),Daten!F$1)))","v":""},{"$f":"IF(A139=\"\",\"\",IF(AB139=\"A\",\"-\",Daten!F$7))","v":""},{"$f":"IF(A139=\"\",\"\",IF(AB139=\"A\",\"-\",IF(AND(Daten!F$8=0,O139=\"Putzbord\"),5-Q139,0)))","v":""},{"$f":"IF(A139=\"\",\"\",IF(AB139=\"A\",\"-\",IF(AND(Daten!F$8=0,S139=\"Putzbord\"),5-U139,0)))","v":""},{"$f":"IF(A139=\"\",\"\",IF(AB139=\"A\",\"-\",Daten!F$10))","v":""},{"$f":"IFERROR(IF(A139=\"\",\"\",VLOOKUP(N139,Daten!N$1:O$7,2,FALSE)),\"\")","v":""}]
[null,null,null,{"$f":"IF(A140=\"\",\"\",IF(Daten!B$3=TRUE,Daten!B$7,\"\"))","v":""},{"$f":"IFERROR(IF(C140=\"\",\"\",C140+(2*D140)+IF(O140=Daten!M$13,6,0)+IF(S140=Daten!M$13,6,0)+IF(Q140=\"-\",0,Q140)+IF(U140=\"-\",0,U140)),\"\")","v":""},{"$f":"IF(OR(A140=\"\",AND(F$1=0,Daten!F$3=FALSE)),\"\",Daten!B$6)","v":""},{"$f":"IF(A140=\"\",\"\",IF(Daten!B$5=\"??\",\"\",Daten!B$5))","v":""},{"$f":"IF(A140=\"\",\"\",IF(Daten!B$3=FALSE,\"\",Daten!B$4))","v":""},{"$f":"IFERROR(IF(A140=\"\",\"\",G140+H140+IF(AND(G140>0,H140>0),5,0))-IF(Daten!H$21=TRUE,H140,0),\"\")","v":""},{"$f":"IFERROR(IF(A140=\"\",\"\",I140+IF(Daten!H$21=TRUE,H140,0)+IF(F140=\"\",0,F140)-IF(Daten!F$3=TRUE,Daten!F$10,0)),\"\")","v":""},{"$f":"IF(A140=\"\",\"\",Daten!D$14)","v":""},{"$f":"IF(A140=\"\",\"\",Daten!D$12)","v":""},{"$f":"IF(A140=\"\",\"\",Daten!D$13)","v":""},{"$f":"IF(A140=\"\",\"\",Daten!M$2)","v":""},{"$f":"IF(A140=\"\",\"\",IF(Daten!D$6=Daten!N$11,Daten!M$11,IF(Daten!D$6=Daten!N$13,Daten!M$13,IF(AND(Daten!$D$6=Daten!$M$10,Daten!$D$8=TRUE),Daten!$M$14,Daten!D$6))))","v":""},{"$f":"IF($A140=\"\",\"\",IF(OR(O140=\"Putzbord\",O140=\"Flexila PU\"),Daten!$D$15,IF(OR(O140=\"Stehbord\",O140=\"Stehbord HB\",O140=\"Flexila STB\",O140=\"Jalousiebord\"),Daten!$D$19,\"-\")))","v":""},{"$f":"IF($A140=\"\",\"\",IF(O140=\"Putzbord\",Daten!$D$16,IF(O140=\"Flexila PU\",_xlfn.NUMBERVALUE(MID(Daten!$D$17,1,2)),\"-\")))","v":""},{"$f":"IF($A140=\"\",\"\",IF(OR(O140=\"Putzbord\",O140=\"Flexila PU\"),Daten!$D$18,IF(OR(O140=\"Stehbord\",O140=\"Stehbord HB\",O140=\"Flexila STB\",O140=\"Jalousiebord\"),Daten!$D$21,\"-\")))","v":""},{"$f":"IF(A140=\"\",\"\",IF(Daten!D$6=Daten!N$11,Daten!M$11,IF(Daten!D$6=Daten!N$13,Daten!M$13,IF(AND(Daten!$D$6=Daten!$M$10,Daten!$D$8=TRUE),Daten!$M$14,Daten!D$6))))","v":""},{"$f":"IF($A140=\"\",\"\",IF(OR(S140=\"Putzbord\",S140=\"Flexila PU\"),Daten!$D$15,IF(OR(S140=\"Stehbord\",S140=\"Stehbord HB\",S140=\"Flexila STB\",S140=\"Jalousiebord\"),Daten!$D$19,\"-\")))","v":""},{"$f":"IF($A140=\"\",\"\",IF(S140=\"Putzbord\",Daten!$D$16,IF(S140=\"Flexila PU\",_xlfn.NUMBERVALUE(MID(Daten!$D$17,1,2)),\"-\")))","v":""},{"$f":"IF($A140=\"\",\"\",IF(OR(S140=\"Putzbord\",S140=\"Flexila PU\"),Daten!$D$18,IF(OR(S140=\"Stehbord\",S140=\"Stehbord HB\",S140=\"Flexila STB\",S140=\"Jalousiebord\"),Daten!$D$21,\"-\")))","v":""},{"$f":"IF(A140=\"\",\"\",IF(AND(Daten!D$6=\"Jalousiebord\",OR(O140=\"Stehbord\",S140=\"Stehbord\")),\"Jalousienklinkung\",\"\"))","v":""},{"$f":"IF(W140=\"\",\"\",Daten!D$20)","v":""},null,null,{"$f":"IF(A140=\"\",\"\",IF(Daten!F$1=\"A\",\"Ohne\",IF(OR(N140=\"Gerstenkorn roh\",N140=\"Riffelblech roh\"),\"XPS\",Daten!F$2)))","v":""},{"$f":"IF(A140=\"\",\"\",IF(AA140=\"Ohne\",\"A\",IF(AA140=\"XPS\",IF(Daten!F$1=\"D\",\"B\",Daten!F$1),Daten!F$1)))","v":""},{"$f":"IF(A140=\"\",\"\",IF(AB140=\"A\",\"-\",Daten!F$7))","v":""},{"$f":"IF(A140=\"\",\"\",IF(AB140=\"A\",\"-\",IF(AND(Daten!F$8=0,O140=\"Putzbord\"),5-Q140,0)))","v":""},{"$f":"IF(A140=\"\",\"\",IF(AB140=\"A\",\"-\",IF(AND(Daten!F$8=0,S140=\"Putzbord\"),5-U140,0)))","v":""},{"$f":"IF(A140=\"\",\"\",IF(AB140=\"A\",\"-\",Daten!F$10))","v":""},{"$f":"IFERROR(IF(A140=\"\",\"\",VLOOKUP(N140,Daten!N$1:O$7,2,FALSE)),\"\")","v":""}]
[null,null,null,{"$f":"IF(A141=\"\",\"\",IF(Daten!B$3=TRUE,Daten!B$7,\"\"))","v":""},{"$f":"IFERROR(IF(C141=\"\",\"\",C141+(2*D141)+IF(O141=Daten!M$13,6,0)+IF(S141=Daten!M$13,6,0)+IF(Q141=\"-\",0,Q141)+IF(U141=\"-\",0,U141)),\"\")","v":""},{"$f":"IF(OR(A141=\"\",AND(F$1=0,Daten!F$3=FALSE)),\"\",Daten!B$6)","v":""},{"$f":"IF(A141=\"\",\"\",IF(Daten!B$5=\"??\",\"\",Daten!B$5))","v":""},{"$f":"IF(A141=\"\",\"\",IF(Daten!B$3=FALSE,\"\",Daten!B$4))","v":""},{"$f":"IFERROR(IF(A141=\"\",\"\",G141+H141+IF(AND(G141>0,H141>0),5,0))-IF(Daten!H$21=TRUE,H141,0),\"\")","v":""},{"$f":"IFERROR(IF(A141=\"\",\"\",I141+IF(Daten!H$21=TRUE,H141,0)+IF(F141=\"\",0,F141)-IF(Daten!F$3=TRUE,Daten!F$10,0)),\"\")","v":""},{"$f":"IF(A141=\"\",\"\",Daten!D$14)","v":""},{"$f":"IF(A141=\"\",\"\",Daten!D$12)","v":""},{"$f":"IF(A141=\"\",\"\",Daten!D$13)","v":""},{"$f":"IF(A141=\"\",\"\",Daten!M$2)","v":""},{"$f":"IF(A141=\"\",\"\",IF(Daten!D$6=Daten!N$11,Daten!M$11,IF(Daten!D$6=Daten!N$13,Daten!M$13,IF(AND(Daten!$D$6=Daten!$M$10,Daten!$D$8=TRUE),Daten!$M$14,Daten!D$6))))","v":""},{"$f":"IF($A141=\"\",\"\",IF(OR(O141=\"Putzbord\",O141=\"Flexila PU\"),Daten!$D$15,IF(OR(O141=\"Stehbord\",O141=\"Stehbord HB\",O141=\"Flexila STB\",O141=\"Jalousiebord\"),Daten!$D$19,\"-\")))","v":""},{"$f":"IF($A141=\"\",\"\",IF(O141=\"Putzbord\",Daten!$D$16,IF(O141=\"Flexila PU\",_xlfn.NUMBERVALUE(MID(Daten!$D$17,1,2)),\"-\")))","v":""},{"$f":"IF($A141=\"\",\"\",IF(OR(O141=\"Putzbord\",O141=\"Flexila PU\"),Daten!$D$18,IF(OR(O141=\"Stehbord\",O141=\"Stehbord HB\",O141=\"Flexila STB\",O141=\"Jalousiebord\"),Daten!$D$21,\"-\")))","v":""},{"$f":"IF(A141=\"\",\"\",IF(Daten!D$6=Daten!N$11,Daten!M$11,IF(Daten!D$6=Daten!N$13,Daten!M$13,IF(AND(Daten!$D$6=Daten!$M$10,Daten!$D$8=TRUE),Daten!$M$14,Daten!D$6))))","v":""},{"$f":"IF($A141=\"\",\"\",IF(OR(S141=\"Putzbord\",S141=\"Flexila PU\"),Daten!$D$15,IF(OR(S141=\"Stehbord\",S141=\"Stehbord HB\",S141=\"Flexila STB\",S141=\"Jalousiebord\"),Daten!$D$19,\"-\")))","v":""},{"$f":"IF($A141=\"\",\"\",IF(S141=\"Putzbord\",Daten!$D$16,IF(S141=\"Flexila PU\",_xlfn.NUMBERVALUE(MID(Daten!$D$17,1,2)),\"-\")))","v":""},{"$f":"IF($A141=\"\",\"\",IF(OR(S141=\"Putzbord\",S141=\"Flexila PU\"),Daten!$D$18,IF(OR(S141=\"Stehbord\",S141=\"Stehbord HB\",S141=\"Flexila STB\",S141=\"Jalousiebord\"),Daten!$D$21,\"-\")))","v":""},{"$f":"IF(A141=\"\",\"\",IF(AND(Daten!D$6=\"Jalousiebord\",OR(O141=\"Stehbord\",S141=\"Stehbord\")),\"Jalousienklinkung\",\"\"))","v":""},{"$f":"IF(W141=\"\",\"\",Daten!D$20)","v":""},null,null,{"$f":"IF(A141=\"\",\"\",IF(Daten!F$1=\"A\",\"Ohne\",IF(OR(N141=\"Gerstenkorn roh\",N141=\"Riffelblech roh\"),\"XPS\",Daten!F$2)))","v":""},{"$f":"IF(A141=\"\",\"\",IF(AA141=\"Ohne\",\"A\",IF(AA141=\"XPS\",IF(Daten!F$1=\"D\",\"B\",Daten!F$1),Daten!F$1)))","v":""},{"$f":"IF(A141=\"\",\"\",IF(AB141=\"A\",\"-\",Daten!F$7))","v":""},{"$f":"IF(A141=\"\",\"\",IF(AB141=\"A\",\"-\",IF(AND(Daten!F$8=0,O141=\"Putzbord\"),5-Q141,0)))","v":""},{"$f":"IF(A141=\"\",\"\",IF(AB141=\"A\",\"-\",IF(AND(Daten!F$8=0,S141=\"Putzbord\"),5-U141,0)))","v":""},{"$f":"IF(A141=\"\",\"\",IF(AB141=\"A\",\"-\",Daten!F$10))","v":""},{"$f":"IFERROR(IF(A141=\"\",\"\",VLOOKUP(N141,Daten!N$1:O$7,2,FALSE)),\"\")","v":""}]
[null,null,null,{"$f":"IF(A142=\"\",\"\",IF(Daten!B$3=TRUE,Daten!B$7,\"\"))","v":""},{"$f":"IFERROR(IF(C142=\"\",\"\",C142+(2*D142)+IF(O142=Daten!M$13,6,0)+IF(S142=Daten!M$13,6,0)+IF(Q142=\"-\",0,Q142)+IF(U142=\"-\",0,U142)),\"\")","v":""},{"$f":"IF(OR(A142=\"\",AND(F$1=0,Daten!F$3=FALSE)),\"\",Daten!B$6)","v":""},{"$f":"IF(A142=\"\",\"\",IF(Daten!B$5=\"??\",\"\",Daten!B$5))","v":""},{"$f":"IF(A142=\"\",\"\",IF(Daten!B$3=FALSE,\"\",Daten!B$4))","v":""},{"$f":"IFERROR(IF(A142=\"\",\"\",G142+H142+IF(AND(G142>0,H142>0),5,0))-IF(Daten!H$21=TRUE,H142,0),\"\")","v":""},{"$f":"IFERROR(IF(A142=\"\",\"\",I142+IF(Daten!H$21=TRUE,H142,0)+IF(F142=\"\",0,F142)-IF(Daten!F$3=TRUE,Daten!F$10,0)),\"\")","v":""},{"$f":"IF(A142=\"\",\"\",Daten!D$14)","v":""},{"$f":"IF(A142=\"\",\"\",Daten!D$12)","v":""},{"$f":"IF(A142=\"\",\"\",Daten!D$13)","v":""},{"$f":"IF(A142=\"\",\"\",Daten!M$2)","v":""},{"$f":"IF(A142=\"\",\"\",IF(Daten!D$6=Daten!N$11,Daten!M$11,IF(Daten!D$6=Daten!N$13,Daten!M$13,IF(AND(Daten!$D$6=Daten!$M$10,Daten!$D$8=TRUE),Daten!$M$14,Daten!D$6))))","v":""},{"$f":"IF($A142=\"\",\"\",IF(OR(O142=\"Putzbord\",O142=\"Flexila PU\"),Daten!$D$15,IF(OR(O142=\"Stehbord\",O142=\"Stehbord HB\",O142=\"Flexila STB\",O142=\"Jalousiebord\"),Daten!$D$19,\"-\")))","v":""},{"$f":"IF($A142=\"\",\"\",IF(O142=\"Putzbord\",Daten!$D$16,IF(O142=\"Flexila PU\",_xlfn.NUMBERVALUE(MID(Daten!$D$17,1,2)),\"-\")))","v":""},{"$f":"IF($A142=\"\",\"\",IF(OR(O142=\"Putzbord\",O142=\"Flexila PU\"),Daten!$D$18,IF(OR(O142=\"Stehbord\",O142=\"Stehbord HB\",O142=\"Flexila STB\",O142=\"Jalousiebord\"),Daten!$D$21,\"-\")))","v":""},{"$f":"IF(A142=\"\",\"\",IF(Daten!D$6=Daten!N$11,Daten!M$11,IF(Daten!D$6=Daten!N$13,Daten!M$13,IF(AND(Daten!$D$6=Daten!$M$10,Daten!$D$8=TRUE),Daten!$M$14,Daten!D$6))))","v":""},{"$f":"IF($A142=\"\",\"\",IF(OR(S142=\"Putzbord\",S142=\"Flexila PU\"),Daten!$D$15,IF(OR(S142=\"Stehbord\",S142=\"Stehbord HB\",S142=\"Flexila STB\",S142=\"Jalousiebord\"),Daten!$D$19,\"-\")))","v":""},{"$f":"IF($A142=\"\",\"\",IF(S142=\"Putzbord\",Daten!$D$16,IF(S142=\"Flexila PU\",_xlfn.NUMBERVALUE(MID(Daten!$D$17,1,2)),\"-\")))","v":""},{"$f":"IF($A142=\"\",\"\",IF(OR(S142=\"Putzbord\",S142=\"Flexila PU\"),Daten!$D$18,IF(OR(S142=\"Stehbord\",S142=\"Stehbord HB\",S142=\"Flexila STB\",S142=\"Jalousiebord\"),Daten!$D$21,\"-\")))","v":""},{"$f":"IF(A142=\"\",\"\",IF(AND(Daten!D$6=\"Jalousiebord\",OR(O142=\"Stehbord\",S142=\"Stehbord\")),\"Jalousienklinkung\",\"\"))","v":""},{"$f":"IF(W142=\"\",\"\",Daten!D$20)","v":""},null,null,{"$f":"IF(A142=\"\",\"\",IF(Daten!F$1=\"A\",\"Ohne\",IF(OR(N142=\"Gerstenkorn roh\",N142=\"Riffelblech roh\"),\"XPS\",Daten!F$2)))","v":""},{"$f":"IF(A142=\"\",\"\",IF(AA142=\"Ohne\",\"A\",IF(AA142=\"XPS\",IF(Daten!F$1=\"D\",\"B\",Daten!F$1),Daten!F$1)))","v":""},{"$f":"IF(A142=\"\",\"\",IF(AB142=\"A\",\"-\",Daten!F$7))","v":""},{"$f":"IF(A142=\"\",\"\",IF(AB142=\"A\",\"-\",IF(AND(Daten!F$8=0,O142=\"Putzbord\"),5-Q142,0)))","v":""},{"$f":"IF(A142=\"\",\"\",IF(AB142=\"A\",\"-\",IF(AND(Daten!F$8=0,S142=\"Putzbord\"),5-U142,0)))","v":""},{"$f":"IF(A142=\"\",\"\",IF(AB142=\"A\",\"-\",Daten!F$10))","v":""},{"$f":"IFERROR(IF(A142=\"\",\"\",VLOOKUP(N142,Daten!N$1:O$7,2,FALSE)),\"\")","v":""}]
[null,null,null,{"$f":"IF(A143=\"\",\"\",IF(Daten!B$3=TRUE,Daten!B$7,\"\"))","v":""},{"$f":"IFERROR(IF(C143=\"\",\"\",C143+(2*D143)+IF(O143=Daten!M$13,6,0)+IF(S143=Daten!M$13,6,0)+IF(Q143=\"-\",0,Q143)+IF(U143=\"-\",0,U143)),\"\")","v":""},{"$f":"IF(OR(A143=\"\",AND(F$1=0,Daten!F$3=FALSE)),\"\",Daten!B$6)","v":""},{"$f":"IF(A143=\"\",\"\",IF(Daten!B$5=\"??\",\"\",Daten!B$5))","v":""},{"$f":"IF(A143=\"\",\"\",IF(Daten!B$3=FALSE,\"\",Daten!B$4))","v":""},{"$f":"IFERROR(IF(A143=\"\",\"\",G143+H143+IF(AND(G143>0,H143>0),5,0))-IF(Daten!H$21=TRUE,H143,0),\"\")","v":""},{"$f":"IFERROR(IF(A143=\"\",\"\",I143+IF(Daten!H$21=TRUE,H143,0)+IF(F143=\"\",0,F143)-IF(Daten!F$3=TRUE,Daten!F$10,0)),\"\")","v":""},{"$f":"IF(A143=\"\",\"\",Daten!D$14)","v":""},{"$f":"IF(A143=\"\",\"\",Daten!D$12)","v":""},{"$f":"IF(A143=\"\",\"\",Daten!D$13)","v":""},{"$f":"IF(A143=\"\",\"\",Daten!M$2)","v":""},{"$f":"IF(A143=\"\",\"\",IF(Daten!D$6=Daten!N$11,Daten!M$11,IF(Daten!D$6=Daten!N$13,Daten!M$13,IF(AND(Daten!$D$6=Daten!$M$10,Daten!$D$8=TRUE),Daten!$M$14,Daten!D$6))))","v":""},{"$f":"IF($A143=\"\",\"\",IF(OR(O143=\"Putzbord\",O143=\"Flexila PU\"),Daten!$D$15,IF(OR(O143=\"Stehbord\",O143=\"Stehbord HB\",O143=\"Flexila STB\",O143=\"Jalousiebord\"),Daten!$D$19,\"-\")))","v":""},{"$f":"IF($A143=\"\",\"\",IF(O143=\"Putzbord\",Daten!$D$16,IF(O143=\"Flexila PU\",_xlfn.NUMBERVALUE(MID(Daten!$D$17,1,2)),\"-\")))","v":""},{"$f":"IF($A143=\"\",\"\",IF(OR(O143=\"Putzbord\",O143=\"Flexila PU\"),Daten!$D$18,IF(OR(O143=\"Stehbord\",O143=\"Stehbord HB\",O143=\"Flexila STB\",O143=\"Jalousiebord\"),Daten!$D$21,\"-\")))","v":""},{"$f":"IF(A143=\"\",\"\",IF(Daten!D$6=Daten!N$11,Daten!M$11,IF(Daten!D$6=Daten!N$13,Daten!M$13,IF(AND(Daten!$D$6=Daten!$M$10,Daten!$D$8=TRUE),Daten!$M$14,Daten!D$6))))","v":""},{"$f":"IF($A143=\"\",\"\",IF(OR(S143=\"Putzbord\",S143=\"Flexila PU\"),Daten!$D$15,IF(OR(S143=\"Stehbord\",S143=\"Stehbord HB\",S143=\"Flexila STB\",S143=\"Jalousiebord\"),Daten!$D$19,\"-\")))","v":""},{"$f":"IF($A143=\"\",\"\",IF(S143=\"Putzbord\",Daten!$D$16,IF(S143=\"Flexila PU\",_xlfn.NUMBERVALUE(MID(Daten!$D$17,1,2)),\"-\")))","v":""},{"$f":"IF($A143=\"\",\"\",IF(OR(S143=\"Putzbord\",S143=\"Flexila PU\"),Daten!$D$18,IF(OR(S143=\"Stehbord\",S143=\"Stehbord HB\",S143=\"Flexila STB\",S143=\"Jalousiebord\"),Daten!$D$21,\"-\")))","v":""},{"$f":"IF(A143=\"\",\"\",IF(AND(Daten!D$6=\"Jalousiebord\",OR(O143=\"Stehbord\",S143=\"Stehbord\")),\"Jalousienklinkung\",\"\"))","v":""},{"$f":"IF(W143=\"\",\"\",Daten!D$20)","v":""},null,null,{"$f":"IF(A143=\"\",\"\",IF(Daten!F$1=\"A\",\"Ohne\",IF(OR(N143=\"Gerstenkorn roh\",N143=\"Riffelblech roh\"),\"XPS\",Daten!F$2)))","v":""},{"$f":"IF(A143=\"\",\"\",IF(AA143=\"Ohne\",\"A\",IF(AA143=\"XPS\",IF(Daten!F$1=\"D\",\"B\",Daten!F$1),Daten!F$1)))","v":""},{"$f":"IF(A143=\"\",\"\",IF(AB143=\"A\",\"-\",Daten!F$7))","v":""},{"$f":"IF(A143=\"\",\"\",IF(AB143=\"A\",\"-\",IF(AND(Daten!F$8=0,O143=\"Putzbord\"),5-Q143,0)))","v":""},{"$f":"IF(A143=\"\",\"\",IF(AB143=\"A\",\"-\",IF(AND(Daten!F$8=0,S143=\"Putzbord\"),5-U143,0)))","v":""},{"$f":"IF(A143=\"\",\"\",IF(AB143=\"A\",\"-\",Daten!F$10))","v":""},{"$f":"IFERROR(IF(A143=\"\",\"\",VLOOKUP(N143,Daten!N$1:O$7,2,FALSE)),\"\")","v":""}]
[null,null,null,{"$f":"IF(A144=\"\",\"\",IF(Daten!B$3=TRUE,Daten!B$7,\"\"))","v":""},{"$f":"IFERROR(IF(C144=\"\",\"\",C144+(2*D144)+IF(O144=Daten!M$13,6,0)+IF(S144=Daten!M$13,6,0)+IF(Q144=\"-\",0,Q144)+IF(U144=\"-\",0,U144)),\"\")","v":""},{"$f":"IF(OR(A144=\"\",AND(F$1=0,Daten!F$3=FALSE)),\"\",Daten!B$6)","v":""},{"$f":"IF(A144=\"\",\"\",IF(Daten!B$5=\"??\",\"\",Daten!B$5))","v":""},{"$f":"IF(A144=\"\",\"\",IF(Daten!B$3=FALSE,\"\",Daten!B$4))","v":""},{"$f":"IFERROR(IF(A144=\"\",\"\",G144+H144+IF(AND(G144>0,H144>0),5,0))-IF(Daten!H$21=TRUE,H144,0),\"\")","v":""},{"$f":"IFERROR(IF(A144=\"\",\"\",I144+IF(Daten!H$21=TRUE,H144,0)+IF(F144=\"\",0,F144)-IF(Daten!F$3=TRUE,Daten!F$10,0)),\"\")","v":""},{"$f":"IF(A144=\"\",\"\",Daten!D$14)","v":""},{"$f":"IF(A144=\"\",\"\",Daten!D$12)","v":""},{"$f":"IF(A144=\"\",\"\",Daten!D$13)","v":""},{"$f":"IF(A144=\"\",\"\",Daten!M$2)","v":""},{"$f":"IF(A144=\"\",\"\",IF(Daten!D$6=Daten!N$11,Daten!M$11,IF(Daten!D$6=Daten!N$13,Daten!M$13,IF(AND(Daten!$D$6=Daten!$M$10,Daten!$D$8=TRUE),Daten!$M$14,Daten!D$6))))","v":""},{"$f":"IF($A144=\"\",\"\",IF(OR(O144=\"Putzbord\",O144=\"Flexila PU\"),Daten!$D$15,IF(OR(O144=\"Stehbord\",O144=\"Stehbord HB\",O144=\"Flexila STB\",O144=\"Jalousiebord\"),Daten!$D$19,\"-\")))","v":""},{"$f":"IF($A144=\"\",\"\",IF(O144=\"Putzbord\",Daten!$D$16,IF(O144=\"Flexila PU\",_xlfn.NUMBERVALUE(MID(Daten!$D$17,1,2)),\"-\")))","v":""},{"$f":"IF($A144=\"\",\"\",IF(OR(O144=\"Putzbord\",O144=\"Flexila PU\"),Daten!$D$18,IF(OR(O144=\"Stehbord\",O144=\"Stehbord HB\",O144=\"Flexila STB\",O144=\"Jalousiebord\"),Daten!$D$21,\"-\")))","v":""},{"$f":"IF(A144=\"\",\"\",IF(Daten!D$6=Daten!N$11,Daten!M$11,IF(Daten!D$6=Daten!N$13,Daten!M$13,IF(AND(Daten!$D$6=Daten!$M$10,Daten!$D$8=TRUE),Daten!$M$14,Daten!D$6))))","v":""},{"$f":"IF($A144=\"\",\"\",IF(OR(S144=\"Putzbord\",S144=\"Flexila PU\"),Daten!$D$15,IF(OR(S144=\"Stehbord\",S144=\"Stehbord HB\",S144=\"Flexila STB\",S144=\"Jalousiebord\"),Daten!$D$19,\"-\")))","v":""},{"$f":"IF($A144=\"\",\"\",IF(S144=\"Putzbord\",Daten!$D$16,IF(S144=\"Flexila PU\",_xlfn.NUMBERVALUE(MID(Daten!$D$17,1,2)),\"-\")))","v":""},{"$f":"IF($A144=\"\",\"\",IF(OR(S144=\"Putzbord\",S144=\"Flexila PU\"),Daten!$D$18,IF(OR(S144=\"Stehbord\",S144=\"Stehbord HB\",S144=\"Flexila STB\",S144=\"Jalousiebord\"),Daten!$D$21,\"-\")))","v":""},{"$f":"IF(A144=\"\",\"\",IF(AND(Daten!D$6=\"Jalousiebord\",OR(O144=\"Stehbord\",S144=\"Stehbord\")),\"Jalousienklinkung\",\"\"))","v":""},{"$f":"IF(W144=\"\",\"\",Daten!D$20)","v":""},null,null,{"$f":"IF(A144=\"\",\"\",IF(Daten!F$1=\"A\",\"Ohne\",IF(OR(N144=\"Gerstenkorn roh\",N144=\"Riffelblech roh\"),\"XPS\",Daten!F$2)))","v":""},{"$f":"IF(A144=\"\",\"\",IF(AA144=\"Ohne\",\"A\",IF(AA144=\"XPS\",IF(Daten!F$1=\"D\",\"B\",Daten!F$1),Daten!F$1)))","v":""},{"$f":"IF(A144=\"\",\"\",IF(AB144=\"A\",\"-\",Daten!F$7))","v":""},{"$f":"IF(A144=\"\",\"\",IF(AB144=\"A\",\"-\",IF(AND(Daten!F$8=0,O144=\"Putzbord\"),5-Q144,0)))","v":""},{"$f":"IF(A144=\"\",\"\",IF(AB144=\"A\",\"-\",IF(AND(Daten!F$8=0,S144=\"Putzbord\"),5-U144,0)))","v":""},{"$f":"IF(A144=\"\",\"\",IF(AB144=\"A\",\"-\",Daten!F$10))","v":""},{"$f":"IFERROR(IF(A144=\"\",\"\",VLOOKUP(N144,Daten!N$1:O$7,2,FALSE)),\"\")","v":""}]
[null,null,null,{"$f":"IF(A145=\"\",\"\",IF(Daten!B$3=TRUE,Daten!B$7,\"\"))","v":""},{"$f":"IFERROR(IF(C145=\"\",\"\",C145+(2*D145)+IF(O145=Daten!M$13,6,0)+IF(S145=Daten!M$13,6,0)+IF(Q145=\"-\",0,Q145)+IF(U145=\"-\",0,U145)),\"\")","v":""},{"$f":"IF(OR(A145=\"\",AND(F$1=0,Daten!F$3=FALSE)),\"\",Daten!B$6)","v":""},{"$f":"IF(A145=\"\",\"\",IF(Daten!B$5=\"??\",\"\",Daten!B$5))","v":""},{"$f":"IF(A145=\"\",\"\",IF(Daten!B$3=FALSE,\"\",Daten!B$4))","v":""},{"$f":"IFERROR(IF(A145=\"\",\"\",G145+H145+IF(AND(G145>0,H145>0),5,0))-IF(Daten!H$21=TRUE,H145,0),\"\")","v":""},{"$f":"IFERROR(IF(A145=\"\",\"\",I145+IF(Daten!H$21=TRUE,H145,0)+IF(F145=\"\",0,F145)-IF(Daten!F$3=TRUE,Daten!F$10,0)),\"\")","v":""},{"$f":"IF(A145=\"\",\"\",Daten!D$14)","v":""},{"$f":"IF(A145=\"\",\"\",Daten!D$12)","v":""},{"$f":"IF(A145=\"\",\"\",Daten!D$13)","v":""},{"$f":"IF(A145=\"\",\"\",Daten!M$2)","v":""},{"$f":"IF(A145=\"\",\"\",IF(Daten!D$6=Daten!N$11,Daten!M$11,IF(Daten!D$6=Daten!N$13,Daten!M$13,IF(AND(Daten!$D$6=Daten!$M$10,Daten!$D$8=TRUE),Daten!$M$14,Daten!D$6))))","v":""},{"$f":"IF($A145=\"\",\"\",IF(OR(O145=\"Putzbord\",O145=\"Flexila PU\"),Daten!$D$15,IF(OR(O145=\"Stehbord\",O145=\"Stehbord HB\",O145=\"Flexila STB\",O145=\"Jalousiebord\"),Daten!$D$19,\"-\")))","v":""},{"$f":"IF($A145=\"\",\"\",IF(O145=\"Putzbord\",Daten!$D$16,IF(O145=\"Flexila PU\",_xlfn.NUMBERVALUE(MID(Daten!$D$17,1,2)),\"-\")))","v":""},{"$f":"IF($A145=\"\",\"\",IF(OR(O145=\"Putzbord\",O145=\"Flexila PU\"),Daten!$D$18,IF(OR(O145=\"Stehbord\",O145=\"Stehbord HB\",O145=\"Flexila STB\",O145=\"Jalousiebord\"),Daten!$D$21,\"-\")))","v":""},{"$f":"IF(A145=\"\",\"\",IF(Daten!D$6=Daten!N$11,Daten!M$11,IF(Daten!D$6=Daten!N$13,Daten!M$13,IF(AND(Daten!$D$6=Daten!$M$10,Daten!$D$8=TRUE),Daten!$M$14,Daten!D$6))))","v":""},{"$f":"IF($A145=\"\",\"\",IF(OR(S145=\"Putzbord\",S145=\"Flexila PU\"),Daten!$D$15,IF(OR(S145=\"Stehbord\",S145=\"Stehbord HB\",S145=\"Flexila STB\",S145=\"Jalousiebord\"),Daten!$D$19,\"-\")))","v":""},{"$f":"IF($A145=\"\",\"\",IF(S145=\"Putzbord\",Daten!$D$16,IF(S145=\"Flexila PU\",_xlfn.NUMBERVALUE(MID(Daten!$D$17,1,2)),\"-\")))","v":""},{"$f":"IF($A145=\"\",\"\",IF(OR(S145=\"Putzbord\",S145=\"Flexila PU\"),Daten!$D$18,IF(OR(S145=\"Stehbord\",S145=\"Stehbord HB\",S145=\"Flexila STB\",S145=\"Jalousiebord\"),Daten!$D$21,\"-\")))","v":""},{"$f":"IF(A145=\"\",\"\",IF(AND(Daten!D$6=\"Jalousiebord\",OR(O145=\"Stehbord\",S145=\"Stehbord\")),\"Jalousienklinkung\",\"\"))","v":""},{"$f":"IF(W145=\"\",\"\",Daten!D$20)","v":""},null,null,{"$f":"IF(A145=\"\",\"\",IF(Daten!F$1=\"A\",\"Ohne\",IF(OR(N145=\"Gerstenkorn roh\",N145=\"Riffelblech roh\"),\"XPS\",Daten!F$2)))","v":""},{"$f":"IF(A145=\"\",\"\",IF(AA145=\"Ohne\",\"A\",IF(AA145=\"XPS\",IF(Daten!F$1=\"D\",\"B\",Daten!F$1),Daten!F$1)))","v":""},{"$f":"IF(A145=\"\",\"\",IF(AB145=\"A\",\"-\",Daten!F$7))","v":""},{"$f":"IF(A145=\"\",\"\",IF(AB145=\"A\",\"-\",IF(AND(Daten!F$8=0,O145=\"Putzbord\"),5-Q145,0)))","v":""},{"$f":"IF(A145=\"\",\"\",IF(AB145=\"A\",\"-\",IF(AND(Daten!F$8=0,S145=\"Putzbord\"),5-U145,0)))","v":""},{"$f":"IF(A145=\"\",\"\",IF(AB145=\"A\",\"-\",Daten!F$10))","v":""},{"$f":"IFERROR(IF(A145=\"\",\"\",VLOOKUP(N145,Daten!N$1:O$7,2,FALSE)),\"\")","v":""}]
[null,null,null,{"$f":"IF(A146=\"\",\"\",IF(Daten!B$3=TRUE,Daten!B$7,\"\"))","v":""},{"$f":"IFERROR(IF(C146=\"\",\"\",C146+(2*D146)+IF(O146=Daten!M$13,6,0)+IF(S146=Daten!M$13,6,0)+IF(Q146=\"-\",0,Q146)+IF(U146=\"-\",0,U146)),\"\")","v":""},{"$f":"IF(OR(A146=\"\",AND(F$1=0,Daten!F$3=FALSE)),\"\",Daten!B$6)","v":""},{"$f":"IF(A146=\"\",\"\",IF(Daten!B$5=\"??\",\"\",Daten!B$5))","v":""},{"$f":"IF(A146=\"\",\"\",IF(Daten!B$3=FALSE,\"\",Daten!B$4))","v":""},{"$f":"IFERROR(IF(A146=\"\",\"\",G146+H146+IF(AND(G146>0,H146>0),5,0))-IF(Daten!H$21=TRUE,H146,0),\"\")","v":""},{"$f":"IFERROR(IF(A146=\"\",\"\",I146+IF(Daten!H$21=TRUE,H146,0)+IF(F146=\"\",0,F146)-IF(Daten!F$3=TRUE,Daten!F$10,0)),\"\")","v":""},{"$f":"IF(A146=\"\",\"\",Daten!D$14)","v":""},{"$f":"IF(A146=\"\",\"\",Daten!D$12)","v":""},{"$f":"IF(A146=\"\",\"\",Daten!D$13)","v":""},{"$f":"IF(A146=\"\",\"\",Daten!M$2)","v":""},{"$f":"IF(A146=\"\",\"\",IF(Daten!D$6=Daten!N$11,Daten!M$11,IF(Daten!D$6=Daten!N$13,Daten!M$13,IF(AND(Daten!$D$6=Daten!$M$10,Daten!$D$8=TRUE),Daten!$M$14,Daten!D$6))))","v":""},{"$f":"IF($A146=\"\",\"\",IF(OR(O146=\"Putzbord\",O146=\"Flexila PU\"),Daten!$D$15,IF(OR(O146=\"Stehbord\",O146=\"Stehbord HB\",O146=\"Flexila STB\",O146=\"Jalousiebord\"),Daten!$D$19,\"-\")))","v":""},{"$f":"IF($A146=\"\",\"\",IF(O146=\"Putzbord\",Daten!$D$16,IF(O146=\"Flexila PU\",_xlfn.NUMBERVALUE(MID(Daten!$D$17,1,2)),\"-\")))","v":""},{"$f":"IF($A146=\"\",\"\",IF(OR(O146=\"Putzbord\",O146=\"Flexila PU\"),Daten!$D$18,IF(OR(O146=\"Stehbord\",O146=\"Stehbord HB\",O146=\"Flexila STB\",O146=\"Jalousiebord\"),Daten!$D$21,\"-\")))","v":""},{"$f":"IF(A146=\"\",\"\",IF(Daten!D$6=Daten!N$11,Daten!M$11,IF(Daten!D$6=Daten!N$13,Daten!M$13,IF(AND(Daten!$D$6=Daten!$M$10,Daten!$D$8=TRUE),Daten!$M$14,Daten!D$6))))","v":""},{"$f":"IF($A146=\"\",\"\",IF(OR(S146=\"Putzbord\",S146=\"Flexila PU\"),Daten!$D$15,IF(OR(S146=\"Stehbord\",S146=\"Stehbord HB\",S146=\"Flexila STB\",S146=\"Jalousiebord\"),Daten!$D$19,\"-\")))","v":""},{"$f":"IF($A146=\"\",\"\",IF(S146=\"Putzbord\",Daten!$D$16,IF(S146=\"Flexila PU\",_xlfn.NUMBERVALUE(MID(Daten!$D$17,1,2)),\"-\")))","v":""},{"$f":"IF($A146=\"\",\"\",IF(OR(S146=\"Putzbord\",S146=\"Flexila PU\"),Daten!$D$18,IF(OR(S146=\"Stehbord\",S146=\"Stehbord HB\",S146=\"Flexila STB\",S146=\"Jalousiebord\"),Daten!$D$21,\"-\")))","v":""},{"$f":"IF(A146=\"\",\"\",IF(AND(Daten!D$6=\"Jalousiebord\",OR(O146=\"Stehbord\",S146=\"Stehbord\")),\"Jalousienklinkung\",\"\"))","v":""},{"$f":"IF(W146=\"\",\"\",Daten!D$20)","v":""},null,null,{"$f":"IF(A146=\"\",\"\",IF(Daten!F$1=\"A\",\"Ohne\",IF(OR(N146=\"Gerstenkorn roh\",N146=\"Riffelblech roh\"),\"XPS\",Daten!F$2)))","v":""},{"$f":"IF(A146=\"\",\"\",IF(AA146=\"Ohne\",\"A\",IF(AA146=\"XPS\",IF(Daten!F$1=\"D\",\"B\",Daten!F$1),Daten!F$1)))","v":""},{"$f":"IF(A146=\"\",\"\",IF(AB146=\"A\",\"-\",Daten!F$7))","v":""},{"$f":"IF(A146=\"\",\"\",IF(AB146=\"A\",\"-\",IF(AND(Daten!F$8=0,O146=\"Putzbord\"),5-Q146,0)))","v":""},{"$f":"IF(A146=\"\",\"\",IF(AB146=\"A\",\"-\",IF(AND(Daten!F$8=0,S146=\"Putzbord\"),5-U146,0)))","v":""},{"$f":"IF(A146=\"\",\"\",IF(AB146=\"A\",\"-\",Daten!F$10))","v":""},{"$f":"IFERROR(IF(A146=\"\",\"\",VLOOKUP(N146,Daten!N$1:O$7,2,FALSE)),\"\")","v":""}]
[null,null,null,{"$f":"IF(A147=\"\",\"\",IF(Daten!B$3=TRUE,Daten!B$7,\"\"))","v":""},{"$f":"IFERROR(IF(C147=\"\",\"\",C147+(2*D147)+IF(O147=Daten!M$13,6,0)+IF(S147=Daten!M$13,6,0)+IF(Q147=\"-\",0,Q147)+IF(U147=\"-\",0,U147)),\"\")","v":""},{"$f":"IF(OR(A147=\"\",AND(F$1=0,Daten!F$3=FALSE)),\"\",Daten!B$6)","v":""},{"$f":"IF(A147=\"\",\"\",IF(Daten!B$5=\"??\",\"\",Daten!B$5))","v":""},{"$f":"IF(A147=\"\",\"\",IF(Daten!B$3=FALSE,\"\",Daten!B$4))","v":""},{"$f":"IFERROR(IF(A147=\"\",\"\",G147+H147+IF(AND(G147>0,H147>0),5,0))-IF(Daten!H$21=TRUE,H147,0),\"\")","v":""},{"$f":"IFERROR(IF(A147=\"\",\"\",I147+IF(Daten!H$21=TRUE,H147,0)+IF(F147=\"\",0,F147)-IF(Daten!F$3=TRUE,Daten!F$10,0)),\"\")","v":""},{"$f":"IF(A147=\"\",\"\",Daten!D$14)","v":""},{"$f":"IF(A147=\"\",\"\",Daten!D$12)","v":""},{"$f":"IF(A147=\"\",\"\",Daten!D$13)","v":""},{"$f":"IF(A147=\"\",\"\",Daten!M$2)","v":""},{"$f":"IF(A147=\"\",\"\",IF(Daten!D$6=Daten!N$11,Daten!M$11,IF(Daten!D$6=Daten!N$13,Daten!M$13,IF(AND(Daten!$D$6=Daten!$M$10,Daten!$D$8=TRUE),Daten!$M$14,Daten!D$6))))","v":""},{"$f":"IF($A147=\"\",\"\",IF(OR(O147=\"Putzbord\",O147=\"Flexila PU\"),Daten!$D$15,IF(OR(O147=\"Stehbord\",O147=\"Stehbord HB\",O147=\"Flexila STB\",O147=\"Jalousiebord\"),Daten!$D$19,\"-\")))","v":""},{"$f":"IF($A147=\"\",\"\",IF(O147=\"Putzbord\",Daten!$D$16,IF(O147=\"Flexila PU\",_xlfn.NUMBERVALUE(MID(Daten!$D$17,1,2)),\"-\")))","v":""},{"$f":"IF($A147=\"\",\"\",IF(OR(O147=\"Putzbord\",O147=\"Flexila PU\"),Daten!$D$18,IF(OR(O147=\"Stehbord\",O147=\"Stehbord HB\",O147=\"Flexila STB\",O147=\"Jalousiebord\"),Daten!$D$21,\"-\")))","v":""},{"$f":"IF(A147=\"\",\"\",IF(Daten!D$6=Daten!N$11,Daten!M$11,IF(Daten!D$6=Daten!N$13,Daten!M$13,IF(AND(Daten!$D$6=Daten!$M$10,Daten!$D$8=TRUE),Daten!$M$14,Daten!D$6))))","v":""},{"$f":"IF($A147=\"\",\"\",IF(OR(S147=\"Putzbord\",S147=\"Flexila PU\"),Daten!$D$15,IF(OR(S147=\"Stehbord\",S147=\"Stehbord HB\",S147=\"Flexila STB\",S147=\"Jalousiebord\"),Daten!$D$19,\"-\")))","v":""},{"$f":"IF($A147=\"\",\"\",IF(S147=\"Putzbord\",Daten!$D$16,IF(S147=\"Flexila PU\",_xlfn.NUMBERVALUE(MID(Daten!$D$17,1,2)),\"-\")))","v":""},{"$f":"IF($A147=\"\",\"\",IF(OR(S147=\"Putzbord\",S147=\"Flexila PU\"),Daten!$D$18,IF(OR(S147=\"Stehbord\",S147=\"Stehbord HB\",S147=\"Flexila STB\",S147=\"Jalousiebord\"),Daten!$D$21,\"-\")))","v":""},{"$f":"IF(A147=\"\",\"\",IF(AND(Daten!D$6=\"Jalousiebord\",OR(O147=\"Stehbord\",S147=\"Stehbord\")),\"Jalousienklinkung\",\"\"))","v":""},{"$f":"IF(W147=\"\",\"\",Daten!D$20)","v":""},null,null,{"$f":"IF(A147=\"\",\"\",IF(Daten!F$1=\"A\",\"Ohne\",IF(OR(N147=\"Gerstenkorn roh\",N147=\"Riffelblech roh\"),\"XPS\",Daten!F$2)))","v":""},{"$f":"IF(A147=\"\",\"\",IF(AA147=\"Ohne\",\"A\",IF(AA147=\"XPS\",IF(Daten!F$1=\"D\",\"B\",Daten!F$1),Daten!F$1)))","v":""},{"$f":"IF(A147=\"\",\"\",IF(AB147=\"A\",\"-\",Daten!F$7))","v":""},{"$f":"IF(A147=\"\",\"\",IF(AB147=\"A\",\"-\",IF(AND(Daten!F$8=0,O147=\"Putzbord\"),5-Q147,0)))","v":""},{"$f":"IF(A147=\"\",\"\",IF(AB147=\"A\",\"-\",IF(AND(Daten!F$8=0,S147=\"Putzbord\"),5-U147,0)))","v":""},{"$f":"IF(A147=\"\",\"\",IF(AB147=\"A\",\"-\",Daten!F$10))","v":""},{"$f":"IFERROR(IF(A147=\"\",\"\",VLOOKUP(N147,Daten!N$1:O$7,2,FALSE)),\"\")","v":""}]
[null,null,null,{"$f":"IF(A148=\"\",\"\",IF(Daten!B$3=TRUE,Daten!B$7,\"\"))","v":""},{"$f":"IFERROR(IF(C148=\"\",\"\",C148+(2*D148)+IF(O148=Daten!M$13,6,0)+IF(S148=Daten!M$13,6,0)+IF(Q148=\"-\",0,Q148)+IF(U148=\"-\",0,U148)),\"\")","v":""},{"$f":"IF(OR(A148=\"\",AND(F$1=0,Daten!F$3=FALSE)),\"\",Daten!B$6)","v":""},{"$f":"IF(A148=\"\",\"\",IF(Daten!B$5=\"??\",\"\",Daten!B$5))","v":""},{"$f":"IF(A148=\"\",\"\",IF(Daten!B$3=FALSE,\"\",Daten!B$4))","v":""},{"$f":"IFERROR(IF(A148=\"\",\"\",G148+H148+IF(AND(G148>0,H148>0),5,0))-IF(Daten!H$21=TRUE,H148,0),\"\")","v":""},{"$f":"IFERROR(IF(A148=\"\",\"\",I148+IF(Daten!H$21=TRUE,H148,0)+IF(F148=\"\",0,F148)-IF(Daten!F$3=TRUE,Daten!F$10,0)),\"\")","v":""},{"$f":"IF(A148=\"\",\"\",Daten!D$14)","v":""},{"$f":"IF(A148=\"\",\"\",Daten!D$12)","v":""},{"$f":"IF(A148=\"\",\"\",Daten!D$13)","v":""},{"$f":"IF(A148=\"\",\"\",Daten!M$2)","v":""},{"$f":"IF(A148=\"\",\"\",IF(Daten!D$6=Daten!N$11,Daten!M$11,IF(Daten!D$6=Daten!N$13,Daten!M$13,IF(AND(Daten!$D$6=Daten!$M$10,Daten!$D$8=TRUE),Daten!$M$14,Daten!D$6))))","v":""},{"$f":"IF($A148=\"\",\"\",IF(OR(O148=\"Putzbord\",O148=\"Flexila PU\"),Daten!$D$15,IF(OR(O148=\"Stehbord\",O148=\"Stehbord HB\",O148=\"Flexila STB\",O148=\"Jalousiebord\"),Daten!$D$19,\"-\")))","v":""},{"$f":"IF($A148=\"\",\"\",IF(O148=\"Putzbord\",Daten!$D$16,IF(O148=\"Flexila PU\",_xlfn.NUMBERVALUE(MID(Daten!$D$17,1,2)),\"-\")))","v":""},{"$f":"IF($A148=\"\",\"\",IF(OR(O148=\"Putzbord\",O148=\"Flexila PU\"),Daten!$D$18,IF(OR(O148=\"Stehbord\",O148=\"Stehbord HB\",O148=\"Flexila STB\",O148=\"Jalousiebord\"),Daten!$D$21,\"-\")))","v":""},{"$f":"IF(A148=\"\",\"\",IF(Daten!D$6=Daten!N$11,Daten!M$11,IF(Daten!D$6=Daten!N$13,Daten!M$13,IF(AND(Daten!$D$6=Daten!$M$10,Daten!$D$8=TRUE),Daten!$M$14,Daten!D$6))))","v":""},{"$f":"IF($A148=\"\",\"\",IF(OR(S148=\"Putzbord\",S148=\"Flexila PU\"),Daten!$D$15,IF(OR(S148=\"Stehbord\",S148=\"Stehbord HB\",S148=\"Flexila STB\",S148=\"Jalousiebord\"),Daten!$D$19,\"-\")))","v":""},{"$f":"IF($A148=\"\",\"\",IF(S148=\"Putzbord\",Daten!$D$16,IF(S148=\"Flexila PU\",_xlfn.NUMBERVALUE(MID(Daten!$D$17,1,2)),\"-\")))","v":""},{"$f":"IF($A148=\"\",\"\",IF(OR(S148=\"Putzbord\",S148=\"Flexila PU\"),Daten!$D$18,IF(OR(S148=\"Stehbord\",S148=\"Stehbord HB\",S148=\"Flexila STB\",S148=\"Jalousiebord\"),Daten!$D$21,\"-\")))","v":""},{"$f":"IF(A148=\"\",\"\",IF(AND(Daten!D$6=\"Jalousiebord\",OR(O148=\"Stehbord\",S148=\"Stehbord\")),\"Jalousienklinkung\",\"\"))","v":""},{"$f":"IF(W148=\"\",\"\",Daten!D$20)","v":""},null,null,{"$f":"IF(A148=\"\",\"\",IF(Daten!F$1=\"A\",\"Ohne\",IF(OR(N148=\"Gerstenkorn roh\",N148=\"Riffelblech roh\"),\"XPS\",Daten!F$2)))","v":""},{"$f":"IF(A148=\"\",\"\",IF(AA148=\"Ohne\",\"A\",IF(AA148=\"XPS\",IF(Daten!F$1=\"D\",\"B\",Daten!F$1),Daten!F$1)))","v":""},{"$f":"IF(A148=\"\",\"\",IF(AB148=\"A\",\"-\",Daten!F$7))","v":""},{"$f":"IF(A148=\"\",\"\",IF(AB148=\"A\",\"-\",IF(AND(Daten!F$8=0,O148=\"Putzbord\"),5-Q148,0)))","v":""},{"$f":"IF(A148=\"\",\"\",IF(AB148=\"A\",\"-\",IF(AND(Daten!F$8=0,S148=\"Putzbord\"),5-U148,0)))","v":""},{"$f":"IF(A148=\"\",\"\",IF(AB148=\"A\",\"-\",Daten!F$10))","v":""},{"$f":"IFERROR(IF(A148=\"\",\"\",VLOOKUP(N148,Daten!N$1:O$7,2,FALSE)),\"\")","v":""}]
[null,null,null,{"$f":"IF(A149=\"\",\"\",IF(Daten!B$3=TRUE,Daten!B$7,\"\"))","v":""},{"$f":"IFERROR(IF(C149=\"\",\"\",C149+(2*D149)+IF(O149=Daten!M$13,6,0)+IF(S149=Daten!M$13,6,0)+IF(Q149=\"-\",0,Q149)+IF(U149=\"-\",0,U149)),\"\")","v":""},{"$f":"IF(OR(A149=\"\",AND(F$1=0,Daten!F$3=FALSE)),\"\",Daten!B$6)","v":""},{"$f":"IF(A149=\"\",\"\",IF(Daten!B$5=\"??\",\"\",Daten!B$5))","v":""},{"$f":"IF(A149=\"\",\"\",IF(Daten!B$3=FALSE,\"\",Daten!B$4))","v":""},{"$f":"IFERROR(IF(A149=\"\",\"\",G149+H149+IF(AND(G149>0,H149>0),5,0))-IF(Daten!H$21=TRUE,H149,0),\"\")","v":""},{"$f":"IFERROR(IF(A149=\"\",\"\",I149+IF(Daten!H$21=TRUE,H149,0)+IF(F149=\"\",0,F149)-IF(Daten!F$3=TRUE,Daten!F$10,0)),\"\")","v":""},{"$f":"IF(A149=\"\",\"\",Daten!D$14)","v":""},{"$f":"IF(A149=\"\",\"\",Daten!D$12)","v":""},{"$f":"IF(A149=\"\",\"\",Daten!D$13)","v":""},{"$f":"IF(A149=\"\",\"\",Daten!M$2)","v":""},{"$f":"IF(A149=\"\",\"\",IF(Daten!D$6=Daten!N$11,Daten!M$11,IF(Daten!D$6=Daten!N$13,Daten!M$13,IF(AND(Daten!$D$6=Daten!$M$10,Daten!$D$8=TRUE),Daten!$M$14,Daten!D$6))))","v":""},{"$f":"IF($A149=\"\",\"\",IF(OR(O149=\"Putzbord\",O149=\"Flexila PU\"),Daten!$D$15,IF(OR(O149=\"Stehbord\",O149=\"Stehbord HB\",O149=\"Flexila STB\",O149=\"Jalousiebord\"),Daten!$D$19,\"-\")))","v":""},{"$f":"IF($A149=\"\",\"\",IF(O149=\"Putzbord\",Daten!$D$16,IF(O149=\"Flexila PU\",_xlfn.NUMBERVALUE(MID(Daten!$D$17,1,2)),\"-\")))","v":""},{"$f":"IF($A149=\"\",\"\",IF(OR(O149=\"Putzbord\",O149=\"Flexila PU\"),Daten!$D$18,IF(OR(O149=\"Stehbord\",O149=\"Stehbord HB\",O149=\"Flexila STB\",O149=\"Jalousiebord\"),Daten!$D$21,\"-\")))","v":""},{"$f":"IF(A149=\"\",\"\",IF(Daten!D$6=Daten!N$11,Daten!M$11,IF(Daten!D$6=Daten!N$13,Daten!M$13,IF(AND(Daten!$D$6=Daten!$M$10,Daten!$D$8=TRUE),Daten!$M$14,Daten!D$6))))","v":""},{"$f":"IF($A149=\"\",\"\",IF(OR(S149=\"Putzbord\",S149=\"Flexila PU\"),Daten!$D$15,IF(OR(S149=\"Stehbord\",S149=\"Stehbord HB\",S149=\"Flexila STB\",S149=\"Jalousiebord\"),Daten!$D$19,\"-\")))","v":""},{"$f":"IF($A149=\"\",\"\",IF(S149=\"Putzbord\",Daten!$D$16,IF(S149=\"Flexila PU\",_xlfn.NUMBERVALUE(MID(Daten!$D$17,1,2)),\"-\")))","v":""},{"$f":"IF($A149=\"\",\"\",IF(OR(S149=\"Putzbord\",S149=\"Flexila PU\"),Daten!$D$18,IF(OR(S149=\"Stehbord\",S149=\"Stehbord HB\",S149=\"Flexila STB\",S149=\"Jalousiebord\"),Daten!$D$21,\"-\")))","v":""},{"$f":"IF(A149=\"\",\"\",IF(AND(Daten!D$6=\"Jalousiebord\",OR(O149=\"Stehbord\",S149=\"Stehbord\")),\"Jalousienklinkung\",\"\"))","v":""},{"$f":"IF(W149=\"\",\"\",Daten!D$20)","v":""},null,null,{"$f":"IF(A149=\"\",\"\",IF(Daten!F$1=\"A\",\"Ohne\",IF(OR(N149=\"Gerstenkorn roh\",N149=\"Riffelblech roh\"),\"XPS\",Daten!F$2)))","v":""},{"$f":"IF(A149=\"\",\"\",IF(AA149=\"Ohne\",\"A\",IF(AA149=\"XPS\",IF(Daten!F$1=\"D\",\"B\",Daten!F$1),Daten!F$1)))","v":""},{"$f":"IF(A149=\"\",\"\",IF(AB149=\"A\",\"-\",Daten!F$7))","v":""},{"$f":"IF(A149=\"\",\"\",IF(AB149=\"A\",\"-\",IF(AND(Daten!F$8=0,O149=\"Putzbord\"),5-Q149,0)))","v":""},{"$f":"IF(A149=\"\",\"\",IF(AB149=\"A\",\"-\",IF(AND(Daten!F$8=0,S149=\"Putzbord\"),5-U149,0)))","v":""},{"$f":"IF(A149=\"\",\"\",IF(AB149=\"A\",\"-\",Daten!F$10))","v":""},{"$f":"IFERROR(IF(A149=\"\",\"\",VLOOKUP(N149,Daten!N$1:O$7,2,FALSE)),\"\")","v":""}]
[null,null,null,{"$f":"IF(A150=\"\",\"\",IF(Daten!B$3=TRUE,Daten!B$7,\"\"))","v":""},{"$f":"IFERROR(IF(C150=\"\",\"\",C150+(2*D150)+IF(O150=Daten!M$13,6,0)+IF(S150=Daten!M$13,6,0)+IF(Q150=\"-\",0,Q150)+IF(U150=\"-\",0,U150)),\"\")","v":""},{"$f":"IF(OR(A150=\"\",AND(F$1=0,Daten!F$3=FALSE)),\"\",Daten!B$6)","v":""},{"$f":"IF(A150=\"\",\"\",IF(Daten!B$5=\"??\",\"\",Daten!B$5))","v":""},{"$f":"IF(A150=\"\",\"\",IF(Daten!B$3=FALSE,\"\",Daten!B$4))","v":""},{"$f":"IFERROR(IF(A150=\"\",\"\",G150+H150+IF(AND(G150>0,H150>0),5,0))-IF(Daten!H$21=TRUE,H150,0),\"\")","v":""},{"$f":"IFERROR(IF(A150=\"\",\"\",I150+IF(Daten!H$21=TRUE,H150,0)+IF(F150=\"\",0,F150)-IF(Daten!F$3=TRUE,Daten!F$10,0)),\"\")","v":""},{"$f":"IF(A150=\"\",\"\",Daten!D$14)","v":""},{"$f":"IF(A150=\"\",\"\",Daten!D$12)","v":""},{"$f":"IF(A150=\"\",\"\",Daten!D$13)","v":""},{"$f":"IF(A150=\"\",\"\",Daten!M$2)","v":""},{"$f":"IF(A150=\"\",\"\",IF(Daten!D$6=Daten!N$11,Daten!M$11,IF(Daten!D$6=Daten!N$13,Daten!M$13,IF(AND(Daten!$D$6=Daten!$M$10,Daten!$D$8=TRUE),Daten!$M$14,Daten!D$6))))","v":""},{"$f":"IF($A150=\"\",\"\",IF(OR(O150=\"Putzbord\",O150=\"Flexila PU\"),Daten!$D$15,IF(OR(O150=\"Stehbord\",O150=\"Stehbord HB\",O150=\"Flexila STB\",O150=\"Jalousiebord\"),Daten!$D$19,\"-\")))","v":""},{"$f":"IF($A150=\"\",\"\",IF(O150=\"Putzbord\",Daten!$D$16,IF(O150=\"Flexila PU\",_xlfn.NUMBERVALUE(MID(Daten!$D$17,1,2)),\"-\")))","v":""},{"$f":"IF($A150=\"\",\"\",IF(OR(O150=\"Putzbord\",O150=\"Flexila PU\"),Daten!$D$18,IF(OR(O150=\"Stehbord\",O150=\"Stehbord HB\",O150=\"Flexila STB\",O150=\"Jalousiebord\"),Daten!$D$21,\"-\")))","v":""},{"$f":"IF(A150=\"\",\"\",IF(Daten!D$6=Daten!N$11,Daten!M$11,IF(Daten!D$6=Daten!N$13,Daten!M$13,IF(AND(Daten!$D$6=Daten!$M$10,Daten!$D$8=TRUE),Daten!$M$14,Daten!D$6))))","v":""},{"$f":"IF($A150=\"\",\"\",IF(OR(S150=\"Putzbord\",S150=\"Flexila PU\"),Daten!$D$15,IF(OR(S150=\"Stehbord\",S150=\"Stehbord HB\",S150=\"Flexila STB\",S150=\"Jalousiebord\"),Daten!$D$19,\"-\")))","v":""},{"$f":"IF($A150=\"\",\"\",IF(S150=\"Putzbord\",Daten!$D$16,IF(S150=\"Flexila PU\",_xlfn.NUMBERVALUE(MID(Daten!$D$17,1,2)),\"-\")))","v":""},{"$f":"IF($A150=\"\",\"\",IF(OR(S150=\"Putzbord\",S150=\"Flexila PU\"),Daten!$D$18,IF(OR(S150=\"Stehbord\",S150=\"Stehbord HB\",S150=\"Flexila STB\",S150=\"Jalousiebord\"),Daten!$D$21,\"-\")))","v":""},{"$f":"IF(A150=\"\",\"\",IF(AND(Daten!D$6=\"Jalousiebord\",OR(O150=\"Stehbord\",S150=\"Stehbord\")),\"Jalousienklinkung\",\"\"))","v":""},{"$f":"IF(W150=\"\",\"\",Daten!D$20)","v":""},null,null,{"$f":"IF(A150=\"\",\"\",IF(Daten!F$1=\"A\",\"Ohne\",IF(OR(N150=\"Gerstenkorn roh\",N150=\"Riffelblech roh\"),\"XPS\",Daten!F$2)))","v":""},{"$f":"IF(A150=\"\",\"\",IF(AA150=\"Ohne\",\"A\",IF(AA150=\"XPS\",IF(Daten!F$1=\"D\",\"B\",Daten!F$1),Daten!F$1)))","v":""},{"$f":"IF(A150=\"\",\"\",IF(AB150=\"A\",\"-\",Daten!F$7))","v":""},{"$f":"IF(A150=\"\",\"\",IF(AB150=\"A\",\"-\",IF(AND(Daten!F$8=0,O150=\"Putzbord\"),5-Q150,0)))","v":""},{"$f":"IF(A150=\"\",\"\",IF(AB150=\"A\",\"-\",IF(AND(Daten!F$8=0,S150=\"Putzbord\"),5-U150,0)))","v":""},{"$f":"IF(A150=\"\",\"\",IF(AB150=\"A\",\"-\",Daten!F$10))","v":""},{"$f":"IFERROR(IF(A150=\"\",\"\",VLOOKUP(N150,Daten!N$1:O$7,2,FALSE)),\"\")","v":""}]
[null,null,null,{"$f":"IF(A151=\"\",\"\",IF(Daten!B$3=TRUE,Daten!B$7,\"\"))","v":""},{"$f":"IFERROR(IF(C151=\"\",\"\",C151+(2*D151)+IF(O151=Daten!M$13,6,0)+IF(S151=Daten!M$13,6,0)+IF(Q151=\"-\",0,Q151)+IF(U151=\"-\",0,U151)),\"\")","v":""},{"$f":"IF(OR(A151=\"\",AND(F$1=0,Daten!F$3=FALSE)),\"\",Daten!B$6)","v":""},{"$f":"IF(A151=\"\",\"\",IF(Daten!B$5=\"??\",\"\",Daten!B$5))","v":""},{"$f":"IF(A151=\"\",\"\",IF(Daten!B$3=FALSE,\"\",Daten!B$4))","v":""},{"$f":"IFERROR(IF(A151=\"\",\"\",G151+H151+IF(AND(G151>0,H151>0),5,0))-IF(Daten!H$21=TRUE,H151,0),\"\")","v":""},{"$f":"IFERROR(IF(A151=\"\",\"\",I151+IF(Daten!H$21=TRUE,H151,0)+IF(F151=\"\",0,F151)-IF(Daten!F$3=TRUE,Daten!F$10,0)),\"\")","v":""},{"$f":"IF(A151=\"\",\"\",Daten!D$14)","v":""},{"$f":"IF(A151=\"\",\"\",Daten!D$12)","v":""},{"$f":"IF(A151=\"\",\"\",Daten!D$13)","v":""},{"$f":"IF(A151=\"\",\"\",Daten!M$2)","v":""},{"$f":"IF(A151=\"\",\"\",IF(Daten!D$6=Daten!N$11,Daten!M$11,IF(Daten!D$6=Daten!N$13,Daten!M$13,IF(AND(Daten!$D$6=Daten!$M$10,Daten!$D$8=TRUE),Daten!$M$14,Daten!D$6))))","v":""},{"$f":"IF($A151=\"\",\"\",IF(OR(O151=\"Putzbord\",O151=\"Flexila PU\"),Daten!$D$15,IF(OR(O151=\"Stehbord\",O151=\"Stehbord HB\",O151=\"Flexila STB\",O151=\"Jalousiebord\"),Daten!$D$19,\"-\")))","v":""},{"$f":"IF($A151=\"\",\"\",IF(O151=\"Putzbord\",Daten!$D$16,IF(O151=\"Flexila PU\",_xlfn.NUMBERVALUE(MID(Daten!$D$17,1,2)),\"-\")))","v":""},{"$f":"IF($A151=\"\",\"\",IF(OR(O151=\"Putzbord\",O151=\"Flexila PU\"),Daten!$D$18,IF(OR(O151=\"Stehbord\",O151=\"Stehbord HB\",O151=\"Flexila STB\",O151=\"Jalousiebord\"),Daten!$D$21,\"-\")))","v":""},{"$f":"IF(A151=\"\",\"\",IF(Daten!D$6=Daten!N$11,Daten!M$11,IF(Daten!D$6=Daten!N$13,Daten!M$13,IF(AND(Daten!$D$6=Daten!$M$10,Daten!$D$8=TRUE),Daten!$M$14,Daten!D$6))))","v":""},{"$f":"IF($A151=\"\",\"\",IF(OR(S151=\"Putzbord\",S151=\"Flexila PU\"),Daten!$D$15,IF(OR(S151=\"Stehbord\",S151=\"Stehbord HB\",S151=\"Flexila STB\",S151=\"Jalousiebord\"),Daten!$D$19,\"-\")))","v":""},{"$f":"IF($A151=\"\",\"\",IF(S151=\"Putzbord\",Daten!$D$16,IF(S151=\"Flexila PU\",_xlfn.NUMBERVALUE(MID(Daten!$D$17,1,2)),\"-\")))","v":""},{"$f":"IF($A151=\"\",\"\",IF(OR(S151=\"Putzbord\",S151=\"Flexila PU\"),Daten!$D$18,IF(OR(S151=\"Stehbord\",S151=\"Stehbord HB\",S151=\"Flexila STB\",S151=\"Jalousiebord\"),Daten!$D$21,\"-\")))","v":""},{"$f":"IF(A151=\"\",\"\",IF(AND(Daten!D$6=\"Jalousiebord\",OR(O151=\"Stehbord\",S151=\"Stehbord\")),\"Jalousienklinkung\",\"\"))","v":""},{"$f":"IF(W151=\"\",\"\",Daten!D$20)","v":""},null,null,{"$f":"IF(A151=\"\",\"\",IF(Daten!F$1=\"A\",\"Ohne\",IF(OR(N151=\"Gerstenkorn roh\",N151=\"Riffelblech roh\"),\"XPS\",Daten!F$2)))","v":""},{"$f":"IF(A151=\"\",\"\",IF(AA151=\"Ohne\",\"A\",IF(AA151=\"XPS\",IF(Daten!F$1=\"D\",\"B\",Daten!F$1),Daten!F$1)))","v":""},{"$f":"IF(A151=\"\",\"\",IF(AB151=\"A\",\"-\",Daten!F$7))","v":""},{"$f":"IF(A151=\"\",\"\",IF(AB151=\"A\",\"-\",IF(AND(Daten!F$8=0,O151=\"Putzbord\"),5-Q151,0)))","v":""},{"$f":"IF(A151=\"\",\"\",IF(AB151=\"A\",\"-\",IF(AND(Daten!F$8=0,S151=\"Putzbord\"),5-U151,0)))","v":""},{"$f":"IF(A151=\"\",\"\",IF(AB151=\"A\",\"-\",Daten!F$10))","v":""},{"$f":"IFERROR(IF(A151=\"\",\"\",VLOOKUP(N151,Daten!N$1:O$7,2,FALSE)),\"\")","v":""}]
[null,null,null,{"$f":"IF(A152=\"\",\"\",IF(Daten!B$3=TRUE,Daten!B$7,\"\"))","v":""},{"$f":"IFERROR(IF(C152=\"\",\"\",C152+(2*D152)+IF(O152=Daten!M$13,6,0)+IF(S152=Daten!M$13,6,0)+IF(Q152=\"-\",0,Q152)+IF(U152=\"-\",0,U152)),\"\")","v":""},{"$f":"IF(OR(A152=\"\",AND(F$1=0,Daten!F$3=FALSE)),\"\",Daten!B$6)","v":""},{"$f":"IF(A152=\"\",\"\",IF(Daten!B$5=\"??\",\"\",Daten!B$5))","v":""},{"$f":"IF(A152=\"\",\"\",IF(Daten!B$3=FALSE,\"\",Daten!B$4))","v":""},{"$f":"IFERROR(IF(A152=\"\",\"\",G152+H152+IF(AND(G152>0,H152>0),5,0))-IF(Daten!H$21=TRUE,H152,0),\"\")","v":""},{"$f":"IFERROR(IF(A152=\"\",\"\",I152+IF(Daten!H$21=TRUE,H152,0)+IF(F152=\"\",0,F152)-IF(Daten!F$3=TRUE,Daten!F$10,0)),\"\")","v":""},{"$f":"IF(A152=\"\",\"\",Daten!D$14)","v":""},{"$f":"IF(A152=\"\",\"\",Daten!D$12)","v":""},{"$f":"IF(A152=\"\",\"\",Daten!D$13)","v":""},{"$f":"IF(A152=\"\",\"\",Daten!M$2)","v":""},{"$f":"IF(A152=\"\",\"\",IF(Daten!D$6=Daten!N$11,Daten!M$11,IF(Daten!D$6=Daten!N$13,Daten!M$13,IF(AND(Daten!$D$6=Daten!$M$10,Daten!$D$8=TRUE),Daten!$M$14,Daten!D$6))))","v":""},{"$f":"IF($A152=\"\",\"\",IF(OR(O152=\"Putzbord\",O152=\"Flexila PU\"),Daten!$D$15,IF(OR(O152=\"Stehbord\",O152=\"Stehbord HB\",O152=\"Flexila STB\",O152=\"Jalousiebord\"),Daten!$D$19,\"-\")))","v":""},{"$f":"IF($A152=\"\",\"\",IF(O152=\"Putzbord\",Daten!$D$16,IF(O152=\"Flexila PU\",_xlfn.NUMBERVALUE(MID(Daten!$D$17,1,2)),\"-\")))","v":""},{"$f":"IF($A152=\"\",\"\",IF(OR(O152=\"Putzbord\",O152=\"Flexila PU\"),Daten!$D$18,IF(OR(O152=\"Stehbord\",O152=\"Stehbord HB\",O152=\"Flexila STB\",O152=\"Jalousiebord\"),Daten!$D$21,\"-\")))","v":""},{"$f":"IF(A152=\"\",\"\",IF(Daten!D$6=Daten!N$11,Daten!M$11,IF(Daten!D$6=Daten!N$13,Daten!M$13,IF(AND(Daten!$D$6=Daten!$M$10,Daten!$D$8=TRUE),Daten!$M$14,Daten!D$6))))","v":""},{"$f":"IF($A152=\"\",\"\",IF(OR(S152=\"Putzbord\",S152=\"Flexila PU\"),Daten!$D$15,IF(OR(S152=\"Stehbord\",S152=\"Stehbord HB\",S152=\"Flexila STB\",S152=\"Jalousiebord\"),Daten!$D$19,\"-\")))","v":""},{"$f":"IF($A152=\"\",\"\",IF(S152=\"Putzbord\",Daten!$D$16,IF(S152=\"Flexila PU\",_xlfn.NUMBERVALUE(MID(Daten!$D$17,1,2)),\"-\")))","v":""},{"$f":"IF($A152=\"\",\"\",IF(OR(S152=\"Putzbord\",S152=\"Flexila PU\"),Daten!$D$18,IF(OR(S152=\"Stehbord\",S152=\"Stehbord HB\",S152=\"Flexila STB\",S152=\"Jalousiebord\"),Daten!$D$21,\"-\")))","v":""},{"$f":"IF(A152=\"\",\"\",IF(AND(Daten!D$6=\"Jalousiebord\",OR(O152=\"Stehbord\",S152=\"Stehbord\")),\"Jalousienklinkung\",\"\"))","v":""},{"$f":"IF(W152=\"\",\"\",Daten!D$20)","v":""},null,null,{"$f":"IF(A152=\"\",\"\",IF(Daten!F$1=\"A\",\"Ohne\",IF(OR(N152=\"Gerstenkorn roh\",N152=\"Riffelblech roh\"),\"XPS\",Daten!F$2)))","v":""},{"$f":"IF(A152=\"\",\"\",IF(AA152=\"Ohne\",\"A\",IF(AA152=\"XPS\",IF(Daten!F$1=\"D\",\"B\",Daten!F$1),Daten!F$1)))","v":""},{"$f":"IF(A152=\"\",\"\",IF(AB152=\"A\",\"-\",Daten!F$7))","v":""},{"$f":"IF(A152=\"\",\"\",IF(AB152=\"A\",\"-\",IF(AND(Daten!F$8=0,O152=\"Putzbord\"),5-Q152,0)))","v":""},{"$f":"IF(A152=\"\",\"\",IF(AB152=\"A\",\"-\",IF(AND(Daten!F$8=0,S152=\"Putzbord\"),5-U152,0)))","v":""},{"$f":"IF(A152=\"\",\"\",IF(AB152=\"A\",\"-\",Daten!F$10))","v":""},{"$f":"IFERROR(IF(A152=\"\",\"\",VLOOKUP(N152,Daten!N$1:O$7,2,FALSE)),\"\")","v":""}]
[null,null,null,{"$f":"IF(A153=\"\",\"\",IF(Daten!B$3=TRUE,Daten!B$7,\"\"))","v":""},{"$f":"IFERROR(IF(C153=\"\",\"\",C153+(2*D153)+IF(O153=Daten!M$13,6,0)+IF(S153=Daten!M$13,6,0)+IF(Q153=\"-\",0,Q153)+IF(U153=\"-\",0,U153)),\"\")","v":""},{"$f":"IF(OR(A153=\"\",AND(F$1=0,Daten!F$3=FALSE)),\"\",Daten!B$6)","v":""},{"$f":"IF(A153=\"\",\"\",IF(Daten!B$5=\"??\",\"\",Daten!B$5))","v":""},{"$f":"IF(A153=\"\",\"\",IF(Daten!B$3=FALSE,\"\",Daten!B$4))","v":""},{"$f":"IFERROR(IF(A153=\"\",\"\",G153+H153+IF(AND(G153>0,H153>0),5,0))-IF(Daten!H$21=TRUE,H153,0),\"\")","v":""},{"$f":"IFERROR(IF(A153=\"\",\"\",I153+IF(Daten!H$21=TRUE,H153,0)+IF(F153=\"\",0,F153)-IF(Daten!F$3=TRUE,Daten!F$10,0)),\"\")","v":""},{"$f":"IF(A153=\"\",\"\",Daten!D$14)","v":""},{"$f":"IF(A153=\"\",\"\",Daten!D$12)","v":""},{"$f":"IF(A153=\"\",\"\",Daten!D$13)","v":""},{"$f":"IF(A153=\"\",\"\",Daten!M$2)","v":""},{"$f":"IF(A153=\"\",\"\",IF(Daten!D$6=Daten!N$11,Daten!M$11,IF(Daten!D$6=Daten!N$13,Daten!M$13,IF(AND(Daten!$D$6=Daten!$M$10,Daten!$D$8=TRUE),Daten!$M$14,Daten!D$6))))","v":""},{"$f":"IF($A153=\"\",\"\",IF(OR(O153=\"Putzbord\",O153=\"Flexila PU\"),Daten!$D$15,IF(OR(O153=\"Stehbord\",O153=\"Stehbord HB\",O153=\"Flexila STB\",O153=\"Jalousiebord\"),Daten!$D$19,\"-\")))","v":""},{"$f":"IF($A153=\"\",\"\",IF(O153=\"Putzbord\",Daten!$D$16,IF(O153=\"Flexila PU\",_xlfn.NUMBERVALUE(MID(Daten!$D$17,1,2)),\"-\")))","v":""},{"$f":"IF($A153=\"\",\"\",IF(OR(O153=\"Putzbord\",O153=\"Flexila PU\"),Daten!$D$18,IF(OR(O153=\"Stehbord\",O153=\"Stehbord HB\",O153=\"Flexila STB\",O153=\"Jalousiebord\"),Daten!$D$21,\"-\")))","v":""},{"$f":"IF(A153=\"\",\"\",IF(Daten!D$6=Daten!N$11,Daten!M$11,IF(Daten!D$6=Daten!N$13,Daten!M$13,IF(AND(Daten!$D$6=Daten!$M$10,Daten!$D$8=TRUE),Daten!$M$14,Daten!D$6))))","v":""},{"$f":"IF($A153=\"\",\"\",IF(OR(S153=\"Putzbord\",S153=\"Flexila PU\"),Daten!$D$15,IF(OR(S153=\"Stehbord\",S153=\"Stehbord HB\",S153=\"Flexila STB\",S153=\"Jalousiebord\"),Daten!$D$19,\"-\")))","v":""},{"$f":"IF($A153=\"\",\"\",IF(S153=\"Putzbord\",Daten!$D$16,IF(S153=\"Flexila PU\",_xlfn.NUMBERVALUE(MID(Daten!$D$17,1,2)),\"-\")))","v":""},{"$f":"IF($A153=\"\",\"\",IF(OR(S153=\"Putzbord\",S153=\"Flexila PU\"),Daten!$D$18,IF(OR(S153=\"Stehbord\",S153=\"Stehbord HB\",S153=\"Flexila STB\",S153=\"Jalousiebord\"),Daten!$D$21,\"-\")))","v":""},{"$f":"IF(A153=\"\",\"\",IF(AND(Daten!D$6=\"Jalousiebord\",OR(O153=\"Stehbord\",S153=\"Stehbord\")),\"Jalousienklinkung\",\"\"))","v":""},{"$f":"IF(W153=\"\",\"\",Daten!D$20)","v":""},null,null,{"$f":"IF(A153=\"\",\"\",IF(Daten!F$1=\"A\",\"Ohne\",IF(OR(N153=\"Gerstenkorn roh\",N153=\"Riffelblech roh\"),\"XPS\",Daten!F$2)))","v":""},{"$f":"IF(A153=\"\",\"\",IF(AA153=\"Ohne\",\"A\",IF(AA153=\"XPS\",IF(Daten!F$1=\"D\",\"B\",Daten!F$1),Daten!F$1)))","v":""},{"$f":"IF(A153=\"\",\"\",IF(AB153=\"A\",\"-\",Daten!F$7))","v":""},{"$f":"IF(A153=\"\",\"\",IF(AB153=\"A\",\"-\",IF(AND(Daten!F$8=0,O153=\"Putzbord\"),5-Q153,0)))","v":""},{"$f":"IF(A153=\"\",\"\",IF(AB153=\"A\",\"-\",IF(AND(Daten!F$8=0,S153=\"Putzbord\"),5-U153,0)))","v":""},{"$f":"IF(A153=\"\",\"\",IF(AB153=\"A\",\"-\",Daten!F$10))","v":""},{"$f":"IFERROR(IF(A153=\"\",\"\",VLOOKUP(N153,Daten!N$1:O$7,2,FALSE)),\"\")","v":""}]
[null,null,null,{"$f":"IF(A154=\"\",\"\",IF(Daten!B$3=TRUE,Daten!B$7,\"\"))","v":""},{"$f":"IFERROR(IF(C154=\"\",\"\",C154+(2*D154)+IF(O154=Daten!M$13,6,0)+IF(S154=Daten!M$13,6,0)+IF(Q154=\"-\",0,Q154)+IF(U154=\"-\",0,U154)),\"\")","v":""},{"$f":"IF(OR(A154=\"\",AND(F$1=0,Daten!F$3=FALSE)),\"\",Daten!B$6)","v":""},{"$f":"IF(A154=\"\",\"\",IF(Daten!B$5=\"??\",\"\",Daten!B$5))","v":""},{"$f":"IF(A154=\"\",\"\",IF(Daten!B$3=FALSE,\"\",Daten!B$4))","v":""},{"$f":"IFERROR(IF(A154=\"\",\"\",G154+H154+IF(AND(G154>0,H154>0),5,0))-IF(Daten!H$21=TRUE,H154,0),\"\")","v":""},{"$f":"IFERROR(IF(A154=\"\",\"\",I154+IF(Daten!H$21=TRUE,H154,0)+IF(F154=\"\",0,F154)-IF(Daten!F$3=TRUE,Daten!F$10,0)),\"\")","v":""},{"$f":"IF(A154=\"\",\"\",Daten!D$14)","v":""},{"$f":"IF(A154=\"\",\"\",Daten!D$12)","v":""},{"$f":"IF(A154=\"\",\"\",Daten!D$13)","v":""},{"$f":"IF(A154=\"\",\"\",Daten!M$2)","v":""},{"$f":"IF(A154=\"\",\"\",IF(Daten!D$6=Daten!N$11,Daten!M$11,IF(Daten!D$6=Daten!N$13,Daten!M$13,IF(AND(Daten!$D$6=Daten!$M$10,Daten!$D$8=TRUE),Daten!$M$14,Daten!D$6))))","v":""},{"$f":"IF($A154=\"\",\"\",IF(OR(O154=\"Putzbord\",O154=\"Flexila PU\"),Daten!$D$15,IF(OR(O154=\"Stehbord\",O154=\"Stehbord HB\",O154=\"Flexila STB\",O154=\"Jalousiebord\"),Daten!$D$19,\"-\")))","v":""},{"$f":"IF($A154=\"\",\"\",IF(O154=\"Putzbord\",Daten!$D$16,IF(O154=\"Flexila PU\",_xlfn.NUMBERVALUE(MID(Daten!$D$17,1,2)),\"-\")))","v":""},{"$f":"IF($A154=\"\",\"\",IF(OR(O154=\"Putzbord\",O154=\"Flexila PU\"),Daten!$D$18,IF(OR(O154=\"Stehbord\",O154=\"Stehbord HB\",O154=\"Flexila STB\",O154=\"Jalousiebord\"),Daten!$D$21,\"-\")))","v":""},{"$f":"IF(A154=\"\",\"\",IF(Daten!D$6=Daten!N$11,Daten!M$11,IF(Daten!D$6=Daten!N$13,Daten!M$13,IF(AND(Daten!$D$6=Daten!$M$10,Daten!$D$8=TRUE),Daten!$M$14,Daten!D$6))))","v":""},{"$f":"IF($A154=\"\",\"\",IF(OR(S154=\"Putzbord\",S154=\"Flexila PU\"),Daten!$D$15,IF(OR(S154=\"Stehbord\",S154=\"Stehbord HB\",S154=\"Flexila STB\",S154=\"Jalousiebord\"),Daten!$D$19,\"-\")))","v":""},{"$f":"IF($A154=\"\",\"\",IF(S154=\"Putzbord\",Daten!$D$16,IF(S154=\"Flexila PU\",_xlfn.NUMBERVALUE(MID(Daten!$D$17,1,2)),\"-\")))","v":""},{"$f":"IF($A154=\"\",\"\",IF(OR(S154=\"Putzbord\",S154=\"Flexila PU\"),Daten!$D$18,IF(OR(S154=\"Stehbord\",S154=\"Stehbord HB\",S154=\"Flexila STB\",S154=\"Jalousiebord\"),Daten!$D$21,\"-\")))","v":""},{"$f":"IF(A154=\"\",\"\",IF(AND(Daten!D$6=\"Jalousiebord\",OR(O154=\"Stehbord\",S154=\"Stehbord\")),\"Jalousienklinkung\",\"\"))","v":""},{"$f":"IF(W154=\"\",\"\",Daten!D$20)","v":""},null,null,{"$f":"IF(A154=\"\",\"\",IF(Daten!F$1=\"A\",\"Ohne\",IF(OR(N154=\"Gerstenkorn roh\",N154=\"Riffelblech roh\"),\"XPS\",Daten!F$2)))","v":""},{"$f":"IF(A154=\"\",\"\",IF(AA154=\"Ohne\",\"A\",IF(AA154=\"XPS\",IF(Daten!F$1=\"D\",\"B\",Daten!F$1),Daten!F$1)))","v":""},{"$f":"IF(A154=\"\",\"\",IF(AB154=\"A\",\"-\",Daten!F$7))","v":""},{"$f":"IF(A154=\"\",\"\",IF(AB154=\"A\",\"-\",IF(AND(Daten!F$8=0,O154=\"Putzbord\"),5-Q154,0)))","v":""},{"$f":"IF(A154=\"\",\"\",IF(AB154=\"A\",\"-\",IF(AND(Daten!F$8=0,S154=\"Putzbord\"),5-U154,0)))","v":""},{"$f":"IF(A154=\"\",\"\",IF(AB154=\"A\",\"-\",Daten!F$10))","v":""},{"$f":"IFERROR(IF(A154=\"\",\"\",VLOOKUP(N154,Daten!N$1:O$7,2,FALSE)),\"\")","v":""}]
[null,null,null,{"$f":"IF(A155=\"\",\"\",IF(Daten!B$3=TRUE,Daten!B$7,\"\"))","v":""},{"$f":"IFERROR(IF(C155=\"\",\"\",C155+(2*D155)+IF(O155=Daten!M$13,6,0)+IF(S155=Daten!M$13,6,0)+IF(Q155=\"-\",0,Q155)+IF(U155=\"-\",0,U155)),\"\")","v":""},{"$f":"IF(OR(A155=\"\",AND(F$1=0,Daten!F$3=FALSE)),\"\",Daten!B$6)","v":""},{"$f":"IF(A155=\"\",\"\",IF(Daten!B$5=\"??\",\"\",Daten!B$5))","v":""},{"$f":"IF(A155=\"\",\"\",IF(Daten!B$3=FALSE,\"\",Daten!B$4))","v":""},{"$f":"IFERROR(IF(A155=\"\",\"\",G155+H155+IF(AND(G155>0,H155>0),5,0))-IF(Daten!H$21=TRUE,H155,0),\"\")","v":""},{"$f":"IFERROR(IF(A155=\"\",\"\",I155+IF(Daten!H$21=TRUE,H155,0)+IF(F155=\"\",0,F155)-IF(Daten!F$3=TRUE,Daten!F$10,0)),\"\")","v":""},{"$f":"IF(A155=\"\",\"\",Daten!D$14)","v":""},{"$f":"IF(A155=\"\",\"\",Daten!D$12)","v":""},{"$f":"IF(A155=\"\",\"\",Daten!D$13)","v":""},{"$f":"IF(A155=\"\",\"\",Daten!M$2)","v":""},{"$f":"IF(A155=\"\",\"\",IF(Daten!D$6=Daten!N$11,Daten!M$11,IF(Daten!D$6=Daten!N$13,Daten!M$13,IF(AND(Daten!$D$6=Daten!$M$10,Daten!$D$8=TRUE),Daten!$M$14,Daten!D$6))))","v":""},{"$f":"IF($A155=\"\",\"\",IF(OR(O155=\"Putzbord\",O155=\"Flexila PU\"),Daten!$D$15,IF(OR(O155=\"Stehbord\",O155=\"Stehbord HB\",O155=\"Flexila STB\",O155=\"Jalousiebord\"),Daten!$D$19,\"-\")))","v":""},{"$f":"IF($A155=\"\",\"\",IF(O155=\"Putzbord\",Daten!$D$16,IF(O155=\"Flexila PU\",_xlfn.NUMBERVALUE(MID(Daten!$D$17,1,2)),\"-\")))","v":""},{"$f":"IF($A155=\"\",\"\",IF(OR(O155=\"Putzbord\",O155=\"Flexila PU\"),Daten!$D$18,IF(OR(O155=\"Stehbord\",O155=\"Stehbord HB\",O155=\"Flexila STB\",O155=\"Jalousiebord\"),Daten!$D$21,\"-\")))","v":""},{"$f":"IF(A155=\"\",\"\",IF(Daten!D$6=Daten!N$11,Daten!M$11,IF(Daten!D$6=Daten!N$13,Daten!M$13,IF(AND(Daten!$D$6=Daten!$M$10,Daten!$D$8=TRUE),Daten!$M$14,Daten!D$6))))","v":""},{"$f":"IF($A155=\"\",\"\",IF(OR(S155=\"Putzbord\",S155=\"Flexila PU\"),Daten!$D$15,IF(OR(S155=\"Stehbord\",S155=\"Stehbord HB\",S155=\"Flexila STB\",S155=\"Jalousiebord\"),Daten!$D$19,\"-\")))","v":""},{"$f":"IF($A155=\"\",\"\",IF(S155=\"Putzbord\",Daten!$D$16,IF(S155=\"Flexila PU\",_xlfn.NUMBERVALUE(MID(Daten!$D$17,1,2)),\"-\")))","v":""},{"$f":"IF($A155=\"\",\"\",IF(OR(S155=\"Putzbord\",S155=\"Flexila PU\"),Daten!$D$18,IF(OR(S155=\"Stehbord\",S155=\"Stehbord HB\",S155=\"Flexila STB\",S155=\"Jalousiebord\"),Daten!$D$21,\"-\")))","v":""},{"$f":"IF(A155=\"\",\"\",IF(AND(Daten!D$6=\"Jalousiebord\",OR(O155=\"Stehbord\",S155=\"Stehbord\")),\"Jalousienklinkung\",\"\"))","v":""},{"$f":"IF(W155=\"\",\"\",Daten!D$20)","v":""},null,null,{"$f":"IF(A155=\"\",\"\",IF(Daten!F$1=\"A\",\"Ohne\",IF(OR(N155=\"Gerstenkorn roh\",N155=\"Riffelblech roh\"),\"XPS\",Daten!F$2)))","v":""},{"$f":"IF(A155=\"\",\"\",IF(AA155=\"Ohne\",\"A\",IF(AA155=\"XPS\",IF(Daten!F$1=\"D\",\"B\",Daten!F$1),Daten!F$1)))","v":""},{"$f":"IF(A155=\"\",\"\",IF(AB155=\"A\",\"-\",Daten!F$7))","v":""},{"$f":"IF(A155=\"\",\"\",IF(AB155=\"A\",\"-\",IF(AND(Daten!F$8=0,O155=\"Putzbord\"),5-Q155,0)))","v":""},{"$f":"IF(A155=\"\",\"\",IF(AB155=\"A\",\"-\",IF(AND(Daten!F$8=0,S155=\"Putzbord\"),5-U155,0)))","v":""},{"$f":"IF(A155=\"\",\"\",IF(AB155=\"A\",\"-\",Daten!F$10))","v":""},{"$f":"IFERROR(IF(A155=\"\",\"\",VLOOKUP(N155,Daten!N$1:O$7,2,FALSE)),\"\")","v":""}]
[null,null,null,{"$f":"IF(A156=\"\",\"\",IF(Daten!B$3=TRUE,Daten!B$7,\"\"))","v":""},{"$f":"IFERROR(IF(C156=\"\",\"\",C156+(2*D156)+IF(O156=Daten!M$13,6,0)+IF(S156=Daten!M$13,6,0)+IF(Q156=\"-\",0,Q156)+IF(U156=\"-\",0,U156)),\"\")","v":""},{"$f":"IF(OR(A156=\"\",AND(F$1=0,Daten!F$3=FALSE)),\"\",Daten!B$6)","v":""},{"$f":"IF(A156=\"\",\"\",IF(Daten!B$5=\"??\",\"\",Daten!B$5))","v":""},{"$f":"IF(A156=\"\",\"\",IF(Daten!B$3=FALSE,\"\",Daten!B$4))","v":""},{"$f":"IFERROR(IF(A156=\"\",\"\",G156+H156+IF(AND(G156>0,H156>0),5,0))-IF(Daten!H$21=TRUE,H156,0),\"\")","v":""},{"$f":"IFERROR(IF(A156=\"\",\"\",I156+IF(Daten!H$21=TRUE,H156,0)+IF(F156=\"\",0,F156)-IF(Daten!F$3=TRUE,Daten!F$10,0)),\"\")","v":""},{"$f":"IF(A156=\"\",\"\",Daten!D$14)","v":""},{"$f":"IF(A156=\"\",\"\",Daten!D$12)","v":""},{"$f":"IF(A156=\"\",\"\",Daten!D$13)","v":""},{"$f":"IF(A156=\"\",\"\",Daten!M$2)","v":""},{"$f":"IF(A156=\"\",\"\",IF(Daten!D$6=Daten!N$11,Daten!M$11,IF(Daten!D$6=Daten!N$13,Daten!M$13,IF(AND(Daten!$D$6=Daten!$M$10,Daten!$D$8=TRUE),Daten!$M$14,Daten!D$6))))","v":""},{"$f":"IF($A156=\"\",\"\",IF(OR(O156=\"Putzbord\",O156=\"Flexila PU\"),Daten!$D$15,IF(OR(O156=\"Stehbord\",O156=\"Stehbord HB\",O156=\"Flexila STB\",O156=\"Jalousiebord\"),Daten!$D$19,\"-\")))","v":""},{"$f":"IF($A156=\"\",\"\",IF(O156=\"Putzbord\",Daten!$D$16,IF(O156=\"Flexila PU\",_xlfn.NUMBERVALUE(MID(Daten!$D$17,1,2)),\"-\")))","v":""},{"$f":"IF($A156=\"\",\"\",IF(OR(O156=\"Putzbord\",O156=\"Flexila PU\"),Daten!$D$18,IF(OR(O156=\"Stehbord\",O156=\"Stehbord HB\",O156=\"Flexila STB\",O156=\"Jalousiebord\"),Daten!$D$21,\"-\")))","v":""},{"$f":"IF(A156=\"\",\"\",IF(Daten!D$6=Daten!N$11,Daten!M$11,IF(Daten!D$6=Daten!N$13,Daten!M$13,IF(AND(Daten!$D$6=Daten!$M$10,Daten!$D$8=TRUE),Daten!$M$14,Daten!D$6))))","v":""},{"$f":"IF($A156=\"\",\"\",IF(OR(S156=\"Putzbord\",S156=\"Flexila PU\"),Daten!$D$15,IF(OR(S156=\"Stehbord\",S156=\"Stehbord HB\",S156=\"Flexila STB\",S156=\"Jalousiebord\"),Daten!$D$19,\"-\")))","v":""},{"$f":"IF($A156=\"\",\"\",IF(S156=\"Putzbord\",Daten!$D$16,IF(S156=\"Flexila PU\",_xlfn.NUMBERVALUE(MID(Daten!$D$17,1,2)),\"-\")))","v":""},{"$f":"IF($A156=\"\",\"\",IF(OR(S156=\"Putzbord\",S156=\"Flexila PU\"),Daten!$D$18,IF(OR(S156=\"Stehbord\",S156=\"Stehbord HB\",S156=\"Flexila STB\",S156=\"Jalousiebord\"),Daten!$D$21,\"-\")))","v":""},{"$f":"IF(A156=\"\",\"\",IF(AND(Daten!D$6=\"Jalousiebord\",OR(O156=\"Stehbord\",S156=\"Stehbord\")),\"Jalousienklinkung\",\"\"))","v":""},{"$f":"IF(W156=\"\",\"\",Daten!D$20)","v":""},null,null,{"$f":"IF(A156=\"\",\"\",IF(Daten!F$1=\"A\",\"Ohne\",IF(OR(N156=\"Gerstenkorn roh\",N156=\"Riffelblech roh\"),\"XPS\",Daten!F$2)))","v":""},{"$f":"IF(A156=\"\",\"\",IF(AA156=\"Ohne\",\"A\",IF(AA156=\"XPS\",IF(Daten!F$1=\"D\",\"B\",Daten!F$1),Daten!F$1)))","v":""},{"$f":"IF(A156=\"\",\"\",IF(AB156=\"A\",\"-\",Daten!F$7))","v":""},{"$f":"IF(A156=\"\",\"\",IF(AB156=\"A\",\"-\",IF(AND(Daten!F$8=0,O156=\"Putzbord\"),5-Q156,0)))","v":""},{"$f":"IF(A156=\"\",\"\",IF(AB156=\"A\",\"-\",IF(AND(Daten!F$8=0,S156=\"Putzbord\"),5-U156,0)))","v":""},{"$f":"IF(A156=\"\",\"\",IF(AB156=\"A\",\"-\",Daten!F$10))","v":""},{"$f":"IFERROR(IF(A156=\"\",\"\",VLOOKUP(N156,Daten!N$1:O$7,2,FALSE)),\"\")","v":""}]
[null,null,null,{"$f":"IF(A157=\"\",\"\",IF(Daten!B$3=TRUE,Daten!B$7,\"\"))","v":""},{"$f":"IFERROR(IF(C157=\"\",\"\",C157+(2*D157)+IF(O157=Daten!M$13,6,0)+IF(S157=Daten!M$13,6,0)+IF(Q157=\"-\",0,Q157)+IF(U157=\"-\",0,U157)),\"\")","v":""},{"$f":"IF(OR(A157=\"\",AND(F$1=0,Daten!F$3=FALSE)),\"\",Daten!B$6)","v":""},{"$f":"IF(A157=\"\",\"\",IF(Daten!B$5=\"??\",\"\",Daten!B$5))","v":""},{"$f":"IF(A157=\"\",\"\",IF(Daten!B$3=FALSE,\"\",Daten!B$4))","v":""},{"$f":"IFERROR(IF(A157=\"\",\"\",G157+H157+IF(AND(G157>0,H157>0),5,0))-IF(Daten!H$21=TRUE,H157,0),\"\")","v":""},{"$f":"IFERROR(IF(A157=\"\",\"\",I157+IF(Daten!H$21=TRUE,H157,0)+IF(F157=\"\",0,F157)-IF(Daten!F$3=TRUE,Daten!F$10,0)),\"\")","v":""},{"$f":"IF(A157=\"\",\"\",Daten!D$14)","v":""},{"$f":"IF(A157=\"\",\"\",Daten!D$12)","v":""},{"$f":"IF(A157=\"\",\"\",Daten!D$13)","v":""},{"$f":"IF(A157=\"\",\"\",Daten!M$2)","v":""},{"$f":"IF(A157=\"\",\"\",IF(Daten!D$6=Daten!N$11,Daten!M$11,IF(Daten!D$6=Daten!N$13,Daten!M$13,IF(AND(Daten!$D$6=Daten!$M$10,Daten!$D$8=TRUE),Daten!$M$14,Daten!D$6))))","v":""},{"$f":"IF($A157=\"\",\"\",IF(OR(O157=\"Putzbord\",O157=\"Flexila PU\"),Daten!$D$15,IF(OR(O157=\"Stehbord\",O157=\"Stehbord HB\",O157=\"Flexila STB\",O157=\"Jalousiebord\"),Daten!$D$19,\"-\")))","v":""},{"$f":"IF($A157=\"\",\"\",IF(O157=\"Putzbord\",Daten!$D$16,IF(O157=\"Flexila PU\",_xlfn.NUMBERVALUE(MID(Daten!$D$17,1,2)),\"-\")))","v":""},{"$f":"IF($A157=\"\",\"\",IF(OR(O157=\"Putzbord\",O157=\"Flexila PU\"),Daten!$D$18,IF(OR(O157=\"Stehbord\",O157=\"Stehbord HB\",O157=\"Flexila STB\",O157=\"Jalousiebord\"),Daten!$D$21,\"-\")))","v":""},{"$f":"IF(A157=\"\",\"\",IF(Daten!D$6=Daten!N$11,Daten!M$11,IF(Daten!D$6=Daten!N$13,Daten!M$13,IF(AND(Daten!$D$6=Daten!$M$10,Daten!$D$8=TRUE),Daten!$M$14,Daten!D$6))))","v":""},{"$f":"IF($A157=\"\",\"\",IF(OR(S157=\"Putzbord\",S157=\"Flexila PU\"),Daten!$D$15,IF(OR(S157=\"Stehbord\",S157=\"Stehbord HB\",S157=\"Flexila STB\",S157=\"Jalousiebord\"),Daten!$D$19,\"-\")))","v":""},{"$f":"IF($A157=\"\",\"\",IF(S157=\"Putzbord\",Daten!$D$16,IF(S157=\"Flexila PU\",_xlfn.NUMBERVALUE(MID(Daten!$D$17,1,2)),\"-\")))","v":""},{"$f":"IF($A157=\"\",\"\",IF(OR(S157=\"Putzbord\",S157=\"Flexila PU\"),Daten!$D$18,IF(OR(S157=\"Stehbord\",S157=\"Stehbord HB\",S157=\"Flexila STB\",S157=\"Jalousiebord\"),Daten!$D$21,\"-\")))","v":""},{"$f":"IF(A157=\"\",\"\",IF(AND(Daten!D$6=\"Jalousiebord\",OR(O157=\"Stehbord\",S157=\"Stehbord\")),\"Jalousienklinkung\",\"\"))","v":""},{"$f":"IF(W157=\"\",\"\",Daten!D$20)","v":""},null,null,{"$f":"IF(A157=\"\",\"\",IF(Daten!F$1=\"A\",\"Ohne\",IF(OR(N157=\"Gerstenkorn roh\",N157=\"Riffelblech roh\"),\"XPS\",Daten!F$2)))","v":""},{"$f":"IF(A157=\"\",\"\",IF(AA157=\"Ohne\",\"A\",IF(AA157=\"XPS\",IF(Daten!F$1=\"D\",\"B\",Daten!F$1),Daten!F$1)))","v":""},{"$f":"IF(A157=\"\",\"\",IF(AB157=\"A\",\"-\",Daten!F$7))","v":""},{"$f":"IF(A157=\"\",\"\",IF(AB157=\"A\",\"-\",IF(AND(Daten!F$8=0,O157=\"Putzbord\"),5-Q157,0)))","v":""},{"$f":"IF(A157=\"\",\"\",IF(AB157=\"A\",\"-\",IF(AND(Daten!F$8=0,S157=\"Putzbord\"),5-U157,0)))","v":""},{"$f":"IF(A157=\"\",\"\",IF(AB157=\"A\",\"-\",Daten!F$10))","v":""},{"$f":"IFERROR(IF(A157=\"\",\"\",VLOOKUP(N157,Daten!N$1:O$7,2,FALSE)),\"\")","v":""}]
[null,null,null,{"$f":"IF(A158=\"\",\"\",IF(Daten!B$3=TRUE,Daten!B$7,\"\"))","v":""},{"$f":"IFERROR(IF(C158=\"\",\"\",C158+(2*D158)+IF(O158=Daten!M$13,6,0)+IF(S158=Daten!M$13,6,0)+IF(Q158=\"-\",0,Q158)+IF(U158=\"-\",0,U158)),\"\")","v":""},{"$f":"IF(OR(A158=\"\",AND(F$1=0,Daten!F$3=FALSE)),\"\",Daten!B$6)","v":""},{"$f":"IF(A158=\"\",\"\",IF(Daten!B$5=\"??\",\"\",Daten!B$5))","v":""},{"$f":"IF(A158=\"\",\"\",IF(Daten!B$3=FALSE,\"\",Daten!B$4))","v":""},{"$f":"IFERROR(IF(A158=\"\",\"\",G158+H158+IF(AND(G158>0,H158>0),5,0))-IF(Daten!H$21=TRUE,H158,0),\"\")","v":""},{"$f":"IFERROR(IF(A158=\"\",\"\",I158+IF(Daten!H$21=TRUE,H158,0)+IF(F158=\"\",0,F158)-IF(Daten!F$3=TRUE,Daten!F$10,0)),\"\")","v":""},{"$f":"IF(A158=\"\",\"\",Daten!D$14)","v":""},{"$f":"IF(A158=\"\",\"\",Daten!D$12)","v":""},{"$f":"IF(A158=\"\",\"\",Daten!D$13)","v":""},{"$f":"IF(A158=\"\",\"\",Daten!M$2)","v":""},{"$f":"IF(A158=\"\",\"\",IF(Daten!D$6=Daten!N$11,Daten!M$11,IF(Daten!D$6=Daten!N$13,Daten!M$13,IF(AND(Daten!$D$6=Daten!$M$10,Daten!$D$8=TRUE),Daten!$M$14,Daten!D$6))))","v":""},{"$f":"IF($A158=\"\",\"\",IF(OR(O158=\"Putzbord\",O158=\"Flexila PU\"),Daten!$D$15,IF(OR(O158=\"Stehbord\",O158=\"Stehbord HB\",O158=\"Flexila STB\",O158=\"Jalousiebord\"),Daten!$D$19,\"-\")))","v":""},{"$f":"IF($A158=\"\",\"\",IF(O158=\"Putzbord\",Daten!$D$16,IF(O158=\"Flexila PU\",_xlfn.NUMBERVALUE(MID(Daten!$D$17,1,2)),\"-\")))","v":""},{"$f":"IF($A158=\"\",\"\",IF(OR(O158=\"Putzbord\",O158=\"Flexila PU\"),Daten!$D$18,IF(OR(O158=\"Stehbord\",O158=\"Stehbord HB\",O158=\"Flexila STB\",O158=\"Jalousiebord\"),Daten!$D$21,\"-\")))","v":""},{"$f":"IF(A158=\"\",\"\",IF(Daten!D$6=Daten!N$11,Daten!M$11,IF(Daten!D$6=Daten!N$13,Daten!M$13,IF(AND(Daten!$D$6=Daten!$M$10,Daten!$D$8=TRUE),Daten!$M$14,Daten!D$6))))","v":""},{"$f":"IF($A158=\"\",\"\",IF(OR(S158=\"Putzbord\",S158=\"Flexila PU\"),Daten!$D$15,IF(OR(S158=\"Stehbord\",S158=\"Stehbord HB\",S158=\"Flexila STB\",S158=\"Jalousiebord\"),Daten!$D$19,\"-\")))","v":""},{"$f":"IF($A158=\"\",\"\",IF(S158=\"Putzbord\",Daten!$D$16,IF(S158=\"Flexila PU\",_xlfn.NUMBERVALUE(MID(Daten!$D$17,1,2)),\"-\")))","v":""},{"$f":"IF($A158=\"\",\"\",IF(OR(S158=\"Putzbord\",S158=\"Flexila PU\"),Daten!$D$18,IF(OR(S158=\"Stehbord\",S158=\"Stehbord HB\",S158=\"Flexila STB\",S158=\"Jalousiebord\"),Daten!$D$21,\"-\")))","v":""},{"$f":"IF(A158=\"\",\"\",IF(AND(Daten!D$6=\"Jalousiebord\",OR(O158=\"Stehbord\",S158=\"Stehbord\")),\"Jalousienklinkung\",\"\"))","v":""},{"$f":"IF(W158=\"\",\"\",Daten!D$20)","v":""},null,null,{"$f":"IF(A158=\"\",\"\",IF(Daten!F$1=\"A\",\"Ohne\",IF(OR(N158=\"Gerstenkorn roh\",N158=\"Riffelblech roh\"),\"XPS\",Daten!F$2)))","v":""},{"$f":"IF(A158=\"\",\"\",IF(AA158=\"Ohne\",\"A\",IF(AA158=\"XPS\",IF(Daten!F$1=\"D\",\"B\",Daten!F$1),Daten!F$1)))","v":""},{"$f":"IF(A158=\"\",\"\",IF(AB158=\"A\",\"-\",Daten!F$7))","v":""},{"$f":"IF(A158=\"\",\"\",IF(AB158=\"A\",\"-\",IF(AND(Daten!F$8=0,O158=\"Putzbord\"),5-Q158,0)))","v":""},{"$f":"IF(A158=\"\",\"\",IF(AB158=\"A\",\"-\",IF(AND(Daten!F$8=0,S158=\"Putzbord\"),5-U158,0)))","v":""},{"$f":"IF(A158=\"\",\"\",IF(AB158=\"A\",\"-\",Daten!F$10))","v":""},{"$f":"IFERROR(IF(A158=\"\",\"\",VLOOKUP(N158,Daten!N$1:O$7,2,FALSE)),\"\")","v":""}]
[null,null,null,{"$f":"IF(A159=\"\",\"\",IF(Daten!B$3=TRUE,Daten!B$7,\"\"))","v":""},{"$f":"IFERROR(IF(C159=\"\",\"\",C159+(2*D159)+IF(O159=Daten!M$13,6,0)+IF(S159=Daten!M$13,6,0)+IF(Q159=\"-\",0,Q159)+IF(U159=\"-\",0,U159)),\"\")","v":""},{"$f":"IF(OR(A159=\"\",AND(F$1=0,Daten!F$3=FALSE)),\"\",Daten!B$6)","v":""},{"$f":"IF(A159=\"\",\"\",IF(Daten!B$5=\"??\",\"\",Daten!B$5))","v":""},{"$f":"IF(A159=\"\",\"\",IF(Daten!B$3=FALSE,\"\",Daten!B$4))","v":""},{"$f":"IFERROR(IF(A159=\"\",\"\",G159+H159+IF(AND(G159>0,H159>0),5,0))-IF(Daten!H$21=TRUE,H159,0),\"\")","v":""},{"$f":"IFERROR(IF(A159=\"\",\"\",I159+IF(Daten!H$21=TRUE,H159,0)+IF(F159=\"\",0,F159)-IF(Daten!F$3=TRUE,Daten!F$10,0)),\"\")","v":""},{"$f":"IF(A159=\"\",\"\",Daten!D$14)","v":""},{"$f":"IF(A159=\"\",\"\",Daten!D$12)","v":""},{"$f":"IF(A159=\"\",\"\",Daten!D$13)","v":""},{"$f":"IF(A159=\"\",\"\",Daten!M$2)","v":""},{"$f":"IF(A159=\"\",\"\",IF(Daten!D$6=Daten!N$11,Daten!M$11,IF(Daten!D$6=Daten!N$13,Daten!M$13,IF(AND(Daten!$D$6=Daten!$M$10,Daten!$D$8=TRUE),Daten!$M$14,Daten!D$6))))","v":""},{"$f":"IF($A159=\"\",\"\",IF(OR(O159=\"Putzbord\",O159=\"Flexila PU\"),Daten!$D$15,IF(OR(O159=\"Stehbord\",O159=\"Stehbord HB\",O159=\"Flexila STB\",O159=\"Jalousiebord\"),Daten!$D$19,\"-\")))","v":""},{"$f":"IF($A159=\"\",\"\",IF(O159=\"Putzbord\",Daten!$D$16,IF(O159=\"Flexila PU\",_xlfn.NUMBERVALUE(MID(Daten!$D$17,1,2)),\"-\")))","v":""},{"$f":"IF($A159=\"\",\"\",IF(OR(O159=\"Putzbord\",O159=\"Flexila PU\"),Daten!$D$18,IF(OR(O159=\"Stehbord\",O159=\"Stehbord HB\",O159=\"Flexila STB\",O159=\"Jalousiebord\"),Daten!$D$21,\"-\")))","v":""},{"$f":"IF(A159=\"\",\"\",IF(Daten!D$6=Daten!N$11,Daten!M$11,IF(Daten!D$6=Daten!N$13,Daten!M$13,IF(AND(Daten!$D$6=Daten!$M$10,Daten!$D$8=TRUE),Daten!$M$14,Daten!D$6))))","v":""},{"$f":"IF($A159=\"\",\"\",IF(OR(S159=\"Putzbord\",S159=\"Flexila PU\"),Daten!$D$15,IF(OR(S159=\"Stehbord\",S159=\"Stehbord HB\",S159=\"Flexila STB\",S159=\"Jalousiebord\"),Daten!$D$19,\"-\")))","v":""},{"$f":"IF($A159=\"\",\"\",IF(S159=\"Putzbord\",Daten!$D$16,IF(S159=\"Flexila PU\",_xlfn.NUMBERVALUE(MID(Daten!$D$17,1,2)),\"-\")))","v":""},{"$f":"IF($A159=\"\",\"\",IF(OR(S159=\"Putzbord\",S159=\"Flexila PU\"),Daten!$D$18,IF(OR(S159=\"Stehbord\",S159=\"Stehbord HB\",S159=\"Flexila STB\",S159=\"Jalousiebord\"),Daten!$D$21,\"-\")))","v":""},{"$f":"IF(A159=\"\",\"\",IF(AND(Daten!D$6=\"Jalousiebord\",OR(O159=\"Stehbord\",S159=\"Stehbord\")),\"Jalousienklinkung\",\"\"))","v":""},{"$f":"IF(W159=\"\",\"\",Daten!D$20)","v":""},null,null,{"$f":"IF(A159=\"\",\"\",IF(Daten!F$1=\"A\",\"Ohne\",IF(OR(N159=\"Gerstenkorn roh\",N159=\"Riffelblech roh\"),\"XPS\",Daten!F$2)))","v":""},{"$f":"IF(A159=\"\",\"\",IF(AA159=\"Ohne\",\"A\",IF(AA159=\"XPS\",IF(Daten!F$1=\"D\",\"B\",Daten!F$1),Daten!F$1)))","v":""},{"$f":"IF(A159=\"\",\"\",IF(AB159=\"A\",\"-\",Daten!F$7))","v":""},{"$f":"IF(A159=\"\",\"\",IF(AB159=\"A\",\"-\",IF(AND(Daten!F$8=0,O159=\"Putzbord\"),5-Q159,0)))","v":""},{"$f":"IF(A159=\"\",\"\",IF(AB159=\"A\",\"-\",IF(AND(Daten!F$8=0,S159=\"Putzbord\"),5-U159,0)))","v":""},{"$f":"IF(A159=\"\",\"\",IF(AB159=\"A\",\"-\",Daten!F$10))","v":""},{"$f":"IFERROR(IF(A159=\"\",\"\",VLOOKUP(N159,Daten!N$1:O$7,2,FALSE)),\"\")","v":""}]
[null,null,null,{"$f":"IF(A160=\"\",\"\",IF(Daten!B$3=TRUE,Daten!B$7,\"\"))","v":""},{"$f":"IFERROR(IF(C160=\"\",\"\",C160+(2*D160)+IF(O160=Daten!M$13,6,0)+IF(S160=Daten!M$13,6,0)+IF(Q160=\"-\",0,Q160)+IF(U160=\"-\",0,U160)),\"\")","v":""},{"$f":"IF(OR(A160=\"\",AND(F$1=0,Daten!F$3=FALSE)),\"\",Daten!B$6)","v":""},{"$f":"IF(A160=\"\",\"\",IF(Daten!B$5=\"??\",\"\",Daten!B$5))","v":""},{"$f":"IF(A160=\"\",\"\",IF(Daten!B$3=FALSE,\"\",Daten!B$4))","v":""},{"$f":"IFERROR(IF(A160=\"\",\"\",G160+H160+IF(AND(G160>0,H160>0),5,0))-IF(Daten!H$21=TRUE,H160,0),\"\")","v":""},{"$f":"IFERROR(IF(A160=\"\",\"\",I160+IF(Daten!H$21=TRUE,H160,0)+IF(F160=\"\",0,F160)-IF(Daten!F$3=TRUE,Daten!F$10,0)),\"\")","v":""},{"$f":"IF(A160=\"\",\"\",Daten!D$14)","v":""},{"$f":"IF(A160=\"\",\"\",Daten!D$12)","v":""},{"$f":"IF(A160=\"\",\"\",Daten!D$13)","v":""},{"$f":"IF(A160=\"\",\"\",Daten!M$2)","v":""},{"$f":"IF(A160=\"\",\"\",IF(Daten!D$6=Daten!N$11,Daten!M$11,IF(Daten!D$6=Daten!N$13,Daten!M$13,IF(AND(Daten!$D$6=Daten!$M$10,Daten!$D$8=TRUE),Daten!$M$14,Daten!D$6))))","v":""},{"$f":"IF($A160=\"\",\"\",IF(OR(O160=\"Putzbord\",O160=\"Flexila PU\"),Daten!$D$15,IF(OR(O160=\"Stehbord\",O160=\"Stehbord HB\",O160=\"Flexila STB\",O160=\"Jalousiebord\"),Daten!$D$19,\"-\")))","v":""},{"$f":"IF($A160=\"\",\"\",IF(O160=\"Putzbord\",Daten!$D$16,IF(O160=\"Flexila PU\",_xlfn.NUMBERVALUE(MID(Daten!$D$17,1,2)),\"-\")))","v":""},{"$f":"IF($A160=\"\",\"\",IF(OR(O160=\"Putzbord\",O160=\"Flexila PU\"),Daten!$D$18,IF(OR(O160=\"Stehbord\",O160=\"Stehbord HB\",O160=\"Flexila STB\",O160=\"Jalousiebord\"),Daten!$D$21,\"-\")))","v":""},{"$f":"IF(A160=\"\",\"\",IF(Daten!D$6=Daten!N$11,Daten!M$11,IF(Daten!D$6=Daten!N$13,Daten!M$13,IF(AND(Daten!$D$6=Daten!$M$10,Daten!$D$8=TRUE),Daten!$M$14,Daten!D$6))))","v":""},{"$f":"IF($A160=\"\",\"\",IF(OR(S160=\"Putzbord\",S160=\"Flexila PU\"),Daten!$D$15,IF(OR(S160=\"Stehbord\",S160=\"Stehbord HB\",S160=\"Flexila STB\",S160=\"Jalousiebord\"),Daten!$D$19,\"-\")))","v":""},{"$f":"IF($A160=\"\",\"\",IF(S160=\"Putzbord\",Daten!$D$16,IF(S160=\"Flexila PU\",_xlfn.NUMBERVALUE(MID(Daten!$D$17,1,2)),\"-\")))","v":""},{"$f":"IF($A160=\"\",\"\",IF(OR(S160=\"Putzbord\",S160=\"Flexila PU\"),Daten!$D$18,IF(OR(S160=\"Stehbord\",S160=\"Stehbord HB\",S160=\"Flexila STB\",S160=\"Jalousiebord\"),Daten!$D$21,\"-\")))","v":""},{"$f":"IF(A160=\"\",\"\",IF(AND(Daten!D$6=\"Jalousiebord\",OR(O160=\"Stehbord\",S160=\"Stehbord\")),\"Jalousienklinkung\",\"\"))","v":""},{"$f":"IF(W160=\"\",\"\",Daten!D$20)","v":""},null,null,{"$f":"IF(A160=\"\",\"\",IF(Daten!F$1=\"A\",\"Ohne\",IF(OR(N160=\"Gerstenkorn roh\",N160=\"Riffelblech roh\"),\"XPS\",Daten!F$2)))","v":""},{"$f":"IF(A160=\"\",\"\",IF(AA160=\"Ohne\",\"A\",IF(AA160=\"XPS\",IF(Daten!F$1=\"D\",\"B\",Daten!F$1),Daten!F$1)))","v":""},{"$f":"IF(A160=\"\",\"\",IF(AB160=\"A\",\"-\",Daten!F$7))","v":""},{"$f":"IF(A160=\"\",\"\",IF(AB160=\"A\",\"-\",IF(AND(Daten!F$8=0,O160=\"Putzbord\"),5-Q160,0)))","v":""},{"$f":"IF(A160=\"\",\"\",IF(AB160=\"A\",\"-\",IF(AND(Daten!F$8=0,S160=\"Putzbord\"),5-U160,0)))","v":""},{"$f":"IF(A160=\"\",\"\",IF(AB160=\"A\",\"-\",Daten!F$10))","v":""},{"$f":"IFERROR(IF(A160=\"\",\"\",VLOOKUP(N160,Daten!N$1:O$7,2,FALSE)),\"\")","v":""}]
[null,null,null,{"$f":"IF(A161=\"\",\"\",IF(Daten!B$3=TRUE,Daten!B$7,\"\"))","v":""},{"$f":"IFERROR(IF(C161=\"\",\"\",C161+(2*D161)+IF(O161=Daten!M$13,6,0)+IF(S161=Daten!M$13,6,0)+IF(Q161=\"-\",0,Q161)+IF(U161=\"-\",0,U161)),\"\")","v":""},{"$f":"IF(OR(A161=\"\",AND(F$1=0,Daten!F$3=FALSE)),\"\",Daten!B$6)","v":""},{"$f":"IF(A161=\"\",\"\",IF(Daten!B$5=\"??\",\"\",Daten!B$5))","v":""},{"$f":"IF(A161=\"\",\"\",IF(Daten!B$3=FALSE,\"\",Daten!B$4))","v":""},{"$f":"IFERROR(IF(A161=\"\",\"\",G161+H161+IF(AND(G161>0,H161>0),5,0))-IF(Daten!H$21=TRUE,H161,0),\"\")","v":""},{"$f":"IFERROR(IF(A161=\"\",\"\",I161+IF(Daten!H$21=TRUE,H161,0)+IF(F161=\"\",0,F161)-IF(Daten!F$3=TRUE,Daten!F$10,0)),\"\")","v":""},{"$f":"IF(A161=\"\",\"\",Daten!D$14)","v":""},{"$f":"IF(A161=\"\",\"\",Daten!D$12)","v":""},{"$f":"IF(A161=\"\",\"\",Daten!D$13)","v":""},{"$f":"IF(A161=\"\",\"\",Daten!M$2)","v":""},{"$f":"IF(A161=\"\",\"\",IF(Daten!D$6=Daten!N$11,Daten!M$11,IF(Daten!D$6=Daten!N$13,Daten!M$13,IF(AND(Daten!$D$6=Daten!$M$10,Daten!$D$8=TRUE),Daten!$M$14,Daten!D$6))))","v":""},{"$f":"IF($A161=\"\",\"\",IF(OR(O161=\"Putzbord\",O161=\"Flexila PU\"),Daten!$D$15,IF(OR(O161=\"Stehbord\",O161=\"Stehbord HB\",O161=\"Flexila STB\",O161=\"Jalousiebord\"),Daten!$D$19,\"-\")))","v":""},{"$f":"IF($A161=\"\",\"\",IF(O161=\"Putzbord\",Daten!$D$16,IF(O161=\"Flexila PU\",_xlfn.NUMBERVALUE(MID(Daten!$D$17,1,2)),\"-\")))","v":""},{"$f":"IF($A161=\"\",\"\",IF(OR(O161=\"Putzbord\",O161=\"Flexila PU\"),Daten!$D$18,IF(OR(O161=\"Stehbord\",O161=\"Stehbord HB\",O161=\"Flexila STB\",O161=\"Jalousiebord\"),Daten!$D$21,\"-\")))","v":""},{"$f":"IF(A161=\"\",\"\",IF(Daten!D$6=Daten!N$11,Daten!M$11,IF(Daten!D$6=Daten!N$13,Daten!M$13,IF(AND(Daten!$D$6=Daten!$M$10,Daten!$D$8=TRUE),Daten!$M$14,Daten!D$6))))","v":""},{"$f":"IF($A161=\"\",\"\",IF(OR(S161=\"Putzbord\",S161=\"Flexila PU\"),Daten!$D$15,IF(OR(S161=\"Stehbord\",S161=\"Stehbord HB\",S161=\"Flexila STB\",S161=\"Jalousiebord\"),Daten!$D$19,\"-\")))","v":""},{"$f":"IF($A161=\"\",\"\",IF(S161=\"Putzbord\",Daten!$D$16,IF(S161=\"Flexila PU\",_xlfn.NUMBERVALUE(MID(Daten!$D$17,1,2)),\"-\")))","v":""},{"$f":"IF($A161=\"\",\"\",IF(OR(S161=\"Putzbord\",S161=\"Flexila PU\"),Daten!$D$18,IF(OR(S161=\"Stehbord\",S161=\"Stehbord HB\",S161=\"Flexila STB\",S161=\"Jalousiebord\"),Daten!$D$21,\"-\")))","v":""},{"$f":"IF(A161=\"\",\"\",IF(AND(Daten!D$6=\"Jalousiebord\",OR(O161=\"Stehbord\",S161=\"Stehbord\")),\"Jalousienklinkung\",\"\"))","v":""},{"$f":"IF(W161=\"\",\"\",Daten!D$20)","v":""},null,null,{"$f":"IF(A161=\"\",\"\",IF(Daten!F$1=\"A\",\"Ohne\",IF(OR(N161=\"Gerstenkorn roh\",N161=\"Riffelblech roh\"),\"XPS\",Daten!F$2)))","v":""},{"$f":"IF(A161=\"\",\"\",IF(AA161=\"Ohne\",\"A\",IF(AA161=\"XPS\",IF(Daten!F$1=\"D\",\"B\",Daten!F$1),Daten!F$1)))","v":""},{"$f":"IF(A161=\"\",\"\",IF(AB161=\"A\",\"-\",Daten!F$7))","v":""},{"$f":"IF(A161=\"\",\"\",IF(AB161=\"A\",\"-\",IF(AND(Daten!F$8=0,O161=\"Putzbord\"),5-Q161,0)))","v":""},{"$f":"IF(A161=\"\",\"\",IF(AB161=\"A\",\"-\",IF(AND(Daten!F$8=0,S161=\"Putzbord\"),5-U161,0)))","v":""},{"$f":"IF(A161=\"\",\"\",IF(AB161=\"A\",\"-\",Daten!F$10))","v":""},{"$f":"IFERROR(IF(A161=\"\",\"\",VLOOKUP(N161,Daten!N$1:O$7,2,FALSE)),\"\")","v":""}]
[null,null,null,{"$f":"IF(A162=\"\",\"\",IF(Daten!B$3=TRUE,Daten!B$7,\"\"))","v":""},{"$f":"IFERROR(IF(C162=\"\",\"\",C162+(2*D162)+IF(O162=Daten!M$13,6,0)+IF(S162=Daten!M$13,6,0)+IF(Q162=\"-\",0,Q162)+IF(U162=\"-\",0,U162)),\"\")","v":""},{"$f":"IF(OR(A162=\"\",AND(F$1=0,Daten!F$3=FALSE)),\"\",Daten!B$6)","v":""},{"$f":"IF(A162=\"\",\"\",IF(Daten!B$5=\"??\",\"\",Daten!B$5))","v":""},{"$f":"IF(A162=\"\",\"\",IF(Daten!B$3=FALSE,\"\",Daten!B$4))","v":""},{"$f":"IFERROR(IF(A162=\"\",\"\",G162+H162+IF(AND(G162>0,H162>0),5,0))-IF(Daten!H$21=TRUE,H162,0),\"\")","v":""},{"$f":"IFERROR(IF(A162=\"\",\"\",I162+IF(Daten!H$21=TRUE,H162,0)+IF(F162=\"\",0,F162)-IF(Daten!F$3=TRUE,Daten!F$10,0)),\"\")","v":""},{"$f":"IF(A162=\"\",\"\",Daten!D$14)","v":""},{"$f":"IF(A162=\"\",\"\",Daten!D$12)","v":""},{"$f":"IF(A162=\"\",\"\",Daten!D$13)","v":""},{"$f":"IF(A162=\"\",\"\",Daten!M$2)","v":""},{"$f":"IF(A162=\"\",\"\",IF(Daten!D$6=Daten!N$11,Daten!M$11,IF(Daten!D$6=Daten!N$13,Daten!M$13,IF(AND(Daten!$D$6=Daten!$M$10,Daten!$D$8=TRUE),Daten!$M$14,Daten!D$6))))","v":""},{"$f":"IF($A162=\"\",\"\",IF(OR(O162=\"Putzbord\",O162=\"Flexila PU\"),Daten!$D$15,IF(OR(O162=\"Stehbord\",O162=\"Stehbord HB\",O162=\"Flexila STB\",O162=\"Jalousiebord\"),Daten!$D$19,\"-\")))","v":""},{"$f":"IF($A162=\"\",\"\",IF(O162=\"Putzbord\",Daten!$D$16,IF(O162=\"Flexila PU\",_xlfn.NUMBERVALUE(MID(Daten!$D$17,1,2)),\"-\")))","v":""},{"$f":"IF($A162=\"\",\"\",IF(OR(O162=\"Putzbord\",O162=\"Flexila PU\"),Daten!$D$18,IF(OR(O162=\"Stehbord\",O162=\"Stehbord HB\",O162=\"Flexila STB\",O162=\"Jalousiebord\"),Daten!$D$21,\"-\")))","v":""},{"$f":"IF(A162=\"\",\"\",IF(Daten!D$6=Daten!N$11,Daten!M$11,IF(Daten!D$6=Daten!N$13,Daten!M$13,IF(AND(Daten!$D$6=Daten!$M$10,Daten!$D$8=TRUE),Daten!$M$14,Daten!D$6))))","v":""},{"$f":"IF($A162=\"\",\"\",IF(OR(S162=\"Putzbord\",S162=\"Flexila PU\"),Daten!$D$15,IF(OR(S162=\"Stehbord\",S162=\"Stehbord HB\",S162=\"Flexila STB\",S162=\"Jalousiebord\"),Daten!$D$19,\"-\")))","v":""},{"$f":"IF($A162=\"\",\"\",IF(S162=\"Putzbord\",Daten!$D$16,IF(S162=\"Flexila PU\",_xlfn.NUMBERVALUE(MID(Daten!$D$17,1,2)),\"-\")))","v":""},{"$f":"IF($A162=\"\",\"\",IF(OR(S162=\"Putzbord\",S162=\"Flexila PU\"),Daten!$D$18,IF(OR(S162=\"Stehbord\",S162=\"Stehbord HB\",S162=\"Flexila STB\",S162=\"Jalousiebord\"),Daten!$D$21,\"-\")))","v":""},{"$f":"IF(A162=\"\",\"\",IF(AND(Daten!D$6=\"Jalousiebord\",OR(O162=\"Stehbord\",S162=\"Stehbord\")),\"Jalousienklinkung\",\"\"))","v":""},{"$f":"IF(W162=\"\",\"\",Daten!D$20)","v":""},null,null,{"$f":"IF(A162=\"\",\"\",IF(Daten!F$1=\"A\",\"Ohne\",IF(OR(N162=\"Gerstenkorn roh\",N162=\"Riffelblech roh\"),\"XPS\",Daten!F$2)))","v":""},{"$f":"IF(A162=\"\",\"\",IF(AA162=\"Ohne\",\"A\",IF(AA162=\"XPS\",IF(Daten!F$1=\"D\",\"B\",Daten!F$1),Daten!F$1)))","v":""},{"$f":"IF(A162=\"\",\"\",IF(AB162=\"A\",\"-\",Daten!F$7))","v":""},{"$f":"IF(A162=\"\",\"\",IF(AB162=\"A\",\"-\",IF(AND(Daten!F$8=0,O162=\"Putzbord\"),5-Q162,0)))","v":""},{"$f":"IF(A162=\"\",\"\",IF(AB162=\"A\",\"-\",IF(AND(Daten!F$8=0,S162=\"Putzbord\"),5-U162,0)))","v":""},{"$f":"IF(A162=\"\",\"\",IF(AB162=\"A\",\"-\",Daten!F$10))","v":""},{"$f":"IFERROR(IF(A162=\"\",\"\",VLOOKUP(N162,Daten!N$1:O$7,2,FALSE)),\"\")","v":""}]
[null,null,null,{"$f":"IF(A163=\"\",\"\",IF(Daten!B$3=TRUE,Daten!B$7,\"\"))","v":""},{"$f":"IFERROR(IF(C163=\"\",\"\",C163+(2*D163)+IF(O163=Daten!M$13,6,0)+IF(S163=Daten!M$13,6,0)+IF(Q163=\"-\",0,Q163)+IF(U163=\"-\",0,U163)),\"\")","v":""},{"$f":"IF(OR(A163=\"\",AND(F$1=0,Daten!F$3=FALSE)),\"\",Daten!B$6)","v":""},{"$f":"IF(A163=\"\",\"\",IF(Daten!B$5=\"??\",\"\",Daten!B$5))","v":""},{"$f":"IF(A163=\"\",\"\",IF(Daten!B$3=FALSE,\"\",Daten!B$4))","v":""},{"$f":"IFERROR(IF(A163=\"\",\"\",G163+H163+IF(AND(G163>0,H163>0),5,0))-IF(Daten!H$21=TRUE,H163,0),\"\")","v":""},{"$f":"IFERROR(IF(A163=\"\",\"\",I163+IF(Daten!H$21=TRUE,H163,0)+IF(F163=\"\",0,F163)-IF(Daten!F$3=TRUE,Daten!F$10,0)),\"\")","v":""},{"$f":"IF(A163=\"\",\"\",Daten!D$14)","v":""},{"$f":"IF(A163=\"\",\"\",Daten!D$12)","v":""},{"$f":"IF(A163=\"\",\"\",Daten!D$13)","v":""},{"$f":"IF(A163=\"\",\"\",Daten!M$2)","v":""},{"$f":"IF(A163=\"\",\"\",IF(Daten!D$6=Daten!N$11,Daten!M$11,IF(Daten!D$6=Daten!N$13,Daten!M$13,IF(AND(Daten!$D$6=Daten!$M$10,Daten!$D$8=TRUE),Daten!$M$14,Daten!D$6))))","v":""},{"$f":"IF($A163=\"\",\"\",IF(OR(O163=\"Putzbord\",O163=\"Flexila PU\"),Daten!$D$15,IF(OR(O163=\"Stehbord\",O163=\"Stehbord HB\",O163=\"Flexila STB\",O163=\"Jalousiebord\"),Daten!$D$19,\"-\")))","v":""},{"$f":"IF($A163=\"\",\"\",IF(O163=\"Putzbord\",Daten!$D$16,IF(O163=\"Flexila PU\",_xlfn.NUMBERVALUE(MID(Daten!$D$17,1,2)),\"-\")))","v":""},{"$f":"IF($A163=\"\",\"\",IF(OR(O163=\"Putzbord\",O163=\"Flexila PU\"),Daten!$D$18,IF(OR(O163=\"Stehbord\",O163=\"Stehbord HB\",O163=\"Flexila STB\",O163=\"Jalousiebord\"),Daten!$D$21,\"-\")))","v":""},{"$f":"IF(A163=\"\",\"\",IF(Daten!D$6=Daten!N$11,Daten!M$11,IF(Daten!D$6=Daten!N$13,Daten!M$13,IF(AND(Daten!$D$6=Daten!$M$10,Daten!$D$8=TRUE),Daten!$M$14,Daten!D$6))))","v":""},{"$f":"IF($A163=\"\",\"\",IF(OR(S163=\"Putzbord\",S163=\"Flexila PU\"),Daten!$D$15,IF(OR(S163=\"Stehbord\",S163=\"Stehbord HB\",S163=\"Flexila STB\",S163=\"Jalousiebord\"),Daten!$D$19,\"-\")))","v":""},{"$f":"IF($A163=\"\",\"\",IF(S163=\"Putzbord\",Daten!$D$16,IF(S163=\"Flexila PU\",_xlfn.NUMBERVALUE(MID(Daten!$D$17,1,2)),\"-\")))","v":""},{"$f":"IF($A163=\"\",\"\",IF(OR(S163=\"Putzbord\",S163=\"Flexila PU\"),Daten!$D$18,IF(OR(S163=\"Stehbord\",S163=\"Stehbord HB\",S163=\"Flexila STB\",S163=\"Jalousiebord\"),Daten!$D$21,\"-\")))","v":""},{"$f":"IF(A163=\"\",\"\",IF(AND(Daten!D$6=\"Jalousiebord\",OR(O163=\"Stehbord\",S163=\"Stehbord\")),\"Jalousienklinkung\",\"\"))","v":""},{"$f":"IF(W163=\"\",\"\",Daten!D$20)","v":""},null,null,{"$f":"IF(A163=\"\",\"\",IF(Daten!F$1=\"A\",\"Ohne\",IF(OR(N163=\"Gerstenkorn roh\",N163=\"Riffelblech roh\"),\"XPS\",Daten!F$2)))","v":""},{"$f":"IF(A163=\"\",\"\",IF(AA163=\"Ohne\",\"A\",IF(AA163=\"XPS\",IF(Daten!F$1=\"D\",\"B\",Daten!F$1),Daten!F$1)))","v":""},{"$f":"IF(A163=\"\",\"\",IF(AB163=\"A\",\"-\",Daten!F$7))","v":""},{"$f":"IF(A163=\"\",\"\",IF(AB163=\"A\",\"-\",IF(AND(Daten!F$8=0,O163=\"Putzbord\"),5-Q163,0)))","v":""},{"$f":"IF(A163=\"\",\"\",IF(AB163=\"A\",\"-\",IF(AND(Daten!F$8=0,S163=\"Putzbord\"),5-U163,0)))","v":""},{"$f":"IF(A163=\"\",\"\",IF(AB163=\"A\",\"-\",Daten!F$10))","v":""},{"$f":"IFERROR(IF(A163=\"\",\"\",VLOOKUP(N163,Daten!N$1:O$7,2,FALSE)),\"\")","v":""}]
[null,null,null,{"$f":"IF(A164=\"\",\"\",IF(Daten!B$3=TRUE,Daten!B$7,\"\"))","v":""},{"$f":"IFERROR(IF(C164=\"\",\"\",C164+(2*D164)+IF(O164=Daten!M$13,6,0)+IF(S164=Daten!M$13,6,0)+IF(Q164=\"-\",0,Q164)+IF(U164=\"-\",0,U164)),\"\")","v":""},{"$f":"IF(OR(A164=\"\",AND(F$1=0,Daten!F$3=FALSE)),\"\",Daten!B$6)","v":""},{"$f":"IF(A164=\"\",\"\",IF(Daten!B$5=\"??\",\"\",Daten!B$5))","v":""},{"$f":"IF(A164=\"\",\"\",IF(Daten!B$3=FALSE,\"\",Daten!B$4))","v":""},{"$f":"IFERROR(IF(A164=\"\",\"\",G164+H164+IF(AND(G164>0,H164>0),5,0))-IF(Daten!H$21=TRUE,H164,0),\"\")","v":""},{"$f":"IFERROR(IF(A164=\"\",\"\",I164+IF(Daten!H$21=TRUE,H164,0)+IF(F164=\"\",0,F164)-IF(Daten!F$3=TRUE,Daten!F$10,0)),\"\")","v":""},{"$f":"IF(A164=\"\",\"\",Daten!D$14)","v":""},{"$f":"IF(A164=\"\",\"\",Daten!D$12)","v":""},{"$f":"IF(A164=\"\",\"\",Daten!D$13)","v":""},{"$f":"IF(A164=\"\",\"\",Daten!M$2)","v":""},{"$f":"IF(A164=\"\",\"\",IF(Daten!D$6=Daten!N$11,Daten!M$11,IF(Daten!D$6=Daten!N$13,Daten!M$13,IF(AND(Daten!$D$6=Daten!$M$10,Daten!$D$8=TRUE),Daten!$M$14,Daten!D$6))))","v":""},{"$f":"IF($A164=\"\",\"\",IF(OR(O164=\"Putzbord\",O164=\"Flexila PU\"),Daten!$D$15,IF(OR(O164=\"Stehbord\",O164=\"Stehbord HB\",O164=\"Flexila STB\",O164=\"Jalousiebord\"),Daten!$D$19,\"-\")))","v":""},{"$f":"IF($A164=\"\",\"\",IF(O164=\"Putzbord\",Daten!$D$16,IF(O164=\"Flexila PU\",_xlfn.NUMBERVALUE(MID(Daten!$D$17,1,2)),\"-\")))","v":""},{"$f":"IF($A164=\"\",\"\",IF(OR(O164=\"Putzbord\",O164=\"Flexila PU\"),Daten!$D$18,IF(OR(O164=\"Stehbord\",O164=\"Stehbord HB\",O164=\"Flexila STB\",O164=\"Jalousiebord\"),Daten!$D$21,\"-\")))","v":""},{"$f":"IF(A164=\"\",\"\",IF(Daten!D$6=Daten!N$11,Daten!M$11,IF(Daten!D$6=Daten!N$13,Daten!M$13,IF(AND(Daten!$D$6=Daten!$M$10,Daten!$D$8=TRUE),Daten!$M$14,Daten!D$6))))","v":""},{"$f":"IF($A164=\"\",\"\",IF(OR(S164=\"Putzbord\",S164=\"Flexila PU\"),Daten!$D$15,IF(OR(S164=\"Stehbord\",S164=\"Stehbord HB\",S164=\"Flexila STB\",S164=\"Jalousiebord\"),Daten!$D$19,\"-\")))","v":""},{"$f":"IF($A164=\"\",\"\",IF(S164=\"Putzbord\",Daten!$D$16,IF(S164=\"Flexila PU\",_xlfn.NUMBERVALUE(MID(Daten!$D$17,1,2)),\"-\")))","v":""},{"$f":"IF($A164=\"\",\"\",IF(OR(S164=\"Putzbord\",S164=\"Flexila PU\"),Daten!$D$18,IF(OR(S164=\"Stehbord\",S164=\"Stehbord HB\",S164=\"Flexila STB\",S164=\"Jalousiebord\"),Daten!$D$21,\"-\")))","v":""},{"$f":"IF(A164=\"\",\"\",IF(AND(Daten!D$6=\"Jalousiebord\",OR(O164=\"Stehbord\",S164=\"Stehbord\")),\"Jalousienklinkung\",\"\"))","v":""},{"$f":"IF(W164=\"\",\"\",Daten!D$20)","v":""},null,null,{"$f":"IF(A164=\"\",\"\",IF(Daten!F$1=\"A\",\"Ohne\",IF(OR(N164=\"Gerstenkorn roh\",N164=\"Riffelblech roh\"),\"XPS\",Daten!F$2)))","v":""},{"$f":"IF(A164=\"\",\"\",IF(AA164=\"Ohne\",\"A\",IF(AA164=\"XPS\",IF(Daten!F$1=\"D\",\"B\",Daten!F$1),Daten!F$1)))","v":""},{"$f":"IF(A164=\"\",\"\",IF(AB164=\"A\",\"-\",Daten!F$7))","v":""},{"$f":"IF(A164=\"\",\"\",IF(AB164=\"A\",\"-\",IF(AND(Daten!F$8=0,O164=\"Putzbord\"),5-Q164,0)))","v":""},{"$f":"IF(A164=\"\",\"\",IF(AB164=\"A\",\"-\",IF(AND(Daten!F$8=0,S164=\"Putzbord\"),5-U164,0)))","v":""},{"$f":"IF(A164=\"\",\"\",IF(AB164=\"A\",\"-\",Daten!F$10))","v":""},{"$f":"IFERROR(IF(A164=\"\",\"\",VLOOKUP(N164,Daten!N$1:O$7,2,FALSE)),\"\")","v":""}]
[null,null,null,{"$f":"IF(A165=\"\",\"\",IF(Daten!B$3=TRUE,Daten!B$7,\"\"))","v":""},{"$f":"IFERROR(IF(C165=\"\",\"\",C165+(2*D165)+IF(O165=Daten!M$13,6,0)+IF(S165=Daten!M$13,6,0)+IF(Q165=\"-\",0,Q165)+IF(U165=\"-\",0,U165)),\"\")","v":""},{"$f":"IF(OR(A165=\"\",AND(F$1=0,Daten!F$3=FALSE)),\"\",Daten!B$6)","v":""},{"$f":"IF(A165=\"\",\"\",IF(Daten!B$5=\"??\",\"\",Daten!B$5))","v":""},{"$f":"IF(A165=\"\",\"\",IF(Daten!B$3=FALSE,\"\",Daten!B$4))","v":""},{"$f":"IFERROR(IF(A165=\"\",\"\",G165+H165+IF(AND(G165>0,H165>0),5,0))-IF(Daten!H$21=TRUE,H165,0),\"\")","v":""},{"$f":"IFERROR(IF(A165=\"\",\"\",I165+IF(Daten!H$21=TRUE,H165,0)+IF(F165=\"\",0,F165)-IF(Daten!F$3=TRUE,Daten!F$10,0)),\"\")","v":""},{"$f":"IF(A165=\"\",\"\",Daten!D$14)","v":""},{"$f":"IF(A165=\"\",\"\",Daten!D$12)","v":""},{"$f":"IF(A165=\"\",\"\",Daten!D$13)","v":""},{"$f":"IF(A165=\"\",\"\",Daten!M$2)","v":""},{"$f":"IF(A165=\"\",\"\",IF(Daten!D$6=Daten!N$11,Daten!M$11,IF(Daten!D$6=Daten!N$13,Daten!M$13,IF(AND(Daten!$D$6=Daten!$M$10,Daten!$D$8=TRUE),Daten!$M$14,Daten!D$6))))","v":""},{"$f":"IF($A165=\"\",\"\",IF(OR(O165=\"Putzbord\",O165=\"Flexila PU\"),Daten!$D$15,IF(OR(O165=\"Stehbord\",O165=\"Stehbord HB\",O165=\"Flexila STB\",O165=\"Jalousiebord\"),Daten!$D$19,\"-\")))","v":""},{"$f":"IF($A165=\"\",\"\",IF(O165=\"Putzbord\",Daten!$D$16,IF(O165=\"Flexila PU\",_xlfn.NUMBERVALUE(MID(Daten!$D$17,1,2)),\"-\")))","v":""},{"$f":"IF($A165=\"\",\"\",IF(OR(O165=\"Putzbord\",O165=\"Flexila PU\"),Daten!$D$18,IF(OR(O165=\"Stehbord\",O165=\"Stehbord HB\",O165=\"Flexila STB\",O165=\"Jalousiebord\"),Daten!$D$21,\"-\")))","v":""},{"$f":"IF(A165=\"\",\"\",IF(Daten!D$6=Daten!N$11,Daten!M$11,IF(Daten!D$6=Daten!N$13,Daten!M$13,IF(AND(Daten!$D$6=Daten!$M$10,Daten!$D$8=TRUE),Daten!$M$14,Daten!D$6))))","v":""},{"$f":"IF($A165=\"\",\"\",IF(OR(S165=\"Putzbord\",S165=\"Flexila PU\"),Daten!$D$15,IF(OR(S165=\"Stehbord\",S165=\"Stehbord HB\",S165=\"Flexila STB\",S165=\"Jalousiebord\"),Daten!$D$19,\"-\")))","v":""},{"$f":"IF($A165=\"\",\"\",IF(S165=\"Putzbord\",Daten!$D$16,IF(S165=\"Flexila PU\",_xlfn.NUMBERVALUE(MID(Daten!$D$17,1,2)),\"-\")))","v":""},{"$f":"IF($A165=\"\",\"\",IF(OR(S165=\"Putzbord\",S165=\"Flexila PU\"),Daten!$D$18,IF(OR(S165=\"Stehbord\",S165=\"Stehbord HB\",S165=\"Flexila STB\",S165=\"Jalousiebord\"),Daten!$D$21,\"-\")))","v":""},{"$f":"IF(A165=\"\",\"\",IF(AND(Daten!D$6=\"Jalousiebord\",OR(O165=\"Stehbord\",S165=\"Stehbord\")),\"Jalousienklinkung\",\"\"))","v":""},{"$f":"IF(W165=\"\",\"\",Daten!D$20)","v":""},null,null,{"$f":"IF(A165=\"\",\"\",IF(Daten!F$1=\"A\",\"Ohne\",IF(OR(N165=\"Gerstenkorn roh\",N165=\"Riffelblech roh\"),\"XPS\",Daten!F$2)))","v":""},{"$f":"IF(A165=\"\",\"\",IF(AA165=\"Ohne\",\"A\",IF(AA165=\"XPS\",IF(Daten!F$1=\"D\",\"B\",Daten!F$1),Daten!F$1)))","v":""},{"$f":"IF(A165=\"\",\"\",IF(AB165=\"A\",\"-\",Daten!F$7))","v":""},{"$f":"IF(A165=\"\",\"\",IF(AB165=\"A\",\"-\",IF(AND(Daten!F$8=0,O165=\"Putzbord\"),5-Q165,0)))","v":""},{"$f":"IF(A165=\"\",\"\",IF(AB165=\"A\",\"-\",IF(AND(Daten!F$8=0,S165=\"Putzbord\"),5-U165,0)))","v":""},{"$f":"IF(A165=\"\",\"\",IF(AB165=\"A\",\"-\",Daten!F$10))","v":""},{"$f":"IFERROR(IF(A165=\"\",\"\",VLOOKUP(N165,Daten!N$1:O$7,2,FALSE)),\"\")","v":""}]
[null,null,null,{"$f":"IF(A166=\"\",\"\",IF(Daten!B$3=TRUE,Daten!B$7,\"\"))","v":""},{"$f":"IFERROR(IF(C166=\"\",\"\",C166+(2*D166)+IF(O166=Daten!M$13,6,0)+IF(S166=Daten!M$13,6,0)+IF(Q166=\"-\",0,Q166)+IF(U166=\"-\",0,U166)),\"\")","v":""},{"$f":"IF(OR(A166=\"\",AND(F$1=0,Daten!F$3=FALSE)),\"\",Daten!B$6)","v":""},{"$f":"IF(A166=\"\",\"\",IF(Daten!B$5=\"??\",\"\",Daten!B$5))","v":""},{"$f":"IF(A166=\"\",\"\",IF(Daten!B$3=FALSE,\"\",Daten!B$4))","v":""},{"$f":"IFERROR(IF(A166=\"\",\"\",G166+H166+IF(AND(G166>0,H166>0),5,0))-IF(Daten!H$21=TRUE,H166,0),\"\")","v":""},{"$f":"IFERROR(IF(A166=\"\",\"\",I166+IF(Daten!H$21=TRUE,H166,0)+IF(F166=\"\",0,F166)-IF(Daten!F$3=TRUE,Daten!F$10,0)),\"\")","v":""},{"$f":"IF(A166=\"\",\"\",Daten!D$14)","v":""},{"$f":"IF(A166=\"\",\"\",Daten!D$12)","v":""},{"$f":"IF(A166=\"\",\"\",Daten!D$13)","v":""},{"$f":"IF(A166=\"\",\"\",Daten!M$2)","v":""},{"$f":"IF(A166=\"\",\"\",IF(Daten!D$6=Daten!N$11,Daten!M$11,IF(Daten!D$6=Daten!N$13,Daten!M$13,IF(AND(Daten!$D$6=Daten!$M$10,Daten!$D$8=TRUE),Daten!$M$14,Daten!D$6))))","v":""},{"$f":"IF($A166=\"\",\"\",IF(OR(O166=\"Putzbord\",O166=\"Flexila PU\"),Daten!$D$15,IF(OR(O166=\"Stehbord\",O166=\"Stehbord HB\",O166=\"Flexila STB\",O166=\"Jalousiebord\"),Daten!$D$19,\"-\")))","v":""},{"$f":"IF($A166=\"\",\"\",IF(O166=\"Putzbord\",Daten!$D$16,IF(O166=\"Flexila PU\",_xlfn.NUMBERVALUE(MID(Daten!$D$17,1,2)),\"-\")))","v":""},{"$f":"IF($A166=\"\",\"\",IF(OR(O166=\"Putzbord\",O166=\"Flexila PU\"),Daten!$D$18,IF(OR(O166=\"Stehbord\",O166=\"Stehbord HB\",O166=\"Flexila STB\",O166=\"Jalousiebord\"),Daten!$D$21,\"-\")))","v":""},{"$f":"IF(A166=\"\",\"\",IF(Daten!D$6=Daten!N$11,Daten!M$11,IF(Daten!D$6=Daten!N$13,Daten!M$13,IF(AND(Daten!$D$6=Daten!$M$10,Daten!$D$8=TRUE),Daten!$M$14,Daten!D$6))))","v":""},{"$f":"IF($A166=\"\",\"\",IF(OR(S166=\"Putzbord\",S166=\"Flexila PU\"),Daten!$D$15,IF(OR(S166=\"Stehbord\",S166=\"Stehbord HB\",S166=\"Flexila STB\",S166=\"Jalousiebord\"),Daten!$D$19,\"-\")))","v":""},{"$f":"IF($A166=\"\",\"\",IF(S166=\"Putzbord\",Daten!$D$16,IF(S166=\"Flexila PU\",_xlfn.NUMBERVALUE(MID(Daten!$D$17,1,2)),\"-\")))","v":""},{"$f":"IF($A166=\"\",\"\",IF(OR(S166=\"Putzbord\",S166=\"Flexila PU\"),Daten!$D$18,IF(OR(S166=\"Stehbord\",S166=\"Stehbord HB\",S166=\"Flexila STB\",S166=\"Jalousiebord\"),Daten!$D$21,\"-\")))","v":""},{"$f":"IF(A166=\"\",\"\",IF(AND(Daten!D$6=\"Jalousiebord\",OR(O166=\"Stehbord\",S166=\"Stehbord\")),\"Jalousienklinkung\",\"\"))","v":""},{"$f":"IF(W166=\"\",\"\",Daten!D$20)","v":""},null,null,{"$f":"IF(A166=\"\",\"\",IF(Daten!F$1=\"A\",\"Ohne\",IF(OR(N166=\"Gerstenkorn roh\",N166=\"Riffelblech roh\"),\"XPS\",Daten!F$2)))","v":""},{"$f":"IF(A166=\"\",\"\",IF(AA166=\"Ohne\",\"A\",IF(AA166=\"XPS\",IF(Daten!F$1=\"D\",\"B\",Daten!F$1),Daten!F$1)))","v":""},{"$f":"IF(A166=\"\",\"\",IF(AB166=\"A\",\"-\",Daten!F$7))","v":""},{"$f":"IF(A166=\"\",\"\",IF(AB166=\"A\",\"-\",IF(AND(Daten!F$8=0,O166=\"Putzbord\"),5-Q166,0)))","v":""},{"$f":"IF(A166=\"\",\"\",IF(AB166=\"A\",\"-\",IF(AND(Daten!F$8=0,S166=\"Putzbord\"),5-U166,0)))","v":""},{"$f":"IF(A166=\"\",\"\",IF(AB166=\"A\",\"-\",Daten!F$10))","v":""},{"$f":"IFERROR(IF(A166=\"\",\"\",VLOOKUP(N166,Daten!N$1:O$7,2,FALSE)),\"\")","v":""}]
[null,null,null,{"$f":"IF(A167=\"\",\"\",IF(Daten!B$3=TRUE,Daten!B$7,\"\"))","v":""},{"$f":"IFERROR(IF(C167=\"\",\"\",C167+(2*D167)+IF(O167=Daten!M$13,6,0)+IF(S167=Daten!M$13,6,0)+IF(Q167=\"-\",0,Q167)+IF(U167=\"-\",0,U167)),\"\")","v":""},{"$f":"IF(OR(A167=\"\",AND(F$1=0,Daten!F$3=FALSE)),\"\",Daten!B$6)","v":""},{"$f":"IF(A167=\"\",\"\",IF(Daten!B$5=\"??\",\"\",Daten!B$5))","v":""},{"$f":"IF(A167=\"\",\"\",IF(Daten!B$3=FALSE,\"\",Daten!B$4))","v":""},{"$f":"IFERROR(IF(A167=\"\",\"\",G167+H167+IF(AND(G167>0,H167>0),5,0))-IF(Daten!H$21=TRUE,H167,0),\"\")","v":""},{"$f":"IFERROR(IF(A167=\"\",\"\",I167+IF(Daten!H$21=TRUE,H167,0)+IF(F167=\"\",0,F167)-IF(Daten!F$3=TRUE,Daten!F$10,0)),\"\")","v":""},{"$f":"IF(A167=\"\",\"\",Daten!D$14)","v":""},{"$f":"IF(A167=\"\",\"\",Daten!D$12)","v":""},{"$f":"IF(A167=\"\",\"\",Daten!D$13)","v":""},{"$f":"IF(A167=\"\",\"\",Daten!M$2)","v":""},{"$f":"IF(A167=\"\",\"\",IF(Daten!D$6=Daten!N$11,Daten!M$11,IF(Daten!D$6=Daten!N$13,Daten!M$13,IF(AND(Daten!$D$6=Daten!$M$10,Daten!$D$8=TRUE),Daten!$M$14,Daten!D$6))))","v":""},{"$f":"IF($A167=\"\",\"\",IF(OR(O167=\"Putzbord\",O167=\"Flexila PU\"),Daten!$D$15,IF(OR(O167=\"Stehbord\",O167=\"Stehbord HB\",O167=\"Flexila STB\",O167=\"Jalousiebord\"),Daten!$D$19,\"-\")))","v":""},{"$f":"IF($A167=\"\",\"\",IF(O167=\"Putzbord\",Daten!$D$16,IF(O167=\"Flexila PU\",_xlfn.NUMBERVALUE(MID(Daten!$D$17,1,2)),\"-\")))","v":""},{"$f":"IF($A167=\"\",\"\",IF(OR(O167=\"Putzbord\",O167=\"Flexila PU\"),Daten!$D$18,IF(OR(O167=\"Stehbord\",O167=\"Stehbord HB\",O167=\"Flexila STB\",O167=\"Jalousiebord\"),Daten!$D$21,\"-\")))","v":""},{"$f":"IF(A167=\"\",\"\",IF(Daten!D$6=Daten!N$11,Daten!M$11,IF(Daten!D$6=Daten!N$13,Daten!M$13,IF(AND(Daten!$D$6=Daten!$M$10,Daten!$D$8=TRUE),Daten!$M$14,Daten!D$6))))","v":""},{"$f":"IF($A167=\"\",\"\",IF(OR(S167=\"Putzbord\",S167=\"Flexila PU\"),Daten!$D$15,IF(OR(S167=\"Stehbord\",S167=\"Stehbord HB\",S167=\"Flexila STB\",S167=\"Jalousiebord\"),Daten!$D$19,\"-\")))","v":""},{"$f":"IF($A167=\"\",\"\",IF(S167=\"Putzbord\",Daten!$D$16,IF(S167=\"Flexila PU\",_xlfn.NUMBERVALUE(MID(Daten!$D$17,1,2)),\"-\")))","v":""},{"$f":"IF($A167=\"\",\"\",IF(OR(S167=\"Putzbord\",S167=\"Flexila PU\"),Daten!$D$18,IF(OR(S167=\"Stehbord\",S167=\"Stehbord HB\",S167=\"Flexila STB\",S167=\"Jalousiebord\"),Daten!$D$21,\"-\")))","v":""},{"$f":"IF(A167=\"\",\"\",IF(AND(Daten!D$6=\"Jalousiebord\",OR(O167=\"Stehbord\",S167=\"Stehbord\")),\"Jalousienklinkung\",\"\"))","v":""},{"$f":"IF(W167=\"\",\"\",Daten!D$20)","v":""},null,null,{"$f":"IF(A167=\"\",\"\",IF(Daten!F$1=\"A\",\"Ohne\",IF(OR(N167=\"Gerstenkorn roh\",N167=\"Riffelblech roh\"),\"XPS\",Daten!F$2)))","v":""},{"$f":"IF(A167=\"\",\"\",IF(AA167=\"Ohne\",\"A\",IF(AA167=\"XPS\",IF(Daten!F$1=\"D\",\"B\",Daten!F$1),Daten!F$1)))","v":""},{"$f":"IF(A167=\"\",\"\",IF(AB167=\"A\",\"-\",Daten!F$7))","v":""},{"$f":"IF(A167=\"\",\"\",IF(AB167=\"A\",\"-\",IF(AND(Daten!F$8=0,O167=\"Putzbord\"),5-Q167,0)))","v":""},{"$f":"IF(A167=\"\",\"\",IF(AB167=\"A\",\"-\",IF(AND(Daten!F$8=0,S167=\"Putzbord\"),5-U167,0)))","v":""},{"$f":"IF(A167=\"\",\"\",IF(AB167=\"A\",\"-\",Daten!F$10))","v":""},{"$f":"IFERROR(IF(A167=\"\",\"\",VLOOKUP(N167,Daten!N$1:O$7,2,FALSE)),\"\")","v":""}]
[null,null,null,{"$f":"IF(A168=\"\",\"\",IF(Daten!B$3=TRUE,Daten!B$7,\"\"))","v":""},{"$f":"IFERROR(IF(C168=\"\",\"\",C168+(2*D168)+IF(O168=Daten!M$13,6,0)+IF(S168=Daten!M$13,6,0)+IF(Q168=\"-\",0,Q168)+IF(U168=\"-\",0,U168)),\"\")","v":""},{"$f":"IF(OR(A168=\"\",AND(F$1=0,Daten!F$3=FALSE)),\"\",Daten!B$6)","v":""},{"$f":"IF(A168=\"\",\"\",IF(Daten!B$5=\"??\",\"\",Daten!B$5))","v":""},{"$f":"IF(A168=\"\",\"\",IF(Daten!B$3=FALSE,\"\",Daten!B$4))","v":""},{"$f":"IFERROR(IF(A168=\"\",\"\",G168+H168+IF(AND(G168>0,H168>0),5,0))-IF(Daten!H$21=TRUE,H168,0),\"\")","v":""},{"$f":"IFERROR(IF(A168=\"\",\"\",I168+IF(Daten!H$21=TRUE,H168,0)+IF(F168=\"\",0,F168)-IF(Daten!F$3=TRUE,Daten!F$10,0)),\"\")","v":""},{"$f":"IF(A168=\"\",\"\",Daten!D$14)","v":""},{"$f":"IF(A168=\"\",\"\",Daten!D$12)","v":""},{"$f":"IF(A168=\"\",\"\",Daten!D$13)","v":""},{"$f":"IF(A168=\"\",\"\",Daten!M$2)","v":""},{"$f":"IF(A168=\"\",\"\",IF(Daten!D$6=Daten!N$11,Daten!M$11,IF(Daten!D$6=Daten!N$13,Daten!M$13,IF(AND(Daten!$D$6=Daten!$M$10,Daten!$D$8=TRUE),Daten!$M$14,Daten!D$6))))","v":""},{"$f":"IF($A168=\"\",\"\",IF(OR(O168=\"Putzbord\",O168=\"Flexila PU\"),Daten!$D$15,IF(OR(O168=\"Stehbord\",O168=\"Stehbord HB\",O168=\"Flexila STB\",O168=\"Jalousiebord\"),Daten!$D$19,\"-\")))","v":""},{"$f":"IF($A168=\"\",\"\",IF(O168=\"Putzbord\",Daten!$D$16,IF(O168=\"Flexila PU\",_xlfn.NUMBERVALUE(MID(Daten!$D$17,1,2)),\"-\")))","v":""},{"$f":"IF($A168=\"\",\"\",IF(OR(O168=\"Putzbord\",O168=\"Flexila PU\"),Daten!$D$18,IF(OR(O168=\"Stehbord\",O168=\"Stehbord HB\",O168=\"Flexila STB\",O168=\"Jalousiebord\"),Daten!$D$21,\"-\")))","v":""},{"$f":"IF(A168=\"\",\"\",IF(Daten!D$6=Daten!N$11,Daten!M$11,IF(Daten!D$6=Daten!N$13,Daten!M$13,IF(AND(Daten!$D$6=Daten!$M$10,Daten!$D$8=TRUE),Daten!$M$14,Daten!D$6))))","v":""},{"$f":"IF($A168=\"\",\"\",IF(OR(S168=\"Putzbord\",S168=\"Flexila PU\"),Daten!$D$15,IF(OR(S168=\"Stehbord\",S168=\"Stehbord HB\",S168=\"Flexila STB\",S168=\"Jalousiebord\"),Daten!$D$19,\"-\")))","v":""},{"$f":"IF($A168=\"\",\"\",IF(S168=\"Putzbord\",Daten!$D$16,IF(S168=\"Flexila PU\",_xlfn.NUMBERVALUE(MID(Daten!$D$17,1,2)),\"-\")))","v":""},{"$f":"IF($A168=\"\",\"\",IF(OR(S168=\"Putzbord\",S168=\"Flexila PU\"),Daten!$D$18,IF(OR(S168=\"Stehbord\",S168=\"Stehbord HB\",S168=\"Flexila STB\",S168=\"Jalousiebord\"),Daten!$D$21,\"-\")))","v":""},{"$f":"IF(A168=\"\",\"\",IF(AND(Daten!D$6=\"Jalousiebord\",OR(O168=\"Stehbord\",S168=\"Stehbord\")),\"Jalousienklinkung\",\"\"))","v":""},{"$f":"IF(W168=\"\",\"\",Daten!D$20)","v":""},null,null,{"$f":"IF(A168=\"\",\"\",IF(Daten!F$1=\"A\",\"Ohne\",IF(OR(N168=\"Gerstenkorn roh\",N168=\"Riffelblech roh\"),\"XPS\",Daten!F$2)))","v":""},{"$f":"IF(A168=\"\",\"\",IF(AA168=\"Ohne\",\"A\",IF(AA168=\"XPS\",IF(Daten!F$1=\"D\",\"B\",Daten!F$1),Daten!F$1)))","v":""},{"$f":"IF(A168=\"\",\"\",IF(AB168=\"A\",\"-\",Daten!F$7))","v":""},{"$f":"IF(A168=\"\",\"\",IF(AB168=\"A\",\"-\",IF(AND(Daten!F$8=0,O168=\"Putzbord\"),5-Q168,0)))","v":""},{"$f":"IF(A168=\"\",\"\",IF(AB168=\"A\",\"-\",IF(AND(Daten!F$8=0,S168=\"Putzbord\"),5-U168,0)))","v":""},{"$f":"IF(A168=\"\",\"\",IF(AB168=\"A\",\"-\",Daten!F$10))","v":""},{"$f":"IFERROR(IF(A168=\"\",\"\",VLOOKUP(N168,Daten!N$1:O$7,2,FALSE)),\"\")","v":""}]
[null,null,null,{"$f":"IF(A169=\"\",\"\",IF(Daten!B$3=TRUE,Daten!B$7,\"\"))","v":""},{"$f":"IFERROR(IF(C169=\"\",\"\",C169+(2*D169)+IF(O169=Daten!M$13,6,0)+IF(S169=Daten!M$13,6,0)+IF(Q169=\"-\",0,Q169)+IF(U169=\"-\",0,U169)),\"\")","v":""},{"$f":"IF(OR(A169=\"\",AND(F$1=0,Daten!F$3=FALSE)),\"\",Daten!B$6)","v":""},{"$f":"IF(A169=\"\",\"\",IF(Daten!B$5=\"??\",\"\",Daten!B$5))","v":""},{"$f":"IF(A169=\"\",\"\",IF(Daten!B$3=FALSE,\"\",Daten!B$4))","v":""},{"$f":"IFERROR(IF(A169=\"\",\"\",G169+H169+IF(AND(G169>0,H169>0),5,0))-IF(Daten!H$21=TRUE,H169,0),\"\")","v":""},{"$f":"IFERROR(IF(A169=\"\",\"\",I169+IF(Daten!H$21=TRUE,H169,0)+IF(F169=\"\",0,F169)-IF(Daten!F$3=TRUE,Daten!F$10,0)),\"\")","v":""},{"$f":"IF(A169=\"\",\"\",Daten!D$14)","v":""},{"$f":"IF(A169=\"\",\"\",Daten!D$12)","v":""},{"$f":"IF(A169=\"\",\"\",Daten!D$13)","v":""},{"$f":"IF(A169=\"\",\"\",Daten!M$2)","v":""},{"$f":"IF(A169=\"\",\"\",IF(Daten!D$6=Daten!N$11,Daten!M$11,IF(Daten!D$6=Daten!N$13,Daten!M$13,IF(AND(Daten!$D$6=Daten!$M$10,Daten!$D$8=TRUE),Daten!$M$14,Daten!D$6))))","v":""},{"$f":"IF($A169=\"\",\"\",IF(OR(O169=\"Putzbord\",O169=\"Flexila PU\"),Daten!$D$15,IF(OR(O169=\"Stehbord\",O169=\"Stehbord HB\",O169=\"Flexila STB\",O169=\"Jalousiebord\"),Daten!$D$19,\"-\")))","v":""},{"$f":"IF($A169=\"\",\"\",IF(O169=\"Putzbord\",Daten!$D$16,IF(O169=\"Flexila PU\",_xlfn.NUMBERVALUE(MID(Daten!$D$17,1,2)),\"-\")))","v":""},{"$f":"IF($A169=\"\",\"\",IF(OR(O169=\"Putzbord\",O169=\"Flexila PU\"),Daten!$D$18,IF(OR(O169=\"Stehbord\",O169=\"Stehbord HB\",O169=\"Flexila STB\",O169=\"Jalousiebord\"),Daten!$D$21,\"-\")))","v":""},{"$f":"IF(A169=\"\",\"\",IF(Daten!D$6=Daten!N$11,Daten!M$11,IF(Daten!D$6=Daten!N$13,Daten!M$13,IF(AND(Daten!$D$6=Daten!$M$10,Daten!$D$8=TRUE),Daten!$M$14,Daten!D$6))))","v":""},{"$f":"IF($A169=\"\",\"\",IF(OR(S169=\"Putzbord\",S169=\"Flexila PU\"),Daten!$D$15,IF(OR(S169=\"Stehbord\",S169=\"Stehbord HB\",S169=\"Flexila STB\",S169=\"Jalousiebord\"),Daten!$D$19,\"-\")))","v":""},{"$f":"IF($A169=\"\",\"\",IF(S169=\"Putzbord\",Daten!$D$16,IF(S169=\"Flexila PU\",_xlfn.NUMBERVALUE(MID(Daten!$D$17,1,2)),\"-\")))","v":""},{"$f":"IF($A169=\"\",\"\",IF(OR(S169=\"Putzbord\",S169=\"Flexila PU\"),Daten!$D$18,IF(OR(S169=\"Stehbord\",S169=\"Stehbord HB\",S169=\"Flexila STB\",S169=\"Jalousiebord\"),Daten!$D$21,\"-\")))","v":""},{"$f":"IF(A169=\"\",\"\",IF(AND(Daten!D$6=\"Jalousiebord\",OR(O169=\"Stehbord\",S169=\"Stehbord\")),\"Jalousienklinkung\",\"\"))","v":""},{"$f":"IF(W169=\"\",\"\",Daten!D$20)","v":""},null,null,{"$f":"IF(A169=\"\",\"\",IF(Daten!F$1=\"A\",\"Ohne\",IF(OR(N169=\"Gerstenkorn roh\",N169=\"Riffelblech roh\"),\"XPS\",Daten!F$2)))","v":""},{"$f":"IF(A169=\"\",\"\",IF(AA169=\"Ohne\",\"A\",IF(AA169=\"XPS\",IF(Daten!F$1=\"D\",\"B\",Daten!F$1),Daten!F$1)))","v":""},{"$f":"IF(A169=\"\",\"\",IF(AB169=\"A\",\"-\",Daten!F$7))","v":""},{"$f":"IF(A169=\"\",\"\",IF(AB169=\"A\",\"-\",IF(AND(Daten!F$8=0,O169=\"Putzbord\"),5-Q169,0)))","v":""},{"$f":"IF(A169=\"\",\"\",IF(AB169=\"A\",\"-\",IF(AND(Daten!F$8=0,S169=\"Putzbord\"),5-U169,0)))","v":""},{"$f":"IF(A169=\"\",\"\",IF(AB169=\"A\",\"-\",Daten!F$10))","v":""},{"$f":"IFERROR(IF(A169=\"\",\"\",VLOOKUP(N169,Daten!N$1:O$7,2,FALSE)),\"\")","v":""}]
[null,null,null,{"$f":"IF(A170=\"\",\"\",IF(Daten!B$3=TRUE,Daten!B$7,\"\"))","v":""},{"$f":"IFERROR(IF(C170=\"\",\"\",C170+(2*D170)+IF(O170=Daten!M$13,6,0)+IF(S170=Daten!M$13,6,0)+IF(Q170=\"-\",0,Q170)+IF(U170=\"-\",0,U170)),\"\")","v":""},{"$f":"IF(OR(A170=\"\",AND(F$1=0,Daten!F$3=FALSE)),\"\",Daten!B$6)","v":""},{"$f":"IF(A170=\"\",\"\",IF(Daten!B$5=\"??\",\"\",Daten!B$5))","v":""},{"$f":"IF(A170=\"\",\"\",IF(Daten!B$3=FALSE,\"\",Daten!B$4))","v":""},{"$f":"IFERROR(IF(A170=\"\",\"\",G170+H170+IF(AND(G170>0,H170>0),5,0))-IF(Daten!H$21=TRUE,H170,0),\"\")","v":""},{"$f":"IFERROR(IF(A170=\"\",\"\",I170+IF(Daten!H$21=TRUE,H170,0)+IF(F170=\"\",0,F170)-IF(Daten!F$3=TRUE,Daten!F$10,0)),\"\")","v":""},{"$f":"IF(A170=\"\",\"\",Daten!D$14)","v":""},{"$f":"IF(A170=\"\",\"\",Daten!D$12)","v":""},{"$f":"IF(A170=\"\",\"\",Daten!D$13)","v":""},{"$f":"IF(A170=\"\",\"\",Daten!M$2)","v":""},{"$f":"IF(A170=\"\",\"\",IF(Daten!D$6=Daten!N$11,Daten!M$11,IF(Daten!D$6=Daten!N$13,Daten!M$13,IF(AND(Daten!$D$6=Daten!$M$10,Daten!$D$8=TRUE),Daten!$M$14,Daten!D$6))))","v":""},{"$f":"IF($A170=\"\",\"\",IF(OR(O170=\"Putzbord\",O170=\"Flexila PU\"),Daten!$D$15,IF(OR(O170=\"Stehbord\",O170=\"Stehbord HB\",O170=\"Flexila STB\",O170=\"Jalousiebord\"),Daten!$D$19,\"-\")))","v":""},{"$f":"IF($A170=\"\",\"\",IF(O170=\"Putzbord\",Daten!$D$16,IF(O170=\"Flexila PU\",_xlfn.NUMBERVALUE(MID(Daten!$D$17,1,2)),\"-\")))","v":""},{"$f":"IF($A170=\"\",\"\",IF(OR(O170=\"Putzbord\",O170=\"Flexila PU\"),Daten!$D$18,IF(OR(O170=\"Stehbord\",O170=\"Stehbord HB\",O170=\"Flexila STB\",O170=\"Jalousiebord\"),Daten!$D$21,\"-\")))","v":""},{"$f":"IF(A170=\"\",\"\",IF(Daten!D$6=Daten!N$11,Daten!M$11,IF(Daten!D$6=Daten!N$13,Daten!M$13,IF(AND(Daten!$D$6=Daten!$M$10,Daten!$D$8=TRUE),Daten!$M$14,Daten!D$6))))","v":""},{"$f":"IF($A170=\"\",\"\",IF(OR(S170=\"Putzbord\",S170=\"Flexila PU\"),Daten!$D$15,IF(OR(S170=\"Stehbord\",S170=\"Stehbord HB\",S170=\"Flexila STB\",S170=\"Jalousiebord\"),Daten!$D$19,\"-\")))","v":""},{"$f":"IF($A170=\"\",\"\",IF(S170=\"Putzbord\",Daten!$D$16,IF(S170=\"Flexila PU\",_xlfn.NUMBERVALUE(MID(Daten!$D$17,1,2)),\"-\")))","v":""},{"$f":"IF($A170=\"\",\"\",IF(OR(S170=\"Putzbord\",S170=\"Flexila PU\"),Daten!$D$18,IF(OR(S170=\"Stehbord\",S170=\"Stehbord HB\",S170=\"Flexila STB\",S170=\"Jalousiebord\"),Daten!$D$21,\"-\")))","v":""},{"$f":"IF(A170=\"\",\"\",IF(AND(Daten!D$6=\"Jalousiebord\",OR(O170=\"Stehbord\",S170=\"Stehbord\")),\"Jalousienklinkung\",\"\"))","v":""},{"$f":"IF(W170=\"\",\"\",Daten!D$20)","v":""},null,null,{"$f":"IF(A170=\"\",\"\",IF(Daten!F$1=\"A\",\"Ohne\",IF(OR(N170=\"Gerstenkorn roh\",N170=\"Riffelblech roh\"),\"XPS\",Daten!F$2)))","v":""},{"$f":"IF(A170=\"\",\"\",IF(AA170=\"Ohne\",\"A\",IF(AA170=\"XPS\",IF(Daten!F$1=\"D\",\"B\",Daten!F$1),Daten!F$1)))","v":""},{"$f":"IF(A170=\"\",\"\",IF(AB170=\"A\",\"-\",Daten!F$7))","v":""},{"$f":"IF(A170=\"\",\"\",IF(AB170=\"A\",\"-\",IF(AND(Daten!F$8=0,O170=\"Putzbord\"),5-Q170,0)))","v":""},{"$f":"IF(A170=\"\",\"\",IF(AB170=\"A\",\"-\",IF(AND(Daten!F$8=0,S170=\"Putzbord\"),5-U170,0)))","v":""},{"$f":"IF(A170=\"\",\"\",IF(AB170=\"A\",\"-\",Daten!F$10))","v":""},{"$f":"IFERROR(IF(A170=\"\",\"\",VLOOKUP(N170,Daten!N$1:O$7,2,FALSE)),\"\")","v":""}]
[null,null,null,{"$f":"IF(A171=\"\",\"\",IF(Daten!B$3=TRUE,Daten!B$7,\"\"))","v":""},{"$f":"IFERROR(IF(C171=\"\",\"\",C171+(2*D171)+IF(O171=Daten!M$13,6,0)+IF(S171=Daten!M$13,6,0)+IF(Q171=\"-\",0,Q171)+IF(U171=\"-\",0,U171)),\"\")","v":""},{"$f":"IF(OR(A171=\"\",AND(F$1=0,Daten!F$3=FALSE)),\"\",Daten!B$6)","v":""},{"$f":"IF(A171=\"\",\"\",IF(Daten!B$5=\"??\",\"\",Daten!B$5))","v":""},{"$f":"IF(A171=\"\",\"\",IF(Daten!B$3=FALSE,\"\",Daten!B$4))","v":""},{"$f":"IFERROR(IF(A171=\"\",\"\",G171+H171+IF(AND(G171>0,H171>0),5,0))-IF(Daten!H$21=TRUE,H171,0),\"\")","v":""},{"$f":"IFERROR(IF(A171=\"\",\"\",I171+IF(Daten!H$21=TRUE,H171,0)+IF(F171=\"\",0,F171)-IF(Daten!F$3=TRUE,Daten!F$10,0)),\"\")","v":""},{"$f":"IF(A171=\"\",\"\",Daten!D$14)","v":""},{"$f":"IF(A171=\"\",\"\",Daten!D$12)","v":""},{"$f":"IF(A171=\"\",\"\",Daten!D$13)","v":""},{"$f":"IF(A171=\"\",\"\",Daten!M$2)","v":""},{"$f":"IF(A171=\"\",\"\",IF(Daten!D$6=Daten!N$11,Daten!M$11,IF(Daten!D$6=Daten!N$13,Daten!M$13,IF(AND(Daten!$D$6=Daten!$M$10,Daten!$D$8=TRUE),Daten!$M$14,Daten!D$6))))","v":""},{"$f":"IF($A171=\"\",\"\",IF(OR(O171=\"Putzbord\",O171=\"Flexila PU\"),Daten!$D$15,IF(OR(O171=\"Stehbord\",O171=\"Stehbord HB\",O171=\"Flexila STB\",O171=\"Jalousiebord\"),Daten!$D$19,\"-\")))","v":""},{"$f":"IF($A171=\"\",\"\",IF(O171=\"Putzbord\",Daten!$D$16,IF(O171=\"Flexila PU\",_xlfn.NUMBERVALUE(MID(Daten!$D$17,1,2)),\"-\")))","v":""},{"$f":"IF($A171=\"\",\"\",IF(OR(O171=\"Putzbord\",O171=\"Flexila PU\"),Daten!$D$18,IF(OR(O171=\"Stehbord\",O171=\"Stehbord HB\",O171=\"Flexila STB\",O171=\"Jalousiebord\"),Daten!$D$21,\"-\")))","v":""},{"$f":"IF(A171=\"\",\"\",IF(Daten!D$6=Daten!N$11,Daten!M$11,IF(Daten!D$6=Daten!N$13,Daten!M$13,IF(AND(Daten!$D$6=Daten!$M$10,Daten!$D$8=TRUE),Daten!$M$14,Daten!D$6))))","v":""},{"$f":"IF($A171=\"\",\"\",IF(OR(S171=\"Putzbord\",S171=\"Flexila PU\"),Daten!$D$15,IF(OR(S171=\"Stehbord\",S171=\"Stehbord HB\",S171=\"Flexila STB\",S171=\"Jalousiebord\"),Daten!$D$19,\"-\")))","v":""},{"$f":"IF($A171=\"\",\"\",IF(S171=\"Putzbord\",Daten!$D$16,IF(S171=\"Flexila PU\",_xlfn.NUMBERVALUE(MID(Daten!$D$17,1,2)),\"-\")))","v":""},{"$f":"IF($A171=\"\",\"\",IF(OR(S171=\"Putzbord\",S171=\"Flexila PU\"),Daten!$D$18,IF(OR(S171=\"Stehbord\",S171=\"Stehbord HB\",S171=\"Flexila STB\",S171=\"Jalousiebord\"),Daten!$D$21,\"-\")))","v":""},{"$f":"IF(A171=\"\",\"\",IF(AND(Daten!D$6=\"Jalousiebord\",OR(O171=\"Stehbord\",S171=\"Stehbord\")),\"Jalousienklinkung\",\"\"))","v":""},{"$f":"IF(W171=\"\",\"\",Daten!D$20)","v":""},null,null,{"$f":"IF(A171=\"\",\"\",IF(Daten!F$1=\"A\",\"Ohne\",IF(OR(N171=\"Gerstenkorn roh\",N171=\"Riffelblech roh\"),\"XPS\",Daten!F$2)))","v":""},{"$f":"IF(A171=\"\",\"\",IF(AA171=\"Ohne\",\"A\",IF(AA171=\"XPS\",IF(Daten!F$1=\"D\",\"B\",Daten!F$1),Daten!F$1)))","v":""},{"$f":"IF(A171=\"\",\"\",IF(AB171=\"A\",\"-\",Daten!F$7))","v":""},{"$f":"IF(A171=\"\",\"\",IF(AB171=\"A\",\"-\",IF(AND(Daten!F$8=0,O171=\"Putzbord\"),5-Q171,0)))","v":""},{"$f":"IF(A171=\"\",\"\",IF(AB171=\"A\",\"-\",IF(AND(Daten!F$8=0,S171=\"Putzbord\"),5-U171,0)))","v":""},{"$f":"IF(A171=\"\",\"\",IF(AB171=\"A\",\"-\",Daten!F$10))","v":""},{"$f":"IFERROR(IF(A171=\"\",\"\",VLOOKUP(N171,Daten!N$1:O$7,2,FALSE)),\"\")","v":""}]
[null,null,null,{"$f":"IF(A172=\"\",\"\",IF(Daten!B$3=TRUE,Daten!B$7,\"\"))","v":""},{"$f":"IFERROR(IF(C172=\"\",\"\",C172+(2*D172)+IF(O172=Daten!M$13,6,0)+IF(S172=Daten!M$13,6,0)+IF(Q172=\"-\",0,Q172)+IF(U172=\"-\",0,U172)),\"\")","v":""},{"$f":"IF(OR(A172=\"\",AND(F$1=0,Daten!F$3=FALSE)),\"\",Daten!B$6)","v":""},{"$f":"IF(A172=\"\",\"\",IF(Daten!B$5=\"??\",\"\",Daten!B$5))","v":""},{"$f":"IF(A172=\"\",\"\",IF(Daten!B$3=FALSE,\"\",Daten!B$4))","v":""},{"$f":"IFERROR(IF(A172=\"\",\"\",G172+H172+IF(AND(G172>0,H172>0),5,0))-IF(Daten!H$21=TRUE,H172,0),\"\")","v":""},{"$f":"IFERROR(IF(A172=\"\",\"\",I172+IF(Daten!H$21=TRUE,H172,0)+IF(F172=\"\",0,F172)-IF(Daten!F$3=TRUE,Daten!F$10,0)),\"\")","v":""},{"$f":"IF(A172=\"\",\"\",Daten!D$14)","v":""},{"$f":"IF(A172=\"\",\"\",Daten!D$12)","v":""},{"$f":"IF(A172=\"\",\"\",Daten!D$13)","v":""},{"$f":"IF(A172=\"\",\"\",Daten!M$2)","v":""},{"$f":"IF(A172=\"\",\"\",IF(Daten!D$6=Daten!N$11,Daten!M$11,IF(Daten!D$6=Daten!N$13,Daten!M$13,IF(AND(Daten!$D$6=Daten!$M$10,Daten!$D$8=TRUE),Daten!$M$14,Daten!D$6))))","v":""},{"$f":"IF($A172=\"\",\"\",IF(OR(O172=\"Putzbord\",O172=\"Flexila PU\"),Daten!$D$15,IF(OR(O172=\"Stehbord\",O172=\"Stehbord HB\",O172=\"Flexila STB\",O172=\"Jalousiebord\"),Daten!$D$19,\"-\")))","v":""},{"$f":"IF($A172=\"\",\"\",IF(O172=\"Putzbord\",Daten!$D$16,IF(O172=\"Flexila PU\",_xlfn.NUMBERVALUE(MID(Daten!$D$17,1,2)),\"-\")))","v":""},{"$f":"IF($A172=\"\",\"\",IF(OR(O172=\"Putzbord\",O172=\"Flexila PU\"),Daten!$D$18,IF(OR(O172=\"Stehbord\",O172=\"Stehbord HB\",O172=\"Flexila STB\",O172=\"Jalousiebord\"),Daten!$D$21,\"-\")))","v":""},{"$f":"IF(A172=\"\",\"\",IF(Daten!D$6=Daten!N$11,Daten!M$11,IF(Daten!D$6=Daten!N$13,Daten!M$13,IF(AND(Daten!$D$6=Daten!$M$10,Daten!$D$8=TRUE),Daten!$M$14,Daten!D$6))))","v":""},{"$f":"IF($A172=\"\",\"\",IF(OR(S172=\"Putzbord\",S172=\"Flexila PU\"),Daten!$D$15,IF(OR(S172=\"Stehbord\",S172=\"Stehbord HB\",S172=\"Flexila STB\",S172=\"Jalousiebord\"),Daten!$D$19,\"-\")))","v":""},{"$f":"IF($A172=\"\",\"\",IF(S172=\"Putzbord\",Daten!$D$16,IF(S172=\"Flexila PU\",_xlfn.NUMBERVALUE(MID(Daten!$D$17,1,2)),\"-\")))","v":""},{"$f":"IF($A172=\"\",\"\",IF(OR(S172=\"Putzbord\",S172=\"Flexila PU\"),Daten!$D$18,IF(OR(S172=\"Stehbord\",S172=\"Stehbord HB\",S172=\"Flexila STB\",S172=\"Jalousiebord\"),Daten!$D$21,\"-\")))","v":""},{"$f":"IF(A172=\"\",\"\",IF(AND(Daten!D$6=\"Jalousiebord\",OR(O172=\"Stehbord\",S172=\"Stehbord\")),\"Jalousienklinkung\",\"\"))","v":""},{"$f":"IF(W172=\"\",\"\",Daten!D$20)","v":""},null,null,{"$f":"IF(A172=\"\",\"\",IF(Daten!F$1=\"A\",\"Ohne\",IF(OR(N172=\"Gerstenkorn roh\",N172=\"Riffelblech roh\"),\"XPS\",Daten!F$2)))","v":""},{"$f":"IF(A172=\"\",\"\",IF(AA172=\"Ohne\",\"A\",IF(AA172=\"XPS\",IF(Daten!F$1=\"D\",\"B\",Daten!F$1),Daten!F$1)))","v":""},{"$f":"IF(A172=\"\",\"\",IF(AB172=\"A\",\"-\",Daten!F$7))","v":""},{"$f":"IF(A172=\"\",\"\",IF(AB172=\"A\",\"-\",IF(AND(Daten!F$8=0,O172=\"Putzbord\"),5-Q172,0)))","v":""},{"$f":"IF(A172=\"\",\"\",IF(AB172=\"A\",\"-\",IF(AND(Daten!F$8=0,S172=\"Putzbord\"),5-U172,0)))","v":""},{"$f":"IF(A172=\"\",\"\",IF(AB172=\"A\",\"-\",Daten!F$10))","v":""},{"$f":"IFERROR(IF(A172=\"\",\"\",VLOOKUP(N172,Daten!N$1:O$7,2,FALSE)),\"\")","v":""}]
[null,null,null,{"$f":"IF(A173=\"\",\"\",IF(Daten!B$3=TRUE,Daten!B$7,\"\"))","v":""},{"$f":"IFERROR(IF(C173=\"\",\"\",C173+(2*D173)+IF(O173=Daten!M$13,6,0)+IF(S173=Daten!M$13,6,0)+IF(Q173=\"-\",0,Q173)+IF(U173=\"-\",0,U173)),\"\")","v":""},{"$f":"IF(OR(A173=\"\",AND(F$1=0,Daten!F$3=FALSE)),\"\",Daten!B$6)","v":""},{"$f":"IF(A173=\"\",\"\",IF(Daten!B$5=\"??\",\"\",Daten!B$5))","v":""},{"$f":"IF(A173=\"\",\"\",IF(Daten!B$3=FALSE,\"\",Daten!B$4))","v":""},{"$f":"IFERROR(IF(A173=\"\",\"\",G173+H173+IF(AND(G173>0,H173>0),5,0))-IF(Daten!H$21=TRUE,H173,0),\"\")","v":""},{"$f":"IFERROR(IF(A173=\"\",\"\",I173+IF(Daten!H$21=TRUE,H173,0)+IF(F173=\"\",0,F173)-IF(Daten!F$3=TRUE,Daten!F$10,0)),\"\")","v":""},{"$f":"IF(A173=\"\",\"\",Daten!D$14)","v":""},{"$f":"IF(A173=\"\",\"\",Daten!D$12)","v":""},{"$f":"IF(A173=\"\",\"\",Daten!D$13)","v":""},{"$f":"IF(A173=\"\",\"\",Daten!M$2)","v":""},{"$f":"IF(A173=\"\",\"\",IF(Daten!D$6=Daten!N$11,Daten!M$11,IF(Daten!D$6=Daten!N$13,Daten!M$13,IF(AND(Daten!$D$6=Daten!$M$10,Daten!$D$8=TRUE),Daten!$M$14,Daten!D$6))))","v":""},{"$f":"IF($A173=\"\",\"\",IF(OR(O173=\"Putzbord\",O173=\"Flexila PU\"),Daten!$D$15,IF(OR(O173=\"Stehbord\",O173=\"Stehbord HB\",O173=\"Flexila STB\",O173=\"Jalousiebord\"),Daten!$D$19,\"-\")))","v":""},{"$f":"IF($A173=\"\",\"\",IF(O173=\"Putzbord\",Daten!$D$16,IF(O173=\"Flexila PU\",_xlfn.NUMBERVALUE(MID(Daten!$D$17,1,2)),\"-\")))","v":""},{"$f":"IF($A173=\"\",\"\",IF(OR(O173=\"Putzbord\",O173=\"Flexila PU\"),Daten!$D$18,IF(OR(O173=\"Stehbord\",O173=\"Stehbord HB\",O173=\"Flexila STB\",O173=\"Jalousiebord\"),Daten!$D$21,\"-\")))","v":""},{"$f":"IF(A173=\"\",\"\",IF(Daten!D$6=Daten!N$11,Daten!M$11,IF(Daten!D$6=Daten!N$13,Daten!M$13,IF(AND(Daten!$D$6=Daten!$M$10,Daten!$D$8=TRUE),Daten!$M$14,Daten!D$6))))","v":""},{"$f":"IF($A173=\"\",\"\",IF(OR(S173=\"Putzbord\",S173=\"Flexila PU\"),Daten!$D$15,IF(OR(S173=\"Stehbord\",S173=\"Stehbord HB\",S173=\"Flexila STB\",S173=\"Jalousiebord\"),Daten!$D$19,\"-\")))","v":""},{"$f":"IF($A173=\"\",\"\",IF(S173=\"Putzbord\",Daten!$D$16,IF(S173=\"Flexila PU\",_xlfn.NUMBERVALUE(MID(Daten!$D$17,1,2)),\"-\")))","v":""},{"$f":"IF($A173=\"\",\"\",IF(OR(S173=\"Putzbord\",S173=\"Flexila PU\"),Daten!$D$18,IF(OR(S173=\"Stehbord\",S173=\"Stehbord HB\",S173=\"Flexila STB\",S173=\"Jalousiebord\"),Daten!$D$21,\"-\")))","v":""},{"$f":"IF(A173=\"\",\"\",IF(AND(Daten!D$6=\"Jalousiebord\",OR(O173=\"Stehbord\",S173=\"Stehbord\")),\"Jalousienklinkung\",\"\"))","v":""},{"$f":"IF(W173=\"\",\"\",Daten!D$20)","v":""},null,null,{"$f":"IF(A173=\"\",\"\",IF(Daten!F$1=\"A\",\"Ohne\",IF(OR(N173=\"Gerstenkorn roh\",N173=\"Riffelblech roh\"),\"XPS\",Daten!F$2)))","v":""},{"$f":"IF(A173=\"\",\"\",IF(AA173=\"Ohne\",\"A\",IF(AA173=\"XPS\",IF(Daten!F$1=\"D\",\"B\",Daten!F$1),Daten!F$1)))","v":""},{"$f":"IF(A173=\"\",\"\",IF(AB173=\"A\",\"-\",Daten!F$7))","v":""},{"$f":"IF(A173=\"\",\"\",IF(AB173=\"A\",\"-\",IF(AND(Daten!F$8=0,O173=\"Putzbord\"),5-Q173,0)))","v":""},{"$f":"IF(A173=\"\",\"\",IF(AB173=\"A\",\"-\",IF(AND(Daten!F$8=0,S173=\"Putzbord\"),5-U173,0)))","v":""},{"$f":"IF(A173=\"\",\"\",IF(AB173=\"A\",\"-\",Daten!F$10))","v":""},{"$f":"IFERROR(IF(A173=\"\",\"\",VLOOKUP(N173,Daten!N$1:O$7,2,FALSE)),\"\")","v":""}]
[null,null,null,{"$f":"IF(A174=\"\",\"\",IF(Daten!B$3=TRUE,Daten!B$7,\"\"))","v":""},{"$f":"IFERROR(IF(C174=\"\",\"\",C174+(2*D174)+IF(O174=Daten!M$13,6,0)+IF(S174=Daten!M$13,6,0)+IF(Q174=\"-\",0,Q174)+IF(U174=\"-\",0,U174)),\"\")","v":""},{"$f":"IF(OR(A174=\"\",AND(F$1=0,Daten!F$3=FALSE)),\"\",Daten!B$6)","v":""},{"$f":"IF(A174=\"\",\"\",IF(Daten!B$5=\"??\",\"\",Daten!B$5))","v":""},{"$f":"IF(A174=\"\",\"\",IF(Daten!B$3=FALSE,\"\",Daten!B$4))","v":""},{"$f":"IFERROR(IF(A174=\"\",\"\",G174+H174+IF(AND(G174>0,H174>0),5,0))-IF(Daten!H$21=TRUE,H174,0),\"\")","v":""},{"$f":"IFERROR(IF(A174=\"\",\"\",I174+IF(Daten!H$21=TRUE,H174,0)+IF(F174=\"\",0,F174)-IF(Daten!F$3=TRUE,Daten!F$10,0)),\"\")","v":""},{"$f":"IF(A174=\"\",\"\",Daten!D$14)","v":""},{"$f":"IF(A174=\"\",\"\",Daten!D$12)","v":""},{"$f":"IF(A174=\"\",\"\",Daten!D$13)","v":""},{"$f":"IF(A174=\"\",\"\",Daten!M$2)","v":""},{"$f":"IF(A174=\"\",\"\",IF(Daten!D$6=Daten!N$11,Daten!M$11,IF(Daten!D$6=Daten!N$13,Daten!M$13,IF(AND(Daten!$D$6=Daten!$M$10,Daten!$D$8=TRUE),Daten!$M$14,Daten!D$6))))","v":""},{"$f":"IF($A174=\"\",\"\",IF(OR(O174=\"Putzbord\",O174=\"Flexila PU\"),Daten!$D$15,IF(OR(O174=\"Stehbord\",O174=\"Stehbord HB\",O174=\"Flexila STB\",O174=\"Jalousiebord\"),Daten!$D$19,\"-\")))","v":""},{"$f":"IF($A174=\"\",\"\",IF(O174=\"Putzbord\",Daten!$D$16,IF(O174=\"Flexila PU\",_xlfn.NUMBERVALUE(MID(Daten!$D$17,1,2)),\"-\")))","v":""},{"$f":"IF($A174=\"\",\"\",IF(OR(O174=\"Putzbord\",O174=\"Flexila PU\"),Daten!$D$18,IF(OR(O174=\"Stehbord\",O174=\"Stehbord HB\",O174=\"Flexila STB\",O174=\"Jalousiebord\"),Daten!$D$21,\"-\")))","v":""},{"$f":"IF(A174=\"\",\"\",IF(Daten!D$6=Daten!N$11,Daten!M$11,IF(Daten!D$6=Daten!N$13,Daten!M$13,IF(AND(Daten!$D$6=Daten!$M$10,Daten!$D$8=TRUE),Daten!$M$14,Daten!D$6))))","v":""},{"$f":"IF($A174=\"\",\"\",IF(OR(S174=\"Putzbord\",S174=\"Flexila PU\"),Daten!$D$15,IF(OR(S174=\"Stehbord\",S174=\"Stehbord HB\",S174=\"Flexila STB\",S174=\"Jalousiebord\"),Daten!$D$19,\"-\")))","v":""},{"$f":"IF($A174=\"\",\"\",IF(S174=\"Putzbord\",Daten!$D$16,IF(S174=\"Flexila PU\",_xlfn.NUMBERVALUE(MID(Daten!$D$17,1,2)),\"-\")))","v":""},{"$f":"IF($A174=\"\",\"\",IF(OR(S174=\"Putzbord\",S174=\"Flexila PU\"),Daten!$D$18,IF(OR(S174=\"Stehbord\",S174=\"Stehbord HB\",S174=\"Flexila STB\",S174=\"Jalousiebord\"),Daten!$D$21,\"-\")))","v":""},{"$f":"IF(A174=\"\",\"\",IF(AND(Daten!D$6=\"Jalousiebord\",OR(O174=\"Stehbord\",S174=\"Stehbord\")),\"Jalousienklinkung\",\"\"))","v":""},{"$f":"IF(W174=\"\",\"\",Daten!D$20)","v":""},null,null,{"$f":"IF(A174=\"\",\"\",IF(Daten!F$1=\"A\",\"Ohne\",IF(OR(N174=\"Gerstenkorn roh\",N174=\"Riffelblech roh\"),\"XPS\",Daten!F$2)))","v":""},{"$f":"IF(A174=\"\",\"\",IF(AA174=\"Ohne\",\"A\",IF(AA174=\"XPS\",IF(Daten!F$1=\"D\",\"B\",Daten!F$1),Daten!F$1)))","v":""},{"$f":"IF(A174=\"\",\"\",IF(AB174=\"A\",\"-\",Daten!F$7))","v":""},{"$f":"IF(A174=\"\",\"\",IF(AB174=\"A\",\"-\",IF(AND(Daten!F$8=0,O174=\"Putzbord\"),5-Q174,0)))","v":""},{"$f":"IF(A174=\"\",\"\",IF(AB174=\"A\",\"-\",IF(AND(Daten!F$8=0,S174=\"Putzbord\"),5-U174,0)))","v":""},{"$f":"IF(A174=\"\",\"\",IF(AB174=\"A\",\"-\",Daten!F$10))","v":""},{"$f":"IFERROR(IF(A174=\"\",\"\",VLOOKUP(N174,Daten!N$1:O$7,2,FALSE)),\"\")","v":""}]
[null,null,null,{"$f":"IF(A175=\"\",\"\",IF(Daten!B$3=TRUE,Daten!B$7,\"\"))","v":""},{"$f":"IFERROR(IF(C175=\"\",\"\",C175+(2*D175)+IF(O175=Daten!M$13,6,0)+IF(S175=Daten!M$13,6,0)+IF(Q175=\"-\",0,Q175)+IF(U175=\"-\",0,U175)),\"\")","v":""},{"$f":"IF(OR(A175=\"\",AND(F$1=0,Daten!F$3=FALSE)),\"\",Daten!B$6)","v":""},{"$f":"IF(A175=\"\",\"\",IF(Daten!B$5=\"??\",\"\",Daten!B$5))","v":""},{"$f":"IF(A175=\"\",\"\",IF(Daten!B$3=FALSE,\"\",Daten!B$4))","v":""},{"$f":"IFERROR(IF(A175=\"\",\"\",G175+H175+IF(AND(G175>0,H175>0),5,0))-IF(Daten!H$21=TRUE,H175,0),\"\")","v":""},{"$f":"IFERROR(IF(A175=\"\",\"\",I175+IF(Daten!H$21=TRUE,H175,0)+IF(F175=\"\",0,F175)-IF(Daten!F$3=TRUE,Daten!F$10,0)),\"\")","v":""},{"$f":"IF(A175=\"\",\"\",Daten!D$14)","v":""},{"$f":"IF(A175=\"\",\"\",Daten!D$12)","v":""},{"$f":"IF(A175=\"\",\"\",Daten!D$13)","v":""},{"$f":"IF(A175=\"\",\"\",Daten!M$2)","v":""},{"$f":"IF(A175=\"\",\"\",IF(Daten!D$6=Daten!N$11,Daten!M$11,IF(Daten!D$6=Daten!N$13,Daten!M$13,IF(AND(Daten!$D$6=Daten!$M$10,Daten!$D$8=TRUE),Daten!$M$14,Daten!D$6))))","v":""},{"$f":"IF($A175=\"\",\"\",IF(OR(O175=\"Putzbord\",O175=\"Flexila PU\"),Daten!$D$15,IF(OR(O175=\"Stehbord\",O175=\"Stehbord HB\",O175=\"Flexila STB\",O175=\"Jalousiebord\"),Daten!$D$19,\"-\")))","v":""},{"$f":"IF($A175=\"\",\"\",IF(O175=\"Putzbord\",Daten!$D$16,IF(O175=\"Flexila PU\",_xlfn.NUMBERVALUE(MID(Daten!$D$17,1,2)),\"-\")))","v":""},{"$f":"IF($A175=\"\",\"\",IF(OR(O175=\"Putzbord\",O175=\"Flexila PU\"),Daten!$D$18,IF(OR(O175=\"Stehbord\",O175=\"Stehbord HB\",O175=\"Flexila STB\",O175=\"Jalousiebord\"),Daten!$D$21,\"-\")))","v":""},{"$f":"IF(A175=\"\",\"\",IF(Daten!D$6=Daten!N$11,Daten!M$11,IF(Daten!D$6=Daten!N$13,Daten!M$13,IF(AND(Daten!$D$6=Daten!$M$10,Daten!$D$8=TRUE),Daten!$M$14,Daten!D$6))))","v":""},{"$f":"IF($A175=\"\",\"\",IF(OR(S175=\"Putzbord\",S175=\"Flexila PU\"),Daten!$D$15,IF(OR(S175=\"Stehbord\",S175=\"Stehbord HB\",S175=\"Flexila STB\",S175=\"Jalousiebord\"),Daten!$D$19,\"-\")))","v":""},{"$f":"IF($A175=\"\",\"\",IF(S175=\"Putzbord\",Daten!$D$16,IF(S175=\"Flexila PU\",_xlfn.NUMBERVALUE(MID(Daten!$D$17,1,2)),\"-\")))","v":""},{"$f":"IF($A175=\"\",\"\",IF(OR(S175=\"Putzbord\",S175=\"Flexila PU\"),Daten!$D$18,IF(OR(S175=\"Stehbord\",S175=\"Stehbord HB\",S175=\"Flexila STB\",S175=\"Jalousiebord\"),Daten!$D$21,\"-\")))","v":""},{"$f":"IF(A175=\"\",\"\",IF(AND(Daten!D$6=\"Jalousiebord\",OR(O175=\"Stehbord\",S175=\"Stehbord\")),\"Jalousienklinkung\",\"\"))","v":""},{"$f":"IF(W175=\"\",\"\",Daten!D$20)","v":""},null,null,{"$f":"IF(A175=\"\",\"\",IF(Daten!F$1=\"A\",\"Ohne\",IF(OR(N175=\"Gerstenkorn roh\",N175=\"Riffelblech roh\"),\"XPS\",Daten!F$2)))","v":""},{"$f":"IF(A175=\"\",\"\",IF(AA175=\"Ohne\",\"A\",IF(AA175=\"XPS\",IF(Daten!F$1=\"D\",\"B\",Daten!F$1),Daten!F$1)))","v":""},{"$f":"IF(A175=\"\",\"\",IF(AB175=\"A\",\"-\",Daten!F$7))","v":""},{"$f":"IF(A175=\"\",\"\",IF(AB175=\"A\",\"-\",IF(AND(Daten!F$8=0,O175=\"Putzbord\"),5-Q175,0)))","v":""},{"$f":"IF(A175=\"\",\"\",IF(AB175=\"A\",\"-\",IF(AND(Daten!F$8=0,S175=\"Putzbord\"),5-U175,0)))","v":""},{"$f":"IF(A175=\"\",\"\",IF(AB175=\"A\",\"-\",Daten!F$10))","v":""},{"$f":"IFERROR(IF(A175=\"\",\"\",VLOOKUP(N175,Daten!N$1:O$7,2,FALSE)),\"\")","v":""}]
[null,null,null,{"$f":"IF(A176=\"\",\"\",IF(Daten!B$3=TRUE,Daten!B$7,\"\"))","v":""},{"$f":"IFERROR(IF(C176=\"\",\"\",C176+(2*D176)+IF(O176=Daten!M$13,6,0)+IF(S176=Daten!M$13,6,0)+IF(Q176=\"-\",0,Q176)+IF(U176=\"-\",0,U176)),\"\")","v":""},{"$f":"IF(OR(A176=\"\",AND(F$1=0,Daten!F$3=FALSE)),\"\",Daten!B$6)","v":""},{"$f":"IF(A176=\"\",\"\",IF(Daten!B$5=\"??\",\"\",Daten!B$5))","v":""},{"$f":"IF(A176=\"\",\"\",IF(Daten!B$3=FALSE,\"\",Daten!B$4))","v":""},{"$f":"IFERROR(IF(A176=\"\",\"\",G176+H176+IF(AND(G176>0,H176>0),5,0))-IF(Daten!H$21=TRUE,H176,0),\"\")","v":""},{"$f":"IFERROR(IF(A176=\"\",\"\",I176+IF(Daten!H$21=TRUE,H176,0)+IF(F176=\"\",0,F176)-IF(Daten!F$3=TRUE,Daten!F$10,0)),\"\")","v":""},{"$f":"IF(A176=\"\",\"\",Daten!D$14)","v":""},{"$f":"IF(A176=\"\",\"\",Daten!D$12)","v":""},{"$f":"IF(A176=\"\",\"\",Daten!D$13)","v":""},{"$f":"IF(A176=\"\",\"\",Daten!M$2)","v":""},{"$f":"IF(A176=\"\",\"\",IF(Daten!D$6=Daten!N$11,Daten!M$11,IF(Daten!D$6=Daten!N$13,Daten!M$13,IF(AND(Daten!$D$6=Daten!$M$10,Daten!$D$8=TRUE),Daten!$M$14,Daten!D$6))))","v":""},{"$f":"IF($A176=\"\",\"\",IF(OR(O176=\"Putzbord\",O176=\"Flexila PU\"),Daten!$D$15,IF(OR(O176=\"Stehbord\",O176=\"Stehbord HB\",O176=\"Flexila STB\",O176=\"Jalousiebord\"),Daten!$D$19,\"-\")))","v":""},{"$f":"IF($A176=\"\",\"\",IF(O176=\"Putzbord\",Daten!$D$16,IF(O176=\"Flexila PU\",_xlfn.NUMBERVALUE(MID(Daten!$D$17,1,2)),\"-\")))","v":""},{"$f":"IF($A176=\"\",\"\",IF(OR(O176=\"Putzbord\",O176=\"Flexila PU\"),Daten!$D$18,IF(OR(O176=\"Stehbord\",O176=\"Stehbord HB\",O176=\"Flexila STB\",O176=\"Jalousiebord\"),Daten!$D$21,\"-\")))","v":""},{"$f":"IF(A176=\"\",\"\",IF(Daten!D$6=Daten!N$11,Daten!M$11,IF(Daten!D$6=Daten!N$13,Daten!M$13,IF(AND(Daten!$D$6=Daten!$M$10,Daten!$D$8=TRUE),Daten!$M$14,Daten!D$6))))","v":""},{"$f":"IF($A176=\"\",\"\",IF(OR(S176=\"Putzbord\",S176=\"Flexila PU\"),Daten!$D$15,IF(OR(S176=\"Stehbord\",S176=\"Stehbord HB\",S176=\"Flexila STB\",S176=\"Jalousiebord\"),Daten!$D$19,\"-\")))","v":""},{"$f":"IF($A176=\"\",\"\",IF(S176=\"Putzbord\",Daten!$D$16,IF(S176=\"Flexila PU\",_xlfn.NUMBERVALUE(MID(Daten!$D$17,1,2)),\"-\")))","v":""},{"$f":"IF($A176=\"\",\"\",IF(OR(S176=\"Putzbord\",S176=\"Flexila PU\"),Daten!$D$18,IF(OR(S176=\"Stehbord\",S176=\"Stehbord HB\",S176=\"Flexila STB\",S176=\"Jalousiebord\"),Daten!$D$21,\"-\")))","v":""},{"$f":"IF(A176=\"\",\"\",IF(AND(Daten!D$6=\"Jalousiebord\",OR(O176=\"Stehbord\",S176=\"Stehbord\")),\"Jalousienklinkung\",\"\"))","v":""},{"$f":"IF(W176=\"\",\"\",Daten!D$20)","v":""},null,null,{"$f":"IF(A176=\"\",\"\",IF(Daten!F$1=\"A\",\"Ohne\",IF(OR(N176=\"Gerstenkorn roh\",N176=\"Riffelblech roh\"),\"XPS\",Daten!F$2)))","v":""},{"$f":"IF(A176=\"\",\"\",IF(AA176=\"Ohne\",\"A\",IF(AA176=\"XPS\",IF(Daten!F$1=\"D\",\"B\",Daten!F$1),Daten!F$1)))","v":""},{"$f":"IF(A176=\"\",\"\",IF(AB176=\"A\",\"-\",Daten!F$7))","v":""},{"$f":"IF(A176=\"\",\"\",IF(AB176=\"A\",\"-\",IF(AND(Daten!F$8=0,O176=\"Putzbord\"),5-Q176,0)))","v":""},{"$f":"IF(A176=\"\",\"\",IF(AB176=\"A\",\"-\",IF(AND(Daten!F$8=0,S176=\"Putzbord\"),5-U176,0)))","v":""},{"$f":"IF(A176=\"\",\"\",IF(AB176=\"A\",\"-\",Daten!F$10))","v":""},{"$f":"IFERROR(IF(A176=\"\",\"\",VLOOKUP(N176,Daten!N$1:O$7,2,FALSE)),\"\")","v":""}]
[null,null,null,{"$f":"IF(A177=\"\",\"\",IF(Daten!B$3=TRUE,Daten!B$7,\"\"))","v":""},{"$f":"IFERROR(IF(C177=\"\",\"\",C177+(2*D177)+IF(O177=Daten!M$13,6,0)+IF(S177=Daten!M$13,6,0)+IF(Q177=\"-\",0,Q177)+IF(U177=\"-\",0,U177)),\"\")","v":""},{"$f":"IF(OR(A177=\"\",AND(F$1=0,Daten!F$3=FALSE)),\"\",Daten!B$6)","v":""},{"$f":"IF(A177=\"\",\"\",IF(Daten!B$5=\"??\",\"\",Daten!B$5))","v":""},{"$f":"IF(A177=\"\",\"\",IF(Daten!B$3=FALSE,\"\",Daten!B$4))","v":""},{"$f":"IFERROR(IF(A177=\"\",\"\",G177+H177+IF(AND(G177>0,H177>0),5,0))-IF(Daten!H$21=TRUE,H177,0),\"\")","v":""},{"$f":"IFERROR(IF(A177=\"\",\"\",I177+IF(Daten!H$21=TRUE,H177,0)+IF(F177=\"\",0,F177)-IF(Daten!F$3=TRUE,Daten!F$10,0)),\"\")","v":""},{"$f":"IF(A177=\"\",\"\",Daten!D$14)","v":""},{"$f":"IF(A177=\"\",\"\",Daten!D$12)","v":""},{"$f":"IF(A177=\"\",\"\",Daten!D$13)","v":""},{"$f":"IF(A177=\"\",\"\",Daten!M$2)","v":""},{"$f":"IF(A177=\"\",\"\",IF(Daten!D$6=Daten!N$11,Daten!M$11,IF(Daten!D$6=Daten!N$13,Daten!M$13,IF(AND(Daten!$D$6=Daten!$M$10,Daten!$D$8=TRUE),Daten!$M$14,Daten!D$6))))","v":""},{"$f":"IF($A177=\"\",\"\",IF(OR(O177=\"Putzbord\",O177=\"Flexila PU\"),Daten!$D$15,IF(OR(O177=\"Stehbord\",O177=\"Stehbord HB\",O177=\"Flexila STB\",O177=\"Jalousiebord\"),Daten!$D$19,\"-\")))","v":""},{"$f":"IF($A177=\"\",\"\",IF(O177=\"Putzbord\",Daten!$D$16,IF(O177=\"Flexila PU\",_xlfn.NUMBERVALUE(MID(Daten!$D$17,1,2)),\"-\")))","v":""},{"$f":"IF($A177=\"\",\"\",IF(OR(O177=\"Putzbord\",O177=\"Flexila PU\"),Daten!$D$18,IF(OR(O177=\"Stehbord\",O177=\"Stehbord HB\",O177=\"Flexila STB\",O177=\"Jalousiebord\"),Daten!$D$21,\"-\")))","v":""},{"$f":"IF(A177=\"\",\"\",IF(Daten!D$6=Daten!N$11,Daten!M$11,IF(Daten!D$6=Daten!N$13,Daten!M$13,IF(AND(Daten!$D$6=Daten!$M$10,Daten!$D$8=TRUE),Daten!$M$14,Daten!D$6))))","v":""},{"$f":"IF($A177=\"\",\"\",IF(OR(S177=\"Putzbord\",S177=\"Flexila PU\"),Daten!$D$15,IF(OR(S177=\"Stehbord\",S177=\"Stehbord HB\",S177=\"Flexila STB\",S177=\"Jalousiebord\"),Daten!$D$19,\"-\")))","v":""},{"$f":"IF($A177=\"\",\"\",IF(S177=\"Putzbord\",Daten!$D$16,IF(S177=\"Flexila PU\",_xlfn.NUMBERVALUE(MID(Daten!$D$17,1,2)),\"-\")))","v":""},{"$f":"IF($A177=\"\",\"\",IF(OR(S177=\"Putzbord\",S177=\"Flexila PU\"),Daten!$D$18,IF(OR(S177=\"Stehbord\",S177=\"Stehbord HB\",S177=\"Flexila STB\",S177=\"Jalousiebord\"),Daten!$D$21,\"-\")))","v":""},{"$f":"IF(A177=\"\",\"\",IF(AND(Daten!D$6=\"Jalousiebord\",OR(O177=\"Stehbord\",S177=\"Stehbord\")),\"Jalousienklinkung\",\"\"))","v":""},{"$f":"IF(W177=\"\",\"\",Daten!D$20)","v":""},null,null,{"$f":"IF(A177=\"\",\"\",IF(Daten!F$1=\"A\",\"Ohne\",IF(OR(N177=\"Gerstenkorn roh\",N177=\"Riffelblech roh\"),\"XPS\",Daten!F$2)))","v":""},{"$f":"IF(A177=\"\",\"\",IF(AA177=\"Ohne\",\"A\",IF(AA177=\"XPS\",IF(Daten!F$1=\"D\",\"B\",Daten!F$1),Daten!F$1)))","v":""},{"$f":"IF(A177=\"\",\"\",IF(AB177=\"A\",\"-\",Daten!F$7))","v":""},{"$f":"IF(A177=\"\",\"\",IF(AB177=\"A\",\"-\",IF(AND(Daten!F$8=0,O177=\"Putzbord\"),5-Q177,0)))","v":""},{"$f":"IF(A177=\"\",\"\",IF(AB177=\"A\",\"-\",IF(AND(Daten!F$8=0,S177=\"Putzbord\"),5-U177,0)))","v":""},{"$f":"IF(A177=\"\",\"\",IF(AB177=\"A\",\"-\",Daten!F$10))","v":""},{"$f":"IFERROR(IF(A177=\"\",\"\",VLOOKUP(N177,Daten!N$1:O$7,2,FALSE)),\"\")","v":""}]
[null,null,null,{"$f":"IF(A178=\"\",\"\",IF(Daten!B$3=TRUE,Daten!B$7,\"\"))","v":""},{"$f":"IFERROR(IF(C178=\"\",\"\",C178+(2*D178)+IF(O178=Daten!M$13,6,0)+IF(S178=Daten!M$13,6,0)+IF(Q178=\"-\",0,Q178)+IF(U178=\"-\",0,U178)),\"\")","v":""},{"$f":"IF(OR(A178=\"\",AND(F$1=0,Daten!F$3=FALSE)),\"\",Daten!B$6)","v":""},{"$f":"IF(A178=\"\",\"\",IF(Daten!B$5=\"??\",\"\",Daten!B$5))","v":""},{"$f":"IF(A178=\"\",\"\",IF(Daten!B$3=FALSE,\"\",Daten!B$4))","v":""},{"$f":"IFERROR(IF(A178=\"\",\"\",G178+H178+IF(AND(G178>0,H178>0),5,0))-IF(Daten!H$21=TRUE,H178,0),\"\")","v":""},{"$f":"IFERROR(IF(A178=\"\",\"\",I178+IF(Daten!H$21=TRUE,H178,0)+IF(F178=\"\",0,F178)-IF(Daten!F$3=TRUE,Daten!F$10,0)),\"\")","v":""},{"$f":"IF(A178=\"\",\"\",Daten!D$14)","v":""},{"$f":"IF(A178=\"\",\"\",Daten!D$12)","v":""},{"$f":"IF(A178=\"\",\"\",Daten!D$13)","v":""},{"$f":"IF(A178=\"\",\"\",Daten!M$2)","v":""},{"$f":"IF(A178=\"\",\"\",IF(Daten!D$6=Daten!N$11,Daten!M$11,IF(Daten!D$6=Daten!N$13,Daten!M$13,IF(AND(Daten!$D$6=Daten!$M$10,Daten!$D$8=TRUE),Daten!$M$14,Daten!D$6))))","v":""},{"$f":"IF($A178=\"\",\"\",IF(OR(O178=\"Putzbord\",O178=\"Flexila PU\"),Daten!$D$15,IF(OR(O178=\"Stehbord\",O178=\"Stehbord HB\",O178=\"Flexila STB\",O178=\"Jalousiebord\"),Daten!$D$19,\"-\")))","v":""},{"$f":"IF($A178=\"\",\"\",IF(O178=\"Putzbord\",Daten!$D$16,IF(O178=\"Flexila PU\",_xlfn.NUMBERVALUE(MID(Daten!$D$17,1,2)),\"-\")))","v":""},{"$f":"IF($A178=\"\",\"\",IF(OR(O178=\"Putzbord\",O178=\"Flexila PU\"),Daten!$D$18,IF(OR(O178=\"Stehbord\",O178=\"Stehbord HB\",O178=\"Flexila STB\",O178=\"Jalousiebord\"),Daten!$D$21,\"-\")))","v":""},{"$f":"IF(A178=\"\",\"\",IF(Daten!D$6=Daten!N$11,Daten!M$11,IF(Daten!D$6=Daten!N$13,Daten!M$13,IF(AND(Daten!$D$6=Daten!$M$10,Daten!$D$8=TRUE),Daten!$M$14,Daten!D$6))))","v":""},{"$f":"IF($A178=\"\",\"\",IF(OR(S178=\"Putzbord\",S178=\"Flexila PU\"),Daten!$D$15,IF(OR(S178=\"Stehbord\",S178=\"Stehbord HB\",S178=\"Flexila STB\",S178=\"Jalousiebord\"),Daten!$D$19,\"-\")))","v":""},{"$f":"IF($A178=\"\",\"\",IF(S178=\"Putzbord\",Daten!$D$16,IF(S178=\"Flexila PU\",_xlfn.NUMBERVALUE(MID(Daten!$D$17,1,2)),\"-\")))","v":""},{"$f":"IF($A178=\"\",\"\",IF(OR(S178=\"Putzbord\",S178=\"Flexila PU\"),Daten!$D$18,IF(OR(S178=\"Stehbord\",S178=\"Stehbord HB\",S178=\"Flexila STB\",S178=\"Jalousiebord\"),Daten!$D$21,\"-\")))","v":""},{"$f":"IF(A178=\"\",\"\",IF(AND(Daten!D$6=\"Jalousiebord\",OR(O178=\"Stehbord\",S178=\"Stehbord\")),\"Jalousienklinkung\",\"\"))","v":""},{"$f":"IF(W178=\"\",\"\",Daten!D$20)","v":""},null,null,{"$f":"IF(A178=\"\",\"\",IF(Daten!F$1=\"A\",\"Ohne\",IF(OR(N178=\"Gerstenkorn roh\",N178=\"Riffelblech roh\"),\"XPS\",Daten!F$2)))","v":""},{"$f":"IF(A178=\"\",\"\",IF(AA178=\"Ohne\",\"A\",IF(AA178=\"XPS\",IF(Daten!F$1=\"D\",\"B\",Daten!F$1),Daten!F$1)))","v":""},{"$f":"IF(A178=\"\",\"\",IF(AB178=\"A\",\"-\",Daten!F$7))","v":""},{"$f":"IF(A178=\"\",\"\",IF(AB178=\"A\",\"-\",IF(AND(Daten!F$8=0,O178=\"Putzbord\"),5-Q178,0)))","v":""},{"$f":"IF(A178=\"\",\"\",IF(AB178=\"A\",\"-\",IF(AND(Daten!F$8=0,S178=\"Putzbord\"),5-U178,0)))","v":""},{"$f":"IF(A178=\"\",\"\",IF(AB178=\"A\",\"-\",Daten!F$10))","v":""},{"$f":"IFERROR(IF(A178=\"\",\"\",VLOOKUP(N178,Daten!N$1:O$7,2,FALSE)),\"\")","v":""}]
[null,null,null,{"$f":"IF(A179=\"\",\"\",IF(Daten!B$3=TRUE,Daten!B$7,\"\"))","v":""},{"$f":"IFERROR(IF(C179=\"\",\"\",C179+(2*D179)+IF(O179=Daten!M$13,6,0)+IF(S179=Daten!M$13,6,0)+IF(Q179=\"-\",0,Q179)+IF(U179=\"-\",0,U179)),\"\")","v":""},{"$f":"IF(OR(A179=\"\",AND(F$1=0,Daten!F$3=FALSE)),\"\",Daten!B$6)","v":""},{"$f":"IF(A179=\"\",\"\",IF(Daten!B$5=\"??\",\"\",Daten!B$5))","v":""},{"$f":"IF(A179=\"\",\"\",IF(Daten!B$3=FALSE,\"\",Daten!B$4))","v":""},{"$f":"IFERROR(IF(A179=\"\",\"\",G179+H179+IF(AND(G179>0,H179>0),5,0))-IF(Daten!H$21=TRUE,H179,0),\"\")","v":""},{"$f":"IFERROR(IF(A179=\"\",\"\",I179+IF(Daten!H$21=TRUE,H179,0)+IF(F179=\"\",0,F179)-IF(Daten!F$3=TRUE,Daten!F$10,0)),\"\")","v":""},{"$f":"IF(A179=\"\",\"\",Daten!D$14)","v":""},{"$f":"IF(A179=\"\",\"\",Daten!D$12)","v":""},{"$f":"IF(A179=\"\",\"\",Daten!D$13)","v":""},{"$f":"IF(A179=\"\",\"\",Daten!M$2)","v":""},{"$f":"IF(A179=\"\",\"\",IF(Daten!D$6=Daten!N$11,Daten!M$11,IF(Daten!D$6=Daten!N$13,Daten!M$13,IF(AND(Daten!$D$6=Daten!$M$10,Daten!$D$8=TRUE),Daten!$M$14,Daten!D$6))))","v":""},{"$f":"IF($A179=\"\",\"\",IF(OR(O179=\"Putzbord\",O179=\"Flexila PU\"),Daten!$D$15,IF(OR(O179=\"Stehbord\",O179=\"Stehbord HB\",O179=\"Flexila STB\",O179=\"Jalousiebord\"),Daten!$D$19,\"-\")))","v":""},{"$f":"IF($A179=\"\",\"\",IF(O179=\"Putzbord\",Daten!$D$16,IF(O179=\"Flexila PU\",_xlfn.NUMBERVALUE(MID(Daten!$D$17,1,2)),\"-\")))","v":""},{"$f":"IF($A179=\"\",\"\",IF(OR(O179=\"Putzbord\",O179=\"Flexila PU\"),Daten!$D$18,IF(OR(O179=\"Stehbord\",O179=\"Stehbord HB\",O179=\"Flexila STB\",O179=\"Jalousiebord\"),Daten!$D$21,\"-\")))","v":""},{"$f":"IF(A179=\"\",\"\",IF(Daten!D$6=Daten!N$11,Daten!M$11,IF(Daten!D$6=Daten!N$13,Daten!M$13,IF(AND(Daten!$D$6=Daten!$M$10,Daten!$D$8=TRUE),Daten!$M$14,Daten!D$6))))","v":""},{"$f":"IF($A179=\"\",\"\",IF(OR(S179=\"Putzbord\",S179=\"Flexila PU\"),Daten!$D$15,IF(OR(S179=\"Stehbord\",S179=\"Stehbord HB\",S179=\"Flexila STB\",S179=\"Jalousiebord\"),Daten!$D$19,\"-\")))","v":""},{"$f":"IF($A179=\"\",\"\",IF(S179=\"Putzbord\",Daten!$D$16,IF(S179=\"Flexila PU\",_xlfn.NUMBERVALUE(MID(Daten!$D$17,1,2)),\"-\")))","v":""},{"$f":"IF($A179=\"\",\"\",IF(OR(S179=\"Putzbord\",S179=\"Flexila PU\"),Daten!$D$18,IF(OR(S179=\"Stehbord\",S179=\"Stehbord HB\",S179=\"Flexila STB\",S179=\"Jalousiebord\"),Daten!$D$21,\"-\")))","v":""},{"$f":"IF(A179=\"\",\"\",IF(AND(Daten!D$6=\"Jalousiebord\",OR(O179=\"Stehbord\",S179=\"Stehbord\")),\"Jalousienklinkung\",\"\"))","v":""},{"$f":"IF(W179=\"\",\"\",Daten!D$20)","v":""},null,null,{"$f":"IF(A179=\"\",\"\",IF(Daten!F$1=\"A\",\"Ohne\",IF(OR(N179=\"Gerstenkorn roh\",N179=\"Riffelblech roh\"),\"XPS\",Daten!F$2)))","v":""},{"$f":"IF(A179=\"\",\"\",IF(AA179=\"Ohne\",\"A\",IF(AA179=\"XPS\",IF(Daten!F$1=\"D\",\"B\",Daten!F$1),Daten!F$1)))","v":""},{"$f":"IF(A179=\"\",\"\",IF(AB179=\"A\",\"-\",Daten!F$7))","v":""},{"$f":"IF(A179=\"\",\"\",IF(AB179=\"A\",\"-\",IF(AND(Daten!F$8=0,O179=\"Putzbord\"),5-Q179,0)))","v":""},{"$f":"IF(A179=\"\",\"\",IF(AB179=\"A\",\"-\",IF(AND(Daten!F$8=0,S179=\"Putzbord\"),5-U179,0)))","v":""},{"$f":"IF(A179=\"\",\"\",IF(AB179=\"A\",\"-\",Daten!F$10))","v":""},{"$f":"IFERROR(IF(A179=\"\",\"\",VLOOKUP(N179,Daten!N$1:O$7,2,FALSE)),\"\")","v":""}]
[null,null,null,{"$f":"IF(A180=\"\",\"\",IF(Daten!B$3=TRUE,Daten!B$7,\"\"))","v":""},{"$f":"IFERROR(IF(C180=\"\",\"\",C180+(2*D180)+IF(O180=Daten!M$13,6,0)+IF(S180=Daten!M$13,6,0)+IF(Q180=\"-\",0,Q180)+IF(U180=\"-\",0,U180)),\"\")","v":""},{"$f":"IF(OR(A180=\"\",AND(F$1=0,Daten!F$3=FALSE)),\"\",Daten!B$6)","v":""},{"$f":"IF(A180=\"\",\"\",IF(Daten!B$5=\"??\",\"\",Daten!B$5))","v":""},{"$f":"IF(A180=\"\",\"\",IF(Daten!B$3=FALSE,\"\",Daten!B$4))","v":""},{"$f":"IFERROR(IF(A180=\"\",\"\",G180+H180+IF(AND(G180>0,H180>0),5,0))-IF(Daten!H$21=TRUE,H180,0),\"\")","v":""},{"$f":"IFERROR(IF(A180=\"\",\"\",I180+IF(Daten!H$21=TRUE,H180,0)+IF(F180=\"\",0,F180)-IF(Daten!F$3=TRUE,Daten!F$10,0)),\"\")","v":""},{"$f":"IF(A180=\"\",\"\",Daten!D$14)","v":""},{"$f":"IF(A180=\"\",\"\",Daten!D$12)","v":""},{"$f":"IF(A180=\"\",\"\",Daten!D$13)","v":""},{"$f":"IF(A180=\"\",\"\",Daten!M$2)","v":""},{"$f":"IF(A180=\"\",\"\",IF(Daten!D$6=Daten!N$11,Daten!M$11,IF(Daten!D$6=Daten!N$13,Daten!M$13,IF(AND(Daten!$D$6=Daten!$M$10,Daten!$D$8=TRUE),Daten!$M$14,Daten!D$6))))","v":""},{"$f":"IF($A180=\"\",\"\",IF(OR(O180=\"Putzbord\",O180=\"Flexila PU\"),Daten!$D$15,IF(OR(O180=\"Stehbord\",O180=\"Stehbord HB\",O180=\"Flexila STB\",O180=\"Jalousiebord\"),Daten!$D$19,\"-\")))","v":""},{"$f":"IF($A180=\"\",\"\",IF(O180=\"Putzbord\",Daten!$D$16,IF(O180=\"Flexila PU\",_xlfn.NUMBERVALUE(MID(Daten!$D$17,1,2)),\"-\")))","v":""},{"$f":"IF($A180=\"\",\"\",IF(OR(O180=\"Putzbord\",O180=\"Flexila PU\"),Daten!$D$18,IF(OR(O180=\"Stehbord\",O180=\"Stehbord HB\",O180=\"Flexila STB\",O180=\"Jalousiebord\"),Daten!$D$21,\"-\")))","v":""},{"$f":"IF(A180=\"\",\"\",IF(Daten!D$6=Daten!N$11,Daten!M$11,IF(Daten!D$6=Daten!N$13,Daten!M$13,IF(AND(Daten!$D$6=Daten!$M$10,Daten!$D$8=TRUE),Daten!$M$14,Daten!D$6))))","v":""},{"$f":"IF($A180=\"\",\"\",IF(OR(S180=\"Putzbord\",S180=\"Flexila PU\"),Daten!$D$15,IF(OR(S180=\"Stehbord\",S180=\"Stehbord HB\",S180=\"Flexila STB\",S180=\"Jalousiebord\"),Daten!$D$19,\"-\")))","v":""},{"$f":"IF($A180=\"\",\"\",IF(S180=\"Putzbord\",Daten!$D$16,IF(S180=\"Flexila PU\",_xlfn.NUMBERVALUE(MID(Daten!$D$17,1,2)),\"-\")))","v":""},{"$f":"IF($A180=\"\",\"\",IF(OR(S180=\"Putzbord\",S180=\"Flexila PU\"),Daten!$D$18,IF(OR(S180=\"Stehbord\",S180=\"Stehbord HB\",S180=\"Flexila STB\",S180=\"Jalousiebord\"),Daten!$D$21,\"-\")))","v":""},{"$f":"IF(A180=\"\",\"\",IF(AND(Daten!D$6=\"Jalousiebord\",OR(O180=\"Stehbord\",S180=\"Stehbord\")),\"Jalousienklinkung\",\"\"))","v":""},{"$f":"IF(W180=\"\",\"\",Daten!D$20)","v":""},null,null,{"$f":"IF(A180=\"\",\"\",IF(Daten!F$1=\"A\",\"Ohne\",IF(OR(N180=\"Gerstenkorn roh\",N180=\"Riffelblech roh\"),\"XPS\",Daten!F$2)))","v":""},{"$f":"IF(A180=\"\",\"\",IF(AA180=\"Ohne\",\"A\",IF(AA180=\"XPS\",IF(Daten!F$1=\"D\",\"B\",Daten!F$1),Daten!F$1)))","v":""},{"$f":"IF(A180=\"\",\"\",IF(AB180=\"A\",\"-\",Daten!F$7))","v":""},{"$f":"IF(A180=\"\",\"\",IF(AB180=\"A\",\"-\",IF(AND(Daten!F$8=0,O180=\"Putzbord\"),5-Q180,0)))","v":""},{"$f":"IF(A180=\"\",\"\",IF(AB180=\"A\",\"-\",IF(AND(Daten!F$8=0,S180=\"Putzbord\"),5-U180,0)))","v":""},{"$f":"IF(A180=\"\",\"\",IF(AB180=\"A\",\"-\",Daten!F$10))","v":""},{"$f":"IFERROR(IF(A180=\"\",\"\",VLOOKUP(N180,Daten!N$1:O$7,2,FALSE)),\"\")","v":""}]
[null,null,null,{"$f":"IF(A181=\"\",\"\",IF(Daten!B$3=TRUE,Daten!B$7,\"\"))","v":""},{"$f":"IFERROR(IF(C181=\"\",\"\",C181+(2*D181)+IF(O181=Daten!M$13,6,0)+IF(S181=Daten!M$13,6,0)+IF(Q181=\"-\",0,Q181)+IF(U181=\"-\",0,U181)),\"\")","v":""},{"$f":"IF(OR(A181=\"\",AND(F$1=0,Daten!F$3=FALSE)),\"\",Daten!B$6)","v":""},{"$f":"IF(A181=\"\",\"\",IF(Daten!B$5=\"??\",\"\",Daten!B$5))","v":""},{"$f":"IF(A181=\"\",\"\",IF(Daten!B$3=FALSE,\"\",Daten!B$4))","v":""},{"$f":"IFERROR(IF(A181=\"\",\"\",G181+H181+IF(AND(G181>0,H181>0),5,0))-IF(Daten!H$21=TRUE,H181,0),\"\")","v":""},{"$f":"IFERROR(IF(A181=\"\",\"\",I181+IF(Daten!H$21=TRUE,H181,0)+IF(F181=\"\",0,F181)-IF(Daten!F$3=TRUE,Daten!F$10,0)),\"\")","v":""},{"$f":"IF(A181=\"\",\"\",Daten!D$14)","v":""},{"$f":"IF(A181=\"\",\"\",Daten!D$12)","v":""},{"$f":"IF(A181=\"\",\"\",Daten!D$13)","v":""},{"$f":"IF(A181=\"\",\"\",Daten!M$2)","v":""},{"$f":"IF(A181=\"\",\"\",IF(Daten!D$6=Daten!N$11,Daten!M$11,IF(Daten!D$6=Daten!N$13,Daten!M$13,IF(AND(Daten!$D$6=Daten!$M$10,Daten!$D$8=TRUE),Daten!$M$14,Daten!D$6))))","v":""},{"$f":"IF($A181=\"\",\"\",IF(OR(O181=\"Putzbord\",O181=\"Flexila PU\"),Daten!$D$15,IF(OR(O181=\"Stehbord\",O181=\"Stehbord HB\",O181=\"Flexila STB\",O181=\"Jalousiebord\"),Daten!$D$19,\"-\")))","v":""},{"$f":"IF($A181=\"\",\"\",IF(O181=\"Putzbord\",Daten!$D$16,IF(O181=\"Flexila PU\",_xlfn.NUMBERVALUE(MID(Daten!$D$17,1,2)),\"-\")))","v":""},{"$f":"IF($A181=\"\",\"\",IF(OR(O181=\"Putzbord\",O181=\"Flexila PU\"),Daten!$D$18,IF(OR(O181=\"Stehbord\",O181=\"Stehbord HB\",O181=\"Flexila STB\",O181=\"Jalousiebord\"),Daten!$D$21,\"-\")))","v":""},{"$f":"IF(A181=\"\",\"\",IF(Daten!D$6=Daten!N$11,Daten!M$11,IF(Daten!D$6=Daten!N$13,Daten!M$13,IF(AND(Daten!$D$6=Daten!$M$10,Daten!$D$8=TRUE),Daten!$M$14,Daten!D$6))))","v":""},{"$f":"IF($A181=\"\",\"\",IF(OR(S181=\"Putzbord\",S181=\"Flexila PU\"),Daten!$D$15,IF(OR(S181=\"Stehbord\",S181=\"Stehbord HB\",S181=\"Flexila STB\",S181=\"Jalousiebord\"),Daten!$D$19,\"-\")))","v":""},{"$f":"IF($A181=\"\",\"\",IF(S181=\"Putzbord\",Daten!$D$16,IF(S181=\"Flexila PU\",_xlfn.NUMBERVALUE(MID(Daten!$D$17,1,2)),\"-\")))","v":""},{"$f":"IF($A181=\"\",\"\",IF(OR(S181=\"Putzbord\",S181=\"Flexila PU\"),Daten!$D$18,IF(OR(S181=\"Stehbord\",S181=\"Stehbord HB\",S181=\"Flexila STB\",S181=\"Jalousiebord\"),Daten!$D$21,\"-\")))","v":""},{"$f":"IF(A181=\"\",\"\",IF(AND(Daten!D$6=\"Jalousiebord\",OR(O181=\"Stehbord\",S181=\"Stehbord\")),\"Jalousienklinkung\",\"\"))","v":""},{"$f":"IF(W181=\"\",\"\",Daten!D$20)","v":""},null,null,{"$f":"IF(A181=\"\",\"\",IF(Daten!F$1=\"A\",\"Ohne\",IF(OR(N181=\"Gerstenkorn roh\",N181=\"Riffelblech roh\"),\"XPS\",Daten!F$2)))","v":""},{"$f":"IF(A181=\"\",\"\",IF(AA181=\"Ohne\",\"A\",IF(AA181=\"XPS\",IF(Daten!F$1=\"D\",\"B\",Daten!F$1),Daten!F$1)))","v":""},{"$f":"IF(A181=\"\",\"\",IF(AB181=\"A\",\"-\",Daten!F$7))","v":""},{"$f":"IF(A181=\"\",\"\",IF(AB181=\"A\",\"-\",IF(AND(Daten!F$8=0,O181=\"Putzbord\"),5-Q181,0)))","v":""},{"$f":"IF(A181=\"\",\"\",IF(AB181=\"A\",\"-\",IF(AND(Daten!F$8=0,S181=\"Putzbord\"),5-U181,0)))","v":""},{"$f":"IF(A181=\"\",\"\",IF(AB181=\"A\",\"-\",Daten!F$10))","v":""},{"$f":"IFERROR(IF(A181=\"\",\"\",VLOOKUP(N181,Daten!N$1:O$7,2,FALSE)),\"\")","v":""}]
[null,null,null,{"$f":"IF(A182=\"\",\"\",IF(Daten!B$3=TRUE,Daten!B$7,\"\"))","v":""},{"$f":"IFERROR(IF(C182=\"\",\"\",C182+(2*D182)+IF(O182=Daten!M$13,6,0)+IF(S182=Daten!M$13,6,0)+IF(Q182=\"-\",0,Q182)+IF(U182=\"-\",0,U182)),\"\")","v":""},{"$f":"IF(OR(A182=\"\",AND(F$1=0,Daten!F$3=FALSE)),\"\",Daten!B$6)","v":""},{"$f":"IF(A182=\"\",\"\",IF(Daten!B$5=\"??\",\"\",Daten!B$5))","v":""},{"$f":"IF(A182=\"\",\"\",IF(Daten!B$3=FALSE,\"\",Daten!B$4))","v":""},{"$f":"IFERROR(IF(A182=\"\",\"\",G182+H182+IF(AND(G182>0,H182>0),5,0))-IF(Daten!H$21=TRUE,H182,0),\"\")","v":""},{"$f":"IFERROR(IF(A182=\"\",\"\",I182+IF(Daten!H$21=TRUE,H182,0)+IF(F182=\"\",0,F182)-IF(Daten!F$3=TRUE,Daten!F$10,0)),\"\")","v":""},{"$f":"IF(A182=\"\",\"\",Daten!D$14)","v":""},{"$f":"IF(A182=\"\",\"\",Daten!D$12)","v":""},{"$f":"IF(A182=\"\",\"\",Daten!D$13)","v":""},{"$f":"IF(A182=\"\",\"\",Daten!M$2)","v":""},{"$f":"IF(A182=\"\",\"\",IF(Daten!D$6=Daten!N$11,Daten!M$11,IF(Daten!D$6=Daten!N$13,Daten!M$13,IF(AND(Daten!$D$6=Daten!$M$10,Daten!$D$8=TRUE),Daten!$M$14,Daten!D$6))))","v":""},{"$f":"IF($A182=\"\",\"\",IF(OR(O182=\"Putzbord\",O182=\"Flexila PU\"),Daten!$D$15,IF(OR(O182=\"Stehbord\",O182=\"Stehbord HB\",O182=\"Flexila STB\",O182=\"Jalousiebord\"),Daten!$D$19,\"-\")))","v":""},{"$f":"IF($A182=\"\",\"\",IF(O182=\"Putzbord\",Daten!$D$16,IF(O182=\"Flexila PU\",_xlfn.NUMBERVALUE(MID(Daten!$D$17,1,2)),\"-\")))","v":""},{"$f":"IF($A182=\"\",\"\",IF(OR(O182=\"Putzbord\",O182=\"Flexila PU\"),Daten!$D$18,IF(OR(O182=\"Stehbord\",O182=\"Stehbord HB\",O182=\"Flexila STB\",O182=\"Jalousiebord\"),Daten!$D$21,\"-\")))","v":""},{"$f":"IF(A182=\"\",\"\",IF(Daten!D$6=Daten!N$11,Daten!M$11,IF(Daten!D$6=Daten!N$13,Daten!M$13,IF(AND(Daten!$D$6=Daten!$M$10,Daten!$D$8=TRUE),Daten!$M$14,Daten!D$6))))","v":""},{"$f":"IF($A182=\"\",\"\",IF(OR(S182=\"Putzbord\",S182=\"Flexila PU\"),Daten!$D$15,IF(OR(S182=\"Stehbord\",S182=\"Stehbord HB\",S182=\"Flexila STB\",S182=\"Jalousiebord\"),Daten!$D$19,\"-\")))","v":""},{"$f":"IF($A182=\"\",\"\",IF(S182=\"Putzbord\",Daten!$D$16,IF(S182=\"Flexila PU\",_xlfn.NUMBERVALUE(MID(Daten!$D$17,1,2)),\"-\")))","v":""},{"$f":"IF($A182=\"\",\"\",IF(OR(S182=\"Putzbord\",S182=\"Flexila PU\"),Daten!$D$18,IF(OR(S182=\"Stehbord\",S182=\"Stehbord HB\",S182=\"Flexila STB\",S182=\"Jalousiebord\"),Daten!$D$21,\"-\")))","v":""},{"$f":"IF(A182=\"\",\"\",IF(AND(Daten!D$6=\"Jalousiebord\",OR(O182=\"Stehbord\",S182=\"Stehbord\")),\"Jalousienklinkung\",\"\"))","v":""},{"$f":"IF(W182=\"\",\"\",Daten!D$20)","v":""},null,null,{"$f":"IF(A182=\"\",\"\",IF(Daten!F$1=\"A\",\"Ohne\",IF(OR(N182=\"Gerstenkorn roh\",N182=\"Riffelblech roh\"),\"XPS\",Daten!F$2)))","v":""},{"$f":"IF(A182=\"\",\"\",IF(AA182=\"Ohne\",\"A\",IF(AA182=\"XPS\",IF(Daten!F$1=\"D\",\"B\",Daten!F$1),Daten!F$1)))","v":""},{"$f":"IF(A182=\"\",\"\",IF(AB182=\"A\",\"-\",Daten!F$7))","v":""},{"$f":"IF(A182=\"\",\"\",IF(AB182=\"A\",\"-\",IF(AND(Daten!F$8=0,O182=\"Putzbord\"),5-Q182,0)))","v":""},{"$f":"IF(A182=\"\",\"\",IF(AB182=\"A\",\"-\",IF(AND(Daten!F$8=0,S182=\"Putzbord\"),5-U182,0)))","v":""},{"$f":"IF(A182=\"\",\"\",IF(AB182=\"A\",\"-\",Daten!F$10))","v":""},{"$f":"IFERROR(IF(A182=\"\",\"\",VLOOKUP(N182,Daten!N$1:O$7,2,FALSE)),\"\")","v":""}]
[null,null,null,{"$f":"IF(A183=\"\",\"\",IF(Daten!B$3=TRUE,Daten!B$7,\"\"))","v":""},{"$f":"IFERROR(IF(C183=\"\",\"\",C183+(2*D183)+IF(O183=Daten!M$13,6,0)+IF(S183=Daten!M$13,6,0)+IF(Q183=\"-\",0,Q183)+IF(U183=\"-\",0,U183)),\"\")","v":""},{"$f":"IF(OR(A183=\"\",AND(F$1=0,Daten!F$3=FALSE)),\"\",Daten!B$6)","v":""},{"$f":"IF(A183=\"\",\"\",IF(Daten!B$5=\"??\",\"\",Daten!B$5))","v":""},{"$f":"IF(A183=\"\",\"\",IF(Daten!B$3=FALSE,\"\",Daten!B$4))","v":""},{"$f":"IFERROR(IF(A183=\"\",\"\",G183+H183+IF(AND(G183>0,H183>0),5,0))-IF(Daten!H$21=TRUE,H183,0),\"\")","v":""},{"$f":"IFERROR(IF(A183=\"\",\"\",I183+IF(Daten!H$21=TRUE,H183,0)+IF(F183=\"\",0,F183)-IF(Daten!F$3=TRUE,Daten!F$10,0)),\"\")","v":""},{"$f":"IF(A183=\"\",\"\",Daten!D$14)","v":""},{"$f":"IF(A183=\"\",\"\",Daten!D$12)","v":""},{"$f":"IF(A183=\"\",\"\",Daten!D$13)","v":""},{"$f":"IF(A183=\"\",\"\",Daten!M$2)","v":""},{"$f":"IF(A183=\"\",\"\",IF(Daten!D$6=Daten!N$11,Daten!M$11,IF(Daten!D$6=Daten!N$13,Daten!M$13,IF(AND(Daten!$D$6=Daten!$M$10,Daten!$D$8=TRUE),Daten!$M$14,Daten!D$6))))","v":""},{"$f":"IF($A183=\"\",\"\",IF(OR(O183=\"Putzbord\",O183=\"Flexila PU\"),Daten!$D$15,IF(OR(O183=\"Stehbord\",O183=\"Stehbord HB\",O183=\"Flexila STB\",O183=\"Jalousiebord\"),Daten!$D$19,\"-\")))","v":""},{"$f":"IF($A183=\"\",\"\",IF(O183=\"Putzbord\",Daten!$D$16,IF(O183=\"Flexila PU\",_xlfn.NUMBERVALUE(MID(Daten!$D$17,1,2)),\"-\")))","v":""},{"$f":"IF($A183=\"\",\"\",IF(OR(O183=\"Putzbord\",O183=\"Flexila PU\"),Daten!$D$18,IF(OR(O183=\"Stehbord\",O183=\"Stehbord HB\",O183=\"Flexila STB\",O183=\"Jalousiebord\"),Daten!$D$21,\"-\")))","v":""},{"$f":"IF(A183=\"\",\"\",IF(Daten!D$6=Daten!N$11,Daten!M$11,IF(Daten!D$6=Daten!N$13,Daten!M$13,IF(AND(Daten!$D$6=Daten!$M$10,Daten!$D$8=TRUE),Daten!$M$14,Daten!D$6))))","v":""},{"$f":"IF($A183=\"\",\"\",IF(OR(S183=\"Putzbord\",S183=\"Flexila PU\"),Daten!$D$15,IF(OR(S183=\"Stehbord\",S183=\"Stehbord HB\",S183=\"Flexila STB\",S183=\"Jalousiebord\"),Daten!$D$19,\"-\")))","v":""},{"$f":"IF($A183=\"\",\"\",IF(S183=\"Putzbord\",Daten!$D$16,IF(S183=\"Flexila PU\",_xlfn.NUMBERVALUE(MID(Daten!$D$17,1,2)),\"-\")))","v":""},{"$f":"IF($A183=\"\",\"\",IF(OR(S183=\"Putzbord\",S183=\"Flexila PU\"),Daten!$D$18,IF(OR(S183=\"Stehbord\",S183=\"Stehbord HB\",S183=\"Flexila STB\",S183=\"Jalousiebord\"),Daten!$D$21,\"-\")))","v":""},{"$f":"IF(A183=\"\",\"\",IF(AND(Daten!D$6=\"Jalousiebord\",OR(O183=\"Stehbord\",S183=\"Stehbord\")),\"Jalousienklinkung\",\"\"))","v":""},{"$f":"IF(W183=\"\",\"\",Daten!D$20)","v":""},null,null,{"$f":"IF(A183=\"\",\"\",IF(Daten!F$1=\"A\",\"Ohne\",IF(OR(N183=\"Gerstenkorn roh\",N183=\"Riffelblech roh\"),\"XPS\",Daten!F$2)))","v":""},{"$f":"IF(A183=\"\",\"\",IF(AA183=\"Ohne\",\"A\",IF(AA183=\"XPS\",IF(Daten!F$1=\"D\",\"B\",Daten!F$1),Daten!F$1)))","v":""},{"$f":"IF(A183=\"\",\"\",IF(AB183=\"A\",\"-\",Daten!F$7))","v":""},{"$f":"IF(A183=\"\",\"\",IF(AB183=\"A\",\"-\",IF(AND(Daten!F$8=0,O183=\"Putzbord\"),5-Q183,0)))","v":""},{"$f":"IF(A183=\"\",\"\",IF(AB183=\"A\",\"-\",IF(AND(Daten!F$8=0,S183=\"Putzbord\"),5-U183,0)))","v":""},{"$f":"IF(A183=\"\",\"\",IF(AB183=\"A\",\"-\",Daten!F$10))","v":""},{"$f":"IFERROR(IF(A183=\"\",\"\",VLOOKUP(N183,Daten!N$1:O$7,2,FALSE)),\"\")","v":""}]
[null,null,null,{"$f":"IF(A184=\"\",\"\",IF(Daten!B$3=TRUE,Daten!B$7,\"\"))","v":""},{"$f":"IFERROR(IF(C184=\"\",\"\",C184+(2*D184)+IF(O184=Daten!M$13,6,0)+IF(S184=Daten!M$13,6,0)+IF(Q184=\"-\",0,Q184)+IF(U184=\"-\",0,U184)),\"\")","v":""},{"$f":"IF(OR(A184=\"\",AND(F$1=0,Daten!F$3=FALSE)),\"\",Daten!B$6)","v":""},{"$f":"IF(A184=\"\",\"\",IF(Daten!B$5=\"??\",\"\",Daten!B$5))","v":""},{"$f":"IF(A184=\"\",\"\",IF(Daten!B$3=FALSE,\"\",Daten!B$4))","v":""},{"$f":"IFERROR(IF(A184=\"\",\"\",G184+H184+IF(AND(G184>0,H184>0),5,0))-IF(Daten!H$21=TRUE,H184,0),\"\")","v":""},{"$f":"IFERROR(IF(A184=\"\",\"\",I184+IF(Daten!H$21=TRUE,H184,0)+IF(F184=\"\",0,F184)-IF(Daten!F$3=TRUE,Daten!F$10,0)),\"\")","v":""},{"$f":"IF(A184=\"\",\"\",Daten!D$14)","v":""},{"$f":"IF(A184=\"\",\"\",Daten!D$12)","v":""},{"$f":"IF(A184=\"\",\"\",Daten!D$13)","v":""},{"$f":"IF(A184=\"\",\"\",Daten!M$2)","v":""},{"$f":"IF(A184=\"\",\"\",IF(Daten!D$6=Daten!N$11,Daten!M$11,IF(Daten!D$6=Daten!N$13,Daten!M$13,IF(AND(Daten!$D$6=Daten!$M$10,Daten!$D$8=TRUE),Daten!$M$14,Daten!D$6))))","v":""},{"$f":"IF($A184=\"\",\"\",IF(OR(O184=\"Putzbord\",O184=\"Flexila PU\"),Daten!$D$15,IF(OR(O184=\"Stehbord\",O184=\"Stehbord HB\",O184=\"Flexila STB\",O184=\"Jalousiebord\"),Daten!$D$19,\"-\")))","v":""},{"$f":"IF($A184=\"\",\"\",IF(O184=\"Putzbord\",Daten!$D$16,IF(O184=\"Flexila PU\",_xlfn.NUMBERVALUE(MID(Daten!$D$17,1,2)),\"-\")))","v":""},{"$f":"IF($A184=\"\",\"\",IF(OR(O184=\"Putzbord\",O184=\"Flexila PU\"),Daten!$D$18,IF(OR(O184=\"Stehbord\",O184=\"Stehbord HB\",O184=\"Flexila STB\",O184=\"Jalousiebord\"),Daten!$D$21,\"-\")))","v":""},{"$f":"IF(A184=\"\",\"\",IF(Daten!D$6=Daten!N$11,Daten!M$11,IF(Daten!D$6=Daten!N$13,Daten!M$13,IF(AND(Daten!$D$6=Daten!$M$10,Daten!$D$8=TRUE),Daten!$M$14,Daten!D$6))))","v":""},{"$f":"IF($A184=\"\",\"\",IF(OR(S184=\"Putzbord\",S184=\"Flexila PU\"),Daten!$D$15,IF(OR(S184=\"Stehbord\",S184=\"Stehbord HB\",S184=\"Flexila STB\",S184=\"Jalousiebord\"),Daten!$D$19,\"-\")))","v":""},{"$f":"IF($A184=\"\",\"\",IF(S184=\"Putzbord\",Daten!$D$16,IF(S184=\"Flexila PU\",_xlfn.NUMBERVALUE(MID(Daten!$D$17,1,2)),\"-\")))","v":""},{"$f":"IF($A184=\"\",\"\",IF(OR(S184=\"Putzbord\",S184=\"Flexila PU\"),Daten!$D$18,IF(OR(S184=\"Stehbord\",S184=\"Stehbord HB\",S184=\"Flexila STB\",S184=\"Jalousiebord\"),Daten!$D$21,\"-\")))","v":""},{"$f":"IF(A184=\"\",\"\",IF(AND(Daten!D$6=\"Jalousiebord\",OR(O184=\"Stehbord\",S184=\"Stehbord\")),\"Jalousienklinkung\",\"\"))","v":""},{"$f":"IF(W184=\"\",\"\",Daten!D$20)","v":""},null,null,{"$f":"IF(A184=\"\",\"\",IF(Daten!F$1=\"A\",\"Ohne\",IF(OR(N184=\"Gerstenkorn roh\",N184=\"Riffelblech roh\"),\"XPS\",Daten!F$2)))","v":""},{"$f":"IF(A184=\"\",\"\",IF(AA184=\"Ohne\",\"A\",IF(AA184=\"XPS\",IF(Daten!F$1=\"D\",\"B\",Daten!F$1),Daten!F$1)))","v":""},{"$f":"IF(A184=\"\",\"\",IF(AB184=\"A\",\"-\",Daten!F$7))","v":""},{"$f":"IF(A184=\"\",\"\",IF(AB184=\"A\",\"-\",IF(AND(Daten!F$8=0,O184=\"Putzbord\"),5-Q184,0)))","v":""},{"$f":"IF(A184=\"\",\"\",IF(AB184=\"A\",\"-\",IF(AND(Daten!F$8=0,S184=\"Putzbord\"),5-U184,0)))","v":""},{"$f":"IF(A184=\"\",\"\",IF(AB184=\"A\",\"-\",Daten!F$10))","v":""},{"$f":"IFERROR(IF(A184=\"\",\"\",VLOOKUP(N184,Daten!N$1:O$7,2,FALSE)),\"\")","v":""}]
[null,null,null,{"$f":"IF(A185=\"\",\"\",IF(Daten!B$3=TRUE,Daten!B$7,\"\"))","v":""},{"$f":"IFERROR(IF(C185=\"\",\"\",C185+(2*D185)+IF(O185=Daten!M$13,6,0)+IF(S185=Daten!M$13,6,0)+IF(Q185=\"-\",0,Q185)+IF(U185=\"-\",0,U185)),\"\")","v":""},{"$f":"IF(OR(A185=\"\",AND(F$1=0,Daten!F$3=FALSE)),\"\",Daten!B$6)","v":""},{"$f":"IF(A185=\"\",\"\",IF(Daten!B$5=\"??\",\"\",Daten!B$5))","v":""},{"$f":"IF(A185=\"\",\"\",IF(Daten!B$3=FALSE,\"\",Daten!B$4))","v":""},{"$f":"IFERROR(IF(A185=\"\",\"\",G185+H185+IF(AND(G185>0,H185>0),5,0))-IF(Daten!H$21=TRUE,H185,0),\"\")","v":""},{"$f":"IFERROR(IF(A185=\"\",\"\",I185+IF(Daten!H$21=TRUE,H185,0)+IF(F185=\"\",0,F185)-IF(Daten!F$3=TRUE,Daten!F$10,0)),\"\")","v":""},{"$f":"IF(A185=\"\",\"\",Daten!D$14)","v":""},{"$f":"IF(A185=\"\",\"\",Daten!D$12)","v":""},{"$f":"IF(A185=\"\",\"\",Daten!D$13)","v":""},{"$f":"IF(A185=\"\",\"\",Daten!M$2)","v":""},{"$f":"IF(A185=\"\",\"\",IF(Daten!D$6=Daten!N$11,Daten!M$11,IF(Daten!D$6=Daten!N$13,Daten!M$13,IF(AND(Daten!$D$6=Daten!$M$10,Daten!$D$8=TRUE),Daten!$M$14,Daten!D$6))))","v":""},{"$f":"IF($A185=\"\",\"\",IF(OR(O185=\"Putzbord\",O185=\"Flexila PU\"),Daten!$D$15,IF(OR(O185=\"Stehbord\",O185=\"Stehbord HB\",O185=\"Flexila STB\",O185=\"Jalousiebord\"),Daten!$D$19,\"-\")))","v":""},{"$f":"IF($A185=\"\",\"\",IF(O185=\"Putzbord\",Daten!$D$16,IF(O185=\"Flexila PU\",_xlfn.NUMBERVALUE(MID(Daten!$D$17,1,2)),\"-\")))","v":""},{"$f":"IF($A185=\"\",\"\",IF(OR(O185=\"Putzbord\",O185=\"Flexila PU\"),Daten!$D$18,IF(OR(O185=\"Stehbord\",O185=\"Stehbord HB\",O185=\"Flexila STB\",O185=\"Jalousiebord\"),Daten!$D$21,\"-\")))","v":""},{"$f":"IF(A185=\"\",\"\",IF(Daten!D$6=Daten!N$11,Daten!M$11,IF(Daten!D$6=Daten!N$13,Daten!M$13,IF(AND(Daten!$D$6=Daten!$M$10,Daten!$D$8=TRUE),Daten!$M$14,Daten!D$6))))","v":""},{"$f":"IF($A185=\"\",\"\",IF(OR(S185=\"Putzbord\",S185=\"Flexila PU\"),Daten!$D$15,IF(OR(S185=\"Stehbord\",S185=\"Stehbord HB\",S185=\"Flexila STB\",S185=\"Jalousiebord\"),Daten!$D$19,\"-\")))","v":""},{"$f":"IF($A185=\"\",\"\",IF(S185=\"Putzbord\",Daten!$D$16,IF(S185=\"Flexila PU\",_xlfn.NUMBERVALUE(MID(Daten!$D$17,1,2)),\"-\")))","v":""},{"$f":"IF($A185=\"\",\"\",IF(OR(S185=\"Putzbord\",S185=\"Flexila PU\"),Daten!$D$18,IF(OR(S185=\"Stehbord\",S185=\"Stehbord HB\",S185=\"Flexila STB\",S185=\"Jalousiebord\"),Daten!$D$21,\"-\")))","v":""},{"$f":"IF(A185=\"\",\"\",IF(AND(Daten!D$6=\"Jalousiebord\",OR(O185=\"Stehbord\",S185=\"Stehbord\")),\"Jalousienklinkung\",\"\"))","v":""},{"$f":"IF(W185=\"\",\"\",Daten!D$20)","v":""},null,null,{"$f":"IF(A185=\"\",\"\",IF(Daten!F$1=\"A\",\"Ohne\",IF(OR(N185=\"Gerstenkorn roh\",N185=\"Riffelblech roh\"),\"XPS\",Daten!F$2)))","v":""},{"$f":"IF(A185=\"\",\"\",IF(AA185=\"Ohne\",\"A\",IF(AA185=\"XPS\",IF(Daten!F$1=\"D\",\"B\",Daten!F$1),Daten!F$1)))","v":""},{"$f":"IF(A185=\"\",\"\",IF(AB185=\"A\",\"-\",Daten!F$7))","v":""},{"$f":"IF(A185=\"\",\"\",IF(AB185=\"A\",\"-\",IF(AND(Daten!F$8=0,O185=\"Putzbord\"),5-Q185,0)))","v":""},{"$f":"IF(A185=\"\",\"\",IF(AB185=\"A\",\"-\",IF(AND(Daten!F$8=0,S185=\"Putzbord\"),5-U185,0)))","v":""},{"$f":"IF(A185=\"\",\"\",IF(AB185=\"A\",\"-\",Daten!F$10))","v":""},{"$f":"IFERROR(IF(A185=\"\",\"\",VLOOKUP(N185,Daten!N$1:O$7,2,FALSE)),\"\")","v":""}]
[null,null,null,{"$f":"IF(A186=\"\",\"\",IF(Daten!B$3=TRUE,Daten!B$7,\"\"))","v":""},{"$f":"IFERROR(IF(C186=\"\",\"\",C186+(2*D186)+IF(O186=Daten!M$13,6,0)+IF(S186=Daten!M$13,6,0)+IF(Q186=\"-\",0,Q186)+IF(U186=\"-\",0,U186)),\"\")","v":""},{"$f":"IF(OR(A186=\"\",AND(F$1=0,Daten!F$3=FALSE)),\"\",Daten!B$6)","v":""},{"$f":"IF(A186=\"\",\"\",IF(Daten!B$5=\"??\",\"\",Daten!B$5))","v":""},{"$f":"IF(A186=\"\",\"\",IF(Daten!B$3=FALSE,\"\",Daten!B$4))","v":""},{"$f":"IFERROR(IF(A186=\"\",\"\",G186+H186+IF(AND(G186>0,H186>0),5,0))-IF(Daten!H$21=TRUE,H186,0),\"\")","v":""},{"$f":"IFERROR(IF(A186=\"\",\"\",I186+IF(Daten!H$21=TRUE,H186,0)+IF(F186=\"\",0,F186)-IF(Daten!F$3=TRUE,Daten!F$10,0)),\"\")","v":""},{"$f":"IF(A186=\"\",\"\",Daten!D$14)","v":""},{"$f":"IF(A186=\"\",\"\",Daten!D$12)","v":""},{"$f":"IF(A186=\"\",\"\",Daten!D$13)","v":""},{"$f":"IF(A186=\"\",\"\",Daten!M$2)","v":""},{"$f":"IF(A186=\"\",\"\",IF(Daten!D$6=Daten!N$11,Daten!M$11,IF(Daten!D$6=Daten!N$13,Daten!M$13,IF(AND(Daten!$D$6=Daten!$M$10,Daten!$D$8=TRUE),Daten!$M$14,Daten!D$6))))","v":""},{"$f":"IF($A186=\"\",\"\",IF(OR(O186=\"Putzbord\",O186=\"Flexila PU\"),Daten!$D$15,IF(OR(O186=\"Stehbord\",O186=\"Stehbord HB\",O186=\"Flexila STB\",O186=\"Jalousiebord\"),Daten!$D$19,\"-\")))","v":""},{"$f":"IF($A186=\"\",\"\",IF(O186=\"Putzbord\",Daten!$D$16,IF(O186=\"Flexila PU\",_xlfn.NUMBERVALUE(MID(Daten!$D$17,1,2)),\"-\")))","v":""},{"$f":"IF($A186=\"\",\"\",IF(OR(O186=\"Putzbord\",O186=\"Flexila PU\"),Daten!$D$18,IF(OR(O186=\"Stehbord\",O186=\"Stehbord HB\",O186=\"Flexila STB\",O186=\"Jalousiebord\"),Daten!$D$21,\"-\")))","v":""},{"$f":"IF(A186=\"\",\"\",IF(Daten!D$6=Daten!N$11,Daten!M$11,IF(Daten!D$6=Daten!N$13,Daten!M$13,IF(AND(Daten!$D$6=Daten!$M$10,Daten!$D$8=TRUE),Daten!$M$14,Daten!D$6))))","v":""},{"$f":"IF($A186=\"\",\"\",IF(OR(S186=\"Putzbord\",S186=\"Flexila PU\"),Daten!$D$15,IF(OR(S186=\"Stehbord\",S186=\"Stehbord HB\",S186=\"Flexila STB\",S186=\"Jalousiebord\"),Daten!$D$19,\"-\")))","v":""},{"$f":"IF($A186=\"\",\"\",IF(S186=\"Putzbord\",Daten!$D$16,IF(S186=\"Flexila PU\",_xlfn.NUMBERVALUE(MID(Daten!$D$17,1,2)),\"-\")))","v":""},{"$f":"IF($A186=\"\",\"\",IF(OR(S186=\"Putzbord\",S186=\"Flexila PU\"),Daten!$D$18,IF(OR(S186=\"Stehbord\",S186=\"Stehbord HB\",S186=\"Flexila STB\",S186=\"Jalousiebord\"),Daten!$D$21,\"-\")))","v":""},{"$f":"IF(A186=\"\",\"\",IF(AND(Daten!D$6=\"Jalousiebord\",OR(O186=\"Stehbord\",S186=\"Stehbord\")),\"Jalousienklinkung\",\"\"))","v":""},{"$f":"IF(W186=\"\",\"\",Daten!D$20)","v":""},null,null,{"$f":"IF(A186=\"\",\"\",IF(Daten!F$1=\"A\",\"Ohne\",IF(OR(N186=\"Gerstenkorn roh\",N186=\"Riffelblech roh\"),\"XPS\",Daten!F$2)))","v":""},{"$f":"IF(A186=\"\",\"\",IF(AA186=\"Ohne\",\"A\",IF(AA186=\"XPS\",IF(Daten!F$1=\"D\",\"B\",Daten!F$1),Daten!F$1)))","v":""},{"$f":"IF(A186=\"\",\"\",IF(AB186=\"A\",\"-\",Daten!F$7))","v":""},{"$f":"IF(A186=\"\",\"\",IF(AB186=\"A\",\"-\",IF(AND(Daten!F$8=0,O186=\"Putzbord\"),5-Q186,0)))","v":""},{"$f":"IF(A186=\"\",\"\",IF(AB186=\"A\",\"-\",IF(AND(Daten!F$8=0,S186=\"Putzbord\"),5-U186,0)))","v":""},{"$f":"IF(A186=\"\",\"\",IF(AB186=\"A\",\"-\",Daten!F$10))","v":""},{"$f":"IFERROR(IF(A186=\"\",\"\",VLOOKUP(N186,Daten!N$1:O$7,2,FALSE)),\"\")","v":""}]
[null,null,null,{"$f":"IF(A187=\"\",\"\",IF(Daten!B$3=TRUE,Daten!B$7,\"\"))","v":""},{"$f":"IFERROR(IF(C187=\"\",\"\",C187+(2*D187)+IF(O187=Daten!M$13,6,0)+IF(S187=Daten!M$13,6,0)+IF(Q187=\"-\",0,Q187)+IF(U187=\"-\",0,U187)),\"\")","v":""},{"$f":"IF(OR(A187=\"\",AND(F$1=0,Daten!F$3=FALSE)),\"\",Daten!B$6)","v":""},{"$f":"IF(A187=\"\",\"\",IF(Daten!B$5=\"??\",\"\",Daten!B$5))","v":""},{"$f":"IF(A187=\"\",\"\",IF(Daten!B$3=FALSE,\"\",Daten!B$4))","v":""},{"$f":"IFERROR(IF(A187=\"\",\"\",G187+H187+IF(AND(G187>0,H187>0),5,0))-IF(Daten!H$21=TRUE,H187,0),\"\")","v":""},{"$f":"IFERROR(IF(A187=\"\",\"\",I187+IF(Daten!H$21=TRUE,H187,0)+IF(F187=\"\",0,F187)-IF(Daten!F$3=TRUE,Daten!F$10,0)),\"\")","v":""},{"$f":"IF(A187=\"\",\"\",Daten!D$14)","v":""},{"$f":"IF(A187=\"\",\"\",Daten!D$12)","v":""},{"$f":"IF(A187=\"\",\"\",Daten!D$13)","v":""},{"$f":"IF(A187=\"\",\"\",Daten!M$2)","v":""},{"$f":"IF(A187=\"\",\"\",IF(Daten!D$6=Daten!N$11,Daten!M$11,IF(Daten!D$6=Daten!N$13,Daten!M$13,IF(AND(Daten!$D$6=Daten!$M$10,Daten!$D$8=TRUE),Daten!$M$14,Daten!D$6))))","v":""},{"$f":"IF($A187=\"\",\"\",IF(OR(O187=\"Putzbord\",O187=\"Flexila PU\"),Daten!$D$15,IF(OR(O187=\"Stehbord\",O187=\"Stehbord HB\",O187=\"Flexila STB\",O187=\"Jalousiebord\"),Daten!$D$19,\"-\")))","v":""},{"$f":"IF($A187=\"\",\"\",IF(O187=\"Putzbord\",Daten!$D$16,IF(O187=\"Flexila PU\",_xlfn.NUMBERVALUE(MID(Daten!$D$17,1,2)),\"-\")))","v":""},{"$f":"IF($A187=\"\",\"\",IF(OR(O187=\"Putzbord\",O187=\"Flexila PU\"),Daten!$D$18,IF(OR(O187=\"Stehbord\",O187=\"Stehbord HB\",O187=\"Flexila STB\",O187=\"Jalousiebord\"),Daten!$D$21,\"-\")))","v":""},{"$f":"IF(A187=\"\",\"\",IF(Daten!D$6=Daten!N$11,Daten!M$11,IF(Daten!D$6=Daten!N$13,Daten!M$13,IF(AND(Daten!$D$6=Daten!$M$10,Daten!$D$8=TRUE),Daten!$M$14,Daten!D$6))))","v":""},{"$f":"IF($A187=\"\",\"\",IF(OR(S187=\"Putzbord\",S187=\"Flexila PU\"),Daten!$D$15,IF(OR(S187=\"Stehbord\",S187=\"Stehbord HB\",S187=\"Flexila STB\",S187=\"Jalousiebord\"),Daten!$D$19,\"-\")))","v":""},{"$f":"IF($A187=\"\",\"\",IF(S187=\"Putzbord\",Daten!$D$16,IF(S187=\"Flexila PU\",_xlfn.NUMBERVALUE(MID(Daten!$D$17,1,2)),\"-\")))","v":""},{"$f":"IF($A187=\"\",\"\",IF(OR(S187=\"Putzbord\",S187=\"Flexila PU\"),Daten!$D$18,IF(OR(S187=\"Stehbord\",S187=\"Stehbord HB\",S187=\"Flexila STB\",S187=\"Jalousiebord\"),Daten!$D$21,\"-\")))","v":""},{"$f":"IF(A187=\"\",\"\",IF(AND(Daten!D$6=\"Jalousiebord\",OR(O187=\"Stehbord\",S187=\"Stehbord\")),\"Jalousienklinkung\",\"\"))","v":""},{"$f":"IF(W187=\"\",\"\",Daten!D$20)","v":""},null,null,{"$f":"IF(A187=\"\",\"\",IF(Daten!F$1=\"A\",\"Ohne\",IF(OR(N187=\"Gerstenkorn roh\",N187=\"Riffelblech roh\"),\"XPS\",Daten!F$2)))","v":""},{"$f":"IF(A187=\"\",\"\",IF(AA187=\"Ohne\",\"A\",IF(AA187=\"XPS\",IF(Daten!F$1=\"D\",\"B\",Daten!F$1),Daten!F$1)))","v":""},{"$f":"IF(A187=\"\",\"\",IF(AB187=\"A\",\"-\",Daten!F$7))","v":""},{"$f":"IF(A187=\"\",\"\",IF(AB187=\"A\",\"-\",IF(AND(Daten!F$8=0,O187=\"Putzbord\"),5-Q187,0)))","v":""},{"$f":"IF(A187=\"\",\"\",IF(AB187=\"A\",\"-\",IF(AND(Daten!F$8=0,S187=\"Putzbord\"),5-U187,0)))","v":""},{"$f":"IF(A187=\"\",\"\",IF(AB187=\"A\",\"-\",Daten!F$10))","v":""},{"$f":"IFERROR(IF(A187=\"\",\"\",VLOOKUP(N187,Daten!N$1:O$7,2,FALSE)),\"\")","v":""}]
[null,null,null,{"$f":"IF(A188=\"\",\"\",IF(Daten!B$3=TRUE,Daten!B$7,\"\"))","v":""},{"$f":"IFERROR(IF(C188=\"\",\"\",C188+(2*D188)+IF(O188=Daten!M$13,6,0)+IF(S188=Daten!M$13,6,0)+IF(Q188=\"-\",0,Q188)+IF(U188=\"-\",0,U188)),\"\")","v":""},{"$f":"IF(OR(A188=\"\",AND(F$1=0,Daten!F$3=FALSE)),\"\",Daten!B$6)","v":""},{"$f":"IF(A188=\"\",\"\",IF(Daten!B$5=\"??\",\"\",Daten!B$5))","v":""},{"$f":"IF(A188=\"\",\"\",IF(Daten!B$3=FALSE,\"\",Daten!B$4))","v":""},{"$f":"IFERROR(IF(A188=\"\",\"\",G188+H188+IF(AND(G188>0,H188>0),5,0))-IF(Daten!H$21=TRUE,H188,0),\"\")","v":""},{"$f":"IFERROR(IF(A188=\"\",\"\",I188+IF(Daten!H$21=TRUE,H188,0)+IF(F188=\"\",0,F188)-IF(Daten!F$3=TRUE,Daten!F$10,0)),\"\")","v":""},{"$f":"IF(A188=\"\",\"\",Daten!D$14)","v":""},{"$f":"IF(A188=\"\",\"\",Daten!D$12)","v":""},{"$f":"IF(A188=\"\",\"\",Daten!D$13)","v":""},{"$f":"IF(A188=\"\",\"\",Daten!M$2)","v":""},{"$f":"IF(A188=\"\",\"\",IF(Daten!D$6=Daten!N$11,Daten!M$11,IF(Daten!D$6=Daten!N$13,Daten!M$13,IF(AND(Daten!$D$6=Daten!$M$10,Daten!$D$8=TRUE),Daten!$M$14,Daten!D$6))))","v":""},{"$f":"IF($A188=\"\",\"\",IF(OR(O188=\"Putzbord\",O188=\"Flexila PU\"),Daten!$D$15,IF(OR(O188=\"Stehbord\",O188=\"Stehbord HB\",O188=\"Flexila STB\",O188=\"Jalousiebord\"),Daten!$D$19,\"-\")))","v":""},{"$f":"IF($A188=\"\",\"\",IF(O188=\"Putzbord\",Daten!$D$16,IF(O188=\"Flexila PU\",_xlfn.NUMBERVALUE(MID(Daten!$D$17,1,2)),\"-\")))","v":""},{"$f":"IF($A188=\"\",\"\",IF(OR(O188=\"Putzbord\",O188=\"Flexila PU\"),Daten!$D$18,IF(OR(O188=\"Stehbord\",O188=\"Stehbord HB\",O188=\"Flexila STB\",O188=\"Jalousiebord\"),Daten!$D$21,\"-\")))","v":""},{"$f":"IF(A188=\"\",\"\",IF(Daten!D$6=Daten!N$11,Daten!M$11,IF(Daten!D$6=Daten!N$13,Daten!M$13,IF(AND(Daten!$D$6=Daten!$M$10,Daten!$D$8=TRUE),Daten!$M$14,Daten!D$6))))","v":""},{"$f":"IF($A188=\"\",\"\",IF(OR(S188=\"Putzbord\",S188=\"Flexila PU\"),Daten!$D$15,IF(OR(S188=\"Stehbord\",S188=\"Stehbord HB\",S188=\"Flexila STB\",S188=\"Jalousiebord\"),Daten!$D$19,\"-\")))","v":""},{"$f":"IF($A188=\"\",\"\",IF(S188=\"Putzbord\",Daten!$D$16,IF(S188=\"Flexila PU\",_xlfn.NUMBERVALUE(MID(Daten!$D$17,1,2)),\"-\")))","v":""},{"$f":"IF($A188=\"\",\"\",IF(OR(S188=\"Putzbord\",S188=\"Flexila PU\"),Daten!$D$18,IF(OR(S188=\"Stehbord\",S188=\"Stehbord HB\",S188=\"Flexila STB\",S188=\"Jalousiebord\"),Daten!$D$21,\"-\")))","v":""},{"$f":"IF(A188=\"\",\"\",IF(AND(Daten!D$6=\"Jalousiebord\",OR(O188=\"Stehbord\",S188=\"Stehbord\")),\"Jalousienklinkung\",\"\"))","v":""},{"$f":"IF(W188=\"\",\"\",Daten!D$20)","v":""},null,null,{"$f":"IF(A188=\"\",\"\",IF(Daten!F$1=\"A\",\"Ohne\",IF(OR(N188=\"Gerstenkorn roh\",N188=\"Riffelblech roh\"),\"XPS\",Daten!F$2)))","v":""},{"$f":"IF(A188=\"\",\"\",IF(AA188=\"Ohne\",\"A\",IF(AA188=\"XPS\",IF(Daten!F$1=\"D\",\"B\",Daten!F$1),Daten!F$1)))","v":""},{"$f":"IF(A188=\"\",\"\",IF(AB188=\"A\",\"-\",Daten!F$7))","v":""},{"$f":"IF(A188=\"\",\"\",IF(AB188=\"A\",\"-\",IF(AND(Daten!F$8=0,O188=\"Putzbord\"),5-Q188,0)))","v":""},{"$f":"IF(A188=\"\",\"\",IF(AB188=\"A\",\"-\",IF(AND(Daten!F$8=0,S188=\"Putzbord\"),5-U188,0)))","v":""},{"$f":"IF(A188=\"\",\"\",IF(AB188=\"A\",\"-\",Daten!F$10))","v":""},{"$f":"IFERROR(IF(A188=\"\",\"\",VLOOKUP(N188,Daten!N$1:O$7,2,FALSE)),\"\")","v":""}]
[null,null,null,{"$f":"IF(A189=\"\",\"\",IF(Daten!B$3=TRUE,Daten!B$7,\"\"))","v":""},{"$f":"IFERROR(IF(C189=\"\",\"\",C189+(2*D189)+IF(O189=Daten!M$13,6,0)+IF(S189=Daten!M$13,6,0)+IF(Q189=\"-\",0,Q189)+IF(U189=\"-\",0,U189)),\"\")","v":""},{"$f":"IF(OR(A189=\"\",AND(F$1=0,Daten!F$3=FALSE)),\"\",Daten!B$6)","v":""},{"$f":"IF(A189=\"\",\"\",IF(Daten!B$5=\"??\",\"\",Daten!B$5))","v":""},{"$f":"IF(A189=\"\",\"\",IF(Daten!B$3=FALSE,\"\",Daten!B$4))","v":""},{"$f":"IFERROR(IF(A189=\"\",\"\",G189+H189+IF(AND(G189>0,H189>0),5,0))-IF(Daten!H$21=TRUE,H189,0),\"\")","v":""},{"$f":"IFERROR(IF(A189=\"\",\"\",I189+IF(Daten!H$21=TRUE,H189,0)+IF(F189=\"\",0,F189)-IF(Daten!F$3=TRUE,Daten!F$10,0)),\"\")","v":""},{"$f":"IF(A189=\"\",\"\",Daten!D$14)","v":""},{"$f":"IF(A189=\"\",\"\",Daten!D$12)","v":""},{"$f":"IF(A189=\"\",\"\",Daten!D$13)","v":""},{"$f":"IF(A189=\"\",\"\",Daten!M$2)","v":""},{"$f":"IF(A189=\"\",\"\",IF(Daten!D$6=Daten!N$11,Daten!M$11,IF(Daten!D$6=Daten!N$13,Daten!M$13,IF(AND(Daten!$D$6=Daten!$M$10,Daten!$D$8=TRUE),Daten!$M$14,Daten!D$6))))","v":""},{"$f":"IF($A189=\"\",\"\",IF(OR(O189=\"Putzbord\",O189=\"Flexila PU\"),Daten!$D$15,IF(OR(O189=\"Stehbord\",O189=\"Stehbord HB\",O189=\"Flexila STB\",O189=\"Jalousiebord\"),Daten!$D$19,\"-\")))","v":""},{"$f":"IF($A189=\"\",\"\",IF(O189=\"Putzbord\",Daten!$D$16,IF(O189=\"Flexila PU\",_xlfn.NUMBERVALUE(MID(Daten!$D$17,1,2)),\"-\")))","v":""},{"$f":"IF($A189=\"\",\"\",IF(OR(O189=\"Putzbord\",O189=\"Flexila PU\"),Daten!$D$18,IF(OR(O189=\"Stehbord\",O189=\"Stehbord HB\",O189=\"Flexila STB\",O189=\"Jalousiebord\"),Daten!$D$21,\"-\")))","v":""},{"$f":"IF(A189=\"\",\"\",IF(Daten!D$6=Daten!N$11,Daten!M$11,IF(Daten!D$6=Daten!N$13,Daten!M$13,IF(AND(Daten!$D$6=Daten!$M$10,Daten!$D$8=TRUE),Daten!$M$14,Daten!D$6))))","v":""},{"$f":"IF($A189=\"\",\"\",IF(OR(S189=\"Putzbord\",S189=\"Flexila PU\"),Daten!$D$15,IF(OR(S189=\"Stehbord\",S189=\"Stehbord HB\",S189=\"Flexila STB\",S189=\"Jalousiebord\"),Daten!$D$19,\"-\")))","v":""},{"$f":"IF($A189=\"\",\"\",IF(S189=\"Putzbord\",Daten!$D$16,IF(S189=\"Flexila PU\",_xlfn.NUMBERVALUE(MID(Daten!$D$17,1,2)),\"-\")))","v":""},{"$f":"IF($A189=\"\",\"\",IF(OR(S189=\"Putzbord\",S189=\"Flexila PU\"),Daten!$D$18,IF(OR(S189=\"Stehbord\",S189=\"Stehbord HB\",S189=\"Flexila STB\",S189=\"Jalousiebord\"),Daten!$D$21,\"-\")))","v":""},{"$f":"IF(A189=\"\",\"\",IF(AND(Daten!D$6=\"Jalousiebord\",OR(O189=\"Stehbord\",S189=\"Stehbord\")),\"Jalousienklinkung\",\"\"))","v":""},{"$f":"IF(W189=\"\",\"\",Daten!D$20)","v":""},null,null,{"$f":"IF(A189=\"\",\"\",IF(Daten!F$1=\"A\",\"Ohne\",IF(OR(N189=\"Gerstenkorn roh\",N189=\"Riffelblech roh\"),\"XPS\",Daten!F$2)))","v":""},{"$f":"IF(A189=\"\",\"\",IF(AA189=\"Ohne\",\"A\",IF(AA189=\"XPS\",IF(Daten!F$1=\"D\",\"B\",Daten!F$1),Daten!F$1)))","v":""},{"$f":"IF(A189=\"\",\"\",IF(AB189=\"A\",\"-\",Daten!F$7))","v":""},{"$f":"IF(A189=\"\",\"\",IF(AB189=\"A\",\"-\",IF(AND(Daten!F$8=0,O189=\"Putzbord\"),5-Q189,0)))","v":""},{"$f":"IF(A189=\"\",\"\",IF(AB189=\"A\",\"-\",IF(AND(Daten!F$8=0,S189=\"Putzbord\"),5-U189,0)))","v":""},{"$f":"IF(A189=\"\",\"\",IF(AB189=\"A\",\"-\",Daten!F$10))","v":""},{"$f":"IFERROR(IF(A189=\"\",\"\",VLOOKUP(N189,Daten!N$1:O$7,2,FALSE)),\"\")","v":""}]
[null,null,null,{"$f":"IF(A190=\"\",\"\",IF(Daten!B$3=TRUE,Daten!B$7,\"\"))","v":""},{"$f":"IFERROR(IF(C190=\"\",\"\",C190+(2*D190)+IF(O190=Daten!M$13,6,0)+IF(S190=Daten!M$13,6,0)+IF(Q190=\"-\",0,Q190)+IF(U190=\"-\",0,U190)),\"\")","v":""},{"$f":"IF(OR(A190=\"\",AND(F$1=0,Daten!F$3=FALSE)),\"\",Daten!B$6)","v":""},{"$f":"IF(A190=\"\",\"\",IF(Daten!B$5=\"??\",\"\",Daten!B$5))","v":""},{"$f":"IF(A190=\"\",\"\",IF(Daten!B$3=FALSE,\"\",Daten!B$4))","v":""},{"$f":"IFERROR(IF(A190=\"\",\"\",G190+H190+IF(AND(G190>0,H190>0),5,0))-IF(Daten!H$21=TRUE,H190,0),\"\")","v":""},{"$f":"IFERROR(IF(A190=\"\",\"\",I190+IF(Daten!H$21=TRUE,H190,0)+IF(F190=\"\",0,F190)-IF(Daten!F$3=TRUE,Daten!F$10,0)),\"\")","v":""},{"$f":"IF(A190=\"\",\"\",Daten!D$14)","v":""},{"$f":"IF(A190=\"\",\"\",Daten!D$12)","v":""},{"$f":"IF(A190=\"\",\"\",Daten!D$13)","v":""},{"$f":"IF(A190=\"\",\"\",Daten!M$2)","v":""},{"$f":"IF(A190=\"\",\"\",IF(Daten!D$6=Daten!N$11,Daten!M$11,IF(Daten!D$6=Daten!N$13,Daten!M$13,IF(AND(Daten!$D$6=Daten!$M$10,Daten!$D$8=TRUE),Daten!$M$14,Daten!D$6))))","v":""},{"$f":"IF($A190=\"\",\"\",IF(OR(O190=\"Putzbord\",O190=\"Flexila PU\"),Daten!$D$15,IF(OR(O190=\"Stehbord\",O190=\"Stehbord HB\",O190=\"Flexila STB\",O190=\"Jalousiebord\"),Daten!$D$19,\"-\")))","v":""},{"$f":"IF($A190=\"\",\"\",IF(O190=\"Putzbord\",Daten!$D$16,IF(O190=\"Flexila PU\",_xlfn.NUMBERVALUE(MID(Daten!$D$17,1,2)),\"-\")))","v":""},{"$f":"IF($A190=\"\",\"\",IF(OR(O190=\"Putzbord\",O190=\"Flexila PU\"),Daten!$D$18,IF(OR(O190=\"Stehbord\",O190=\"Stehbord HB\",O190=\"Flexila STB\",O190=\"Jalousiebord\"),Daten!$D$21,\"-\")))","v":""},{"$f":"IF(A190=\"\",\"\",IF(Daten!D$6=Daten!N$11,Daten!M$11,IF(Daten!D$6=Daten!N$13,Daten!M$13,IF(AND(Daten!$D$6=Daten!$M$10,Daten!$D$8=TRUE),Daten!$M$14,Daten!D$6))))","v":""},{"$f":"IF($A190=\"\",\"\",IF(OR(S190=\"Putzbord\",S190=\"Flexila PU\"),Daten!$D$15,IF(OR(S190=\"Stehbord\",S190=\"Stehbord HB\",S190=\"Flexila STB\",S190=\"Jalousiebord\"),Daten!$D$19,\"-\")))","v":""},{"$f":"IF($A190=\"\",\"\",IF(S190=\"Putzbord\",Daten!$D$16,IF(S190=\"Flexila PU\",_xlfn.NUMBERVALUE(MID(Daten!$D$17,1,2)),\"-\")))","v":""},{"$f":"IF($A190=\"\",\"\",IF(OR(S190=\"Putzbord\",S190=\"Flexila PU\"),Daten!$D$18,IF(OR(S190=\"Stehbord\",S190=\"Stehbord HB\",S190=\"Flexila STB\",S190=\"Jalousiebord\"),Daten!$D$21,\"-\")))","v":""},{"$f":"IF(A190=\"\",\"\",IF(AND(Daten!D$6=\"Jalousiebord\",OR(O190=\"Stehbord\",S190=\"Stehbord\")),\"Jalousienklinkung\",\"\"))","v":""},{"$f":"IF(W190=\"\",\"\",Daten!D$20)","v":""},null,null,{"$f":"IF(A190=\"\",\"\",IF(Daten!F$1=\"A\",\"Ohne\",IF(OR(N190=\"Gerstenkorn roh\",N190=\"Riffelblech roh\"),\"XPS\",Daten!F$2)))","v":""},{"$f":"IF(A190=\"\",\"\",IF(AA190=\"Ohne\",\"A\",IF(AA190=\"XPS\",IF(Daten!F$1=\"D\",\"B\",Daten!F$1),Daten!F$1)))","v":""},{"$f":"IF(A190=\"\",\"\",IF(AB190=\"A\",\"-\",Daten!F$7))","v":""},{"$f":"IF(A190=\"\",\"\",IF(AB190=\"A\",\"-\",IF(AND(Daten!F$8=0,O190=\"Putzbord\"),5-Q190,0)))","v":""},{"$f":"IF(A190=\"\",\"\",IF(AB190=\"A\",\"-\",IF(AND(Daten!F$8=0,S190=\"Putzbord\"),5-U190,0)))","v":""},{"$f":"IF(A190=\"\",\"\",IF(AB190=\"A\",\"-\",Daten!F$10))","v":""},{"$f":"IFERROR(IF(A190=\"\",\"\",VLOOKUP(N190,Daten!N$1:O$7,2,FALSE)),\"\")","v":""}]
[null,null,null,{"$f":"IF(A191=\"\",\"\",IF(Daten!B$3=TRUE,Daten!B$7,\"\"))","v":""},{"$f":"IFERROR(IF(C191=\"\",\"\",C191+(2*D191)+IF(O191=Daten!M$13,6,0)+IF(S191=Daten!M$13,6,0)+IF(Q191=\"-\",0,Q191)+IF(U191=\"-\",0,U191)),\"\")","v":""},{"$f":"IF(OR(A191=\"\",AND(F$1=0,Daten!F$3=FALSE)),\"\",Daten!B$6)","v":""},{"$f":"IF(A191=\"\",\"\",IF(Daten!B$5=\"??\",\"\",Daten!B$5))","v":""},{"$f":"IF(A191=\"\",\"\",IF(Daten!B$3=FALSE,\"\",Daten!B$4))","v":""},{"$f":"IFERROR(IF(A191=\"\",\"\",G191+H191+IF(AND(G191>0,H191>0),5,0))-IF(Daten!H$21=TRUE,H191,0),\"\")","v":""},{"$f":"IFERROR(IF(A191=\"\",\"\",I191+IF(Daten!H$21=TRUE,H191,0)+IF(F191=\"\",0,F191)-IF(Daten!F$3=TRUE,Daten!F$10,0)),\"\")","v":""},{"$f":"IF(A191=\"\",\"\",Daten!D$14)","v":""},{"$f":"IF(A191=\"\",\"\",Daten!D$12)","v":""},{"$f":"IF(A191=\"\",\"\",Daten!D$13)","v":""},{"$f":"IF(A191=\"\",\"\",Daten!M$2)","v":""},{"$f":"IF(A191=\"\",\"\",IF(Daten!D$6=Daten!N$11,Daten!M$11,IF(Daten!D$6=Daten!N$13,Daten!M$13,IF(AND(Daten!$D$6=Daten!$M$10,Daten!$D$8=TRUE),Daten!$M$14,Daten!D$6))))","v":""},{"$f":"IF($A191=\"\",\"\",IF(OR(O191=\"Putzbord\",O191=\"Flexila PU\"),Daten!$D$15,IF(OR(O191=\"Stehbord\",O191=\"Stehbord HB\",O191=\"Flexila STB\",O191=\"Jalousiebord\"),Daten!$D$19,\"-\")))","v":""},{"$f":"IF($A191=\"\",\"\",IF(O191=\"Putzbord\",Daten!$D$16,IF(O191=\"Flexila PU\",_xlfn.NUMBERVALUE(MID(Daten!$D$17,1,2)),\"-\")))","v":""},{"$f":"IF($A191=\"\",\"\",IF(OR(O191=\"Putzbord\",O191=\"Flexila PU\"),Daten!$D$18,IF(OR(O191=\"Stehbord\",O191=\"Stehbord HB\",O191=\"Flexila STB\",O191=\"Jalousiebord\"),Daten!$D$21,\"-\")))","v":""},{"$f":"IF(A191=\"\",\"\",IF(Daten!D$6=Daten!N$11,Daten!M$11,IF(Daten!D$6=Daten!N$13,Daten!M$13,IF(AND(Daten!$D$6=Daten!$M$10,Daten!$D$8=TRUE),Daten!$M$14,Daten!D$6))))","v":""},{"$f":"IF($A191=\"\",\"\",IF(OR(S191=\"Putzbord\",S191=\"Flexila PU\"),Daten!$D$15,IF(OR(S191=\"Stehbord\",S191=\"Stehbord HB\",S191=\"Flexila STB\",S191=\"Jalousiebord\"),Daten!$D$19,\"-\")))","v":""},{"$f":"IF($A191=\"\",\"\",IF(S191=\"Putzbord\",Daten!$D$16,IF(S191=\"Flexila PU\",_xlfn.NUMBERVALUE(MID(Daten!$D$17,1,2)),\"-\")))","v":""},{"$f":"IF($A191=\"\",\"\",IF(OR(S191=\"Putzbord\",S191=\"Flexila PU\"),Daten!$D$18,IF(OR(S191=\"Stehbord\",S191=\"Stehbord HB\",S191=\"Flexila STB\",S191=\"Jalousiebord\"),Daten!$D$21,\"-\")))","v":""},{"$f":"IF(A191=\"\",\"\",IF(AND(Daten!D$6=\"Jalousiebord\",OR(O191=\"Stehbord\",S191=\"Stehbord\")),\"Jalousienklinkung\",\"\"))","v":""},{"$f":"IF(W191=\"\",\"\",Daten!D$20)","v":""},null,null,{"$f":"IF(A191=\"\",\"\",IF(Daten!F$1=\"A\",\"Ohne\",IF(OR(N191=\"Gerstenkorn roh\",N191=\"Riffelblech roh\"),\"XPS\",Daten!F$2)))","v":""},{"$f":"IF(A191=\"\",\"\",IF(AA191=\"Ohne\",\"A\",IF(AA191=\"XPS\",IF(Daten!F$1=\"D\",\"B\",Daten!F$1),Daten!F$1)))","v":""},{"$f":"IF(A191=\"\",\"\",IF(AB191=\"A\",\"-\",Daten!F$7))","v":""},{"$f":"IF(A191=\"\",\"\",IF(AB191=\"A\",\"-\",IF(AND(Daten!F$8=0,O191=\"Putzbord\"),5-Q191,0)))","v":""},{"$f":"IF(A191=\"\",\"\",IF(AB191=\"A\",\"-\",IF(AND(Daten!F$8=0,S191=\"Putzbord\"),5-U191,0)))","v":""},{"$f":"IF(A191=\"\",\"\",IF(AB191=\"A\",\"-\",Daten!F$10))","v":""},{"$f":"IFERROR(IF(A191=\"\",\"\",VLOOKUP(N191,Daten!N$1:O$7,2,FALSE)),\"\")","v":""}]
[null,null,null,{"$f":"IF(A192=\"\",\"\",IF(Daten!B$3=TRUE,Daten!B$7,\"\"))","v":""},{"$f":"IFERROR(IF(C192=\"\",\"\",C192+(2*D192)+IF(O192=Daten!M$13,6,0)+IF(S192=Daten!M$13,6,0)+IF(Q192=\"-\",0,Q192)+IF(U192=\"-\",0,U192)),\"\")","v":""},{"$f":"IF(OR(A192=\"\",AND(F$1=0,Daten!F$3=FALSE)),\"\",Daten!B$6)","v":""},{"$f":"IF(A192=\"\",\"\",IF(Daten!B$5=\"??\",\"\",Daten!B$5))","v":""},{"$f":"IF(A192=\"\",\"\",IF(Daten!B$3=FALSE,\"\",Daten!B$4))","v":""},{"$f":"IFERROR(IF(A192=\"\",\"\",G192+H192+IF(AND(G192>0,H192>0),5,0))-IF(Daten!H$21=TRUE,H192,0),\"\")","v":""},{"$f":"IFERROR(IF(A192=\"\",\"\",I192+IF(Daten!H$21=TRUE,H192,0)+IF(F192=\"\",0,F192)-IF(Daten!F$3=TRUE,Daten!F$10,0)),\"\")","v":""},{"$f":"IF(A192=\"\",\"\",Daten!D$14)","v":""},{"$f":"IF(A192=\"\",\"\",Daten!D$12)","v":""},{"$f":"IF(A192=\"\",\"\",Daten!D$13)","v":""},{"$f":"IF(A192=\"\",\"\",Daten!M$2)","v":""},{"$f":"IF(A192=\"\",\"\",IF(Daten!D$6=Daten!N$11,Daten!M$11,IF(Daten!D$6=Daten!N$13,Daten!M$13,IF(AND(Daten!$D$6=Daten!$M$10,Daten!$D$8=TRUE),Daten!$M$14,Daten!D$6))))","v":""},{"$f":"IF($A192=\"\",\"\",IF(OR(O192=\"Putzbord\",O192=\"Flexila PU\"),Daten!$D$15,IF(OR(O192=\"Stehbord\",O192=\"Stehbord HB\",O192=\"Flexila STB\",O192=\"Jalousiebord\"),Daten!$D$19,\"-\")))","v":""},{"$f":"IF($A192=\"\",\"\",IF(O192=\"Putzbord\",Daten!$D$16,IF(O192=\"Flexila PU\",_xlfn.NUMBERVALUE(MID(Daten!$D$17,1,2)),\"-\")))","v":""},{"$f":"IF($A192=\"\",\"\",IF(OR(O192=\"Putzbord\",O192=\"Flexila PU\"),Daten!$D$18,IF(OR(O192=\"Stehbord\",O192=\"Stehbord HB\",O192=\"Flexila STB\",O192=\"Jalousiebord\"),Daten!$D$21,\"-\")))","v":""},{"$f":"IF(A192=\"\",\"\",IF(Daten!D$6=Daten!N$11,Daten!M$11,IF(Daten!D$6=Daten!N$13,Daten!M$13,IF(AND(Daten!$D$6=Daten!$M$10,Daten!$D$8=TRUE),Daten!$M$14,Daten!D$6))))","v":""},{"$f":"IF($A192=\"\",\"\",IF(OR(S192=\"Putzbord\",S192=\"Flexila PU\"),Daten!$D$15,IF(OR(S192=\"Stehbord\",S192=\"Stehbord HB\",S192=\"Flexila STB\",S192=\"Jalousiebord\"),Daten!$D$19,\"-\")))","v":""},{"$f":"IF($A192=\"\",\"\",IF(S192=\"Putzbord\",Daten!$D$16,IF(S192=\"Flexila PU\",_xlfn.NUMBERVALUE(MID(Daten!$D$17,1,2)),\"-\")))","v":""},{"$f":"IF($A192=\"\",\"\",IF(OR(S192=\"Putzbord\",S192=\"Flexila PU\"),Daten!$D$18,IF(OR(S192=\"Stehbord\",S192=\"Stehbord HB\",S192=\"Flexila STB\",S192=\"Jalousiebord\"),Daten!$D$21,\"-\")))","v":""},{"$f":"IF(A192=\"\",\"\",IF(AND(Daten!D$6=\"Jalousiebord\",OR(O192=\"Stehbord\",S192=\"Stehbord\")),\"Jalousienklinkung\",\"\"))","v":""},{"$f":"IF(W192=\"\",\"\",Daten!D$20)","v":""},null,null,{"$f":"IF(A192=\"\",\"\",IF(Daten!F$1=\"A\",\"Ohne\",IF(OR(N192=\"Gerstenkorn roh\",N192=\"Riffelblech roh\"),\"XPS\",Daten!F$2)))","v":""},{"$f":"IF(A192=\"\",\"\",IF(AA192=\"Ohne\",\"A\",IF(AA192=\"XPS\",IF(Daten!F$1=\"D\",\"B\",Daten!F$1),Daten!F$1)))","v":""},{"$f":"IF(A192=\"\",\"\",IF(AB192=\"A\",\"-\",Daten!F$7))","v":""},{"$f":"IF(A192=\"\",\"\",IF(AB192=\"A\",\"-\",IF(AND(Daten!F$8=0,O192=\"Putzbord\"),5-Q192,0)))","v":""},{"$f":"IF(A192=\"\",\"\",IF(AB192=\"A\",\"-\",IF(AND(Daten!F$8=0,S192=\"Putzbord\"),5-U192,0)))","v":""},{"$f":"IF(A192=\"\",\"\",IF(AB192=\"A\",\"-\",Daten!F$10))","v":""},{"$f":"IFERROR(IF(A192=\"\",\"\",VLOOKUP(N192,Daten!N$1:O$7,2,FALSE)),\"\")","v":""}]
[null,null,null,{"$f":"IF(A193=\"\",\"\",IF(Daten!B$3=TRUE,Daten!B$7,\"\"))","v":""},{"$f":"IFERROR(IF(C193=\"\",\"\",C193+(2*D193)+IF(O193=Daten!M$13,6,0)+IF(S193=Daten!M$13,6,0)+IF(Q193=\"-\",0,Q193)+IF(U193=\"-\",0,U193)),\"\")","v":""},{"$f":"IF(OR(A193=\"\",AND(F$1=0,Daten!F$3=FALSE)),\"\",Daten!B$6)","v":""},{"$f":"IF(A193=\"\",\"\",IF(Daten!B$5=\"??\",\"\",Daten!B$5))","v":""},{"$f":"IF(A193=\"\",\"\",IF(Daten!B$3=FALSE,\"\",Daten!B$4))","v":""},{"$f":"IFERROR(IF(A193=\"\",\"\",G193+H193+IF(AND(G193>0,H193>0),5,0))-IF(Daten!H$21=TRUE,H193,0),\"\")","v":""},{"$f":"IFERROR(IF(A193=\"\",\"\",I193+IF(Daten!H$21=TRUE,H193,0)+IF(F193=\"\",0,F193)-IF(Daten!F$3=TRUE,Daten!F$10,0)),\"\")","v":""},{"$f":"IF(A193=\"\",\"\",Daten!D$14)","v":""},{"$f":"IF(A193=\"\",\"\",Daten!D$12)","v":""},{"$f":"IF(A193=\"\",\"\",Daten!D$13)","v":""},{"$f":"IF(A193=\"\",\"\",Daten!M$2)","v":""},{"$f":"IF(A193=\"\",\"\",IF(Daten!D$6=Daten!N$11,Daten!M$11,IF(Daten!D$6=Daten!N$13,Daten!M$13,IF(AND(Daten!$D$6=Daten!$M$10,Daten!$D$8=TRUE),Daten!$M$14,Daten!D$6))))","v":""},{"$f":"IF($A193=\"\",\"\",IF(OR(O193=\"Putzbord\",O193=\"Flexila PU\"),Daten!$D$15,IF(OR(O193=\"Stehbord\",O193=\"Stehbord HB\",O193=\"Flexila STB\",O193=\"Jalousiebord\"),Daten!$D$19,\"-\")))","v":""},{"$f":"IF($A193=\"\",\"\",IF(O193=\"Putzbord\",Daten!$D$16,IF(O193=\"Flexila PU\",_xlfn.NUMBERVALUE(MID(Daten!$D$17,1,2)),\"-\")))","v":""},{"$f":"IF($A193=\"\",\"\",IF(OR(O193=\"Putzbord\",O193=\"Flexila PU\"),Daten!$D$18,IF(OR(O193=\"Stehbord\",O193=\"Stehbord HB\",O193=\"Flexila STB\",O193=\"Jalousiebord\"),Daten!$D$21,\"-\")))","v":""},{"$f":"IF(A193=\"\",\"\",IF(Daten!D$6=Daten!N$11,Daten!M$11,IF(Daten!D$6=Daten!N$13,Daten!M$13,IF(AND(Daten!$D$6=Daten!$M$10,Daten!$D$8=TRUE),Daten!$M$14,Daten!D$6))))","v":""},{"$f":"IF($A193=\"\",\"\",IF(OR(S193=\"Putzbord\",S193=\"Flexila PU\"),Daten!$D$15,IF(OR(S193=\"Stehbord\",S193=\"Stehbord HB\",S193=\"Flexila STB\",S193=\"Jalousiebord\"),Daten!$D$19,\"-\")))","v":""},{"$f":"IF($A193=\"\",\"\",IF(S193=\"Putzbord\",Daten!$D$16,IF(S193=\"Flexila PU\",_xlfn.NUMBERVALUE(MID(Daten!$D$17,1,2)),\"-\")))","v":""},{"$f":"IF($A193=\"\",\"\",IF(OR(S193=\"Putzbord\",S193=\"Flexila PU\"),Daten!$D$18,IF(OR(S193=\"Stehbord\",S193=\"Stehbord HB\",S193=\"Flexila STB\",S193=\"Jalousiebord\"),Daten!$D$21,\"-\")))","v":""},{"$f":"IF(A193=\"\",\"\",IF(AND(Daten!D$6=\"Jalousiebord\",OR(O193=\"Stehbord\",S193=\"Stehbord\")),\"Jalousienklinkung\",\"\"))","v":""},{"$f":"IF(W193=\"\",\"\",Daten!D$20)","v":""},null,null,{"$f":"IF(A193=\"\",\"\",IF(Daten!F$1=\"A\",\"Ohne\",IF(OR(N193=\"Gerstenkorn roh\",N193=\"Riffelblech roh\"),\"XPS\",Daten!F$2)))","v":""},{"$f":"IF(A193=\"\",\"\",IF(AA193=\"Ohne\",\"A\",IF(AA193=\"XPS\",IF(Daten!F$1=\"D\",\"B\",Daten!F$1),Daten!F$1)))","v":""},{"$f":"IF(A193=\"\",\"\",IF(AB193=\"A\",\"-\",Daten!F$7))","v":""},{"$f":"IF(A193=\"\",\"\",IF(AB193=\"A\",\"-\",IF(AND(Daten!F$8=0,O193=\"Putzbord\"),5-Q193,0)))","v":""},{"$f":"IF(A193=\"\",\"\",IF(AB193=\"A\",\"-\",IF(AND(Daten!F$8=0,S193=\"Putzbord\"),5-U193,0)))","v":""},{"$f":"IF(A193=\"\",\"\",IF(AB193=\"A\",\"-\",Daten!F$10))","v":""},{"$f":"IFERROR(IF(A193=\"\",\"\",VLOOKUP(N193,Daten!N$1:O$7,2,FALSE)),\"\")","v":""}]
[null,null,null,{"$f":"IF(A194=\"\",\"\",IF(Daten!B$3=TRUE,Daten!B$7,\"\"))","v":""},{"$f":"IFERROR(IF(C194=\"\",\"\",C194+(2*D194)+IF(O194=Daten!M$13,6,0)+IF(S194=Daten!M$13,6,0)+IF(Q194=\"-\",0,Q194)+IF(U194=\"-\",0,U194)),\"\")","v":""},{"$f":"IF(OR(A194=\"\",AND(F$1=0,Daten!F$3=FALSE)),\"\",Daten!B$6)","v":""},{"$f":"IF(A194=\"\",\"\",IF(Daten!B$5=\"??\",\"\",Daten!B$5))","v":""},{"$f":"IF(A194=\"\",\"\",IF(Daten!B$3=FALSE,\"\",Daten!B$4))","v":""},{"$f":"IFERROR(IF(A194=\"\",\"\",G194+H194+IF(AND(G194>0,H194>0),5,0))-IF(Daten!H$21=TRUE,H194,0),\"\")","v":""},{"$f":"IFERROR(IF(A194=\"\",\"\",I194+IF(Daten!H$21=TRUE,H194,0)+IF(F194=\"\",0,F194)-IF(Daten!F$3=TRUE,Daten!F$10,0)),\"\")","v":""},{"$f":"IF(A194=\"\",\"\",Daten!D$14)","v":""},{"$f":"IF(A194=\"\",\"\",Daten!D$12)","v":""},{"$f":"IF(A194=\"\",\"\",Daten!D$13)","v":""},{"$f":"IF(A194=\"\",\"\",Daten!M$2)","v":""},{"$f":"IF(A194=\"\",\"\",IF(Daten!D$6=Daten!N$11,Daten!M$11,IF(Daten!D$6=Daten!N$13,Daten!M$13,IF(AND(Daten!$D$6=Daten!$M$10,Daten!$D$8=TRUE),Daten!$M$14,Daten!D$6))))","v":""},{"$f":"IF($A194=\"\",\"\",IF(OR(O194=\"Putzbord\",O194=\"Flexila PU\"),Daten!$D$15,IF(OR(O194=\"Stehbord\",O194=\"Stehbord HB\",O194=\"Flexila STB\",O194=\"Jalousiebord\"),Daten!$D$19,\"-\")))","v":""},{"$f":"IF($A194=\"\",\"\",IF(O194=\"Putzbord\",Daten!$D$16,IF(O194=\"Flexila PU\",_xlfn.NUMBERVALUE(MID(Daten!$D$17,1,2)),\"-\")))","v":""},{"$f":"IF($A194=\"\",\"\",IF(OR(O194=\"Putzbord\",O194=\"Flexila PU\"),Daten!$D$18,IF(OR(O194=\"Stehbord\",O194=\"Stehbord HB\",O194=\"Flexila STB\",O194=\"Jalousiebord\"),Daten!$D$21,\"-\")))","v":""},{"$f":"IF(A194=\"\",\"\",IF(Daten!D$6=Daten!N$11,Daten!M$11,IF(Daten!D$6=Daten!N$13,Daten!M$13,IF(AND(Daten!$D$6=Daten!$M$10,Daten!$D$8=TRUE),Daten!$M$14,Daten!D$6))))","v":""},{"$f":"IF($A194=\"\",\"\",IF(OR(S194=\"Putzbord\",S194=\"Flexila PU\"),Daten!$D$15,IF(OR(S194=\"Stehbord\",S194=\"Stehbord HB\",S194=\"Flexila STB\",S194=\"Jalousiebord\"),Daten!$D$19,\"-\")))","v":""},{"$f":"IF($A194=\"\",\"\",IF(S194=\"Putzbord\",Daten!$D$16,IF(S194=\"Flexila PU\",_xlfn.NUMBERVALUE(MID(Daten!$D$17,1,2)),\"-\")))","v":""},{"$f":"IF($A194=\"\",\"\",IF(OR(S194=\"Putzbord\",S194=\"Flexila PU\"),Daten!$D$18,IF(OR(S194=\"Stehbord\",S194=\"Stehbord HB\",S194=\"Flexila STB\",S194=\"Jalousiebord\"),Daten!$D$21,\"-\")))","v":""},{"$f":"IF(A194=\"\",\"\",IF(AND(Daten!D$6=\"Jalousiebord\",OR(O194=\"Stehbord\",S194=\"Stehbord\")),\"Jalousienklinkung\",\"\"))","v":""},{"$f":"IF(W194=\"\",\"\",Daten!D$20)","v":""},null,null,{"$f":"IF(A194=\"\",\"\",IF(Daten!F$1=\"A\",\"Ohne\",IF(OR(N194=\"Gerstenkorn roh\",N194=\"Riffelblech roh\"),\"XPS\",Daten!F$2)))","v":""},{"$f":"IF(A194=\"\",\"\",IF(AA194=\"Ohne\",\"A\",IF(AA194=\"XPS\",IF(Daten!F$1=\"D\",\"B\",Daten!F$1),Daten!F$1)))","v":""},{"$f":"IF(A194=\"\",\"\",IF(AB194=\"A\",\"-\",Daten!F$7))","v":""},{"$f":"IF(A194=\"\",\"\",IF(AB194=\"A\",\"-\",IF(AND(Daten!F$8=0,O194=\"Putzbord\"),5-Q194,0)))","v":""},{"$f":"IF(A194=\"\",\"\",IF(AB194=\"A\",\"-\",IF(AND(Daten!F$8=0,S194=\"Putzbord\"),5-U194,0)))","v":""},{"$f":"IF(A194=\"\",\"\",IF(AB194=\"A\",\"-\",Daten!F$10))","v":""},{"$f":"IFERROR(IF(A194=\"\",\"\",VLOOKUP(N194,Daten!N$1:O$7,2,FALSE)),\"\")","v":""}]
[null,null,null,{"$f":"IF(A195=\"\",\"\",IF(Daten!B$3=TRUE,Daten!B$7,\"\"))","v":""},{"$f":"IFERROR(IF(C195=\"\",\"\",C195+(2*D195)+IF(O195=Daten!M$13,6,0)+IF(S195=Daten!M$13,6,0)+IF(Q195=\"-\",0,Q195)+IF(U195=\"-\",0,U195)),\"\")","v":""},{"$f":"IF(OR(A195=\"\",AND(F$1=0,Daten!F$3=FALSE)),\"\",Daten!B$6)","v":""},{"$f":"IF(A195=\"\",\"\",IF(Daten!B$5=\"??\",\"\",Daten!B$5))","v":""},{"$f":"IF(A195=\"\",\"\",IF(Daten!B$3=FALSE,\"\",Daten!B$4))","v":""},{"$f":"IFERROR(IF(A195=\"\",\"\",G195+H195+IF(AND(G195>0,H195>0),5,0))-IF(Daten!H$21=TRUE,H195,0),\"\")","v":""},{"$f":"IFERROR(IF(A195=\"\",\"\",I195+IF(Daten!H$21=TRUE,H195,0)+IF(F195=\"\",0,F195)-IF(Daten!F$3=TRUE,Daten!F$10,0)),\"\")","v":""},{"$f":"IF(A195=\"\",\"\",Daten!D$14)","v":""},{"$f":"IF(A195=\"\",\"\",Daten!D$12)","v":""},{"$f":"IF(A195=\"\",\"\",Daten!D$13)","v":""},{"$f":"IF(A195=\"\",\"\",Daten!M$2)","v":""},{"$f":"IF(A195=\"\",\"\",IF(Daten!D$6=Daten!N$11,Daten!M$11,IF(Daten!D$6=Daten!N$13,Daten!M$13,IF(AND(Daten!$D$6=Daten!$M$10,Daten!$D$8=TRUE),Daten!$M$14,Daten!D$6))))","v":""},{"$f":"IF($A195=\"\",\"\",IF(OR(O195=\"Putzbord\",O195=\"Flexila PU\"),Daten!$D$15,IF(OR(O195=\"Stehbord\",O195=\"Stehbord HB\",O195=\"Flexila STB\",O195=\"Jalousiebord\"),Daten!$D$19,\"-\")))","v":""},{"$f":"IF($A195=\"\",\"\",IF(O195=\"Putzbord\",Daten!$D$16,IF(O195=\"Flexila PU\",_xlfn.NUMBERVALUE(MID(Daten!$D$17,1,2)),\"-\")))","v":""},{"$f":"IF($A195=\"\",\"\",IF(OR(O195=\"Putzbord\",O195=\"Flexila PU\"),Daten!$D$18,IF(OR(O195=\"Stehbord\",O195=\"Stehbord HB\",O195=\"Flexila STB\",O195=\"Jalousiebord\"),Daten!$D$21,\"-\")))","v":""},{"$f":"IF(A195=\"\",\"\",IF(Daten!D$6=Daten!N$11,Daten!M$11,IF(Daten!D$6=Daten!N$13,Daten!M$13,IF(AND(Daten!$D$6=Daten!$M$10,Daten!$D$8=TRUE),Daten!$M$14,Daten!D$6))))","v":""},{"$f":"IF($A195=\"\",\"\",IF(OR(S195=\"Putzbord\",S195=\"Flexila PU\"),Daten!$D$15,IF(OR(S195=\"Stehbord\",S195=\"Stehbord HB\",S195=\"Flexila STB\",S195=\"Jalousiebord\"),Daten!$D$19,\"-\")))","v":""},{"$f":"IF($A195=\"\",\"\",IF(S195=\"Putzbord\",Daten!$D$16,IF(S195=\"Flexila PU\",_xlfn.NUMBERVALUE(MID(Daten!$D$17,1,2)),\"-\")))","v":""},{"$f":"IF($A195=\"\",\"\",IF(OR(S195=\"Putzbord\",S195=\"Flexila PU\"),Daten!$D$18,IF(OR(S195=\"Stehbord\",S195=\"Stehbord HB\",S195=\"Flexila STB\",S195=\"Jalousiebord\"),Daten!$D$21,\"-\")))","v":""},{"$f":"IF(A195=\"\",\"\",IF(AND(Daten!D$6=\"Jalousiebord\",OR(O195=\"Stehbord\",S195=\"Stehbord\")),\"Jalousienklinkung\",\"\"))","v":""},{"$f":"IF(W195=\"\",\"\",Daten!D$20)","v":""},null,null,{"$f":"IF(A195=\"\",\"\",IF(Daten!F$1=\"A\",\"Ohne\",IF(OR(N195=\"Gerstenkorn roh\",N195=\"Riffelblech roh\"),\"XPS\",Daten!F$2)))","v":""},{"$f":"IF(A195=\"\",\"\",IF(AA195=\"Ohne\",\"A\",IF(AA195=\"XPS\",IF(Daten!F$1=\"D\",\"B\",Daten!F$1),Daten!F$1)))","v":""},{"$f":"IF(A195=\"\",\"\",IF(AB195=\"A\",\"-\",Daten!F$7))","v":""},{"$f":"IF(A195=\"\",\"\",IF(AB195=\"A\",\"-\",IF(AND(Daten!F$8=0,O195=\"Putzbord\"),5-Q195,0)))","v":""},{"$f":"IF(A195=\"\",\"\",IF(AB195=\"A\",\"-\",IF(AND(Daten!F$8=0,S195=\"Putzbord\"),5-U195,0)))","v":""},{"$f":"IF(A195=\"\",\"\",IF(AB195=\"A\",\"-\",Daten!F$10))","v":""},{"$f":"IFERROR(IF(A195=\"\",\"\",VLOOKUP(N195,Daten!N$1:O$7,2,FALSE)),\"\")","v":""}]
[null,null,null,{"$f":"IF(A196=\"\",\"\",IF(Daten!B$3=TRUE,Daten!B$7,\"\"))","v":""},{"$f":"IFERROR(IF(C196=\"\",\"\",C196+(2*D196)+IF(O196=Daten!M$13,6,0)+IF(S196=Daten!M$13,6,0)+IF(Q196=\"-\",0,Q196)+IF(U196=\"-\",0,U196)),\"\")","v":""},{"$f":"IF(OR(A196=\"\",AND(F$1=0,Daten!F$3=FALSE)),\"\",Daten!B$6)","v":""},{"$f":"IF(A196=\"\",\"\",IF(Daten!B$5=\"??\",\"\",Daten!B$5))","v":""},{"$f":"IF(A196=\"\",\"\",IF(Daten!B$3=FALSE,\"\",Daten!B$4))","v":""},{"$f":"IFERROR(IF(A196=\"\",\"\",G196+H196+IF(AND(G196>0,H196>0),5,0))-IF(Daten!H$21=TRUE,H196,0),\"\")","v":""},{"$f":"IFERROR(IF(A196=\"\",\"\",I196+IF(Daten!H$21=TRUE,H196,0)+IF(F196=\"\",0,F196)-IF(Daten!F$3=TRUE,Daten!F$10,0)),\"\")","v":""},{"$f":"IF(A196=\"\",\"\",Daten!D$14)","v":""},{"$f":"IF(A196=\"\",\"\",Daten!D$12)","v":""},{"$f":"IF(A196=\"\",\"\",Daten!D$13)","v":""},{"$f":"IF(A196=\"\",\"\",Daten!M$2)","v":""},{"$f":"IF(A196=\"\",\"\",IF(Daten!D$6=Daten!N$11,Daten!M$11,IF(Daten!D$6=Daten!N$13,Daten!M$13,IF(AND(Daten!$D$6=Daten!$M$10,Daten!$D$8=TRUE),Daten!$M$14,Daten!D$6))))","v":""},{"$f":"IF($A196=\"\",\"\",IF(OR(O196=\"Putzbord\",O196=\"Flexila PU\"),Daten!$D$15,IF(OR(O196=\"Stehbord\",O196=\"Stehbord HB\",O196=\"Flexila STB\",O196=\"Jalousiebord\"),Daten!$D$19,\"-\")))","v":""},{"$f":"IF($A196=\"\",\"\",IF(O196=\"Putzbord\",Daten!$D$16,IF(O196=\"Flexila PU\",_xlfn.NUMBERVALUE(MID(Daten!$D$17,1,2)),\"-\")))","v":""},{"$f":"IF($A196=\"\",\"\",IF(OR(O196=\"Putzbord\",O196=\"Flexila PU\"),Daten!$D$18,IF(OR(O196=\"Stehbord\",O196=\"Stehbord HB\",O196=\"Flexila STB\",O196=\"Jalousiebord\"),Daten!$D$21,\"-\")))","v":""},{"$f":"IF(A196=\"\",\"\",IF(Daten!D$6=Daten!N$11,Daten!M$11,IF(Daten!D$6=Daten!N$13,Daten!M$13,IF(AND(Daten!$D$6=Daten!$M$10,Daten!$D$8=TRUE),Daten!$M$14,Daten!D$6))))","v":""},{"$f":"IF($A196=\"\",\"\",IF(OR(S196=\"Putzbord\",S196=\"Flexila PU\"),Daten!$D$15,IF(OR(S196=\"Stehbord\",S196=\"Stehbord HB\",S196=\"Flexila STB\",S196=\"Jalousiebord\"),Daten!$D$19,\"-\")))","v":""},{"$f":"IF($A196=\"\",\"\",IF(S196=\"Putzbord\",Daten!$D$16,IF(S196=\"Flexila PU\",_xlfn.NUMBERVALUE(MID(Daten!$D$17,1,2)),\"-\")))","v":""},{"$f":"IF($A196=\"\",\"\",IF(OR(S196=\"Putzbord\",S196=\"Flexila PU\"),Daten!$D$18,IF(OR(S196=\"Stehbord\",S196=\"Stehbord HB\",S196=\"Flexila STB\",S196=\"Jalousiebord\"),Daten!$D$21,\"-\")))","v":""},{"$f":"IF(A196=\"\",\"\",IF(AND(Daten!D$6=\"Jalousiebord\",OR(O196=\"Stehbord\",S196=\"Stehbord\")),\"Jalousienklinkung\",\"\"))","v":""},{"$f":"IF(W196=\"\",\"\",Daten!D$20)","v":""},null,null,{"$f":"IF(A196=\"\",\"\",IF(Daten!F$1=\"A\",\"Ohne\",IF(OR(N196=\"Gerstenkorn roh\",N196=\"Riffelblech roh\"),\"XPS\",Daten!F$2)))","v":""},{"$f":"IF(A196=\"\",\"\",IF(AA196=\"Ohne\",\"A\",IF(AA196=\"XPS\",IF(Daten!F$1=\"D\",\"B\",Daten!F$1),Daten!F$1)))","v":""},{"$f":"IF(A196=\"\",\"\",IF(AB196=\"A\",\"-\",Daten!F$7))","v":""},{"$f":"IF(A196=\"\",\"\",IF(AB196=\"A\",\"-\",IF(AND(Daten!F$8=0,O196=\"Putzbord\"),5-Q196,0)))","v":""},{"$f":"IF(A196=\"\",\"\",IF(AB196=\"A\",\"-\",IF(AND(Daten!F$8=0,S196=\"Putzbord\"),5-U196,0)))","v":""},{"$f":"IF(A196=\"\",\"\",IF(AB196=\"A\",\"-\",Daten!F$10))","v":""},{"$f":"IFERROR(IF(A196=\"\",\"\",VLOOKUP(N196,Daten!N$1:O$7,2,FALSE)),\"\")","v":""}]
[null,null,null,{"$f":"IF(A197=\"\",\"\",IF(Daten!B$3=TRUE,Daten!B$7,\"\"))","v":""},{"$f":"IFERROR(IF(C197=\"\",\"\",C197+(2*D197)+IF(O197=Daten!M$13,6,0)+IF(S197=Daten!M$13,6,0)+IF(Q197=\"-\",0,Q197)+IF(U197=\"-\",0,U197)),\"\")","v":""},{"$f":"IF(OR(A197=\"\",AND(F$1=0,Daten!F$3=FALSE)),\"\",Daten!B$6)","v":""},{"$f":"IF(A197=\"\",\"\",IF(Daten!B$5=\"??\",\"\",Daten!B$5))","v":""},{"$f":"IF(A197=\"\",\"\",IF(Daten!B$3=FALSE,\"\",Daten!B$4))","v":""},{"$f":"IFERROR(IF(A197=\"\",\"\",G197+H197+IF(AND(G197>0,H197>0),5,0))-IF(Daten!H$21=TRUE,H197,0),\"\")","v":""},{"$f":"IFERROR(IF(A197=\"\",\"\",I197+IF(Daten!H$21=TRUE,H197,0)+IF(F197=\"\",0,F197)-IF(Daten!F$3=TRUE,Daten!F$10,0)),\"\")","v":""},{"$f":"IF(A197=\"\",\"\",Daten!D$14)","v":""},{"$f":"IF(A197=\"\",\"\",Daten!D$12)","v":""},{"$f":"IF(A197=\"\",\"\",Daten!D$13)","v":""},{"$f":"IF(A197=\"\",\"\",Daten!M$2)","v":""},{"$f":"IF(A197=\"\",\"\",IF(Daten!D$6=Daten!N$11,Daten!M$11,IF(Daten!D$6=Daten!N$13,Daten!M$13,IF(AND(Daten!$D$6=Daten!$M$10,Daten!$D$8=TRUE),Daten!$M$14,Daten!D$6))))","v":""},{"$f":"IF($A197=\"\",\"\",IF(OR(O197=\"Putzbord\",O197=\"Flexila PU\"),Daten!$D$15,IF(OR(O197=\"Stehbord\",O197=\"Stehbord HB\",O197=\"Flexila STB\",O197=\"Jalousiebord\"),Daten!$D$19,\"-\")))","v":""},{"$f":"IF($A197=\"\",\"\",IF(O197=\"Putzbord\",Daten!$D$16,IF(O197=\"Flexila PU\",_xlfn.NUMBERVALUE(MID(Daten!$D$17,1,2)),\"-\")))","v":""},{"$f":"IF($A197=\"\",\"\",IF(OR(O197=\"Putzbord\",O197=\"Flexila PU\"),Daten!$D$18,IF(OR(O197=\"Stehbord\",O197=\"Stehbord HB\",O197=\"Flexila STB\",O197=\"Jalousiebord\"),Daten!$D$21,\"-\")))","v":""},{"$f":"IF(A197=\"\",\"\",IF(Daten!D$6=Daten!N$11,Daten!M$11,IF(Daten!D$6=Daten!N$13,Daten!M$13,IF(AND(Daten!$D$6=Daten!$M$10,Daten!$D$8=TRUE),Daten!$M$14,Daten!D$6))))","v":""},{"$f":"IF($A197=\"\",\"\",IF(OR(S197=\"Putzbord\",S197=\"Flexila PU\"),Daten!$D$15,IF(OR(S197=\"Stehbord\",S197=\"Stehbord HB\",S197=\"Flexila STB\",S197=\"Jalousiebord\"),Daten!$D$19,\"-\")))","v":""},{"$f":"IF($A197=\"\",\"\",IF(S197=\"Putzbord\",Daten!$D$16,IF(S197=\"Flexila PU\",_xlfn.NUMBERVALUE(MID(Daten!$D$17,1,2)),\"-\")))","v":""},{"$f":"IF($A197=\"\",\"\",IF(OR(S197=\"Putzbord\",S197=\"Flexila PU\"),Daten!$D$18,IF(OR(S197=\"Stehbord\",S197=\"Stehbord HB\",S197=\"Flexila STB\",S197=\"Jalousiebord\"),Daten!$D$21,\"-\")))","v":""},{"$f":"IF(A197=\"\",\"\",IF(AND(Daten!D$6=\"Jalousiebord\",OR(O197=\"Stehbord\",S197=\"Stehbord\")),\"Jalousienklinkung\",\"\"))","v":""},{"$f":"IF(W197=\"\",\"\",Daten!D$20)","v":""},null,null,{"$f":"IF(A197=\"\",\"\",IF(Daten!F$1=\"A\",\"Ohne\",IF(OR(N197=\"Gerstenkorn roh\",N197=\"Riffelblech roh\"),\"XPS\",Daten!F$2)))","v":""},{"$f":"IF(A197=\"\",\"\",IF(AA197=\"Ohne\",\"A\",IF(AA197=\"XPS\",IF(Daten!F$1=\"D\",\"B\",Daten!F$1),Daten!F$1)))","v":""},{"$f":"IF(A197=\"\",\"\",IF(AB197=\"A\",\"-\",Daten!F$7))","v":""},{"$f":"IF(A197=\"\",\"\",IF(AB197=\"A\",\"-\",IF(AND(Daten!F$8=0,O197=\"Putzbord\"),5-Q197,0)))","v":""},{"$f":"IF(A197=\"\",\"\",IF(AB197=\"A\",\"-\",IF(AND(Daten!F$8=0,S197=\"Putzbord\"),5-U197,0)))","v":""},{"$f":"IF(A197=\"\",\"\",IF(AB197=\"A\",\"-\",Daten!F$10))","v":""},{"$f":"IFERROR(IF(A197=\"\",\"\",VLOOKUP(N197,Daten!N$1:O$7,2,FALSE)),\"\")","v":""}]
[null,null,null,{"$f":"IF(A198=\"\",\"\",IF(Daten!B$3=TRUE,Daten!B$7,\"\"))","v":""},{"$f":"IFERROR(IF(C198=\"\",\"\",C198+(2*D198)+IF(O198=Daten!M$13,6,0)+IF(S198=Daten!M$13,6,0)+IF(Q198=\"-\",0,Q198)+IF(U198=\"-\",0,U198)),\"\")","v":""},{"$f":"IF(OR(A198=\"\",AND(F$1=0,Daten!F$3=FALSE)),\"\",Daten!B$6)","v":""},{"$f":"IF(A198=\"\",\"\",IF(Daten!B$5=\"??\",\"\",Daten!B$5))","v":""},{"$f":"IF(A198=\"\",\"\",IF(Daten!B$3=FALSE,\"\",Daten!B$4))","v":""},{"$f":"IFERROR(IF(A198=\"\",\"\",G198+H198+IF(AND(G198>0,H198>0),5,0))-IF(Daten!H$21=TRUE,H198,0),\"\")","v":""},{"$f":"IFERROR(IF(A198=\"\",\"\",I198+IF(Daten!H$21=TRUE,H198,0)+IF(F198=\"\",0,F198)-IF(Daten!F$3=TRUE,Daten!F$10,0)),\"\")","v":""},{"$f":"IF(A198=\"\",\"\",Daten!D$14)","v":""},{"$f":"IF(A198=\"\",\"\",Daten!D$12)","v":""},{"$f":"IF(A198=\"\",\"\",Daten!D$13)","v":""},{"$f":"IF(A198=\"\",\"\",Daten!M$2)","v":""},{"$f":"IF(A198=\"\",\"\",IF(Daten!D$6=Daten!N$11,Daten!M$11,IF(Daten!D$6=Daten!N$13,Daten!M$13,IF(AND(Daten!$D$6=Daten!$M$10,Daten!$D$8=TRUE),Daten!$M$14,Daten!D$6))))","v":""},{"$f":"IF($A198=\"\",\"\",IF(OR(O198=\"Putzbord\",O198=\"Flexila PU\"),Daten!$D$15,IF(OR(O198=\"Stehbord\",O198=\"Stehbord HB\",O198=\"Flexila STB\",O198=\"Jalousiebord\"),Daten!$D$19,\"-\")))","v":""},{"$f":"IF($A198=\"\",\"\",IF(O198=\"Putzbord\",Daten!$D$16,IF(O198=\"Flexila PU\",_xlfn.NUMBERVALUE(MID(Daten!$D$17,1,2)),\"-\")))","v":""},{"$f":"IF($A198=\"\",\"\",IF(OR(O198=\"Putzbord\",O198=\"Flexila PU\"),Daten!$D$18,IF(OR(O198=\"Stehbord\",O198=\"Stehbord HB\",O198=\"Flexila STB\",O198=\"Jalousiebord\"),Daten!$D$21,\"-\")))","v":""},{"$f":"IF(A198=\"\",\"\",IF(Daten!D$6=Daten!N$11,Daten!M$11,IF(Daten!D$6=Daten!N$13,Daten!M$13,IF(AND(Daten!$D$6=Daten!$M$10,Daten!$D$8=TRUE),Daten!$M$14,Daten!D$6))))","v":""},{"$f":"IF($A198=\"\",\"\",IF(OR(S198=\"Putzbord\",S198=\"Flexila PU\"),Daten!$D$15,IF(OR(S198=\"Stehbord\",S198=\"Stehbord HB\",S198=\"Flexila STB\",S198=\"Jalousiebord\"),Daten!$D$19,\"-\")))","v":""},{"$f":"IF($A198=\"\",\"\",IF(S198=\"Putzbord\",Daten!$D$16,IF(S198=\"Flexila PU\",_xlfn.NUMBERVALUE(MID(Daten!$D$17,1,2)),\"-\")))","v":""},{"$f":"IF($A198=\"\",\"\",IF(OR(S198=\"Putzbord\",S198=\"Flexila PU\"),Daten!$D$18,IF(OR(S198=\"Stehbord\",S198=\"Stehbord HB\",S198=\"Flexila STB\",S198=\"Jalousiebord\"),Daten!$D$21,\"-\")))","v":""},{"$f":"IF(A198=\"\",\"\",IF(AND(Daten!D$6=\"Jalousiebord\",OR(O198=\"Stehbord\",S198=\"Stehbord\")),\"Jalousienklinkung\",\"\"))","v":""},{"$f":"IF(W198=\"\",\"\",Daten!D$20)","v":""},null,null,{"$f":"IF(A198=\"\",\"\",IF(Daten!F$1=\"A\",\"Ohne\",IF(OR(N198=\"Gerstenkorn roh\",N198=\"Riffelblech roh\"),\"XPS\",Daten!F$2)))","v":""},{"$f":"IF(A198=\"\",\"\",IF(AA198=\"Ohne\",\"A\",IF(AA198=\"XPS\",IF(Daten!F$1=\"D\",\"B\",Daten!F$1),Daten!F$1)))","v":""},{"$f":"IF(A198=\"\",\"\",IF(AB198=\"A\",\"-\",Daten!F$7))","v":""},{"$f":"IF(A198=\"\",\"\",IF(AB198=\"A\",\"-\",IF(AND(Daten!F$8=0,O198=\"Putzbord\"),5-Q198,0)))","v":""},{"$f":"IF(A198=\"\",\"\",IF(AB198=\"A\",\"-\",IF(AND(Daten!F$8=0,S198=\"Putzbord\"),5-U198,0)))","v":""},{"$f":"IF(A198=\"\",\"\",IF(AB198=\"A\",\"-\",Daten!F$10))","v":""},{"$f":"IFERROR(IF(A198=\"\",\"\",VLOOKUP(N198,Daten!N$1:O$7,2,FALSE)),\"\")","v":""}]
[null,null,null,{"$f":"IF(A199=\"\",\"\",IF(Daten!B$3=TRUE,Daten!B$7,\"\"))","v":""},{"$f":"IFERROR(IF(C199=\"\",\"\",C199+(2*D199)+IF(O199=Daten!M$13,6,0)+IF(S199=Daten!M$13,6,0)+IF(Q199=\"-\",0,Q199)+IF(U199=\"-\",0,U199)),\"\")","v":""},{"$f":"IF(OR(A199=\"\",AND(F$1=0,Daten!F$3=FALSE)),\"\",Daten!B$6)","v":""},{"$f":"IF(A199=\"\",\"\",IF(Daten!B$5=\"??\",\"\",Daten!B$5))","v":""},{"$f":"IF(A199=\"\",\"\",IF(Daten!B$3=FALSE,\"\",Daten!B$4))","v":""},{"$f":"IFERROR(IF(A199=\"\",\"\",G199+H199+IF(AND(G199>0,H199>0),5,0))-IF(Daten!H$21=TRUE,H199,0),\"\")","v":""},{"$f":"IFERROR(IF(A199=\"\",\"\",I199+IF(Daten!H$21=TRUE,H199,0)+IF(F199=\"\",0,F199)-IF(Daten!F$3=TRUE,Daten!F$10,0)),\"\")","v":""},{"$f":"IF(A199=\"\",\"\",Daten!D$14)","v":""},{"$f":"IF(A199=\"\",\"\",Daten!D$12)","v":""},{"$f":"IF(A199=\"\",\"\",Daten!D$13)","v":""},{"$f":"IF(A199=\"\",\"\",Daten!M$2)","v":""},{"$f":"IF(A199=\"\",\"\",IF(Daten!D$6=Daten!N$11,Daten!M$11,IF(Daten!D$6=Daten!N$13,Daten!M$13,IF(AND(Daten!$D$6=Daten!$M$10,Daten!$D$8=TRUE),Daten!$M$14,Daten!D$6))))","v":""},{"$f":"IF($A199=\"\",\"\",IF(OR(O199=\"Putzbord\",O199=\"Flexila PU\"),Daten!$D$15,IF(OR(O199=\"Stehbord\",O199=\"Stehbord HB\",O199=\"Flexila STB\",O199=\"Jalousiebord\"),Daten!$D$19,\"-\")))","v":""},{"$f":"IF($A199=\"\",\"\",IF(O199=\"Putzbord\",Daten!$D$16,IF(O199=\"Flexila PU\",_xlfn.NUMBERVALUE(MID(Daten!$D$17,1,2)),\"-\")))","v":""},{"$f":"IF($A199=\"\",\"\",IF(OR(O199=\"Putzbord\",O199=\"Flexila PU\"),Daten!$D$18,IF(OR(O199=\"Stehbord\",O199=\"Stehbord HB\",O199=\"Flexila STB\",O199=\"Jalousiebord\"),Daten!$D$21,\"-\")))","v":""},{"$f":"IF(A199=\"\",\"\",IF(Daten!D$6=Daten!N$11,Daten!M$11,IF(Daten!D$6=Daten!N$13,Daten!M$13,IF(AND(Daten!$D$6=Daten!$M$10,Daten!$D$8=TRUE),Daten!$M$14,Daten!D$6))))","v":""},{"$f":"IF($A199=\"\",\"\",IF(OR(S199=\"Putzbord\",S199=\"Flexila PU\"),Daten!$D$15,IF(OR(S199=\"Stehbord\",S199=\"Stehbord HB\",S199=\"Flexila STB\",S199=\"Jalousiebord\"),Daten!$D$19,\"-\")))","v":""},{"$f":"IF($A199=\"\",\"\",IF(S199=\"Putzbord\",Daten!$D$16,IF(S199=\"Flexila PU\",_xlfn.NUMBERVALUE(MID(Daten!$D$17,1,2)),\"-\")))","v":""},{"$f":"IF($A199=\"\",\"\",IF(OR(S199=\"Putzbord\",S199=\"Flexila PU\"),Daten!$D$18,IF(OR(S199=\"Stehbord\",S199=\"Stehbord HB\",S199=\"Flexila STB\",S199=\"Jalousiebord\"),Daten!$D$21,\"-\")))","v":""},{"$f":"IF(A199=\"\",\"\",IF(AND(Daten!D$6=\"Jalousiebord\",OR(O199=\"Stehbord\",S199=\"Stehbord\")),\"Jalousienklinkung\",\"\"))","v":""},{"$f":"IF(W199=\"\",\"\",Daten!D$20)","v":""},null,null,{"$f":"IF(A199=\"\",\"\",IF(Daten!F$1=\"A\",\"Ohne\",IF(OR(N199=\"Gerstenkorn roh\",N199=\"Riffelblech roh\"),\"XPS\",Daten!F$2)))","v":""},{"$f":"IF(A199=\"\",\"\",IF(AA199=\"Ohne\",\"A\",IF(AA199=\"XPS\",IF(Daten!F$1=\"D\",\"B\",Daten!F$1),Daten!F$1)))","v":""},{"$f":"IF(A199=\"\",\"\",IF(AB199=\"A\",\"-\",Daten!F$7))","v":""},{"$f":"IF(A199=\"\",\"\",IF(AB199=\"A\",\"-\",IF(AND(Daten!F$8=0,O199=\"Putzbord\"),5-Q199,0)))","v":""},{"$f":"IF(A199=\"\",\"\",IF(AB199=\"A\",\"-\",IF(AND(Daten!F$8=0,S199=\"Putzbord\"),5-U199,0)))","v":""},{"$f":"IF(A199=\"\",\"\",IF(AB199=\"A\",\"-\",Daten!F$10))","v":""},{"$f":"IFERROR(IF(A199=\"\",\"\",VLOOKUP(N199,Daten!N$1:O$7,2,FALSE)),\"\")","v":""}]
[null,null,null,{"$f":"IF(A200=\"\",\"\",IF(Daten!B$3=TRUE,Daten!B$7,\"\"))","v":""},{"$f":"IFERROR(IF(C200=\"\",\"\",C200+(2*D200)+IF(O200=Daten!M$13,6,0)+IF(S200=Daten!M$13,6,0)+IF(Q200=\"-\",0,Q200)+IF(U200=\"-\",0,U200)),\"\")","v":""},{"$f":"IF(OR(A200=\"\",AND(F$1=0,Daten!F$3=FALSE)),\"\",Daten!B$6)","v":""},{"$f":"IF(A200=\"\",\"\",IF(Daten!B$5=\"??\",\"\",Daten!B$5))","v":""},{"$f":"IF(A200=\"\",\"\",IF(Daten!B$3=FALSE,\"\",Daten!B$4))","v":""},{"$f":"IFERROR(IF(A200=\"\",\"\",G200+H200+IF(AND(G200>0,H200>0),5,0))-IF(Daten!H$21=TRUE,H200,0),\"\")","v":""},{"$f":"IFERROR(IF(A200=\"\",\"\",I200+IF(Daten!H$21=TRUE,H200,0)+IF(F200=\"\",0,F200)-IF(Daten!F$3=TRUE,Daten!F$10,0)),\"\")","v":""},{"$f":"IF(A200=\"\",\"\",Daten!D$14)","v":""},{"$f":"IF(A200=\"\",\"\",Daten!D$12)","v":""},{"$f":"IF(A200=\"\",\"\",Daten!D$13)","v":""},{"$f":"IF(A200=\"\",\"\",Daten!M$2)","v":""},{"$f":"IF(A200=\"\",\"\",IF(Daten!D$6=Daten!N$11,Daten!M$11,IF(Daten!D$6=Daten!N$13,Daten!M$13,IF(AND(Daten!$D$6=Daten!$M$10,Daten!$D$8=TRUE),Daten!$M$14,Daten!D$6))))","v":""},{"$f":"IF($A200=\"\",\"\",IF(OR(O200=\"Putzbord\",O200=\"Flexila PU\"),Daten!$D$15,IF(OR(O200=\"Stehbord\",O200=\"Stehbord HB\",O200=\"Flexila STB\",O200=\"Jalousiebord\"),Daten!$D$19,\"-\")))","v":""},{"$f":"IF($A200=\"\",\"\",IF(O200=\"Putzbord\",Daten!$D$16,IF(O200=\"Flexila PU\",_xlfn.NUMBERVALUE(MID(Daten!$D$17,1,2)),\"-\")))","v":""},{"$f":"IF($A200=\"\",\"\",IF(OR(O200=\"Putzbord\",O200=\"Flexila PU\"),Daten!$D$18,IF(OR(O200=\"Stehbord\",O200=\"Stehbord HB\",O200=\"Flexila STB\",O200=\"Jalousiebord\"),Daten!$D$21,\"-\")))","v":""},{"$f":"IF(A200=\"\",\"\",IF(Daten!D$6=Daten!N$11,Daten!M$11,IF(Daten!D$6=Daten!N$13,Daten!M$13,IF(AND(Daten!$D$6=Daten!$M$10,Daten!$D$8=TRUE),Daten!$M$14,Daten!D$6))))","v":""},{"$f":"IF($A200=\"\",\"\",IF(OR(S200=\"Putzbord\",S200=\"Flexila PU\"),Daten!$D$15,IF(OR(S200=\"Stehbord\",S200=\"Stehbord HB\",S200=\"Flexila STB\",S200=\"Jalousiebord\"),Daten!$D$19,\"-\")))","v":""},{"$f":"IF($A200=\"\",\"\",IF(S200=\"Putzbord\",Daten!$D$16,IF(S200=\"Flexila PU\",_xlfn.NUMBERVALUE(MID(Daten!$D$17,1,2)),\"-\")))","v":""},{"$f":"IF($A200=\"\",\"\",IF(OR(S200=\"Putzbord\",S200=\"Flexila PU\"),Daten!$D$18,IF(OR(S200=\"Stehbord\",S200=\"Stehbord HB\",S200=\"Flexila STB\",S200=\"Jalousiebord\"),Daten!$D$21,\"-\")))","v":""},{"$f":"IF(A200=\"\",\"\",IF(AND(Daten!D$6=\"Jalousiebord\",OR(O200=\"Stehbord\",S200=\"Stehbord\")),\"Jalousienklinkung\",\"\"))","v":""},{"$f":"IF(W200=\"\",\"\",Daten!D$20)","v":""},null,null,{"$f":"IF(A200=\"\",\"\",IF(Daten!F$1=\"A\",\"Ohne\",IF(OR(N200=\"Gerstenkorn roh\",N200=\"Riffelblech roh\"),\"XPS\",Daten!F$2)))","v":""},{"$f":"IF(A200=\"\",\"\",IF(AA200=\"Ohne\",\"A\",IF(AA200=\"XPS\",IF(Daten!F$1=\"D\",\"B\",Daten!F$1),Daten!F$1)))","v":""},{"$f":"IF(A200=\"\",\"\",IF(AB200=\"A\",\"-\",Daten!F$7))","v":""},{"$f":"IF(A200=\"\",\"\",IF(AB200=\"A\",\"-\",IF(AND(Daten!F$8=0,O200=\"Putzbord\"),5-Q200,0)))","v":""},{"$f":"IF(A200=\"\",\"\",IF(AB200=\"A\",\"-\",IF(AND(Daten!F$8=0,S200=\"Putzbord\"),5-U200,0)))","v":""},{"$f":"IF(A200=\"\",\"\",IF(AB200=\"A\",\"-\",Daten!F$10))","v":""},{"$f":"IFERROR(IF(A200=\"\",\"\",VLOOKUP(N200,Daten!N$1:O$7,2,FALSE)),\"\")","v":""}]
[null,null,null,{"$f":"IF(A201=\"\",\"\",IF(Daten!B$3=TRUE,Daten!B$7,\"\"))","v":""},{"$f":"IFERROR(IF(C201=\"\",\"\",C201+(2*D201)+IF(O201=Daten!M$13,6,0)+IF(S201=Daten!M$13,6,0)+IF(Q201=\"-\",0,Q201)+IF(U201=\"-\",0,U201)),\"\")","v":""},{"$f":"IF(OR(A201=\"\",AND(F$1=0,Daten!F$3=FALSE)),\"\",Daten!B$6)","v":""},{"$f":"IF(A201=\"\",\"\",IF(Daten!B$5=\"??\",\"\",Daten!B$5))","v":""},{"$f":"IF(A201=\"\",\"\",IF(Daten!B$3=FALSE,\"\",Daten!B$4))","v":""},{"$f":"IFERROR(IF(A201=\"\",\"\",G201+H201+IF(AND(G201>0,H201>0),5,0))-IF(Daten!H$21=TRUE,H201,0),\"\")","v":""},{"$f":"IFERROR(IF(A201=\"\",\"\",I201+IF(Daten!H$21=TRUE,H201,0)+IF(F201=\"\",0,F201)-IF(Daten!F$3=TRUE,Daten!F$10,0)),\"\")","v":""},{"$f":"IF(A201=\"\",\"\",Daten!D$14)","v":""},{"$f":"IF(A201=\"\",\"\",Daten!D$12)","v":""},{"$f":"IF(A201=\"\",\"\",Daten!D$13)","v":""},{"$f":"IF(A201=\"\",\"\",Daten!M$2)","v":""},{"$f":"IF(A201=\"\",\"\",IF(Daten!D$6=Daten!N$11,Daten!M$11,IF(Daten!D$6=Daten!N$13,Daten!M$13,IF(AND(Daten!$D$6=Daten!$M$10,Daten!$D$8=TRUE),Daten!$M$14,Daten!D$6))))","v":""},{"$f":"IF($A201=\"\",\"\",IF(OR(O201=\"Putzbord\",O201=\"Flexila PU\"),Daten!$D$15,IF(OR(O201=\"Stehbord\",O201=\"Stehbord HB\",O201=\"Flexila STB\",O201=\"Jalousiebord\"),Daten!$D$19,\"-\")))","v":""},{"$f":"IF($A201=\"\",\"\",IF(O201=\"Putzbord\",Daten!$D$16,IF(O201=\"Flexila PU\",_xlfn.NUMBERVALUE(MID(Daten!$D$17,1,2)),\"-\")))","v":""},{"$f":"IF($A201=\"\",\"\",IF(OR(O201=\"Putzbord\",O201=\"Flexila PU\"),Daten!$D$18,IF(OR(O201=\"Stehbord\",O201=\"Stehbord HB\",O201=\"Flexila STB\",O201=\"Jalousiebord\"),Daten!$D$21,\"-\")))","v":""},{"$f":"IF(A201=\"\",\"\",IF(Daten!D$6=Daten!N$11,Daten!M$11,IF(Daten!D$6=Daten!N$13,Daten!M$13,IF(AND(Daten!$D$6=Daten!$M$10,Daten!$D$8=TRUE),Daten!$M$14,Daten!D$6))))","v":""},{"$f":"IF($A201=\"\",\"\",IF(OR(S201=\"Putzbord\",S201=\"Flexila PU\"),Daten!$D$15,IF(OR(S201=\"Stehbord\",S201=\"Stehbord HB\",S201=\"Flexila STB\",S201=\"Jalousiebord\"),Daten!$D$19,\"-\")))","v":""},{"$f":"IF($A201=\"\",\"\",IF(S201=\"Putzbord\",Daten!$D$16,IF(S201=\"Flexila PU\",_xlfn.NUMBERVALUE(MID(Daten!$D$17,1,2)),\"-\")))","v":""},{"$f":"IF($A201=\"\",\"\",IF(OR(S201=\"Putzbord\",S201=\"Flexila PU\"),Daten!$D$18,IF(OR(S201=\"Stehbord\",S201=\"Stehbord HB\",S201=\"Flexila STB\",S201=\"Jalousiebord\"),Daten!$D$21,\"-\")))","v":""},{"$f":"IF(A201=\"\",\"\",IF(AND(Daten!D$6=\"Jalousiebord\",OR(O201=\"Stehbord\",S201=\"Stehbord\")),\"Jalousienklinkung\",\"\"))","v":""},{"$f":"IF(W201=\"\",\"\",Daten!D$20)","v":""},null,null,{"$f":"IF(A201=\"\",\"\",IF(Daten!F$1=\"A\",\"Ohne\",IF(OR(N201=\"Gerstenkorn roh\",N201=\"Riffelblech roh\"),\"XPS\",Daten!F$2)))","v":""},{"$f":"IF(A201=\"\",\"\",IF(AA201=\"Ohne\",\"A\",IF(AA201=\"XPS\",IF(Daten!F$1=\"D\",\"B\",Daten!F$1),Daten!F$1)))","v":""},{"$f":"IF(A201=\"\",\"\",IF(AB201=\"A\",\"-\",Daten!F$7))","v":""},{"$f":"IF(A201=\"\",\"\",IF(AB201=\"A\",\"-\",IF(AND(Daten!F$8=0,O201=\"Putzbord\"),5-Q201,0)))","v":""},{"$f":"IF(A201=\"\",\"\",IF(AB201=\"A\",\"-\",IF(AND(Daten!F$8=0,S201=\"Putzbord\"),5-U201,0)))","v":""},{"$f":"IF(A201=\"\",\"\",IF(AB201=\"A\",\"-\",Daten!F$10))","v":""},{"$f":"IFERROR(IF(A201=\"\",\"\",VLOOKUP(N201,Daten!N$1:O$7,2,FALSE)),\"\")","v":""}]
[null,null,null,{"$f":"IF(A202=\"\",\"\",IF(Daten!B$3=TRUE,Daten!B$7,\"\"))","v":""},{"$f":"IFERROR(IF(C202=\"\",\"\",C202+(2*D202)+IF(O202=Daten!M$13,6,0)+IF(S202=Daten!M$13,6,0)+IF(Q202=\"-\",0,Q202)+IF(U202=\"-\",0,U202)),\"\")","v":""},{"$f":"IF(OR(A202=\"\",AND(F$1=0,Daten!F$3=FALSE)),\"\",Daten!B$6)","v":""},{"$f":"IF(A202=\"\",\"\",IF(Daten!B$5=\"??\",\"\",Daten!B$5))","v":""},{"$f":"IF(A202=\"\",\"\",IF(Daten!B$3=FALSE,\"\",Daten!B$4))","v":""},{"$f":"IFERROR(IF(A202=\"\",\"\",G202+H202+IF(AND(G202>0,H202>0),5,0))-IF(Daten!H$21=TRUE,H202,0),\"\")","v":""},{"$f":"IFERROR(IF(A202=\"\",\"\",I202+IF(Daten!H$21=TRUE,H202,0)+IF(F202=\"\",0,F202)-IF(Daten!F$3=TRUE,Daten!F$10,0)),\"\")","v":""},{"$f":"IF(A202=\"\",\"\",Daten!D$14)","v":""},{"$f":"IF(A202=\"\",\"\",Daten!D$12)","v":""},{"$f":"IF(A202=\"\",\"\",Daten!D$13)","v":""},{"$f":"IF(A202=\"\",\"\",Daten!M$2)","v":""},{"$f":"IF(A202=\"\",\"\",IF(Daten!D$6=Daten!N$11,Daten!M$11,IF(Daten!D$6=Daten!N$13,Daten!M$13,IF(AND(Daten!$D$6=Daten!$M$10,Daten!$D$8=TRUE),Daten!$M$14,Daten!D$6))))","v":""},{"$f":"IF($A202=\"\",\"\",IF(OR(O202=\"Putzbord\",O202=\"Flexila PU\"),Daten!$D$15,IF(OR(O202=\"Stehbord\",O202=\"Stehbord HB\",O202=\"Flexila STB\",O202=\"Jalousiebord\"),Daten!$D$19,\"-\")))","v":""},{"$f":"IF($A202=\"\",\"\",IF(O202=\"Putzbord\",Daten!$D$16,IF(O202=\"Flexila PU\",_xlfn.NUMBERVALUE(MID(Daten!$D$17,1,2)),\"-\")))","v":""},{"$f":"IF($A202=\"\",\"\",IF(OR(O202=\"Putzbord\",O202=\"Flexila PU\"),Daten!$D$18,IF(OR(O202=\"Stehbord\",O202=\"Stehbord HB\",O202=\"Flexila STB\",O202=\"Jalousiebord\"),Daten!$D$21,\"-\")))","v":""},{"$f":"IF(A202=\"\",\"\",IF(Daten!D$6=Daten!N$11,Daten!M$11,IF(Daten!D$6=Daten!N$13,Daten!M$13,IF(AND(Daten!$D$6=Daten!$M$10,Daten!$D$8=TRUE),Daten!$M$14,Daten!D$6))))","v":""},{"$f":"IF($A202=\"\",\"\",IF(OR(S202=\"Putzbord\",S202=\"Flexila PU\"),Daten!$D$15,IF(OR(S202=\"Stehbord\",S202=\"Stehbord HB\",S202=\"Flexila STB\",S202=\"Jalousiebord\"),Daten!$D$19,\"-\")))","v":""},{"$f":"IF($A202=\"\",\"\",IF(S202=\"Putzbord\",Daten!$D$16,IF(S202=\"Flexila PU\",_xlfn.NUMBERVALUE(MID(Daten!$D$17,1,2)),\"-\")))","v":""},{"$f":"IF($A202=\"\",\"\",IF(OR(S202=\"Putzbord\",S202=\"Flexila PU\"),Daten!$D$18,IF(OR(S202=\"Stehbord\",S202=\"Stehbord HB\",S202=\"Flexila STB\",S202=\"Jalousiebord\"),Daten!$D$21,\"-\")))","v":""},{"$f":"IF(A202=\"\",\"\",IF(AND(Daten!D$6=\"Jalousiebord\",OR(O202=\"Stehbord\",S202=\"Stehbord\")),\"Jalousienklinkung\",\"\"))","v":""},{"$f":"IF(W202=\"\",\"\",Daten!D$20)","v":""},null,null,{"$f":"IF(A202=\"\",\"\",IF(Daten!F$1=\"A\",\"Ohne\",IF(OR(N202=\"Gerstenkorn roh\",N202=\"Riffelblech roh\"),\"XPS\",Daten!F$2)))","v":""},{"$f":"IF(A202=\"\",\"\",IF(AA202=\"Ohne\",\"A\",IF(AA202=\"XPS\",IF(Daten!F$1=\"D\",\"B\",Daten!F$1),Daten!F$1)))","v":""},{"$f":"IF(A202=\"\",\"\",IF(AB202=\"A\",\"-\",Daten!F$7))","v":""},{"$f":"IF(A202=\"\",\"\",IF(AB202=\"A\",\"-\",IF(AND(Daten!F$8=0,O202=\"Putzbord\"),5-Q202,0)))","v":""},{"$f":"IF(A202=\"\",\"\",IF(AB202=\"A\",\"-\",IF(AND(Daten!F$8=0,S202=\"Putzbord\"),5-U202,0)))","v":""},{"$f":"IF(A202=\"\",\"\",IF(AB202=\"A\",\"-\",Daten!F$10))","v":""},{"$f":"IFERROR(IF(A202=\"\",\"\",VLOOKUP(N202,Daten!N$1:O$7,2,FALSE)),\"\")","v":""}]
[null,null,null,{"$f":"IF(A203=\"\",\"\",IF(Daten!B$3=TRUE,Daten!B$7,\"\"))","v":""},{"$f":"IFERROR(IF(C203=\"\",\"\",C203+(2*D203)+IF(O203=Daten!M$13,6,0)+IF(S203=Daten!M$13,6,0)+IF(Q203=\"-\",0,Q203)+IF(U203=\"-\",0,U203)),\"\")","v":""},{"$f":"IF(OR(A203=\"\",AND(F$1=0,Daten!F$3=FALSE)),\"\",Daten!B$6)","v":""},{"$f":"IF(A203=\"\",\"\",IF(Daten!B$5=\"??\",\"\",Daten!B$5))","v":""},{"$f":"IF(A203=\"\",\"\",IF(Daten!B$3=FALSE,\"\",Daten!B$4))","v":""},{"$f":"IFERROR(IF(A203=\"\",\"\",G203+H203+IF(AND(G203>0,H203>0),5,0))-IF(Daten!H$21=TRUE,H203,0),\"\")","v":""},{"$f":"IFERROR(IF(A203=\"\",\"\",I203+IF(Daten!H$21=TRUE,H203,0)+IF(F203=\"\",0,F203)-IF(Daten!F$3=TRUE,Daten!F$10,0)),\"\")","v":""},{"$f":"IF(A203=\"\",\"\",Daten!D$14)","v":""},{"$f":"IF(A203=\"\",\"\",Daten!D$12)","v":""},{"$f":"IF(A203=\"\",\"\",Daten!D$13)","v":""},{"$f":"IF(A203=\"\",\"\",Daten!M$2)","v":""},{"$f":"IF(A203=\"\",\"\",IF(Daten!D$6=Daten!N$11,Daten!M$11,IF(Daten!D$6=Daten!N$13,Daten!M$13,IF(AND(Daten!$D$6=Daten!$M$10,Daten!$D$8=TRUE),Daten!$M$14,Daten!D$6))))","v":""},{"$f":"IF($A203=\"\",\"\",IF(OR(O203=\"Putzbord\",O203=\"Flexila PU\"),Daten!$D$15,IF(OR(O203=\"Stehbord\",O203=\"Stehbord HB\",O203=\"Flexila STB\",O203=\"Jalousiebord\"),Daten!$D$19,\"-\")))","v":""},{"$f":"IF($A203=\"\",\"\",IF(O203=\"Putzbord\",Daten!$D$16,IF(O203=\"Flexila PU\",_xlfn.NUMBERVALUE(MID(Daten!$D$17,1,2)),\"-\")))","v":""},{"$f":"IF($A203=\"\",\"\",IF(OR(O203=\"Putzbord\",O203=\"Flexila PU\"),Daten!$D$18,IF(OR(O203=\"Stehbord\",O203=\"Stehbord HB\",O203=\"Flexila STB\",O203=\"Jalousiebord\"),Daten!$D$21,\"-\")))","v":""},{"$f":"IF(A203=\"\",\"\",IF(Daten!D$6=Daten!N$11,Daten!M$11,IF(Daten!D$6=Daten!N$13,Daten!M$13,IF(AND(Daten!$D$6=Daten!$M$10,Daten!$D$8=TRUE),Daten!$M$14,Daten!D$6))))","v":""},{"$f":"IF($A203=\"\",\"\",IF(OR(S203=\"Putzbord\",S203=\"Flexila PU\"),Daten!$D$15,IF(OR(S203=\"Stehbord\",S203=\"Stehbord HB\",S203=\"Flexila STB\",S203=\"Jalousiebord\"),Daten!$D$19,\"-\")))","v":""},{"$f":"IF($A203=\"\",\"\",IF(S203=\"Putzbord\",Daten!$D$16,IF(S203=\"Flexila PU\",_xlfn.NUMBERVALUE(MID(Daten!$D$17,1,2)),\"-\")))","v":""},{"$f":"IF($A203=\"\",\"\",IF(OR(S203=\"Putzbord\",S203=\"Flexila PU\"),Daten!$D$18,IF(OR(S203=\"Stehbord\",S203=\"Stehbord HB\",S203=\"Flexila STB\",S203=\"Jalousiebord\"),Daten!$D$21,\"-\")))","v":""},{"$f":"IF(A203=\"\",\"\",IF(AND(Daten!D$6=\"Jalousiebord\",OR(O203=\"Stehbord\",S203=\"Stehbord\")),\"Jalousienklinkung\",\"\"))","v":""},{"$f":"IF(W203=\"\",\"\",Daten!D$20)","v":""},null,null,{"$f":"IF(A203=\"\",\"\",IF(Daten!F$1=\"A\",\"Ohne\",IF(OR(N203=\"Gerstenkorn roh\",N203=\"Riffelblech roh\"),\"XPS\",Daten!F$2)))","v":""},{"$f":"IF(A203=\"\",\"\",IF(AA203=\"Ohne\",\"A\",IF(AA203=\"XPS\",IF(Daten!F$1=\"D\",\"B\",Daten!F$1),Daten!F$1)))","v":""},{"$f":"IF(A203=\"\",\"\",IF(AB203=\"A\",\"-\",Daten!F$7))","v":""},{"$f":"IF(A203=\"\",\"\",IF(AB203=\"A\",\"-\",IF(AND(Daten!F$8=0,O203=\"Putzbord\"),5-Q203,0)))","v":""},{"$f":"IF(A203=\"\",\"\",IF(AB203=\"A\",\"-\",IF(AND(Daten!F$8=0,S203=\"Putzbord\"),5-U203,0)))","v":""},{"$f":"IF(A203=\"\",\"\",IF(AB203=\"A\",\"-\",Daten!F$10))","v":""},{"$f":"IFERROR(IF(A203=\"\",\"\",VLOOKUP(N203,Daten!N$1:O$7,2,FALSE)),\"\")","v":""}]
[null,null,null,{"$f":"IF(A204=\"\",\"\",IF(Daten!B$3=TRUE,Daten!B$7,\"\"))","v":""},{"$f":"IFERROR(IF(C204=\"\",\"\",C204+(2*D204)+IF(O204=Daten!M$13,6,0)+IF(S204=Daten!M$13,6,0)+IF(Q204=\"-\",0,Q204)+IF(U204=\"-\",0,U204)),\"\")","v":""},{"$f":"IF(OR(A204=\"\",AND(F$1=0,Daten!F$3=FALSE)),\"\",Daten!B$6)","v":""},{"$f":"IF(A204=\"\",\"\",IF(Daten!B$5=\"??\",\"\",Daten!B$5))","v":""},{"$f":"IF(A204=\"\",\"\",IF(Daten!B$3=FALSE,\"\",Daten!B$4))","v":""},{"$f":"IFERROR(IF(A204=\"\",\"\",G204+H204+IF(AND(G204>0,H204>0),5,0))-IF(Daten!H$21=TRUE,H204,0),\"\")","v":""},{"$f":"IFERROR(IF(A204=\"\",\"\",I204+IF(Daten!H$21=TRUE,H204,0)+IF(F204=\"\",0,F204)-IF(Daten!F$3=TRUE,Daten!F$10,0)),\"\")","v":""},{"$f":"IF(A204=\"\",\"\",Daten!D$14)","v":""},{"$f":"IF(A204=\"\",\"\",Daten!D$12)","v":""},{"$f":"IF(A204=\"\",\"\",Daten!D$13)","v":""},{"$f":"IF(A204=\"\",\"\",Daten!M$2)","v":""},{"$f":"IF(A204=\"\",\"\",IF(Daten!D$6=Daten!N$11,Daten!M$11,IF(Daten!D$6=Daten!N$13,Daten!M$13,IF(AND(Daten!$D$6=Daten!$M$10,Daten!$D$8=TRUE),Daten!$M$14,Daten!D$6))))","v":""},{"$f":"IF($A204=\"\",\"\",IF(OR(O204=\"Putzbord\",O204=\"Flexila PU\"),Daten!$D$15,IF(OR(O204=\"Stehbord\",O204=\"Stehbord HB\",O204=\"Flexila STB\",O204=\"Jalousiebord\"),Daten!$D$19,\"-\")))","v":""},{"$f":"IF($A204=\"\",\"\",IF(O204=\"Putzbord\",Daten!$D$16,IF(O204=\"Flexila PU\",_xlfn.NUMBERVALUE(MID(Daten!$D$17,1,2)),\"-\")))","v":""},{"$f":"IF($A204=\"\",\"\",IF(OR(O204=\"Putzbord\",O204=\"Flexila PU\"),Daten!$D$18,IF(OR(O204=\"Stehbord\",O204=\"Stehbord HB\",O204=\"Flexila STB\",O204=\"Jalousiebord\"),Daten!$D$21,\"-\")))","v":""},{"$f":"IF(A204=\"\",\"\",IF(Daten!D$6=Daten!N$11,Daten!M$11,IF(Daten!D$6=Daten!N$13,Daten!M$13,IF(AND(Daten!$D$6=Daten!$M$10,Daten!$D$8=TRUE),Daten!$M$14,Daten!D$6))))","v":""},{"$f":"IF($A204=\"\",\"\",IF(OR(S204=\"Putzbord\",S204=\"Flexila PU\"),Daten!$D$15,IF(OR(S204=\"Stehbord\",S204=\"Stehbord HB\",S204=\"Flexila STB\",S204=\"Jalousiebord\"),Daten!$D$19,\"-\")))","v":""},{"$f":"IF($A204=\"\",\"\",IF(S204=\"Putzbord\",Daten!$D$16,IF(S204=\"Flexila PU\",_xlfn.NUMBERVALUE(MID(Daten!$D$17,1,2)),\"-\")))","v":""},{"$f":"IF($A204=\"\",\"\",IF(OR(S204=\"Putzbord\",S204=\"Flexila PU\"),Daten!$D$18,IF(OR(S204=\"Stehbord\",S204=\"Stehbord HB\",S204=\"Flexila STB\",S204=\"Jalousiebord\"),Daten!$D$21,\"-\")))","v":""},{"$f":"IF(A204=\"\",\"\",IF(AND(Daten!D$6=\"Jalousiebord\",OR(O204=\"Stehbord\",S204=\"Stehbord\")),\"Jalousienklinkung\",\"\"))","v":""},{"$f":"IF(W204=\"\",\"\",Daten!D$20)","v":""},null,null,{"$f":"IF(A204=\"\",\"\",IF(Daten!F$1=\"A\",\"Ohne\",IF(OR(N204=\"Gerstenkorn roh\",N204=\"Riffelblech roh\"),\"XPS\",Daten!F$2)))","v":""},{"$f":"IF(A204=\"\",\"\",IF(AA204=\"Ohne\",\"A\",IF(AA204=\"XPS\",IF(Daten!F$1=\"D\",\"B\",Daten!F$1),Daten!F$1)))","v":""},{"$f":"IF(A204=\"\",\"\",IF(AB204=\"A\",\"-\",Daten!F$7))","v":""},{"$f":"IF(A204=\"\",\"\",IF(AB204=\"A\",\"-\",IF(AND(Daten!F$8=0,O204=\"Putzbord\"),5-Q204,0)))","v":""},{"$f":"IF(A204=\"\",\"\",IF(AB204=\"A\",\"-\",IF(AND(Daten!F$8=0,S204=\"Putzbord\"),5-U204,0)))","v":""},{"$f":"IF(A204=\"\",\"\",IF(AB204=\"A\",\"-\",Daten!F$10))","v":""},{"$f":"IFERROR(IF(A204=\"\",\"\",VLOOKUP(N204,Daten!N$1:O$7,2,FALSE)),\"\")","v":""}]
[null,null,null,{"$f":"IF(A205=\"\",\"\",IF(Daten!B$3=TRUE,Daten!B$7,\"\"))","v":""},{"$f":"IFERROR(IF(C205=\"\",\"\",C205+(2*D205)+IF(O205=Daten!M$13,6,0)+IF(S205=Daten!M$13,6,0)+IF(Q205=\"-\",0,Q205)+IF(U205=\"-\",0,U205)),\"\")","v":""},{"$f":"IF(OR(A205=\"\",AND(F$1=0,Daten!F$3=FALSE)),\"\",Daten!B$6)","v":""},{"$f":"IF(A205=\"\",\"\",IF(Daten!B$5=\"??\",\"\",Daten!B$5))","v":""},{"$f":"IF(A205=\"\",\"\",IF(Daten!B$3=FALSE,\"\",Daten!B$4))","v":""},{"$f":"IFERROR(IF(A205=\"\",\"\",G205+H205+IF(AND(G205>0,H205>0),5,0))-IF(Daten!H$21=TRUE,H205,0),\"\")","v":""},{"$f":"IFERROR(IF(A205=\"\",\"\",I205+IF(Daten!H$21=TRUE,H205,0)+IF(F205=\"\",0,F205)-IF(Daten!F$3=TRUE,Daten!F$10,0)),\"\")","v":""},{"$f":"IF(A205=\"\",\"\",Daten!D$14)","v":""},{"$f":"IF(A205=\"\",\"\",Daten!D$12)","v":""},{"$f":"IF(A205=\"\",\"\",Daten!D$13)","v":""},{"$f":"IF(A205=\"\",\"\",Daten!M$2)","v":""},{"$f":"IF(A205=\"\",\"\",IF(Daten!D$6=Daten!N$11,Daten!M$11,IF(Daten!D$6=Daten!N$13,Daten!M$13,IF(AND(Daten!$D$6=Daten!$M$10,Daten!$D$8=TRUE),Daten!$M$14,Daten!D$6))))","v":""},{"$f":"IF($A205=\"\",\"\",IF(OR(O205=\"Putzbord\",O205=\"Flexila PU\"),Daten!$D$15,IF(OR(O205=\"Stehbord\",O205=\"Stehbord HB\",O205=\"Flexila STB\",O205=\"Jalousiebord\"),Daten!$D$19,\"-\")))","v":""},{"$f":"IF($A205=\"\",\"\",IF(O205=\"Putzbord\",Daten!$D$16,IF(O205=\"Flexila PU\",_xlfn.NUMBERVALUE(MID(Daten!$D$17,1,2)),\"-\")))","v":""},{"$f":"IF($A205=\"\",\"\",IF(OR(O205=\"Putzbord\",O205=\"Flexila PU\"),Daten!$D$18,IF(OR(O205=\"Stehbord\",O205=\"Stehbord HB\",O205=\"Flexila STB\",O205=\"Jalousiebord\"),Daten!$D$21,\"-\")))","v":""},{"$f":"IF(A205=\"\",\"\",IF(Daten!D$6=Daten!N$11,Daten!M$11,IF(Daten!D$6=Daten!N$13,Daten!M$13,IF(AND(Daten!$D$6=Daten!$M$10,Daten!$D$8=TRUE),Daten!$M$14,Daten!D$6))))","v":""},{"$f":"IF($A205=\"\",\"\",IF(OR(S205=\"Putzbord\",S205=\"Flexila PU\"),Daten!$D$15,IF(OR(S205=\"Stehbord\",S205=\"Stehbord HB\",S205=\"Flexila STB\",S205=\"Jalousiebord\"),Daten!$D$19,\"-\")))","v":""},{"$f":"IF($A205=\"\",\"\",IF(S205=\"Putzbord\",Daten!$D$16,IF(S205=\"Flexila PU\",_xlfn.NUMBERVALUE(MID(Daten!$D$17,1,2)),\"-\")))","v":""},{"$f":"IF($A205=\"\",\"\",IF(OR(S205=\"Putzbord\",S205=\"Flexila PU\"),Daten!$D$18,IF(OR(S205=\"Stehbord\",S205=\"Stehbord HB\",S205=\"Flexila STB\",S205=\"Jalousiebord\"),Daten!$D$21,\"-\")))","v":""},{"$f":"IF(A205=\"\",\"\",IF(AND(Daten!D$6=\"Jalousiebord\",OR(O205=\"Stehbord\",S205=\"Stehbord\")),\"Jalousienklinkung\",\"\"))","v":""},{"$f":"IF(W205=\"\",\"\",Daten!D$20)","v":""},null,null,{"$f":"IF(A205=\"\",\"\",IF(Daten!F$1=\"A\",\"Ohne\",IF(OR(N205=\"Gerstenkorn roh\",N205=\"Riffelblech roh\"),\"XPS\",Daten!F$2)))","v":""},{"$f":"IF(A205=\"\",\"\",IF(AA205=\"Ohne\",\"A\",IF(AA205=\"XPS\",IF(Daten!F$1=\"D\",\"B\",Daten!F$1),Daten!F$1)))","v":""},{"$f":"IF(A205=\"\",\"\",IF(AB205=\"A\",\"-\",Daten!F$7))","v":""},{"$f":"IF(A205=\"\",\"\",IF(AB205=\"A\",\"-\",IF(AND(Daten!F$8=0,O205=\"Putzbord\"),5-Q205,0)))","v":""},{"$f":"IF(A205=\"\",\"\",IF(AB205=\"A\",\"-\",IF(AND(Daten!F$8=0,S205=\"Putzbord\"),5-U205,0)))","v":""},{"$f":"IF(A205=\"\",\"\",IF(AB205=\"A\",\"-\",Daten!F$10))","v":""},{"$f":"IFERROR(IF(A205=\"\",\"\",VLOOKUP(N205,Daten!N$1:O$7,2,FALSE)),\"\")","v":""}]
[null,null,null,{"$f":"IF(A206=\"\",\"\",IF(Daten!B$3=TRUE,Daten!B$7,\"\"))","v":""},{"$f":"IFERROR(IF(C206=\"\",\"\",C206+(2*D206)+IF(O206=Daten!M$13,6,0)+IF(S206=Daten!M$13,6,0)+IF(Q206=\"-\",0,Q206)+IF(U206=\"-\",0,U206)),\"\")","v":""},{"$f":"IF(OR(A206=\"\",AND(F$1=0,Daten!F$3=FALSE)),\"\",Daten!B$6)","v":""},{"$f":"IF(A206=\"\",\"\",IF(Daten!B$5=\"??\",\"\",Daten!B$5))","v":""},{"$f":"IF(A206=\"\",\"\",IF(Daten!B$3=FALSE,\"\",Daten!B$4))","v":""},{"$f":"IFERROR(IF(A206=\"\",\"\",G206+H206+IF(AND(G206>0,H206>0),5,0))-IF(Daten!H$21=TRUE,H206,0),\"\")","v":""},{"$f":"IFERROR(IF(A206=\"\",\"\",I206+IF(Daten!H$21=TRUE,H206,0)+IF(F206=\"\",0,F206)-IF(Daten!F$3=TRUE,Daten!F$10,0)),\"\")","v":""},{"$f":"IF(A206=\"\",\"\",Daten!D$14)","v":""},{"$f":"IF(A206=\"\",\"\",Daten!D$12)","v":""},{"$f":"IF(A206=\"\",\"\",Daten!D$13)","v":""},{"$f":"IF(A206=\"\",\"\",Daten!M$2)","v":""},{"$f":"IF(A206=\"\",\"\",IF(Daten!D$6=Daten!N$11,Daten!M$11,IF(Daten!D$6=Daten!N$13,Daten!M$13,IF(AND(Daten!$D$6=Daten!$M$10,Daten!$D$8=TRUE),Daten!$M$14,Daten!D$6))))","v":""},{"$f":"IF($A206=\"\",\"\",IF(OR(O206=\"Putzbord\",O206=\"Flexila PU\"),Daten!$D$15,IF(OR(O206=\"Stehbord\",O206=\"Stehbord HB\",O206=\"Flexila STB\",O206=\"Jalousiebord\"),Daten!$D$19,\"-\")))","v":""},{"$f":"IF($A206=\"\",\"\",IF(O206=\"Putzbord\",Daten!$D$16,IF(O206=\"Flexila PU\",_xlfn.NUMBERVALUE(MID(Daten!$D$17,1,2)),\"-\")))","v":""},{"$f":"IF($A206=\"\",\"\",IF(OR(O206=\"Putzbord\",O206=\"Flexila PU\"),Daten!$D$18,IF(OR(O206=\"Stehbord\",O206=\"Stehbord HB\",O206=\"Flexila STB\",O206=\"Jalousiebord\"),Daten!$D$21,\"-\")))","v":""},{"$f":"IF(A206=\"\",\"\",IF(Daten!D$6=Daten!N$11,Daten!M$11,IF(Daten!D$6=Daten!N$13,Daten!M$13,IF(AND(Daten!$D$6=Daten!$M$10,Daten!$D$8=TRUE),Daten!$M$14,Daten!D$6))))","v":""},{"$f":"IF($A206=\"\",\"\",IF(OR(S206=\"Putzbord\",S206=\"Flexila PU\"),Daten!$D$15,IF(OR(S206=\"Stehbord\",S206=\"Stehbord HB\",S206=\"Flexila STB\",S206=\"Jalousiebord\"),Daten!$D$19,\"-\")))","v":""},{"$f":"IF($A206=\"\",\"\",IF(S206=\"Putzbord\",Daten!$D$16,IF(S206=\"Flexila PU\",_xlfn.NUMBERVALUE(MID(Daten!$D$17,1,2)),\"-\")))","v":""},{"$f":"IF($A206=\"\",\"\",IF(OR(S206=\"Putzbord\",S206=\"Flexila PU\"),Daten!$D$18,IF(OR(S206=\"Stehbord\",S206=\"Stehbord HB\",S206=\"Flexila STB\",S206=\"Jalousiebord\"),Daten!$D$21,\"-\")))","v":""},{"$f":"IF(A206=\"\",\"\",IF(AND(Daten!D$6=\"Jalousiebord\",OR(O206=\"Stehbord\",S206=\"Stehbord\")),\"Jalousienklinkung\",\"\"))","v":""},{"$f":"IF(W206=\"\",\"\",Daten!D$20)","v":""},null,null,{"$f":"IF(A206=\"\",\"\",IF(Daten!F$1=\"A\",\"Ohne\",IF(OR(N206=\"Gerstenkorn roh\",N206=\"Riffelblech roh\"),\"XPS\",Daten!F$2)))","v":""},{"$f":"IF(A206=\"\",\"\",IF(AA206=\"Ohne\",\"A\",IF(AA206=\"XPS\",IF(Daten!F$1=\"D\",\"B\",Daten!F$1),Daten!F$1)))","v":""},{"$f":"IF(A206=\"\",\"\",IF(AB206=\"A\",\"-\",Daten!F$7))","v":""},{"$f":"IF(A206=\"\",\"\",IF(AB206=\"A\",\"-\",IF(AND(Daten!F$8=0,O206=\"Putzbord\"),5-Q206,0)))","v":""},{"$f":"IF(A206=\"\",\"\",IF(AB206=\"A\",\"-\",IF(AND(Daten!F$8=0,S206=\"Putzbord\"),5-U206,0)))","v":""},{"$f":"IF(A206=\"\",\"\",IF(AB206=\"A\",\"-\",Daten!F$10))","v":""},{"$f":"IFERROR(IF(A206=\"\",\"\",VLOOKUP(N206,Daten!N$1:O$7,2,FALSE)),\"\")","v":""}]
[null,null,null,{"$f":"IF(A207=\"\",\"\",IF(Daten!B$3=TRUE,Daten!B$7,\"\"))","v":""},{"$f":"IFERROR(IF(C207=\"\",\"\",C207+(2*D207)+IF(O207=Daten!M$13,6,0)+IF(S207=Daten!M$13,6,0)+IF(Q207=\"-\",0,Q207)+IF(U207=\"-\",0,U207)),\"\")","v":""},{"$f":"IF(OR(A207=\"\",AND(F$1=0,Daten!F$3=FALSE)),\"\",Daten!B$6)","v":""},{"$f":"IF(A207=\"\",\"\",IF(Daten!B$5=\"??\",\"\",Daten!B$5))","v":""},{"$f":"IF(A207=\"\",\"\",IF(Daten!B$3=FALSE,\"\",Daten!B$4))","v":""},{"$f":"IFERROR(IF(A207=\"\",\"\",G207+H207+IF(AND(G207>0,H207>0),5,0))-IF(Daten!H$21=TRUE,H207,0),\"\")","v":""},{"$f":"IFERROR(IF(A207=\"\",\"\",I207+IF(Daten!H$21=TRUE,H207,0)+IF(F207=\"\",0,F207)-IF(Daten!F$3=TRUE,Daten!F$10,0)),\"\")","v":""},{"$f":"IF(A207=\"\",\"\",Daten!D$14)","v":""},{"$f":"IF(A207=\"\",\"\",Daten!D$12)","v":""},{"$f":"IF(A207=\"\",\"\",Daten!D$13)","v":""},{"$f":"IF(A207=\"\",\"\",Daten!M$2)","v":""},{"$f":"IF(A207=\"\",\"\",IF(Daten!D$6=Daten!N$11,Daten!M$11,IF(Daten!D$6=Daten!N$13,Daten!M$13,IF(AND(Daten!$D$6=Daten!$M$10,Daten!$D$8=TRUE),Daten!$M$14,Daten!D$6))))","v":""},{"$f":"IF($A207=\"\",\"\",IF(OR(O207=\"Putzbord\",O207=\"Flexila PU\"),Daten!$D$15,IF(OR(O207=\"Stehbord\",O207=\"Stehbord HB\",O207=\"Flexila STB\",O207=\"Jalousiebord\"),Daten!$D$19,\"-\")))","v":""},{"$f":"IF($A207=\"\",\"\",IF(O207=\"Putzbord\",Daten!$D$16,IF(O207=\"Flexila PU\",_xlfn.NUMBERVALUE(MID(Daten!$D$17,1,2)),\"-\")))","v":""},{"$f":"IF($A207=\"\",\"\",IF(OR(O207=\"Putzbord\",O207=\"Flexila PU\"),Daten!$D$18,IF(OR(O207=\"Stehbord\",O207=\"Stehbord HB\",O207=\"Flexila STB\",O207=\"Jalousiebord\"),Daten!$D$21,\"-\")))","v":""},{"$f":"IF(A207=\"\",\"\",IF(Daten!D$6=Daten!N$11,Daten!M$11,IF(Daten!D$6=Daten!N$13,Daten!M$13,IF(AND(Daten!$D$6=Daten!$M$10,Daten!$D$8=TRUE),Daten!$M$14,Daten!D$6))))","v":""},{"$f":"IF($A207=\"\",\"\",IF(OR(S207=\"Putzbord\",S207=\"Flexila PU\"),Daten!$D$15,IF(OR(S207=\"Stehbord\",S207=\"Stehbord HB\",S207=\"Flexila STB\",S207=\"Jalousiebord\"),Daten!$D$19,\"-\")))","v":""},{"$f":"IF($A207=\"\",\"\",IF(S207=\"Putzbord\",Daten!$D$16,IF(S207=\"Flexila PU\",_xlfn.NUMBERVALUE(MID(Daten!$D$17,1,2)),\"-\")))","v":""},{"$f":"IF($A207=\"\",\"\",IF(OR(S207=\"Putzbord\",S207=\"Flexila PU\"),Daten!$D$18,IF(OR(S207=\"Stehbord\",S207=\"Stehbord HB\",S207=\"Flexila STB\",S207=\"Jalousiebord\"),Daten!$D$21,\"-\")))","v":""},{"$f":"IF(A207=\"\",\"\",IF(AND(Daten!D$6=\"Jalousiebord\",OR(O207=\"Stehbord\",S207=\"Stehbord\")),\"Jalousienklinkung\",\"\"))","v":""},{"$f":"IF(W207=\"\",\"\",Daten!D$20)","v":""},null,null,{"$f":"IF(A207=\"\",\"\",IF(Daten!F$1=\"A\",\"Ohne\",IF(OR(N207=\"Gerstenkorn roh\",N207=\"Riffelblech roh\"),\"XPS\",Daten!F$2)))","v":""},{"$f":"IF(A207=\"\",\"\",IF(AA207=\"Ohne\",\"A\",IF(AA207=\"XPS\",IF(Daten!F$1=\"D\",\"B\",Daten!F$1),Daten!F$1)))","v":""},{"$f":"IF(A207=\"\",\"\",IF(AB207=\"A\",\"-\",Daten!F$7))","v":""},{"$f":"IF(A207=\"\",\"\",IF(AB207=\"A\",\"-\",IF(AND(Daten!F$8=0,O207=\"Putzbord\"),5-Q207,0)))","v":""},{"$f":"IF(A207=\"\",\"\",IF(AB207=\"A\",\"-\",IF(AND(Daten!F$8=0,S207=\"Putzbord\"),5-U207,0)))","v":""},{"$f":"IF(A207=\"\",\"\",IF(AB207=\"A\",\"-\",Daten!F$10))","v":""},{"$f":"IFERROR(IF(A207=\"\",\"\",VLOOKUP(N207,Daten!N$1:O$7,2,FALSE)),\"\")","v":""}]
[null,null,null,{"$f":"IF(A208=\"\",\"\",IF(Daten!B$3=TRUE,Daten!B$7,\"\"))","v":""},{"$f":"IFERROR(IF(C208=\"\",\"\",C208+(2*D208)+IF(O208=Daten!M$13,6,0)+IF(S208=Daten!M$13,6,0)+IF(Q208=\"-\",0,Q208)+IF(U208=\"-\",0,U208)),\"\")","v":""},{"$f":"IF(OR(A208=\"\",AND(F$1=0,Daten!F$3=FALSE)),\"\",Daten!B$6)","v":""},{"$f":"IF(A208=\"\",\"\",IF(Daten!B$5=\"??\",\"\",Daten!B$5))","v":""},{"$f":"IF(A208=\"\",\"\",IF(Daten!B$3=FALSE,\"\",Daten!B$4))","v":""},{"$f":"IFERROR(IF(A208=\"\",\"\",G208+H208+IF(AND(G208>0,H208>0),5,0))-IF(Daten!H$21=TRUE,H208,0),\"\")","v":""},{"$f":"IFERROR(IF(A208=\"\",\"\",I208+IF(Daten!H$21=TRUE,H208,0)+IF(F208=\"\",0,F208)-IF(Daten!F$3=TRUE,Daten!F$10,0)),\"\")","v":""},{"$f":"IF(A208=\"\",\"\",Daten!D$14)","v":""},{"$f":"IF(A208=\"\",\"\",Daten!D$12)","v":""},{"$f":"IF(A208=\"\",\"\",Daten!D$13)","v":""},{"$f":"IF(A208=\"\",\"\",Daten!M$2)","v":""},{"$f":"IF(A208=\"\",\"\",IF(Daten!D$6=Daten!N$11,Daten!M$11,IF(Daten!D$6=Daten!N$13,Daten!M$13,IF(AND(Daten!$D$6=Daten!$M$10,Daten!$D$8=TRUE),Daten!$M$14,Daten!D$6))))","v":""},{"$f":"IF($A208=\"\",\"\",IF(OR(O208=\"Putzbord\",O208=\"Flexila PU\"),Daten!$D$15,IF(OR(O208=\"Stehbord\",O208=\"Stehbord HB\",O208=\"Flexila STB\",O208=\"Jalousiebord\"),Daten!$D$19,\"-\")))","v":""},{"$f":"IF($A208=\"\",\"\",IF(O208=\"Putzbord\",Daten!$D$16,IF(O208=\"Flexila PU\",_xlfn.NUMBERVALUE(MID(Daten!$D$17,1,2)),\"-\")))","v":""},{"$f":"IF($A208=\"\",\"\",IF(OR(O208=\"Putzbord\",O208=\"Flexila PU\"),Daten!$D$18,IF(OR(O208=\"Stehbord\",O208=\"Stehbord HB\",O208=\"Flexila STB\",O208=\"Jalousiebord\"),Daten!$D$21,\"-\")))","v":""},{"$f":"IF(A208=\"\",\"\",IF(Daten!D$6=Daten!N$11,Daten!M$11,IF(Daten!D$6=Daten!N$13,Daten!M$13,IF(AND(Daten!$D$6=Daten!$M$10,Daten!$D$8=TRUE),Daten!$M$14,Daten!D$6))))","v":""},{"$f":"IF($A208=\"\",\"\",IF(OR(S208=\"Putzbord\",S208=\"Flexila PU\"),Daten!$D$15,IF(OR(S208=\"Stehbord\",S208=\"Stehbord HB\",S208=\"Flexila STB\",S208=\"Jalousiebord\"),Daten!$D$19,\"-\")))","v":""},{"$f":"IF($A208=\"\",\"\",IF(S208=\"Putzbord\",Daten!$D$16,IF(S208=\"Flexila PU\",_xlfn.NUMBERVALUE(MID(Daten!$D$17,1,2)),\"-\")))","v":""},{"$f":"IF($A208=\"\",\"\",IF(OR(S208=\"Putzbord\",S208=\"Flexila PU\"),Daten!$D$18,IF(OR(S208=\"Stehbord\",S208=\"Stehbord HB\",S208=\"Flexila STB\",S208=\"Jalousiebord\"),Daten!$D$21,\"-\")))","v":""},{"$f":"IF(A208=\"\",\"\",IF(AND(Daten!D$6=\"Jalousiebord\",OR(O208=\"Stehbord\",S208=\"Stehbord\")),\"Jalousienklinkung\",\"\"))","v":""},{"$f":"IF(W208=\"\",\"\",Daten!D$20)","v":""},null,null,{"$f":"IF(A208=\"\",\"\",IF(Daten!F$1=\"A\",\"Ohne\",IF(OR(N208=\"Gerstenkorn roh\",N208=\"Riffelblech roh\"),\"XPS\",Daten!F$2)))","v":""},{"$f":"IF(A208=\"\",\"\",IF(AA208=\"Ohne\",\"A\",IF(AA208=\"XPS\",IF(Daten!F$1=\"D\",\"B\",Daten!F$1),Daten!F$1)))","v":""},{"$f":"IF(A208=\"\",\"\",IF(AB208=\"A\",\"-\",Daten!F$7))","v":""},{"$f":"IF(A208=\"\",\"\",IF(AB208=\"A\",\"-\",IF(AND(Daten!F$8=0,O208=\"Putzbord\"),5-Q208,0)))","v":""},{"$f":"IF(A208=\"\",\"\",IF(AB208=\"A\",\"-\",IF(AND(Daten!F$8=0,S208=\"Putzbord\"),5-U208,0)))","v":""},{"$f":"IF(A208=\"\",\"\",IF(AB208=\"A\",\"-\",Daten!F$10))","v":""},{"$f":"IFERROR(IF(A208=\"\",\"\",VLOOKUP(N208,Daten!N$1:O$7,2,FALSE)),\"\")","v":""}]
[null,null,null,{"$f":"IF(A209=\"\",\"\",IF(Daten!B$3=TRUE,Daten!B$7,\"\"))","v":""},{"$f":"IFERROR(IF(C209=\"\",\"\",C209+(2*D209)+IF(O209=Daten!M$13,6,0)+IF(S209=Daten!M$13,6,0)+IF(Q209=\"-\",0,Q209)+IF(U209=\"-\",0,U209)),\"\")","v":""},{"$f":"IF(OR(A209=\"\",AND(F$1=0,Daten!F$3=FALSE)),\"\",Daten!B$6)","v":""},{"$f":"IF(A209=\"\",\"\",IF(Daten!B$5=\"??\",\"\",Daten!B$5))","v":""},{"$f":"IF(A209=\"\",\"\",IF(Daten!B$3=FALSE,\"\",Daten!B$4))","v":""},{"$f":"IFERROR(IF(A209=\"\",\"\",G209+H209+IF(AND(G209>0,H209>0),5,0))-IF(Daten!H$21=TRUE,H209,0),\"\")","v":""},{"$f":"IFERROR(IF(A209=\"\",\"\",I209+IF(Daten!H$21=TRUE,H209,0)+IF(F209=\"\",0,F209)-IF(Daten!F$3=TRUE,Daten!F$10,0)),\"\")","v":""},{"$f":"IF(A209=\"\",\"\",Daten!D$14)","v":""},{"$f":"IF(A209=\"\",\"\",Daten!D$12)","v":""},{"$f":"IF(A209=\"\",\"\",Daten!D$13)","v":""},{"$f":"IF(A209=\"\",\"\",Daten!M$2)","v":""},{"$f":"IF(A209=\"\",\"\",IF(Daten!D$6=Daten!N$11,Daten!M$11,IF(Daten!D$6=Daten!N$13,Daten!M$13,IF(AND(Daten!$D$6=Daten!$M$10,Daten!$D$8=TRUE),Daten!$M$14,Daten!D$6))))","v":""},{"$f":"IF($A209=\"\",\"\",IF(OR(O209=\"Putzbord\",O209=\"Flexila PU\"),Daten!$D$15,IF(OR(O209=\"Stehbord\",O209=\"Stehbord HB\",O209=\"Flexila STB\",O209=\"Jalousiebord\"),Daten!$D$19,\"-\")))","v":""},{"$f":"IF($A209=\"\",\"\",IF(O209=\"Putzbord\",Daten!$D$16,IF(O209=\"Flexila PU\",_xlfn.NUMBERVALUE(MID(Daten!$D$17,1,2)),\"-\")))","v":""},{"$f":"IF($A209=\"\",\"\",IF(OR(O209=\"Putzbord\",O209=\"Flexila PU\"),Daten!$D$18,IF(OR(O209=\"Stehbord\",O209=\"Stehbord HB\",O209=\"Flexila STB\",O209=\"Jalousiebord\"),Daten!$D$21,\"-\")))","v":""},{"$f":"IF(A209=\"\",\"\",IF(Daten!D$6=Daten!N$11,Daten!M$11,IF(Daten!D$6=Daten!N$13,Daten!M$13,IF(AND(Daten!$D$6=Daten!$M$10,Daten!$D$8=TRUE),Daten!$M$14,Daten!D$6))))","v":""},{"$f":"IF($A209=\"\",\"\",IF(OR(S209=\"Putzbord\",S209=\"Flexila PU\"),Daten!$D$15,IF(OR(S209=\"Stehbord\",S209=\"Stehbord HB\",S209=\"Flexila STB\",S209=\"Jalousiebord\"),Daten!$D$19,\"-\")))","v":""},{"$f":"IF($A209=\"\",\"\",IF(S209=\"Putzbord\",Daten!$D$16,IF(S209=\"Flexila PU\",_xlfn.NUMBERVALUE(MID(Daten!$D$17,1,2)),\"-\")))","v":""},{"$f":"IF($A209=\"\",\"\",IF(OR(S209=\"Putzbord\",S209=\"Flexila PU\"),Daten!$D$18,IF(OR(S209=\"Stehbord\",S209=\"Stehbord HB\",S209=\"Flexila STB\",S209=\"Jalousiebord\"),Daten!$D$21,\"-\")))","v":""},{"$f":"IF(A209=\"\",\"\",IF(AND(Daten!D$6=\"Jalousiebord\",OR(O209=\"Stehbord\",S209=\"Stehbord\")),\"Jalousienklinkung\",\"\"))","v":""},{"$f":"IF(W209=\"\",\"\",Daten!D$20)","v":""},null,null,{"$f":"IF(A209=\"\",\"\",IF(Daten!F$1=\"A\",\"Ohne\",IF(OR(N209=\"Gerstenkorn roh\",N209=\"Riffelblech roh\"),\"XPS\",Daten!F$2)))","v":""},{"$f":"IF(A209=\"\",\"\",IF(AA209=\"Ohne\",\"A\",IF(AA209=\"XPS\",IF(Daten!F$1=\"D\",\"B\",Daten!F$1),Daten!F$1)))","v":""},{"$f":"IF(A209=\"\",\"\",IF(AB209=\"A\",\"-\",Daten!F$7))","v":""},{"$f":"IF(A209=\"\",\"\",IF(AB209=\"A\",\"-\",IF(AND(Daten!F$8=0,O209=\"Putzbord\"),5-Q209,0)))","v":""},{"$f":"IF(A209=\"\",\"\",IF(AB209=\"A\",\"-\",IF(AND(Daten!F$8=0,S209=\"Putzbord\"),5-U209,0)))","v":""},{"$f":"IF(A209=\"\",\"\",IF(AB209=\"A\",\"-\",Daten!F$10))","v":""},{"$f":"IFERROR(IF(A209=\"\",\"\",VLOOKUP(N209,Daten!N$1:O$7,2,FALSE)),\"\")","v":""}]
[null,null,null,{"$f":"IF(A210=\"\",\"\",IF(Daten!B$3=TRUE,Daten!B$7,\"\"))","v":""},{"$f":"IFERROR(IF(C210=\"\",\"\",C210+(2*D210)+IF(O210=Daten!M$13,6,0)+IF(S210=Daten!M$13,6,0)+IF(Q210=\"-\",0,Q210)+IF(U210=\"-\",0,U210)),\"\")","v":""},{"$f":"IF(OR(A210=\"\",AND(F$1=0,Daten!F$3=FALSE)),\"\",Daten!B$6)","v":""},{"$f":"IF(A210=\"\",\"\",IF(Daten!B$5=\"??\",\"\",Daten!B$5))","v":""},{"$f":"IF(A210=\"\",\"\",IF(Daten!B$3=FALSE,\"\",Daten!B$4))","v":""},{"$f":"IFERROR(IF(A210=\"\",\"\",G210+H210+IF(AND(G210>0,H210>0),5,0))-IF(Daten!H$21=TRUE,H210,0),\"\")","v":""},{"$f":"IFERROR(IF(A210=\"\",\"\",I210+IF(Daten!H$21=TRUE,H210,0)+IF(F210=\"\",0,F210)-IF(Daten!F$3=TRUE,Daten!F$10,0)),\"\")","v":""},{"$f":"IF(A210=\"\",\"\",Daten!D$14)","v":""},{"$f":"IF(A210=\"\",\"\",Daten!D$12)","v":""},{"$f":"IF(A210=\"\",\"\",Daten!D$13)","v":""},{"$f":"IF(A210=\"\",\"\",Daten!M$2)","v":""},{"$f":"IF(A210=\"\",\"\",IF(Daten!D$6=Daten!N$11,Daten!M$11,IF(Daten!D$6=Daten!N$13,Daten!M$13,IF(AND(Daten!$D$6=Daten!$M$10,Daten!$D$8=TRUE),Daten!$M$14,Daten!D$6))))","v":""},{"$f":"IF($A210=\"\",\"\",IF(OR(O210=\"Putzbord\",O210=\"Flexila PU\"),Daten!$D$15,IF(OR(O210=\"Stehbord\",O210=\"Stehbord HB\",O210=\"Flexila STB\",O210=\"Jalousiebord\"),Daten!$D$19,\"-\")))","v":""},{"$f":"IF($A210=\"\",\"\",IF(O210=\"Putzbord\",Daten!$D$16,IF(O210=\"Flexila PU\",_xlfn.NUMBERVALUE(MID(Daten!$D$17,1,2)),\"-\")))","v":""},{"$f":"IF($A210=\"\",\"\",IF(OR(O210=\"Putzbord\",O210=\"Flexila PU\"),Daten!$D$18,IF(OR(O210=\"Stehbord\",O210=\"Stehbord HB\",O210=\"Flexila STB\",O210=\"Jalousiebord\"),Daten!$D$21,\"-\")))","v":""},{"$f":"IF(A210=\"\",\"\",IF(Daten!D$6=Daten!N$11,Daten!M$11,IF(Daten!D$6=Daten!N$13,Daten!M$13,IF(AND(Daten!$D$6=Daten!$M$10,Daten!$D$8=TRUE),Daten!$M$14,Daten!D$6))))","v":""},{"$f":"IF($A210=\"\",\"\",IF(OR(S210=\"Putzbord\",S210=\"Flexila PU\"),Daten!$D$15,IF(OR(S210=\"Stehbord\",S210=\"Stehbord HB\",S210=\"Flexila STB\",S210=\"Jalousiebord\"),Daten!$D$19,\"-\")))","v":""},{"$f":"IF($A210=\"\",\"\",IF(S210=\"Putzbord\",Daten!$D$16,IF(S210=\"Flexila PU\",_xlfn.NUMBERVALUE(MID(Daten!$D$17,1,2)),\"-\")))","v":""},{"$f":"IF($A210=\"\",\"\",IF(OR(S210=\"Putzbord\",S210=\"Flexila PU\"),Daten!$D$18,IF(OR(S210=\"Stehbord\",S210=\"Stehbord HB\",S210=\"Flexila STB\",S210=\"Jalousiebord\"),Daten!$D$21,\"-\")))","v":""},{"$f":"IF(A210=\"\",\"\",IF(AND(Daten!D$6=\"Jalousiebord\",OR(O210=\"Stehbord\",S210=\"Stehbord\")),\"Jalousienklinkung\",\"\"))","v":""},{"$f":"IF(W210=\"\",\"\",Daten!D$20)","v":""},null,null,{"$f":"IF(A210=\"\",\"\",IF(Daten!F$1=\"A\",\"Ohne\",IF(OR(N210=\"Gerstenkorn roh\",N210=\"Riffelblech roh\"),\"XPS\",Daten!F$2)))","v":""},{"$f":"IF(A210=\"\",\"\",IF(AA210=\"Ohne\",\"A\",IF(AA210=\"XPS\",IF(Daten!F$1=\"D\",\"B\",Daten!F$1),Daten!F$1)))","v":""},{"$f":"IF(A210=\"\",\"\",IF(AB210=\"A\",\"-\",Daten!F$7))","v":""},{"$f":"IF(A210=\"\",\"\",IF(AB210=\"A\",\"-\",IF(AND(Daten!F$8=0,O210=\"Putzbord\"),5-Q210,0)))","v":""},{"$f":"IF(A210=\"\",\"\",IF(AB210=\"A\",\"-\",IF(AND(Daten!F$8=0,S210=\"Putzbord\"),5-U210,0)))","v":""},{"$f":"IF(A210=\"\",\"\",IF(AB210=\"A\",\"-\",Daten!F$10))","v":""},{"$f":"IFERROR(IF(A210=\"\",\"\",VLOOKUP(N210,Daten!N$1:O$7,2,FALSE)),\"\")","v":""}]
[null,null,null,{"$f":"IF(A211=\"\",\"\",IF(Daten!B$3=TRUE,Daten!B$7,\"\"))","v":""},{"$f":"IFERROR(IF(C211=\"\",\"\",C211+(2*D211)+IF(O211=Daten!M$13,6,0)+IF(S211=Daten!M$13,6,0)+IF(Q211=\"-\",0,Q211)+IF(U211=\"-\",0,U211)),\"\")","v":""},{"$f":"IF(OR(A211=\"\",AND(F$1=0,Daten!F$3=FALSE)),\"\",Daten!B$6)","v":""},{"$f":"IF(A211=\"\",\"\",IF(Daten!B$5=\"??\",\"\",Daten!B$5))","v":""},{"$f":"IF(A211=\"\",\"\",IF(Daten!B$3=FALSE,\"\",Daten!B$4))","v":""},{"$f":"IFERROR(IF(A211=\"\",\"\",G211+H211+IF(AND(G211>0,H211>0),5,0))-IF(Daten!H$21=TRUE,H211,0),\"\")","v":""},{"$f":"IFERROR(IF(A211=\"\",\"\",I211+IF(Daten!H$21=TRUE,H211,0)+IF(F211=\"\",0,F211)-IF(Daten!F$3=TRUE,Daten!F$10,0)),\"\")","v":""},{"$f":"IF(A211=\"\",\"\",Daten!D$14)","v":""},{"$f":"IF(A211=\"\",\"\",Daten!D$12)","v":""},{"$f":"IF(A211=\"\",\"\",Daten!D$13)","v":""},{"$f":"IF(A211=\"\",\"\",Daten!M$2)","v":""},{"$f":"IF(A211=\"\",\"\",IF(Daten!D$6=Daten!N$11,Daten!M$11,IF(Daten!D$6=Daten!N$13,Daten!M$13,IF(AND(Daten!$D$6=Daten!$M$10,Daten!$D$8=TRUE),Daten!$M$14,Daten!D$6))))","v":""},{"$f":"IF($A211=\"\",\"\",IF(OR(O211=\"Putzbord\",O211=\"Flexila PU\"),Daten!$D$15,IF(OR(O211=\"Stehbord\",O211=\"Stehbord HB\",O211=\"Flexila STB\",O211=\"Jalousiebord\"),Daten!$D$19,\"-\")))","v":""},{"$f":"IF($A211=\"\",\"\",IF(O211=\"Putzbord\",Daten!$D$16,IF(O211=\"Flexila PU\",_xlfn.NUMBERVALUE(MID(Daten!$D$17,1,2)),\"-\")))","v":""},{"$f":"IF($A211=\"\",\"\",IF(OR(O211=\"Putzbord\",O211=\"Flexila PU\"),Daten!$D$18,IF(OR(O211=\"Stehbord\",O211=\"Stehbord HB\",O211=\"Flexila STB\",O211=\"Jalousiebord\"),Daten!$D$21,\"-\")))","v":""},{"$f":"IF(A211=\"\",\"\",IF(Daten!D$6=Daten!N$11,Daten!M$11,IF(Daten!D$6=Daten!N$13,Daten!M$13,IF(AND(Daten!$D$6=Daten!$M$10,Daten!$D$8=TRUE),Daten!$M$14,Daten!D$6))))","v":""},{"$f":"IF($A211=\"\",\"\",IF(OR(S211=\"Putzbord\",S211=\"Flexila PU\"),Daten!$D$15,IF(OR(S211=\"Stehbord\",S211=\"Stehbord HB\",S211=\"Flexila STB\",S211=\"Jalousiebord\"),Daten!$D$19,\"-\")))","v":""},{"$f":"IF($A211=\"\",\"\",IF(S211=\"Putzbord\",Daten!$D$16,IF(S211=\"Flexila PU\",_xlfn.NUMBERVALUE(MID(Daten!$D$17,1,2)),\"-\")))","v":""},{"$f":"IF($A211=\"\",\"\",IF(OR(S211=\"Putzbord\",S211=\"Flexila PU\"),Daten!$D$18,IF(OR(S211=\"Stehbord\",S211=\"Stehbord HB\",S211=\"Flexila STB\",S211=\"Jalousiebord\"),Daten!$D$21,\"-\")))","v":""},{"$f":"IF(A211=\"\",\"\",IF(AND(Daten!D$6=\"Jalousiebord\",OR(O211=\"Stehbord\",S211=\"Stehbord\")),\"Jalousienklinkung\",\"\"))","v":""},{"$f":"IF(W211=\"\",\"\",Daten!D$20)","v":""},null,null,{"$f":"IF(A211=\"\",\"\",IF(Daten!F$1=\"A\",\"Ohne\",IF(OR(N211=\"Gerstenkorn roh\",N211=\"Riffelblech roh\"),\"XPS\",Daten!F$2)))","v":""},{"$f":"IF(A211=\"\",\"\",IF(AA211=\"Ohne\",\"A\",IF(AA211=\"XPS\",IF(Daten!F$1=\"D\",\"B\",Daten!F$1),Daten!F$1)))","v":""},{"$f":"IF(A211=\"\",\"\",IF(AB211=\"A\",\"-\",Daten!F$7))","v":""},{"$f":"IF(A211=\"\",\"\",IF(AB211=\"A\",\"-\",IF(AND(Daten!F$8=0,O211=\"Putzbord\"),5-Q211,0)))","v":""},{"$f":"IF(A211=\"\",\"\",IF(AB211=\"A\",\"-\",IF(AND(Daten!F$8=0,S211=\"Putzbord\"),5-U211,0)))","v":""},{"$f":"IF(A211=\"\",\"\",IF(AB211=\"A\",\"-\",Daten!F$10))","v":""},{"$f":"IFERROR(IF(A211=\"\",\"\",VLOOKUP(N211,Daten!N$1:O$7,2,FALSE)),\"\")","v":""}]
[null,null,null,{"$f":"IF(A212=\"\",\"\",IF(Daten!B$3=TRUE,Daten!B$7,\"\"))","v":""},{"$f":"IFERROR(IF(C212=\"\",\"\",C212+(2*D212)+IF(O212=Daten!M$13,6,0)+IF(S212=Daten!M$13,6,0)+IF(Q212=\"-\",0,Q212)+IF(U212=\"-\",0,U212)),\"\")","v":""},{"$f":"IF(OR(A212=\"\",AND(F$1=0,Daten!F$3=FALSE)),\"\",Daten!B$6)","v":""},{"$f":"IF(A212=\"\",\"\",IF(Daten!B$5=\"??\",\"\",Daten!B$5))","v":""},{"$f":"IF(A212=\"\",\"\",IF(Daten!B$3=FALSE,\"\",Daten!B$4))","v":""},{"$f":"IFERROR(IF(A212=\"\",\"\",G212+H212+IF(AND(G212>0,H212>0),5,0))-IF(Daten!H$21=TRUE,H212,0),\"\")","v":""},{"$f":"IFERROR(IF(A212=\"\",\"\",I212+IF(Daten!H$21=TRUE,H212,0)+IF(F212=\"\",0,F212)-IF(Daten!F$3=TRUE,Daten!F$10,0)),\"\")","v":""},{"$f":"IF(A212=\"\",\"\",Daten!D$14)","v":""},{"$f":"IF(A212=\"\",\"\",Daten!D$12)","v":""},{"$f":"IF(A212=\"\",\"\",Daten!D$13)","v":""},{"$f":"IF(A212=\"\",\"\",Daten!M$2)","v":""},{"$f":"IF(A212=\"\",\"\",IF(Daten!D$6=Daten!N$11,Daten!M$11,IF(Daten!D$6=Daten!N$13,Daten!M$13,IF(AND(Daten!$D$6=Daten!$M$10,Daten!$D$8=TRUE),Daten!$M$14,Daten!D$6))))","v":""},{"$f":"IF($A212=\"\",\"\",IF(OR(O212=\"Putzbord\",O212=\"Flexila PU\"),Daten!$D$15,IF(OR(O212=\"Stehbord\",O212=\"Stehbord HB\",O212=\"Flexila STB\",O212=\"Jalousiebord\"),Daten!$D$19,\"-\")))","v":""},{"$f":"IF($A212=\"\",\"\",IF(O212=\"Putzbord\",Daten!$D$16,IF(O212=\"Flexila PU\",_xlfn.NUMBERVALUE(MID(Daten!$D$17,1,2)),\"-\")))","v":""},{"$f":"IF($A212=\"\",\"\",IF(OR(O212=\"Putzbord\",O212=\"Flexila PU\"),Daten!$D$18,IF(OR(O212=\"Stehbord\",O212=\"Stehbord HB\",O212=\"Flexila STB\",O212=\"Jalousiebord\"),Daten!$D$21,\"-\")))","v":""},{"$f":"IF(A212=\"\",\"\",IF(Daten!D$6=Daten!N$11,Daten!M$11,IF(Daten!D$6=Daten!N$13,Daten!M$13,IF(AND(Daten!$D$6=Daten!$M$10,Daten!$D$8=TRUE),Daten!$M$14,Daten!D$6))))","v":""},{"$f":"IF($A212=\"\",\"\",IF(OR(S212=\"Putzbord\",S212=\"Flexila PU\"),Daten!$D$15,IF(OR(S212=\"Stehbord\",S212=\"Stehbord HB\",S212=\"Flexila STB\",S212=\"Jalousiebord\"),Daten!$D$19,\"-\")))","v":""},{"$f":"IF($A212=\"\",\"\",IF(S212=\"Putzbord\",Daten!$D$16,IF(S212=\"Flexila PU\",_xlfn.NUMBERVALUE(MID(Daten!$D$17,1,2)),\"-\")))","v":""},{"$f":"IF($A212=\"\",\"\",IF(OR(S212=\"Putzbord\",S212=\"Flexila PU\"),Daten!$D$18,IF(OR(S212=\"Stehbord\",S212=\"Stehbord HB\",S212=\"Flexila STB\",S212=\"Jalousiebord\"),Daten!$D$21,\"-\")))","v":""},{"$f":"IF(A212=\"\",\"\",IF(AND(Daten!D$6=\"Jalousiebord\",OR(O212=\"Stehbord\",S212=\"Stehbord\")),\"Jalousienklinkung\",\"\"))","v":""},{"$f":"IF(W212=\"\",\"\",Daten!D$20)","v":""},null,null,{"$f":"IF(A212=\"\",\"\",IF(Daten!F$1=\"A\",\"Ohne\",IF(OR(N212=\"Gerstenkorn roh\",N212=\"Riffelblech roh\"),\"XPS\",Daten!F$2)))","v":""},{"$f":"IF(A212=\"\",\"\",IF(AA212=\"Ohne\",\"A\",IF(AA212=\"XPS\",IF(Daten!F$1=\"D\",\"B\",Daten!F$1),Daten!F$1)))","v":""},{"$f":"IF(A212=\"\",\"\",IF(AB212=\"A\",\"-\",Daten!F$7))","v":""},{"$f":"IF(A212=\"\",\"\",IF(AB212=\"A\",\"-\",IF(AND(Daten!F$8=0,O212=\"Putzbord\"),5-Q212,0)))","v":""},{"$f":"IF(A212=\"\",\"\",IF(AB212=\"A\",\"-\",IF(AND(Daten!F$8=0,S212=\"Putzbord\"),5-U212,0)))","v":""},{"$f":"IF(A212=\"\",\"\",IF(AB212=\"A\",\"-\",Daten!F$10))","v":""},{"$f":"IFERROR(IF(A212=\"\",\"\",VLOOKUP(N212,Daten!N$1:O$7,2,FALSE)),\"\")","v":""}]
[null,null,null,{"$f":"IF(A213=\"\",\"\",IF(Daten!B$3=TRUE,Daten!B$7,\"\"))","v":""},{"$f":"IFERROR(IF(C213=\"\",\"\",C213+(2*D213)+IF(O213=Daten!M$13,6,0)+IF(S213=Daten!M$13,6,0)+IF(Q213=\"-\",0,Q213)+IF(U213=\"-\",0,U213)),\"\")","v":""},{"$f":"IF(OR(A213=\"\",AND(F$1=0,Daten!F$3=FALSE)),\"\",Daten!B$6)","v":""},{"$f":"IF(A213=\"\",\"\",IF(Daten!B$5=\"??\",\"\",Daten!B$5))","v":""},{"$f":"IF(A213=\"\",\"\",IF(Daten!B$3=FALSE,\"\",Daten!B$4))","v":""},{"$f":"IFERROR(IF(A213=\"\",\"\",G213+H213+IF(AND(G213>0,H213>0),5,0))-IF(Daten!H$21=TRUE,H213,0),\"\")","v":""},{"$f":"IFERROR(IF(A213=\"\",\"\",I213+IF(Daten!H$21=TRUE,H213,0)+IF(F213=\"\",0,F213)-IF(Daten!F$3=TRUE,Daten!F$10,0)),\"\")","v":""},{"$f":"IF(A213=\"\",\"\",Daten!D$14)","v":""},{"$f":"IF(A213=\"\",\"\",Daten!D$12)","v":""},{"$f":"IF(A213=\"\",\"\",Daten!D$13)","v":""},{"$f":"IF(A213=\"\",\"\",Daten!M$2)","v":""},{"$f":"IF(A213=\"\",\"\",IF(Daten!D$6=Daten!N$11,Daten!M$11,IF(Daten!D$6=Daten!N$13,Daten!M$13,IF(AND(Daten!$D$6=Daten!$M$10,Daten!$D$8=TRUE),Daten!$M$14,Daten!D$6))))","v":""},{"$f":"IF($A213=\"\",\"\",IF(OR(O213=\"Putzbord\",O213=\"Flexila PU\"),Daten!$D$15,IF(OR(O213=\"Stehbord\",O213=\"Stehbord HB\",O213=\"Flexila STB\",O213=\"Jalousiebord\"),Daten!$D$19,\"-\")))","v":""},{"$f":"IF($A213=\"\",\"\",IF(O213=\"Putzbord\",Daten!$D$16,IF(O213=\"Flexila PU\",_xlfn.NUMBERVALUE(MID(Daten!$D$17,1,2)),\"-\")))","v":""},{"$f":"IF($A213=\"\",\"\",IF(OR(O213=\"Putzbord\",O213=\"Flexila PU\"),Daten!$D$18,IF(OR(O213=\"Stehbord\",O213=\"Stehbord HB\",O213=\"Flexila STB\",O213=\"Jalousiebord\"),Daten!$D$21,\"-\")))","v":""},{"$f":"IF(A213=\"\",\"\",IF(Daten!D$6=Daten!N$11,Daten!M$11,IF(Daten!D$6=Daten!N$13,Daten!M$13,IF(AND(Daten!$D$6=Daten!$M$10,Daten!$D$8=TRUE),Daten!$M$14,Daten!D$6))))","v":""},{"$f":"IF($A213=\"\",\"\",IF(OR(S213=\"Putzbord\",S213=\"Flexila PU\"),Daten!$D$15,IF(OR(S213=\"Stehbord\",S213=\"Stehbord HB\",S213=\"Flexila STB\",S213=\"Jalousiebord\"),Daten!$D$19,\"-\")))","v":""},{"$f":"IF($A213=\"\",\"\",IF(S213=\"Putzbord\",Daten!$D$16,IF(S213=\"Flexila PU\",_xlfn.NUMBERVALUE(MID(Daten!$D$17,1,2)),\"-\")))","v":""},{"$f":"IF($A213=\"\",\"\",IF(OR(S213=\"Putzbord\",S213=\"Flexila PU\"),Daten!$D$18,IF(OR(S213=\"Stehbord\",S213=\"Stehbord HB\",S213=\"Flexila STB\",S213=\"Jalousiebord\"),Daten!$D$21,\"-\")))","v":""},{"$f":"IF(A213=\"\",\"\",IF(AND(Daten!D$6=\"Jalousiebord\",OR(O213=\"Stehbord\",S213=\"Stehbord\")),\"Jalousienklinkung\",\"\"))","v":""},{"$f":"IF(W213=\"\",\"\",Daten!D$20)","v":""},null,null,{"$f":"IF(A213=\"\",\"\",IF(Daten!F$1=\"A\",\"Ohne\",IF(OR(N213=\"Gerstenkorn roh\",N213=\"Riffelblech roh\"),\"XPS\",Daten!F$2)))","v":""},{"$f":"IF(A213=\"\",\"\",IF(AA213=\"Ohne\",\"A\",IF(AA213=\"XPS\",IF(Daten!F$1=\"D\",\"B\",Daten!F$1),Daten!F$1)))","v":""},{"$f":"IF(A213=\"\",\"\",IF(AB213=\"A\",\"-\",Daten!F$7))","v":""},{"$f":"IF(A213=\"\",\"\",IF(AB213=\"A\",\"-\",IF(AND(Daten!F$8=0,O213=\"Putzbord\"),5-Q213,0)))","v":""},{"$f":"IF(A213=\"\",\"\",IF(AB213=\"A\",\"-\",IF(AND(Daten!F$8=0,S213=\"Putzbord\"),5-U213,0)))","v":""},{"$f":"IF(A213=\"\",\"\",IF(AB213=\"A\",\"-\",Daten!F$10))","v":""},{"$f":"IFERROR(IF(A213=\"\",\"\",VLOOKUP(N213,Daten!N$1:O$7,2,FALSE)),\"\")","v":""}]
[null,null,null,{"$f":"IF(A214=\"\",\"\",IF(Daten!B$3=TRUE,Daten!B$7,\"\"))","v":""},{"$f":"IFERROR(IF(C214=\"\",\"\",C214+(2*D214)+IF(O214=Daten!M$13,6,0)+IF(S214=Daten!M$13,6,0)+IF(Q214=\"-\",0,Q214)+IF(U214=\"-\",0,U214)),\"\")","v":""},{"$f":"IF(OR(A214=\"\",AND(F$1=0,Daten!F$3=FALSE)),\"\",Daten!B$6)","v":""},{"$f":"IF(A214=\"\",\"\",IF(Daten!B$5=\"??\",\"\",Daten!B$5))","v":""},{"$f":"IF(A214=\"\",\"\",IF(Daten!B$3=FALSE,\"\",Daten!B$4))","v":""},{"$f":"IFERROR(IF(A214=\"\",\"\",G214+H214+IF(AND(G214>0,H214>0),5,0))-IF(Daten!H$21=TRUE,H214,0),\"\")","v":""},{"$f":"IFERROR(IF(A214=\"\",\"\",I214+IF(Daten!H$21=TRUE,H214,0)+IF(F214=\"\",0,F214)-IF(Daten!F$3=TRUE,Daten!F$10,0)),\"\")","v":""},{"$f":"IF(A214=\"\",\"\",Daten!D$14)","v":""},{"$f":"IF(A214=\"\",\"\",Daten!D$12)","v":""},{"$f":"IF(A214=\"\",\"\",Daten!D$13)","v":""},{"$f":"IF(A214=\"\",\"\",Daten!M$2)","v":""},{"$f":"IF(A214=\"\",\"\",IF(Daten!D$6=Daten!N$11,Daten!M$11,IF(Daten!D$6=Daten!N$13,Daten!M$13,IF(AND(Daten!$D$6=Daten!$M$10,Daten!$D$8=TRUE),Daten!$M$14,Daten!D$6))))","v":""},{"$f":"IF($A214=\"\",\"\",IF(OR(O214=\"Putzbord\",O214=\"Flexila PU\"),Daten!$D$15,IF(OR(O214=\"Stehbord\",O214=\"Stehbord HB\",O214=\"Flexila STB\",O214=\"Jalousiebord\"),Daten!$D$19,\"-\")))","v":""},{"$f":"IF($A214=\"\",\"\",IF(O214=\"Putzbord\",Daten!$D$16,IF(O214=\"Flexila PU\",_xlfn.NUMBERVALUE(MID(Daten!$D$17,1,2)),\"-\")))","v":""},{"$f":"IF($A214=\"\",\"\",IF(OR(O214=\"Putzbord\",O214=\"Flexila PU\"),Daten!$D$18,IF(OR(O214=\"Stehbord\",O214=\"Stehbord HB\",O214=\"Flexila STB\",O214=\"Jalousiebord\"),Daten!$D$21,\"-\")))","v":""},{"$f":"IF(A214=\"\",\"\",IF(Daten!D$6=Daten!N$11,Daten!M$11,IF(Daten!D$6=Daten!N$13,Daten!M$13,IF(AND(Daten!$D$6=Daten!$M$10,Daten!$D$8=TRUE),Daten!$M$14,Daten!D$6))))","v":""},{"$f":"IF($A214=\"\",\"\",IF(OR(S214=\"Putzbord\",S214=\"Flexila PU\"),Daten!$D$15,IF(OR(S214=\"Stehbord\",S214=\"Stehbord HB\",S214=\"Flexila STB\",S214=\"Jalousiebord\"),Daten!$D$19,\"-\")))","v":""},{"$f":"IF($A214=\"\",\"\",IF(S214=\"Putzbord\",Daten!$D$16,IF(S214=\"Flexila PU\",_xlfn.NUMBERVALUE(MID(Daten!$D$17,1,2)),\"-\")))","v":""},{"$f":"IF($A214=\"\",\"\",IF(OR(S214=\"Putzbord\",S214=\"Flexila PU\"),Daten!$D$18,IF(OR(S214=\"Stehbord\",S214=\"Stehbord HB\",S214=\"Flexila STB\",S214=\"Jalousiebord\"),Daten!$D$21,\"-\")))","v":""},{"$f":"IF(A214=\"\",\"\",IF(AND(Daten!D$6=\"Jalousiebord\",OR(O214=\"Stehbord\",S214=\"Stehbord\")),\"Jalousienklinkung\",\"\"))","v":""},{"$f":"IF(W214=\"\",\"\",Daten!D$20)","v":""},null,null,{"$f":"IF(A214=\"\",\"\",IF(Daten!F$1=\"A\",\"Ohne\",IF(OR(N214=\"Gerstenkorn roh\",N214=\"Riffelblech roh\"),\"XPS\",Daten!F$2)))","v":""},{"$f":"IF(A214=\"\",\"\",IF(AA214=\"Ohne\",\"A\",IF(AA214=\"XPS\",IF(Daten!F$1=\"D\",\"B\",Daten!F$1),Daten!F$1)))","v":""},{"$f":"IF(A214=\"\",\"\",IF(AB214=\"A\",\"-\",Daten!F$7))","v":""},{"$f":"IF(A214=\"\",\"\",IF(AB214=\"A\",\"-\",IF(AND(Daten!F$8=0,O214=\"Putzbord\"),5-Q214,0)))","v":""},{"$f":"IF(A214=\"\",\"\",IF(AB214=\"A\",\"-\",IF(AND(Daten!F$8=0,S214=\"Putzbord\"),5-U214,0)))","v":""},{"$f":"IF(A214=\"\",\"\",IF(AB214=\"A\",\"-\",Daten!F$10))","v":""},{"$f":"IFERROR(IF(A214=\"\",\"\",VLOOKUP(N214,Daten!N$1:O$7,2,FALSE)),\"\")","v":""}]
[null,null,null,{"$f":"IF(A215=\"\",\"\",IF(Daten!B$3=TRUE,Daten!B$7,\"\"))","v":""},{"$f":"IFERROR(IF(C215=\"\",\"\",C215+(2*D215)+IF(O215=Daten!M$13,6,0)+IF(S215=Daten!M$13,6,0)+IF(Q215=\"-\",0,Q215)+IF(U215=\"-\",0,U215)),\"\")","v":""},{"$f":"IF(OR(A215=\"\",AND(F$1=0,Daten!F$3=FALSE)),\"\",Daten!B$6)","v":""},{"$f":"IF(A215=\"\",\"\",IF(Daten!B$5=\"??\",\"\",Daten!B$5))","v":""},{"$f":"IF(A215=\"\",\"\",IF(Daten!B$3=FALSE,\"\",Daten!B$4))","v":""},{"$f":"IFERROR(IF(A215=\"\",\"\",G215+H215+IF(AND(G215>0,H215>0),5,0))-IF(Daten!H$21=TRUE,H215,0),\"\")","v":""},{"$f":"IFERROR(IF(A215=\"\",\"\",I215+IF(Daten!H$21=TRUE,H215,0)+IF(F215=\"\",0,F215)-IF(Daten!F$3=TRUE,Daten!F$10,0)),\"\")","v":""},{"$f":"IF(A215=\"\",\"\",Daten!D$14)","v":""},{"$f":"IF(A215=\"\",\"\",Daten!D$12)","v":""},{"$f":"IF(A215=\"\",\"\",Daten!D$13)","v":""},{"$f":"IF(A215=\"\",\"\",Daten!M$2)","v":""},{"$f":"IF(A215=\"\",\"\",IF(Daten!D$6=Daten!N$11,Daten!M$11,IF(Daten!D$6=Daten!N$13,Daten!M$13,IF(AND(Daten!$D$6=Daten!$M$10,Daten!$D$8=TRUE),Daten!$M$14,Daten!D$6))))","v":""},{"$f":"IF($A215=\"\",\"\",IF(OR(O215=\"Putzbord\",O215=\"Flexila PU\"),Daten!$D$15,IF(OR(O215=\"Stehbord\",O215=\"Stehbord HB\",O215=\"Flexila STB\",O215=\"Jalousiebord\"),Daten!$D$19,\"-\")))","v":""},{"$f":"IF($A215=\"\",\"\",IF(O215=\"Putzbord\",Daten!$D$16,IF(O215=\"Flexila PU\",_xlfn.NUMBERVALUE(MID(Daten!$D$17,1,2)),\"-\")))","v":""},{"$f":"IF($A215=\"\",\"\",IF(OR(O215=\"Putzbord\",O215=\"Flexila PU\"),Daten!$D$18,IF(OR(O215=\"Stehbord\",O215=\"Stehbord HB\",O215=\"Flexila STB\",O215=\"Jalousiebord\"),Daten!$D$21,\"-\")))","v":""},{"$f":"IF(A215=\"\",\"\",IF(Daten!D$6=Daten!N$11,Daten!M$11,IF(Daten!D$6=Daten!N$13,Daten!M$13,IF(AND(Daten!$D$6=Daten!$M$10,Daten!$D$8=TRUE),Daten!$M$14,Daten!D$6))))","v":""},{"$f":"IF($A215=\"\",\"\",IF(OR(S215=\"Putzbord\",S215=\"Flexila PU\"),Daten!$D$15,IF(OR(S215=\"Stehbord\",S215=\"Stehbord HB\",S215=\"Flexila STB\",S215=\"Jalousiebord\"),Daten!$D$19,\"-\")))","v":""},{"$f":"IF($A215=\"\",\"\",IF(S215=\"Putzbord\",Daten!$D$16,IF(S215=\"Flexila PU\",_xlfn.NUMBERVALUE(MID(Daten!$D$17,1,2)),\"-\")))","v":""},{"$f":"IF($A215=\"\",\"\",IF(OR(S215=\"Putzbord\",S215=\"Flexila PU\"),Daten!$D$18,IF(OR(S215=\"Stehbord\",S215=\"Stehbord HB\",S215=\"Flexila STB\",S215=\"Jalousiebord\"),Daten!$D$21,\"-\")))","v":""},{"$f":"IF(A215=\"\",\"\",IF(AND(Daten!D$6=\"Jalousiebord\",OR(O215=\"Stehbord\",S215=\"Stehbord\")),\"Jalousienklinkung\",\"\"))","v":""},{"$f":"IF(W215=\"\",\"\",Daten!D$20)","v":""},null,null,{"$f":"IF(A215=\"\",\"\",IF(Daten!F$1=\"A\",\"Ohne\",IF(OR(N215=\"Gerstenkorn roh\",N215=\"Riffelblech roh\"),\"XPS\",Daten!F$2)))","v":""},{"$f":"IF(A215=\"\",\"\",IF(AA215=\"Ohne\",\"A\",IF(AA215=\"XPS\",IF(Daten!F$1=\"D\",\"B\",Daten!F$1),Daten!F$1)))","v":""},{"$f":"IF(A215=\"\",\"\",IF(AB215=\"A\",\"-\",Daten!F$7))","v":""},{"$f":"IF(A215=\"\",\"\",IF(AB215=\"A\",\"-\",IF(AND(Daten!F$8=0,O215=\"Putzbord\"),5-Q215,0)))","v":""},{"$f":"IF(A215=\"\",\"\",IF(AB215=\"A\",\"-\",IF(AND(Daten!F$8=0,S215=\"Putzbord\"),5-U215,0)))","v":""},{"$f":"IF(A215=\"\",\"\",IF(AB215=\"A\",\"-\",Daten!F$10))","v":""},{"$f":"IFERROR(IF(A215=\"\",\"\",VLOOKUP(N215,Daten!N$1:O$7,2,FALSE)),\"\")","v":""}]
[null,null,null,{"$f":"IF(A216=\"\",\"\",IF(Daten!B$3=TRUE,Daten!B$7,\"\"))","v":""},{"$f":"IFERROR(IF(C216=\"\",\"\",C216+(2*D216)+IF(O216=Daten!M$13,6,0)+IF(S216=Daten!M$13,6,0)+IF(Q216=\"-\",0,Q216)+IF(U216=\"-\",0,U216)),\"\")","v":""},{"$f":"IF(OR(A216=\"\",AND(F$1=0,Daten!F$3=FALSE)),\"\",Daten!B$6)","v":""},{"$f":"IF(A216=\"\",\"\",IF(Daten!B$5=\"??\",\"\",Daten!B$5))","v":""},{"$f":"IF(A216=\"\",\"\",IF(Daten!B$3=FALSE,\"\",Daten!B$4))","v":""},{"$f":"IFERROR(IF(A216=\"\",\"\",G216+H216+IF(AND(G216>0,H216>0),5,0))-IF(Daten!H$21=TRUE,H216,0),\"\")","v":""},{"$f":"IFERROR(IF(A216=\"\",\"\",I216+IF(Daten!H$21=TRUE,H216,0)+IF(F216=\"\",0,F216)-IF(Daten!F$3=TRUE,Daten!F$10,0)),\"\")","v":""},{"$f":"IF(A216=\"\",\"\",Daten!D$14)","v":""},{"$f":"IF(A216=\"\",\"\",Daten!D$12)","v":""},{"$f":"IF(A216=\"\",\"\",Daten!D$13)","v":""},{"$f":"IF(A216=\"\",\"\",Daten!M$2)","v":""},{"$f":"IF(A216=\"\",\"\",IF(Daten!D$6=Daten!N$11,Daten!M$11,IF(Daten!D$6=Daten!N$13,Daten!M$13,IF(AND(Daten!$D$6=Daten!$M$10,Daten!$D$8=TRUE),Daten!$M$14,Daten!D$6))))","v":""},{"$f":"IF($A216=\"\",\"\",IF(OR(O216=\"Putzbord\",O216=\"Flexila PU\"),Daten!$D$15,IF(OR(O216=\"Stehbord\",O216=\"Stehbord HB\",O216=\"Flexila STB\",O216=\"Jalousiebord\"),Daten!$D$19,\"-\")))","v":""},{"$f":"IF($A216=\"\",\"\",IF(O216=\"Putzbord\",Daten!$D$16,IF(O216=\"Flexila PU\",_xlfn.NUMBERVALUE(MID(Daten!$D$17,1,2)),\"-\")))","v":""},{"$f":"IF($A216=\"\",\"\",IF(OR(O216=\"Putzbord\",O216=\"Flexila PU\"),Daten!$D$18,IF(OR(O216=\"Stehbord\",O216=\"Stehbord HB\",O216=\"Flexila STB\",O216=\"Jalousiebord\"),Daten!$D$21,\"-\")))","v":""},{"$f":"IF(A216=\"\",\"\",IF(Daten!D$6=Daten!N$11,Daten!M$11,IF(Daten!D$6=Daten!N$13,Daten!M$13,IF(AND(Daten!$D$6=Daten!$M$10,Daten!$D$8=TRUE),Daten!$M$14,Daten!D$6))))","v":""},{"$f":"IF($A216=\"\",\"\",IF(OR(S216=\"Putzbord\",S216=\"Flexila PU\"),Daten!$D$15,IF(OR(S216=\"Stehbord\",S216=\"Stehbord HB\",S216=\"Flexila STB\",S216=\"Jalousiebord\"),Daten!$D$19,\"-\")))","v":""},{"$f":"IF($A216=\"\",\"\",IF(S216=\"Putzbord\",Daten!$D$16,IF(S216=\"Flexila PU\",_xlfn.NUMBERVALUE(MID(Daten!$D$17,1,2)),\"-\")))","v":""},{"$f":"IF($A216=\"\",\"\",IF(OR(S216=\"Putzbord\",S216=\"Flexila PU\"),Daten!$D$18,IF(OR(S216=\"Stehbord\",S216=\"Stehbord HB\",S216=\"Flexila STB\",S216=\"Jalousiebord\"),Daten!$D$21,\"-\")))","v":""},{"$f":"IF(A216=\"\",\"\",IF(AND(Daten!D$6=\"Jalousiebord\",OR(O216=\"Stehbord\",S216=\"Stehbord\")),\"Jalousienklinkung\",\"\"))","v":""},{"$f":"IF(W216=\"\",\"\",Daten!D$20)","v":""},null,null,{"$f":"IF(A216=\"\",\"\",IF(Daten!F$1=\"A\",\"Ohne\",IF(OR(N216=\"Gerstenkorn roh\",N216=\"Riffelblech roh\"),\"XPS\",Daten!F$2)))","v":""},{"$f":"IF(A216=\"\",\"\",IF(AA216=\"Ohne\",\"A\",IF(AA216=\"XPS\",IF(Daten!F$1=\"D\",\"B\",Daten!F$1),Daten!F$1)))","v":""},{"$f":"IF(A216=\"\",\"\",IF(AB216=\"A\",\"-\",Daten!F$7))","v":""},{"$f":"IF(A216=\"\",\"\",IF(AB216=\"A\",\"-\",IF(AND(Daten!F$8=0,O216=\"Putzbord\"),5-Q216,0)))","v":""},{"$f":"IF(A216=\"\",\"\",IF(AB216=\"A\",\"-\",IF(AND(Daten!F$8=0,S216=\"Putzbord\"),5-U216,0)))","v":""},{"$f":"IF(A216=\"\",\"\",IF(AB216=\"A\",\"-\",Daten!F$10))","v":""},{"$f":"IFERROR(IF(A216=\"\",\"\",VLOOKUP(N216,Daten!N$1:O$7,2,FALSE)),\"\")","v":""}]
[null,null,null,{"$f":"IF(A217=\"\",\"\",IF(Daten!B$3=TRUE,Daten!B$7,\"\"))","v":""},{"$f":"IFERROR(IF(C217=\"\",\"\",C217+(2*D217)+IF(O217=Daten!M$13,6,0)+IF(S217=Daten!M$13,6,0)+IF(Q217=\"-\",0,Q217)+IF(U217=\"-\",0,U217)),\"\")","v":""},{"$f":"IF(OR(A217=\"\",AND(F$1=0,Daten!F$3=FALSE)),\"\",Daten!B$6)","v":""},{"$f":"IF(A217=\"\",\"\",IF(Daten!B$5=\"??\",\"\",Daten!B$5))","v":""},{"$f":"IF(A217=\"\",\"\",IF(Daten!B$3=FALSE,\"\",Daten!B$4))","v":""},{"$f":"IFERROR(IF(A217=\"\",\"\",G217+H217+IF(AND(G217>0,H217>0),5,0))-IF(Daten!H$21=TRUE,H217,0),\"\")","v":""},{"$f":"IFERROR(IF(A217=\"\",\"\",I217+IF(Daten!H$21=TRUE,H217,0)+IF(F217=\"\",0,F217)-IF(Daten!F$3=TRUE,Daten!F$10,0)),\"\")","v":""},{"$f":"IF(A217=\"\",\"\",Daten!D$14)","v":""},{"$f":"IF(A217=\"\",\"\",Daten!D$12)","v":""},{"$f":"IF(A217=\"\",\"\",Daten!D$13)","v":""},{"$f":"IF(A217=\"\",\"\",Daten!M$2)","v":""},{"$f":"IF(A217=\"\",\"\",IF(Daten!D$6=Daten!N$11,Daten!M$11,IF(Daten!D$6=Daten!N$13,Daten!M$13,IF(AND(Daten!$D$6=Daten!$M$10,Daten!$D$8=TRUE),Daten!$M$14,Daten!D$6))))","v":""},{"$f":"IF($A217=\"\",\"\",IF(OR(O217=\"Putzbord\",O217=\"Flexila PU\"),Daten!$D$15,IF(OR(O217=\"Stehbord\",O217=\"Stehbord HB\",O217=\"Flexila STB\",O217=\"Jalousiebord\"),Daten!$D$19,\"-\")))","v":""},{"$f":"IF($A217=\"\",\"\",IF(O217=\"Putzbord\",Daten!$D$16,IF(O217=\"Flexila PU\",_xlfn.NUMBERVALUE(MID(Daten!$D$17,1,2)),\"-\")))","v":""},{"$f":"IF($A217=\"\",\"\",IF(OR(O217=\"Putzbord\",O217=\"Flexila PU\"),Daten!$D$18,IF(OR(O217=\"Stehbord\",O217=\"Stehbord HB\",O217=\"Flexila STB\",O217=\"Jalousiebord\"),Daten!$D$21,\"-\")))","v":""},{"$f":"IF(A217=\"\",\"\",IF(Daten!D$6=Daten!N$11,Daten!M$11,IF(Daten!D$6=Daten!N$13,Daten!M$13,IF(AND(Daten!$D$6=Daten!$M$10,Daten!$D$8=TRUE),Daten!$M$14,Daten!D$6))))","v":""},{"$f":"IF($A217=\"\",\"\",IF(OR(S217=\"Putzbord\",S217=\"Flexila PU\"),Daten!$D$15,IF(OR(S217=\"Stehbord\",S217=\"Stehbord HB\",S217=\"Flexila STB\",S217=\"Jalousiebord\"),Daten!$D$19,\"-\")))","v":""},{"$f":"IF($A217=\"\",\"\",IF(S217=\"Putzbord\",Daten!$D$16,IF(S217=\"Flexila PU\",_xlfn.NUMBERVALUE(MID(Daten!$D$17,1,2)),\"-\")))","v":""},{"$f":"IF($A217=\"\",\"\",IF(OR(S217=\"Putzbord\",S217=\"Flexila PU\"),Daten!$D$18,IF(OR(S217=\"Stehbord\",S217=\"Stehbord HB\",S217=\"Flexila STB\",S217=\"Jalousiebord\"),Daten!$D$21,\"-\")))","v":""},{"$f":"IF(A217=\"\",\"\",IF(AND(Daten!D$6=\"Jalousiebord\",OR(O217=\"Stehbord\",S217=\"Stehbord\")),\"Jalousienklinkung\",\"\"))","v":""},{"$f":"IF(W217=\"\",\"\",Daten!D$20)","v":""},null,null,{"$f":"IF(A217=\"\",\"\",IF(Daten!F$1=\"A\",\"Ohne\",IF(OR(N217=\"Gerstenkorn roh\",N217=\"Riffelblech roh\"),\"XPS\",Daten!F$2)))","v":""},{"$f":"IF(A217=\"\",\"\",IF(AA217=\"Ohne\",\"A\",IF(AA217=\"XPS\",IF(Daten!F$1=\"D\",\"B\",Daten!F$1),Daten!F$1)))","v":""},{"$f":"IF(A217=\"\",\"\",IF(AB217=\"A\",\"-\",Daten!F$7))","v":""},{"$f":"IF(A217=\"\",\"\",IF(AB217=\"A\",\"-\",IF(AND(Daten!F$8=0,O217=\"Putzbord\"),5-Q217,0)))","v":""},{"$f":"IF(A217=\"\",\"\",IF(AB217=\"A\",\"-\",IF(AND(Daten!F$8=0,S217=\"Putzbord\"),5-U217,0)))","v":""},{"$f":"IF(A217=\"\",\"\",IF(AB217=\"A\",\"-\",Daten!F$10))","v":""},{"$f":"IFERROR(IF(A217=\"\",\"\",VLOOKUP(N217,Daten!N$1:O$7,2,FALSE)),\"\")","v":""}]
[null,null,null,{"$f":"IF(A218=\"\",\"\",IF(Daten!B$3=TRUE,Daten!B$7,\"\"))","v":""},{"$f":"IFERROR(IF(C218=\"\",\"\",C218+(2*D218)+IF(O218=Daten!M$13,6,0)+IF(S218=Daten!M$13,6,0)+IF(Q218=\"-\",0,Q218)+IF(U218=\"-\",0,U218)),\"\")","v":""},{"$f":"IF(OR(A218=\"\",AND(F$1=0,Daten!F$3=FALSE)),\"\",Daten!B$6)","v":""},{"$f":"IF(A218=\"\",\"\",IF(Daten!B$5=\"??\",\"\",Daten!B$5))","v":""},{"$f":"IF(A218=\"\",\"\",IF(Daten!B$3=FALSE,\"\",Daten!B$4))","v":""},{"$f":"IFERROR(IF(A218=\"\",\"\",G218+H218+IF(AND(G218>0,H218>0),5,0))-IF(Daten!H$21=TRUE,H218,0),\"\")","v":""},{"$f":"IFERROR(IF(A218=\"\",\"\",I218+IF(Daten!H$21=TRUE,H218,0)+IF(F218=\"\",0,F218)-IF(Daten!F$3=TRUE,Daten!F$10,0)),\"\")","v":""},{"$f":"IF(A218=\"\",\"\",Daten!D$14)","v":""},{"$f":"IF(A218=\"\",\"\",Daten!D$12)","v":""},{"$f":"IF(A218=\"\",\"\",Daten!D$13)","v":""},{"$f":"IF(A218=\"\",\"\",Daten!M$2)","v":""},{"$f":"IF(A218=\"\",\"\",IF(Daten!D$6=Daten!N$11,Daten!M$11,IF(Daten!D$6=Daten!N$13,Daten!M$13,IF(AND(Daten!$D$6=Daten!$M$10,Daten!$D$8=TRUE),Daten!$M$14,Daten!D$6))))","v":""},{"$f":"IF($A218=\"\",\"\",IF(OR(O218=\"Putzbord\",O218=\"Flexila PU\"),Daten!$D$15,IF(OR(O218=\"Stehbord\",O218=\"Stehbord HB\",O218=\"Flexila STB\",O218=\"Jalousiebord\"),Daten!$D$19,\"-\")))","v":""},{"$f":"IF($A218=\"\",\"\",IF(O218=\"Putzbord\",Daten!$D$16,IF(O218=\"Flexila PU\",_xlfn.NUMBERVALUE(MID(Daten!$D$17,1,2)),\"-\")))","v":""},{"$f":"IF($A218=\"\",\"\",IF(OR(O218=\"Putzbord\",O218=\"Flexila PU\"),Daten!$D$18,IF(OR(O218=\"Stehbord\",O218=\"Stehbord HB\",O218=\"Flexila STB\",O218=\"Jalousiebord\"),Daten!$D$21,\"-\")))","v":""},{"$f":"IF(A218=\"\",\"\",IF(Daten!D$6=Daten!N$11,Daten!M$11,IF(Daten!D$6=Daten!N$13,Daten!M$13,IF(AND(Daten!$D$6=Daten!$M$10,Daten!$D$8=TRUE),Daten!$M$14,Daten!D$6))))","v":""},{"$f":"IF($A218=\"\",\"\",IF(OR(S218=\"Putzbord\",S218=\"Flexila PU\"),Daten!$D$15,IF(OR(S218=\"Stehbord\",S218=\"Stehbord HB\",S218=\"Flexila STB\",S218=\"Jalousiebord\"),Daten!$D$19,\"-\")))","v":""},{"$f":"IF($A218=\"\",\"\",IF(S218=\"Putzbord\",Daten!$D$16,IF(S218=\"Flexila PU\",_xlfn.NUMBERVALUE(MID(Daten!$D$17,1,2)),\"-\")))","v":""},{"$f":"IF($A218=\"\",\"\",IF(OR(S218=\"Putzbord\",S218=\"Flexila PU\"),Daten!$D$18,IF(OR(S218=\"Stehbord\",S218=\"Stehbord HB\",S218=\"Flexila STB\",S218=\"Jalousiebord\"),Daten!$D$21,\"-\")))","v":""},{"$f":"IF(A218=\"\",\"\",IF(AND(Daten!D$6=\"Jalousiebord\",OR(O218=\"Stehbord\",S218=\"Stehbord\")),\"Jalousienklinkung\",\"\"))","v":""},{"$f":"IF(W218=\"\",\"\",Daten!D$20)","v":""},null,null,{"$f":"IF(A218=\"\",\"\",IF(Daten!F$1=\"A\",\"Ohne\",IF(OR(N218=\"Gerstenkorn roh\",N218=\"Riffelblech roh\"),\"XPS\",Daten!F$2)))","v":""},{"$f":"IF(A218=\"\",\"\",IF(AA218=\"Ohne\",\"A\",IF(AA218=\"XPS\",IF(Daten!F$1=\"D\",\"B\",Daten!F$1),Daten!F$1)))","v":""},{"$f":"IF(A218=\"\",\"\",IF(AB218=\"A\",\"-\",Daten!F$7))","v":""},{"$f":"IF(A218=\"\",\"\",IF(AB218=\"A\",\"-\",IF(AND(Daten!F$8=0,O218=\"Putzbord\"),5-Q218,0)))","v":""},{"$f":"IF(A218=\"\",\"\",IF(AB218=\"A\",\"-\",IF(AND(Daten!F$8=0,S218=\"Putzbord\"),5-U218,0)))","v":""},{"$f":"IF(A218=\"\",\"\",IF(AB218=\"A\",\"-\",Daten!F$10))","v":""},{"$f":"IFERROR(IF(A218=\"\",\"\",VLOOKUP(N218,Daten!N$1:O$7,2,FALSE)),\"\")","v":""}]
[null,null,null,{"$f":"IF(A219=\"\",\"\",IF(Daten!B$3=TRUE,Daten!B$7,\"\"))","v":""},{"$f":"IFERROR(IF(C219=\"\",\"\",C219+(2*D219)+IF(O219=Daten!M$13,6,0)+IF(S219=Daten!M$13,6,0)+IF(Q219=\"-\",0,Q219)+IF(U219=\"-\",0,U219)),\"\")","v":""},{"$f":"IF(OR(A219=\"\",AND(F$1=0,Daten!F$3=FALSE)),\"\",Daten!B$6)","v":""},{"$f":"IF(A219=\"\",\"\",IF(Daten!B$5=\"??\",\"\",Daten!B$5))","v":""},{"$f":"IF(A219=\"\",\"\",IF(Daten!B$3=FALSE,\"\",Daten!B$4))","v":""},{"$f":"IFERROR(IF(A219=\"\",\"\",G219+H219+IF(AND(G219>0,H219>0),5,0))-IF(Daten!H$21=TRUE,H219,0),\"\")","v":""},{"$f":"IFERROR(IF(A219=\"\",\"\",I219+IF(Daten!H$21=TRUE,H219,0)+IF(F219=\"\",0,F219)-IF(Daten!F$3=TRUE,Daten!F$10,0)),\"\")","v":""},{"$f":"IF(A219=\"\",\"\",Daten!D$14)","v":""},{"$f":"IF(A219=\"\",\"\",Daten!D$12)","v":""},{"$f":"IF(A219=\"\",\"\",Daten!D$13)","v":""},{"$f":"IF(A219=\"\",\"\",Daten!M$2)","v":""},{"$f":"IF(A219=\"\",\"\",IF(Daten!D$6=Daten!N$11,Daten!M$11,IF(Daten!D$6=Daten!N$13,Daten!M$13,IF(AND(Daten!$D$6=Daten!$M$10,Daten!$D$8=TRUE),Daten!$M$14,Daten!D$6))))","v":""},{"$f":"IF($A219=\"\",\"\",IF(OR(O219=\"Putzbord\",O219=\"Flexila PU\"),Daten!$D$15,IF(OR(O219=\"Stehbord\",O219=\"Stehbord HB\",O219=\"Flexila STB\",O219=\"Jalousiebord\"),Daten!$D$19,\"-\")))","v":""},{"$f":"IF($A219=\"\",\"\",IF(O219=\"Putzbord\",Daten!$D$16,IF(O219=\"Flexila PU\",_xlfn.NUMBERVALUE(MID(Daten!$D$17,1,2)),\"-\")))","v":""},{"$f":"IF($A219=\"\",\"\",IF(OR(O219=\"Putzbord\",O219=\"Flexila PU\"),Daten!$D$18,IF(OR(O219=\"Stehbord\",O219=\"Stehbord HB\",O219=\"Flexila STB\",O219=\"Jalousiebord\"),Daten!$D$21,\"-\")))","v":""},{"$f":"IF(A219=\"\",\"\",IF(Daten!D$6=Daten!N$11,Daten!M$11,IF(Daten!D$6=Daten!N$13,Daten!M$13,IF(AND(Daten!$D$6=Daten!$M$10,Daten!$D$8=TRUE),Daten!$M$14,Daten!D$6))))","v":""},{"$f":"IF($A219=\"\",\"\",IF(OR(S219=\"Putzbord\",S219=\"Flexila PU\"),Daten!$D$15,IF(OR(S219=\"Stehbord\",S219=\"Stehbord HB\",S219=\"Flexila STB\",S219=\"Jalousiebord\"),Daten!$D$19,\"-\")))","v":""},{"$f":"IF($A219=\"\",\"\",IF(S219=\"Putzbord\",Daten!$D$16,IF(S219=\"Flexila PU\",_xlfn.NUMBERVALUE(MID(Daten!$D$17,1,2)),\"-\")))","v":""},{"$f":"IF($A219=\"\",\"\",IF(OR(S219=\"Putzbord\",S219=\"Flexila PU\"),Daten!$D$18,IF(OR(S219=\"Stehbord\",S219=\"Stehbord HB\",S219=\"Flexila STB\",S219=\"Jalousiebord\"),Daten!$D$21,\"-\")))","v":""},{"$f":"IF(A219=\"\",\"\",IF(AND(Daten!D$6=\"Jalousiebord\",OR(O219=\"Stehbord\",S219=\"Stehbord\")),\"Jalousienklinkung\",\"\"))","v":""},{"$f":"IF(W219=\"\",\"\",Daten!D$20)","v":""},null,null,{"$f":"IF(A219=\"\",\"\",IF(Daten!F$1=\"A\",\"Ohne\",IF(OR(N219=\"Gerstenkorn roh\",N219=\"Riffelblech roh\"),\"XPS\",Daten!F$2)))","v":""},{"$f":"IF(A219=\"\",\"\",IF(AA219=\"Ohne\",\"A\",IF(AA219=\"XPS\",IF(Daten!F$1=\"D\",\"B\",Daten!F$1),Daten!F$1)))","v":""},{"$f":"IF(A219=\"\",\"\",IF(AB219=\"A\",\"-\",Daten!F$7))","v":""},{"$f":"IF(A219=\"\",\"\",IF(AB219=\"A\",\"-\",IF(AND(Daten!F$8=0,O219=\"Putzbord\"),5-Q219,0)))","v":""},{"$f":"IF(A219=\"\",\"\",IF(AB219=\"A\",\"-\",IF(AND(Daten!F$8=0,S219=\"Putzbord\"),5-U219,0)))","v":""},{"$f":"IF(A219=\"\",\"\",IF(AB219=\"A\",\"-\",Daten!F$10))","v":""},{"$f":"IFERROR(IF(A219=\"\",\"\",VLOOKUP(N219,Daten!N$1:O$7,2,FALSE)),\"\")","v":""}]
[null,null,null,{"$f":"IF(A220=\"\",\"\",IF(Daten!B$3=TRUE,Daten!B$7,\"\"))","v":""},{"$f":"IFERROR(IF(C220=\"\",\"\",C220+(2*D220)+IF(O220=Daten!M$13,6,0)+IF(S220=Daten!M$13,6,0)+IF(Q220=\"-\",0,Q220)+IF(U220=\"-\",0,U220)),\"\")","v":""},{"$f":"IF(OR(A220=\"\",AND(F$1=0,Daten!F$3=FALSE)),\"\",Daten!B$6)","v":""},{"$f":"IF(A220=\"\",\"\",IF(Daten!B$5=\"??\",\"\",Daten!B$5))","v":""},{"$f":"IF(A220=\"\",\"\",IF(Daten!B$3=FALSE,\"\",Daten!B$4))","v":""},{"$f":"IFERROR(IF(A220=\"\",\"\",G220+H220+IF(AND(G220>0,H220>0),5,0))-IF(Daten!H$21=TRUE,H220,0),\"\")","v":""},{"$f":"IFERROR(IF(A220=\"\",\"\",I220+IF(Daten!H$21=TRUE,H220,0)+IF(F220=\"\",0,F220)-IF(Daten!F$3=TRUE,Daten!F$10,0)),\"\")","v":""},{"$f":"IF(A220=\"\",\"\",Daten!D$14)","v":""},{"$f":"IF(A220=\"\",\"\",Daten!D$12)","v":""},{"$f":"IF(A220=\"\",\"\",Daten!D$13)","v":""},{"$f":"IF(A220=\"\",\"\",Daten!M$2)","v":""},{"$f":"IF(A220=\"\",\"\",IF(Daten!D$6=Daten!N$11,Daten!M$11,IF(Daten!D$6=Daten!N$13,Daten!M$13,IF(AND(Daten!$D$6=Daten!$M$10,Daten!$D$8=TRUE),Daten!$M$14,Daten!D$6))))","v":""},{"$f":"IF($A220=\"\",\"\",IF(OR(O220=\"Putzbord\",O220=\"Flexila PU\"),Daten!$D$15,IF(OR(O220=\"Stehbord\",O220=\"Stehbord HB\",O220=\"Flexila STB\",O220=\"Jalousiebord\"),Daten!$D$19,\"-\")))","v":""},{"$f":"IF($A220=\"\",\"\",IF(O220=\"Putzbord\",Daten!$D$16,IF(O220=\"Flexila PU\",_xlfn.NUMBERVALUE(MID(Daten!$D$17,1,2)),\"-\")))","v":""},{"$f":"IF($A220=\"\",\"\",IF(OR(O220=\"Putzbord\",O220=\"Flexila PU\"),Daten!$D$18,IF(OR(O220=\"Stehbord\",O220=\"Stehbord HB\",O220=\"Flexila STB\",O220=\"Jalousiebord\"),Daten!$D$21,\"-\")))","v":""},{"$f":"IF(A220=\"\",\"\",IF(Daten!D$6=Daten!N$11,Daten!M$11,IF(Daten!D$6=Daten!N$13,Daten!M$13,IF(AND(Daten!$D$6=Daten!$M$10,Daten!$D$8=TRUE),Daten!$M$14,Daten!D$6))))","v":""},{"$f":"IF($A220=\"\",\"\",IF(OR(S220=\"Putzbord\",S220=\"Flexila PU\"),Daten!$D$15,IF(OR(S220=\"Stehbord\",S220=\"Stehbord HB\",S220=\"Flexila STB\",S220=\"Jalousiebord\"),Daten!$D$19,\"-\")))","v":""},{"$f":"IF($A220=\"\",\"\",IF(S220=\"Putzbord\",Daten!$D$16,IF(S220=\"Flexila PU\",_xlfn.NUMBERVALUE(MID(Daten!$D$17,1,2)),\"-\")))","v":""},{"$f":"IF($A220=\"\",\"\",IF(OR(S220=\"Putzbord\",S220=\"Flexila PU\"),Daten!$D$18,IF(OR(S220=\"Stehbord\",S220=\"Stehbord HB\",S220=\"Flexila STB\",S220=\"Jalousiebord\"),Daten!$D$21,\"-\")))","v":""},{"$f":"IF(A220=\"\",\"\",IF(AND(Daten!D$6=\"Jalousiebord\",OR(O220=\"Stehbord\",S220=\"Stehbord\")),\"Jalousienklinkung\",\"\"))","v":""},{"$f":"IF(W220=\"\",\"\",Daten!D$20)","v":""},null,null,{"$f":"IF(A220=\"\",\"\",IF(Daten!F$1=\"A\",\"Ohne\",IF(OR(N220=\"Gerstenkorn roh\",N220=\"Riffelblech roh\"),\"XPS\",Daten!F$2)))","v":""},{"$f":"IF(A220=\"\",\"\",IF(AA220=\"Ohne\",\"A\",IF(AA220=\"XPS\",IF(Daten!F$1=\"D\",\"B\",Daten!F$1),Daten!F$1)))","v":""},{"$f":"IF(A220=\"\",\"\",IF(AB220=\"A\",\"-\",Daten!F$7))","v":""},{"$f":"IF(A220=\"\",\"\",IF(AB220=\"A\",\"-\",IF(AND(Daten!F$8=0,O220=\"Putzbord\"),5-Q220,0)))","v":""},{"$f":"IF(A220=\"\",\"\",IF(AB220=\"A\",\"-\",IF(AND(Daten!F$8=0,S220=\"Putzbord\"),5-U220,0)))","v":""},{"$f":"IF(A220=\"\",\"\",IF(AB220=\"A\",\"-\",Daten!F$10))","v":""},{"$f":"IFERROR(IF(A220=\"\",\"\",VLOOKUP(N220,Daten!N$1:O$7,2,FALSE)),\"\")","v":""}]
[null,null,null,{"$f":"IF(A221=\"\",\"\",IF(Daten!B$3=TRUE,Daten!B$7,\"\"))","v":""},{"$f":"IFERROR(IF(C221=\"\",\"\",C221+(2*D221)+IF(O221=Daten!M$13,6,0)+IF(S221=Daten!M$13,6,0)+IF(Q221=\"-\",0,Q221)+IF(U221=\"-\",0,U221)),\"\")","v":""},{"$f":"IF(OR(A221=\"\",AND(F$1=0,Daten!F$3=FALSE)),\"\",Daten!B$6)","v":""},{"$f":"IF(A221=\"\",\"\",IF(Daten!B$5=\"??\",\"\",Daten!B$5))","v":""},{"$f":"IF(A221=\"\",\"\",IF(Daten!B$3=FALSE,\"\",Daten!B$4))","v":""},{"$f":"IFERROR(IF(A221=\"\",\"\",G221+H221+IF(AND(G221>0,H221>0),5,0))-IF(Daten!H$21=TRUE,H221,0),\"\")","v":""},{"$f":"IFERROR(IF(A221=\"\",\"\",I221+IF(Daten!H$21=TRUE,H221,0)+IF(F221=\"\",0,F221)-IF(Daten!F$3=TRUE,Daten!F$10,0)),\"\")","v":""},{"$f":"IF(A221=\"\",\"\",Daten!D$14)","v":""},{"$f":"IF(A221=\"\",\"\",Daten!D$12)","v":""},{"$f":"IF(A221=\"\",\"\",Daten!D$13)","v":""},{"$f":"IF(A221=\"\",\"\",Daten!M$2)","v":""},{"$f":"IF(A221=\"\",\"\",IF(Daten!D$6=Daten!N$11,Daten!M$11,IF(Daten!D$6=Daten!N$13,Daten!M$13,IF(AND(Daten!$D$6=Daten!$M$10,Daten!$D$8=TRUE),Daten!$M$14,Daten!D$6))))","v":""},{"$f":"IF($A221=\"\",\"\",IF(OR(O221=\"Putzbord\",O221=\"Flexila PU\"),Daten!$D$15,IF(OR(O221=\"Stehbord\",O221=\"Stehbord HB\",O221=\"Flexila STB\",O221=\"Jalousiebord\"),Daten!$D$19,\"-\")))","v":""},{"$f":"IF($A221=\"\",\"\",IF(O221=\"Putzbord\",Daten!$D$16,IF(O221=\"Flexila PU\",_xlfn.NUMBERVALUE(MID(Daten!$D$17,1,2)),\"-\")))","v":""},{"$f":"IF($A221=\"\",\"\",IF(OR(O221=\"Putzbord\",O221=\"Flexila PU\"),Daten!$D$18,IF(OR(O221=\"Stehbord\",O221=\"Stehbord HB\",O221=\"Flexila STB\",O221=\"Jalousiebord\"),Daten!$D$21,\"-\")))","v":""},{"$f":"IF(A221=\"\",\"\",IF(Daten!D$6=Daten!N$11,Daten!M$11,IF(Daten!D$6=Daten!N$13,Daten!M$13,IF(AND(Daten!$D$6=Daten!$M$10,Daten!$D$8=TRUE),Daten!$M$14,Daten!D$6))))","v":""},{"$f":"IF($A221=\"\",\"\",IF(OR(S221=\"Putzbord\",S221=\"Flexila PU\"),Daten!$D$15,IF(OR(S221=\"Stehbord\",S221=\"Stehbord HB\",S221=\"Flexila STB\",S221=\"Jalousiebord\"),Daten!$D$19,\"-\")))","v":""},{"$f":"IF($A221=\"\",\"\",IF(S221=\"Putzbord\",Daten!$D$16,IF(S221=\"Flexila PU\",_xlfn.NUMBERVALUE(MID(Daten!$D$17,1,2)),\"-\")))","v":""},{"$f":"IF($A221=\"\",\"\",IF(OR(S221=\"Putzbord\",S221=\"Flexila PU\"),Daten!$D$18,IF(OR(S221=\"Stehbord\",S221=\"Stehbord HB\",S221=\"Flexila STB\",S221=\"Jalousiebord\"),Daten!$D$21,\"-\")))","v":""},{"$f":"IF(A221=\"\",\"\",IF(AND(Daten!D$6=\"Jalousiebord\",OR(O221=\"Stehbord\",S221=\"Stehbord\")),\"Jalousienklinkung\",\"\"))","v":""},{"$f":"IF(W221=\"\",\"\",Daten!D$20)","v":""},null,null,{"$f":"IF(A221=\"\",\"\",IF(Daten!F$1=\"A\",\"Ohne\",IF(OR(N221=\"Gerstenkorn roh\",N221=\"Riffelblech roh\"),\"XPS\",Daten!F$2)))","v":""},{"$f":"IF(A221=\"\",\"\",IF(AA221=\"Ohne\",\"A\",IF(AA221=\"XPS\",IF(Daten!F$1=\"D\",\"B\",Daten!F$1),Daten!F$1)))","v":""},{"$f":"IF(A221=\"\",\"\",IF(AB221=\"A\",\"-\",Daten!F$7))","v":""},{"$f":"IF(A221=\"\",\"\",IF(AB221=\"A\",\"-\",IF(AND(Daten!F$8=0,O221=\"Putzbord\"),5-Q221,0)))","v":""},{"$f":"IF(A221=\"\",\"\",IF(AB221=\"A\",\"-\",IF(AND(Daten!F$8=0,S221=\"Putzbord\"),5-U221,0)))","v":""},{"$f":"IF(A221=\"\",\"\",IF(AB221=\"A\",\"-\",Daten!F$10))","v":""},{"$f":"IFERROR(IF(A221=\"\",\"\",VLOOKUP(N221,Daten!N$1:O$7,2,FALSE)),\"\")","v":""}]
[null,null,null,{"$f":"IF(A222=\"\",\"\",IF(Daten!B$3=TRUE,Daten!B$7,\"\"))","v":""},{"$f":"IFERROR(IF(C222=\"\",\"\",C222+(2*D222)+IF(O222=Daten!M$13,6,0)+IF(S222=Daten!M$13,6,0)+IF(Q222=\"-\",0,Q222)+IF(U222=\"-\",0,U222)),\"\")","v":""},{"$f":"IF(OR(A222=\"\",AND(F$1=0,Daten!F$3=FALSE)),\"\",Daten!B$6)","v":""},{"$f":"IF(A222=\"\",\"\",IF(Daten!B$5=\"??\",\"\",Daten!B$5))","v":""},{"$f":"IF(A222=\"\",\"\",IF(Daten!B$3=FALSE,\"\",Daten!B$4))","v":""},{"$f":"IFERROR(IF(A222=\"\",\"\",G222+H222+IF(AND(G222>0,H222>0),5,0))-IF(Daten!H$21=TRUE,H222,0),\"\")","v":""},{"$f":"IFERROR(IF(A222=\"\",\"\",I222+IF(Daten!H$21=TRUE,H222,0)+IF(F222=\"\",0,F222)-IF(Daten!F$3=TRUE,Daten!F$10,0)),\"\")","v":""},{"$f":"IF(A222=\"\",\"\",Daten!D$14)","v":""},{"$f":"IF(A222=\"\",\"\",Daten!D$12)","v":""},{"$f":"IF(A222=\"\",\"\",Daten!D$13)","v":""},{"$f":"IF(A222=\"\",\"\",Daten!M$2)","v":""},{"$f":"IF(A222=\"\",\"\",IF(Daten!D$6=Daten!N$11,Daten!M$11,IF(Daten!D$6=Daten!N$13,Daten!M$13,IF(AND(Daten!$D$6=Daten!$M$10,Daten!$D$8=TRUE),Daten!$M$14,Daten!D$6))))","v":""},{"$f":"IF($A222=\"\",\"\",IF(OR(O222=\"Putzbord\",O222=\"Flexila PU\"),Daten!$D$15,IF(OR(O222=\"Stehbord\",O222=\"Stehbord HB\",O222=\"Flexila STB\",O222=\"Jalousiebord\"),Daten!$D$19,\"-\")))","v":""},{"$f":"IF($A222=\"\",\"\",IF(O222=\"Putzbord\",Daten!$D$16,IF(O222=\"Flexila PU\",_xlfn.NUMBERVALUE(MID(Daten!$D$17,1,2)),\"-\")))","v":""},{"$f":"IF($A222=\"\",\"\",IF(OR(O222=\"Putzbord\",O222=\"Flexila PU\"),Daten!$D$18,IF(OR(O222=\"Stehbord\",O222=\"Stehbord HB\",O222=\"Flexila STB\",O222=\"Jalousiebord\"),Daten!$D$21,\"-\")))","v":""},{"$f":"IF(A222=\"\",\"\",IF(Daten!D$6=Daten!N$11,Daten!M$11,IF(Daten!D$6=Daten!N$13,Daten!M$13,IF(AND(Daten!$D$6=Daten!$M$10,Daten!$D$8=TRUE),Daten!$M$14,Daten!D$6))))","v":""},{"$f":"IF($A222=\"\",\"\",IF(OR(S222=\"Putzbord\",S222=\"Flexila PU\"),Daten!$D$15,IF(OR(S222=\"Stehbord\",S222=\"Stehbord HB\",S222=\"Flexila STB\",S222=\"Jalousiebord\"),Daten!$D$19,\"-\")))","v":""},{"$f":"IF($A222=\"\",\"\",IF(S222=\"Putzbord\",Daten!$D$16,IF(S222=\"Flexila PU\",_xlfn.NUMBERVALUE(MID(Daten!$D$17,1,2)),\"-\")))","v":""},{"$f":"IF($A222=\"\",\"\",IF(OR(S222=\"Putzbord\",S222=\"Flexila PU\"),Daten!$D$18,IF(OR(S222=\"Stehbord\",S222=\"Stehbord HB\",S222=\"Flexila STB\",S222=\"Jalousiebord\"),Daten!$D$21,\"-\")))","v":""},{"$f":"IF(A222=\"\",\"\",IF(AND(Daten!D$6=\"Jalousiebord\",OR(O222=\"Stehbord\",S222=\"Stehbord\")),\"Jalousienklinkung\",\"\"))","v":""},{"$f":"IF(W222=\"\",\"\",Daten!D$20)","v":""},null,null,{"$f":"IF(A222=\"\",\"\",IF(Daten!F$1=\"A\",\"Ohne\",IF(OR(N222=\"Gerstenkorn roh\",N222=\"Riffelblech roh\"),\"XPS\",Daten!F$2)))","v":""},{"$f":"IF(A222=\"\",\"\",IF(AA222=\"Ohne\",\"A\",IF(AA222=\"XPS\",IF(Daten!F$1=\"D\",\"B\",Daten!F$1),Daten!F$1)))","v":""},{"$f":"IF(A222=\"\",\"\",IF(AB222=\"A\",\"-\",Daten!F$7))","v":""},{"$f":"IF(A222=\"\",\"\",IF(AB222=\"A\",\"-\",IF(AND(Daten!F$8=0,O222=\"Putzbord\"),5-Q222,0)))","v":""},{"$f":"IF(A222=\"\",\"\",IF(AB222=\"A\",\"-\",IF(AND(Daten!F$8=0,S222=\"Putzbord\"),5-U222,0)))","v":""},{"$f":"IF(A222=\"\",\"\",IF(AB222=\"A\",\"-\",Daten!F$10))","v":""},{"$f":"IFERROR(IF(A222=\"\",\"\",VLOOKUP(N222,Daten!N$1:O$7,2,FALSE)),\"\")","v":""}]
[null,null,null,{"$f":"IF(A223=\"\",\"\",IF(Daten!B$3=TRUE,Daten!B$7,\"\"))","v":""},{"$f":"IFERROR(IF(C223=\"\",\"\",C223+(2*D223)+IF(O223=Daten!M$13,6,0)+IF(S223=Daten!M$13,6,0)+IF(Q223=\"-\",0,Q223)+IF(U223=\"-\",0,U223)),\"\")","v":""},{"$f":"IF(OR(A223=\"\",AND(F$1=0,Daten!F$3=FALSE)),\"\",Daten!B$6)","v":""},{"$f":"IF(A223=\"\",\"\",IF(Daten!B$5=\"??\",\"\",Daten!B$5))","v":""},{"$f":"IF(A223=\"\",\"\",IF(Daten!B$3=FALSE,\"\",Daten!B$4))","v":""},{"$f":"IFERROR(IF(A223=\"\",\"\",G223+H223+IF(AND(G223>0,H223>0),5,0))-IF(Daten!H$21=TRUE,H223,0),\"\")","v":""},{"$f":"IFERROR(IF(A223=\"\",\"\",I223+IF(Daten!H$21=TRUE,H223,0)+IF(F223=\"\",0,F223)-IF(Daten!F$3=TRUE,Daten!F$10,0)),\"\")","v":""},{"$f":"IF(A223=\"\",\"\",Daten!D$14)","v":""},{"$f":"IF(A223=\"\",\"\",Daten!D$12)","v":""},{"$f":"IF(A223=\"\",\"\",Daten!D$13)","v":""},{"$f":"IF(A223=\"\",\"\",Daten!M$2)","v":""},{"$f":"IF(A223=\"\",\"\",IF(Daten!D$6=Daten!N$11,Daten!M$11,IF(Daten!D$6=Daten!N$13,Daten!M$13,IF(AND(Daten!$D$6=Daten!$M$10,Daten!$D$8=TRUE),Daten!$M$14,Daten!D$6))))","v":""},{"$f":"IF($A223=\"\",\"\",IF(OR(O223=\"Putzbord\",O223=\"Flexila PU\"),Daten!$D$15,IF(OR(O223=\"Stehbord\",O223=\"Stehbord HB\",O223=\"Flexila STB\",O223=\"Jalousiebord\"),Daten!$D$19,\"-\")))","v":""},{"$f":"IF($A223=\"\",\"\",IF(O223=\"Putzbord\",Daten!$D$16,IF(O223=\"Flexila PU\",_xlfn.NUMBERVALUE(MID(Daten!$D$17,1,2)),\"-\")))","v":""},{"$f":"IF($A223=\"\",\"\",IF(OR(O223=\"Putzbord\",O223=\"Flexila PU\"),Daten!$D$18,IF(OR(O223=\"Stehbord\",O223=\"Stehbord HB\",O223=\"Flexila STB\",O223=\"Jalousiebord\"),Daten!$D$21,\"-\")))","v":""},{"$f":"IF(A223=\"\",\"\",IF(Daten!D$6=Daten!N$11,Daten!M$11,IF(Daten!D$6=Daten!N$13,Daten!M$13,IF(AND(Daten!$D$6=Daten!$M$10,Daten!$D$8=TRUE),Daten!$M$14,Daten!D$6))))","v":""},{"$f":"IF($A223=\"\",\"\",IF(OR(S223=\"Putzbord\",S223=\"Flexila PU\"),Daten!$D$15,IF(OR(S223=\"Stehbord\",S223=\"Stehbord HB\",S223=\"Flexila STB\",S223=\"Jalousiebord\"),Daten!$D$19,\"-\")))","v":""},{"$f":"IF($A223=\"\",\"\",IF(S223=\"Putzbord\",Daten!$D$16,IF(S223=\"Flexila PU\",_xlfn.NUMBERVALUE(MID(Daten!$D$17,1,2)),\"-\")))","v":""},{"$f":"IF($A223=\"\",\"\",IF(OR(S223=\"Putzbord\",S223=\"Flexila PU\"),Daten!$D$18,IF(OR(S223=\"Stehbord\",S223=\"Stehbord HB\",S223=\"Flexila STB\",S223=\"Jalousiebord\"),Daten!$D$21,\"-\")))","v":""},{"$f":"IF(A223=\"\",\"\",IF(AND(Daten!D$6=\"Jalousiebord\",OR(O223=\"Stehbord\",S223=\"Stehbord\")),\"Jalousienklinkung\",\"\"))","v":""},{"$f":"IF(W223=\"\",\"\",Daten!D$20)","v":""},null,null,{"$f":"IF(A223=\"\",\"\",IF(Daten!F$1=\"A\",\"Ohne\",IF(OR(N223=\"Gerstenkorn roh\",N223=\"Riffelblech roh\"),\"XPS\",Daten!F$2)))","v":""},{"$f":"IF(A223=\"\",\"\",IF(AA223=\"Ohne\",\"A\",IF(AA223=\"XPS\",IF(Daten!F$1=\"D\",\"B\",Daten!F$1),Daten!F$1)))","v":""},{"$f":"IF(A223=\"\",\"\",IF(AB223=\"A\",\"-\",Daten!F$7))","v":""},{"$f":"IF(A223=\"\",\"\",IF(AB223=\"A\",\"-\",IF(AND(Daten!F$8=0,O223=\"Putzbord\"),5-Q223,0)))","v":""},{"$f":"IF(A223=\"\",\"\",IF(AB223=\"A\",\"-\",IF(AND(Daten!F$8=0,S223=\"Putzbord\"),5-U223,0)))","v":""},{"$f":"IF(A223=\"\",\"\",IF(AB223=\"A\",\"-\",Daten!F$10))","v":""},{"$f":"IFERROR(IF(A223=\"\",\"\",VLOOKUP(N223,Daten!N$1:O$7,2,FALSE)),\"\")","v":""}]
[null,null,null,{"$f":"IF(A224=\"\",\"\",IF(Daten!B$3=TRUE,Daten!B$7,\"\"))","v":""},{"$f":"IFERROR(IF(C224=\"\",\"\",C224+(2*D224)+IF(O224=Daten!M$13,6,0)+IF(S224=Daten!M$13,6,0)+IF(Q224=\"-\",0,Q224)+IF(U224=\"-\",0,U224)),\"\")","v":""},{"$f":"IF(OR(A224=\"\",AND(F$1=0,Daten!F$3=FALSE)),\"\",Daten!B$6)","v":""},{"$f":"IF(A224=\"\",\"\",IF(Daten!B$5=\"??\",\"\",Daten!B$5))","v":""},{"$f":"IF(A224=\"\",\"\",IF(Daten!B$3=FALSE,\"\",Daten!B$4))","v":""},{"$f":"IFERROR(IF(A224=\"\",\"\",G224+H224+IF(AND(G224>0,H224>0),5,0))-IF(Daten!H$21=TRUE,H224,0),\"\")","v":""},{"$f":"IFERROR(IF(A224=\"\",\"\",I224+IF(Daten!H$21=TRUE,H224,0)+IF(F224=\"\",0,F224)-IF(Daten!F$3=TRUE,Daten!F$10,0)),\"\")","v":""},{"$f":"IF(A224=\"\",\"\",Daten!D$14)","v":""},{"$f":"IF(A224=\"\",\"\",Daten!D$12)","v":""},{"$f":"IF(A224=\"\",\"\",Daten!D$13)","v":""},{"$f":"IF(A224=\"\",\"\",Daten!M$2)","v":""},{"$f":"IF(A224=\"\",\"\",IF(Daten!D$6=Daten!N$11,Daten!M$11,IF(Daten!D$6=Daten!N$13,Daten!M$13,IF(AND(Daten!$D$6=Daten!$M$10,Daten!$D$8=TRUE),Daten!$M$14,Daten!D$6))))","v":""},{"$f":"IF($A224=\"\",\"\",IF(OR(O224=\"Putzbord\",O224=\"Flexila PU\"),Daten!$D$15,IF(OR(O224=\"Stehbord\",O224=\"Stehbord HB\",O224=\"Flexila STB\",O224=\"Jalousiebord\"),Daten!$D$19,\"-\")))","v":""},{"$f":"IF($A224=\"\",\"\",IF(O224=\"Putzbord\",Daten!$D$16,IF(O224=\"Flexila PU\",_xlfn.NUMBERVALUE(MID(Daten!$D$17,1,2)),\"-\")))","v":""},{"$f":"IF($A224=\"\",\"\",IF(OR(O224=\"Putzbord\",O224=\"Flexila PU\"),Daten!$D$18,IF(OR(O224=\"Stehbord\",O224=\"Stehbord HB\",O224=\"Flexila STB\",O224=\"Jalousiebord\"),Daten!$D$21,\"-\")))","v":""},{"$f":"IF(A224=\"\",\"\",IF(Daten!D$6=Daten!N$11,Daten!M$11,IF(Daten!D$6=Daten!N$13,Daten!M$13,IF(AND(Daten!$D$6=Daten!$M$10,Daten!$D$8=TRUE),Daten!$M$14,Daten!D$6))))","v":""},{"$f":"IF($A224=\"\",\"\",IF(OR(S224=\"Putzbord\",S224=\"Flexila PU\"),Daten!$D$15,IF(OR(S224=\"Stehbord\",S224=\"Stehbord HB\",S224=\"Flexila STB\",S224=\"Jalousiebord\"),Daten!$D$19,\"-\")))","v":""},{"$f":"IF($A224=\"\",\"\",IF(S224=\"Putzbord\",Daten!$D$16,IF(S224=\"Flexila PU\",_xlfn.NUMBERVALUE(MID(Daten!$D$17,1,2)),\"-\")))","v":""},{"$f":"IF($A224=\"\",\"\",IF(OR(S224=\"Putzbord\",S224=\"Flexila PU\"),Daten!$D$18,IF(OR(S224=\"Stehbord\",S224=\"Stehbord HB\",S224=\"Flexila STB\",S224=\"Jalousiebord\"),Daten!$D$21,\"-\")))","v":""},{"$f":"IF(A224=\"\",\"\",IF(AND(Daten!D$6=\"Jalousiebord\",OR(O224=\"Stehbord\",S224=\"Stehbord\")),\"Jalousienklinkung\",\"\"))","v":""},{"$f":"IF(W224=\"\",\"\",Daten!D$20)","v":""},null,null,{"$f":"IF(A224=\"\",\"\",IF(Daten!F$1=\"A\",\"Ohne\",IF(OR(N224=\"Gerstenkorn roh\",N224=\"Riffelblech roh\"),\"XPS\",Daten!F$2)))","v":""},{"$f":"IF(A224=\"\",\"\",IF(AA224=\"Ohne\",\"A\",IF(AA224=\"XPS\",IF(Daten!F$1=\"D\",\"B\",Daten!F$1),Daten!F$1)))","v":""},{"$f":"IF(A224=\"\",\"\",IF(AB224=\"A\",\"-\",Daten!F$7))","v":""},{"$f":"IF(A224=\"\",\"\",IF(AB224=\"A\",\"-\",IF(AND(Daten!F$8=0,O224=\"Putzbord\"),5-Q224,0)))","v":""},{"$f":"IF(A224=\"\",\"\",IF(AB224=\"A\",\"-\",IF(AND(Daten!F$8=0,S224=\"Putzbord\"),5-U224,0)))","v":""},{"$f":"IF(A224=\"\",\"\",IF(AB224=\"A\",\"-\",Daten!F$10))","v":""},{"$f":"IFERROR(IF(A224=\"\",\"\",VLOOKUP(N224,Daten!N$1:O$7,2,FALSE)),\"\")","v":""}]
[null,null,null,{"$f":"IF(A225=\"\",\"\",IF(Daten!B$3=TRUE,Daten!B$7,\"\"))","v":""},{"$f":"IFERROR(IF(C225=\"\",\"\",C225+(2*D225)+IF(O225=Daten!M$13,6,0)+IF(S225=Daten!M$13,6,0)+IF(Q225=\"-\",0,Q225)+IF(U225=\"-\",0,U225)),\"\")","v":""},{"$f":"IF(OR(A225=\"\",AND(F$1=0,Daten!F$3=FALSE)),\"\",Daten!B$6)","v":""},{"$f":"IF(A225=\"\",\"\",IF(Daten!B$5=\"??\",\"\",Daten!B$5))","v":""},{"$f":"IF(A225=\"\",\"\",IF(Daten!B$3=FALSE,\"\",Daten!B$4))","v":""},{"$f":"IFERROR(IF(A225=\"\",\"\",G225+H225+IF(AND(G225>0,H225>0),5,0))-IF(Daten!H$21=TRUE,H225,0),\"\")","v":""},{"$f":"IFERROR(IF(A225=\"\",\"\",I225+IF(Daten!H$21=TRUE,H225,0)+IF(F225=\"\",0,F225)-IF(Daten!F$3=TRUE,Daten!F$10,0)),\"\")","v":""},{"$f":"IF(A225=\"\",\"\",Daten!D$14)","v":""},{"$f":"IF(A225=\"\",\"\",Daten!D$12)","v":""},{"$f":"IF(A225=\"\",\"\",Daten!D$13)","v":""},{"$f":"IF(A225=\"\",\"\",Daten!M$2)","v":""},{"$f":"IF(A225=\"\",\"\",IF(Daten!D$6=Daten!N$11,Daten!M$11,IF(Daten!D$6=Daten!N$13,Daten!M$13,IF(AND(Daten!$D$6=Daten!$M$10,Daten!$D$8=TRUE),Daten!$M$14,Daten!D$6))))","v":""},{"$f":"IF($A225=\"\",\"\",IF(OR(O225=\"Putzbord\",O225=\"Flexila PU\"),Daten!$D$15,IF(OR(O225=\"Stehbord\",O225=\"Stehbord HB\",O225=\"Flexila STB\",O225=\"Jalousiebord\"),Daten!$D$19,\"-\")))","v":""},{"$f":"IF($A225=\"\",\"\",IF(O225=\"Putzbord\",Daten!$D$16,IF(O225=\"Flexila PU\",_xlfn.NUMBERVALUE(MID(Daten!$D$17,1,2)),\"-\")))","v":""},{"$f":"IF($A225=\"\",\"\",IF(OR(O225=\"Putzbord\",O225=\"Flexila PU\"),Daten!$D$18,IF(OR(O225=\"Stehbord\",O225=\"Stehbord HB\",O225=\"Flexila STB\",O225=\"Jalousiebord\"),Daten!$D$21,\"-\")))","v":""},{"$f":"IF(A225=\"\",\"\",IF(Daten!D$6=Daten!N$11,Daten!M$11,IF(Daten!D$6=Daten!N$13,Daten!M$13,IF(AND(Daten!$D$6=Daten!$M$10,Daten!$D$8=TRUE),Daten!$M$14,Daten!D$6))))","v":""},{"$f":"IF($A225=\"\",\"\",IF(OR(S225=\"Putzbord\",S225=\"Flexila PU\"),Daten!$D$15,IF(OR(S225=\"Stehbord\",S225=\"Stehbord HB\",S225=\"Flexila STB\",S225=\"Jalousiebord\"),Daten!$D$19,\"-\")))","v":""},{"$f":"IF($A225=\"\",\"\",IF(S225=\"Putzbord\",Daten!$D$16,IF(S225=\"Flexila PU\",_xlfn.NUMBERVALUE(MID(Daten!$D$17,1,2)),\"-\")))","v":""},{"$f":"IF($A225=\"\",\"\",IF(OR(S225=\"Putzbord\",S225=\"Flexila PU\"),Daten!$D$18,IF(OR(S225=\"Stehbord\",S225=\"Stehbord HB\",S225=\"Flexila STB\",S225=\"Jalousiebord\"),Daten!$D$21,\"-\")))","v":""},{"$f":"IF(A225=\"\",\"\",IF(AND(Daten!D$6=\"Jalousiebord\",OR(O225=\"Stehbord\",S225=\"Stehbord\")),\"Jalousienklinkung\",\"\"))","v":""},{"$f":"IF(W225=\"\",\"\",Daten!D$20)","v":""},null,null,{"$f":"IF(A225=\"\",\"\",IF(Daten!F$1=\"A\",\"Ohne\",IF(OR(N225=\"Gerstenkorn roh\",N225=\"Riffelblech roh\"),\"XPS\",Daten!F$2)))","v":""},{"$f":"IF(A225=\"\",\"\",IF(AA225=\"Ohne\",\"A\",IF(AA225=\"XPS\",IF(Daten!F$1=\"D\",\"B\",Daten!F$1),Daten!F$1)))","v":""},{"$f":"IF(A225=\"\",\"\",IF(AB225=\"A\",\"-\",Daten!F$7))","v":""},{"$f":"IF(A225=\"\",\"\",IF(AB225=\"A\",\"-\",IF(AND(Daten!F$8=0,O225=\"Putzbord\"),5-Q225,0)))","v":""},{"$f":"IF(A225=\"\",\"\",IF(AB225=\"A\",\"-\",IF(AND(Daten!F$8=0,S225=\"Putzbord\"),5-U225,0)))","v":""},{"$f":"IF(A225=\"\",\"\",IF(AB225=\"A\",\"-\",Daten!F$10))","v":""},{"$f":"IFERROR(IF(A225=\"\",\"\",VLOOKUP(N225,Daten!N$1:O$7,2,FALSE)),\"\")","v":""}]
[null,null,null,{"$f":"IF(A226=\"\",\"\",IF(Daten!B$3=TRUE,Daten!B$7,\"\"))","v":""},{"$f":"IFERROR(IF(C226=\"\",\"\",C226+(2*D226)+IF(O226=Daten!M$13,6,0)+IF(S226=Daten!M$13,6,0)+IF(Q226=\"-\",0,Q226)+IF(U226=\"-\",0,U226)),\"\")","v":""},{"$f":"IF(OR(A226=\"\",AND(F$1=0,Daten!F$3=FALSE)),\"\",Daten!B$6)","v":""},{"$f":"IF(A226=\"\",\"\",IF(Daten!B$5=\"??\",\"\",Daten!B$5))","v":""},{"$f":"IF(A226=\"\",\"\",IF(Daten!B$3=FALSE,\"\",Daten!B$4))","v":""},{"$f":"IFERROR(IF(A226=\"\",\"\",G226+H226+IF(AND(G226>0,H226>0),5,0))-IF(Daten!H$21=TRUE,H226,0),\"\")","v":""},{"$f":"IFERROR(IF(A226=\"\",\"\",I226+IF(Daten!H$21=TRUE,H226,0)+IF(F226=\"\",0,F226)-IF(Daten!F$3=TRUE,Daten!F$10,0)),\"\")","v":""},{"$f":"IF(A226=\"\",\"\",Daten!D$14)","v":""},{"$f":"IF(A226=\"\",\"\",Daten!D$12)","v":""},{"$f":"IF(A226=\"\",\"\",Daten!D$13)","v":""},{"$f":"IF(A226=\"\",\"\",Daten!M$2)","v":""},{"$f":"IF(A226=\"\",\"\",IF(Daten!D$6=Daten!N$11,Daten!M$11,IF(Daten!D$6=Daten!N$13,Daten!M$13,IF(AND(Daten!$D$6=Daten!$M$10,Daten!$D$8=TRUE),Daten!$M$14,Daten!D$6))))","v":""},{"$f":"IF($A226=\"\",\"\",IF(OR(O226=\"Putzbord\",O226=\"Flexila PU\"),Daten!$D$15,IF(OR(O226=\"Stehbord\",O226=\"Stehbord HB\",O226=\"Flexila STB\",O226=\"Jalousiebord\"),Daten!$D$19,\"-\")))","v":""},{"$f":"IF($A226=\"\",\"\",IF(O226=\"Putzbord\",Daten!$D$16,IF(O226=\"Flexila PU\",_xlfn.NUMBERVALUE(MID(Daten!$D$17,1,2)),\"-\")))","v":""},{"$f":"IF($A226=\"\",\"\",IF(OR(O226=\"Putzbord\",O226=\"Flexila PU\"),Daten!$D$18,IF(OR(O226=\"Stehbord\",O226=\"Stehbord HB\",O226=\"Flexila STB\",O226=\"Jalousiebord\"),Daten!$D$21,\"-\")))","v":""},{"$f":"IF(A226=\"\",\"\",IF(Daten!D$6=Daten!N$11,Daten!M$11,IF(Daten!D$6=Daten!N$13,Daten!M$13,IF(AND(Daten!$D$6=Daten!$M$10,Daten!$D$8=TRUE),Daten!$M$14,Daten!D$6))))","v":""},{"$f":"IF($A226=\"\",\"\",IF(OR(S226=\"Putzbord\",S226=\"Flexila PU\"),Daten!$D$15,IF(OR(S226=\"Stehbord\",S226=\"Stehbord HB\",S226=\"Flexila STB\",S226=\"Jalousiebord\"),Daten!$D$19,\"-\")))","v":""},{"$f":"IF($A226=\"\",\"\",IF(S226=\"Putzbord\",Daten!$D$16,IF(S226=\"Flexila PU\",_xlfn.NUMBERVALUE(MID(Daten!$D$17,1,2)),\"-\")))","v":""},{"$f":"IF($A226=\"\",\"\",IF(OR(S226=\"Putzbord\",S226=\"Flexila PU\"),Daten!$D$18,IF(OR(S226=\"Stehbord\",S226=\"Stehbord HB\",S226=\"Flexila STB\",S226=\"Jalousiebord\"),Daten!$D$21,\"-\")))","v":""},{"$f":"IF(A226=\"\",\"\",IF(AND(Daten!D$6=\"Jalousiebord\",OR(O226=\"Stehbord\",S226=\"Stehbord\")),\"Jalousienklinkung\",\"\"))","v":""},{"$f":"IF(W226=\"\",\"\",Daten!D$20)","v":""},null,null,{"$f":"IF(A226=\"\",\"\",IF(Daten!F$1=\"A\",\"Ohne\",IF(OR(N226=\"Gerstenkorn roh\",N226=\"Riffelblech roh\"),\"XPS\",Daten!F$2)))","v":""},{"$f":"IF(A226=\"\",\"\",IF(AA226=\"Ohne\",\"A\",IF(AA226=\"XPS\",IF(Daten!F$1=\"D\",\"B\",Daten!F$1),Daten!F$1)))","v":""},{"$f":"IF(A226=\"\",\"\",IF(AB226=\"A\",\"-\",Daten!F$7))","v":""},{"$f":"IF(A226=\"\",\"\",IF(AB226=\"A\",\"-\",IF(AND(Daten!F$8=0,O226=\"Putzbord\"),5-Q226,0)))","v":""},{"$f":"IF(A226=\"\",\"\",IF(AB226=\"A\",\"-\",IF(AND(Daten!F$8=0,S226=\"Putzbord\"),5-U226,0)))","v":""},{"$f":"IF(A226=\"\",\"\",IF(AB226=\"A\",\"-\",Daten!F$10))","v":""},{"$f":"IFERROR(IF(A226=\"\",\"\",VLOOKUP(N226,Daten!N$1:O$7,2,FALSE)),\"\")","v":""}]
[null,null,null,{"$f":"IF(A227=\"\",\"\",IF(Daten!B$3=TRUE,Daten!B$7,\"\"))","v":""},{"$f":"IFERROR(IF(C227=\"\",\"\",C227+(2*D227)+IF(O227=Daten!M$13,6,0)+IF(S227=Daten!M$13,6,0)+IF(Q227=\"-\",0,Q227)+IF(U227=\"-\",0,U227)),\"\")","v":""},{"$f":"IF(OR(A227=\"\",AND(F$1=0,Daten!F$3=FALSE)),\"\",Daten!B$6)","v":""},{"$f":"IF(A227=\"\",\"\",IF(Daten!B$5=\"??\",\"\",Daten!B$5))","v":""},{"$f":"IF(A227=\"\",\"\",IF(Daten!B$3=FALSE,\"\",Daten!B$4))","v":""},{"$f":"IFERROR(IF(A227=\"\",\"\",G227+H227+IF(AND(G227>0,H227>0),5,0))-IF(Daten!H$21=TRUE,H227,0),\"\")","v":""},{"$f":"IFERROR(IF(A227=\"\",\"\",I227+IF(Daten!H$21=TRUE,H227,0)+IF(F227=\"\",0,F227)-IF(Daten!F$3=TRUE,Daten!F$10,0)),\"\")","v":""},{"$f":"IF(A227=\"\",\"\",Daten!D$14)","v":""},{"$f":"IF(A227=\"\",\"\",Daten!D$12)","v":""},{"$f":"IF(A227=\"\",\"\",Daten!D$13)","v":""},{"$f":"IF(A227=\"\",\"\",Daten!M$2)","v":""},{"$f":"IF(A227=\"\",\"\",IF(Daten!D$6=Daten!N$11,Daten!M$11,IF(Daten!D$6=Daten!N$13,Daten!M$13,IF(AND(Daten!$D$6=Daten!$M$10,Daten!$D$8=TRUE),Daten!$M$14,Daten!D$6))))","v":""},{"$f":"IF($A227=\"\",\"\",IF(OR(O227=\"Putzbord\",O227=\"Flexila PU\"),Daten!$D$15,IF(OR(O227=\"Stehbord\",O227=\"Stehbord HB\",O227=\"Flexila STB\",O227=\"Jalousiebord\"),Daten!$D$19,\"-\")))","v":""},{"$f":"IF($A227=\"\",\"\",IF(O227=\"Putzbord\",Daten!$D$16,IF(O227=\"Flexila PU\",_xlfn.NUMBERVALUE(MID(Daten!$D$17,1,2)),\"-\")))","v":""},{"$f":"IF($A227=\"\",\"\",IF(OR(O227=\"Putzbord\",O227=\"Flexila PU\"),Daten!$D$18,IF(OR(O227=\"Stehbord\",O227=\"Stehbord HB\",O227=\"Flexila STB\",O227=\"Jalousiebord\"),Daten!$D$21,\"-\")))","v":""},{"$f":"IF(A227=\"\",\"\",IF(Daten!D$6=Daten!N$11,Daten!M$11,IF(Daten!D$6=Daten!N$13,Daten!M$13,IF(AND(Daten!$D$6=Daten!$M$10,Daten!$D$8=TRUE),Daten!$M$14,Daten!D$6))))","v":""},{"$f":"IF($A227=\"\",\"\",IF(OR(S227=\"Putzbord\",S227=\"Flexila PU\"),Daten!$D$15,IF(OR(S227=\"Stehbord\",S227=\"Stehbord HB\",S227=\"Flexila STB\",S227=\"Jalousiebord\"),Daten!$D$19,\"-\")))","v":""},{"$f":"IF($A227=\"\",\"\",IF(S227=\"Putzbord\",Daten!$D$16,IF(S227=\"Flexila PU\",_xlfn.NUMBERVALUE(MID(Daten!$D$17,1,2)),\"-\")))","v":""},{"$f":"IF($A227=\"\",\"\",IF(OR(S227=\"Putzbord\",S227=\"Flexila PU\"),Daten!$D$18,IF(OR(S227=\"Stehbord\",S227=\"Stehbord HB\",S227=\"Flexila STB\",S227=\"Jalousiebord\"),Daten!$D$21,\"-\")))","v":""},{"$f":"IF(A227=\"\",\"\",IF(AND(Daten!D$6=\"Jalousiebord\",OR(O227=\"Stehbord\",S227=\"Stehbord\")),\"Jalousienklinkung\",\"\"))","v":""},{"$f":"IF(W227=\"\",\"\",Daten!D$20)","v":""},null,null,{"$f":"IF(A227=\"\",\"\",IF(Daten!F$1=\"A\",\"Ohne\",IF(OR(N227=\"Gerstenkorn roh\",N227=\"Riffelblech roh\"),\"XPS\",Daten!F$2)))","v":""},{"$f":"IF(A227=\"\",\"\",IF(AA227=\"Ohne\",\"A\",IF(AA227=\"XPS\",IF(Daten!F$1=\"D\",\"B\",Daten!F$1),Daten!F$1)))","v":""},{"$f":"IF(A227=\"\",\"\",IF(AB227=\"A\",\"-\",Daten!F$7))","v":""},{"$f":"IF(A227=\"\",\"\",IF(AB227=\"A\",\"-\",IF(AND(Daten!F$8=0,O227=\"Putzbord\"),5-Q227,0)))","v":""},{"$f":"IF(A227=\"\",\"\",IF(AB227=\"A\",\"-\",IF(AND(Daten!F$8=0,S227=\"Putzbord\"),5-U227,0)))","v":""},{"$f":"IF(A227=\"\",\"\",IF(AB227=\"A\",\"-\",Daten!F$10))","v":""},{"$f":"IFERROR(IF(A227=\"\",\"\",VLOOKUP(N227,Daten!N$1:O$7,2,FALSE)),\"\")","v":""}]
[null,null,null,{"$f":"IF(A228=\"\",\"\",IF(Daten!B$3=TRUE,Daten!B$7,\"\"))","v":""},{"$f":"IFERROR(IF(C228=\"\",\"\",C228+(2*D228)+IF(O228=Daten!M$13,6,0)+IF(S228=Daten!M$13,6,0)+IF(Q228=\"-\",0,Q228)+IF(U228=\"-\",0,U228)),\"\")","v":""},{"$f":"IF(OR(A228=\"\",AND(F$1=0,Daten!F$3=FALSE)),\"\",Daten!B$6)","v":""},{"$f":"IF(A228=\"\",\"\",IF(Daten!B$5=\"??\",\"\",Daten!B$5))","v":""},{"$f":"IF(A228=\"\",\"\",IF(Daten!B$3=FALSE,\"\",Daten!B$4))","v":""},{"$f":"IFERROR(IF(A228=\"\",\"\",G228+H228+IF(AND(G228>0,H228>0),5,0))-IF(Daten!H$21=TRUE,H228,0),\"\")","v":""},{"$f":"IFERROR(IF(A228=\"\",\"\",I228+IF(Daten!H$21=TRUE,H228,0)+IF(F228=\"\",0,F228)-IF(Daten!F$3=TRUE,Daten!F$10,0)),\"\")","v":""},{"$f":"IF(A228=\"\",\"\",Daten!D$14)","v":""},{"$f":"IF(A228=\"\",\"\",Daten!D$12)","v":""},{"$f":"IF(A228=\"\",\"\",Daten!D$13)","v":""},{"$f":"IF(A228=\"\",\"\",Daten!M$2)","v":""},{"$f":"IF(A228=\"\",\"\",IF(Daten!D$6=Daten!N$11,Daten!M$11,IF(Daten!D$6=Daten!N$13,Daten!M$13,IF(AND(Daten!$D$6=Daten!$M$10,Daten!$D$8=TRUE),Daten!$M$14,Daten!D$6))))","v":""},{"$f":"IF($A228=\"\",\"\",IF(OR(O228=\"Putzbord\",O228=\"Flexila PU\"),Daten!$D$15,IF(OR(O228=\"Stehbord\",O228=\"Stehbord HB\",O228=\"Flexila STB\",O228=\"Jalousiebord\"),Daten!$D$19,\"-\")))","v":""},{"$f":"IF($A228=\"\",\"\",IF(O228=\"Putzbord\",Daten!$D$16,IF(O228=\"Flexila PU\",_xlfn.NUMBERVALUE(MID(Daten!$D$17,1,2)),\"-\")))","v":""},{"$f":"IF($A228=\"\",\"\",IF(OR(O228=\"Putzbord\",O228=\"Flexila PU\"),Daten!$D$18,IF(OR(O228=\"Stehbord\",O228=\"Stehbord HB\",O228=\"Flexila STB\",O228=\"Jalousiebord\"),Daten!$D$21,\"-\")))","v":""},{"$f":"IF(A228=\"\",\"\",IF(Daten!D$6=Daten!N$11,Daten!M$11,IF(Daten!D$6=Daten!N$13,Daten!M$13,IF(AND(Daten!$D$6=Daten!$M$10,Daten!$D$8=TRUE),Daten!$M$14,Daten!D$6))))","v":""},{"$f":"IF($A228=\"\",\"\",IF(OR(S228=\"Putzbord\",S228=\"Flexila PU\"),Daten!$D$15,IF(OR(S228=\"Stehbord\",S228=\"Stehbord HB\",S228=\"Flexila STB\",S228=\"Jalousiebord\"),Daten!$D$19,\"-\")))","v":""},{"$f":"IF($A228=\"\",\"\",IF(S228=\"Putzbord\",Daten!$D$16,IF(S228=\"Flexila PU\",_xlfn.NUMBERVALUE(MID(Daten!$D$17,1,2)),\"-\")))","v":""},{"$f":"IF($A228=\"\",\"\",IF(OR(S228=\"Putzbord\",S228=\"Flexila PU\"),Daten!$D$18,IF(OR(S228=\"Stehbord\",S228=\"Stehbord HB\",S228=\"Flexila STB\",S228=\"Jalousiebord\"),Daten!$D$21,\"-\")))","v":""},{"$f":"IF(A228=\"\",\"\",IF(AND(Daten!D$6=\"Jalousiebord\",OR(O228=\"Stehbord\",S228=\"Stehbord\")),\"Jalousienklinkung\",\"\"))","v":""},{"$f":"IF(W228=\"\",\"\",Daten!D$20)","v":""},null,null,{"$f":"IF(A228=\"\",\"\",IF(Daten!F$1=\"A\",\"Ohne\",IF(OR(N228=\"Gerstenkorn roh\",N228=\"Riffelblech roh\"),\"XPS\",Daten!F$2)))","v":""},{"$f":"IF(A228=\"\",\"\",IF(AA228=\"Ohne\",\"A\",IF(AA228=\"XPS\",IF(Daten!F$1=\"D\",\"B\",Daten!F$1),Daten!F$1)))","v":""},{"$f":"IF(A228=\"\",\"\",IF(AB228=\"A\",\"-\",Daten!F$7))","v":""},{"$f":"IF(A228=\"\",\"\",IF(AB228=\"A\",\"-\",IF(AND(Daten!F$8=0,O228=\"Putzbord\"),5-Q228,0)))","v":""},{"$f":"IF(A228=\"\",\"\",IF(AB228=\"A\",\"-\",IF(AND(Daten!F$8=0,S228=\"Putzbord\"),5-U228,0)))","v":""},{"$f":"IF(A228=\"\",\"\",IF(AB228=\"A\",\"-\",Daten!F$10))","v":""},{"$f":"IFERROR(IF(A228=\"\",\"\",VLOOKUP(N228,Daten!N$1:O$7,2,FALSE)),\"\")","v":""}]
[null,null,null,{"$f":"IF(A229=\"\",\"\",IF(Daten!B$3=TRUE,Daten!B$7,\"\"))","v":""},{"$f":"IFERROR(IF(C229=\"\",\"\",C229+(2*D229)+IF(O229=Daten!M$13,6,0)+IF(S229=Daten!M$13,6,0)+IF(Q229=\"-\",0,Q229)+IF(U229=\"-\",0,U229)),\"\")","v":""},{"$f":"IF(OR(A229=\"\",AND(F$1=0,Daten!F$3=FALSE)),\"\",Daten!B$6)","v":""},{"$f":"IF(A229=\"\",\"\",IF(Daten!B$5=\"??\",\"\",Daten!B$5))","v":""},{"$f":"IF(A229=\"\",\"\",IF(Daten!B$3=FALSE,\"\",Daten!B$4))","v":""},{"$f":"IFERROR(IF(A229=\"\",\"\",G229+H229+IF(AND(G229>0,H229>0),5,0))-IF(Daten!H$21=TRUE,H229,0),\"\")","v":""},{"$f":"IFERROR(IF(A229=\"\",\"\",I229+IF(Daten!H$21=TRUE,H229,0)+IF(F229=\"\",0,F229)-IF(Daten!F$3=TRUE,Daten!F$10,0)),\"\")","v":""},{"$f":"IF(A229=\"\",\"\",Daten!D$14)","v":""},{"$f":"IF(A229=\"\",\"\",Daten!D$12)","v":""},{"$f":"IF(A229=\"\",\"\",Daten!D$13)","v":""},{"$f":"IF(A229=\"\",\"\",Daten!M$2)","v":""},{"$f":"IF(A229=\"\",\"\",IF(Daten!D$6=Daten!N$11,Daten!M$11,IF(Daten!D$6=Daten!N$13,Daten!M$13,IF(AND(Daten!$D$6=Daten!$M$10,Daten!$D$8=TRUE),Daten!$M$14,Daten!D$6))))","v":""},{"$f":"IF($A229=\"\",\"\",IF(OR(O229=\"Putzbord\",O229=\"Flexila PU\"),Daten!$D$15,IF(OR(O229=\"Stehbord\",O229=\"Stehbord HB\",O229=\"Flexila STB\",O229=\"Jalousiebord\"),Daten!$D$19,\"-\")))","v":""},{"$f":"IF($A229=\"\",\"\",IF(O229=\"Putzbord\",Daten!$D$16,IF(O229=\"Flexila PU\",_xlfn.NUMBERVALUE(MID(Daten!$D$17,1,2)),\"-\")))","v":""},{"$f":"IF($A229=\"\",\"\",IF(OR(O229=\"Putzbord\",O229=\"Flexila PU\"),Daten!$D$18,IF(OR(O229=\"Stehbord\",O229=\"Stehbord HB\",O229=\"Flexila STB\",O229=\"Jalousiebord\"),Daten!$D$21,\"-\")))","v":""},{"$f":"IF(A229=\"\",\"\",IF(Daten!D$6=Daten!N$11,Daten!M$11,IF(Daten!D$6=Daten!N$13,Daten!M$13,IF(AND(Daten!$D$6=Daten!$M$10,Daten!$D$8=TRUE),Daten!$M$14,Daten!D$6))))","v":""},{"$f":"IF($A229=\"\",\"\",IF(OR(S229=\"Putzbord\",S229=\"Flexila PU\"),Daten!$D$15,IF(OR(S229=\"Stehbord\",S229=\"Stehbord HB\",S229=\"Flexila STB\",S229=\"Jalousiebord\"),Daten!$D$19,\"-\")))","v":""},{"$f":"IF($A229=\"\",\"\",IF(S229=\"Putzbord\",Daten!$D$16,IF(S229=\"Flexila PU\",_xlfn.NUMBERVALUE(MID(Daten!$D$17,1,2)),\"-\")))","v":""},{"$f":"IF($A229=\"\",\"\",IF(OR(S229=\"Putzbord\",S229=\"Flexila PU\"),Daten!$D$18,IF(OR(S229=\"Stehbord\",S229=\"Stehbord HB\",S229=\"Flexila STB\",S229=\"Jalousiebord\"),Daten!$D$21,\"-\")))","v":""},{"$f":"IF(A229=\"\",\"\",IF(AND(Daten!D$6=\"Jalousiebord\",OR(O229=\"Stehbord\",S229=\"Stehbord\")),\"Jalousienklinkung\",\"\"))","v":""},{"$f":"IF(W229=\"\",\"\",Daten!D$20)","v":""},null,null,{"$f":"IF(A229=\"\",\"\",IF(Daten!F$1=\"A\",\"Ohne\",IF(OR(N229=\"Gerstenkorn roh\",N229=\"Riffelblech roh\"),\"XPS\",Daten!F$2)))","v":""},{"$f":"IF(A229=\"\",\"\",IF(AA229=\"Ohne\",\"A\",IF(AA229=\"XPS\",IF(Daten!F$1=\"D\",\"B\",Daten!F$1),Daten!F$1)))","v":""},{"$f":"IF(A229=\"\",\"\",IF(AB229=\"A\",\"-\",Daten!F$7))","v":""},{"$f":"IF(A229=\"\",\"\",IF(AB229=\"A\",\"-\",IF(AND(Daten!F$8=0,O229=\"Putzbord\"),5-Q229,0)))","v":""},{"$f":"IF(A229=\"\",\"\",IF(AB229=\"A\",\"-\",IF(AND(Daten!F$8=0,S229=\"Putzbord\"),5-U229,0)))","v":""},{"$f":"IF(A229=\"\",\"\",IF(AB229=\"A\",\"-\",Daten!F$10))","v":""},{"$f":"IFERROR(IF(A229=\"\",\"\",VLOOKUP(N229,Daten!N$1:O$7,2,FALSE)),\"\")","v":""}]
[null,null,null,{"$f":"IF(A230=\"\",\"\",IF(Daten!B$3=TRUE,Daten!B$7,\"\"))","v":""},{"$f":"IFERROR(IF(C230=\"\",\"\",C230+(2*D230)+IF(O230=Daten!M$13,6,0)+IF(S230=Daten!M$13,6,0)+IF(Q230=\"-\",0,Q230)+IF(U230=\"-\",0,U230)),\"\")","v":""},{"$f":"IF(OR(A230=\"\",AND(F$1=0,Daten!F$3=FALSE)),\"\",Daten!B$6)","v":""},{"$f":"IF(A230=\"\",\"\",IF(Daten!B$5=\"??\",\"\",Daten!B$5))","v":""},{"$f":"IF(A230=\"\",\"\",IF(Daten!B$3=FALSE,\"\",Daten!B$4))","v":""},{"$f":"IFERROR(IF(A230=\"\",\"\",G230+H230+IF(AND(G230>0,H230>0),5,0))-IF(Daten!H$21=TRUE,H230,0),\"\")","v":""},{"$f":"IFERROR(IF(A230=\"\",\"\",I230+IF(Daten!H$21=TRUE,H230,0)+IF(F230=\"\",0,F230)-IF(Daten!F$3=TRUE,Daten!F$10,0)),\"\")","v":""},{"$f":"IF(A230=\"\",\"\",Daten!D$14)","v":""},{"$f":"IF(A230=\"\",\"\",Daten!D$12)","v":""},{"$f":"IF(A230=\"\",\"\",Daten!D$13)","v":""},{"$f":"IF(A230=\"\",\"\",Daten!M$2)","v":""},{"$f":"IF(A230=\"\",\"\",IF(Daten!D$6=Daten!N$11,Daten!M$11,IF(Daten!D$6=Daten!N$13,Daten!M$13,IF(AND(Daten!$D$6=Daten!$M$10,Daten!$D$8=TRUE),Daten!$M$14,Daten!D$6))))","v":""},{"$f":"IF($A230=\"\",\"\",IF(OR(O230=\"Putzbord\",O230=\"Flexila PU\"),Daten!$D$15,IF(OR(O230=\"Stehbord\",O230=\"Stehbord HB\",O230=\"Flexila STB\",O230=\"Jalousiebord\"),Daten!$D$19,\"-\")))","v":""},{"$f":"IF($A230=\"\",\"\",IF(O230=\"Putzbord\",Daten!$D$16,IF(O230=\"Flexila PU\",_xlfn.NUMBERVALUE(MID(Daten!$D$17,1,2)),\"-\")))","v":""},{"$f":"IF($A230=\"\",\"\",IF(OR(O230=\"Putzbord\",O230=\"Flexila PU\"),Daten!$D$18,IF(OR(O230=\"Stehbord\",O230=\"Stehbord HB\",O230=\"Flexila STB\",O230=\"Jalousiebord\"),Daten!$D$21,\"-\")))","v":""},{"$f":"IF(A230=\"\",\"\",IF(Daten!D$6=Daten!N$11,Daten!M$11,IF(Daten!D$6=Daten!N$13,Daten!M$13,IF(AND(Daten!$D$6=Daten!$M$10,Daten!$D$8=TRUE),Daten!$M$14,Daten!D$6))))","v":""},{"$f":"IF($A230=\"\",\"\",IF(OR(S230=\"Putzbord\",S230=\"Flexila PU\"),Daten!$D$15,IF(OR(S230=\"Stehbord\",S230=\"Stehbord HB\",S230=\"Flexila STB\",S230=\"Jalousiebord\"),Daten!$D$19,\"-\")))","v":""},{"$f":"IF($A230=\"\",\"\",IF(S230=\"Putzbord\",Daten!$D$16,IF(S230=\"Flexila PU\",_xlfn.NUMBERVALUE(MID(Daten!$D$17,1,2)),\"-\")))","v":""},{"$f":"IF($A230=\"\",\"\",IF(OR(S230=\"Putzbord\",S230=\"Flexila PU\"),Daten!$D$18,IF(OR(S230=\"Stehbord\",S230=\"Stehbord HB\",S230=\"Flexila STB\",S230=\"Jalousiebord\"),Daten!$D$21,\"-\")))","v":""},{"$f":"IF(A230=\"\",\"\",IF(AND(Daten!D$6=\"Jalousiebord\",OR(O230=\"Stehbord\",S230=\"Stehbord\")),\"Jalousienklinkung\",\"\"))","v":""},{"$f":"IF(W230=\"\",\"\",Daten!D$20)","v":""},null,null,{"$f":"IF(A230=\"\",\"\",IF(Daten!F$1=\"A\",\"Ohne\",IF(OR(N230=\"Gerstenkorn roh\",N230=\"Riffelblech roh\"),\"XPS\",Daten!F$2)))","v":""},{"$f":"IF(A230=\"\",\"\",IF(AA230=\"Ohne\",\"A\",IF(AA230=\"XPS\",IF(Daten!F$1=\"D\",\"B\",Daten!F$1),Daten!F$1)))","v":""},{"$f":"IF(A230=\"\",\"\",IF(AB230=\"A\",\"-\",Daten!F$7))","v":""},{"$f":"IF(A230=\"\",\"\",IF(AB230=\"A\",\"-\",IF(AND(Daten!F$8=0,O230=\"Putzbord\"),5-Q230,0)))","v":""},{"$f":"IF(A230=\"\",\"\",IF(AB230=\"A\",\"-\",IF(AND(Daten!F$8=0,S230=\"Putzbord\"),5-U230,0)))","v":""},{"$f":"IF(A230=\"\",\"\",IF(AB230=\"A\",\"-\",Daten!F$10))","v":""},{"$f":"IFERROR(IF(A230=\"\",\"\",VLOOKUP(N230,Daten!N$1:O$7,2,FALSE)),\"\")","v":""}]
[null,null,null,{"$f":"IF(A231=\"\",\"\",IF(Daten!B$3=TRUE,Daten!B$7,\"\"))","v":""},{"$f":"IFERROR(IF(C231=\"\",\"\",C231+(2*D231)+IF(O231=Daten!M$13,6,0)+IF(S231=Daten!M$13,6,0)+IF(Q231=\"-\",0,Q231)+IF(U231=\"-\",0,U231)),\"\")","v":""},{"$f":"IF(OR(A231=\"\",AND(F$1=0,Daten!F$3=FALSE)),\"\",Daten!B$6)","v":""},{"$f":"IF(A231=\"\",\"\",IF(Daten!B$5=\"??\",\"\",Daten!B$5))","v":""},{"$f":"IF(A231=\"\",\"\",IF(Daten!B$3=FALSE,\"\",Daten!B$4))","v":""},{"$f":"IFERROR(IF(A231=\"\",\"\",G231+H231+IF(AND(G231>0,H231>0),5,0))-IF(Daten!H$21=TRUE,H231,0),\"\")","v":""},{"$f":"IFERROR(IF(A231=\"\",\"\",I231+IF(Daten!H$21=TRUE,H231,0)+IF(F231=\"\",0,F231)-IF(Daten!F$3=TRUE,Daten!F$10,0)),\"\")","v":""},{"$f":"IF(A231=\"\",\"\",Daten!D$14)","v":""},{"$f":"IF(A231=\"\",\"\",Daten!D$12)","v":""},{"$f":"IF(A231=\"\",\"\",Daten!D$13)","v":""},{"$f":"IF(A231=\"\",\"\",Daten!M$2)","v":""},{"$f":"IF(A231=\"\",\"\",IF(Daten!D$6=Daten!N$11,Daten!M$11,IF(Daten!D$6=Daten!N$13,Daten!M$13,IF(AND(Daten!$D$6=Daten!$M$10,Daten!$D$8=TRUE),Daten!$M$14,Daten!D$6))))","v":""},{"$f":"IF($A231=\"\",\"\",IF(OR(O231=\"Putzbord\",O231=\"Flexila PU\"),Daten!$D$15,IF(OR(O231=\"Stehbord\",O231=\"Stehbord HB\",O231=\"Flexila STB\",O231=\"Jalousiebord\"),Daten!$D$19,\"-\")))","v":""},{"$f":"IF($A231=\"\",\"\",IF(O231=\"Putzbord\",Daten!$D$16,IF(O231=\"Flexila PU\",_xlfn.NUMBERVALUE(MID(Daten!$D$17,1,2)),\"-\")))","v":""},{"$f":"IF($A231=\"\",\"\",IF(OR(O231=\"Putzbord\",O231=\"Flexila PU\"),Daten!$D$18,IF(OR(O231=\"Stehbord\",O231=\"Stehbord HB\",O231=\"Flexila STB\",O231=\"Jalousiebord\"),Daten!$D$21,\"-\")))","v":""},{"$f":"IF(A231=\"\",\"\",IF(Daten!D$6=Daten!N$11,Daten!M$11,IF(Daten!D$6=Daten!N$13,Daten!M$13,IF(AND(Daten!$D$6=Daten!$M$10,Daten!$D$8=TRUE),Daten!$M$14,Daten!D$6))))","v":""},{"$f":"IF($A231=\"\",\"\",IF(OR(S231=\"Putzbord\",S231=\"Flexila PU\"),Daten!$D$15,IF(OR(S231=\"Stehbord\",S231=\"Stehbord HB\",S231=\"Flexila STB\",S231=\"Jalousiebord\"),Daten!$D$19,\"-\")))","v":""},{"$f":"IF($A231=\"\",\"\",IF(S231=\"Putzbord\",Daten!$D$16,IF(S231=\"Flexila PU\",_xlfn.NUMBERVALUE(MID(Daten!$D$17,1,2)),\"-\")))","v":""},{"$f":"IF($A231=\"\",\"\",IF(OR(S231=\"Putzbord\",S231=\"Flexila PU\"),Daten!$D$18,IF(OR(S231=\"Stehbord\",S231=\"Stehbord HB\",S231=\"Flexila STB\",S231=\"Jalousiebord\"),Daten!$D$21,\"-\")))","v":""},{"$f":"IF(A231=\"\",\"\",IF(AND(Daten!D$6=\"Jalousiebord\",OR(O231=\"Stehbord\",S231=\"Stehbord\")),\"Jalousienklinkung\",\"\"))","v":""},{"$f":"IF(W231=\"\",\"\",Daten!D$20)","v":""},null,null,{"$f":"IF(A231=\"\",\"\",IF(Daten!F$1=\"A\",\"Ohne\",IF(OR(N231=\"Gerstenkorn roh\",N231=\"Riffelblech roh\"),\"XPS\",Daten!F$2)))","v":""},{"$f":"IF(A231=\"\",\"\",IF(AA231=\"Ohne\",\"A\",IF(AA231=\"XPS\",IF(Daten!F$1=\"D\",\"B\",Daten!F$1),Daten!F$1)))","v":""},{"$f":"IF(A231=\"\",\"\",IF(AB231=\"A\",\"-\",Daten!F$7))","v":""},{"$f":"IF(A231=\"\",\"\",IF(AB231=\"A\",\"-\",IF(AND(Daten!F$8=0,O231=\"Putzbord\"),5-Q231,0)))","v":""},{"$f":"IF(A231=\"\",\"\",IF(AB231=\"A\",\"-\",IF(AND(Daten!F$8=0,S231=\"Putzbord\"),5-U231,0)))","v":""},{"$f":"IF(A231=\"\",\"\",IF(AB231=\"A\",\"-\",Daten!F$10))","v":""},{"$f":"IFERROR(IF(A231=\"\",\"\",VLOOKUP(N231,Daten!N$1:O$7,2,FALSE)),\"\")","v":""}]
[null,null,null,{"$f":"IF(A232=\"\",\"\",IF(Daten!B$3=TRUE,Daten!B$7,\"\"))","v":""},{"$f":"IFERROR(IF(C232=\"\",\"\",C232+(2*D232)+IF(O232=Daten!M$13,6,0)+IF(S232=Daten!M$13,6,0)+IF(Q232=\"-\",0,Q232)+IF(U232=\"-\",0,U232)),\"\")","v":""},{"$f":"IF(OR(A232=\"\",AND(F$1=0,Daten!F$3=FALSE)),\"\",Daten!B$6)","v":""},{"$f":"IF(A232=\"\",\"\",IF(Daten!B$5=\"??\",\"\",Daten!B$5))","v":""},{"$f":"IF(A232=\"\",\"\",IF(Daten!B$3=FALSE,\"\",Daten!B$4))","v":""},{"$f":"IFERROR(IF(A232=\"\",\"\",G232+H232+IF(AND(G232>0,H232>0),5,0))-IF(Daten!H$21=TRUE,H232,0),\"\")","v":""},{"$f":"IFERROR(IF(A232=\"\",\"\",I232+IF(Daten!H$21=TRUE,H232,0)+IF(F232=\"\",0,F232)-IF(Daten!F$3=TRUE,Daten!F$10,0)),\"\")","v":""},{"$f":"IF(A232=\"\",\"\",Daten!D$14)","v":""},{"$f":"IF(A232=\"\",\"\",Daten!D$12)","v":""},{"$f":"IF(A232=\"\",\"\",Daten!D$13)","v":""},{"$f":"IF(A232=\"\",\"\",Daten!M$2)","v":""},{"$f":"IF(A232=\"\",\"\",IF(Daten!D$6=Daten!N$11,Daten!M$11,IF(Daten!D$6=Daten!N$13,Daten!M$13,IF(AND(Daten!$D$6=Daten!$M$10,Daten!$D$8=TRUE),Daten!$M$14,Daten!D$6))))","v":""},{"$f":"IF($A232=\"\",\"\",IF(OR(O232=\"Putzbord\",O232=\"Flexila PU\"),Daten!$D$15,IF(OR(O232=\"Stehbord\",O232=\"Stehbord HB\",O232=\"Flexila STB\",O232=\"Jalousiebord\"),Daten!$D$19,\"-\")))","v":""},{"$f":"IF($A232=\"\",\"\",IF(O232=\"Putzbord\",Daten!$D$16,IF(O232=\"Flexila PU\",_xlfn.NUMBERVALUE(MID(Daten!$D$17,1,2)),\"-\")))","v":""},{"$f":"IF($A232=\"\",\"\",IF(OR(O232=\"Putzbord\",O232=\"Flexila PU\"),Daten!$D$18,IF(OR(O232=\"Stehbord\",O232=\"Stehbord HB\",O232=\"Flexila STB\",O232=\"Jalousiebord\"),Daten!$D$21,\"-\")))","v":""},{"$f":"IF(A232=\"\",\"\",IF(Daten!D$6=Daten!N$11,Daten!M$11,IF(Daten!D$6=Daten!N$13,Daten!M$13,IF(AND(Daten!$D$6=Daten!$M$10,Daten!$D$8=TRUE),Daten!$M$14,Daten!D$6))))","v":""},{"$f":"IF($A232=\"\",\"\",IF(OR(S232=\"Putzbord\",S232=\"Flexila PU\"),Daten!$D$15,IF(OR(S232=\"Stehbord\",S232=\"Stehbord HB\",S232=\"Flexila STB\",S232=\"Jalousiebord\"),Daten!$D$19,\"-\")))","v":""},{"$f":"IF($A232=\"\",\"\",IF(S232=\"Putzbord\",Daten!$D$16,IF(S232=\"Flexila PU\",_xlfn.NUMBERVALUE(MID(Daten!$D$17,1,2)),\"-\")))","v":""},{"$f":"IF($A232=\"\",\"\",IF(OR(S232=\"Putzbord\",S232=\"Flexila PU\"),Daten!$D$18,IF(OR(S232=\"Stehbord\",S232=\"Stehbord HB\",S232=\"Flexila STB\",S232=\"Jalousiebord\"),Daten!$D$21,\"-\")))","v":""},{"$f":"IF(A232=\"\",\"\",IF(AND(Daten!D$6=\"Jalousiebord\",OR(O232=\"Stehbord\",S232=\"Stehbord\")),\"Jalousienklinkung\",\"\"))","v":""},{"$f":"IF(W232=\"\",\"\",Daten!D$20)","v":""},null,null,{"$f":"IF(A232=\"\",\"\",IF(Daten!F$1=\"A\",\"Ohne\",IF(OR(N232=\"Gerstenkorn roh\",N232=\"Riffelblech roh\"),\"XPS\",Daten!F$2)))","v":""},{"$f":"IF(A232=\"\",\"\",IF(AA232=\"Ohne\",\"A\",IF(AA232=\"XPS\",IF(Daten!F$1=\"D\",\"B\",Daten!F$1),Daten!F$1)))","v":""},{"$f":"IF(A232=\"\",\"\",IF(AB232=\"A\",\"-\",Daten!F$7))","v":""},{"$f":"IF(A232=\"\",\"\",IF(AB232=\"A\",\"-\",IF(AND(Daten!F$8=0,O232=\"Putzbord\"),5-Q232,0)))","v":""},{"$f":"IF(A232=\"\",\"\",IF(AB232=\"A\",\"-\",IF(AND(Daten!F$8=0,S232=\"Putzbord\"),5-U232,0)))","v":""},{"$f":"IF(A232=\"\",\"\",IF(AB232=\"A\",\"-\",Daten!F$10))","v":""},{"$f":"IFERROR(IF(A232=\"\",\"\",VLOOKUP(N232,Daten!N$1:O$7,2,FALSE)),\"\")","v":""}]
[null,null,null,{"$f":"IF(A233=\"\",\"\",IF(Daten!B$3=TRUE,Daten!B$7,\"\"))","v":""},{"$f":"IFERROR(IF(C233=\"\",\"\",C233+(2*D233)+IF(O233=Daten!M$13,6,0)+IF(S233=Daten!M$13,6,0)+IF(Q233=\"-\",0,Q233)+IF(U233=\"-\",0,U233)),\"\")","v":""},{"$f":"IF(OR(A233=\"\",AND(F$1=0,Daten!F$3=FALSE)),\"\",Daten!B$6)","v":""},{"$f":"IF(A233=\"\",\"\",IF(Daten!B$5=\"??\",\"\",Daten!B$5))","v":""},{"$f":"IF(A233=\"\",\"\",IF(Daten!B$3=FALSE,\"\",Daten!B$4))","v":""},{"$f":"IFERROR(IF(A233=\"\",\"\",G233+H233+IF(AND(G233>0,H233>0),5,0))-IF(Daten!H$21=TRUE,H233,0),\"\")","v":""},{"$f":"IFERROR(IF(A233=\"\",\"\",I233+IF(Daten!H$21=TRUE,H233,0)+IF(F233=\"\",0,F233)-IF(Daten!F$3=TRUE,Daten!F$10,0)),\"\")","v":""},{"$f":"IF(A233=\"\",\"\",Daten!D$14)","v":""},{"$f":"IF(A233=\"\",\"\",Daten!D$12)","v":""},{"$f":"IF(A233=\"\",\"\",Daten!D$13)","v":""},{"$f":"IF(A233=\"\",\"\",Daten!M$2)","v":""},{"$f":"IF(A233=\"\",\"\",IF(Daten!D$6=Daten!N$11,Daten!M$11,IF(Daten!D$6=Daten!N$13,Daten!M$13,IF(AND(Daten!$D$6=Daten!$M$10,Daten!$D$8=TRUE),Daten!$M$14,Daten!D$6))))","v":""},{"$f":"IF($A233=\"\",\"\",IF(OR(O233=\"Putzbord\",O233=\"Flexila PU\"),Daten!$D$15,IF(OR(O233=\"Stehbord\",O233=\"Stehbord HB\",O233=\"Flexila STB\",O233=\"Jalousiebord\"),Daten!$D$19,\"-\")))","v":""},{"$f":"IF($A233=\"\",\"\",IF(O233=\"Putzbord\",Daten!$D$16,IF(O233=\"Flexila PU\",_xlfn.NUMBERVALUE(MID(Daten!$D$17,1,2)),\"-\")))","v":""},{"$f":"IF($A233=\"\",\"\",IF(OR(O233=\"Putzbord\",O233=\"Flexila PU\"),Daten!$D$18,IF(OR(O233=\"Stehbord\",O233=\"Stehbord HB\",O233=\"Flexila STB\",O233=\"Jalousiebord\"),Daten!$D$21,\"-\")))","v":""},{"$f":"IF(A233=\"\",\"\",IF(Daten!D$6=Daten!N$11,Daten!M$11,IF(Daten!D$6=Daten!N$13,Daten!M$13,IF(AND(Daten!$D$6=Daten!$M$10,Daten!$D$8=TRUE),Daten!$M$14,Daten!D$6))))","v":""},{"$f":"IF($A233=\"\",\"\",IF(OR(S233=\"Putzbord\",S233=\"Flexila PU\"),Daten!$D$15,IF(OR(S233=\"Stehbord\",S233=\"Stehbord HB\",S233=\"Flexila STB\",S233=\"Jalousiebord\"),Daten!$D$19,\"-\")))","v":""},{"$f":"IF($A233=\"\",\"\",IF(S233=\"Putzbord\",Daten!$D$16,IF(S233=\"Flexila PU\",_xlfn.NUMBERVALUE(MID(Daten!$D$17,1,2)),\"-\")))","v":""},{"$f":"IF($A233=\"\",\"\",IF(OR(S233=\"Putzbord\",S233=\"Flexila PU\"),Daten!$D$18,IF(OR(S233=\"Stehbord\",S233=\"Stehbord HB\",S233=\"Flexila STB\",S233=\"Jalousiebord\"),Daten!$D$21,\"-\")))","v":""},{"$f":"IF(A233=\"\",\"\",IF(AND(Daten!D$6=\"Jalousiebord\",OR(O233=\"Stehbord\",S233=\"Stehbord\")),\"Jalousienklinkung\",\"\"))","v":""},{"$f":"IF(W233=\"\",\"\",Daten!D$20)","v":""},null,null,{"$f":"IF(A233=\"\",\"\",IF(Daten!F$1=\"A\",\"Ohne\",IF(OR(N233=\"Gerstenkorn roh\",N233=\"Riffelblech roh\"),\"XPS\",Daten!F$2)))","v":""},{"$f":"IF(A233=\"\",\"\",IF(AA233=\"Ohne\",\"A\",IF(AA233=\"XPS\",IF(Daten!F$1=\"D\",\"B\",Daten!F$1),Daten!F$1)))","v":""},{"$f":"IF(A233=\"\",\"\",IF(AB233=\"A\",\"-\",Daten!F$7))","v":""},{"$f":"IF(A233=\"\",\"\",IF(AB233=\"A\",\"-\",IF(AND(Daten!F$8=0,O233=\"Putzbord\"),5-Q233,0)))","v":""},{"$f":"IF(A233=\"\",\"\",IF(AB233=\"A\",\"-\",IF(AND(Daten!F$8=0,S233=\"Putzbord\"),5-U233,0)))","v":""},{"$f":"IF(A233=\"\",\"\",IF(AB233=\"A\",\"-\",Daten!F$10))","v":""},{"$f":"IFERROR(IF(A233=\"\",\"\",VLOOKUP(N233,Daten!N$1:O$7,2,FALSE)),\"\")","v":""}]
[null,null,null,{"$f":"IF(A234=\"\",\"\",IF(Daten!B$3=TRUE,Daten!B$7,\"\"))","v":""},{"$f":"IFERROR(IF(C234=\"\",\"\",C234+(2*D234)+IF(O234=Daten!M$13,6,0)+IF(S234=Daten!M$13,6,0)+IF(Q234=\"-\",0,Q234)+IF(U234=\"-\",0,U234)),\"\")","v":""},{"$f":"IF(OR(A234=\"\",AND(F$1=0,Daten!F$3=FALSE)),\"\",Daten!B$6)","v":""},{"$f":"IF(A234=\"\",\"\",IF(Daten!B$5=\"??\",\"\",Daten!B$5))","v":""},{"$f":"IF(A234=\"\",\"\",IF(Daten!B$3=FALSE,\"\",Daten!B$4))","v":""},{"$f":"IFERROR(IF(A234=\"\",\"\",G234+H234+IF(AND(G234>0,H234>0),5,0))-IF(Daten!H$21=TRUE,H234,0),\"\")","v":""},{"$f":"IFERROR(IF(A234=\"\",\"\",I234+IF(Daten!H$21=TRUE,H234,0)+IF(F234=\"\",0,F234)-IF(Daten!F$3=TRUE,Daten!F$10,0)),\"\")","v":""},{"$f":"IF(A234=\"\",\"\",Daten!D$14)","v":""},{"$f":"IF(A234=\"\",\"\",Daten!D$12)","v":""},{"$f":"IF(A234=\"\",\"\",Daten!D$13)","v":""},{"$f":"IF(A234=\"\",\"\",Daten!M$2)","v":""},{"$f":"IF(A234=\"\",\"\",IF(Daten!D$6=Daten!N$11,Daten!M$11,IF(Daten!D$6=Daten!N$13,Daten!M$13,IF(AND(Daten!$D$6=Daten!$M$10,Daten!$D$8=TRUE),Daten!$M$14,Daten!D$6))))","v":""},{"$f":"IF($A234=\"\",\"\",IF(OR(O234=\"Putzbord\",O234=\"Flexila PU\"),Daten!$D$15,IF(OR(O234=\"Stehbord\",O234=\"Stehbord HB\",O234=\"Flexila STB\",O234=\"Jalousiebord\"),Daten!$D$19,\"-\")))","v":""},{"$f":"IF($A234=\"\",\"\",IF(O234=\"Putzbord\",Daten!$D$16,IF(O234=\"Flexila PU\",_xlfn.NUMBERVALUE(MID(Daten!$D$17,1,2)),\"-\")))","v":""},{"$f":"IF($A234=\"\",\"\",IF(OR(O234=\"Putzbord\",O234=\"Flexila PU\"),Daten!$D$18,IF(OR(O234=\"Stehbord\",O234=\"Stehbord HB\",O234=\"Flexila STB\",O234=\"Jalousiebord\"),Daten!$D$21,\"-\")))","v":""},{"$f":"IF(A234=\"\",\"\",IF(Daten!D$6=Daten!N$11,Daten!M$11,IF(Daten!D$6=Daten!N$13,Daten!M$13,IF(AND(Daten!$D$6=Daten!$M$10,Daten!$D$8=TRUE),Daten!$M$14,Daten!D$6))))","v":""},{"$f":"IF($A234=\"\",\"\",IF(OR(S234=\"Putzbord\",S234=\"Flexila PU\"),Daten!$D$15,IF(OR(S234=\"Stehbord\",S234=\"Stehbord HB\",S234=\"Flexila STB\",S234=\"Jalousiebord\"),Daten!$D$19,\"-\")))","v":""},{"$f":"IF($A234=\"\",\"\",IF(S234=\"Putzbord\",Daten!$D$16,IF(S234=\"Flexila PU\",_xlfn.NUMBERVALUE(MID(Daten!$D$17,1,2)),\"-\")))","v":""},{"$f":"IF($A234=\"\",\"\",IF(OR(S234=\"Putzbord\",S234=\"Flexila PU\"),Daten!$D$18,IF(OR(S234=\"Stehbord\",S234=\"Stehbord HB\",S234=\"Flexila STB\",S234=\"Jalousiebord\"),Daten!$D$21,\"-\")))","v":""},{"$f":"IF(A234=\"\",\"\",IF(AND(Daten!D$6=\"Jalousiebord\",OR(O234=\"Stehbord\",S234=\"Stehbord\")),\"Jalousienklinkung\",\"\"))","v":""},{"$f":"IF(W234=\"\",\"\",Daten!D$20)","v":""},null,null,{"$f":"IF(A234=\"\",\"\",IF(Daten!F$1=\"A\",\"Ohne\",IF(OR(N234=\"Gerstenkorn roh\",N234=\"Riffelblech roh\"),\"XPS\",Daten!F$2)))","v":""},{"$f":"IF(A234=\"\",\"\",IF(AA234=\"Ohne\",\"A\",IF(AA234=\"XPS\",IF(Daten!F$1=\"D\",\"B\",Daten!F$1),Daten!F$1)))","v":""},{"$f":"IF(A234=\"\",\"\",IF(AB234=\"A\",\"-\",Daten!F$7))","v":""},{"$f":"IF(A234=\"\",\"\",IF(AB234=\"A\",\"-\",IF(AND(Daten!F$8=0,O234=\"Putzbord\"),5-Q234,0)))","v":""},{"$f":"IF(A234=\"\",\"\",IF(AB234=\"A\",\"-\",IF(AND(Daten!F$8=0,S234=\"Putzbord\"),5-U234,0)))","v":""},{"$f":"IF(A234=\"\",\"\",IF(AB234=\"A\",\"-\",Daten!F$10))","v":""},{"$f":"IFERROR(IF(A234=\"\",\"\",VLOOKUP(N234,Daten!N$1:O$7,2,FALSE)),\"\")","v":""}]
[null,null,null,{"$f":"IF(A235=\"\",\"\",IF(Daten!B$3=TRUE,Daten!B$7,\"\"))","v":""},{"$f":"IFERROR(IF(C235=\"\",\"\",C235+(2*D235)+IF(O235=Daten!M$13,6,0)+IF(S235=Daten!M$13,6,0)+IF(Q235=\"-\",0,Q235)+IF(U235=\"-\",0,U235)),\"\")","v":""},{"$f":"IF(OR(A235=\"\",AND(F$1=0,Daten!F$3=FALSE)),\"\",Daten!B$6)","v":""},{"$f":"IF(A235=\"\",\"\",IF(Daten!B$5=\"??\",\"\",Daten!B$5))","v":""},{"$f":"IF(A235=\"\",\"\",IF(Daten!B$3=FALSE,\"\",Daten!B$4))","v":""},{"$f":"IFERROR(IF(A235=\"\",\"\",G235+H235+IF(AND(G235>0,H235>0),5,0))-IF(Daten!H$21=TRUE,H235,0),\"\")","v":""},{"$f":"IFERROR(IF(A235=\"\",\"\",I235+IF(Daten!H$21=TRUE,H235,0)+IF(F235=\"\",0,F235)-IF(Daten!F$3=TRUE,Daten!F$10,0)),\"\")","v":""},{"$f":"IF(A235=\"\",\"\",Daten!D$14)","v":""},{"$f":"IF(A235=\"\",\"\",Daten!D$12)","v":""},{"$f":"IF(A235=\"\",\"\",Daten!D$13)","v":""},{"$f":"IF(A235=\"\",\"\",Daten!M$2)","v":""},{"$f":"IF(A235=\"\",\"\",IF(Daten!D$6=Daten!N$11,Daten!M$11,IF(Daten!D$6=Daten!N$13,Daten!M$13,IF(AND(Daten!$D$6=Daten!$M$10,Daten!$D$8=TRUE),Daten!$M$14,Daten!D$6))))","v":""},{"$f":"IF($A235=\"\",\"\",IF(OR(O235=\"Putzbord\",O235=\"Flexila PU\"),Daten!$D$15,IF(OR(O235=\"Stehbord\",O235=\"Stehbord HB\",O235=\"Flexila STB\",O235=\"Jalousiebord\"),Daten!$D$19,\"-\")))","v":""},{"$f":"IF($A235=\"\",\"\",IF(O235=\"Putzbord\",Daten!$D$16,IF(O235=\"Flexila PU\",_xlfn.NUMBERVALUE(MID(Daten!$D$17,1,2)),\"-\")))","v":""},{"$f":"IF($A235=\"\",\"\",IF(OR(O235=\"Putzbord\",O235=\"Flexila PU\"),Daten!$D$18,IF(OR(O235=\"Stehbord\",O235=\"Stehbord HB\",O235=\"Flexila STB\",O235=\"Jalousiebord\"),Daten!$D$21,\"-\")))","v":""},{"$f":"IF(A235=\"\",\"\",IF(Daten!D$6=Daten!N$11,Daten!M$11,IF(Daten!D$6=Daten!N$13,Daten!M$13,IF(AND(Daten!$D$6=Daten!$M$10,Daten!$D$8=TRUE),Daten!$M$14,Daten!D$6))))","v":""},{"$f":"IF($A235=\"\",\"\",IF(OR(S235=\"Putzbord\",S235=\"Flexila PU\"),Daten!$D$15,IF(OR(S235=\"Stehbord\",S235=\"Stehbord HB\",S235=\"Flexila STB\",S235=\"Jalousiebord\"),Daten!$D$19,\"-\")))","v":""},{"$f":"IF($A235=\"\",\"\",IF(S235=\"Putzbord\",Daten!$D$16,IF(S235=\"Flexila PU\",_xlfn.NUMBERVALUE(MID(Daten!$D$17,1,2)),\"-\")))","v":""},{"$f":"IF($A235=\"\",\"\",IF(OR(S235=\"Putzbord\",S235=\"Flexila PU\"),Daten!$D$18,IF(OR(S235=\"Stehbord\",S235=\"Stehbord HB\",S235=\"Flexila STB\",S235=\"Jalousiebord\"),Daten!$D$21,\"-\")))","v":""},{"$f":"IF(A235=\"\",\"\",IF(AND(Daten!D$6=\"Jalousiebord\",OR(O235=\"Stehbord\",S235=\"Stehbord\")),\"Jalousienklinkung\",\"\"))","v":""},{"$f":"IF(W235=\"\",\"\",Daten!D$20)","v":""},null,null,{"$f":"IF(A235=\"\",\"\",IF(Daten!F$1=\"A\",\"Ohne\",IF(OR(N235=\"Gerstenkorn roh\",N235=\"Riffelblech roh\"),\"XPS\",Daten!F$2)))","v":""},{"$f":"IF(A235=\"\",\"\",IF(AA235=\"Ohne\",\"A\",IF(AA235=\"XPS\",IF(Daten!F$1=\"D\",\"B\",Daten!F$1),Daten!F$1)))","v":""},{"$f":"IF(A235=\"\",\"\",IF(AB235=\"A\",\"-\",Daten!F$7))","v":""},{"$f":"IF(A235=\"\",\"\",IF(AB235=\"A\",\"-\",IF(AND(Daten!F$8=0,O235=\"Putzbord\"),5-Q235,0)))","v":""},{"$f":"IF(A235=\"\",\"\",IF(AB235=\"A\",\"-\",IF(AND(Daten!F$8=0,S235=\"Putzbord\"),5-U235,0)))","v":""},{"$f":"IF(A235=\"\",\"\",IF(AB235=\"A\",\"-\",Daten!F$10))","v":""},{"$f":"IFERROR(IF(A235=\"\",\"\",VLOOKUP(N235,Daten!N$1:O$7,2,FALSE)),\"\")","v":""}]
[null,null,null,{"$f":"IF(A236=\"\",\"\",IF(Daten!B$3=TRUE,Daten!B$7,\"\"))","v":""},{"$f":"IFERROR(IF(C236=\"\",\"\",C236+(2*D236)+IF(O236=Daten!M$13,6,0)+IF(S236=Daten!M$13,6,0)+IF(Q236=\"-\",0,Q236)+IF(U236=\"-\",0,U236)),\"\")","v":""},{"$f":"IF(OR(A236=\"\",AND(F$1=0,Daten!F$3=FALSE)),\"\",Daten!B$6)","v":""},{"$f":"IF(A236=\"\",\"\",IF(Daten!B$5=\"??\",\"\",Daten!B$5))","v":""},{"$f":"IF(A236=\"\",\"\",IF(Daten!B$3=FALSE,\"\",Daten!B$4))","v":""},{"$f":"IFERROR(IF(A236=\"\",\"\",G236+H236+IF(AND(G236>0,H236>0),5,0))-IF(Daten!H$21=TRUE,H236,0),\"\")","v":""},{"$f":"IFERROR(IF(A236=\"\",\"\",I236+IF(Daten!H$21=TRUE,H236,0)+IF(F236=\"\",0,F236)-IF(Daten!F$3=TRUE,Daten!F$10,0)),\"\")","v":""},{"$f":"IF(A236=\"\",\"\",Daten!D$14)","v":""},{"$f":"IF(A236=\"\",\"\",Daten!D$12)","v":""},{"$f":"IF(A236=\"\",\"\",Daten!D$13)","v":""},{"$f":"IF(A236=\"\",\"\",Daten!M$2)","v":""},{"$f":"IF(A236=\"\",\"\",IF(Daten!D$6=Daten!N$11,Daten!M$11,IF(Daten!D$6=Daten!N$13,Daten!M$13,IF(AND(Daten!$D$6=Daten!$M$10,Daten!$D$8=TRUE),Daten!$M$14,Daten!D$6))))","v":""},{"$f":"IF($A236=\"\",\"\",IF(OR(O236=\"Putzbord\",O236=\"Flexila PU\"),Daten!$D$15,IF(OR(O236=\"Stehbord\",O236=\"Stehbord HB\",O236=\"Flexila STB\",O236=\"Jalousiebord\"),Daten!$D$19,\"-\")))","v":""},{"$f":"IF($A236=\"\",\"\",IF(O236=\"Putzbord\",Daten!$D$16,IF(O236=\"Flexila PU\",_xlfn.NUMBERVALUE(MID(Daten!$D$17,1,2)),\"-\")))","v":""},{"$f":"IF($A236=\"\",\"\",IF(OR(O236=\"Putzbord\",O236=\"Flexila PU\"),Daten!$D$18,IF(OR(O236=\"Stehbord\",O236=\"Stehbord HB\",O236=\"Flexila STB\",O236=\"Jalousiebord\"),Daten!$D$21,\"-\")))","v":""},{"$f":"IF(A236=\"\",\"\",IF(Daten!D$6=Daten!N$11,Daten!M$11,IF(Daten!D$6=Daten!N$13,Daten!M$13,IF(AND(Daten!$D$6=Daten!$M$10,Daten!$D$8=TRUE),Daten!$M$14,Daten!D$6))))","v":""},{"$f":"IF($A236=\"\",\"\",IF(OR(S236=\"Putzbord\",S236=\"Flexila PU\"),Daten!$D$15,IF(OR(S236=\"Stehbord\",S236=\"Stehbord HB\",S236=\"Flexila STB\",S236=\"Jalousiebord\"),Daten!$D$19,\"-\")))","v":""},{"$f":"IF($A236=\"\",\"\",IF(S236=\"Putzbord\",Daten!$D$16,IF(S236=\"Flexila PU\",_xlfn.NUMBERVALUE(MID(Daten!$D$17,1,2)),\"-\")))","v":""},{"$f":"IF($A236=\"\",\"\",IF(OR(S236=\"Putzbord\",S236=\"Flexila PU\"),Daten!$D$18,IF(OR(S236=\"Stehbord\",S236=\"Stehbord HB\",S236=\"Flexila STB\",S236=\"Jalousiebord\"),Daten!$D$21,\"-\")))","v":""},{"$f":"IF(A236=\"\",\"\",IF(AND(Daten!D$6=\"Jalousiebord\",OR(O236=\"Stehbord\",S236=\"Stehbord\")),\"Jalousienklinkung\",\"\"))","v":""},{"$f":"IF(W236=\"\",\"\",Daten!D$20)","v":""},null,null,{"$f":"IF(A236=\"\",\"\",IF(Daten!F$1=\"A\",\"Ohne\",IF(OR(N236=\"Gerstenkorn roh\",N236=\"Riffelblech roh\"),\"XPS\",Daten!F$2)))","v":""},{"$f":"IF(A236=\"\",\"\",IF(AA236=\"Ohne\",\"A\",IF(AA236=\"XPS\",IF(Daten!F$1=\"D\",\"B\",Daten!F$1),Daten!F$1)))","v":""},{"$f":"IF(A236=\"\",\"\",IF(AB236=\"A\",\"-\",Daten!F$7))","v":""},{"$f":"IF(A236=\"\",\"\",IF(AB236=\"A\",\"-\",IF(AND(Daten!F$8=0,O236=\"Putzbord\"),5-Q236,0)))","v":""},{"$f":"IF(A236=\"\",\"\",IF(AB236=\"A\",\"-\",IF(AND(Daten!F$8=0,S236=\"Putzbord\"),5-U236,0)))","v":""},{"$f":"IF(A236=\"\",\"\",IF(AB236=\"A\",\"-\",Daten!F$10))","v":""},{"$f":"IFERROR(IF(A236=\"\",\"\",VLOOKUP(N236,Daten!N$1:O$7,2,FALSE)),\"\")","v":""}]
[null,null,null,{"$f":"IF(A237=\"\",\"\",IF(Daten!B$3=TRUE,Daten!B$7,\"\"))","v":""},{"$f":"IFERROR(IF(C237=\"\",\"\",C237+(2*D237)+IF(O237=Daten!M$13,6,0)+IF(S237=Daten!M$13,6,0)+IF(Q237=\"-\",0,Q237)+IF(U237=\"-\",0,U237)),\"\")","v":""},{"$f":"IF(OR(A237=\"\",AND(F$1=0,Daten!F$3=FALSE)),\"\",Daten!B$6)","v":""},{"$f":"IF(A237=\"\",\"\",IF(Daten!B$5=\"??\",\"\",Daten!B$5))","v":""},{"$f":"IF(A237=\"\",\"\",IF(Daten!B$3=FALSE,\"\",Daten!B$4))","v":""},{"$f":"IFERROR(IF(A237=\"\",\"\",G237+H237+IF(AND(G237>0,H237>0),5,0))-IF(Daten!H$21=TRUE,H237,0),\"\")","v":""},{"$f":"IFERROR(IF(A237=\"\",\"\",I237+IF(Daten!H$21=TRUE,H237,0)+IF(F237=\"\",0,F237)-IF(Daten!F$3=TRUE,Daten!F$10,0)),\"\")","v":""},{"$f":"IF(A237=\"\",\"\",Daten!D$14)","v":""},{"$f":"IF(A237=\"\",\"\",Daten!D$12)","v":""},{"$f":"IF(A237=\"\",\"\",Daten!D$13)","v":""},{"$f":"IF(A237=\"\",\"\",Daten!M$2)","v":""},{"$f":"IF(A237=\"\",\"\",IF(Daten!D$6=Daten!N$11,Daten!M$11,IF(Daten!D$6=Daten!N$13,Daten!M$13,IF(AND(Daten!$D$6=Daten!$M$10,Daten!$D$8=TRUE),Daten!$M$14,Daten!D$6))))","v":""},{"$f":"IF($A237=\"\",\"\",IF(OR(O237=\"Putzbord\",O237=\"Flexila PU\"),Daten!$D$15,IF(OR(O237=\"Stehbord\",O237=\"Stehbord HB\",O237=\"Flexila STB\",O237=\"Jalousiebord\"),Daten!$D$19,\"-\")))","v":""},{"$f":"IF($A237=\"\",\"\",IF(O237=\"Putzbord\",Daten!$D$16,IF(O237=\"Flexila PU\",_xlfn.NUMBERVALUE(MID(Daten!$D$17,1,2)),\"-\")))","v":""},{"$f":"IF($A237=\"\",\"\",IF(OR(O237=\"Putzbord\",O237=\"Flexila PU\"),Daten!$D$18,IF(OR(O237=\"Stehbord\",O237=\"Stehbord HB\",O237=\"Flexila STB\",O237=\"Jalousiebord\"),Daten!$D$21,\"-\")))","v":""},{"$f":"IF(A237=\"\",\"\",IF(Daten!D$6=Daten!N$11,Daten!M$11,IF(Daten!D$6=Daten!N$13,Daten!M$13,IF(AND(Daten!$D$6=Daten!$M$10,Daten!$D$8=TRUE),Daten!$M$14,Daten!D$6))))","v":""},{"$f":"IF($A237=\"\",\"\",IF(OR(S237=\"Putzbord\",S237=\"Flexila PU\"),Daten!$D$15,IF(OR(S237=\"Stehbord\",S237=\"Stehbord HB\",S237=\"Flexila STB\",S237=\"Jalousiebord\"),Daten!$D$19,\"-\")))","v":""},{"$f":"IF($A237=\"\",\"\",IF(S237=\"Putzbord\",Daten!$D$16,IF(S237=\"Flexila PU\",_xlfn.NUMBERVALUE(MID(Daten!$D$17,1,2)),\"-\")))","v":""},{"$f":"IF($A237=\"\",\"\",IF(OR(S237=\"Putzbord\",S237=\"Flexila PU\"),Daten!$D$18,IF(OR(S237=\"Stehbord\",S237=\"Stehbord HB\",S237=\"Flexila STB\",S237=\"Jalousiebord\"),Daten!$D$21,\"-\")))","v":""},{"$f":"IF(A237=\"\",\"\",IF(AND(Daten!D$6=\"Jalousiebord\",OR(O237=\"Stehbord\",S237=\"Stehbord\")),\"Jalousienklinkung\",\"\"))","v":""},{"$f":"IF(W237=\"\",\"\",Daten!D$20)","v":""},null,null,{"$f":"IF(A237=\"\",\"\",IF(Daten!F$1=\"A\",\"Ohne\",IF(OR(N237=\"Gerstenkorn roh\",N237=\"Riffelblech roh\"),\"XPS\",Daten!F$2)))","v":""},{"$f":"IF(A237=\"\",\"\",IF(AA237=\"Ohne\",\"A\",IF(AA237=\"XPS\",IF(Daten!F$1=\"D\",\"B\",Daten!F$1),Daten!F$1)))","v":""},{"$f":"IF(A237=\"\",\"\",IF(AB237=\"A\",\"-\",Daten!F$7))","v":""},{"$f":"IF(A237=\"\",\"\",IF(AB237=\"A\",\"-\",IF(AND(Daten!F$8=0,O237=\"Putzbord\"),5-Q237,0)))","v":""},{"$f":"IF(A237=\"\",\"\",IF(AB237=\"A\",\"-\",IF(AND(Daten!F$8=0,S237=\"Putzbord\"),5-U237,0)))","v":""},{"$f":"IF(A237=\"\",\"\",IF(AB237=\"A\",\"-\",Daten!F$10))","v":""},{"$f":"IFERROR(IF(A237=\"\",\"\",VLOOKUP(N237,Daten!N$1:O$7,2,FALSE)),\"\")","v":""}]
[null,null,null,{"$f":"IF(A238=\"\",\"\",IF(Daten!B$3=TRUE,Daten!B$7,\"\"))","v":""},{"$f":"IFERROR(IF(C238=\"\",\"\",C238+(2*D238)+IF(O238=Daten!M$13,6,0)+IF(S238=Daten!M$13,6,0)+IF(Q238=\"-\",0,Q238)+IF(U238=\"-\",0,U238)),\"\")","v":""},{"$f":"IF(OR(A238=\"\",AND(F$1=0,Daten!F$3=FALSE)),\"\",Daten!B$6)","v":""},{"$f":"IF(A238=\"\",\"\",IF(Daten!B$5=\"??\",\"\",Daten!B$5))","v":""},{"$f":"IF(A238=\"\",\"\",IF(Daten!B$3=FALSE,\"\",Daten!B$4))","v":""},{"$f":"IFERROR(IF(A238=\"\",\"\",G238+H238+IF(AND(G238>0,H238>0),5,0))-IF(Daten!H$21=TRUE,H238,0),\"\")","v":""},{"$f":"IFERROR(IF(A238=\"\",\"\",I238+IF(Daten!H$21=TRUE,H238,0)+IF(F238=\"\",0,F238)-IF(Daten!F$3=TRUE,Daten!F$10,0)),\"\")","v":""},{"$f":"IF(A238=\"\",\"\",Daten!D$14)","v":""},{"$f":"IF(A238=\"\",\"\",Daten!D$12)","v":""},{"$f":"IF(A238=\"\",\"\",Daten!D$13)","v":""},{"$f":"IF(A238=\"\",\"\",Daten!M$2)","v":""},{"$f":"IF(A238=\"\",\"\",IF(Daten!D$6=Daten!N$11,Daten!M$11,IF(Daten!D$6=Daten!N$13,Daten!M$13,IF(AND(Daten!$D$6=Daten!$M$10,Daten!$D$8=TRUE),Daten!$M$14,Daten!D$6))))","v":""},{"$f":"IF($A238=\"\",\"\",IF(OR(O238=\"Putzbord\",O238=\"Flexila PU\"),Daten!$D$15,IF(OR(O238=\"Stehbord\",O238=\"Stehbord HB\",O238=\"Flexila STB\",O238=\"Jalousiebord\"),Daten!$D$19,\"-\")))","v":""},{"$f":"IF($A238=\"\",\"\",IF(O238=\"Putzbord\",Daten!$D$16,IF(O238=\"Flexila PU\",_xlfn.NUMBERVALUE(MID(Daten!$D$17,1,2)),\"-\")))","v":""},{"$f":"IF($A238=\"\",\"\",IF(OR(O238=\"Putzbord\",O238=\"Flexila PU\"),Daten!$D$18,IF(OR(O238=\"Stehbord\",O238=\"Stehbord HB\",O238=\"Flexila STB\",O238=\"Jalousiebord\"),Daten!$D$21,\"-\")))","v":""},{"$f":"IF(A238=\"\",\"\",IF(Daten!D$6=Daten!N$11,Daten!M$11,IF(Daten!D$6=Daten!N$13,Daten!M$13,IF(AND(Daten!$D$6=Daten!$M$10,Daten!$D$8=TRUE),Daten!$M$14,Daten!D$6))))","v":""},{"$f":"IF($A238=\"\",\"\",IF(OR(S238=\"Putzbord\",S238=\"Flexila PU\"),Daten!$D$15,IF(OR(S238=\"Stehbord\",S238=\"Stehbord HB\",S238=\"Flexila STB\",S238=\"Jalousiebord\"),Daten!$D$19,\"-\")))","v":""},{"$f":"IF($A238=\"\",\"\",IF(S238=\"Putzbord\",Daten!$D$16,IF(S238=\"Flexila PU\",_xlfn.NUMBERVALUE(MID(Daten!$D$17,1,2)),\"-\")))","v":""},{"$f":"IF($A238=\"\",\"\",IF(OR(S238=\"Putzbord\",S238=\"Flexila PU\"),Daten!$D$18,IF(OR(S238=\"Stehbord\",S238=\"Stehbord HB\",S238=\"Flexila STB\",S238=\"Jalousiebord\"),Daten!$D$21,\"-\")))","v":""},{"$f":"IF(A238=\"\",\"\",IF(AND(Daten!D$6=\"Jalousiebord\",OR(O238=\"Stehbord\",S238=\"Stehbord\")),\"Jalousienklinkung\",\"\"))","v":""},{"$f":"IF(W238=\"\",\"\",Daten!D$20)","v":""},null,null,{"$f":"IF(A238=\"\",\"\",IF(Daten!F$1=\"A\",\"Ohne\",IF(OR(N238=\"Gerstenkorn roh\",N238=\"Riffelblech roh\"),\"XPS\",Daten!F$2)))","v":""},{"$f":"IF(A238=\"\",\"\",IF(AA238=\"Ohne\",\"A\",IF(AA238=\"XPS\",IF(Daten!F$1=\"D\",\"B\",Daten!F$1),Daten!F$1)))","v":""},{"$f":"IF(A238=\"\",\"\",IF(AB238=\"A\",\"-\",Daten!F$7))","v":""},{"$f":"IF(A238=\"\",\"\",IF(AB238=\"A\",\"-\",IF(AND(Daten!F$8=0,O238=\"Putzbord\"),5-Q238,0)))","v":""},{"$f":"IF(A238=\"\",\"\",IF(AB238=\"A\",\"-\",IF(AND(Daten!F$8=0,S238=\"Putzbord\"),5-U238,0)))","v":""},{"$f":"IF(A238=\"\",\"\",IF(AB238=\"A\",\"-\",Daten!F$10))","v":""},{"$f":"IFERROR(IF(A238=\"\",\"\",VLOOKUP(N238,Daten!N$1:O$7,2,FALSE)),\"\")","v":""}]
[null,null,null,{"$f":"IF(A239=\"\",\"\",IF(Daten!B$3=TRUE,Daten!B$7,\"\"))","v":""},{"$f":"IFERROR(IF(C239=\"\",\"\",C239+(2*D239)+IF(O239=Daten!M$13,6,0)+IF(S239=Daten!M$13,6,0)+IF(Q239=\"-\",0,Q239)+IF(U239=\"-\",0,U239)),\"\")","v":""},{"$f":"IF(OR(A239=\"\",AND(F$1=0,Daten!F$3=FALSE)),\"\",Daten!B$6)","v":""},{"$f":"IF(A239=\"\",\"\",IF(Daten!B$5=\"??\",\"\",Daten!B$5))","v":""},{"$f":"IF(A239=\"\",\"\",IF(Daten!B$3=FALSE,\"\",Daten!B$4))","v":""},{"$f":"IFERROR(IF(A239=\"\",\"\",G239+H239+IF(AND(G239>0,H239>0),5,0))-IF(Daten!H$21=TRUE,H239,0),\"\")","v":""},{"$f":"IFERROR(IF(A239=\"\",\"\",I239+IF(Daten!H$21=TRUE,H239,0)+IF(F239=\"\",0,F239)-IF(Daten!F$3=TRUE,Daten!F$10,0)),\"\")","v":""},{"$f":"IF(A239=\"\",\"\",Daten!D$14)","v":""},{"$f":"IF(A239=\"\",\"\",Daten!D$12)","v":""},{"$f":"IF(A239=\"\",\"\",Daten!D$13)","v":""},{"$f":"IF(A239=\"\",\"\",Daten!M$2)","v":""},{"$f":"IF(A239=\"\",\"\",IF(Daten!D$6=Daten!N$11,Daten!M$11,IF(Daten!D$6=Daten!N$13,Daten!M$13,IF(AND(Daten!$D$6=Daten!$M$10,Daten!$D$8=TRUE),Daten!$M$14,Daten!D$6))))","v":""},{"$f":"IF($A239=\"\",\"\",IF(OR(O239=\"Putzbord\",O239=\"Flexila PU\"),Daten!$D$15,IF(OR(O239=\"Stehbord\",O239=\"Stehbord HB\",O239=\"Flexila STB\",O239=\"Jalousiebord\"),Daten!$D$19,\"-\")))","v":""},{"$f":"IF($A239=\"\",\"\",IF(O239=\"Putzbord\",Daten!$D$16,IF(O239=\"Flexila PU\",_xlfn.NUMBERVALUE(MID(Daten!$D$17,1,2)),\"-\")))","v":""},{"$f":"IF($A239=\"\",\"\",IF(OR(O239=\"Putzbord\",O239=\"Flexila PU\"),Daten!$D$18,IF(OR(O239=\"Stehbord\",O239=\"Stehbord HB\",O239=\"Flexila STB\",O239=\"Jalousiebord\"),Daten!$D$21,\"-\")))","v":""},{"$f":"IF(A239=\"\",\"\",IF(Daten!D$6=Daten!N$11,Daten!M$11,IF(Daten!D$6=Daten!N$13,Daten!M$13,IF(AND(Daten!$D$6=Daten!$M$10,Daten!$D$8=TRUE),Daten!$M$14,Daten!D$6))))","v":""},{"$f":"IF($A239=\"\",\"\",IF(OR(S239=\"Putzbord\",S239=\"Flexila PU\"),Daten!$D$15,IF(OR(S239=\"Stehbord\",S239=\"Stehbord HB\",S239=\"Flexila STB\",S239=\"Jalousiebord\"),Daten!$D$19,\"-\")))","v":""},{"$f":"IF($A239=\"\",\"\",IF(S239=\"Putzbord\",Daten!$D$16,IF(S239=\"Flexila PU\",_xlfn.NUMBERVALUE(MID(Daten!$D$17,1,2)),\"-\")))","v":""},{"$f":"IF($A239=\"\",\"\",IF(OR(S239=\"Putzbord\",S239=\"Flexila PU\"),Daten!$D$18,IF(OR(S239=\"Stehbord\",S239=\"Stehbord HB\",S239=\"Flexila STB\",S239=\"Jalousiebord\"),Daten!$D$21,\"-\")))","v":""},{"$f":"IF(A239=\"\",\"\",IF(AND(Daten!D$6=\"Jalousiebord\",OR(O239=\"Stehbord\",S239=\"Stehbord\")),\"Jalousienklinkung\",\"\"))","v":""},{"$f":"IF(W239=\"\",\"\",Daten!D$20)","v":""},null,null,{"$f":"IF(A239=\"\",\"\",IF(Daten!F$1=\"A\",\"Ohne\",IF(OR(N239=\"Gerstenkorn roh\",N239=\"Riffelblech roh\"),\"XPS\",Daten!F$2)))","v":""},{"$f":"IF(A239=\"\",\"\",IF(AA239=\"Ohne\",\"A\",IF(AA239=\"XPS\",IF(Daten!F$1=\"D\",\"B\",Daten!F$1),Daten!F$1)))","v":""},{"$f":"IF(A239=\"\",\"\",IF(AB239=\"A\",\"-\",Daten!F$7))","v":""},{"$f":"IF(A239=\"\",\"\",IF(AB239=\"A\",\"-\",IF(AND(Daten!F$8=0,O239=\"Putzbord\"),5-Q239,0)))","v":""},{"$f":"IF(A239=\"\",\"\",IF(AB239=\"A\",\"-\",IF(AND(Daten!F$8=0,S239=\"Putzbord\"),5-U239,0)))","v":""},{"$f":"IF(A239=\"\",\"\",IF(AB239=\"A\",\"-\",Daten!F$10))","v":""},{"$f":"IFERROR(IF(A239=\"\",\"\",VLOOKUP(N239,Daten!N$1:O$7,2,FALSE)),\"\")","v":""}]
[null,null,null,{"$f":"IF(A240=\"\",\"\",IF(Daten!B$3=TRUE,Daten!B$7,\"\"))","v":""},{"$f":"IFERROR(IF(C240=\"\",\"\",C240+(2*D240)+IF(O240=Daten!M$13,6,0)+IF(S240=Daten!M$13,6,0)+IF(Q240=\"-\",0,Q240)+IF(U240=\"-\",0,U240)),\"\")","v":""},{"$f":"IF(OR(A240=\"\",AND(F$1=0,Daten!F$3=FALSE)),\"\",Daten!B$6)","v":""},{"$f":"IF(A240=\"\",\"\",IF(Daten!B$5=\"??\",\"\",Daten!B$5))","v":""},{"$f":"IF(A240=\"\",\"\",IF(Daten!B$3=FALSE,\"\",Daten!B$4))","v":""},{"$f":"IFERROR(IF(A240=\"\",\"\",G240+H240+IF(AND(G240>0,H240>0),5,0))-IF(Daten!H$21=TRUE,H240,0),\"\")","v":""},{"$f":"IFERROR(IF(A240=\"\",\"\",I240+IF(Daten!H$21=TRUE,H240,0)+IF(F240=\"\",0,F240)-IF(Daten!F$3=TRUE,Daten!F$10,0)),\"\")","v":""},{"$f":"IF(A240=\"\",\"\",Daten!D$14)","v":""},{"$f":"IF(A240=\"\",\"\",Daten!D$12)","v":""},{"$f":"IF(A240=\"\",\"\",Daten!D$13)","v":""},{"$f":"IF(A240=\"\",\"\",Daten!M$2)","v":""},{"$f":"IF(A240=\"\",\"\",IF(Daten!D$6=Daten!N$11,Daten!M$11,IF(Daten!D$6=Daten!N$13,Daten!M$13,IF(AND(Daten!$D$6=Daten!$M$10,Daten!$D$8=TRUE),Daten!$M$14,Daten!D$6))))","v":""},{"$f":"IF($A240=\"\",\"\",IF(OR(O240=\"Putzbord\",O240=\"Flexila PU\"),Daten!$D$15,IF(OR(O240=\"Stehbord\",O240=\"Stehbord HB\",O240=\"Flexila STB\",O240=\"Jalousiebord\"),Daten!$D$19,\"-\")))","v":""},{"$f":"IF($A240=\"\",\"\",IF(O240=\"Putzbord\",Daten!$D$16,IF(O240=\"Flexila PU\",_xlfn.NUMBERVALUE(MID(Daten!$D$17,1,2)),\"-\")))","v":""},{"$f":"IF($A240=\"\",\"\",IF(OR(O240=\"Putzbord\",O240=\"Flexila PU\"),Daten!$D$18,IF(OR(O240=\"Stehbord\",O240=\"Stehbord HB\",O240=\"Flexila STB\",O240=\"Jalousiebord\"),Daten!$D$21,\"-\")))","v":""},{"$f":"IF(A240=\"\",\"\",IF(Daten!D$6=Daten!N$11,Daten!M$11,IF(Daten!D$6=Daten!N$13,Daten!M$13,IF(AND(Daten!$D$6=Daten!$M$10,Daten!$D$8=TRUE),Daten!$M$14,Daten!D$6))))","v":""},{"$f":"IF($A240=\"\",\"\",IF(OR(S240=\"Putzbord\",S240=\"Flexila PU\"),Daten!$D$15,IF(OR(S240=\"Stehbord\",S240=\"Stehbord HB\",S240=\"Flexila STB\",S240=\"Jalousiebord\"),Daten!$D$19,\"-\")))","v":""},{"$f":"IF($A240=\"\",\"\",IF(S240=\"Putzbord\",Daten!$D$16,IF(S240=\"Flexila PU\",_xlfn.NUMBERVALUE(MID(Daten!$D$17,1,2)),\"-\")))","v":""},{"$f":"IF($A240=\"\",\"\",IF(OR(S240=\"Putzbord\",S240=\"Flexila PU\"),Daten!$D$18,IF(OR(S240=\"Stehbord\",S240=\"Stehbord HB\",S240=\"Flexila STB\",S240=\"Jalousiebord\"),Daten!$D$21,\"-\")))","v":""},{"$f":"IF(A240=\"\",\"\",IF(AND(Daten!D$6=\"Jalousiebord\",OR(O240=\"Stehbord\",S240=\"Stehbord\")),\"Jalousienklinkung\",\"\"))","v":""},{"$f":"IF(W240=\"\",\"\",Daten!D$20)","v":""},null,null,{"$f":"IF(A240=\"\",\"\",IF(Daten!F$1=\"A\",\"Ohne\",IF(OR(N240=\"Gerstenkorn roh\",N240=\"Riffelblech roh\"),\"XPS\",Daten!F$2)))","v":""},{"$f":"IF(A240=\"\",\"\",IF(AA240=\"Ohne\",\"A\",IF(AA240=\"XPS\",IF(Daten!F$1=\"D\",\"B\",Daten!F$1),Daten!F$1)))","v":""},{"$f":"IF(A240=\"\",\"\",IF(AB240=\"A\",\"-\",Daten!F$7))","v":""},{"$f":"IF(A240=\"\",\"\",IF(AB240=\"A\",\"-\",IF(AND(Daten!F$8=0,O240=\"Putzbord\"),5-Q240,0)))","v":""},{"$f":"IF(A240=\"\",\"\",IF(AB240=\"A\",\"-\",IF(AND(Daten!F$8=0,S240=\"Putzbord\"),5-U240,0)))","v":""},{"$f":"IF(A240=\"\",\"\",IF(AB240=\"A\",\"-\",Daten!F$10))","v":""},{"$f":"IFERROR(IF(A240=\"\",\"\",VLOOKUP(N240,Daten!N$1:O$7,2,FALSE)),\"\")","v":""}]
[null,null,null,{"$f":"IF(A241=\"\",\"\",IF(Daten!B$3=TRUE,Daten!B$7,\"\"))","v":""},{"$f":"IFERROR(IF(C241=\"\",\"\",C241+(2*D241)+IF(O241=Daten!M$13,6,0)+IF(S241=Daten!M$13,6,0)+IF(Q241=\"-\",0,Q241)+IF(U241=\"-\",0,U241)),\"\")","v":""},{"$f":"IF(OR(A241=\"\",AND(F$1=0,Daten!F$3=FALSE)),\"\",Daten!B$6)","v":""},{"$f":"IF(A241=\"\",\"\",IF(Daten!B$5=\"??\",\"\",Daten!B$5))","v":""},{"$f":"IF(A241=\"\",\"\",IF(Daten!B$3=FALSE,\"\",Daten!B$4))","v":""},{"$f":"IFERROR(IF(A241=\"\",\"\",G241+H241+IF(AND(G241>0,H241>0),5,0))-IF(Daten!H$21=TRUE,H241,0),\"\")","v":""},{"$f":"IFERROR(IF(A241=\"\",\"\",I241+IF(Daten!H$21=TRUE,H241,0)+IF(F241=\"\",0,F241)-IF(Daten!F$3=TRUE,Daten!F$10,0)),\"\")","v":""},{"$f":"IF(A241=\"\",\"\",Daten!D$14)","v":""},{"$f":"IF(A241=\"\",\"\",Daten!D$12)","v":""},{"$f":"IF(A241=\"\",\"\",Daten!D$13)","v":""},{"$f":"IF(A241=\"\",\"\",Daten!M$2)","v":""},{"$f":"IF(A241=\"\",\"\",IF(Daten!D$6=Daten!N$11,Daten!M$11,IF(Daten!D$6=Daten!N$13,Daten!M$13,IF(AND(Daten!$D$6=Daten!$M$10,Daten!$D$8=TRUE),Daten!$M$14,Daten!D$6))))","v":""},{"$f":"IF($A241=\"\",\"\",IF(OR(O241=\"Putzbord\",O241=\"Flexila PU\"),Daten!$D$15,IF(OR(O241=\"Stehbord\",O241=\"Stehbord HB\",O241=\"Flexila STB\",O241=\"Jalousiebord\"),Daten!$D$19,\"-\")))","v":""},{"$f":"IF($A241=\"\",\"\",IF(O241=\"Putzbord\",Daten!$D$16,IF(O241=\"Flexila PU\",_xlfn.NUMBERVALUE(MID(Daten!$D$17,1,2)),\"-\")))","v":""},{"$f":"IF($A241=\"\",\"\",IF(OR(O241=\"Putzbord\",O241=\"Flexila PU\"),Daten!$D$18,IF(OR(O241=\"Stehbord\",O241=\"Stehbord HB\",O241=\"Flexila STB\",O241=\"Jalousiebord\"),Daten!$D$21,\"-\")))","v":""},{"$f":"IF(A241=\"\",\"\",IF(Daten!D$6=Daten!N$11,Daten!M$11,IF(Daten!D$6=Daten!N$13,Daten!M$13,IF(AND(Daten!$D$6=Daten!$M$10,Daten!$D$8=TRUE),Daten!$M$14,Daten!D$6))))","v":""},{"$f":"IF($A241=\"\",\"\",IF(OR(S241=\"Putzbord\",S241=\"Flexila PU\"),Daten!$D$15,IF(OR(S241=\"Stehbord\",S241=\"Stehbord HB\",S241=\"Flexila STB\",S241=\"Jalousiebord\"),Daten!$D$19,\"-\")))","v":""},{"$f":"IF($A241=\"\",\"\",IF(S241=\"Putzbord\",Daten!$D$16,IF(S241=\"Flexila PU\",_xlfn.NUMBERVALUE(MID(Daten!$D$17,1,2)),\"-\")))","v":""},{"$f":"IF($A241=\"\",\"\",IF(OR(S241=\"Putzbord\",S241=\"Flexila PU\"),Daten!$D$18,IF(OR(S241=\"Stehbord\",S241=\"Stehbord HB\",S241=\"Flexila STB\",S241=\"Jalousiebord\"),Daten!$D$21,\"-\")))","v":""},{"$f":"IF(A241=\"\",\"\",IF(AND(Daten!D$6=\"Jalousiebord\",OR(O241=\"Stehbord\",S241=\"Stehbord\")),\"Jalousienklinkung\",\"\"))","v":""},{"$f":"IF(W241=\"\",\"\",Daten!D$20)","v":""},null,null,{"$f":"IF(A241=\"\",\"\",IF(Daten!F$1=\"A\",\"Ohne\",IF(OR(N241=\"Gerstenkorn roh\",N241=\"Riffelblech roh\"),\"XPS\",Daten!F$2)))","v":""},{"$f":"IF(A241=\"\",\"\",IF(AA241=\"Ohne\",\"A\",IF(AA241=\"XPS\",IF(Daten!F$1=\"D\",\"B\",Daten!F$1),Daten!F$1)))","v":""},{"$f":"IF(A241=\"\",\"\",IF(AB241=\"A\",\"-\",Daten!F$7))","v":""},{"$f":"IF(A241=\"\",\"\",IF(AB241=\"A\",\"-\",IF(AND(Daten!F$8=0,O241=\"Putzbord\"),5-Q241,0)))","v":""},{"$f":"IF(A241=\"\",\"\",IF(AB241=\"A\",\"-\",IF(AND(Daten!F$8=0,S241=\"Putzbord\"),5-U241,0)))","v":""},{"$f":"IF(A241=\"\",\"\",IF(AB241=\"A\",\"-\",Daten!F$10))","v":""},{"$f":"IFERROR(IF(A241=\"\",\"\",VLOOKUP(N241,Daten!N$1:O$7,2,FALSE)),\"\")","v":""}]
[null,null,null,{"$f":"IF(A242=\"\",\"\",IF(Daten!B$3=TRUE,Daten!B$7,\"\"))","v":""},{"$f":"IFERROR(IF(C242=\"\",\"\",C242+(2*D242)+IF(O242=Daten!M$13,6,0)+IF(S242=Daten!M$13,6,0)+IF(Q242=\"-\",0,Q242)+IF(U242=\"-\",0,U242)),\"\")","v":""},{"$f":"IF(OR(A242=\"\",AND(F$1=0,Daten!F$3=FALSE)),\"\",Daten!B$6)","v":""},{"$f":"IF(A242=\"\",\"\",IF(Daten!B$5=\"??\",\"\",Daten!B$5))","v":""},{"$f":"IF(A242=\"\",\"\",IF(Daten!B$3=FALSE,\"\",Daten!B$4))","v":""},{"$f":"IFERROR(IF(A242=\"\",\"\",G242+H242+IF(AND(G242>0,H242>0),5,0))-IF(Daten!H$21=TRUE,H242,0),\"\")","v":""},{"$f":"IFERROR(IF(A242=\"\",\"\",I242+IF(Daten!H$21=TRUE,H242,0)+IF(F242=\"\",0,F242)-IF(Daten!F$3=TRUE,Daten!F$10,0)),\"\")","v":""},{"$f":"IF(A242=\"\",\"\",Daten!D$14)","v":""},{"$f":"IF(A242=\"\",\"\",Daten!D$12)","v":""},{"$f":"IF(A242=\"\",\"\",Daten!D$13)","v":""},{"$f":"IF(A242=\"\",\"\",Daten!M$2)","v":""},{"$f":"IF(A242=\"\",\"\",IF(Daten!D$6=Daten!N$11,Daten!M$11,IF(Daten!D$6=Daten!N$13,Daten!M$13,IF(AND(Daten!$D$6=Daten!$M$10,Daten!$D$8=TRUE),Daten!$M$14,Daten!D$6))))","v":""},{"$f":"IF($A242=\"\",\"\",IF(OR(O242=\"Putzbord\",O242=\"Flexila PU\"),Daten!$D$15,IF(OR(O242=\"Stehbord\",O242=\"Stehbord HB\",O242=\"Flexila STB\",O242=\"Jalousiebord\"),Daten!$D$19,\"-\")))","v":""},{"$f":"IF($A242=\"\",\"\",IF(O242=\"Putzbord\",Daten!$D$16,IF(O242=\"Flexila PU\",_xlfn.NUMBERVALUE(MID(Daten!$D$17,1,2)),\"-\")))","v":""},{"$f":"IF($A242=\"\",\"\",IF(OR(O242=\"Putzbord\",O242=\"Flexila PU\"),Daten!$D$18,IF(OR(O242=\"Stehbord\",O242=\"Stehbord HB\",O242=\"Flexila STB\",O242=\"Jalousiebord\"),Daten!$D$21,\"-\")))","v":""},{"$f":"IF(A242=\"\",\"\",IF(Daten!D$6=Daten!N$11,Daten!M$11,IF(Daten!D$6=Daten!N$13,Daten!M$13,IF(AND(Daten!$D$6=Daten!$M$10,Daten!$D$8=TRUE),Daten!$M$14,Daten!D$6))))","v":""},{"$f":"IF($A242=\"\",\"\",IF(OR(S242=\"Putzbord\",S242=\"Flexila PU\"),Daten!$D$15,IF(OR(S242=\"Stehbord\",S242=\"Stehbord HB\",S242=\"Flexila STB\",S242=\"Jalousiebord\"),Daten!$D$19,\"-\")))","v":""},{"$f":"IF($A242=\"\",\"\",IF(S242=\"Putzbord\",Daten!$D$16,IF(S242=\"Flexila PU\",_xlfn.NUMBERVALUE(MID(Daten!$D$17,1,2)),\"-\")))","v":""},{"$f":"IF($A242=\"\",\"\",IF(OR(S242=\"Putzbord\",S242=\"Flexila PU\"),Daten!$D$18,IF(OR(S242=\"Stehbord\",S242=\"Stehbord HB\",S242=\"Flexila STB\",S242=\"Jalousiebord\"),Daten!$D$21,\"-\")))","v":""},{"$f":"IF(A242=\"\",\"\",IF(AND(Daten!D$6=\"Jalousiebord\",OR(O242=\"Stehbord\",S242=\"Stehbord\")),\"Jalousienklinkung\",\"\"))","v":""},{"$f":"IF(W242=\"\",\"\",Daten!D$20)","v":""},null,null,{"$f":"IF(A242=\"\",\"\",IF(Daten!F$1=\"A\",\"Ohne\",IF(OR(N242=\"Gerstenkorn roh\",N242=\"Riffelblech roh\"),\"XPS\",Daten!F$2)))","v":""},{"$f":"IF(A242=\"\",\"\",IF(AA242=\"Ohne\",\"A\",IF(AA242=\"XPS\",IF(Daten!F$1=\"D\",\"B\",Daten!F$1),Daten!F$1)))","v":""},{"$f":"IF(A242=\"\",\"\",IF(AB242=\"A\",\"-\",Daten!F$7))","v":""},{"$f":"IF(A242=\"\",\"\",IF(AB242=\"A\",\"-\",IF(AND(Daten!F$8=0,O242=\"Putzbord\"),5-Q242,0)))","v":""},{"$f":"IF(A242=\"\",\"\",IF(AB242=\"A\",\"-\",IF(AND(Daten!F$8=0,S242=\"Putzbord\"),5-U242,0)))","v":""},{"$f":"IF(A242=\"\",\"\",IF(AB242=\"A\",\"-\",Daten!F$10))","v":""},{"$f":"IFERROR(IF(A242=\"\",\"\",VLOOKUP(N242,Daten!N$1:O$7,2,FALSE)),\"\")","v":""}]
[null,null,null,{"$f":"IF(A243=\"\",\"\",IF(Daten!B$3=TRUE,Daten!B$7,\"\"))","v":""},{"$f":"IFERROR(IF(C243=\"\",\"\",C243+(2*D243)+IF(O243=Daten!M$13,6,0)+IF(S243=Daten!M$13,6,0)+IF(Q243=\"-\",0,Q243)+IF(U243=\"-\",0,U243)),\"\")","v":""},{"$f":"IF(OR(A243=\"\",AND(F$1=0,Daten!F$3=FALSE)),\"\",Daten!B$6)","v":""},{"$f":"IF(A243=\"\",\"\",IF(Daten!B$5=\"??\",\"\",Daten!B$5))","v":""},{"$f":"IF(A243=\"\",\"\",IF(Daten!B$3=FALSE,\"\",Daten!B$4))","v":""},{"$f":"IFERROR(IF(A243=\"\",\"\",G243+H243+IF(AND(G243>0,H243>0),5,0))-IF(Daten!H$21=TRUE,H243,0),\"\")","v":""},{"$f":"IFERROR(IF(A243=\"\",\"\",I243+IF(Daten!H$21=TRUE,H243,0)+IF(F243=\"\",0,F243)-IF(Daten!F$3=TRUE,Daten!F$10,0)),\"\")","v":""},{"$f":"IF(A243=\"\",\"\",Daten!D$14)","v":""},{"$f":"IF(A243=\"\",\"\",Daten!D$12)","v":""},{"$f":"IF(A243=\"\",\"\",Daten!D$13)","v":""},{"$f":"IF(A243=\"\",\"\",Daten!M$2)","v":""},{"$f":"IF(A243=\"\",\"\",IF(Daten!D$6=Daten!N$11,Daten!M$11,IF(Daten!D$6=Daten!N$13,Daten!M$13,IF(AND(Daten!$D$6=Daten!$M$10,Daten!$D$8=TRUE),Daten!$M$14,Daten!D$6))))","v":""},{"$f":"IF($A243=\"\",\"\",IF(OR(O243=\"Putzbord\",O243=\"Flexila PU\"),Daten!$D$15,IF(OR(O243=\"Stehbord\",O243=\"Stehbord HB\",O243=\"Flexila STB\",O243=\"Jalousiebord\"),Daten!$D$19,\"-\")))","v":""},{"$f":"IF($A243=\"\",\"\",IF(O243=\"Putzbord\",Daten!$D$16,IF(O243=\"Flexila PU\",_xlfn.NUMBERVALUE(MID(Daten!$D$17,1,2)),\"-\")))","v":""},{"$f":"IF($A243=\"\",\"\",IF(OR(O243=\"Putzbord\",O243=\"Flexila PU\"),Daten!$D$18,IF(OR(O243=\"Stehbord\",O243=\"Stehbord HB\",O243=\"Flexila STB\",O243=\"Jalousiebord\"),Daten!$D$21,\"-\")))","v":""},{"$f":"IF(A243=\"\",\"\",IF(Daten!D$6=Daten!N$11,Daten!M$11,IF(Daten!D$6=Daten!N$13,Daten!M$13,IF(AND(Daten!$D$6=Daten!$M$10,Daten!$D$8=TRUE),Daten!$M$14,Daten!D$6))))","v":""},{"$f":"IF($A243=\"\",\"\",IF(OR(S243=\"Putzbord\",S243=\"Flexila PU\"),Daten!$D$15,IF(OR(S243=\"Stehbord\",S243=\"Stehbord HB\",S243=\"Flexila STB\",S243=\"Jalousiebord\"),Daten!$D$19,\"-\")))","v":""},{"$f":"IF($A243=\"\",\"\",IF(S243=\"Putzbord\",Daten!$D$16,IF(S243=\"Flexila PU\",_xlfn.NUMBERVALUE(MID(Daten!$D$17,1,2)),\"-\")))","v":""},{"$f":"IF($A243=\"\",\"\",IF(OR(S243=\"Putzbord\",S243=\"Flexila PU\"),Daten!$D$18,IF(OR(S243=\"Stehbord\",S243=\"Stehbord HB\",S243=\"Flexila STB\",S243=\"Jalousiebord\"),Daten!$D$21,\"-\")))","v":""},{"$f":"IF(A243=\"\",\"\",IF(AND(Daten!D$6=\"Jalousiebord\",OR(O243=\"Stehbord\",S243=\"Stehbord\")),\"Jalousienklinkung\",\"\"))","v":""},{"$f":"IF(W243=\"\",\"\",Daten!D$20)","v":""},null,null,{"$f":"IF(A243=\"\",\"\",IF(Daten!F$1=\"A\",\"Ohne\",IF(OR(N243=\"Gerstenkorn roh\",N243=\"Riffelblech roh\"),\"XPS\",Daten!F$2)))","v":""},{"$f":"IF(A243=\"\",\"\",IF(AA243=\"Ohne\",\"A\",IF(AA243=\"XPS\",IF(Daten!F$1=\"D\",\"B\",Daten!F$1),Daten!F$1)))","v":""},{"$f":"IF(A243=\"\",\"\",IF(AB243=\"A\",\"-\",Daten!F$7))","v":""},{"$f":"IF(A243=\"\",\"\",IF(AB243=\"A\",\"-\",IF(AND(Daten!F$8=0,O243=\"Putzbord\"),5-Q243,0)))","v":""},{"$f":"IF(A243=\"\",\"\",IF(AB243=\"A\",\"-\",IF(AND(Daten!F$8=0,S243=\"Putzbord\"),5-U243,0)))","v":""},{"$f":"IF(A243=\"\",\"\",IF(AB243=\"A\",\"-\",Daten!F$10))","v":""},{"$f":"IFERROR(IF(A243=\"\",\"\",VLOOKUP(N243,Daten!N$1:O$7,2,FALSE)),\"\")","v":""}]
[null,null,null,{"$f":"IF(A244=\"\",\"\",IF(Daten!B$3=TRUE,Daten!B$7,\"\"))","v":""},{"$f":"IFERROR(IF(C244=\"\",\"\",C244+(2*D244)+IF(O244=Daten!M$13,6,0)+IF(S244=Daten!M$13,6,0)+IF(Q244=\"-\",0,Q244)+IF(U244=\"-\",0,U244)),\"\")","v":""},{"$f":"IF(OR(A244=\"\",AND(F$1=0,Daten!F$3=FALSE)),\"\",Daten!B$6)","v":""},{"$f":"IF(A244=\"\",\"\",IF(Daten!B$5=\"??\",\"\",Daten!B$5))","v":""},{"$f":"IF(A244=\"\",\"\",IF(Daten!B$3=FALSE,\"\",Daten!B$4))","v":""},{"$f":"IFERROR(IF(A244=\"\",\"\",G244+H244+IF(AND(G244>0,H244>0),5,0))-IF(Daten!H$21=TRUE,H244,0),\"\")","v":""},{"$f":"IFERROR(IF(A244=\"\",\"\",I244+IF(Daten!H$21=TRUE,H244,0)+IF(F244=\"\",0,F244)-IF(Daten!F$3=TRUE,Daten!F$10,0)),\"\")","v":""},{"$f":"IF(A244=\"\",\"\",Daten!D$14)","v":""},{"$f":"IF(A244=\"\",\"\",Daten!D$12)","v":""},{"$f":"IF(A244=\"\",\"\",Daten!D$13)","v":""},{"$f":"IF(A244=\"\",\"\",Daten!M$2)","v":""},{"$f":"IF(A244=\"\",\"\",IF(Daten!D$6=Daten!N$11,Daten!M$11,IF(Daten!D$6=Daten!N$13,Daten!M$13,IF(AND(Daten!$D$6=Daten!$M$10,Daten!$D$8=TRUE),Daten!$M$14,Daten!D$6))))","v":""},{"$f":"IF($A244=\"\",\"\",IF(OR(O244=\"Putzbord\",O244=\"Flexila PU\"),Daten!$D$15,IF(OR(O244=\"Stehbord\",O244=\"Stehbord HB\",O244=\"Flexila STB\",O244=\"Jalousiebord\"),Daten!$D$19,\"-\")))","v":""},{"$f":"IF($A244=\"\",\"\",IF(O244=\"Putzbord\",Daten!$D$16,IF(O244=\"Flexila PU\",_xlfn.NUMBERVALUE(MID(Daten!$D$17,1,2)),\"-\")))","v":""},{"$f":"IF($A244=\"\",\"\",IF(OR(O244=\"Putzbord\",O244=\"Flexila PU\"),Daten!$D$18,IF(OR(O244=\"Stehbord\",O244=\"Stehbord HB\",O244=\"Flexila STB\",O244=\"Jalousiebord\"),Daten!$D$21,\"-\")))","v":""},{"$f":"IF(A244=\"\",\"\",IF(Daten!D$6=Daten!N$11,Daten!M$11,IF(Daten!D$6=Daten!N$13,Daten!M$13,IF(AND(Daten!$D$6=Daten!$M$10,Daten!$D$8=TRUE),Daten!$M$14,Daten!D$6))))","v":""},{"$f":"IF($A244=\"\",\"\",IF(OR(S244=\"Putzbord\",S244=\"Flexila PU\"),Daten!$D$15,IF(OR(S244=\"Stehbord\",S244=\"Stehbord HB\",S244=\"Flexila STB\",S244=\"Jalousiebord\"),Daten!$D$19,\"-\")))","v":""},{"$f":"IF($A244=\"\",\"\",IF(S244=\"Putzbord\",Daten!$D$16,IF(S244=\"Flexila PU\",_xlfn.NUMBERVALUE(MID(Daten!$D$17,1,2)),\"-\")))","v":""},{"$f":"IF($A244=\"\",\"\",IF(OR(S244=\"Putzbord\",S244=\"Flexila PU\"),Daten!$D$18,IF(OR(S244=\"Stehbord\",S244=\"Stehbord HB\",S244=\"Flexila STB\",S244=\"Jalousiebord\"),Daten!$D$21,\"-\")))","v":""},{"$f":"IF(A244=\"\",\"\",IF(AND(Daten!D$6=\"Jalousiebord\",OR(O244=\"Stehbord\",S244=\"Stehbord\")),\"Jalousienklinkung\",\"\"))","v":""},{"$f":"IF(W244=\"\",\"\",Daten!D$20)","v":""},null,null,{"$f":"IF(A244=\"\",\"\",IF(Daten!F$1=\"A\",\"Ohne\",IF(OR(N244=\"Gerstenkorn roh\",N244=\"Riffelblech roh\"),\"XPS\",Daten!F$2)))","v":""},{"$f":"IF(A244=\"\",\"\",IF(AA244=\"Ohne\",\"A\",IF(AA244=\"XPS\",IF(Daten!F$1=\"D\",\"B\",Daten!F$1),Daten!F$1)))","v":""},{"$f":"IF(A244=\"\",\"\",IF(AB244=\"A\",\"-\",Daten!F$7))","v":""},{"$f":"IF(A244=\"\",\"\",IF(AB244=\"A\",\"-\",IF(AND(Daten!F$8=0,O244=\"Putzbord\"),5-Q244,0)))","v":""},{"$f":"IF(A244=\"\",\"\",IF(AB244=\"A\",\"-\",IF(AND(Daten!F$8=0,S244=\"Putzbord\"),5-U244,0)))","v":""},{"$f":"IF(A244=\"\",\"\",IF(AB244=\"A\",\"-\",Daten!F$10))","v":""},{"$f":"IFERROR(IF(A244=\"\",\"\",VLOOKUP(N244,Daten!N$1:O$7,2,FALSE)),\"\")","v":""}]
[null,null,null,{"$f":"IF(A245=\"\",\"\",IF(Daten!B$3=TRUE,Daten!B$7,\"\"))","v":""},{"$f":"IFERROR(IF(C245=\"\",\"\",C245+(2*D245)+IF(O245=Daten!M$13,6,0)+IF(S245=Daten!M$13,6,0)+IF(Q245=\"-\",0,Q245)+IF(U245=\"-\",0,U245)),\"\")","v":""},{"$f":"IF(OR(A245=\"\",AND(F$1=0,Daten!F$3=FALSE)),\"\",Daten!B$6)","v":""},{"$f":"IF(A245=\"\",\"\",IF(Daten!B$5=\"??\",\"\",Daten!B$5))","v":""},{"$f":"IF(A245=\"\",\"\",IF(Daten!B$3=FALSE,\"\",Daten!B$4))","v":""},{"$f":"IFERROR(IF(A245=\"\",\"\",G245+H245+IF(AND(G245>0,H245>0),5,0))-IF(Daten!H$21=TRUE,H245,0),\"\")","v":""},{"$f":"IFERROR(IF(A245=\"\",\"\",I245+IF(Daten!H$21=TRUE,H245,0)+IF(F245=\"\",0,F245)-IF(Daten!F$3=TRUE,Daten!F$10,0)),\"\")","v":""},{"$f":"IF(A245=\"\",\"\",Daten!D$14)","v":""},{"$f":"IF(A245=\"\",\"\",Daten!D$12)","v":""},{"$f":"IF(A245=\"\",\"\",Daten!D$13)","v":""},{"$f":"IF(A245=\"\",\"\",Daten!M$2)","v":""},{"$f":"IF(A245=\"\",\"\",IF(Daten!D$6=Daten!N$11,Daten!M$11,IF(Daten!D$6=Daten!N$13,Daten!M$13,IF(AND(Daten!$D$6=Daten!$M$10,Daten!$D$8=TRUE),Daten!$M$14,Daten!D$6))))","v":""},{"$f":"IF($A245=\"\",\"\",IF(OR(O245=\"Putzbord\",O245=\"Flexila PU\"),Daten!$D$15,IF(OR(O245=\"Stehbord\",O245=\"Stehbord HB\",O245=\"Flexila STB\",O245=\"Jalousiebord\"),Daten!$D$19,\"-\")))","v":""},{"$f":"IF($A245=\"\",\"\",IF(O245=\"Putzbord\",Daten!$D$16,IF(O245=\"Flexila PU\",_xlfn.NUMBERVALUE(MID(Daten!$D$17,1,2)),\"-\")))","v":""},{"$f":"IF($A245=\"\",\"\",IF(OR(O245=\"Putzbord\",O245=\"Flexila PU\"),Daten!$D$18,IF(OR(O245=\"Stehbord\",O245=\"Stehbord HB\",O245=\"Flexila STB\",O245=\"Jalousiebord\"),Daten!$D$21,\"-\")))","v":""},{"$f":"IF(A245=\"\",\"\",IF(Daten!D$6=Daten!N$11,Daten!M$11,IF(Daten!D$6=Daten!N$13,Daten!M$13,IF(AND(Daten!$D$6=Daten!$M$10,Daten!$D$8=TRUE),Daten!$M$14,Daten!D$6))))","v":""},{"$f":"IF($A245=\"\",\"\",IF(OR(S245=\"Putzbord\",S245=\"Flexila PU\"),Daten!$D$15,IF(OR(S245=\"Stehbord\",S245=\"Stehbord HB\",S245=\"Flexila STB\",S245=\"Jalousiebord\"),Daten!$D$19,\"-\")))","v":""},{"$f":"IF($A245=\"\",\"\",IF(S245=\"Putzbord\",Daten!$D$16,IF(S245=\"Flexila PU\",_xlfn.NUMBERVALUE(MID(Daten!$D$17,1,2)),\"-\")))","v":""},{"$f":"IF($A245=\"\",\"\",IF(OR(S245=\"Putzbord\",S245=\"Flexila PU\"),Daten!$D$18,IF(OR(S245=\"Stehbord\",S245=\"Stehbord HB\",S245=\"Flexila STB\",S245=\"Jalousiebord\"),Daten!$D$21,\"-\")))","v":""},{"$f":"IF(A245=\"\",\"\",IF(AND(Daten!D$6=\"Jalousiebord\",OR(O245=\"Stehbord\",S245=\"Stehbord\")),\"Jalousienklinkung\",\"\"))","v":""},{"$f":"IF(W245=\"\",\"\",Daten!D$20)","v":""},null,null,{"$f":"IF(A245=\"\",\"\",IF(Daten!F$1=\"A\",\"Ohne\",IF(OR(N245=\"Gerstenkorn roh\",N245=\"Riffelblech roh\"),\"XPS\",Daten!F$2)))","v":""},{"$f":"IF(A245=\"\",\"\",IF(AA245=\"Ohne\",\"A\",IF(AA245=\"XPS\",IF(Daten!F$1=\"D\",\"B\",Daten!F$1),Daten!F$1)))","v":""},{"$f":"IF(A245=\"\",\"\",IF(AB245=\"A\",\"-\",Daten!F$7))","v":""},{"$f":"IF(A245=\"\",\"\",IF(AB245=\"A\",\"-\",IF(AND(Daten!F$8=0,O245=\"Putzbord\"),5-Q245,0)))","v":""},{"$f":"IF(A245=\"\",\"\",IF(AB245=\"A\",\"-\",IF(AND(Daten!F$8=0,S245=\"Putzbord\"),5-U245,0)))","v":""},{"$f":"IF(A245=\"\",\"\",IF(AB245=\"A\",\"-\",Daten!F$10))","v":""},{"$f":"IFERROR(IF(A245=\"\",\"\",VLOOKUP(N245,Daten!N$1:O$7,2,FALSE)),\"\")","v":""}]
[null,null,null,{"$f":"IF(A246=\"\",\"\",IF(Daten!B$3=TRUE,Daten!B$7,\"\"))","v":""},{"$f":"IFERROR(IF(C246=\"\",\"\",C246+(2*D246)+IF(O246=Daten!M$13,6,0)+IF(S246=Daten!M$13,6,0)+IF(Q246=\"-\",0,Q246)+IF(U246=\"-\",0,U246)),\"\")","v":""},{"$f":"IF(OR(A246=\"\",AND(F$1=0,Daten!F$3=FALSE)),\"\",Daten!B$6)","v":""},{"$f":"IF(A246=\"\",\"\",IF(Daten!B$5=\"??\",\"\",Daten!B$5))","v":""},{"$f":"IF(A246=\"\",\"\",IF(Daten!B$3=FALSE,\"\",Daten!B$4))","v":""},{"$f":"IFERROR(IF(A246=\"\",\"\",G246+H246+IF(AND(G246>0,H246>0),5,0))-IF(Daten!H$21=TRUE,H246,0),\"\")","v":""},{"$f":"IFERROR(IF(A246=\"\",\"\",I246+IF(Daten!H$21=TRUE,H246,0)+IF(F246=\"\",0,F246)-IF(Daten!F$3=TRUE,Daten!F$10,0)),\"\")","v":""},{"$f":"IF(A246=\"\",\"\",Daten!D$14)","v":""},{"$f":"IF(A246=\"\",\"\",Daten!D$12)","v":""},{"$f":"IF(A246=\"\",\"\",Daten!D$13)","v":""},{"$f":"IF(A246=\"\",\"\",Daten!M$2)","v":""},{"$f":"IF(A246=\"\",\"\",IF(Daten!D$6=Daten!N$11,Daten!M$11,IF(Daten!D$6=Daten!N$13,Daten!M$13,IF(AND(Daten!$D$6=Daten!$M$10,Daten!$D$8=TRUE),Daten!$M$14,Daten!D$6))))","v":""},{"$f":"IF($A246=\"\",\"\",IF(OR(O246=\"Putzbord\",O246=\"Flexila PU\"),Daten!$D$15,IF(OR(O246=\"Stehbord\",O246=\"Stehbord HB\",O246=\"Flexila STB\",O246=\"Jalousiebord\"),Daten!$D$19,\"-\")))","v":""},{"$f":"IF($A246=\"\",\"\",IF(O246=\"Putzbord\",Daten!$D$16,IF(O246=\"Flexila PU\",_xlfn.NUMBERVALUE(MID(Daten!$D$17,1,2)),\"-\")))","v":""},{"$f":"IF($A246=\"\",\"\",IF(OR(O246=\"Putzbord\",O246=\"Flexila PU\"),Daten!$D$18,IF(OR(O246=\"Stehbord\",O246=\"Stehbord HB\",O246=\"Flexila STB\",O246=\"Jalousiebord\"),Daten!$D$21,\"-\")))","v":""},{"$f":"IF(A246=\"\",\"\",IF(Daten!D$6=Daten!N$11,Daten!M$11,IF(Daten!D$6=Daten!N$13,Daten!M$13,IF(AND(Daten!$D$6=Daten!$M$10,Daten!$D$8=TRUE),Daten!$M$14,Daten!D$6))))","v":""},{"$f":"IF($A246=\"\",\"\",IF(OR(S246=\"Putzbord\",S246=\"Flexila PU\"),Daten!$D$15,IF(OR(S246=\"Stehbord\",S246=\"Stehbord HB\",S246=\"Flexila STB\",S246=\"Jalousiebord\"),Daten!$D$19,\"-\")))","v":""},{"$f":"IF($A246=\"\",\"\",IF(S246=\"Putzbord\",Daten!$D$16,IF(S246=\"Flexila PU\",_xlfn.NUMBERVALUE(MID(Daten!$D$17,1,2)),\"-\")))","v":""},{"$f":"IF($A246=\"\",\"\",IF(OR(S246=\"Putzbord\",S246=\"Flexila PU\"),Daten!$D$18,IF(OR(S246=\"Stehbord\",S246=\"Stehbord HB\",S246=\"Flexila STB\",S246=\"Jalousiebord\"),Daten!$D$21,\"-\")))","v":""},{"$f":"IF(A246=\"\",\"\",IF(AND(Daten!D$6=\"Jalousiebord\",OR(O246=\"Stehbord\",S246=\"Stehbord\")),\"Jalousienklinkung\",\"\"))","v":""},{"$f":"IF(W246=\"\",\"\",Daten!D$20)","v":""},null,null,{"$f":"IF(A246=\"\",\"\",IF(Daten!F$1=\"A\",\"Ohne\",IF(OR(N246=\"Gerstenkorn roh\",N246=\"Riffelblech roh\"),\"XPS\",Daten!F$2)))","v":""},{"$f":"IF(A246=\"\",\"\",IF(AA246=\"Ohne\",\"A\",IF(AA246=\"XPS\",IF(Daten!F$1=\"D\",\"B\",Daten!F$1),Daten!F$1)))","v":""},{"$f":"IF(A246=\"\",\"\",IF(AB246=\"A\",\"-\",Daten!F$7))","v":""},{"$f":"IF(A246=\"\",\"\",IF(AB246=\"A\",\"-\",IF(AND(Daten!F$8=0,O246=\"Putzbord\"),5-Q246,0)))","v":""},{"$f":"IF(A246=\"\",\"\",IF(AB246=\"A\",\"-\",IF(AND(Daten!F$8=0,S246=\"Putzbord\"),5-U246,0)))","v":""},{"$f":"IF(A246=\"\",\"\",IF(AB246=\"A\",\"-\",Daten!F$10))","v":""},{"$f":"IFERROR(IF(A246=\"\",\"\",VLOOKUP(N246,Daten!N$1:O$7,2,FALSE)),\"\")","v":""}]
[null,null,null,{"$f":"IF(A247=\"\",\"\",IF(Daten!B$3=TRUE,Daten!B$7,\"\"))","v":""},{"$f":"IFERROR(IF(C247=\"\",\"\",C247+(2*D247)+IF(O247=Daten!M$13,6,0)+IF(S247=Daten!M$13,6,0)+IF(Q247=\"-\",0,Q247)+IF(U247=\"-\",0,U247)),\"\")","v":""},{"$f":"IF(OR(A247=\"\",AND(F$1=0,Daten!F$3=FALSE)),\"\",Daten!B$6)","v":""},{"$f":"IF(A247=\"\",\"\",IF(Daten!B$5=\"??\",\"\",Daten!B$5))","v":""},{"$f":"IF(A247=\"\",\"\",IF(Daten!B$3=FALSE,\"\",Daten!B$4))","v":""},{"$f":"IFERROR(IF(A247=\"\",\"\",G247+H247+IF(AND(G247>0,H247>0),5,0))-IF(Daten!H$21=TRUE,H247,0),\"\")","v":""},{"$f":"IFERROR(IF(A247=\"\",\"\",I247+IF(Daten!H$21=TRUE,H247,0)+IF(F247=\"\",0,F247)-IF(Daten!F$3=TRUE,Daten!F$10,0)),\"\")","v":""},{"$f":"IF(A247=\"\",\"\",Daten!D$14)","v":""},{"$f":"IF(A247=\"\",\"\",Daten!D$12)","v":""},{"$f":"IF(A247=\"\",\"\",Daten!D$13)","v":""},{"$f":"IF(A247=\"\",\"\",Daten!M$2)","v":""},{"$f":"IF(A247=\"\",\"\",IF(Daten!D$6=Daten!N$11,Daten!M$11,IF(Daten!D$6=Daten!N$13,Daten!M$13,IF(AND(Daten!$D$6=Daten!$M$10,Daten!$D$8=TRUE),Daten!$M$14,Daten!D$6))))","v":""},{"$f":"IF($A247=\"\",\"\",IF(OR(O247=\"Putzbord\",O247=\"Flexila PU\"),Daten!$D$15,IF(OR(O247=\"Stehbord\",O247=\"Stehbord HB\",O247=\"Flexila STB\",O247=\"Jalousiebord\"),Daten!$D$19,\"-\")))","v":""},{"$f":"IF($A247=\"\",\"\",IF(O247=\"Putzbord\",Daten!$D$16,IF(O247=\"Flexila PU\",_xlfn.NUMBERVALUE(MID(Daten!$D$17,1,2)),\"-\")))","v":""},{"$f":"IF($A247=\"\",\"\",IF(OR(O247=\"Putzbord\",O247=\"Flexila PU\"),Daten!$D$18,IF(OR(O247=\"Stehbord\",O247=\"Stehbord HB\",O247=\"Flexila STB\",O247=\"Jalousiebord\"),Daten!$D$21,\"-\")))","v":""},{"$f":"IF(A247=\"\",\"\",IF(Daten!D$6=Daten!N$11,Daten!M$11,IF(Daten!D$6=Daten!N$13,Daten!M$13,IF(AND(Daten!$D$6=Daten!$M$10,Daten!$D$8=TRUE),Daten!$M$14,Daten!D$6))))","v":""},{"$f":"IF($A247=\"\",\"\",IF(OR(S247=\"Putzbord\",S247=\"Flexila PU\"),Daten!$D$15,IF(OR(S247=\"Stehbord\",S247=\"Stehbord HB\",S247=\"Flexila STB\",S247=\"Jalousiebord\"),Daten!$D$19,\"-\")))","v":""},{"$f":"IF($A247=\"\",\"\",IF(S247=\"Putzbord\",Daten!$D$16,IF(S247=\"Flexila PU\",_xlfn.NUMBERVALUE(MID(Daten!$D$17,1,2)),\"-\")))","v":""},{"$f":"IF($A247=\"\",\"\",IF(OR(S247=\"Putzbord\",S247=\"Flexila PU\"),Daten!$D$18,IF(OR(S247=\"Stehbord\",S247=\"Stehbord HB\",S247=\"Flexila STB\",S247=\"Jalousiebord\"),Daten!$D$21,\"-\")))","v":""},{"$f":"IF(A247=\"\",\"\",IF(AND(Daten!D$6=\"Jalousiebord\",OR(O247=\"Stehbord\",S247=\"Stehbord\")),\"Jalousienklinkung\",\"\"))","v":""},{"$f":"IF(W247=\"\",\"\",Daten!D$20)","v":""},null,null,{"$f":"IF(A247=\"\",\"\",IF(Daten!F$1=\"A\",\"Ohne\",IF(OR(N247=\"Gerstenkorn roh\",N247=\"Riffelblech roh\"),\"XPS\",Daten!F$2)))","v":""},{"$f":"IF(A247=\"\",\"\",IF(AA247=\"Ohne\",\"A\",IF(AA247=\"XPS\",IF(Daten!F$1=\"D\",\"B\",Daten!F$1),Daten!F$1)))","v":""},{"$f":"IF(A247=\"\",\"\",IF(AB247=\"A\",\"-\",Daten!F$7))","v":""},{"$f":"IF(A247=\"\",\"\",IF(AB247=\"A\",\"-\",IF(AND(Daten!F$8=0,O247=\"Putzbord\"),5-Q247,0)))","v":""},{"$f":"IF(A247=\"\",\"\",IF(AB247=\"A\",\"-\",IF(AND(Daten!F$8=0,S247=\"Putzbord\"),5-U247,0)))","v":""},{"$f":"IF(A247=\"\",\"\",IF(AB247=\"A\",\"-\",Daten!F$10))","v":""},{"$f":"IFERROR(IF(A247=\"\",\"\",VLOOKUP(N247,Daten!N$1:O$7,2,FALSE)),\"\")","v":""}]
[null,null,null,{"$f":"IF(A248=\"\",\"\",IF(Daten!B$3=TRUE,Daten!B$7,\"\"))","v":""},{"$f":"IFERROR(IF(C248=\"\",\"\",C248+(2*D248)+IF(O248=Daten!M$13,6,0)+IF(S248=Daten!M$13,6,0)+IF(Q248=\"-\",0,Q248)+IF(U248=\"-\",0,U248)),\"\")","v":""},{"$f":"IF(OR(A248=\"\",AND(F$1=0,Daten!F$3=FALSE)),\"\",Daten!B$6)","v":""},{"$f":"IF(A248=\"\",\"\",IF(Daten!B$5=\"??\",\"\",Daten!B$5))","v":""},{"$f":"IF(A248=\"\",\"\",IF(Daten!B$3=FALSE,\"\",Daten!B$4))","v":""},{"$f":"IFERROR(IF(A248=\"\",\"\",G248+H248+IF(AND(G248>0,H248>0),5,0))-IF(Daten!H$21=TRUE,H248,0),\"\")","v":""},{"$f":"IFERROR(IF(A248=\"\",\"\",I248+IF(Daten!H$21=TRUE,H248,0)+IF(F248=\"\",0,F248)-IF(Daten!F$3=TRUE,Daten!F$10,0)),\"\")","v":""},{"$f":"IF(A248=\"\",\"\",Daten!D$14)","v":""},{"$f":"IF(A248=\"\",\"\",Daten!D$12)","v":""},{"$f":"IF(A248=\"\",\"\",Daten!D$13)","v":""},{"$f":"IF(A248=\"\",\"\",Daten!M$2)","v":""},{"$f":"IF(A248=\"\",\"\",IF(Daten!D$6=Daten!N$11,Daten!M$11,IF(Daten!D$6=Daten!N$13,Daten!M$13,IF(AND(Daten!$D$6=Daten!$M$10,Daten!$D$8=TRUE),Daten!$M$14,Daten!D$6))))","v":""},{"$f":"IF($A248=\"\",\"\",IF(OR(O248=\"Putzbord\",O248=\"Flexila PU\"),Daten!$D$15,IF(OR(O248=\"Stehbord\",O248=\"Stehbord HB\",O248=\"Flexila STB\",O248=\"Jalousiebord\"),Daten!$D$19,\"-\")))","v":""},{"$f":"IF($A248=\"\",\"\",IF(O248=\"Putzbord\",Daten!$D$16,IF(O248=\"Flexila PU\",_xlfn.NUMBERVALUE(MID(Daten!$D$17,1,2)),\"-\")))","v":""},{"$f":"IF($A248=\"\",\"\",IF(OR(O248=\"Putzbord\",O248=\"Flexila PU\"),Daten!$D$18,IF(OR(O248=\"Stehbord\",O248=\"Stehbord HB\",O248=\"Flexila STB\",O248=\"Jalousiebord\"),Daten!$D$21,\"-\")))","v":""},{"$f":"IF(A248=\"\",\"\",IF(Daten!D$6=Daten!N$11,Daten!M$11,IF(Daten!D$6=Daten!N$13,Daten!M$13,IF(AND(Daten!$D$6=Daten!$M$10,Daten!$D$8=TRUE),Daten!$M$14,Daten!D$6))))","v":""},{"$f":"IF($A248=\"\",\"\",IF(OR(S248=\"Putzbord\",S248=\"Flexila PU\"),Daten!$D$15,IF(OR(S248=\"Stehbord\",S248=\"Stehbord HB\",S248=\"Flexila STB\",S248=\"Jalousiebord\"),Daten!$D$19,\"-\")))","v":""},{"$f":"IF($A248=\"\",\"\",IF(S248=\"Putzbord\",Daten!$D$16,IF(S248=\"Flexila PU\",_xlfn.NUMBERVALUE(MID(Daten!$D$17,1,2)),\"-\")))","v":""},{"$f":"IF($A248=\"\",\"\",IF(OR(S248=\"Putzbord\",S248=\"Flexila PU\"),Daten!$D$18,IF(OR(S248=\"Stehbord\",S248=\"Stehbord HB\",S248=\"Flexila STB\",S248=\"Jalousiebord\"),Daten!$D$21,\"-\")))","v":""},{"$f":"IF(A248=\"\",\"\",IF(AND(Daten!D$6=\"Jalousiebord\",OR(O248=\"Stehbord\",S248=\"Stehbord\")),\"Jalousienklinkung\",\"\"))","v":""},{"$f":"IF(W248=\"\",\"\",Daten!D$20)","v":""},null,null,{"$f":"IF(A248=\"\",\"\",IF(Daten!F$1=\"A\",\"Ohne\",IF(OR(N248=\"Gerstenkorn roh\",N248=\"Riffelblech roh\"),\"XPS\",Daten!F$2)))","v":""},{"$f":"IF(A248=\"\",\"\",IF(AA248=\"Ohne\",\"A\",IF(AA248=\"XPS\",IF(Daten!F$1=\"D\",\"B\",Daten!F$1),Daten!F$1)))","v":""},{"$f":"IF(A248=\"\",\"\",IF(AB248=\"A\",\"-\",Daten!F$7))","v":""},{"$f":"IF(A248=\"\",\"\",IF(AB248=\"A\",\"-\",IF(AND(Daten!F$8=0,O248=\"Putzbord\"),5-Q248,0)))","v":""},{"$f":"IF(A248=\"\",\"\",IF(AB248=\"A\",\"-\",IF(AND(Daten!F$8=0,S248=\"Putzbord\"),5-U248,0)))","v":""},{"$f":"IF(A248=\"\",\"\",IF(AB248=\"A\",\"-\",Daten!F$10))","v":""},{"$f":"IFERROR(IF(A248=\"\",\"\",VLOOKUP(N248,Daten!N$1:O$7,2,FALSE)),\"\")","v":""}]
[null,null,null,{"$f":"IF(A249=\"\",\"\",IF(Daten!B$3=TRUE,Daten!B$7,\"\"))","v":""},{"$f":"IFERROR(IF(C249=\"\",\"\",C249+(2*D249)+IF(O249=Daten!M$13,6,0)+IF(S249=Daten!M$13,6,0)+IF(Q249=\"-\",0,Q249)+IF(U249=\"-\",0,U249)),\"\")","v":""},{"$f":"IF(OR(A249=\"\",AND(F$1=0,Daten!F$3=FALSE)),\"\",Daten!B$6)","v":""},{"$f":"IF(A249=\"\",\"\",IF(Daten!B$5=\"??\",\"\",Daten!B$5))","v":""},{"$f":"IF(A249=\"\",\"\",IF(Daten!B$3=FALSE,\"\",Daten!B$4))","v":""},{"$f":"IFERROR(IF(A249=\"\",\"\",G249+H249+IF(AND(G249>0,H249>0),5,0))-IF(Daten!H$21=TRUE,H249,0),\"\")","v":""},{"$f":"IFERROR(IF(A249=\"\",\"\",I249+IF(Daten!H$21=TRUE,H249,0)+IF(F249=\"\",0,F249)-IF(Daten!F$3=TRUE,Daten!F$10,0)),\"\")","v":""},{"$f":"IF(A249=\"\",\"\",Daten!D$14)","v":""},{"$f":"IF(A249=\"\",\"\",Daten!D$12)","v":""},{"$f":"IF(A249=\"\",\"\",Daten!D$13)","v":""},{"$f":"IF(A249=\"\",\"\",Daten!M$2)","v":""},{"$f":"IF(A249=\"\",\"\",IF(Daten!D$6=Daten!N$11,Daten!M$11,IF(Daten!D$6=Daten!N$13,Daten!M$13,IF(AND(Daten!$D$6=Daten!$M$10,Daten!$D$8=TRUE),Daten!$M$14,Daten!D$6))))","v":""},{"$f":"IF($A249=\"\",\"\",IF(OR(O249=\"Putzbord\",O249=\"Flexila PU\"),Daten!$D$15,IF(OR(O249=\"Stehbord\",O249=\"Stehbord HB\",O249=\"Flexila STB\",O249=\"Jalousiebord\"),Daten!$D$19,\"-\")))","v":""},{"$f":"IF($A249=\"\",\"\",IF(O249=\"Putzbord\",Daten!$D$16,IF(O249=\"Flexila PU\",_xlfn.NUMBERVALUE(MID(Daten!$D$17,1,2)),\"-\")))","v":""},{"$f":"IF($A249=\"\",\"\",IF(OR(O249=\"Putzbord\",O249=\"Flexila PU\"),Daten!$D$18,IF(OR(O249=\"Stehbord\",O249=\"Stehbord HB\",O249=\"Flexila STB\",O249=\"Jalousiebord\"),Daten!$D$21,\"-\")))","v":""},{"$f":"IF(A249=\"\",\"\",IF(Daten!D$6=Daten!N$11,Daten!M$11,IF(Daten!D$6=Daten!N$13,Daten!M$13,IF(AND(Daten!$D$6=Daten!$M$10,Daten!$D$8=TRUE),Daten!$M$14,Daten!D$6))))","v":""},{"$f":"IF($A249=\"\",\"\",IF(OR(S249=\"Putzbord\",S249=\"Flexila PU\"),Daten!$D$15,IF(OR(S249=\"Stehbord\",S249=\"Stehbord HB\",S249=\"Flexila STB\",S249=\"Jalousiebord\"),Daten!$D$19,\"-\")))","v":""},{"$f":"IF($A249=\"\",\"\",IF(S249=\"Putzbord\",Daten!$D$16,IF(S249=\"Flexila PU\",_xlfn.NUMBERVALUE(MID(Daten!$D$17,1,2)),\"-\")))","v":""},{"$f":"IF($A249=\"\",\"\",IF(OR(S249=\"Putzbord\",S249=\"Flexila PU\"),Daten!$D$18,IF(OR(S249=\"Stehbord\",S249=\"Stehbord HB\",S249=\"Flexila STB\",S249=\"Jalousiebord\"),Daten!$D$21,\"-\")))","v":""},{"$f":"IF(A249=\"\",\"\",IF(AND(Daten!D$6=\"Jalousiebord\",OR(O249=\"Stehbord\",S249=\"Stehbord\")),\"Jalousienklinkung\",\"\"))","v":""},{"$f":"IF(W249=\"\",\"\",Daten!D$20)","v":""},null,null,{"$f":"IF(A249=\"\",\"\",IF(Daten!F$1=\"A\",\"Ohne\",IF(OR(N249=\"Gerstenkorn roh\",N249=\"Riffelblech roh\"),\"XPS\",Daten!F$2)))","v":""},{"$f":"IF(A249=\"\",\"\",IF(AA249=\"Ohne\",\"A\",IF(AA249=\"XPS\",IF(Daten!F$1=\"D\",\"B\",Daten!F$1),Daten!F$1)))","v":""},{"$f":"IF(A249=\"\",\"\",IF(AB249=\"A\",\"-\",Daten!F$7))","v":""},{"$f":"IF(A249=\"\",\"\",IF(AB249=\"A\",\"-\",IF(AND(Daten!F$8=0,O249=\"Putzbord\"),5-Q249,0)))","v":""},{"$f":"IF(A249=\"\",\"\",IF(AB249=\"A\",\"-\",IF(AND(Daten!F$8=0,S249=\"Putzbord\"),5-U249,0)))","v":""},{"$f":"IF(A249=\"\",\"\",IF(AB249=\"A\",\"-\",Daten!F$10))","v":""},{"$f":"IFERROR(IF(A249=\"\",\"\",VLOOKUP(N249,Daten!N$1:O$7,2,FALSE)),\"\")","v":""}]
[null,null,null,{"$f":"IF(A250=\"\",\"\",IF(Daten!B$3=TRUE,Daten!B$7,\"\"))","v":""},{"$f":"IFERROR(IF(C250=\"\",\"\",C250+(2*D250)+IF(O250=Daten!M$13,6,0)+IF(S250=Daten!M$13,6,0)+IF(Q250=\"-\",0,Q250)+IF(U250=\"-\",0,U250)),\"\")","v":""},{"$f":"IF(OR(A250=\"\",AND(F$1=0,Daten!F$3=FALSE)),\"\",Daten!B$6)","v":""},{"$f":"IF(A250=\"\",\"\",IF(Daten!B$5=\"??\",\"\",Daten!B$5))","v":""},{"$f":"IF(A250=\"\",\"\",IF(Daten!B$3=FALSE,\"\",Daten!B$4))","v":""},{"$f":"IFERROR(IF(A250=\"\",\"\",G250+H250+IF(AND(G250>0,H250>0),5,0))-IF(Daten!H$21=TRUE,H250,0),\"\")","v":""},{"$f":"IFERROR(IF(A250=\"\",\"\",I250+IF(Daten!H$21=TRUE,H250,0)+IF(F250=\"\",0,F250)-IF(Daten!F$3=TRUE,Daten!F$10,0)),\"\")","v":""},{"$f":"IF(A250=\"\",\"\",Daten!D$14)","v":""},{"$f":"IF(A250=\"\",\"\",Daten!D$12)","v":""},{"$f":"IF(A250=\"\",\"\",Daten!D$13)","v":""},{"$f":"IF(A250=\"\",\"\",Daten!M$2)","v":""},{"$f":"IF(A250=\"\",\"\",IF(Daten!D$6=Daten!N$11,Daten!M$11,IF(Daten!D$6=Daten!N$13,Daten!M$13,IF(AND(Daten!$D$6=Daten!$M$10,Daten!$D$8=TRUE),Daten!$M$14,Daten!D$6))))","v":""},{"$f":"IF($A250=\"\",\"\",IF(OR(O250=\"Putzbord\",O250=\"Flexila PU\"),Daten!$D$15,IF(OR(O250=\"Stehbord\",O250=\"Stehbord HB\",O250=\"Flexila STB\",O250=\"Jalousiebord\"),Daten!$D$19,\"-\")))","v":""},{"$f":"IF($A250=\"\",\"\",IF(O250=\"Putzbord\",Daten!$D$16,IF(O250=\"Flexila PU\",_xlfn.NUMBERVALUE(MID(Daten!$D$17,1,2)),\"-\")))","v":""},{"$f":"IF($A250=\"\",\"\",IF(OR(O250=\"Putzbord\",O250=\"Flexila PU\"),Daten!$D$18,IF(OR(O250=\"Stehbord\",O250=\"Stehbord HB\",O250=\"Flexila STB\",O250=\"Jalousiebord\"),Daten!$D$21,\"-\")))","v":""},{"$f":"IF(A250=\"\",\"\",IF(Daten!D$6=Daten!N$11,Daten!M$11,IF(Daten!D$6=Daten!N$13,Daten!M$13,IF(AND(Daten!$D$6=Daten!$M$10,Daten!$D$8=TRUE),Daten!$M$14,Daten!D$6))))","v":""},{"$f":"IF($A250=\"\",\"\",IF(OR(S250=\"Putzbord\",S250=\"Flexila PU\"),Daten!$D$15,IF(OR(S250=\"Stehbord\",S250=\"Stehbord HB\",S250=\"Flexila STB\",S250=\"Jalousiebord\"),Daten!$D$19,\"-\")))","v":""},{"$f":"IF($A250=\"\",\"\",IF(S250=\"Putzbord\",Daten!$D$16,IF(S250=\"Flexila PU\",_xlfn.NUMBERVALUE(MID(Daten!$D$17,1,2)),\"-\")))","v":""},{"$f":"IF($A250=\"\",\"\",IF(OR(S250=\"Putzbord\",S250=\"Flexila PU\"),Daten!$D$18,IF(OR(S250=\"Stehbord\",S250=\"Stehbord HB\",S250=\"Flexila STB\",S250=\"Jalousiebord\"),Daten!$D$21,\"-\")))","v":""},{"$f":"IF(A250=\"\",\"\",IF(AND(Daten!D$6=\"Jalousiebord\",OR(O250=\"Stehbord\",S250=\"Stehbord\")),\"Jalousienklinkung\",\"\"))","v":""},{"$f":"IF(W250=\"\",\"\",Daten!D$20)","v":""},null,null,{"$f":"IF(A250=\"\",\"\",IF(Daten!F$1=\"A\",\"Ohne\",IF(OR(N250=\"Gerstenkorn roh\",N250=\"Riffelblech roh\"),\"XPS\",Daten!F$2)))","v":""},{"$f":"IF(A250=\"\",\"\",IF(AA250=\"Ohne\",\"A\",IF(AA250=\"XPS\",IF(Daten!F$1=\"D\",\"B\",Daten!F$1),Daten!F$1)))","v":""},{"$f":"IF(A250=\"\",\"\",IF(AB250=\"A\",\"-\",Daten!F$7))","v":""},{"$f":"IF(A250=\"\",\"\",IF(AB250=\"A\",\"-\",IF(AND(Daten!F$8=0,O250=\"Putzbord\"),5-Q250,0)))","v":""},{"$f":"IF(A250=\"\",\"\",IF(AB250=\"A\",\"-\",IF(AND(Daten!F$8=0,S250=\"Putzbord\"),5-U250,0)))","v":""},{"$f":"IF(A250=\"\",\"\",IF(AB250=\"A\",\"-\",Daten!F$10))","v":""},{"$f":"IFERROR(IF(A250=\"\",\"\",VLOOKUP(N250,Daten!N$1:O$7,2,FALSE)),\"\")","v":""}]
[null,null,null,{"$f":"IF(A251=\"\",\"\",IF(Daten!B$3=TRUE,Daten!B$7,\"\"))","v":""},{"$f":"IFERROR(IF(C251=\"\",\"\",C251+(2*D251)+IF(O251=Daten!M$13,6,0)+IF(S251=Daten!M$13,6,0)+IF(Q251=\"-\",0,Q251)+IF(U251=\"-\",0,U251)),\"\")","v":""},{"$f":"IF(OR(A251=\"\",AND(F$1=0,Daten!F$3=FALSE)),\"\",Daten!B$6)","v":""},{"$f":"IF(A251=\"\",\"\",IF(Daten!B$5=\"??\",\"\",Daten!B$5))","v":""},{"$f":"IF(A251=\"\",\"\",IF(Daten!B$3=FALSE,\"\",Daten!B$4))","v":""},{"$f":"IFERROR(IF(A251=\"\",\"\",G251+H251+IF(AND(G251>0,H251>0),5,0))-IF(Daten!H$21=TRUE,H251,0),\"\")","v":""},{"$f":"IFERROR(IF(A251=\"\",\"\",I251+IF(Daten!H$21=TRUE,H251,0)+IF(F251=\"\",0,F251)-IF(Daten!F$3=TRUE,Daten!F$10,0)),\"\")","v":""},{"$f":"IF(A251=\"\",\"\",Daten!D$14)","v":""},{"$f":"IF(A251=\"\",\"\",Daten!D$12)","v":""},{"$f":"IF(A251=\"\",\"\",Daten!D$13)","v":""},{"$f":"IF(A251=\"\",\"\",Daten!M$2)","v":""},{"$f":"IF(A251=\"\",\"\",IF(Daten!D$6=Daten!N$11,Daten!M$11,IF(Daten!D$6=Daten!N$13,Daten!M$13,IF(AND(Daten!$D$6=Daten!$M$10,Daten!$D$8=TRUE),Daten!$M$14,Daten!D$6))))","v":""},{"$f":"IF($A251=\"\",\"\",IF(OR(O251=\"Putzbord\",O251=\"Flexila PU\"),Daten!$D$15,IF(OR(O251=\"Stehbord\",O251=\"Stehbord HB\",O251=\"Flexila STB\",O251=\"Jalousiebord\"),Daten!$D$19,\"-\")))","v":""},{"$f":"IF($A251=\"\",\"\",IF(O251=\"Putzbord\",Daten!$D$16,IF(O251=\"Flexila PU\",_xlfn.NUMBERVALUE(MID(Daten!$D$17,1,2)),\"-\")))","v":""},{"$f":"IF($A251=\"\",\"\",IF(OR(O251=\"Putzbord\",O251=\"Flexila PU\"),Daten!$D$18,IF(OR(O251=\"Stehbord\",O251=\"Stehbord HB\",O251=\"Flexila STB\",O251=\"Jalousiebord\"),Daten!$D$21,\"-\")))","v":""},{"$f":"IF(A251=\"\",\"\",IF(Daten!D$6=Daten!N$11,Daten!M$11,IF(Daten!D$6=Daten!N$13,Daten!M$13,IF(AND(Daten!$D$6=Daten!$M$10,Daten!$D$8=TRUE),Daten!$M$14,Daten!D$6))))","v":""},{"$f":"IF($A251=\"\",\"\",IF(OR(S251=\"Putzbord\",S251=\"Flexila PU\"),Daten!$D$15,IF(OR(S251=\"Stehbord\",S251=\"Stehbord HB\",S251=\"Flexila STB\",S251=\"Jalousiebord\"),Daten!$D$19,\"-\")))","v":""},{"$f":"IF($A251=\"\",\"\",IF(S251=\"Putzbord\",Daten!$D$16,IF(S251=\"Flexila PU\",_xlfn.NUMBERVALUE(MID(Daten!$D$17,1,2)),\"-\")))","v":""},{"$f":"IF($A251=\"\",\"\",IF(OR(S251=\"Putzbord\",S251=\"Flexila PU\"),Daten!$D$18,IF(OR(S251=\"Stehbord\",S251=\"Stehbord HB\",S251=\"Flexila STB\",S251=\"Jalousiebord\"),Daten!$D$21,\"-\")))","v":""},{"$f":"IF(A251=\"\",\"\",IF(AND(Daten!D$6=\"Jalousiebord\",OR(O251=\"Stehbord\",S251=\"Stehbord\")),\"Jalousienklinkung\",\"\"))","v":""},{"$f":"IF(W251=\"\",\"\",Daten!D$20)","v":""},null,null,{"$f":"IF(A251=\"\",\"\",IF(Daten!F$1=\"A\",\"Ohne\",IF(OR(N251=\"Gerstenkorn roh\",N251=\"Riffelblech roh\"),\"XPS\",Daten!F$2)))","v":""},{"$f":"IF(A251=\"\",\"\",IF(AA251=\"Ohne\",\"A\",IF(AA251=\"XPS\",IF(Daten!F$1=\"D\",\"B\",Daten!F$1),Daten!F$1)))","v":""},{"$f":"IF(A251=\"\",\"\",IF(AB251=\"A\",\"-\",Daten!F$7))","v":""},{"$f":"IF(A251=\"\",\"\",IF(AB251=\"A\",\"-\",IF(AND(Daten!F$8=0,O251=\"Putzbord\"),5-Q251,0)))","v":""},{"$f":"IF(A251=\"\",\"\",IF(AB251=\"A\",\"-\",IF(AND(Daten!F$8=0,S251=\"Putzbord\"),5-U251,0)))","v":""},{"$f":"IF(A251=\"\",\"\",IF(AB251=\"A\",\"-\",Daten!F$10))","v":""},{"$f":"IFERROR(IF(A251=\"\",\"\",VLOOKUP(N251,Daten!N$1:O$7,2,FALSE)),\"\")","v":""}]
[null,null,null,{"$f":"IF(A252=\"\",\"\",IF(Daten!B$3=TRUE,Daten!B$7,\"\"))","v":""},{"$f":"IFERROR(IF(C252=\"\",\"\",C252+(2*D252)+IF(O252=Daten!M$13,6,0)+IF(S252=Daten!M$13,6,0)+IF(Q252=\"-\",0,Q252)+IF(U252=\"-\",0,U252)),\"\")","v":""},{"$f":"IF(OR(A252=\"\",AND(F$1=0,Daten!F$3=FALSE)),\"\",Daten!B$6)","v":""},{"$f":"IF(A252=\"\",\"\",IF(Daten!B$5=\"??\",\"\",Daten!B$5))","v":""},{"$f":"IF(A252=\"\",\"\",IF(Daten!B$3=FALSE,\"\",Daten!B$4))","v":""},{"$f":"IFERROR(IF(A252=\"\",\"\",G252+H252+IF(AND(G252>0,H252>0),5,0))-IF(Daten!H$21=TRUE,H252,0),\"\")","v":""},{"$f":"IFERROR(IF(A252=\"\",\"\",I252+IF(Daten!H$21=TRUE,H252,0)+IF(F252=\"\",0,F252)-IF(Daten!F$3=TRUE,Daten!F$10,0)),\"\")","v":""},{"$f":"IF(A252=\"\",\"\",Daten!D$14)","v":""},{"$f":"IF(A252=\"\",\"\",Daten!D$12)","v":""},{"$f":"IF(A252=\"\",\"\",Daten!D$13)","v":""},{"$f":"IF(A252=\"\",\"\",Daten!M$2)","v":""},{"$f":"IF(A252=\"\",\"\",IF(Daten!D$6=Daten!N$11,Daten!M$11,IF(Daten!D$6=Daten!N$13,Daten!M$13,IF(AND(Daten!$D$6=Daten!$M$10,Daten!$D$8=TRUE),Daten!$M$14,Daten!D$6))))","v":""},{"$f":"IF($A252=\"\",\"\",IF(OR(O252=\"Putzbord\",O252=\"Flexila PU\"),Daten!$D$15,IF(OR(O252=\"Stehbord\",O252=\"Stehbord HB\",O252=\"Flexila STB\",O252=\"Jalousiebord\"),Daten!$D$19,\"-\")))","v":""},{"$f":"IF($A252=\"\",\"\",IF(O252=\"Putzbord\",Daten!$D$16,IF(O252=\"Flexila PU\",_xlfn.NUMBERVALUE(MID(Daten!$D$17,1,2)),\"-\")))","v":""},{"$f":"IF($A252=\"\",\"\",IF(OR(O252=\"Putzbord\",O252=\"Flexila PU\"),Daten!$D$18,IF(OR(O252=\"Stehbord\",O252=\"Stehbord HB\",O252=\"Flexila STB\",O252=\"Jalousiebord\"),Daten!$D$21,\"-\")))","v":""},{"$f":"IF(A252=\"\",\"\",IF(Daten!D$6=Daten!N$11,Daten!M$11,IF(Daten!D$6=Daten!N$13,Daten!M$13,IF(AND(Daten!$D$6=Daten!$M$10,Daten!$D$8=TRUE),Daten!$M$14,Daten!D$6))))","v":""},{"$f":"IF($A252=\"\",\"\",IF(OR(S252=\"Putzbord\",S252=\"Flexila PU\"),Daten!$D$15,IF(OR(S252=\"Stehbord\",S252=\"Stehbord HB\",S252=\"Flexila STB\",S252=\"Jalousiebord\"),Daten!$D$19,\"-\")))","v":""},{"$f":"IF($A252=\"\",\"\",IF(S252=\"Putzbord\",Daten!$D$16,IF(S252=\"Flexila PU\",_xlfn.NUMBERVALUE(MID(Daten!$D$17,1,2)),\"-\")))","v":""},{"$f":"IF($A252=\"\",\"\",IF(OR(S252=\"Putzbord\",S252=\"Flexila PU\"),Daten!$D$18,IF(OR(S252=\"Stehbord\",S252=\"Stehbord HB\",S252=\"Flexila STB\",S252=\"Jalousiebord\"),Daten!$D$21,\"-\")))","v":""},{"$f":"IF(A252=\"\",\"\",IF(AND(Daten!D$6=\"Jalousiebord\",OR(O252=\"Stehbord\",S252=\"Stehbord\")),\"Jalousienklinkung\",\"\"))","v":""},{"$f":"IF(W252=\"\",\"\",Daten!D$20)","v":""},null,null,{"$f":"IF(A252=\"\",\"\",IF(Daten!F$1=\"A\",\"Ohne\",IF(OR(N252=\"Gerstenkorn roh\",N252=\"Riffelblech roh\"),\"XPS\",Daten!F$2)))","v":""},{"$f":"IF(A252=\"\",\"\",IF(AA252=\"Ohne\",\"A\",IF(AA252=\"XPS\",IF(Daten!F$1=\"D\",\"B\",Daten!F$1),Daten!F$1)))","v":""},{"$f":"IF(A252=\"\",\"\",IF(AB252=\"A\",\"-\",Daten!F$7))","v":""},{"$f":"IF(A252=\"\",\"\",IF(AB252=\"A\",\"-\",IF(AND(Daten!F$8=0,O252=\"Putzbord\"),5-Q252,0)))","v":""},{"$f":"IF(A252=\"\",\"\",IF(AB252=\"A\",\"-\",IF(AND(Daten!F$8=0,S252=\"Putzbord\"),5-U252,0)))","v":""},{"$f":"IF(A252=\"\",\"\",IF(AB252=\"A\",\"-\",Daten!F$10))","v":""},{"$f":"IFERROR(IF(A252=\"\",\"\",VLOOKUP(N252,Daten!N$1:O$7,2,FALSE)),\"\")","v":""}]
[null,null,null,{"$f":"IF(A253=\"\",\"\",IF(Daten!B$3=TRUE,Daten!B$7,\"\"))","v":""},{"$f":"IFERROR(IF(C253=\"\",\"\",C253+(2*D253)+IF(O253=Daten!M$13,6,0)+IF(S253=Daten!M$13,6,0)+IF(Q253=\"-\",0,Q253)+IF(U253=\"-\",0,U253)),\"\")","v":""},{"$f":"IF(OR(A253=\"\",AND(F$1=0,Daten!F$3=FALSE)),\"\",Daten!B$6)","v":""},{"$f":"IF(A253=\"\",\"\",IF(Daten!B$5=\"??\",\"\",Daten!B$5))","v":""},{"$f":"IF(A253=\"\",\"\",IF(Daten!B$3=FALSE,\"\",Daten!B$4))","v":""},{"$f":"IFERROR(IF(A253=\"\",\"\",G253+H253+IF(AND(G253>0,H253>0),5,0))-IF(Daten!H$21=TRUE,H253,0),\"\")","v":""},{"$f":"IFERROR(IF(A253=\"\",\"\",I253+IF(Daten!H$21=TRUE,H253,0)+IF(F253=\"\",0,F253)-IF(Daten!F$3=TRUE,Daten!F$10,0)),\"\")","v":""},{"$f":"IF(A253=\"\",\"\",Daten!D$14)","v":""},{"$f":"IF(A253=\"\",\"\",Daten!D$12)","v":""},{"$f":"IF(A253=\"\",\"\",Daten!D$13)","v":""},{"$f":"IF(A253=\"\",\"\",Daten!M$2)","v":""},{"$f":"IF(A253=\"\",\"\",IF(Daten!D$6=Daten!N$11,Daten!M$11,IF(Daten!D$6=Daten!N$13,Daten!M$13,IF(AND(Daten!$D$6=Daten!$M$10,Daten!$D$8=TRUE),Daten!$M$14,Daten!D$6))))","v":""},{"$f":"IF($A253=\"\",\"\",IF(OR(O253=\"Putzbord\",O253=\"Flexila PU\"),Daten!$D$15,IF(OR(O253=\"Stehbord\",O253=\"Stehbord HB\",O253=\"Flexila STB\",O253=\"Jalousiebord\"),Daten!$D$19,\"-\")))","v":""},{"$f":"IF($A253=\"\",\"\",IF(O253=\"Putzbord\",Daten!$D$16,IF(O253=\"Flexila PU\",_xlfn.NUMBERVALUE(MID(Daten!$D$17,1,2)),\"-\")))","v":""},{"$f":"IF($A253=\"\",\"\",IF(OR(O253=\"Putzbord\",O253=\"Flexila PU\"),Daten!$D$18,IF(OR(O253=\"Stehbord\",O253=\"Stehbord HB\",O253=\"Flexila STB\",O253=\"Jalousiebord\"),Daten!$D$21,\"-\")))","v":""},{"$f":"IF(A253=\"\",\"\",IF(Daten!D$6=Daten!N$11,Daten!M$11,IF(Daten!D$6=Daten!N$13,Daten!M$13,IF(AND(Daten!$D$6=Daten!$M$10,Daten!$D$8=TRUE),Daten!$M$14,Daten!D$6))))","v":""},{"$f":"IF($A253=\"\",\"\",IF(OR(S253=\"Putzbord\",S253=\"Flexila PU\"),Daten!$D$15,IF(OR(S253=\"Stehbord\",S253=\"Stehbord HB\",S253=\"Flexila STB\",S253=\"Jalousiebord\"),Daten!$D$19,\"-\")))","v":""},{"$f":"IF($A253=\"\",\"\",IF(S253=\"Putzbord\",Daten!$D$16,IF(S253=\"Flexila PU\",_xlfn.NUMBERVALUE(MID(Daten!$D$17,1,2)),\"-\")))","v":""},{"$f":"IF($A253=\"\",\"\",IF(OR(S253=\"Putzbord\",S253=\"Flexila PU\"),Daten!$D$18,IF(OR(S253=\"Stehbord\",S253=\"Stehbord HB\",S253=\"Flexila STB\",S253=\"Jalousiebord\"),Daten!$D$21,\"-\")))","v":""},{"$f":"IF(A253=\"\",\"\",IF(AND(Daten!D$6=\"Jalousiebord\",OR(O253=\"Stehbord\",S253=\"Stehbord\")),\"Jalousienklinkung\",\"\"))","v":""},{"$f":"IF(W253=\"\",\"\",Daten!D$20)","v":""},null,null,{"$f":"IF(A253=\"\",\"\",IF(Daten!F$1=\"A\",\"Ohne\",IF(OR(N253=\"Gerstenkorn roh\",N253=\"Riffelblech roh\"),\"XPS\",Daten!F$2)))","v":""},{"$f":"IF(A253=\"\",\"\",IF(AA253=\"Ohne\",\"A\",IF(AA253=\"XPS\",IF(Daten!F$1=\"D\",\"B\",Daten!F$1),Daten!F$1)))","v":""},{"$f":"IF(A253=\"\",\"\",IF(AB253=\"A\",\"-\",Daten!F$7))","v":""},{"$f":"IF(A253=\"\",\"\",IF(AB253=\"A\",\"-\",IF(AND(Daten!F$8=0,O253=\"Putzbord\"),5-Q253,0)))","v":""},{"$f":"IF(A253=\"\",\"\",IF(AB253=\"A\",\"-\",IF(AND(Daten!F$8=0,S253=\"Putzbord\"),5-U253,0)))","v":""},{"$f":"IF(A253=\"\",\"\",IF(AB253=\"A\",\"-\",Daten!F$10))","v":""},{"$f":"IFERROR(IF(A253=\"\",\"\",VLOOKUP(N253,Daten!N$1:O$7,2,FALSE)),\"\")","v":""}]
[null,null,null,{"$f":"IF(A254=\"\",\"\",IF(Daten!B$3=TRUE,Daten!B$7,\"\"))","v":""},{"$f":"IFERROR(IF(C254=\"\",\"\",C254+(2*D254)+IF(O254=Daten!M$13,6,0)+IF(S254=Daten!M$13,6,0)+IF(Q254=\"-\",0,Q254)+IF(U254=\"-\",0,U254)),\"\")","v":""},{"$f":"IF(OR(A254=\"\",AND(F$1=0,Daten!F$3=FALSE)),\"\",Daten!B$6)","v":""},{"$f":"IF(A254=\"\",\"\",IF(Daten!B$5=\"??\",\"\",Daten!B$5))","v":""},{"$f":"IF(A254=\"\",\"\",IF(Daten!B$3=FALSE,\"\",Daten!B$4))","v":""},{"$f":"IFERROR(IF(A254=\"\",\"\",G254+H254+IF(AND(G254>0,H254>0),5,0))-IF(Daten!H$21=TRUE,H254,0),\"\")","v":""},{"$f":"IFERROR(IF(A254=\"\",\"\",I254+IF(Daten!H$21=TRUE,H254,0)+IF(F254=\"\",0,F254)-IF(Daten!F$3=TRUE,Daten!F$10,0)),\"\")","v":""},{"$f":"IF(A254=\"\",\"\",Daten!D$14)","v":""},{"$f":"IF(A254=\"\",\"\",Daten!D$12)","v":""},{"$f":"IF(A254=\"\",\"\",Daten!D$13)","v":""},{"$f":"IF(A254=\"\",\"\",Daten!M$2)","v":""},{"$f":"IF(A254=\"\",\"\",IF(Daten!D$6=Daten!N$11,Daten!M$11,IF(Daten!D$6=Daten!N$13,Daten!M$13,IF(AND(Daten!$D$6=Daten!$M$10,Daten!$D$8=TRUE),Daten!$M$14,Daten!D$6))))","v":""},{"$f":"IF($A254=\"\",\"\",IF(OR(O254=\"Putzbord\",O254=\"Flexila PU\"),Daten!$D$15,IF(OR(O254=\"Stehbord\",O254=\"Stehbord HB\",O254=\"Flexila STB\",O254=\"Jalousiebord\"),Daten!$D$19,\"-\")))","v":""},{"$f":"IF($A254=\"\",\"\",IF(O254=\"Putzbord\",Daten!$D$16,IF(O254=\"Flexila PU\",_xlfn.NUMBERVALUE(MID(Daten!$D$17,1,2)),\"-\")))","v":""},{"$f":"IF($A254=\"\",\"\",IF(OR(O254=\"Putzbord\",O254=\"Flexila PU\"),Daten!$D$18,IF(OR(O254=\"Stehbord\",O254=\"Stehbord HB\",O254=\"Flexila STB\",O254=\"Jalousiebord\"),Daten!$D$21,\"-\")))","v":""},{"$f":"IF(A254=\"\",\"\",IF(Daten!D$6=Daten!N$11,Daten!M$11,IF(Daten!D$6=Daten!N$13,Daten!M$13,IF(AND(Daten!$D$6=Daten!$M$10,Daten!$D$8=TRUE),Daten!$M$14,Daten!D$6))))","v":""},{"$f":"IF($A254=\"\",\"\",IF(OR(S254=\"Putzbord\",S254=\"Flexila PU\"),Daten!$D$15,IF(OR(S254=\"Stehbord\",S254=\"Stehbord HB\",S254=\"Flexila STB\",S254=\"Jalousiebord\"),Daten!$D$19,\"-\")))","v":""},{"$f":"IF($A254=\"\",\"\",IF(S254=\"Putzbord\",Daten!$D$16,IF(S254=\"Flexila PU\",_xlfn.NUMBERVALUE(MID(Daten!$D$17,1,2)),\"-\")))","v":""},{"$f":"IF($A254=\"\",\"\",IF(OR(S254=\"Putzbord\",S254=\"Flexila PU\"),Daten!$D$18,IF(OR(S254=\"Stehbord\",S254=\"Stehbord HB\",S254=\"Flexila STB\",S254=\"Jalousiebord\"),Daten!$D$21,\"-\")))","v":""},{"$f":"IF(A254=\"\",\"\",IF(AND(Daten!D$6=\"Jalousiebord\",OR(O254=\"Stehbord\",S254=\"Stehbord\")),\"Jalousienklinkung\",\"\"))","v":""},{"$f":"IF(W254=\"\",\"\",Daten!D$20)","v":""},null,null,{"$f":"IF(A254=\"\",\"\",IF(Daten!F$1=\"A\",\"Ohne\",IF(OR(N254=\"Gerstenkorn roh\",N254=\"Riffelblech roh\"),\"XPS\",Daten!F$2)))","v":""},{"$f":"IF(A254=\"\",\"\",IF(AA254=\"Ohne\",\"A\",IF(AA254=\"XPS\",IF(Daten!F$1=\"D\",\"B\",Daten!F$1),Daten!F$1)))","v":""},{"$f":"IF(A254=\"\",\"\",IF(AB254=\"A\",\"-\",Daten!F$7))","v":""},{"$f":"IF(A254=\"\",\"\",IF(AB254=\"A\",\"-\",IF(AND(Daten!F$8=0,O254=\"Putzbord\"),5-Q254,0)))","v":""},{"$f":"IF(A254=\"\",\"\",IF(AB254=\"A\",\"-\",IF(AND(Daten!F$8=0,S254=\"Putzbord\"),5-U254,0)))","v":""},{"$f":"IF(A254=\"\",\"\",IF(AB254=\"A\",\"-\",Daten!F$10))","v":""},{"$f":"IFERROR(IF(A254=\"\",\"\",VLOOKUP(N254,Daten!N$1:O$7,2,FALSE)),\"\")","v":""}]
[null,null,null,{"$f":"IF(A255=\"\",\"\",IF(Daten!B$3=TRUE,Daten!B$7,\"\"))","v":""},{"$f":"IFERROR(IF(C255=\"\",\"\",C255+(2*D255)+IF(O255=Daten!M$13,6,0)+IF(S255=Daten!M$13,6,0)+IF(Q255=\"-\",0,Q255)+IF(U255=\"-\",0,U255)),\"\")","v":""},{"$f":"IF(OR(A255=\"\",AND(F$1=0,Daten!F$3=FALSE)),\"\",Daten!B$6)","v":""},{"$f":"IF(A255=\"\",\"\",IF(Daten!B$5=\"??\",\"\",Daten!B$5))","v":""},{"$f":"IF(A255=\"\",\"\",IF(Daten!B$3=FALSE,\"\",Daten!B$4))","v":""},{"$f":"IFERROR(IF(A255=\"\",\"\",G255+H255+IF(AND(G255>0,H255>0),5,0))-IF(Daten!H$21=TRUE,H255,0),\"\")","v":""},{"$f":"IFERROR(IF(A255=\"\",\"\",I255+IF(Daten!H$21=TRUE,H255,0)+IF(F255=\"\",0,F255)-IF(Daten!F$3=TRUE,Daten!F$10,0)),\"\")","v":""},{"$f":"IF(A255=\"\",\"\",Daten!D$14)","v":""},{"$f":"IF(A255=\"\",\"\",Daten!D$12)","v":""},{"$f":"IF(A255=\"\",\"\",Daten!D$13)","v":""},{"$f":"IF(A255=\"\",\"\",Daten!M$2)","v":""},{"$f":"IF(A255=\"\",\"\",IF(Daten!D$6=Daten!N$11,Daten!M$11,IF(Daten!D$6=Daten!N$13,Daten!M$13,IF(AND(Daten!$D$6=Daten!$M$10,Daten!$D$8=TRUE),Daten!$M$14,Daten!D$6))))","v":""},{"$f":"IF($A255=\"\",\"\",IF(OR(O255=\"Putzbord\",O255=\"Flexila PU\"),Daten!$D$15,IF(OR(O255=\"Stehbord\",O255=\"Stehbord HB\",O255=\"Flexila STB\",O255=\"Jalousiebord\"),Daten!$D$19,\"-\")))","v":""},{"$f":"IF($A255=\"\",\"\",IF(O255=\"Putzbord\",Daten!$D$16,IF(O255=\"Flexila PU\",_xlfn.NUMBERVALUE(MID(Daten!$D$17,1,2)),\"-\")))","v":""},{"$f":"IF($A255=\"\",\"\",IF(OR(O255=\"Putzbord\",O255=\"Flexila PU\"),Daten!$D$18,IF(OR(O255=\"Stehbord\",O255=\"Stehbord HB\",O255=\"Flexila STB\",O255=\"Jalousiebord\"),Daten!$D$21,\"-\")))","v":""},{"$f":"IF(A255=\"\",\"\",IF(Daten!D$6=Daten!N$11,Daten!M$11,IF(Daten!D$6=Daten!N$13,Daten!M$13,IF(AND(Daten!$D$6=Daten!$M$10,Daten!$D$8=TRUE),Daten!$M$14,Daten!D$6))))","v":""},{"$f":"IF($A255=\"\",\"\",IF(OR(S255=\"Putzbord\",S255=\"Flexila PU\"),Daten!$D$15,IF(OR(S255=\"Stehbord\",S255=\"Stehbord HB\",S255=\"Flexila STB\",S255=\"Jalousiebord\"),Daten!$D$19,\"-\")))","v":""},{"$f":"IF($A255=\"\",\"\",IF(S255=\"Putzbord\",Daten!$D$16,IF(S255=\"Flexila PU\",_xlfn.NUMBERVALUE(MID(Daten!$D$17,1,2)),\"-\")))","v":""},{"$f":"IF($A255=\"\",\"\",IF(OR(S255=\"Putzbord\",S255=\"Flexila PU\"),Daten!$D$18,IF(OR(S255=\"Stehbord\",S255=\"Stehbord HB\",S255=\"Flexila STB\",S255=\"Jalousiebord\"),Daten!$D$21,\"-\")))","v":""},{"$f":"IF(A255=\"\",\"\",IF(AND(Daten!D$6=\"Jalousiebord\",OR(O255=\"Stehbord\",S255=\"Stehbord\")),\"Jalousienklinkung\",\"\"))","v":""},{"$f":"IF(W255=\"\",\"\",Daten!D$20)","v":""},null,null,{"$f":"IF(A255=\"\",\"\",IF(Daten!F$1=\"A\",\"Ohne\",IF(OR(N255=\"Gerstenkorn roh\",N255=\"Riffelblech roh\"),\"XPS\",Daten!F$2)))","v":""},{"$f":"IF(A255=\"\",\"\",IF(AA255=\"Ohne\",\"A\",IF(AA255=\"XPS\",IF(Daten!F$1=\"D\",\"B\",Daten!F$1),Daten!F$1)))","v":""},{"$f":"IF(A255=\"\",\"\",IF(AB255=\"A\",\"-\",Daten!F$7))","v":""},{"$f":"IF(A255=\"\",\"\",IF(AB255=\"A\",\"-\",IF(AND(Daten!F$8=0,O255=\"Putzbord\"),5-Q255,0)))","v":""},{"$f":"IF(A255=\"\",\"\",IF(AB255=\"A\",\"-\",IF(AND(Daten!F$8=0,S255=\"Putzbord\"),5-U255,0)))","v":""},{"$f":"IF(A255=\"\",\"\",IF(AB255=\"A\",\"-\",Daten!F$10))","v":""},{"$f":"IFERROR(IF(A255=\"\",\"\",VLOOKUP(N255,Daten!N$1:O$7,2,FALSE)),\"\")","v":""}]
[null,null,null,{"$f":"IF(A256=\"\",\"\",IF(Daten!B$3=TRUE,Daten!B$7,\"\"))","v":""},{"$f":"IFERROR(IF(C256=\"\",\"\",C256+(2*D256)+IF(O256=Daten!M$13,6,0)+IF(S256=Daten!M$13,6,0)+IF(Q256=\"-\",0,Q256)+IF(U256=\"-\",0,U256)),\"\")","v":""},{"$f":"IF(OR(A256=\"\",AND(F$1=0,Daten!F$3=FALSE)),\"\",Daten!B$6)","v":""},{"$f":"IF(A256=\"\",\"\",IF(Daten!B$5=\"??\",\"\",Daten!B$5))","v":""},{"$f":"IF(A256=\"\",\"\",IF(Daten!B$3=FALSE,\"\",Daten!B$4))","v":""},{"$f":"IFERROR(IF(A256=\"\",\"\",G256+H256+IF(AND(G256>0,H256>0),5,0))-IF(Daten!H$21=TRUE,H256,0),\"\")","v":""},{"$f":"IFERROR(IF(A256=\"\",\"\",I256+IF(Daten!H$21=TRUE,H256,0)+IF(F256=\"\",0,F256)-IF(Daten!F$3=TRUE,Daten!F$10,0)),\"\")","v":""},{"$f":"IF(A256=\"\",\"\",Daten!D$14)","v":""},{"$f":"IF(A256=\"\",\"\",Daten!D$12)","v":""},{"$f":"IF(A256=\"\",\"\",Daten!D$13)","v":""},{"$f":"IF(A256=\"\",\"\",Daten!M$2)","v":""},{"$f":"IF(A256=\"\",\"\",IF(Daten!D$6=Daten!N$11,Daten!M$11,IF(Daten!D$6=Daten!N$13,Daten!M$13,IF(AND(Daten!$D$6=Daten!$M$10,Daten!$D$8=TRUE),Daten!$M$14,Daten!D$6))))","v":""},{"$f":"IF($A256=\"\",\"\",IF(OR(O256=\"Putzbord\",O256=\"Flexila PU\"),Daten!$D$15,IF(OR(O256=\"Stehbord\",O256=\"Stehbord HB\",O256=\"Flexila STB\",O256=\"Jalousiebord\"),Daten!$D$19,\"-\")))","v":""},{"$f":"IF($A256=\"\",\"\",IF(O256=\"Putzbord\",Daten!$D$16,IF(O256=\"Flexila PU\",_xlfn.NUMBERVALUE(MID(Daten!$D$17,1,2)),\"-\")))","v":""},{"$f":"IF($A256=\"\",\"\",IF(OR(O256=\"Putzbord\",O256=\"Flexila PU\"),Daten!$D$18,IF(OR(O256=\"Stehbord\",O256=\"Stehbord HB\",O256=\"Flexila STB\",O256=\"Jalousiebord\"),Daten!$D$21,\"-\")))","v":""},{"$f":"IF(A256=\"\",\"\",IF(Daten!D$6=Daten!N$11,Daten!M$11,IF(Daten!D$6=Daten!N$13,Daten!M$13,IF(AND(Daten!$D$6=Daten!$M$10,Daten!$D$8=TRUE),Daten!$M$14,Daten!D$6))))","v":""},{"$f":"IF($A256=\"\",\"\",IF(OR(S256=\"Putzbord\",S256=\"Flexila PU\"),Daten!$D$15,IF(OR(S256=\"Stehbord\",S256=\"Stehbord HB\",S256=\"Flexila STB\",S256=\"Jalousiebord\"),Daten!$D$19,\"-\")))","v":""},{"$f":"IF($A256=\"\",\"\",IF(S256=\"Putzbord\",Daten!$D$16,IF(S256=\"Flexila PU\",_xlfn.NUMBERVALUE(MID(Daten!$D$17,1,2)),\"-\")))","v":""},{"$f":"IF($A256=\"\",\"\",IF(OR(S256=\"Putzbord\",S256=\"Flexila PU\"),Daten!$D$18,IF(OR(S256=\"Stehbord\",S256=\"Stehbord HB\",S256=\"Flexila STB\",S256=\"Jalousiebord\"),Daten!$D$21,\"-\")))","v":""},{"$f":"IF(A256=\"\",\"\",IF(AND(Daten!D$6=\"Jalousiebord\",OR(O256=\"Stehbord\",S256=\"Stehbord\")),\"Jalousienklinkung\",\"\"))","v":""},{"$f":"IF(W256=\"\",\"\",Daten!D$20)","v":""},null,null,{"$f":"IF(A256=\"\",\"\",IF(Daten!F$1=\"A\",\"Ohne\",IF(OR(N256=\"Gerstenkorn roh\",N256=\"Riffelblech roh\"),\"XPS\",Daten!F$2)))","v":""},{"$f":"IF(A256=\"\",\"\",IF(AA256=\"Ohne\",\"A\",IF(AA256=\"XPS\",IF(Daten!F$1=\"D\",\"B\",Daten!F$1),Daten!F$1)))","v":""},{"$f":"IF(A256=\"\",\"\",IF(AB256=\"A\",\"-\",Daten!F$7))","v":""},{"$f":"IF(A256=\"\",\"\",IF(AB256=\"A\",\"-\",IF(AND(Daten!F$8=0,O256=\"Putzbord\"),5-Q256,0)))","v":""},{"$f":"IF(A256=\"\",\"\",IF(AB256=\"A\",\"-\",IF(AND(Daten!F$8=0,S256=\"Putzbord\"),5-U256,0)))","v":""},{"$f":"IF(A256=\"\",\"\",IF(AB256=\"A\",\"-\",Daten!F$10))","v":""},{"$f":"IFERROR(IF(A256=\"\",\"\",VLOOKUP(N256,Daten!N$1:O$7,2,FALSE)),\"\")","v":""}]
[null,null,null,{"$f":"IF(A257=\"\",\"\",IF(Daten!B$3=TRUE,Daten!B$7,\"\"))","v":""},{"$f":"IFERROR(IF(C257=\"\",\"\",C257+(2*D257)+IF(O257=Daten!M$13,6,0)+IF(S257=Daten!M$13,6,0)+IF(Q257=\"-\",0,Q257)+IF(U257=\"-\",0,U257)),\"\")","v":""},{"$f":"IF(OR(A257=\"\",AND(F$1=0,Daten!F$3=FALSE)),\"\",Daten!B$6)","v":""},{"$f":"IF(A257=\"\",\"\",IF(Daten!B$5=\"??\",\"\",Daten!B$5))","v":""},{"$f":"IF(A257=\"\",\"\",IF(Daten!B$3=FALSE,\"\",Daten!B$4))","v":""},{"$f":"IFERROR(IF(A257=\"\",\"\",G257+H257+IF(AND(G257>0,H257>0),5,0))-IF(Daten!H$21=TRUE,H257,0),\"\")","v":""},{"$f":"IFERROR(IF(A257=\"\",\"\",I257+IF(Daten!H$21=TRUE,H257,0)+IF(F257=\"\",0,F257)-IF(Daten!F$3=TRUE,Daten!F$10,0)),\"\")","v":""},{"$f":"IF(A257=\"\",\"\",Daten!D$14)","v":""},{"$f":"IF(A257=\"\",\"\",Daten!D$12)","v":""},{"$f":"IF(A257=\"\",\"\",Daten!D$13)","v":""},{"$f":"IF(A257=\"\",\"\",Daten!M$2)","v":""},{"$f":"IF(A257=\"\",\"\",IF(Daten!D$6=Daten!N$11,Daten!M$11,IF(Daten!D$6=Daten!N$13,Daten!M$13,IF(AND(Daten!$D$6=Daten!$M$10,Daten!$D$8=TRUE),Daten!$M$14,Daten!D$6))))","v":""},{"$f":"IF($A257=\"\",\"\",IF(OR(O257=\"Putzbord\",O257=\"Flexila PU\"),Daten!$D$15,IF(OR(O257=\"Stehbord\",O257=\"Stehbord HB\",O257=\"Flexila STB\",O257=\"Jalousiebord\"),Daten!$D$19,\"-\")))","v":""},{"$f":"IF($A257=\"\",\"\",IF(O257=\"Putzbord\",Daten!$D$16,IF(O257=\"Flexila PU\",_xlfn.NUMBERVALUE(MID(Daten!$D$17,1,2)),\"-\")))","v":""},{"$f":"IF($A257=\"\",\"\",IF(OR(O257=\"Putzbord\",O257=\"Flexila PU\"),Daten!$D$18,IF(OR(O257=\"Stehbord\",O257=\"Stehbord HB\",O257=\"Flexila STB\",O257=\"Jalousiebord\"),Daten!$D$21,\"-\")))","v":""},{"$f":"IF(A257=\"\",\"\",IF(Daten!D$6=Daten!N$11,Daten!M$11,IF(Daten!D$6=Daten!N$13,Daten!M$13,IF(AND(Daten!$D$6=Daten!$M$10,Daten!$D$8=TRUE),Daten!$M$14,Daten!D$6))))","v":""},{"$f":"IF($A257=\"\",\"\",IF(OR(S257=\"Putzbord\",S257=\"Flexila PU\"),Daten!$D$15,IF(OR(S257=\"Stehbord\",S257=\"Stehbord HB\",S257=\"Flexila STB\",S257=\"Jalousiebord\"),Daten!$D$19,\"-\")))","v":""},{"$f":"IF($A257=\"\",\"\",IF(S257=\"Putzbord\",Daten!$D$16,IF(S257=\"Flexila PU\",_xlfn.NUMBERVALUE(MID(Daten!$D$17,1,2)),\"-\")))","v":""},{"$f":"IF($A257=\"\",\"\",IF(OR(S257=\"Putzbord\",S257=\"Flexila PU\"),Daten!$D$18,IF(OR(S257=\"Stehbord\",S257=\"Stehbord HB\",S257=\"Flexila STB\",S257=\"Jalousiebord\"),Daten!$D$21,\"-\")))","v":""},{"$f":"IF(A257=\"\",\"\",IF(AND(Daten!D$6=\"Jalousiebord\",OR(O257=\"Stehbord\",S257=\"Stehbord\")),\"Jalousienklinkung\",\"\"))","v":""},{"$f":"IF(W257=\"\",\"\",Daten!D$20)","v":""},null,null,{"$f":"IF(A257=\"\",\"\",IF(Daten!F$1=\"A\",\"Ohne\",IF(OR(N257=\"Gerstenkorn roh\",N257=\"Riffelblech roh\"),\"XPS\",Daten!F$2)))","v":""},{"$f":"IF(A257=\"\",\"\",IF(AA257=\"Ohne\",\"A\",IF(AA257=\"XPS\",IF(Daten!F$1=\"D\",\"B\",Daten!F$1),Daten!F$1)))","v":""},{"$f":"IF(A257=\"\",\"\",IF(AB257=\"A\",\"-\",Daten!F$7))","v":""},{"$f":"IF(A257=\"\",\"\",IF(AB257=\"A\",\"-\",IF(AND(Daten!F$8=0,O257=\"Putzbord\"),5-Q257,0)))","v":""},{"$f":"IF(A257=\"\",\"\",IF(AB257=\"A\",\"-\",IF(AND(Daten!F$8=0,S257=\"Putzbord\"),5-U257,0)))","v":""},{"$f":"IF(A257=\"\",\"\",IF(AB257=\"A\",\"-\",Daten!F$10))","v":""},{"$f":"IFERROR(IF(A257=\"\",\"\",VLOOKUP(N257,Daten!N$1:O$7,2,FALSE)),\"\")","v":""}]
[null,null,null,{"$f":"IF(A258=\"\",\"\",IF(Daten!B$3=TRUE,Daten!B$7,\"\"))","v":""},{"$f":"IFERROR(IF(C258=\"\",\"\",C258+(2*D258)+IF(O258=Daten!M$13,6,0)+IF(S258=Daten!M$13,6,0)+IF(Q258=\"-\",0,Q258)+IF(U258=\"-\",0,U258)),\"\")","v":""},{"$f":"IF(OR(A258=\"\",AND(F$1=0,Daten!F$3=FALSE)),\"\",Daten!B$6)","v":""},{"$f":"IF(A258=\"\",\"\",IF(Daten!B$5=\"??\",\"\",Daten!B$5))","v":""},{"$f":"IF(A258=\"\",\"\",IF(Daten!B$3=FALSE,\"\",Daten!B$4))","v":""},{"$f":"IFERROR(IF(A258=\"\",\"\",G258+H258+IF(AND(G258>0,H258>0),5,0))-IF(Daten!H$21=TRUE,H258,0),\"\")","v":""},{"$f":"IFERROR(IF(A258=\"\",\"\",I258+IF(Daten!H$21=TRUE,H258,0)+IF(F258=\"\",0,F258)-IF(Daten!F$3=TRUE,Daten!F$10,0)),\"\")","v":""},{"$f":"IF(A258=\"\",\"\",Daten!D$14)","v":""},{"$f":"IF(A258=\"\",\"\",Daten!D$12)","v":""},{"$f":"IF(A258=\"\",\"\",Daten!D$13)","v":""},{"$f":"IF(A258=\"\",\"\",Daten!M$2)","v":""},{"$f":"IF(A258=\"\",\"\",IF(Daten!D$6=Daten!N$11,Daten!M$11,IF(Daten!D$6=Daten!N$13,Daten!M$13,IF(AND(Daten!$D$6=Daten!$M$10,Daten!$D$8=TRUE),Daten!$M$14,Daten!D$6))))","v":""},{"$f":"IF($A258=\"\",\"\",IF(OR(O258=\"Putzbord\",O258=\"Flexila PU\"),Daten!$D$15,IF(OR(O258=\"Stehbord\",O258=\"Stehbord HB\",O258=\"Flexila STB\",O258=\"Jalousiebord\"),Daten!$D$19,\"-\")))","v":""},{"$f":"IF($A258=\"\",\"\",IF(O258=\"Putzbord\",Daten!$D$16,IF(O258=\"Flexila PU\",_xlfn.NUMBERVALUE(MID(Daten!$D$17,1,2)),\"-\")))","v":""},{"$f":"IF($A258=\"\",\"\",IF(OR(O258=\"Putzbord\",O258=\"Flexila PU\"),Daten!$D$18,IF(OR(O258=\"Stehbord\",O258=\"Stehbord HB\",O258=\"Flexila STB\",O258=\"Jalousiebord\"),Daten!$D$21,\"-\")))","v":""},{"$f":"IF(A258=\"\",\"\",IF(Daten!D$6=Daten!N$11,Daten!M$11,IF(Daten!D$6=Daten!N$13,Daten!M$13,IF(AND(Daten!$D$6=Daten!$M$10,Daten!$D$8=TRUE),Daten!$M$14,Daten!D$6))))","v":""},{"$f":"IF($A258=\"\",\"\",IF(OR(S258=\"Putzbord\",S258=\"Flexila PU\"),Daten!$D$15,IF(OR(S258=\"Stehbord\",S258=\"Stehbord HB\",S258=\"Flexila STB\",S258=\"Jalousiebord\"),Daten!$D$19,\"-\")))","v":""},{"$f":"IF($A258=\"\",\"\",IF(S258=\"Putzbord\",Daten!$D$16,IF(S258=\"Flexila PU\",_xlfn.NUMBERVALUE(MID(Daten!$D$17,1,2)),\"-\")))","v":""},{"$f":"IF($A258=\"\",\"\",IF(OR(S258=\"Putzbord\",S258=\"Flexila PU\"),Daten!$D$18,IF(OR(S258=\"Stehbord\",S258=\"Stehbord HB\",S258=\"Flexila STB\",S258=\"Jalousiebord\"),Daten!$D$21,\"-\")))","v":""},{"$f":"IF(A258=\"\",\"\",IF(AND(Daten!D$6=\"Jalousiebord\",OR(O258=\"Stehbord\",S258=\"Stehbord\")),\"Jalousienklinkung\",\"\"))","v":""},{"$f":"IF(W258=\"\",\"\",Daten!D$20)","v":""},null,null,{"$f":"IF(A258=\"\",\"\",IF(Daten!F$1=\"A\",\"Ohne\",IF(OR(N258=\"Gerstenkorn roh\",N258=\"Riffelblech roh\"),\"XPS\",Daten!F$2)))","v":""},{"$f":"IF(A258=\"\",\"\",IF(AA258=\"Ohne\",\"A\",IF(AA258=\"XPS\",IF(Daten!F$1=\"D\",\"B\",Daten!F$1),Daten!F$1)))","v":""},{"$f":"IF(A258=\"\",\"\",IF(AB258=\"A\",\"-\",Daten!F$7))","v":""},{"$f":"IF(A258=\"\",\"\",IF(AB258=\"A\",\"-\",IF(AND(Daten!F$8=0,O258=\"Putzbord\"),5-Q258,0)))","v":""},{"$f":"IF(A258=\"\",\"\",IF(AB258=\"A\",\"-\",IF(AND(Daten!F$8=0,S258=\"Putzbord\"),5-U258,0)))","v":""},{"$f":"IF(A258=\"\",\"\",IF(AB258=\"A\",\"-\",Daten!F$10))","v":""},{"$f":"IFERROR(IF(A258=\"\",\"\",VLOOKUP(N258,Daten!N$1:O$7,2,FALSE)),\"\")","v":""}]
[null,null,null,{"$f":"IF(A259=\"\",\"\",IF(Daten!B$3=TRUE,Daten!B$7,\"\"))","v":""},{"$f":"IFERROR(IF(C259=\"\",\"\",C259+(2*D259)+IF(O259=Daten!M$13,6,0)+IF(S259=Daten!M$13,6,0)+IF(Q259=\"-\",0,Q259)+IF(U259=\"-\",0,U259)),\"\")","v":""},{"$f":"IF(OR(A259=\"\",AND(F$1=0,Daten!F$3=FALSE)),\"\",Daten!B$6)","v":""},{"$f":"IF(A259=\"\",\"\",IF(Daten!B$5=\"??\",\"\",Daten!B$5))","v":""},{"$f":"IF(A259=\"\",\"\",IF(Daten!B$3=FALSE,\"\",Daten!B$4))","v":""},{"$f":"IFERROR(IF(A259=\"\",\"\",G259+H259+IF(AND(G259>0,H259>0),5,0))-IF(Daten!H$21=TRUE,H259,0),\"\")","v":""},{"$f":"IFERROR(IF(A259=\"\",\"\",I259+IF(Daten!H$21=TRUE,H259,0)+IF(F259=\"\",0,F259)-IF(Daten!F$3=TRUE,Daten!F$10,0)),\"\")","v":""},{"$f":"IF(A259=\"\",\"\",Daten!D$14)","v":""},{"$f":"IF(A259=\"\",\"\",Daten!D$12)","v":""},{"$f":"IF(A259=\"\",\"\",Daten!D$13)","v":""},{"$f":"IF(A259=\"\",\"\",Daten!M$2)","v":""},{"$f":"IF(A259=\"\",\"\",IF(Daten!D$6=Daten!N$11,Daten!M$11,IF(Daten!D$6=Daten!N$13,Daten!M$13,IF(AND(Daten!$D$6=Daten!$M$10,Daten!$D$8=TRUE),Daten!$M$14,Daten!D$6))))","v":""},{"$f":"IF($A259=\"\",\"\",IF(OR(O259=\"Putzbord\",O259=\"Flexila PU\"),Daten!$D$15,IF(OR(O259=\"Stehbord\",O259=\"Stehbord HB\",O259=\"Flexila STB\",O259=\"Jalousiebord\"),Daten!$D$19,\"-\")))","v":""},{"$f":"IF($A259=\"\",\"\",IF(O259=\"Putzbord\",Daten!$D$16,IF(O259=\"Flexila PU\",_xlfn.NUMBERVALUE(MID(Daten!$D$17,1,2)),\"-\")))","v":""},{"$f":"IF($A259=\"\",\"\",IF(OR(O259=\"Putzbord\",O259=\"Flexila PU\"),Daten!$D$18,IF(OR(O259=\"Stehbord\",O259=\"Stehbord HB\",O259=\"Flexila STB\",O259=\"Jalousiebord\"),Daten!$D$21,\"-\")))","v":""},{"$f":"IF(A259=\"\",\"\",IF(Daten!D$6=Daten!N$11,Daten!M$11,IF(Daten!D$6=Daten!N$13,Daten!M$13,IF(AND(Daten!$D$6=Daten!$M$10,Daten!$D$8=TRUE),Daten!$M$14,Daten!D$6))))","v":""},{"$f":"IF($A259=\"\",\"\",IF(OR(S259=\"Putzbord\",S259=\"Flexila PU\"),Daten!$D$15,IF(OR(S259=\"Stehbord\",S259=\"Stehbord HB\",S259=\"Flexila STB\",S259=\"Jalousiebord\"),Daten!$D$19,\"-\")))","v":""},{"$f":"IF($A259=\"\",\"\",IF(S259=\"Putzbord\",Daten!$D$16,IF(S259=\"Flexila PU\",_xlfn.NUMBERVALUE(MID(Daten!$D$17,1,2)),\"-\")))","v":""},{"$f":"IF($A259=\"\",\"\",IF(OR(S259=\"Putzbord\",S259=\"Flexila PU\"),Daten!$D$18,IF(OR(S259=\"Stehbord\",S259=\"Stehbord HB\",S259=\"Flexila STB\",S259=\"Jalousiebord\"),Daten!$D$21,\"-\")))","v":""},{"$f":"IF(A259=\"\",\"\",IF(AND(Daten!D$6=\"Jalousiebord\",OR(O259=\"Stehbord\",S259=\"Stehbord\")),\"Jalousienklinkung\",\"\"))","v":""},{"$f":"IF(W259=\"\",\"\",Daten!D$20)","v":""},null,null,{"$f":"IF(A259=\"\",\"\",IF(Daten!F$1=\"A\",\"Ohne\",IF(OR(N259=\"Gerstenkorn roh\",N259=\"Riffelblech roh\"),\"XPS\",Daten!F$2)))","v":""},{"$f":"IF(A259=\"\",\"\",IF(AA259=\"Ohne\",\"A\",IF(AA259=\"XPS\",IF(Daten!F$1=\"D\",\"B\",Daten!F$1),Daten!F$1)))","v":""},{"$f":"IF(A259=\"\",\"\",IF(AB259=\"A\",\"-\",Daten!F$7))","v":""},{"$f":"IF(A259=\"\",\"\",IF(AB259=\"A\",\"-\",IF(AND(Daten!F$8=0,O259=\"Putzbord\"),5-Q259,0)))","v":""},{"$f":"IF(A259=\"\",\"\",IF(AB259=\"A\",\"-\",IF(AND(Daten!F$8=0,S259=\"Putzbord\"),5-U259,0)))","v":""},{"$f":"IF(A259=\"\",\"\",IF(AB259=\"A\",\"-\",Daten!F$10))","v":""},{"$f":"IFERROR(IF(A259=\"\",\"\",VLOOKUP(N259,Daten!N$1:O$7,2,FALSE)),\"\")","v":""}]
[null,null,null,{"$f":"IF(A260=\"\",\"\",IF(Daten!B$3=TRUE,Daten!B$7,\"\"))","v":""},{"$f":"IFERROR(IF(C260=\"\",\"\",C260+(2*D260)+IF(O260=Daten!M$13,6,0)+IF(S260=Daten!M$13,6,0)+IF(Q260=\"-\",0,Q260)+IF(U260=\"-\",0,U260)),\"\")","v":""},{"$f":"IF(OR(A260=\"\",AND(F$1=0,Daten!F$3=FALSE)),\"\",Daten!B$6)","v":""},{"$f":"IF(A260=\"\",\"\",IF(Daten!B$5=\"??\",\"\",Daten!B$5))","v":""},{"$f":"IF(A260=\"\",\"\",IF(Daten!B$3=FALSE,\"\",Daten!B$4))","v":""},{"$f":"IFERROR(IF(A260=\"\",\"\",G260+H260+IF(AND(G260>0,H260>0),5,0))-IF(Daten!H$21=TRUE,H260,0),\"\")","v":""},{"$f":"IFERROR(IF(A260=\"\",\"\",I260+IF(Daten!H$21=TRUE,H260,0)+IF(F260=\"\",0,F260)-IF(Daten!F$3=TRUE,Daten!F$10,0)),\"\")","v":""},{"$f":"IF(A260=\"\",\"\",Daten!D$14)","v":""},{"$f":"IF(A260=\"\",\"\",Daten!D$12)","v":""},{"$f":"IF(A260=\"\",\"\",Daten!D$13)","v":""},{"$f":"IF(A260=\"\",\"\",Daten!M$2)","v":""},{"$f":"IF(A260=\"\",\"\",IF(Daten!D$6=Daten!N$11,Daten!M$11,IF(Daten!D$6=Daten!N$13,Daten!M$13,IF(AND(Daten!$D$6=Daten!$M$10,Daten!$D$8=TRUE),Daten!$M$14,Daten!D$6))))","v":""},{"$f":"IF($A260=\"\",\"\",IF(OR(O260=\"Putzbord\",O260=\"Flexila PU\"),Daten!$D$15,IF(OR(O260=\"Stehbord\",O260=\"Stehbord HB\",O260=\"Flexila STB\",O260=\"Jalousiebord\"),Daten!$D$19,\"-\")))","v":""},{"$f":"IF($A260=\"\",\"\",IF(O260=\"Putzbord\",Daten!$D$16,IF(O260=\"Flexila PU\",_xlfn.NUMBERVALUE(MID(Daten!$D$17,1,2)),\"-\")))","v":""},{"$f":"IF($A260=\"\",\"\",IF(OR(O260=\"Putzbord\",O260=\"Flexila PU\"),Daten!$D$18,IF(OR(O260=\"Stehbord\",O260=\"Stehbord HB\",O260=\"Flexila STB\",O260=\"Jalousiebord\"),Daten!$D$21,\"-\")))","v":""},{"$f":"IF(A260=\"\",\"\",IF(Daten!D$6=Daten!N$11,Daten!M$11,IF(Daten!D$6=Daten!N$13,Daten!M$13,IF(AND(Daten!$D$6=Daten!$M$10,Daten!$D$8=TRUE),Daten!$M$14,Daten!D$6))))","v":""},{"$f":"IF($A260=\"\",\"\",IF(OR(S260=\"Putzbord\",S260=\"Flexila PU\"),Daten!$D$15,IF(OR(S260=\"Stehbord\",S260=\"Stehbord HB\",S260=\"Flexila STB\",S260=\"Jalousiebord\"),Daten!$D$19,\"-\")))","v":""},{"$f":"IF($A260=\"\",\"\",IF(S260=\"Putzbord\",Daten!$D$16,IF(S260=\"Flexila PU\",_xlfn.NUMBERVALUE(MID(Daten!$D$17,1,2)),\"-\")))","v":""},{"$f":"IF($A260=\"\",\"\",IF(OR(S260=\"Putzbord\",S260=\"Flexila PU\"),Daten!$D$18,IF(OR(S260=\"Stehbord\",S260=\"Stehbord HB\",S260=\"Flexila STB\",S260=\"Jalousiebord\"),Daten!$D$21,\"-\")))","v":""},{"$f":"IF(A260=\"\",\"\",IF(AND(Daten!D$6=\"Jalousiebord\",OR(O260=\"Stehbord\",S260=\"Stehbord\")),\"Jalousienklinkung\",\"\"))","v":""},{"$f":"IF(W260=\"\",\"\",Daten!D$20)","v":""},null,null,{"$f":"IF(A260=\"\",\"\",IF(Daten!F$1=\"A\",\"Ohne\",IF(OR(N260=\"Gerstenkorn roh\",N260=\"Riffelblech roh\"),\"XPS\",Daten!F$2)))","v":""},{"$f":"IF(A260=\"\",\"\",IF(AA260=\"Ohne\",\"A\",IF(AA260=\"XPS\",IF(Daten!F$1=\"D\",\"B\",Daten!F$1),Daten!F$1)))","v":""},{"$f":"IF(A260=\"\",\"\",IF(AB260=\"A\",\"-\",Daten!F$7))","v":""},{"$f":"IF(A260=\"\",\"\",IF(AB260=\"A\",\"-\",IF(AND(Daten!F$8=0,O260=\"Putzbord\"),5-Q260,0)))","v":""},{"$f":"IF(A260=\"\",\"\",IF(AB260=\"A\",\"-\",IF(AND(Daten!F$8=0,S260=\"Putzbord\"),5-U260,0)))","v":""},{"$f":"IF(A260=\"\",\"\",IF(AB260=\"A\",\"-\",Daten!F$10))","v":""},{"$f":"IFERROR(IF(A260=\"\",\"\",VLOOKUP(N260,Daten!N$1:O$7,2,FALSE)),\"\")","v":""}]
[null,null,null,{"$f":"IF(A261=\"\",\"\",IF(Daten!B$3=TRUE,Daten!B$7,\"\"))","v":""},{"$f":"IFERROR(IF(C261=\"\",\"\",C261+(2*D261)+IF(O261=Daten!M$13,6,0)+IF(S261=Daten!M$13,6,0)+IF(Q261=\"-\",0,Q261)+IF(U261=\"-\",0,U261)),\"\")","v":""},{"$f":"IF(OR(A261=\"\",AND(F$1=0,Daten!F$3=FALSE)),\"\",Daten!B$6)","v":""},{"$f":"IF(A261=\"\",\"\",IF(Daten!B$5=\"??\",\"\",Daten!B$5))","v":""},{"$f":"IF(A261=\"\",\"\",IF(Daten!B$3=FALSE,\"\",Daten!B$4))","v":""},{"$f":"IFERROR(IF(A261=\"\",\"\",G261+H261+IF(AND(G261>0,H261>0),5,0))-IF(Daten!H$21=TRUE,H261,0),\"\")","v":""},{"$f":"IFERROR(IF(A261=\"\",\"\",I261+IF(Daten!H$21=TRUE,H261,0)+IF(F261=\"\",0,F261)-IF(Daten!F$3=TRUE,Daten!F$10,0)),\"\")","v":""},{"$f":"IF(A261=\"\",\"\",Daten!D$14)","v":""},{"$f":"IF(A261=\"\",\"\",Daten!D$12)","v":""},{"$f":"IF(A261=\"\",\"\",Daten!D$13)","v":""},{"$f":"IF(A261=\"\",\"\",Daten!M$2)","v":""},{"$f":"IF(A261=\"\",\"\",IF(Daten!D$6=Daten!N$11,Daten!M$11,IF(Daten!D$6=Daten!N$13,Daten!M$13,IF(AND(Daten!$D$6=Daten!$M$10,Daten!$D$8=TRUE),Daten!$M$14,Daten!D$6))))","v":""},{"$f":"IF($A261=\"\",\"\",IF(OR(O261=\"Putzbord\",O261=\"Flexila PU\"),Daten!$D$15,IF(OR(O261=\"Stehbord\",O261=\"Stehbord HB\",O261=\"Flexila STB\",O261=\"Jalousiebord\"),Daten!$D$19,\"-\")))","v":""},{"$f":"IF($A261=\"\",\"\",IF(O261=\"Putzbord\",Daten!$D$16,IF(O261=\"Flexila PU\",_xlfn.NUMBERVALUE(MID(Daten!$D$17,1,2)),\"-\")))","v":""},{"$f":"IF($A261=\"\",\"\",IF(OR(O261=\"Putzbord\",O261=\"Flexila PU\"),Daten!$D$18,IF(OR(O261=\"Stehbord\",O261=\"Stehbord HB\",O261=\"Flexila STB\",O261=\"Jalousiebord\"),Daten!$D$21,\"-\")))","v":""},{"$f":"IF(A261=\"\",\"\",IF(Daten!D$6=Daten!N$11,Daten!M$11,IF(Daten!D$6=Daten!N$13,Daten!M$13,IF(AND(Daten!$D$6=Daten!$M$10,Daten!$D$8=TRUE),Daten!$M$14,Daten!D$6))))","v":""},{"$f":"IF($A261=\"\",\"\",IF(OR(S261=\"Putzbord\",S261=\"Flexila PU\"),Daten!$D$15,IF(OR(S261=\"Stehbord\",S261=\"Stehbord HB\",S261=\"Flexila STB\",S261=\"Jalousiebord\"),Daten!$D$19,\"-\")))","v":""},{"$f":"IF($A261=\"\",\"\",IF(S261=\"Putzbord\",Daten!$D$16,IF(S261=\"Flexila PU\",_xlfn.NUMBERVALUE(MID(Daten!$D$17,1,2)),\"-\")))","v":""},{"$f":"IF($A261=\"\",\"\",IF(OR(S261=\"Putzbord\",S261=\"Flexila PU\"),Daten!$D$18,IF(OR(S261=\"Stehbord\",S261=\"Stehbord HB\",S261=\"Flexila STB\",S261=\"Jalousiebord\"),Daten!$D$21,\"-\")))","v":""},{"$f":"IF(A261=\"\",\"\",IF(AND(Daten!D$6=\"Jalousiebord\",OR(O261=\"Stehbord\",S261=\"Stehbord\")),\"Jalousienklinkung\",\"\"))","v":""},{"$f":"IF(W261=\"\",\"\",Daten!D$20)","v":""},null,null,{"$f":"IF(A261=\"\",\"\",IF(Daten!F$1=\"A\",\"Ohne\",IF(OR(N261=\"Gerstenkorn roh\",N261=\"Riffelblech roh\"),\"XPS\",Daten!F$2)))","v":""},{"$f":"IF(A261=\"\",\"\",IF(AA261=\"Ohne\",\"A\",IF(AA261=\"XPS\",IF(Daten!F$1=\"D\",\"B\",Daten!F$1),Daten!F$1)))","v":""},{"$f":"IF(A261=\"\",\"\",IF(AB261=\"A\",\"-\",Daten!F$7))","v":""},{"$f":"IF(A261=\"\",\"\",IF(AB261=\"A\",\"-\",IF(AND(Daten!F$8=0,O261=\"Putzbord\"),5-Q261,0)))","v":""},{"$f":"IF(A261=\"\",\"\",IF(AB261=\"A\",\"-\",IF(AND(Daten!F$8=0,S261=\"Putzbord\"),5-U261,0)))","v":""},{"$f":"IF(A261=\"\",\"\",IF(AB261=\"A\",\"-\",Daten!F$10))","v":""},{"$f":"IFERROR(IF(A261=\"\",\"\",VLOOKUP(N261,Daten!N$1:O$7,2,FALSE)),\"\")","v":""}]
[null,null,null,{"$f":"IF(A262=\"\",\"\",IF(Daten!B$3=TRUE,Daten!B$7,\"\"))","v":""},{"$f":"IFERROR(IF(C262=\"\",\"\",C262+(2*D262)+IF(O262=Daten!M$13,6,0)+IF(S262=Daten!M$13,6,0)+IF(Q262=\"-\",0,Q262)+IF(U262=\"-\",0,U262)),\"\")","v":""},{"$f":"IF(OR(A262=\"\",AND(F$1=0,Daten!F$3=FALSE)),\"\",Daten!B$6)","v":""},{"$f":"IF(A262=\"\",\"\",IF(Daten!B$5=\"??\",\"\",Daten!B$5))","v":""},{"$f":"IF(A262=\"\",\"\",IF(Daten!B$3=FALSE,\"\",Daten!B$4))","v":""},{"$f":"IFERROR(IF(A262=\"\",\"\",G262+H262+IF(AND(G262>0,H262>0),5,0))-IF(Daten!H$21=TRUE,H262,0),\"\")","v":""},{"$f":"IFERROR(IF(A262=\"\",\"\",I262+IF(Daten!H$21=TRUE,H262,0)+IF(F262=\"\",0,F262)-IF(Daten!F$3=TRUE,Daten!F$10,0)),\"\")","v":""},{"$f":"IF(A262=\"\",\"\",Daten!D$14)","v":""},{"$f":"IF(A262=\"\",\"\",Daten!D$12)","v":""},{"$f":"IF(A262=\"\",\"\",Daten!D$13)","v":""},{"$f":"IF(A262=\"\",\"\",Daten!M$2)","v":""},{"$f":"IF(A262=\"\",\"\",IF(Daten!D$6=Daten!N$11,Daten!M$11,IF(Daten!D$6=Daten!N$13,Daten!M$13,IF(AND(Daten!$D$6=Daten!$M$10,Daten!$D$8=TRUE),Daten!$M$14,Daten!D$6))))","v":""},{"$f":"IF($A262=\"\",\"\",IF(OR(O262=\"Putzbord\",O262=\"Flexila PU\"),Daten!$D$15,IF(OR(O262=\"Stehbord\",O262=\"Stehbord HB\",O262=\"Flexila STB\",O262=\"Jalousiebord\"),Daten!$D$19,\"-\")))","v":""},{"$f":"IF($A262=\"\",\"\",IF(O262=\"Putzbord\",Daten!$D$16,IF(O262=\"Flexila PU\",_xlfn.NUMBERVALUE(MID(Daten!$D$17,1,2)),\"-\")))","v":""},{"$f":"IF($A262=\"\",\"\",IF(OR(O262=\"Putzbord\",O262=\"Flexila PU\"),Daten!$D$18,IF(OR(O262=\"Stehbord\",O262=\"Stehbord HB\",O262=\"Flexila STB\",O262=\"Jalousiebord\"),Daten!$D$21,\"-\")))","v":""},{"$f":"IF(A262=\"\",\"\",IF(Daten!D$6=Daten!N$11,Daten!M$11,IF(Daten!D$6=Daten!N$13,Daten!M$13,IF(AND(Daten!$D$6=Daten!$M$10,Daten!$D$8=TRUE),Daten!$M$14,Daten!D$6))))","v":""},{"$f":"IF($A262=\"\",\"\",IF(OR(S262=\"Putzbord\",S262=\"Flexila PU\"),Daten!$D$15,IF(OR(S262=\"Stehbord\",S262=\"Stehbord HB\",S262=\"Flexila STB\",S262=\"Jalousiebord\"),Daten!$D$19,\"-\")))","v":""},{"$f":"IF($A262=\"\",\"\",IF(S262=\"Putzbord\",Daten!$D$16,IF(S262=\"Flexila PU\",_xlfn.NUMBERVALUE(MID(Daten!$D$17,1,2)),\"-\")))","v":""},{"$f":"IF($A262=\"\",\"\",IF(OR(S262=\"Putzbord\",S262=\"Flexila PU\"),Daten!$D$18,IF(OR(S262=\"Stehbord\",S262=\"Stehbord HB\",S262=\"Flexila STB\",S262=\"Jalousiebord\"),Daten!$D$21,\"-\")))","v":""},{"$f":"IF(A262=\"\",\"\",IF(AND(Daten!D$6=\"Jalousiebord\",OR(O262=\"Stehbord\",S262=\"Stehbord\")),\"Jalousienklinkung\",\"\"))","v":""},{"$f":"IF(W262=\"\",\"\",Daten!D$20)","v":""},null,null,{"$f":"IF(A262=\"\",\"\",IF(Daten!F$1=\"A\",\"Ohne\",IF(OR(N262=\"Gerstenkorn roh\",N262=\"Riffelblech roh\"),\"XPS\",Daten!F$2)))","v":""},{"$f":"IF(A262=\"\",\"\",IF(AA262=\"Ohne\",\"A\",IF(AA262=\"XPS\",IF(Daten!F$1=\"D\",\"B\",Daten!F$1),Daten!F$1)))","v":""},{"$f":"IF(A262=\"\",\"\",IF(AB262=\"A\",\"-\",Daten!F$7))","v":""},{"$f":"IF(A262=\"\",\"\",IF(AB262=\"A\",\"-\",IF(AND(Daten!F$8=0,O262=\"Putzbord\"),5-Q262,0)))","v":""},{"$f":"IF(A262=\"\",\"\",IF(AB262=\"A\",\"-\",IF(AND(Daten!F$8=0,S262=\"Putzbord\"),5-U262,0)))","v":""},{"$f":"IF(A262=\"\",\"\",IF(AB262=\"A\",\"-\",Daten!F$10))","v":""},{"$f":"IFERROR(IF(A262=\"\",\"\",VLOOKUP(N262,Daten!N$1:O$7,2,FALSE)),\"\")","v":""}]
[null,null,null,{"$f":"IF(A263=\"\",\"\",IF(Daten!B$3=TRUE,Daten!B$7,\"\"))","v":""},{"$f":"IFERROR(IF(C263=\"\",\"\",C263+(2*D263)+IF(O263=Daten!M$13,6,0)+IF(S263=Daten!M$13,6,0)+IF(Q263=\"-\",0,Q263)+IF(U263=\"-\",0,U263)),\"\")","v":""},{"$f":"IF(OR(A263=\"\",AND(F$1=0,Daten!F$3=FALSE)),\"\",Daten!B$6)","v":""},{"$f":"IF(A263=\"\",\"\",IF(Daten!B$5=\"??\",\"\",Daten!B$5))","v":""},{"$f":"IF(A263=\"\",\"\",IF(Daten!B$3=FALSE,\"\",Daten!B$4))","v":""},{"$f":"IFERROR(IF(A263=\"\",\"\",G263+H263+IF(AND(G263>0,H263>0),5,0))-IF(Daten!H$21=TRUE,H263,0),\"\")","v":""},{"$f":"IFERROR(IF(A263=\"\",\"\",I263+IF(Daten!H$21=TRUE,H263,0)+IF(F263=\"\",0,F263)-IF(Daten!F$3=TRUE,Daten!F$10,0)),\"\")","v":""},{"$f":"IF(A263=\"\",\"\",Daten!D$14)","v":""},{"$f":"IF(A263=\"\",\"\",Daten!D$12)","v":""},{"$f":"IF(A263=\"\",\"\",Daten!D$13)","v":""},{"$f":"IF(A263=\"\",\"\",Daten!M$2)","v":""},{"$f":"IF(A263=\"\",\"\",IF(Daten!D$6=Daten!N$11,Daten!M$11,IF(Daten!D$6=Daten!N$13,Daten!M$13,IF(AND(Daten!$D$6=Daten!$M$10,Daten!$D$8=TRUE),Daten!$M$14,Daten!D$6))))","v":""},{"$f":"IF($A263=\"\",\"\",IF(OR(O263=\"Putzbord\",O263=\"Flexila PU\"),Daten!$D$15,IF(OR(O263=\"Stehbord\",O263=\"Stehbord HB\",O263=\"Flexila STB\",O263=\"Jalousiebord\"),Daten!$D$19,\"-\")))","v":""},{"$f":"IF($A263=\"\",\"\",IF(O263=\"Putzbord\",Daten!$D$16,IF(O263=\"Flexila PU\",_xlfn.NUMBERVALUE(MID(Daten!$D$17,1,2)),\"-\")))","v":""},{"$f":"IF($A263=\"\",\"\",IF(OR(O263=\"Putzbord\",O263=\"Flexila PU\"),Daten!$D$18,IF(OR(O263=\"Stehbord\",O263=\"Stehbord HB\",O263=\"Flexila STB\",O263=\"Jalousiebord\"),Daten!$D$21,\"-\")))","v":""},{"$f":"IF(A263=\"\",\"\",IF(Daten!D$6=Daten!N$11,Daten!M$11,IF(Daten!D$6=Daten!N$13,Daten!M$13,IF(AND(Daten!$D$6=Daten!$M$10,Daten!$D$8=TRUE),Daten!$M$14,Daten!D$6))))","v":""},{"$f":"IF($A263=\"\",\"\",IF(OR(S263=\"Putzbord\",S263=\"Flexila PU\"),Daten!$D$15,IF(OR(S263=\"Stehbord\",S263=\"Stehbord HB\",S263=\"Flexila STB\",S263=\"Jalousiebord\"),Daten!$D$19,\"-\")))","v":""},{"$f":"IF($A263=\"\",\"\",IF(S263=\"Putzbord\",Daten!$D$16,IF(S263=\"Flexila PU\",_xlfn.NUMBERVALUE(MID(Daten!$D$17,1,2)),\"-\")))","v":""},{"$f":"IF($A263=\"\",\"\",IF(OR(S263=\"Putzbord\",S263=\"Flexila PU\"),Daten!$D$18,IF(OR(S263=\"Stehbord\",S263=\"Stehbord HB\",S263=\"Flexila STB\",S263=\"Jalousiebord\"),Daten!$D$21,\"-\")))","v":""},{"$f":"IF(A263=\"\",\"\",IF(AND(Daten!D$6=\"Jalousiebord\",OR(O263=\"Stehbord\",S263=\"Stehbord\")),\"Jalousienklinkung\",\"\"))","v":""},{"$f":"IF(W263=\"\",\"\",Daten!D$20)","v":""},null,null,{"$f":"IF(A263=\"\",\"\",IF(Daten!F$1=\"A\",\"Ohne\",IF(OR(N263=\"Gerstenkorn roh\",N263=\"Riffelblech roh\"),\"XPS\",Daten!F$2)))","v":""},{"$f":"IF(A263=\"\",\"\",IF(AA263=\"Ohne\",\"A\",IF(AA263=\"XPS\",IF(Daten!F$1=\"D\",\"B\",Daten!F$1),Daten!F$1)))","v":""},{"$f":"IF(A263=\"\",\"\",IF(AB263=\"A\",\"-\",Daten!F$7))","v":""},{"$f":"IF(A263=\"\",\"\",IF(AB263=\"A\",\"-\",IF(AND(Daten!F$8=0,O263=\"Putzbord\"),5-Q263,0)))","v":""},{"$f":"IF(A263=\"\",\"\",IF(AB263=\"A\",\"-\",IF(AND(Daten!F$8=0,S263=\"Putzbord\"),5-U263,0)))","v":""},{"$f":"IF(A263=\"\",\"\",IF(AB263=\"A\",\"-\",Daten!F$10))","v":""},{"$f":"IFERROR(IF(A263=\"\",\"\",VLOOKUP(N263,Daten!N$1:O$7,2,FALSE)),\"\")","v":""}]
[null,null,null,{"$f":"IF(A264=\"\",\"\",IF(Daten!B$3=TRUE,Daten!B$7,\"\"))","v":""},{"$f":"IFERROR(IF(C264=\"\",\"\",C264+(2*D264)+IF(O264=Daten!M$13,6,0)+IF(S264=Daten!M$13,6,0)+IF(Q264=\"-\",0,Q264)+IF(U264=\"-\",0,U264)),\"\")","v":""},{"$f":"IF(OR(A264=\"\",AND(F$1=0,Daten!F$3=FALSE)),\"\",Daten!B$6)","v":""},{"$f":"IF(A264=\"\",\"\",IF(Daten!B$5=\"??\",\"\",Daten!B$5))","v":""},{"$f":"IF(A264=\"\",\"\",IF(Daten!B$3=FALSE,\"\",Daten!B$4))","v":""},{"$f":"IFERROR(IF(A264=\"\",\"\",G264+H264+IF(AND(G264>0,H264>0),5,0))-IF(Daten!H$21=TRUE,H264,0),\"\")","v":""},{"$f":"IFERROR(IF(A264=\"\",\"\",I264+IF(Daten!H$21=TRUE,H264,0)+IF(F264=\"\",0,F264)-IF(Daten!F$3=TRUE,Daten!F$10,0)),\"\")","v":""},{"$f":"IF(A264=\"\",\"\",Daten!D$14)","v":""},{"$f":"IF(A264=\"\",\"\",Daten!D$12)","v":""},{"$f":"IF(A264=\"\",\"\",Daten!D$13)","v":""},{"$f":"IF(A264=\"\",\"\",Daten!M$2)","v":""},{"$f":"IF(A264=\"\",\"\",IF(Daten!D$6=Daten!N$11,Daten!M$11,IF(Daten!D$6=Daten!N$13,Daten!M$13,IF(AND(Daten!$D$6=Daten!$M$10,Daten!$D$8=TRUE),Daten!$M$14,Daten!D$6))))","v":""},{"$f":"IF($A264=\"\",\"\",IF(OR(O264=\"Putzbord\",O264=\"Flexila PU\"),Daten!$D$15,IF(OR(O264=\"Stehbord\",O264=\"Stehbord HB\",O264=\"Flexila STB\",O264=\"Jalousiebord\"),Daten!$D$19,\"-\")))","v":""},{"$f":"IF($A264=\"\",\"\",IF(O264=\"Putzbord\",Daten!$D$16,IF(O264=\"Flexila PU\",_xlfn.NUMBERVALUE(MID(Daten!$D$17,1,2)),\"-\")))","v":""},{"$f":"IF($A264=\"\",\"\",IF(OR(O264=\"Putzbord\",O264=\"Flexila PU\"),Daten!$D$18,IF(OR(O264=\"Stehbord\",O264=\"Stehbord HB\",O264=\"Flexila STB\",O264=\"Jalousiebord\"),Daten!$D$21,\"-\")))","v":""},{"$f":"IF(A264=\"\",\"\",IF(Daten!D$6=Daten!N$11,Daten!M$11,IF(Daten!D$6=Daten!N$13,Daten!M$13,IF(AND(Daten!$D$6=Daten!$M$10,Daten!$D$8=TRUE),Daten!$M$14,Daten!D$6))))","v":""},{"$f":"IF($A264=\"\",\"\",IF(OR(S264=\"Putzbord\",S264=\"Flexila PU\"),Daten!$D$15,IF(OR(S264=\"Stehbord\",S264=\"Stehbord HB\",S264=\"Flexila STB\",S264=\"Jalousiebord\"),Daten!$D$19,\"-\")))","v":""},{"$f":"IF($A264=\"\",\"\",IF(S264=\"Putzbord\",Daten!$D$16,IF(S264=\"Flexila PU\",_xlfn.NUMBERVALUE(MID(Daten!$D$17,1,2)),\"-\")))","v":""},{"$f":"IF($A264=\"\",\"\",IF(OR(S264=\"Putzbord\",S264=\"Flexila PU\"),Daten!$D$18,IF(OR(S264=\"Stehbord\",S264=\"Stehbord HB\",S264=\"Flexila STB\",S264=\"Jalousiebord\"),Daten!$D$21,\"-\")))","v":""},{"$f":"IF(A264=\"\",\"\",IF(AND(Daten!D$6=\"Jalousiebord\",OR(O264=\"Stehbord\",S264=\"Stehbord\")),\"Jalousienklinkung\",\"\"))","v":""},{"$f":"IF(W264=\"\",\"\",Daten!D$20)","v":""},null,null,{"$f":"IF(A264=\"\",\"\",IF(Daten!F$1=\"A\",\"Ohne\",IF(OR(N264=\"Gerstenkorn roh\",N264=\"Riffelblech roh\"),\"XPS\",Daten!F$2)))","v":""},{"$f":"IF(A264=\"\",\"\",IF(AA264=\"Ohne\",\"A\",IF(AA264=\"XPS\",IF(Daten!F$1=\"D\",\"B\",Daten!F$1),Daten!F$1)))","v":""},{"$f":"IF(A264=\"\",\"\",IF(AB264=\"A\",\"-\",Daten!F$7))","v":""},{"$f":"IF(A264=\"\",\"\",IF(AB264=\"A\",\"-\",IF(AND(Daten!F$8=0,O264=\"Putzbord\"),5-Q264,0)))","v":""},{"$f":"IF(A264=\"\",\"\",IF(AB264=\"A\",\"-\",IF(AND(Daten!F$8=0,S264=\"Putzbord\"),5-U264,0)))","v":""},{"$f":"IF(A264=\"\",\"\",IF(AB264=\"A\",\"-\",Daten!F$10))","v":""},{"$f":"IFERROR(IF(A264=\"\",\"\",VLOOKUP(N264,Daten!N$1:O$7,2,FALSE)),\"\")","v":""}]
[null,null,null,{"$f":"IF(A265=\"\",\"\",IF(Daten!B$3=TRUE,Daten!B$7,\"\"))","v":""},{"$f":"IFERROR(IF(C265=\"\",\"\",C265+(2*D265)+IF(O265=Daten!M$13,6,0)+IF(S265=Daten!M$13,6,0)+IF(Q265=\"-\",0,Q265)+IF(U265=\"-\",0,U265)),\"\")","v":""},{"$f":"IF(OR(A265=\"\",AND(F$1=0,Daten!F$3=FALSE)),\"\",Daten!B$6)","v":""},{"$f":"IF(A265=\"\",\"\",IF(Daten!B$5=\"??\",\"\",Daten!B$5))","v":""},{"$f":"IF(A265=\"\",\"\",IF(Daten!B$3=FALSE,\"\",Daten!B$4))","v":""},{"$f":"IFERROR(IF(A265=\"\",\"\",G265+H265+IF(AND(G265>0,H265>0),5,0))-IF(Daten!H$21=TRUE,H265,0),\"\")","v":""},{"$f":"IFERROR(IF(A265=\"\",\"\",I265+IF(Daten!H$21=TRUE,H265,0)+IF(F265=\"\",0,F265)-IF(Daten!F$3=TRUE,Daten!F$10,0)),\"\")","v":""},{"$f":"IF(A265=\"\",\"\",Daten!D$14)","v":""},{"$f":"IF(A265=\"\",\"\",Daten!D$12)","v":""},{"$f":"IF(A265=\"\",\"\",Daten!D$13)","v":""},{"$f":"IF(A265=\"\",\"\",Daten!M$2)","v":""},{"$f":"IF(A265=\"\",\"\",IF(Daten!D$6=Daten!N$11,Daten!M$11,IF(Daten!D$6=Daten!N$13,Daten!M$13,IF(AND(Daten!$D$6=Daten!$M$10,Daten!$D$8=TRUE),Daten!$M$14,Daten!D$6))))","v":""},{"$f":"IF($A265=\"\",\"\",IF(OR(O265=\"Putzbord\",O265=\"Flexila PU\"),Daten!$D$15,IF(OR(O265=\"Stehbord\",O265=\"Stehbord HB\",O265=\"Flexila STB\",O265=\"Jalousiebord\"),Daten!$D$19,\"-\")))","v":""},{"$f":"IF($A265=\"\",\"\",IF(O265=\"Putzbord\",Daten!$D$16,IF(O265=\"Flexila PU\",_xlfn.NUMBERVALUE(MID(Daten!$D$17,1,2)),\"-\")))","v":""},{"$f":"IF($A265=\"\",\"\",IF(OR(O265=\"Putzbord\",O265=\"Flexila PU\"),Daten!$D$18,IF(OR(O265=\"Stehbord\",O265=\"Stehbord HB\",O265=\"Flexila STB\",O265=\"Jalousiebord\"),Daten!$D$21,\"-\")))","v":""},{"$f":"IF(A265=\"\",\"\",IF(Daten!D$6=Daten!N$11,Daten!M$11,IF(Daten!D$6=Daten!N$13,Daten!M$13,IF(AND(Daten!$D$6=Daten!$M$10,Daten!$D$8=TRUE),Daten!$M$14,Daten!D$6))))","v":""},{"$f":"IF($A265=\"\",\"\",IF(OR(S265=\"Putzbord\",S265=\"Flexila PU\"),Daten!$D$15,IF(OR(S265=\"Stehbord\",S265=\"Stehbord HB\",S265=\"Flexila STB\",S265=\"Jalousiebord\"),Daten!$D$19,\"-\")))","v":""},{"$f":"IF($A265=\"\",\"\",IF(S265=\"Putzbord\",Daten!$D$16,IF(S265=\"Flexila PU\",_xlfn.NUMBERVALUE(MID(Daten!$D$17,1,2)),\"-\")))","v":""},{"$f":"IF($A265=\"\",\"\",IF(OR(S265=\"Putzbord\",S265=\"Flexila PU\"),Daten!$D$18,IF(OR(S265=\"Stehbord\",S265=\"Stehbord HB\",S265=\"Flexila STB\",S265=\"Jalousiebord\"),Daten!$D$21,\"-\")))","v":""},{"$f":"IF(A265=\"\",\"\",IF(AND(Daten!D$6=\"Jalousiebord\",OR(O265=\"Stehbord\",S265=\"Stehbord\")),\"Jalousienklinkung\",\"\"))","v":""},{"$f":"IF(W265=\"\",\"\",Daten!D$20)","v":""},null,null,{"$f":"IF(A265=\"\",\"\",IF(Daten!F$1=\"A\",\"Ohne\",IF(OR(N265=\"Gerstenkorn roh\",N265=\"Riffelblech roh\"),\"XPS\",Daten!F$2)))","v":""},{"$f":"IF(A265=\"\",\"\",IF(AA265=\"Ohne\",\"A\",IF(AA265=\"XPS\",IF(Daten!F$1=\"D\",\"B\",Daten!F$1),Daten!F$1)))","v":""},{"$f":"IF(A265=\"\",\"\",IF(AB265=\"A\",\"-\",Daten!F$7))","v":""},{"$f":"IF(A265=\"\",\"\",IF(AB265=\"A\",\"-\",IF(AND(Daten!F$8=0,O265=\"Putzbord\"),5-Q265,0)))","v":""},{"$f":"IF(A265=\"\",\"\",IF(AB265=\"A\",\"-\",IF(AND(Daten!F$8=0,S265=\"Putzbord\"),5-U265,0)))","v":""},{"$f":"IF(A265=\"\",\"\",IF(AB265=\"A\",\"-\",Daten!F$10))","v":""},{"$f":"IFERROR(IF(A265=\"\",\"\",VLOOKUP(N265,Daten!N$1:O$7,2,FALSE)),\"\")","v":""}]
[null,null,null,{"$f":"IF(A266=\"\",\"\",IF(Daten!B$3=TRUE,Daten!B$7,\"\"))","v":""},{"$f":"IFERROR(IF(C266=\"\",\"\",C266+(2*D266)+IF(O266=Daten!M$13,6,0)+IF(S266=Daten!M$13,6,0)+IF(Q266=\"-\",0,Q266)+IF(U266=\"-\",0,U266)),\"\")","v":""},{"$f":"IF(OR(A266=\"\",AND(F$1=0,Daten!F$3=FALSE)),\"\",Daten!B$6)","v":""},{"$f":"IF(A266=\"\",\"\",IF(Daten!B$5=\"??\",\"\",Daten!B$5))","v":""},{"$f":"IF(A266=\"\",\"\",IF(Daten!B$3=FALSE,\"\",Daten!B$4))","v":""},{"$f":"IFERROR(IF(A266=\"\",\"\",G266+H266+IF(AND(G266>0,H266>0),5,0))-IF(Daten!H$21=TRUE,H266,0),\"\")","v":""},{"$f":"IFERROR(IF(A266=\"\",\"\",I266+IF(Daten!H$21=TRUE,H266,0)+IF(F266=\"\",0,F266)-IF(Daten!F$3=TRUE,Daten!F$10,0)),\"\")","v":""},{"$f":"IF(A266=\"\",\"\",Daten!D$14)","v":""},{"$f":"IF(A266=\"\",\"\",Daten!D$12)","v":""},{"$f":"IF(A266=\"\",\"\",Daten!D$13)","v":""},{"$f":"IF(A266=\"\",\"\",Daten!M$2)","v":""},{"$f":"IF(A266=\"\",\"\",IF(Daten!D$6=Daten!N$11,Daten!M$11,IF(Daten!D$6=Daten!N$13,Daten!M$13,IF(AND(Daten!$D$6=Daten!$M$10,Daten!$D$8=TRUE),Daten!$M$14,Daten!D$6))))","v":""},{"$f":"IF($A266=\"\",\"\",IF(OR(O266=\"Putzbord\",O266=\"Flexila PU\"),Daten!$D$15,IF(OR(O266=\"Stehbord\",O266=\"Stehbord HB\",O266=\"Flexila STB\",O266=\"Jalousiebord\"),Daten!$D$19,\"-\")))","v":""},{"$f":"IF($A266=\"\",\"\",IF(O266=\"Putzbord\",Daten!$D$16,IF(O266=\"Flexila PU\",_xlfn.NUMBERVALUE(MID(Daten!$D$17,1,2)),\"-\")))","v":""},{"$f":"IF($A266=\"\",\"\",IF(OR(O266=\"Putzbord\",O266=\"Flexila PU\"),Daten!$D$18,IF(OR(O266=\"Stehbord\",O266=\"Stehbord HB\",O266=\"Flexila STB\",O266=\"Jalousiebord\"),Daten!$D$21,\"-\")))","v":""},{"$f":"IF(A266=\"\",\"\",IF(Daten!D$6=Daten!N$11,Daten!M$11,IF(Daten!D$6=Daten!N$13,Daten!M$13,IF(AND(Daten!$D$6=Daten!$M$10,Daten!$D$8=TRUE),Daten!$M$14,Daten!D$6))))","v":""},{"$f":"IF($A266=\"\",\"\",IF(OR(S266=\"Putzbord\",S266=\"Flexila PU\"),Daten!$D$15,IF(OR(S266=\"Stehbord\",S266=\"Stehbord HB\",S266=\"Flexila STB\",S266=\"Jalousiebord\"),Daten!$D$19,\"-\")))","v":""},{"$f":"IF($A266=\"\",\"\",IF(S266=\"Putzbord\",Daten!$D$16,IF(S266=\"Flexila PU\",_xlfn.NUMBERVALUE(MID(Daten!$D$17,1,2)),\"-\")))","v":""},{"$f":"IF($A266=\"\",\"\",IF(OR(S266=\"Putzbord\",S266=\"Flexila PU\"),Daten!$D$18,IF(OR(S266=\"Stehbord\",S266=\"Stehbord HB\",S266=\"Flexila STB\",S266=\"Jalousiebord\"),Daten!$D$21,\"-\")))","v":""},{"$f":"IF(A266=\"\",\"\",IF(AND(Daten!D$6=\"Jalousiebord\",OR(O266=\"Stehbord\",S266=\"Stehbord\")),\"Jalousienklinkung\",\"\"))","v":""},{"$f":"IF(W266=\"\",\"\",Daten!D$20)","v":""},null,null,{"$f":"IF(A266=\"\",\"\",IF(Daten!F$1=\"A\",\"Ohne\",IF(OR(N266=\"Gerstenkorn roh\",N266=\"Riffelblech roh\"),\"XPS\",Daten!F$2)))","v":""},{"$f":"IF(A266=\"\",\"\",IF(AA266=\"Ohne\",\"A\",IF(AA266=\"XPS\",IF(Daten!F$1=\"D\",\"B\",Daten!F$1),Daten!F$1)))","v":""},{"$f":"IF(A266=\"\",\"\",IF(AB266=\"A\",\"-\",Daten!F$7))","v":""},{"$f":"IF(A266=\"\",\"\",IF(AB266=\"A\",\"-\",IF(AND(Daten!F$8=0,O266=\"Putzbord\"),5-Q266,0)))","v":""},{"$f":"IF(A266=\"\",\"\",IF(AB266=\"A\",\"-\",IF(AND(Daten!F$8=0,S266=\"Putzbord\"),5-U266,0)))","v":""},{"$f":"IF(A266=\"\",\"\",IF(AB266=\"A\",\"-\",Daten!F$10))","v":""},{"$f":"IFERROR(IF(A266=\"\",\"\",VLOOKUP(N266,Daten!N$1:O$7,2,FALSE)),\"\")","v":""}]
[null,null,null,{"$f":"IF(A267=\"\",\"\",IF(Daten!B$3=TRUE,Daten!B$7,\"\"))","v":""},{"$f":"IFERROR(IF(C267=\"\",\"\",C267+(2*D267)+IF(O267=Daten!M$13,6,0)+IF(S267=Daten!M$13,6,0)+IF(Q267=\"-\",0,Q267)+IF(U267=\"-\",0,U267)),\"\")","v":""},{"$f":"IF(OR(A267=\"\",AND(F$1=0,Daten!F$3=FALSE)),\"\",Daten!B$6)","v":""},{"$f":"IF(A267=\"\",\"\",IF(Daten!B$5=\"??\",\"\",Daten!B$5))","v":""},{"$f":"IF(A267=\"\",\"\",IF(Daten!B$3=FALSE,\"\",Daten!B$4))","v":""},{"$f":"IFERROR(IF(A267=\"\",\"\",G267+H267+IF(AND(G267>0,H267>0),5,0))-IF(Daten!H$21=TRUE,H267,0),\"\")","v":""},{"$f":"IFERROR(IF(A267=\"\",\"\",I267+IF(Daten!H$21=TRUE,H267,0)+IF(F267=\"\",0,F267)-IF(Daten!F$3=TRUE,Daten!F$10,0)),\"\")","v":""},{"$f":"IF(A267=\"\",\"\",Daten!D$14)","v":""},{"$f":"IF(A267=\"\",\"\",Daten!D$12)","v":""},{"$f":"IF(A267=\"\",\"\",Daten!D$13)","v":""},{"$f":"IF(A267=\"\",\"\",Daten!M$2)","v":""},{"$f":"IF(A267=\"\",\"\",IF(Daten!D$6=Daten!N$11,Daten!M$11,IF(Daten!D$6=Daten!N$13,Daten!M$13,IF(AND(Daten!$D$6=Daten!$M$10,Daten!$D$8=TRUE),Daten!$M$14,Daten!D$6))))","v":""},{"$f":"IF($A267=\"\",\"\",IF(OR(O267=\"Putzbord\",O267=\"Flexila PU\"),Daten!$D$15,IF(OR(O267=\"Stehbord\",O267=\"Stehbord HB\",O267=\"Flexila STB\",O267=\"Jalousiebord\"),Daten!$D$19,\"-\")))","v":""},{"$f":"IF($A267=\"\",\"\",IF(O267=\"Putzbord\",Daten!$D$16,IF(O267=\"Flexila PU\",_xlfn.NUMBERVALUE(MID(Daten!$D$17,1,2)),\"-\")))","v":""},{"$f":"IF($A267=\"\",\"\",IF(OR(O267=\"Putzbord\",O267=\"Flexila PU\"),Daten!$D$18,IF(OR(O267=\"Stehbord\",O267=\"Stehbord HB\",O267=\"Flexila STB\",O267=\"Jalousiebord\"),Daten!$D$21,\"-\")))","v":""},{"$f":"IF(A267=\"\",\"\",IF(Daten!D$6=Daten!N$11,Daten!M$11,IF(Daten!D$6=Daten!N$13,Daten!M$13,IF(AND(Daten!$D$6=Daten!$M$10,Daten!$D$8=TRUE),Daten!$M$14,Daten!D$6))))","v":""},{"$f":"IF($A267=\"\",\"\",IF(OR(S267=\"Putzbord\",S267=\"Flexila PU\"),Daten!$D$15,IF(OR(S267=\"Stehbord\",S267=\"Stehbord HB\",S267=\"Flexila STB\",S267=\"Jalousiebord\"),Daten!$D$19,\"-\")))","v":""},{"$f":"IF($A267=\"\",\"\",IF(S267=\"Putzbord\",Daten!$D$16,IF(S267=\"Flexila PU\",_xlfn.NUMBERVALUE(MID(Daten!$D$17,1,2)),\"-\")))","v":""},{"$f":"IF($A267=\"\",\"\",IF(OR(S267=\"Putzbord\",S267=\"Flexila PU\"),Daten!$D$18,IF(OR(S267=\"Stehbord\",S267=\"Stehbord HB\",S267=\"Flexila STB\",S267=\"Jalousiebord\"),Daten!$D$21,\"-\")))","v":""},{"$f":"IF(A267=\"\",\"\",IF(AND(Daten!D$6=\"Jalousiebord\",OR(O267=\"Stehbord\",S267=\"Stehbord\")),\"Jalousienklinkung\",\"\"))","v":""},{"$f":"IF(W267=\"\",\"\",Daten!D$20)","v":""},null,null,{"$f":"IF(A267=\"\",\"\",IF(Daten!F$1=\"A\",\"Ohne\",IF(OR(N267=\"Gerstenkorn roh\",N267=\"Riffelblech roh\"),\"XPS\",Daten!F$2)))","v":""},{"$f":"IF(A267=\"\",\"\",IF(AA267=\"Ohne\",\"A\",IF(AA267=\"XPS\",IF(Daten!F$1=\"D\",\"B\",Daten!F$1),Daten!F$1)))","v":""},{"$f":"IF(A267=\"\",\"\",IF(AB267=\"A\",\"-\",Daten!F$7))","v":""},{"$f":"IF(A267=\"\",\"\",IF(AB267=\"A\",\"-\",IF(AND(Daten!F$8=0,O267=\"Putzbord\"),5-Q267,0)))","v":""},{"$f":"IF(A267=\"\",\"\",IF(AB267=\"A\",\"-\",IF(AND(Daten!F$8=0,S267=\"Putzbord\"),5-U267,0)))","v":""},{"$f":"IF(A267=\"\",\"\",IF(AB267=\"A\",\"-\",Daten!F$10))","v":""},{"$f":"IFERROR(IF(A267=\"\",\"\",VLOOKUP(N267,Daten!N$1:O$7,2,FALSE)),\"\")","v":""}]
[null,null,null,{"$f":"IF(A268=\"\",\"\",IF(Daten!B$3=TRUE,Daten!B$7,\"\"))","v":""},{"$f":"IFERROR(IF(C268=\"\",\"\",C268+(2*D268)+IF(O268=Daten!M$13,6,0)+IF(S268=Daten!M$13,6,0)+IF(Q268=\"-\",0,Q268)+IF(U268=\"-\",0,U268)),\"\")","v":""},{"$f":"IF(OR(A268=\"\",AND(F$1=0,Daten!F$3=FALSE)),\"\",Daten!B$6)","v":""},{"$f":"IF(A268=\"\",\"\",IF(Daten!B$5=\"??\",\"\",Daten!B$5))","v":""},{"$f":"IF(A268=\"\",\"\",IF(Daten!B$3=FALSE,\"\",Daten!B$4))","v":""},{"$f":"IFERROR(IF(A268=\"\",\"\",G268+H268+IF(AND(G268>0,H268>0),5,0))-IF(Daten!H$21=TRUE,H268,0),\"\")","v":""},{"$f":"IFERROR(IF(A268=\"\",\"\",I268+IF(Daten!H$21=TRUE,H268,0)+IF(F268=\"\",0,F268)-IF(Daten!F$3=TRUE,Daten!F$10,0)),\"\")","v":""},{"$f":"IF(A268=\"\",\"\",Daten!D$14)","v":""},{"$f":"IF(A268=\"\",\"\",Daten!D$12)","v":""},{"$f":"IF(A268=\"\",\"\",Daten!D$13)","v":""},{"$f":"IF(A268=\"\",\"\",Daten!M$2)","v":""},{"$f":"IF(A268=\"\",\"\",IF(Daten!D$6=Daten!N$11,Daten!M$11,IF(Daten!D$6=Daten!N$13,Daten!M$13,IF(AND(Daten!$D$6=Daten!$M$10,Daten!$D$8=TRUE),Daten!$M$14,Daten!D$6))))","v":""},{"$f":"IF($A268=\"\",\"\",IF(OR(O268=\"Putzbord\",O268=\"Flexila PU\"),Daten!$D$15,IF(OR(O268=\"Stehbord\",O268=\"Stehbord HB\",O268=\"Flexila STB\",O268=\"Jalousiebord\"),Daten!$D$19,\"-\")))","v":""},{"$f":"IF($A268=\"\",\"\",IF(O268=\"Putzbord\",Daten!$D$16,IF(O268=\"Flexila PU\",_xlfn.NUMBERVALUE(MID(Daten!$D$17,1,2)),\"-\")))","v":""},{"$f":"IF($A268=\"\",\"\",IF(OR(O268=\"Putzbord\",O268=\"Flexila PU\"),Daten!$D$18,IF(OR(O268=\"Stehbord\",O268=\"Stehbord HB\",O268=\"Flexila STB\",O268=\"Jalousiebord\"),Daten!$D$21,\"-\")))","v":""},{"$f":"IF(A268=\"\",\"\",IF(Daten!D$6=Daten!N$11,Daten!M$11,IF(Daten!D$6=Daten!N$13,Daten!M$13,IF(AND(Daten!$D$6=Daten!$M$10,Daten!$D$8=TRUE),Daten!$M$14,Daten!D$6))))","v":""},{"$f":"IF($A268=\"\",\"\",IF(OR(S268=\"Putzbord\",S268=\"Flexila PU\"),Daten!$D$15,IF(OR(S268=\"Stehbord\",S268=\"Stehbord HB\",S268=\"Flexila STB\",S268=\"Jalousiebord\"),Daten!$D$19,\"-\")))","v":""},{"$f":"IF($A268=\"\",\"\",IF(S268=\"Putzbord\",Daten!$D$16,IF(S268=\"Flexila PU\",_xlfn.NUMBERVALUE(MID(Daten!$D$17,1,2)),\"-\")))","v":""},{"$f":"IF($A268=\"\",\"\",IF(OR(S268=\"Putzbord\",S268=\"Flexila PU\"),Daten!$D$18,IF(OR(S268=\"Stehbord\",S268=\"Stehbord HB\",S268=\"Flexila STB\",S268=\"Jalousiebord\"),Daten!$D$21,\"-\")))","v":""},{"$f":"IF(A268=\"\",\"\",IF(AND(Daten!D$6=\"Jalousiebord\",OR(O268=\"Stehbord\",S268=\"Stehbord\")),\"Jalousienklinkung\",\"\"))","v":""},{"$f":"IF(W268=\"\",\"\",Daten!D$20)","v":""},null,null,{"$f":"IF(A268=\"\",\"\",IF(Daten!F$1=\"A\",\"Ohne\",IF(OR(N268=\"Gerstenkorn roh\",N268=\"Riffelblech roh\"),\"XPS\",Daten!F$2)))","v":""},{"$f":"IF(A268=\"\",\"\",IF(AA268=\"Ohne\",\"A\",IF(AA268=\"XPS\",IF(Daten!F$1=\"D\",\"B\",Daten!F$1),Daten!F$1)))","v":""},{"$f":"IF(A268=\"\",\"\",IF(AB268=\"A\",\"-\",Daten!F$7))","v":""},{"$f":"IF(A268=\"\",\"\",IF(AB268=\"A\",\"-\",IF(AND(Daten!F$8=0,O268=\"Putzbord\"),5-Q268,0)))","v":""},{"$f":"IF(A268=\"\",\"\",IF(AB268=\"A\",\"-\",IF(AND(Daten!F$8=0,S268=\"Putzbord\"),5-U268,0)))","v":""},{"$f":"IF(A268=\"\",\"\",IF(AB268=\"A\",\"-\",Daten!F$10))","v":""},{"$f":"IFERROR(IF(A268=\"\",\"\",VLOOKUP(N268,Daten!N$1:O$7,2,FALSE)),\"\")","v":""}]
[null,null,null,{"$f":"IF(A269=\"\",\"\",IF(Daten!B$3=TRUE,Daten!B$7,\"\"))","v":""},{"$f":"IFERROR(IF(C269=\"\",\"\",C269+(2*D269)+IF(O269=Daten!M$13,6,0)+IF(S269=Daten!M$13,6,0)+IF(Q269=\"-\",0,Q269)+IF(U269=\"-\",0,U269)),\"\")","v":""},{"$f":"IF(OR(A269=\"\",AND(F$1=0,Daten!F$3=FALSE)),\"\",Daten!B$6)","v":""},{"$f":"IF(A269=\"\",\"\",IF(Daten!B$5=\"??\",\"\",Daten!B$5))","v":""},{"$f":"IF(A269=\"\",\"\",IF(Daten!B$3=FALSE,\"\",Daten!B$4))","v":""},{"$f":"IFERROR(IF(A269=\"\",\"\",G269+H269+IF(AND(G269>0,H269>0),5,0))-IF(Daten!H$21=TRUE,H269,0),\"\")","v":""},{"$f":"IFERROR(IF(A269=\"\",\"\",I269+IF(Daten!H$21=TRUE,H269,0)+IF(F269=\"\",0,F269)-IF(Daten!F$3=TRUE,Daten!F$10,0)),\"\")","v":""},{"$f":"IF(A269=\"\",\"\",Daten!D$14)","v":""},{"$f":"IF(A269=\"\",\"\",Daten!D$12)","v":""},{"$f":"IF(A269=\"\",\"\",Daten!D$13)","v":""},{"$f":"IF(A269=\"\",\"\",Daten!M$2)","v":""},{"$f":"IF(A269=\"\",\"\",IF(Daten!D$6=Daten!N$11,Daten!M$11,IF(Daten!D$6=Daten!N$13,Daten!M$13,IF(AND(Daten!$D$6=Daten!$M$10,Daten!$D$8=TRUE),Daten!$M$14,Daten!D$6))))","v":""},{"$f":"IF($A269=\"\",\"\",IF(OR(O269=\"Putzbord\",O269=\"Flexila PU\"),Daten!$D$15,IF(OR(O269=\"Stehbord\",O269=\"Stehbord HB\",O269=\"Flexila STB\",O269=\"Jalousiebord\"),Daten!$D$19,\"-\")))","v":""},{"$f":"IF($A269=\"\",\"\",IF(O269=\"Putzbord\",Daten!$D$16,IF(O269=\"Flexila PU\",_xlfn.NUMBERVALUE(MID(Daten!$D$17,1,2)),\"-\")))","v":""},{"$f":"IF($A269=\"\",\"\",IF(OR(O269=\"Putzbord\",O269=\"Flexila PU\"),Daten!$D$18,IF(OR(O269=\"Stehbord\",O269=\"Stehbord HB\",O269=\"Flexila STB\",O269=\"Jalousiebord\"),Daten!$D$21,\"-\")))","v":""},{"$f":"IF(A269=\"\",\"\",IF(Daten!D$6=Daten!N$11,Daten!M$11,IF(Daten!D$6=Daten!N$13,Daten!M$13,IF(AND(Daten!$D$6=Daten!$M$10,Daten!$D$8=TRUE),Daten!$M$14,Daten!D$6))))","v":""},{"$f":"IF($A269=\"\",\"\",IF(OR(S269=\"Putzbord\",S269=\"Flexila PU\"),Daten!$D$15,IF(OR(S269=\"Stehbord\",S269=\"Stehbord HB\",S269=\"Flexila STB\",S269=\"Jalousiebord\"),Daten!$D$19,\"-\")))","v":""},{"$f":"IF($A269=\"\",\"\",IF(S269=\"Putzbord\",Daten!$D$16,IF(S269=\"Flexila PU\",_xlfn.NUMBERVALUE(MID(Daten!$D$17,1,2)),\"-\")))","v":""},{"$f":"IF($A269=\"\",\"\",IF(OR(S269=\"Putzbord\",S269=\"Flexila PU\"),Daten!$D$18,IF(OR(S269=\"Stehbord\",S269=\"Stehbord HB\",S269=\"Flexila STB\",S269=\"Jalousiebord\"),Daten!$D$21,\"-\")))","v":""},{"$f":"IF(A269=\"\",\"\",IF(AND(Daten!D$6=\"Jalousiebord\",OR(O269=\"Stehbord\",S269=\"Stehbord\")),\"Jalousienklinkung\",\"\"))","v":""},{"$f":"IF(W269=\"\",\"\",Daten!D$20)","v":""},null,null,{"$f":"IF(A269=\"\",\"\",IF(Daten!F$1=\"A\",\"Ohne\",IF(OR(N269=\"Gerstenkorn roh\",N269=\"Riffelblech roh\"),\"XPS\",Daten!F$2)))","v":""},{"$f":"IF(A269=\"\",\"\",IF(AA269=\"Ohne\",\"A\",IF(AA269=\"XPS\",IF(Daten!F$1=\"D\",\"B\",Daten!F$1),Daten!F$1)))","v":""},{"$f":"IF(A269=\"\",\"\",IF(AB269=\"A\",\"-\",Daten!F$7))","v":""},{"$f":"IF(A269=\"\",\"\",IF(AB269=\"A\",\"-\",IF(AND(Daten!F$8=0,O269=\"Putzbord\"),5-Q269,0)))","v":""},{"$f":"IF(A269=\"\",\"\",IF(AB269=\"A\",\"-\",IF(AND(Daten!F$8=0,S269=\"Putzbord\"),5-U269,0)))","v":""},{"$f":"IF(A269=\"\",\"\",IF(AB269=\"A\",\"-\",Daten!F$10))","v":""},{"$f":"IFERROR(IF(A269=\"\",\"\",VLOOKUP(N269,Daten!N$1:O$7,2,FALSE)),\"\")","v":""}]
[null,null,null,{"$f":"IF(A270=\"\",\"\",IF(Daten!B$3=TRUE,Daten!B$7,\"\"))","v":""},{"$f":"IFERROR(IF(C270=\"\",\"\",C270+(2*D270)+IF(O270=Daten!M$13,6,0)+IF(S270=Daten!M$13,6,0)+IF(Q270=\"-\",0,Q270)+IF(U270=\"-\",0,U270)),\"\")","v":""},{"$f":"IF(OR(A270=\"\",AND(F$1=0,Daten!F$3=FALSE)),\"\",Daten!B$6)","v":""},{"$f":"IF(A270=\"\",\"\",IF(Daten!B$5=\"??\",\"\",Daten!B$5))","v":""},{"$f":"IF(A270=\"\",\"\",IF(Daten!B$3=FALSE,\"\",Daten!B$4))","v":""},{"$f":"IFERROR(IF(A270=\"\",\"\",G270+H270+IF(AND(G270>0,H270>0),5,0))-IF(Daten!H$21=TRUE,H270,0),\"\")","v":""},{"$f":"IFERROR(IF(A270=\"\",\"\",I270+IF(Daten!H$21=TRUE,H270,0)+IF(F270=\"\",0,F270)-IF(Daten!F$3=TRUE,Daten!F$10,0)),\"\")","v":""},{"$f":"IF(A270=\"\",\"\",Daten!D$14)","v":""},{"$f":"IF(A270=\"\",\"\",Daten!D$12)","v":""},{"$f":"IF(A270=\"\",\"\",Daten!D$13)","v":""},{"$f":"IF(A270=\"\",\"\",Daten!M$2)","v":""},{"$f":"IF(A270=\"\",\"\",IF(Daten!D$6=Daten!N$11,Daten!M$11,IF(Daten!D$6=Daten!N$13,Daten!M$13,IF(AND(Daten!$D$6=Daten!$M$10,Daten!$D$8=TRUE),Daten!$M$14,Daten!D$6))))","v":""},{"$f":"IF($A270=\"\",\"\",IF(OR(O270=\"Putzbord\",O270=\"Flexila PU\"),Daten!$D$15,IF(OR(O270=\"Stehbord\",O270=\"Stehbord HB\",O270=\"Flexila STB\",O270=\"Jalousiebord\"),Daten!$D$19,\"-\")))","v":""},{"$f":"IF($A270=\"\",\"\",IF(O270=\"Putzbord\",Daten!$D$16,IF(O270=\"Flexila PU\",_xlfn.NUMBERVALUE(MID(Daten!$D$17,1,2)),\"-\")))","v":""},{"$f":"IF($A270=\"\",\"\",IF(OR(O270=\"Putzbord\",O270=\"Flexila PU\"),Daten!$D$18,IF(OR(O270=\"Stehbord\",O270=\"Stehbord HB\",O270=\"Flexila STB\",O270=\"Jalousiebord\"),Daten!$D$21,\"-\")))","v":""},{"$f":"IF(A270=\"\",\"\",IF(Daten!D$6=Daten!N$11,Daten!M$11,IF(Daten!D$6=Daten!N$13,Daten!M$13,IF(AND(Daten!$D$6=Daten!$M$10,Daten!$D$8=TRUE),Daten!$M$14,Daten!D$6))))","v":""},{"$f":"IF($A270=\"\",\"\",IF(OR(S270=\"Putzbord\",S270=\"Flexila PU\"),Daten!$D$15,IF(OR(S270=\"Stehbord\",S270=\"Stehbord HB\",S270=\"Flexila STB\",S270=\"Jalousiebord\"),Daten!$D$19,\"-\")))","v":""},{"$f":"IF($A270=\"\",\"\",IF(S270=\"Putzbord\",Daten!$D$16,IF(S270=\"Flexila PU\",_xlfn.NUMBERVALUE(MID(Daten!$D$17,1,2)),\"-\")))","v":""},{"$f":"IF($A270=\"\",\"\",IF(OR(S270=\"Putzbord\",S270=\"Flexila PU\"),Daten!$D$18,IF(OR(S270=\"Stehbord\",S270=\"Stehbord HB\",S270=\"Flexila STB\",S270=\"Jalousiebord\"),Daten!$D$21,\"-\")))","v":""},{"$f":"IF(A270=\"\",\"\",IF(AND(Daten!D$6=\"Jalousiebord\",OR(O270=\"Stehbord\",S270=\"Stehbord\")),\"Jalousienklinkung\",\"\"))","v":""},{"$f":"IF(W270=\"\",\"\",Daten!D$20)","v":""},null,null,{"$f":"IF(A270=\"\",\"\",IF(Daten!F$1=\"A\",\"Ohne\",IF(OR(N270=\"Gerstenkorn roh\",N270=\"Riffelblech roh\"),\"XPS\",Daten!F$2)))","v":""},{"$f":"IF(A270=\"\",\"\",IF(AA270=\"Ohne\",\"A\",IF(AA270=\"XPS\",IF(Daten!F$1=\"D\",\"B\",Daten!F$1),Daten!F$1)))","v":""},{"$f":"IF(A270=\"\",\"\",IF(AB270=\"A\",\"-\",Daten!F$7))","v":""},{"$f":"IF(A270=\"\",\"\",IF(AB270=\"A\",\"-\",IF(AND(Daten!F$8=0,O270=\"Putzbord\"),5-Q270,0)))","v":""},{"$f":"IF(A270=\"\",\"\",IF(AB270=\"A\",\"-\",IF(AND(Daten!F$8=0,S270=\"Putzbord\"),5-U270,0)))","v":""},{"$f":"IF(A270=\"\",\"\",IF(AB270=\"A\",\"-\",Daten!F$10))","v":""},{"$f":"IFERROR(IF(A270=\"\",\"\",VLOOKUP(N270,Daten!N$1:O$7,2,FALSE)),\"\")","v":""}]
[null,null,null,{"$f":"IF(A271=\"\",\"\",IF(Daten!B$3=TRUE,Daten!B$7,\"\"))","v":""},{"$f":"IFERROR(IF(C271=\"\",\"\",C271+(2*D271)+IF(O271=Daten!M$13,6,0)+IF(S271=Daten!M$13,6,0)+IF(Q271=\"-\",0,Q271)+IF(U271=\"-\",0,U271)),\"\")","v":""},{"$f":"IF(OR(A271=\"\",AND(F$1=0,Daten!F$3=FALSE)),\"\",Daten!B$6)","v":""},{"$f":"IF(A271=\"\",\"\",IF(Daten!B$5=\"??\",\"\",Daten!B$5))","v":""},{"$f":"IF(A271=\"\",\"\",IF(Daten!B$3=FALSE,\"\",Daten!B$4))","v":""},{"$f":"IFERROR(IF(A271=\"\",\"\",G271+H271+IF(AND(G271>0,H271>0),5,0))-IF(Daten!H$21=TRUE,H271,0),\"\")","v":""},{"$f":"IFERROR(IF(A271=\"\",\"\",I271+IF(Daten!H$21=TRUE,H271,0)+IF(F271=\"\",0,F271)-IF(Daten!F$3=TRUE,Daten!F$10,0)),\"\")","v":""},{"$f":"IF(A271=\"\",\"\",Daten!D$14)","v":""},{"$f":"IF(A271=\"\",\"\",Daten!D$12)","v":""},{"$f":"IF(A271=\"\",\"\",Daten!D$13)","v":""},{"$f":"IF(A271=\"\",\"\",Daten!M$2)","v":""},{"$f":"IF(A271=\"\",\"\",IF(Daten!D$6=Daten!N$11,Daten!M$11,IF(Daten!D$6=Daten!N$13,Daten!M$13,IF(AND(Daten!$D$6=Daten!$M$10,Daten!$D$8=TRUE),Daten!$M$14,Daten!D$6))))","v":""},{"$f":"IF($A271=\"\",\"\",IF(OR(O271=\"Putzbord\",O271=\"Flexila PU\"),Daten!$D$15,IF(OR(O271=\"Stehbord\",O271=\"Stehbord HB\",O271=\"Flexila STB\",O271=\"Jalousiebord\"),Daten!$D$19,\"-\")))","v":""},{"$f":"IF($A271=\"\",\"\",IF(O271=\"Putzbord\",Daten!$D$16,IF(O271=\"Flexila PU\",_xlfn.NUMBERVALUE(MID(Daten!$D$17,1,2)),\"-\")))","v":""},{"$f":"IF($A271=\"\",\"\",IF(OR(O271=\"Putzbord\",O271=\"Flexila PU\"),Daten!$D$18,IF(OR(O271=\"Stehbord\",O271=\"Stehbord HB\",O271=\"Flexila STB\",O271=\"Jalousiebord\"),Daten!$D$21,\"-\")))","v":""},{"$f":"IF(A271=\"\",\"\",IF(Daten!D$6=Daten!N$11,Daten!M$11,IF(Daten!D$6=Daten!N$13,Daten!M$13,IF(AND(Daten!$D$6=Daten!$M$10,Daten!$D$8=TRUE),Daten!$M$14,Daten!D$6))))","v":""},{"$f":"IF($A271=\"\",\"\",IF(OR(S271=\"Putzbord\",S271=\"Flexila PU\"),Daten!$D$15,IF(OR(S271=\"Stehbord\",S271=\"Stehbord HB\",S271=\"Flexila STB\",S271=\"Jalousiebord\"),Daten!$D$19,\"-\")))","v":""},{"$f":"IF($A271=\"\",\"\",IF(S271=\"Putzbord\",Daten!$D$16,IF(S271=\"Flexila PU\",_xlfn.NUMBERVALUE(MID(Daten!$D$17,1,2)),\"-\")))","v":""},{"$f":"IF($A271=\"\",\"\",IF(OR(S271=\"Putzbord\",S271=\"Flexila PU\"),Daten!$D$18,IF(OR(S271=\"Stehbord\",S271=\"Stehbord HB\",S271=\"Flexila STB\",S271=\"Jalousiebord\"),Daten!$D$21,\"-\")))","v":""},{"$f":"IF(A271=\"\",\"\",IF(AND(Daten!D$6=\"Jalousiebord\",OR(O271=\"Stehbord\",S271=\"Stehbord\")),\"Jalousienklinkung\",\"\"))","v":""},{"$f":"IF(W271=\"\",\"\",Daten!D$20)","v":""},null,null,{"$f":"IF(A271=\"\",\"\",IF(Daten!F$1=\"A\",\"Ohne\",IF(OR(N271=\"Gerstenkorn roh\",N271=\"Riffelblech roh\"),\"XPS\",Daten!F$2)))","v":""},{"$f":"IF(A271=\"\",\"\",IF(AA271=\"Ohne\",\"A\",IF(AA271=\"XPS\",IF(Daten!F$1=\"D\",\"B\",Daten!F$1),Daten!F$1)))","v":""},{"$f":"IF(A271=\"\",\"\",IF(AB271=\"A\",\"-\",Daten!F$7))","v":""},{"$f":"IF(A271=\"\",\"\",IF(AB271=\"A\",\"-\",IF(AND(Daten!F$8=0,O271=\"Putzbord\"),5-Q271,0)))","v":""},{"$f":"IF(A271=\"\",\"\",IF(AB271=\"A\",\"-\",IF(AND(Daten!F$8=0,S271=\"Putzbord\"),5-U271,0)))","v":""},{"$f":"IF(A271=\"\",\"\",IF(AB271=\"A\",\"-\",Daten!F$10))","v":""},{"$f":"IFERROR(IF(A271=\"\",\"\",VLOOKUP(N271,Daten!N$1:O$7,2,FALSE)),\"\")","v":""}]
[null,null,null,{"$f":"IF(A272=\"\",\"\",IF(Daten!B$3=TRUE,Daten!B$7,\"\"))","v":""},{"$f":"IFERROR(IF(C272=\"\",\"\",C272+(2*D272)+IF(O272=Daten!M$13,6,0)+IF(S272=Daten!M$13,6,0)+IF(Q272=\"-\",0,Q272)+IF(U272=\"-\",0,U272)),\"\")","v":""},{"$f":"IF(OR(A272=\"\",AND(F$1=0,Daten!F$3=FALSE)),\"\",Daten!B$6)","v":""},{"$f":"IF(A272=\"\",\"\",IF(Daten!B$5=\"??\",\"\",Daten!B$5))","v":""},{"$f":"IF(A272=\"\",\"\",IF(Daten!B$3=FALSE,\"\",Daten!B$4))","v":""},{"$f":"IFERROR(IF(A272=\"\",\"\",G272+H272+IF(AND(G272>0,H272>0),5,0))-IF(Daten!H$21=TRUE,H272,0),\"\")","v":""},{"$f":"IFERROR(IF(A272=\"\",\"\",I272+IF(Daten!H$21=TRUE,H272,0)+IF(F272=\"\",0,F272)-IF(Daten!F$3=TRUE,Daten!F$10,0)),\"\")","v":""},{"$f":"IF(A272=\"\",\"\",Daten!D$14)","v":""},{"$f":"IF(A272=\"\",\"\",Daten!D$12)","v":""},{"$f":"IF(A272=\"\",\"\",Daten!D$13)","v":""},{"$f":"IF(A272=\"\",\"\",Daten!M$2)","v":""},{"$f":"IF(A272=\"\",\"\",IF(Daten!D$6=Daten!N$11,Daten!M$11,IF(Daten!D$6=Daten!N$13,Daten!M$13,IF(AND(Daten!$D$6=Daten!$M$10,Daten!$D$8=TRUE),Daten!$M$14,Daten!D$6))))","v":""},{"$f":"IF($A272=\"\",\"\",IF(OR(O272=\"Putzbord\",O272=\"Flexila PU\"),Daten!$D$15,IF(OR(O272=\"Stehbord\",O272=\"Stehbord HB\",O272=\"Flexila STB\",O272=\"Jalousiebord\"),Daten!$D$19,\"-\")))","v":""},{"$f":"IF($A272=\"\",\"\",IF(O272=\"Putzbord\",Daten!$D$16,IF(O272=\"Flexila PU\",_xlfn.NUMBERVALUE(MID(Daten!$D$17,1,2)),\"-\")))","v":""},{"$f":"IF($A272=\"\",\"\",IF(OR(O272=\"Putzbord\",O272=\"Flexila PU\"),Daten!$D$18,IF(OR(O272=\"Stehbord\",O272=\"Stehbord HB\",O272=\"Flexila STB\",O272=\"Jalousiebord\"),Daten!$D$21,\"-\")))","v":""},{"$f":"IF(A272=\"\",\"\",IF(Daten!D$6=Daten!N$11,Daten!M$11,IF(Daten!D$6=Daten!N$13,Daten!M$13,IF(AND(Daten!$D$6=Daten!$M$10,Daten!$D$8=TRUE),Daten!$M$14,Daten!D$6))))","v":""},{"$f":"IF($A272=\"\",\"\",IF(OR(S272=\"Putzbord\",S272=\"Flexila PU\"),Daten!$D$15,IF(OR(S272=\"Stehbord\",S272=\"Stehbord HB\",S272=\"Flexila STB\",S272=\"Jalousiebord\"),Daten!$D$19,\"-\")))","v":""},{"$f":"IF($A272=\"\",\"\",IF(S272=\"Putzbord\",Daten!$D$16,IF(S272=\"Flexila PU\",_xlfn.NUMBERVALUE(MID(Daten!$D$17,1,2)),\"-\")))","v":""},{"$f":"IF($A272=\"\",\"\",IF(OR(S272=\"Putzbord\",S272=\"Flexila PU\"),Daten!$D$18,IF(OR(S272=\"Stehbord\",S272=\"Stehbord HB\",S272=\"Flexila STB\",S272=\"Jalousiebord\"),Daten!$D$21,\"-\")))","v":""},{"$f":"IF(A272=\"\",\"\",IF(AND(Daten!D$6=\"Jalousiebord\",OR(O272=\"Stehbord\",S272=\"Stehbord\")),\"Jalousienklinkung\",\"\"))","v":""},{"$f":"IF(W272=\"\",\"\",Daten!D$20)","v":""},null,null,{"$f":"IF(A272=\"\",\"\",IF(Daten!F$1=\"A\",\"Ohne\",IF(OR(N272=\"Gerstenkorn roh\",N272=\"Riffelblech roh\"),\"XPS\",Daten!F$2)))","v":""},{"$f":"IF(A272=\"\",\"\",IF(AA272=\"Ohne\",\"A\",IF(AA272=\"XPS\",IF(Daten!F$1=\"D\",\"B\",Daten!F$1),Daten!F$1)))","v":""},{"$f":"IF(A272=\"\",\"\",IF(AB272=\"A\",\"-\",Daten!F$7))","v":""},{"$f":"IF(A272=\"\",\"\",IF(AB272=\"A\",\"-\",IF(AND(Daten!F$8=0,O272=\"Putzbord\"),5-Q272,0)))","v":""},{"$f":"IF(A272=\"\",\"\",IF(AB272=\"A\",\"-\",IF(AND(Daten!F$8=0,S272=\"Putzbord\"),5-U272,0)))","v":""},{"$f":"IF(A272=\"\",\"\",IF(AB272=\"A\",\"-\",Daten!F$10))","v":""},{"$f":"IFERROR(IF(A272=\"\",\"\",VLOOKUP(N272,Daten!N$1:O$7,2,FALSE)),\"\")","v":""}]
[null,null,null,{"$f":"IF(A273=\"\",\"\",IF(Daten!B$3=TRUE,Daten!B$7,\"\"))","v":""},{"$f":"IFERROR(IF(C273=\"\",\"\",C273+(2*D273)+IF(O273=Daten!M$13,6,0)+IF(S273=Daten!M$13,6,0)+IF(Q273=\"-\",0,Q273)+IF(U273=\"-\",0,U273)),\"\")","v":""},{"$f":"IF(OR(A273=\"\",AND(F$1=0,Daten!F$3=FALSE)),\"\",Daten!B$6)","v":""},{"$f":"IF(A273=\"\",\"\",IF(Daten!B$5=\"??\",\"\",Daten!B$5))","v":""},{"$f":"IF(A273=\"\",\"\",IF(Daten!B$3=FALSE,\"\",Daten!B$4))","v":""},{"$f":"IFERROR(IF(A273=\"\",\"\",G273+H273+IF(AND(G273>0,H273>0),5,0))-IF(Daten!H$21=TRUE,H273,0),\"\")","v":""},{"$f":"IFERROR(IF(A273=\"\",\"\",I273+IF(Daten!H$21=TRUE,H273,0)+IF(F273=\"\",0,F273)-IF(Daten!F$3=TRUE,Daten!F$10,0)),\"\")","v":""},{"$f":"IF(A273=\"\",\"\",Daten!D$14)","v":""},{"$f":"IF(A273=\"\",\"\",Daten!D$12)","v":""},{"$f":"IF(A273=\"\",\"\",Daten!D$13)","v":""},{"$f":"IF(A273=\"\",\"\",Daten!M$2)","v":""},{"$f":"IF(A273=\"\",\"\",IF(Daten!D$6=Daten!N$11,Daten!M$11,IF(Daten!D$6=Daten!N$13,Daten!M$13,IF(AND(Daten!$D$6=Daten!$M$10,Daten!$D$8=TRUE),Daten!$M$14,Daten!D$6))))","v":""},{"$f":"IF($A273=\"\",\"\",IF(OR(O273=\"Putzbord\",O273=\"Flexila PU\"),Daten!$D$15,IF(OR(O273=\"Stehbord\",O273=\"Stehbord HB\",O273=\"Flexila STB\",O273=\"Jalousiebord\"),Daten!$D$19,\"-\")))","v":""},{"$f":"IF($A273=\"\",\"\",IF(O273=\"Putzbord\",Daten!$D$16,IF(O273=\"Flexila PU\",_xlfn.NUMBERVALUE(MID(Daten!$D$17,1,2)),\"-\")))","v":""},{"$f":"IF($A273=\"\",\"\",IF(OR(O273=\"Putzbord\",O273=\"Flexila PU\"),Daten!$D$18,IF(OR(O273=\"Stehbord\",O273=\"Stehbord HB\",O273=\"Flexila STB\",O273=\"Jalousiebord\"),Daten!$D$21,\"-\")))","v":""},{"$f":"IF(A273=\"\",\"\",IF(Daten!D$6=Daten!N$11,Daten!M$11,IF(Daten!D$6=Daten!N$13,Daten!M$13,IF(AND(Daten!$D$6=Daten!$M$10,Daten!$D$8=TRUE),Daten!$M$14,Daten!D$6))))","v":""},{"$f":"IF($A273=\"\",\"\",IF(OR(S273=\"Putzbord\",S273=\"Flexila PU\"),Daten!$D$15,IF(OR(S273=\"Stehbord\",S273=\"Stehbord HB\",S273=\"Flexila STB\",S273=\"Jalousiebord\"),Daten!$D$19,\"-\")))","v":""},{"$f":"IF($A273=\"\",\"\",IF(S273=\"Putzbord\",Daten!$D$16,IF(S273=\"Flexila PU\",_xlfn.NUMBERVALUE(MID(Daten!$D$17,1,2)),\"-\")))","v":""},{"$f":"IF($A273=\"\",\"\",IF(OR(S273=\"Putzbord\",S273=\"Flexila PU\"),Daten!$D$18,IF(OR(S273=\"Stehbord\",S273=\"Stehbord HB\",S273=\"Flexila STB\",S273=\"Jalousiebord\"),Daten!$D$21,\"-\")))","v":""},{"$f":"IF(A273=\"\",\"\",IF(AND(Daten!D$6=\"Jalousiebord\",OR(O273=\"Stehbord\",S273=\"Stehbord\")),\"Jalousienklinkung\",\"\"))","v":""},{"$f":"IF(W273=\"\",\"\",Daten!D$20)","v":""},null,null,{"$f":"IF(A273=\"\",\"\",IF(Daten!F$1=\"A\",\"Ohne\",IF(OR(N273=\"Gerstenkorn roh\",N273=\"Riffelblech roh\"),\"XPS\",Daten!F$2)))","v":""},{"$f":"IF(A273=\"\",\"\",IF(AA273=\"Ohne\",\"A\",IF(AA273=\"XPS\",IF(Daten!F$1=\"D\",\"B\",Daten!F$1),Daten!F$1)))","v":""},{"$f":"IF(A273=\"\",\"\",IF(AB273=\"A\",\"-\",Daten!F$7))","v":""},{"$f":"IF(A273=\"\",\"\",IF(AB273=\"A\",\"-\",IF(AND(Daten!F$8=0,O273=\"Putzbord\"),5-Q273,0)))","v":""},{"$f":"IF(A273=\"\",\"\",IF(AB273=\"A\",\"-\",IF(AND(Daten!F$8=0,S273=\"Putzbord\"),5-U273,0)))","v":""},{"$f":"IF(A273=\"\",\"\",IF(AB273=\"A\",\"-\",Daten!F$10))","v":""},{"$f":"IFERROR(IF(A273=\"\",\"\",VLOOKUP(N273,Daten!N$1:O$7,2,FALSE)),\"\")","v":""}]
[null,null,null,{"$f":"IF(A274=\"\",\"\",IF(Daten!B$3=TRUE,Daten!B$7,\"\"))","v":""},{"$f":"IFERROR(IF(C274=\"\",\"\",C274+(2*D274)+IF(O274=Daten!M$13,6,0)+IF(S274=Daten!M$13,6,0)+IF(Q274=\"-\",0,Q274)+IF(U274=\"-\",0,U274)),\"\")","v":""},{"$f":"IF(OR(A274=\"\",AND(F$1=0,Daten!F$3=FALSE)),\"\",Daten!B$6)","v":""},{"$f":"IF(A274=\"\",\"\",IF(Daten!B$5=\"??\",\"\",Daten!B$5))","v":""},{"$f":"IF(A274=\"\",\"\",IF(Daten!B$3=FALSE,\"\",Daten!B$4))","v":""},{"$f":"IFERROR(IF(A274=\"\",\"\",G274+H274+IF(AND(G274>0,H274>0),5,0))-IF(Daten!H$21=TRUE,H274,0),\"\")","v":""},{"$f":"IFERROR(IF(A274=\"\",\"\",I274+IF(Daten!H$21=TRUE,H274,0)+IF(F274=\"\",0,F274)-IF(Daten!F$3=TRUE,Daten!F$10,0)),\"\")","v":""},{"$f":"IF(A274=\"\",\"\",Daten!D$14)","v":""},{"$f":"IF(A274=\"\",\"\",Daten!D$12)","v":""},{"$f":"IF(A274=\"\",\"\",Daten!D$13)","v":""},{"$f":"IF(A274=\"\",\"\",Daten!M$2)","v":""},{"$f":"IF(A274=\"\",\"\",IF(Daten!D$6=Daten!N$11,Daten!M$11,IF(Daten!D$6=Daten!N$13,Daten!M$13,IF(AND(Daten!$D$6=Daten!$M$10,Daten!$D$8=TRUE),Daten!$M$14,Daten!D$6))))","v":""},{"$f":"IF($A274=\"\",\"\",IF(OR(O274=\"Putzbord\",O274=\"Flexila PU\"),Daten!$D$15,IF(OR(O274=\"Stehbord\",O274=\"Stehbord HB\",O274=\"Flexila STB\",O274=\"Jalousiebord\"),Daten!$D$19,\"-\")))","v":""},{"$f":"IF($A274=\"\",\"\",IF(O274=\"Putzbord\",Daten!$D$16,IF(O274=\"Flexila PU\",_xlfn.NUMBERVALUE(MID(Daten!$D$17,1,2)),\"-\")))","v":""},{"$f":"IF($A274=\"\",\"\",IF(OR(O274=\"Putzbord\",O274=\"Flexila PU\"),Daten!$D$18,IF(OR(O274=\"Stehbord\",O274=\"Stehbord HB\",O274=\"Flexila STB\",O274=\"Jalousiebord\"),Daten!$D$21,\"-\")))","v":""},{"$f":"IF(A274=\"\",\"\",IF(Daten!D$6=Daten!N$11,Daten!M$11,IF(Daten!D$6=Daten!N$13,Daten!M$13,IF(AND(Daten!$D$6=Daten!$M$10,Daten!$D$8=TRUE),Daten!$M$14,Daten!D$6))))","v":""},{"$f":"IF($A274=\"\",\"\",IF(OR(S274=\"Putzbord\",S274=\"Flexila PU\"),Daten!$D$15,IF(OR(S274=\"Stehbord\",S274=\"Stehbord HB\",S274=\"Flexila STB\",S274=\"Jalousiebord\"),Daten!$D$19,\"-\")))","v":""},{"$f":"IF($A274=\"\",\"\",IF(S274=\"Putzbord\",Daten!$D$16,IF(S274=\"Flexila PU\",_xlfn.NUMBERVALUE(MID(Daten!$D$17,1,2)),\"-\")))","v":""},{"$f":"IF($A274=\"\",\"\",IF(OR(S274=\"Putzbord\",S274=\"Flexila PU\"),Daten!$D$18,IF(OR(S274=\"Stehbord\",S274=\"Stehbord HB\",S274=\"Flexila STB\",S274=\"Jalousiebord\"),Daten!$D$21,\"-\")))","v":""},{"$f":"IF(A274=\"\",\"\",IF(AND(Daten!D$6=\"Jalousiebord\",OR(O274=\"Stehbord\",S274=\"Stehbord\")),\"Jalousienklinkung\",\"\"))","v":""},{"$f":"IF(W274=\"\",\"\",Daten!D$20)","v":""},null,null,{"$f":"IF(A274=\"\",\"\",IF(Daten!F$1=\"A\",\"Ohne\",IF(OR(N274=\"Gerstenkorn roh\",N274=\"Riffelblech roh\"),\"XPS\",Daten!F$2)))","v":""},{"$f":"IF(A274=\"\",\"\",IF(AA274=\"Ohne\",\"A\",IF(AA274=\"XPS\",IF(Daten!F$1=\"D\",\"B\",Daten!F$1),Daten!F$1)))","v":""},{"$f":"IF(A274=\"\",\"\",IF(AB274=\"A\",\"-\",Daten!F$7))","v":""},{"$f":"IF(A274=\"\",\"\",IF(AB274=\"A\",\"-\",IF(AND(Daten!F$8=0,O274=\"Putzbord\"),5-Q274,0)))","v":""},{"$f":"IF(A274=\"\",\"\",IF(AB274=\"A\",\"-\",IF(AND(Daten!F$8=0,S274=\"Putzbord\"),5-U274,0)))","v":""},{"$f":"IF(A274=\"\",\"\",IF(AB274=\"A\",\"-\",Daten!F$10))","v":""},{"$f":"IFERROR(IF(A274=\"\",\"\",VLOOKUP(N274,Daten!N$1:O$7,2,FALSE)),\"\")","v":""}]
[null,null,null,{"$f":"IF(A275=\"\",\"\",IF(Daten!B$3=TRUE,Daten!B$7,\"\"))","v":""},{"$f":"IFERROR(IF(C275=\"\",\"\",C275+(2*D275)+IF(O275=Daten!M$13,6,0)+IF(S275=Daten!M$13,6,0)+IF(Q275=\"-\",0,Q275)+IF(U275=\"-\",0,U275)),\"\")","v":""},{"$f":"IF(OR(A275=\"\",AND(F$1=0,Daten!F$3=FALSE)),\"\",Daten!B$6)","v":""},{"$f":"IF(A275=\"\",\"\",IF(Daten!B$5=\"??\",\"\",Daten!B$5))","v":""},{"$f":"IF(A275=\"\",\"\",IF(Daten!B$3=FALSE,\"\",Daten!B$4))","v":""},{"$f":"IFERROR(IF(A275=\"\",\"\",G275+H275+IF(AND(G275>0,H275>0),5,0))-IF(Daten!H$21=TRUE,H275,0),\"\")","v":""},{"$f":"IFERROR(IF(A275=\"\",\"\",I275+IF(Daten!H$21=TRUE,H275,0)+IF(F275=\"\",0,F275)-IF(Daten!F$3=TRUE,Daten!F$10,0)),\"\")","v":""},{"$f":"IF(A275=\"\",\"\",Daten!D$14)","v":""},{"$f":"IF(A275=\"\",\"\",Daten!D$12)","v":""},{"$f":"IF(A275=\"\",\"\",Daten!D$13)","v":""},{"$f":"IF(A275=\"\",\"\",Daten!M$2)","v":""},{"$f":"IF(A275=\"\",\"\",IF(Daten!D$6=Daten!N$11,Daten!M$11,IF(Daten!D$6=Daten!N$13,Daten!M$13,IF(AND(Daten!$D$6=Daten!$M$10,Daten!$D$8=TRUE),Daten!$M$14,Daten!D$6))))","v":""},{"$f":"IF($A275=\"\",\"\",IF(OR(O275=\"Putzbord\",O275=\"Flexila PU\"),Daten!$D$15,IF(OR(O275=\"Stehbord\",O275=\"Stehbord HB\",O275=\"Flexila STB\",O275=\"Jalousiebord\"),Daten!$D$19,\"-\")))","v":""},{"$f":"IF($A275=\"\",\"\",IF(O275=\"Putzbord\",Daten!$D$16,IF(O275=\"Flexila PU\",_xlfn.NUMBERVALUE(MID(Daten!$D$17,1,2)),\"-\")))","v":""},{"$f":"IF($A275=\"\",\"\",IF(OR(O275=\"Putzbord\",O275=\"Flexila PU\"),Daten!$D$18,IF(OR(O275=\"Stehbord\",O275=\"Stehbord HB\",O275=\"Flexila STB\",O275=\"Jalousiebord\"),Daten!$D$21,\"-\")))","v":""},{"$f":"IF(A275=\"\",\"\",IF(Daten!D$6=Daten!N$11,Daten!M$11,IF(Daten!D$6=Daten!N$13,Daten!M$13,IF(AND(Daten!$D$6=Daten!$M$10,Daten!$D$8=TRUE),Daten!$M$14,Daten!D$6))))","v":""},{"$f":"IF($A275=\"\",\"\",IF(OR(S275=\"Putzbord\",S275=\"Flexila PU\"),Daten!$D$15,IF(OR(S275=\"Stehbord\",S275=\"Stehbord HB\",S275=\"Flexila STB\",S275=\"Jalousiebord\"),Daten!$D$19,\"-\")))","v":""},{"$f":"IF($A275=\"\",\"\",IF(S275=\"Putzbord\",Daten!$D$16,IF(S275=\"Flexila PU\",_xlfn.NUMBERVALUE(MID(Daten!$D$17,1,2)),\"-\")))","v":""},{"$f":"IF($A275=\"\",\"\",IF(OR(S275=\"Putzbord\",S275=\"Flexila PU\"),Daten!$D$18,IF(OR(S275=\"Stehbord\",S275=\"Stehbord HB\",S275=\"Flexila STB\",S275=\"Jalousiebord\"),Daten!$D$21,\"-\")))","v":""},{"$f":"IF(A275=\"\",\"\",IF(AND(Daten!D$6=\"Jalousiebord\",OR(O275=\"Stehbord\",S275=\"Stehbord\")),\"Jalousienklinkung\",\"\"))","v":""},{"$f":"IF(W275=\"\",\"\",Daten!D$20)","v":""},null,null,{"$f":"IF(A275=\"\",\"\",IF(Daten!F$1=\"A\",\"Ohne\",IF(OR(N275=\"Gerstenkorn roh\",N275=\"Riffelblech roh\"),\"XPS\",Daten!F$2)))","v":""},{"$f":"IF(A275=\"\",\"\",IF(AA275=\"Ohne\",\"A\",IF(AA275=\"XPS\",IF(Daten!F$1=\"D\",\"B\",Daten!F$1),Daten!F$1)))","v":""},{"$f":"IF(A275=\"\",\"\",IF(AB275=\"A\",\"-\",Daten!F$7))","v":""},{"$f":"IF(A275=\"\",\"\",IF(AB275=\"A\",\"-\",IF(AND(Daten!F$8=0,O275=\"Putzbord\"),5-Q275,0)))","v":""},{"$f":"IF(A275=\"\",\"\",IF(AB275=\"A\",\"-\",IF(AND(Daten!F$8=0,S275=\"Putzbord\"),5-U275,0)))","v":""},{"$f":"IF(A275=\"\",\"\",IF(AB275=\"A\",\"-\",Daten!F$10))","v":""},{"$f":"IFERROR(IF(A275=\"\",\"\",VLOOKUP(N275,Daten!N$1:O$7,2,FALSE)),\"\")","v":""}]
[null,null,null,{"$f":"IF(A276=\"\",\"\",IF(Daten!B$3=TRUE,Daten!B$7,\"\"))","v":""},{"$f":"IFERROR(IF(C276=\"\",\"\",C276+(2*D276)+IF(O276=Daten!M$13,6,0)+IF(S276=Daten!M$13,6,0)+IF(Q276=\"-\",0,Q276)+IF(U276=\"-\",0,U276)),\"\")","v":""},{"$f":"IF(OR(A276=\"\",AND(F$1=0,Daten!F$3=FALSE)),\"\",Daten!B$6)","v":""},{"$f":"IF(A276=\"\",\"\",IF(Daten!B$5=\"??\",\"\",Daten!B$5))","v":""},{"$f":"IF(A276=\"\",\"\",IF(Daten!B$3=FALSE,\"\",Daten!B$4))","v":""},{"$f":"IFERROR(IF(A276=\"\",\"\",G276+H276+IF(AND(G276>0,H276>0),5,0))-IF(Daten!H$21=TRUE,H276,0),\"\")","v":""},{"$f":"IFERROR(IF(A276=\"\",\"\",I276+IF(Daten!H$21=TRUE,H276,0)+IF(F276=\"\",0,F276)-IF(Daten!F$3=TRUE,Daten!F$10,0)),\"\")","v":""},{"$f":"IF(A276=\"\",\"\",Daten!D$14)","v":""},{"$f":"IF(A276=\"\",\"\",Daten!D$12)","v":""},{"$f":"IF(A276=\"\",\"\",Daten!D$13)","v":""},{"$f":"IF(A276=\"\",\"\",Daten!M$2)","v":""},{"$f":"IF(A276=\"\",\"\",IF(Daten!D$6=Daten!N$11,Daten!M$11,IF(Daten!D$6=Daten!N$13,Daten!M$13,IF(AND(Daten!$D$6=Daten!$M$10,Daten!$D$8=TRUE),Daten!$M$14,Daten!D$6))))","v":""},{"$f":"IF($A276=\"\",\"\",IF(OR(O276=\"Putzbord\",O276=\"Flexila PU\"),Daten!$D$15,IF(OR(O276=\"Stehbord\",O276=\"Stehbord HB\",O276=\"Flexila STB\",O276=\"Jalousiebord\"),Daten!$D$19,\"-\")))","v":""},{"$f":"IF($A276=\"\",\"\",IF(O276=\"Putzbord\",Daten!$D$16,IF(O276=\"Flexila PU\",_xlfn.NUMBERVALUE(MID(Daten!$D$17,1,2)),\"-\")))","v":""},{"$f":"IF($A276=\"\",\"\",IF(OR(O276=\"Putzbord\",O276=\"Flexila PU\"),Daten!$D$18,IF(OR(O276=\"Stehbord\",O276=\"Stehbord HB\",O276=\"Flexila STB\",O276=\"Jalousiebord\"),Daten!$D$21,\"-\")))","v":""},{"$f":"IF(A276=\"\",\"\",IF(Daten!D$6=Daten!N$11,Daten!M$11,IF(Daten!D$6=Daten!N$13,Daten!M$13,IF(AND(Daten!$D$6=Daten!$M$10,Daten!$D$8=TRUE),Daten!$M$14,Daten!D$6))))","v":""},{"$f":"IF($A276=\"\",\"\",IF(OR(S276=\"Putzbord\",S276=\"Flexila PU\"),Daten!$D$15,IF(OR(S276=\"Stehbord\",S276=\"Stehbord HB\",S276=\"Flexila STB\",S276=\"Jalousiebord\"),Daten!$D$19,\"-\")))","v":""},{"$f":"IF($A276=\"\",\"\",IF(S276=\"Putzbord\",Daten!$D$16,IF(S276=\"Flexila PU\",_xlfn.NUMBERVALUE(MID(Daten!$D$17,1,2)),\"-\")))","v":""},{"$f":"IF($A276=\"\",\"\",IF(OR(S276=\"Putzbord\",S276=\"Flexila PU\"),Daten!$D$18,IF(OR(S276=\"Stehbord\",S276=\"Stehbord HB\",S276=\"Flexila STB\",S276=\"Jalousiebord\"),Daten!$D$21,\"-\")))","v":""},{"$f":"IF(A276=\"\",\"\",IF(AND(Daten!D$6=\"Jalousiebord\",OR(O276=\"Stehbord\",S276=\"Stehbord\")),\"Jalousienklinkung\",\"\"))","v":""},{"$f":"IF(W276=\"\",\"\",Daten!D$20)","v":""},null,null,{"$f":"IF(A276=\"\",\"\",IF(Daten!F$1=\"A\",\"Ohne\",IF(OR(N276=\"Gerstenkorn roh\",N276=\"Riffelblech roh\"),\"XPS\",Daten!F$2)))","v":""},{"$f":"IF(A276=\"\",\"\",IF(AA276=\"Ohne\",\"A\",IF(AA276=\"XPS\",IF(Daten!F$1=\"D\",\"B\",Daten!F$1),Daten!F$1)))","v":""},{"$f":"IF(A276=\"\",\"\",IF(AB276=\"A\",\"-\",Daten!F$7))","v":""},{"$f":"IF(A276=\"\",\"\",IF(AB276=\"A\",\"-\",IF(AND(Daten!F$8=0,O276=\"Putzbord\"),5-Q276,0)))","v":""},{"$f":"IF(A276=\"\",\"\",IF(AB276=\"A\",\"-\",IF(AND(Daten!F$8=0,S276=\"Putzbord\"),5-U276,0)))","v":""},{"$f":"IF(A276=\"\",\"\",IF(AB276=\"A\",\"-\",Daten!F$10))","v":""},{"$f":"IFERROR(IF(A276=\"\",\"\",VLOOKUP(N276,Daten!N$1:O$7,2,FALSE)),\"\")","v":""}]
[null,null,null,{"$f":"IF(A277=\"\",\"\",IF(Daten!B$3=TRUE,Daten!B$7,\"\"))","v":""},{"$f":"IFERROR(IF(C277=\"\",\"\",C277+(2*D277)+IF(O277=Daten!M$13,6,0)+IF(S277=Daten!M$13,6,0)+IF(Q277=\"-\",0,Q277)+IF(U277=\"-\",0,U277)),\"\")","v":""},{"$f":"IF(OR(A277=\"\",AND(F$1=0,Daten!F$3=FALSE)),\"\",Daten!B$6)","v":""},{"$f":"IF(A277=\"\",\"\",IF(Daten!B$5=\"??\",\"\",Daten!B$5))","v":""},{"$f":"IF(A277=\"\",\"\",IF(Daten!B$3=FALSE,\"\",Daten!B$4))","v":""},{"$f":"IFERROR(IF(A277=\"\",\"\",G277+H277+IF(AND(G277>0,H277>0),5,0))-IF(Daten!H$21=TRUE,H277,0),\"\")","v":""},{"$f":"IFERROR(IF(A277=\"\",\"\",I277+IF(Daten!H$21=TRUE,H277,0)+IF(F277=\"\",0,F277)-IF(Daten!F$3=TRUE,Daten!F$10,0)),\"\")","v":""},{"$f":"IF(A277=\"\",\"\",Daten!D$14)","v":""},{"$f":"IF(A277=\"\",\"\",Daten!D$12)","v":""},{"$f":"IF(A277=\"\",\"\",Daten!D$13)","v":""},{"$f":"IF(A277=\"\",\"\",Daten!M$2)","v":""},{"$f":"IF(A277=\"\",\"\",IF(Daten!D$6=Daten!N$11,Daten!M$11,IF(Daten!D$6=Daten!N$13,Daten!M$13,IF(AND(Daten!$D$6=Daten!$M$10,Daten!$D$8=TRUE),Daten!$M$14,Daten!D$6))))","v":""},{"$f":"IF($A277=\"\",\"\",IF(OR(O277=\"Putzbord\",O277=\"Flexila PU\"),Daten!$D$15,IF(OR(O277=\"Stehbord\",O277=\"Stehbord HB\",O277=\"Flexila STB\",O277=\"Jalousiebord\"),Daten!$D$19,\"-\")))","v":""},{"$f":"IF($A277=\"\",\"\",IF(O277=\"Putzbord\",Daten!$D$16,IF(O277=\"Flexila PU\",_xlfn.NUMBERVALUE(MID(Daten!$D$17,1,2)),\"-\")))","v":""},{"$f":"IF($A277=\"\",\"\",IF(OR(O277=\"Putzbord\",O277=\"Flexila PU\"),Daten!$D$18,IF(OR(O277=\"Stehbord\",O277=\"Stehbord HB\",O277=\"Flexila STB\",O277=\"Jalousiebord\"),Daten!$D$21,\"-\")))","v":""},{"$f":"IF(A277=\"\",\"\",IF(Daten!D$6=Daten!N$11,Daten!M$11,IF(Daten!D$6=Daten!N$13,Daten!M$13,IF(AND(Daten!$D$6=Daten!$M$10,Daten!$D$8=TRUE),Daten!$M$14,Daten!D$6))))","v":""},{"$f":"IF($A277=\"\",\"\",IF(OR(S277=\"Putzbord\",S277=\"Flexila PU\"),Daten!$D$15,IF(OR(S277=\"Stehbord\",S277=\"Stehbord HB\",S277=\"Flexila STB\",S277=\"Jalousiebord\"),Daten!$D$19,\"-\")))","v":""},{"$f":"IF($A277=\"\",\"\",IF(S277=\"Putzbord\",Daten!$D$16,IF(S277=\"Flexila PU\",_xlfn.NUMBERVALUE(MID(Daten!$D$17,1,2)),\"-\")))","v":""},{"$f":"IF($A277=\"\",\"\",IF(OR(S277=\"Putzbord\",S277=\"Flexila PU\"),Daten!$D$18,IF(OR(S277=\"Stehbord\",S277=\"Stehbord HB\",S277=\"Flexila STB\",S277=\"Jalousiebord\"),Daten!$D$21,\"-\")))","v":""},{"$f":"IF(A277=\"\",\"\",IF(AND(Daten!D$6=\"Jalousiebord\",OR(O277=\"Stehbord\",S277=\"Stehbord\")),\"Jalousienklinkung\",\"\"))","v":""},{"$f":"IF(W277=\"\",\"\",Daten!D$20)","v":""},null,null,{"$f":"IF(A277=\"\",\"\",IF(Daten!F$1=\"A\",\"Ohne\",IF(OR(N277=\"Gerstenkorn roh\",N277=\"Riffelblech roh\"),\"XPS\",Daten!F$2)))","v":""},{"$f":"IF(A277=\"\",\"\",IF(AA277=\"Ohne\",\"A\",IF(AA277=\"XPS\",IF(Daten!F$1=\"D\",\"B\",Daten!F$1),Daten!F$1)))","v":""},{"$f":"IF(A277=\"\",\"\",IF(AB277=\"A\",\"-\",Daten!F$7))","v":""},{"$f":"IF(A277=\"\",\"\",IF(AB277=\"A\",\"-\",IF(AND(Daten!F$8=0,O277=\"Putzbord\"),5-Q277,0)))","v":""},{"$f":"IF(A277=\"\",\"\",IF(AB277=\"A\",\"-\",IF(AND(Daten!F$8=0,S277=\"Putzbord\"),5-U277,0)))","v":""},{"$f":"IF(A277=\"\",\"\",IF(AB277=\"A\",\"-\",Daten!F$10))","v":""},{"$f":"IFERROR(IF(A277=\"\",\"\",VLOOKUP(N277,Daten!N$1:O$7,2,FALSE)),\"\")","v":""}]
[null,null,null,{"$f":"IF(A278=\"\",\"\",IF(Daten!B$3=TRUE,Daten!B$7,\"\"))","v":""},{"$f":"IFERROR(IF(C278=\"\",\"\",C278+(2*D278)+IF(O278=Daten!M$13,6,0)+IF(S278=Daten!M$13,6,0)+IF(Q278=\"-\",0,Q278)+IF(U278=\"-\",0,U278)),\"\")","v":""},{"$f":"IF(OR(A278=\"\",AND(F$1=0,Daten!F$3=FALSE)),\"\",Daten!B$6)","v":""},{"$f":"IF(A278=\"\",\"\",IF(Daten!B$5=\"??\",\"\",Daten!B$5))","v":""},{"$f":"IF(A278=\"\",\"\",IF(Daten!B$3=FALSE,\"\",Daten!B$4))","v":""},{"$f":"IFERROR(IF(A278=\"\",\"\",G278+H278+IF(AND(G278>0,H278>0),5,0))-IF(Daten!H$21=TRUE,H278,0),\"\")","v":""},{"$f":"IFERROR(IF(A278=\"\",\"\",I278+IF(Daten!H$21=TRUE,H278,0)+IF(F278=\"\",0,F278)-IF(Daten!F$3=TRUE,Daten!F$10,0)),\"\")","v":""},{"$f":"IF(A278=\"\",\"\",Daten!D$14)","v":""},{"$f":"IF(A278=\"\",\"\",Daten!D$12)","v":""},{"$f":"IF(A278=\"\",\"\",Daten!D$13)","v":""},{"$f":"IF(A278=\"\",\"\",Daten!M$2)","v":""},{"$f":"IF(A278=\"\",\"\",IF(Daten!D$6=Daten!N$11,Daten!M$11,IF(Daten!D$6=Daten!N$13,Daten!M$13,IF(AND(Daten!$D$6=Daten!$M$10,Daten!$D$8=TRUE),Daten!$M$14,Daten!D$6))))","v":""},{"$f":"IF($A278=\"\",\"\",IF(OR(O278=\"Putzbord\",O278=\"Flexila PU\"),Daten!$D$15,IF(OR(O278=\"Stehbord\",O278=\"Stehbord HB\",O278=\"Flexila STB\",O278=\"Jalousiebord\"),Daten!$D$19,\"-\")))","v":""},{"$f":"IF($A278=\"\",\"\",IF(O278=\"Putzbord\",Daten!$D$16,IF(O278=\"Flexila PU\",_xlfn.NUMBERVALUE(MID(Daten!$D$17,1,2)),\"-\")))","v":""},{"$f":"IF($A278=\"\",\"\",IF(OR(O278=\"Putzbord\",O278=\"Flexila PU\"),Daten!$D$18,IF(OR(O278=\"Stehbord\",O278=\"Stehbord HB\",O278=\"Flexila STB\",O278=\"Jalousiebord\"),Daten!$D$21,\"-\")))","v":""},{"$f":"IF(A278=\"\",\"\",IF(Daten!D$6=Daten!N$11,Daten!M$11,IF(Daten!D$6=Daten!N$13,Daten!M$13,IF(AND(Daten!$D$6=Daten!$M$10,Daten!$D$8=TRUE),Daten!$M$14,Daten!D$6))))","v":""},{"$f":"IF($A278=\"\",\"\",IF(OR(S278=\"Putzbord\",S278=\"Flexila PU\"),Daten!$D$15,IF(OR(S278=\"Stehbord\",S278=\"Stehbord HB\",S278=\"Flexila STB\",S278=\"Jalousiebord\"),Daten!$D$19,\"-\")))","v":""},{"$f":"IF($A278=\"\",\"\",IF(S278=\"Putzbord\",Daten!$D$16,IF(S278=\"Flexila PU\",_xlfn.NUMBERVALUE(MID(Daten!$D$17,1,2)),\"-\")))","v":""},{"$f":"IF($A278=\"\",\"\",IF(OR(S278=\"Putzbord\",S278=\"Flexila PU\"),Daten!$D$18,IF(OR(S278=\"Stehbord\",S278=\"Stehbord HB\",S278=\"Flexila STB\",S278=\"Jalousiebord\"),Daten!$D$21,\"-\")))","v":""},{"$f":"IF(A278=\"\",\"\",IF(AND(Daten!D$6=\"Jalousiebord\",OR(O278=\"Stehbord\",S278=\"Stehbord\")),\"Jalousienklinkung\",\"\"))","v":""},{"$f":"IF(W278=\"\",\"\",Daten!D$20)","v":""},null,null,{"$f":"IF(A278=\"\",\"\",IF(Daten!F$1=\"A\",\"Ohne\",IF(OR(N278=\"Gerstenkorn roh\",N278=\"Riffelblech roh\"),\"XPS\",Daten!F$2)))","v":""},{"$f":"IF(A278=\"\",\"\",IF(AA278=\"Ohne\",\"A\",IF(AA278=\"XPS\",IF(Daten!F$1=\"D\",\"B\",Daten!F$1),Daten!F$1)))","v":""},{"$f":"IF(A278=\"\",\"\",IF(AB278=\"A\",\"-\",Daten!F$7))","v":""},{"$f":"IF(A278=\"\",\"\",IF(AB278=\"A\",\"-\",IF(AND(Daten!F$8=0,O278=\"Putzbord\"),5-Q278,0)))","v":""},{"$f":"IF(A278=\"\",\"\",IF(AB278=\"A\",\"-\",IF(AND(Daten!F$8=0,S278=\"Putzbord\"),5-U278,0)))","v":""},{"$f":"IF(A278=\"\",\"\",IF(AB278=\"A\",\"-\",Daten!F$10))","v":""},{"$f":"IFERROR(IF(A278=\"\",\"\",VLOOKUP(N278,Daten!N$1:O$7,2,FALSE)),\"\")","v":""}]
[null,null,null,{"$f":"IF(A279=\"\",\"\",IF(Daten!B$3=TRUE,Daten!B$7,\"\"))","v":""},{"$f":"IFERROR(IF(C279=\"\",\"\",C279+(2*D279)+IF(O279=Daten!M$13,6,0)+IF(S279=Daten!M$13,6,0)+IF(Q279=\"-\",0,Q279)+IF(U279=\"-\",0,U279)),\"\")","v":""},{"$f":"IF(OR(A279=\"\",AND(F$1=0,Daten!F$3=FALSE)),\"\",Daten!B$6)","v":""},{"$f":"IF(A279=\"\",\"\",IF(Daten!B$5=\"??\",\"\",Daten!B$5))","v":""},{"$f":"IF(A279=\"\",\"\",IF(Daten!B$3=FALSE,\"\",Daten!B$4))","v":""},{"$f":"IFERROR(IF(A279=\"\",\"\",G279+H279+IF(AND(G279>0,H279>0),5,0))-IF(Daten!H$21=TRUE,H279,0),\"\")","v":""},{"$f":"IFERROR(IF(A279=\"\",\"\",I279+IF(Daten!H$21=TRUE,H279,0)+IF(F279=\"\",0,F279)-IF(Daten!F$3=TRUE,Daten!F$10,0)),\"\")","v":""},{"$f":"IF(A279=\"\",\"\",Daten!D$14)","v":""},{"$f":"IF(A279=\"\",\"\",Daten!D$12)","v":""},{"$f":"IF(A279=\"\",\"\",Daten!D$13)","v":""},{"$f":"IF(A279=\"\",\"\",Daten!M$2)","v":""},{"$f":"IF(A279=\"\",\"\",IF(Daten!D$6=Daten!N$11,Daten!M$11,IF(Daten!D$6=Daten!N$13,Daten!M$13,IF(AND(Daten!$D$6=Daten!$M$10,Daten!$D$8=TRUE),Daten!$M$14,Daten!D$6))))","v":""},{"$f":"IF($A279=\"\",\"\",IF(OR(O279=\"Putzbord\",O279=\"Flexila PU\"),Daten!$D$15,IF(OR(O279=\"Stehbord\",O279=\"Stehbord HB\",O279=\"Flexila STB\",O279=\"Jalousiebord\"),Daten!$D$19,\"-\")))","v":""},{"$f":"IF($A279=\"\",\"\",IF(O279=\"Putzbord\",Daten!$D$16,IF(O279=\"Flexila PU\",_xlfn.NUMBERVALUE(MID(Daten!$D$17,1,2)),\"-\")))","v":""},{"$f":"IF($A279=\"\",\"\",IF(OR(O279=\"Putzbord\",O279=\"Flexila PU\"),Daten!$D$18,IF(OR(O279=\"Stehbord\",O279=\"Stehbord HB\",O279=\"Flexila STB\",O279=\"Jalousiebord\"),Daten!$D$21,\"-\")))","v":""},{"$f":"IF(A279=\"\",\"\",IF(Daten!D$6=Daten!N$11,Daten!M$11,IF(Daten!D$6=Daten!N$13,Daten!M$13,IF(AND(Daten!$D$6=Daten!$M$10,Daten!$D$8=TRUE),Daten!$M$14,Daten!D$6))))","v":""},{"$f":"IF($A279=\"\",\"\",IF(OR(S279=\"Putzbord\",S279=\"Flexila PU\"),Daten!$D$15,IF(OR(S279=\"Stehbord\",S279=\"Stehbord HB\",S279=\"Flexila STB\",S279=\"Jalousiebord\"),Daten!$D$19,\"-\")))","v":""},{"$f":"IF($A279=\"\",\"\",IF(S279=\"Putzbord\",Daten!$D$16,IF(S279=\"Flexila PU\",_xlfn.NUMBERVALUE(MID(Daten!$D$17,1,2)),\"-\")))","v":""},{"$f":"IF($A279=\"\",\"\",IF(OR(S279=\"Putzbord\",S279=\"Flexila PU\"),Daten!$D$18,IF(OR(S279=\"Stehbord\",S279=\"Stehbord HB\",S279=\"Flexila STB\",S279=\"Jalousiebord\"),Daten!$D$21,\"-\")))","v":""},{"$f":"IF(A279=\"\",\"\",IF(AND(Daten!D$6=\"Jalousiebord\",OR(O279=\"Stehbord\",S279=\"Stehbord\")),\"Jalousienklinkung\",\"\"))","v":""},{"$f":"IF(W279=\"\",\"\",Daten!D$20)","v":""},null,null,{"$f":"IF(A279=\"\",\"\",IF(Daten!F$1=\"A\",\"Ohne\",IF(OR(N279=\"Gerstenkorn roh\",N279=\"Riffelblech roh\"),\"XPS\",Daten!F$2)))","v":""},{"$f":"IF(A279=\"\",\"\",IF(AA279=\"Ohne\",\"A\",IF(AA279=\"XPS\",IF(Daten!F$1=\"D\",\"B\",Daten!F$1),Daten!F$1)))","v":""},{"$f":"IF(A279=\"\",\"\",IF(AB279=\"A\",\"-\",Daten!F$7))","v":""},{"$f":"IF(A279=\"\",\"\",IF(AB279=\"A\",\"-\",IF(AND(Daten!F$8=0,O279=\"Putzbord\"),5-Q279,0)))","v":""},{"$f":"IF(A279=\"\",\"\",IF(AB279=\"A\",\"-\",IF(AND(Daten!F$8=0,S279=\"Putzbord\"),5-U279,0)))","v":""},{"$f":"IF(A279=\"\",\"\",IF(AB279=\"A\",\"-\",Daten!F$10))","v":""},{"$f":"IFERROR(IF(A279=\"\",\"\",VLOOKUP(N279,Daten!N$1:O$7,2,FALSE)),\"\")","v":""}]
[null,null,null,{"$f":"IF(A280=\"\",\"\",IF(Daten!B$3=TRUE,Daten!B$7,\"\"))","v":""},{"$f":"IFERROR(IF(C280=\"\",\"\",C280+(2*D280)+IF(O280=Daten!M$13,6,0)+IF(S280=Daten!M$13,6,0)+IF(Q280=\"-\",0,Q280)+IF(U280=\"-\",0,U280)),\"\")","v":""},{"$f":"IF(OR(A280=\"\",AND(F$1=0,Daten!F$3=FALSE)),\"\",Daten!B$6)","v":""},{"$f":"IF(A280=\"\",\"\",IF(Daten!B$5=\"??\",\"\",Daten!B$5))","v":""},{"$f":"IF(A280=\"\",\"\",IF(Daten!B$3=FALSE,\"\",Daten!B$4))","v":""},{"$f":"IFERROR(IF(A280=\"\",\"\",G280+H280+IF(AND(G280>0,H280>0),5,0))-IF(Daten!H$21=TRUE,H280,0),\"\")","v":""},{"$f":"IFERROR(IF(A280=\"\",\"\",I280+IF(Daten!H$21=TRUE,H280,0)+IF(F280=\"\",0,F280)-IF(Daten!F$3=TRUE,Daten!F$10,0)),\"\")","v":""},{"$f":"IF(A280=\"\",\"\",Daten!D$14)","v":""},{"$f":"IF(A280=\"\",\"\",Daten!D$12)","v":""},{"$f":"IF(A280=\"\",\"\",Daten!D$13)","v":""},{"$f":"IF(A280=\"\",\"\",Daten!M$2)","v":""},{"$f":"IF(A280=\"\",\"\",IF(Daten!D$6=Daten!N$11,Daten!M$11,IF(Daten!D$6=Daten!N$13,Daten!M$13,IF(AND(Daten!$D$6=Daten!$M$10,Daten!$D$8=TRUE),Daten!$M$14,Daten!D$6))))","v":""},{"$f":"IF($A280=\"\",\"\",IF(OR(O280=\"Putzbord\",O280=\"Flexila PU\"),Daten!$D$15,IF(OR(O280=\"Stehbord\",O280=\"Stehbord HB\",O280=\"Flexila STB\",O280=\"Jalousiebord\"),Daten!$D$19,\"-\")))","v":""},{"$f":"IF($A280=\"\",\"\",IF(O280=\"Putzbord\",Daten!$D$16,IF(O280=\"Flexila PU\",_xlfn.NUMBERVALUE(MID(Daten!$D$17,1,2)),\"-\")))","v":""},{"$f":"IF($A280=\"\",\"\",IF(OR(O280=\"Putzbord\",O280=\"Flexila PU\"),Daten!$D$18,IF(OR(O280=\"Stehbord\",O280=\"Stehbord HB\",O280=\"Flexila STB\",O280=\"Jalousiebord\"),Daten!$D$21,\"-\")))","v":""},{"$f":"IF(A280=\"\",\"\",IF(Daten!D$6=Daten!N$11,Daten!M$11,IF(Daten!D$6=Daten!N$13,Daten!M$13,IF(AND(Daten!$D$6=Daten!$M$10,Daten!$D$8=TRUE),Daten!$M$14,Daten!D$6))))","v":""},{"$f":"IF($A280=\"\",\"\",IF(OR(S280=\"Putzbord\",S280=\"Flexila PU\"),Daten!$D$15,IF(OR(S280=\"Stehbord\",S280=\"Stehbord HB\",S280=\"Flexila STB\",S280=\"Jalousiebord\"),Daten!$D$19,\"-\")))","v":""},{"$f":"IF($A280=\"\",\"\",IF(S280=\"Putzbord\",Daten!$D$16,IF(S280=\"Flexila PU\",_xlfn.NUMBERVALUE(MID(Daten!$D$17,1,2)),\"-\")))","v":""},{"$f":"IF($A280=\"\",\"\",IF(OR(S280=\"Putzbord\",S280=\"Flexila PU\"),Daten!$D$18,IF(OR(S280=\"Stehbord\",S280=\"Stehbord HB\",S280=\"Flexila STB\",S280=\"Jalousiebord\"),Daten!$D$21,\"-\")))","v":""},{"$f":"IF(A280=\"\",\"\",IF(AND(Daten!D$6=\"Jalousiebord\",OR(O280=\"Stehbord\",S280=\"Stehbord\")),\"Jalousienklinkung\",\"\"))","v":""},{"$f":"IF(W280=\"\",\"\",Daten!D$20)","v":""},null,null,{"$f":"IF(A280=\"\",\"\",IF(Daten!F$1=\"A\",\"Ohne\",IF(OR(N280=\"Gerstenkorn roh\",N280=\"Riffelblech roh\"),\"XPS\",Daten!F$2)))","v":""},{"$f":"IF(A280=\"\",\"\",IF(AA280=\"Ohne\",\"A\",IF(AA280=\"XPS\",IF(Daten!F$1=\"D\",\"B\",Daten!F$1),Daten!F$1)))","v":""},{"$f":"IF(A280=\"\",\"\",IF(AB280=\"A\",\"-\",Daten!F$7))","v":""},{"$f":"IF(A280=\"\",\"\",IF(AB280=\"A\",\"-\",IF(AND(Daten!F$8=0,O280=\"Putzbord\"),5-Q280,0)))","v":""},{"$f":"IF(A280=\"\",\"\",IF(AB280=\"A\",\"-\",IF(AND(Daten!F$8=0,S280=\"Putzbord\"),5-U280,0)))","v":""},{"$f":"IF(A280=\"\",\"\",IF(AB280=\"A\",\"-\",Daten!F$10))","v":""},{"$f":"IFERROR(IF(A280=\"\",\"\",VLOOKUP(N280,Daten!N$1:O$7,2,FALSE)),\"\")","v":""}]
[null,null,null,{"$f":"IF(A281=\"\",\"\",IF(Daten!B$3=TRUE,Daten!B$7,\"\"))","v":""},{"$f":"IFERROR(IF(C281=\"\",\"\",C281+(2*D281)+IF(O281=Daten!M$13,6,0)+IF(S281=Daten!M$13,6,0)+IF(Q281=\"-\",0,Q281)+IF(U281=\"-\",0,U281)),\"\")","v":""},{"$f":"IF(OR(A281=\"\",AND(F$1=0,Daten!F$3=FALSE)),\"\",Daten!B$6)","v":""},{"$f":"IF(A281=\"\",\"\",IF(Daten!B$5=\"??\",\"\",Daten!B$5))","v":""},{"$f":"IF(A281=\"\",\"\",IF(Daten!B$3=FALSE,\"\",Daten!B$4))","v":""},{"$f":"IFERROR(IF(A281=\"\",\"\",G281+H281+IF(AND(G281>0,H281>0),5,0))-IF(Daten!H$21=TRUE,H281,0),\"\")","v":""},{"$f":"IFERROR(IF(A281=\"\",\"\",I281+IF(Daten!H$21=TRUE,H281,0)+IF(F281=\"\",0,F281)-IF(Daten!F$3=TRUE,Daten!F$10,0)),\"\")","v":""},{"$f":"IF(A281=\"\",\"\",Daten!D$14)","v":""},{"$f":"IF(A281=\"\",\"\",Daten!D$12)","v":""},{"$f":"IF(A281=\"\",\"\",Daten!D$13)","v":""},{"$f":"IF(A281=\"\",\"\",Daten!M$2)","v":""},{"$f":"IF(A281=\"\",\"\",IF(Daten!D$6=Daten!N$11,Daten!M$11,IF(Daten!D$6=Daten!N$13,Daten!M$13,IF(AND(Daten!$D$6=Daten!$M$10,Daten!$D$8=TRUE),Daten!$M$14,Daten!D$6))))","v":""},{"$f":"IF($A281=\"\",\"\",IF(OR(O281=\"Putzbord\",O281=\"Flexila PU\"),Daten!$D$15,IF(OR(O281=\"Stehbord\",O281=\"Stehbord HB\",O281=\"Flexila STB\",O281=\"Jalousiebord\"),Daten!$D$19,\"-\")))","v":""},{"$f":"IF($A281=\"\",\"\",IF(O281=\"Putzbord\",Daten!$D$16,IF(O281=\"Flexila PU\",_xlfn.NUMBERVALUE(MID(Daten!$D$17,1,2)),\"-\")))","v":""},{"$f":"IF($A281=\"\",\"\",IF(OR(O281=\"Putzbord\",O281=\"Flexila PU\"),Daten!$D$18,IF(OR(O281=\"Stehbord\",O281=\"Stehbord HB\",O281=\"Flexila STB\",O281=\"Jalousiebord\"),Daten!$D$21,\"-\")))","v":""},{"$f":"IF(A281=\"\",\"\",IF(Daten!D$6=Daten!N$11,Daten!M$11,IF(Daten!D$6=Daten!N$13,Daten!M$13,IF(AND(Daten!$D$6=Daten!$M$10,Daten!$D$8=TRUE),Daten!$M$14,Daten!D$6))))","v":""},{"$f":"IF($A281=\"\",\"\",IF(OR(S281=\"Putzbord\",S281=\"Flexila PU\"),Daten!$D$15,IF(OR(S281=\"Stehbord\",S281=\"Stehbord HB\",S281=\"Flexila STB\",S281=\"Jalousiebord\"),Daten!$D$19,\"-\")))","v":""},{"$f":"IF($A281=\"\",\"\",IF(S281=\"Putzbord\",Daten!$D$16,IF(S281=\"Flexila PU\",_xlfn.NUMBERVALUE(MID(Daten!$D$17,1,2)),\"-\")))","v":""},{"$f":"IF($A281=\"\",\"\",IF(OR(S281=\"Putzbord\",S281=\"Flexila PU\"),Daten!$D$18,IF(OR(S281=\"Stehbord\",S281=\"Stehbord HB\",S281=\"Flexila STB\",S281=\"Jalousiebord\"),Daten!$D$21,\"-\")))","v":""},{"$f":"IF(A281=\"\",\"\",IF(AND(Daten!D$6=\"Jalousiebord\",OR(O281=\"Stehbord\",S281=\"Stehbord\")),\"Jalousienklinkung\",\"\"))","v":""},{"$f":"IF(W281=\"\",\"\",Daten!D$20)","v":""},null,null,{"$f":"IF(A281=\"\",\"\",IF(Daten!F$1=\"A\",\"Ohne\",IF(OR(N281=\"Gerstenkorn roh\",N281=\"Riffelblech roh\"),\"XPS\",Daten!F$2)))","v":""},{"$f":"IF(A281=\"\",\"\",IF(AA281=\"Ohne\",\"A\",IF(AA281=\"XPS\",IF(Daten!F$1=\"D\",\"B\",Daten!F$1),Daten!F$1)))","v":""},{"$f":"IF(A281=\"\",\"\",IF(AB281=\"A\",\"-\",Daten!F$7))","v":""},{"$f":"IF(A281=\"\",\"\",IF(AB281=\"A\",\"-\",IF(AND(Daten!F$8=0,O281=\"Putzbord\"),5-Q281,0)))","v":""},{"$f":"IF(A281=\"\",\"\",IF(AB281=\"A\",\"-\",IF(AND(Daten!F$8=0,S281=\"Putzbord\"),5-U281,0)))","v":""},{"$f":"IF(A281=\"\",\"\",IF(AB281=\"A\",\"-\",Daten!F$10))","v":""},{"$f":"IFERROR(IF(A281=\"\",\"\",VLOOKUP(N281,Daten!N$1:O$7,2,FALSE)),\"\")","v":""}]
[null,null,null,{"$f":"IF(A282=\"\",\"\",IF(Daten!B$3=TRUE,Daten!B$7,\"\"))","v":""},{"$f":"IFERROR(IF(C282=\"\",\"\",C282+(2*D282)+IF(O282=Daten!M$13,6,0)+IF(S282=Daten!M$13,6,0)+IF(Q282=\"-\",0,Q282)+IF(U282=\"-\",0,U282)),\"\")","v":""},{"$f":"IF(OR(A282=\"\",AND(F$1=0,Daten!F$3=FALSE)),\"\",Daten!B$6)","v":""},{"$f":"IF(A282=\"\",\"\",IF(Daten!B$5=\"??\",\"\",Daten!B$5))","v":""},{"$f":"IF(A282=\"\",\"\",IF(Daten!B$3=FALSE,\"\",Daten!B$4))","v":""},{"$f":"IFERROR(IF(A282=\"\",\"\",G282+H282+IF(AND(G282>0,H282>0),5,0))-IF(Daten!H$21=TRUE,H282,0),\"\")","v":""},{"$f":"IFERROR(IF(A282=\"\",\"\",I282+IF(Daten!H$21=TRUE,H282,0)+IF(F282=\"\",0,F282)-IF(Daten!F$3=TRUE,Daten!F$10,0)),\"\")","v":""},{"$f":"IF(A282=\"\",\"\",Daten!D$14)","v":""},{"$f":"IF(A282=\"\",\"\",Daten!D$12)","v":""},{"$f":"IF(A282=\"\",\"\",Daten!D$13)","v":""},{"$f":"IF(A282=\"\",\"\",Daten!M$2)","v":""},{"$f":"IF(A282=\"\",\"\",IF(Daten!D$6=Daten!N$11,Daten!M$11,IF(Daten!D$6=Daten!N$13,Daten!M$13,IF(AND(Daten!$D$6=Daten!$M$10,Daten!$D$8=TRUE),Daten!$M$14,Daten!D$6))))","v":""},{"$f":"IF($A282=\"\",\"\",IF(OR(O282=\"Putzbord\",O282=\"Flexila PU\"),Daten!$D$15,IF(OR(O282=\"Stehbord\",O282=\"Stehbord HB\",O282=\"Flexila STB\",O282=\"Jalousiebord\"),Daten!$D$19,\"-\")))","v":""},{"$f":"IF($A282=\"\",\"\",IF(O282=\"Putzbord\",Daten!$D$16,IF(O282=\"Flexila PU\",_xlfn.NUMBERVALUE(MID(Daten!$D$17,1,2)),\"-\")))","v":""},{"$f":"IF($A282=\"\",\"\",IF(OR(O282=\"Putzbord\",O282=\"Flexila PU\"),Daten!$D$18,IF(OR(O282=\"Stehbord\",O282=\"Stehbord HB\",O282=\"Flexila STB\",O282=\"Jalousiebord\"),Daten!$D$21,\"-\")))","v":""},{"$f":"IF(A282=\"\",\"\",IF(Daten!D$6=Daten!N$11,Daten!M$11,IF(Daten!D$6=Daten!N$13,Daten!M$13,IF(AND(Daten!$D$6=Daten!$M$10,Daten!$D$8=TRUE),Daten!$M$14,Daten!D$6))))","v":""},{"$f":"IF($A282=\"\",\"\",IF(OR(S282=\"Putzbord\",S282=\"Flexila PU\"),Daten!$D$15,IF(OR(S282=\"Stehbord\",S282=\"Stehbord HB\",S282=\"Flexila STB\",S282=\"Jalousiebord\"),Daten!$D$19,\"-\")))","v":""},{"$f":"IF($A282=\"\",\"\",IF(S282=\"Putzbord\",Daten!$D$16,IF(S282=\"Flexila PU\",_xlfn.NUMBERVALUE(MID(Daten!$D$17,1,2)),\"-\")))","v":""},{"$f":"IF($A282=\"\",\"\",IF(OR(S282=\"Putzbord\",S282=\"Flexila PU\"),Daten!$D$18,IF(OR(S282=\"Stehbord\",S282=\"Stehbord HB\",S282=\"Flexila STB\",S282=\"Jalousiebord\"),Daten!$D$21,\"-\")))","v":""},{"$f":"IF(A282=\"\",\"\",IF(AND(Daten!D$6=\"Jalousiebord\",OR(O282=\"Stehbord\",S282=\"Stehbord\")),\"Jalousienklinkung\",\"\"))","v":""},{"$f":"IF(W282=\"\",\"\",Daten!D$20)","v":""},null,null,{"$f":"IF(A282=\"\",\"\",IF(Daten!F$1=\"A\",\"Ohne\",IF(OR(N282=\"Gerstenkorn roh\",N282=\"Riffelblech roh\"),\"XPS\",Daten!F$2)))","v":""},{"$f":"IF(A282=\"\",\"\",IF(AA282=\"Ohne\",\"A\",IF(AA282=\"XPS\",IF(Daten!F$1=\"D\",\"B\",Daten!F$1),Daten!F$1)))","v":""},{"$f":"IF(A282=\"\",\"\",IF(AB282=\"A\",\"-\",Daten!F$7))","v":""},{"$f":"IF(A282=\"\",\"\",IF(AB282=\"A\",\"-\",IF(AND(Daten!F$8=0,O282=\"Putzbord\"),5-Q282,0)))","v":""},{"$f":"IF(A282=\"\",\"\",IF(AB282=\"A\",\"-\",IF(AND(Daten!F$8=0,S282=\"Putzbord\"),5-U282,0)))","v":""},{"$f":"IF(A282=\"\",\"\",IF(AB282=\"A\",\"-\",Daten!F$10))","v":""},{"$f":"IFERROR(IF(A282=\"\",\"\",VLOOKUP(N282,Daten!N$1:O$7,2,FALSE)),\"\")","v":""}]
[null,null,null,{"$f":"IF(A283=\"\",\"\",IF(Daten!B$3=TRUE,Daten!B$7,\"\"))","v":""},{"$f":"IFERROR(IF(C283=\"\",\"\",C283+(2*D283)+IF(O283=Daten!M$13,6,0)+IF(S283=Daten!M$13,6,0)+IF(Q283=\"-\",0,Q283)+IF(U283=\"-\",0,U283)),\"\")","v":""},{"$f":"IF(OR(A283=\"\",AND(F$1=0,Daten!F$3=FALSE)),\"\",Daten!B$6)","v":""},{"$f":"IF(A283=\"\",\"\",IF(Daten!B$5=\"??\",\"\",Daten!B$5))","v":""},{"$f":"IF(A283=\"\",\"\",IF(Daten!B$3=FALSE,\"\",Daten!B$4))","v":""},{"$f":"IFERROR(IF(A283=\"\",\"\",G283+H283+IF(AND(G283>0,H283>0),5,0))-IF(Daten!H$21=TRUE,H283,0),\"\")","v":""},{"$f":"IFERROR(IF(A283=\"\",\"\",I283+IF(Daten!H$21=TRUE,H283,0)+IF(F283=\"\",0,F283)-IF(Daten!F$3=TRUE,Daten!F$10,0)),\"\")","v":""},{"$f":"IF(A283=\"\",\"\",Daten!D$14)","v":""},{"$f":"IF(A283=\"\",\"\",Daten!D$12)","v":""},{"$f":"IF(A283=\"\",\"\",Daten!D$13)","v":""},{"$f":"IF(A283=\"\",\"\",Daten!M$2)","v":""},{"$f":"IF(A283=\"\",\"\",IF(Daten!D$6=Daten!N$11,Daten!M$11,IF(Daten!D$6=Daten!N$13,Daten!M$13,IF(AND(Daten!$D$6=Daten!$M$10,Daten!$D$8=TRUE),Daten!$M$14,Daten!D$6))))","v":""},{"$f":"IF($A283=\"\",\"\",IF(OR(O283=\"Putzbord\",O283=\"Flexila PU\"),Daten!$D$15,IF(OR(O283=\"Stehbord\",O283=\"Stehbord HB\",O283=\"Flexila STB\",O283=\"Jalousiebord\"),Daten!$D$19,\"-\")))","v":""},{"$f":"IF($A283=\"\",\"\",IF(O283=\"Putzbord\",Daten!$D$16,IF(O283=\"Flexila PU\",_xlfn.NUMBERVALUE(MID(Daten!$D$17,1,2)),\"-\")))","v":""},{"$f":"IF($A283=\"\",\"\",IF(OR(O283=\"Putzbord\",O283=\"Flexila PU\"),Daten!$D$18,IF(OR(O283=\"Stehbord\",O283=\"Stehbord HB\",O283=\"Flexila STB\",O283=\"Jalousiebord\"),Daten!$D$21,\"-\")))","v":""},{"$f":"IF(A283=\"\",\"\",IF(Daten!D$6=Daten!N$11,Daten!M$11,IF(Daten!D$6=Daten!N$13,Daten!M$13,IF(AND(Daten!$D$6=Daten!$M$10,Daten!$D$8=TRUE),Daten!$M$14,Daten!D$6))))","v":""},{"$f":"IF($A283=\"\",\"\",IF(OR(S283=\"Putzbord\",S283=\"Flexila PU\"),Daten!$D$15,IF(OR(S283=\"Stehbord\",S283=\"Stehbord HB\",S283=\"Flexila STB\",S283=\"Jalousiebord\"),Daten!$D$19,\"-\")))","v":""},{"$f":"IF($A283=\"\",\"\",IF(S283=\"Putzbord\",Daten!$D$16,IF(S283=\"Flexila PU\",_xlfn.NUMBERVALUE(MID(Daten!$D$17,1,2)),\"-\")))","v":""},{"$f":"IF($A283=\"\",\"\",IF(OR(S283=\"Putzbord\",S283=\"Flexila PU\"),Daten!$D$18,IF(OR(S283=\"Stehbord\",S283=\"Stehbord HB\",S283=\"Flexila STB\",S283=\"Jalousiebord\"),Daten!$D$21,\"-\")))","v":""},{"$f":"IF(A283=\"\",\"\",IF(AND(Daten!D$6=\"Jalousiebord\",OR(O283=\"Stehbord\",S283=\"Stehbord\")),\"Jalousienklinkung\",\"\"))","v":""},{"$f":"IF(W283=\"\",\"\",Daten!D$20)","v":""},null,null,{"$f":"IF(A283=\"\",\"\",IF(Daten!F$1=\"A\",\"Ohne\",IF(OR(N283=\"Gerstenkorn roh\",N283=\"Riffelblech roh\"),\"XPS\",Daten!F$2)))","v":""},{"$f":"IF(A283=\"\",\"\",IF(AA283=\"Ohne\",\"A\",IF(AA283=\"XPS\",IF(Daten!F$1=\"D\",\"B\",Daten!F$1),Daten!F$1)))","v":""},{"$f":"IF(A283=\"\",\"\",IF(AB283=\"A\",\"-\",Daten!F$7))","v":""},{"$f":"IF(A283=\"\",\"\",IF(AB283=\"A\",\"-\",IF(AND(Daten!F$8=0,O283=\"Putzbord\"),5-Q283,0)))","v":""},{"$f":"IF(A283=\"\",\"\",IF(AB283=\"A\",\"-\",IF(AND(Daten!F$8=0,S283=\"Putzbord\"),5-U283,0)))","v":""},{"$f":"IF(A283=\"\",\"\",IF(AB283=\"A\",\"-\",Daten!F$10))","v":""},{"$f":"IFERROR(IF(A283=\"\",\"\",VLOOKUP(N283,Daten!N$1:O$7,2,FALSE)),\"\")","v":""}]
[null,null,null,{"$f":"IF(A284=\"\",\"\",IF(Daten!B$3=TRUE,Daten!B$7,\"\"))","v":""},{"$f":"IFERROR(IF(C284=\"\",\"\",C284+(2*D284)+IF(O284=Daten!M$13,6,0)+IF(S284=Daten!M$13,6,0)+IF(Q284=\"-\",0,Q284)+IF(U284=\"-\",0,U284)),\"\")","v":""},{"$f":"IF(OR(A284=\"\",AND(F$1=0,Daten!F$3=FALSE)),\"\",Daten!B$6)","v":""},{"$f":"IF(A284=\"\",\"\",IF(Daten!B$5=\"??\",\"\",Daten!B$5))","v":""},{"$f":"IF(A284=\"\",\"\",IF(Daten!B$3=FALSE,\"\",Daten!B$4))","v":""},{"$f":"IFERROR(IF(A284=\"\",\"\",G284+H284+IF(AND(G284>0,H284>0),5,0))-IF(Daten!H$21=TRUE,H284,0),\"\")","v":""},{"$f":"IFERROR(IF(A284=\"\",\"\",I284+IF(Daten!H$21=TRUE,H284,0)+IF(F284=\"\",0,F284)-IF(Daten!F$3=TRUE,Daten!F$10,0)),\"\")","v":""},{"$f":"IF(A284=\"\",\"\",Daten!D$14)","v":""},{"$f":"IF(A284=\"\",\"\",Daten!D$12)","v":""},{"$f":"IF(A284=\"\",\"\",Daten!D$13)","v":""},{"$f":"IF(A284=\"\",\"\",Daten!M$2)","v":""},{"$f":"IF(A284=\"\",\"\",IF(Daten!D$6=Daten!N$11,Daten!M$11,IF(Daten!D$6=Daten!N$13,Daten!M$13,IF(AND(Daten!$D$6=Daten!$M$10,Daten!$D$8=TRUE),Daten!$M$14,Daten!D$6))))","v":""},{"$f":"IF($A284=\"\",\"\",IF(OR(O284=\"Putzbord\",O284=\"Flexila PU\"),Daten!$D$15,IF(OR(O284=\"Stehbord\",O284=\"Stehbord HB\",O284=\"Flexila STB\",O284=\"Jalousiebord\"),Daten!$D$19,\"-\")))","v":""},{"$f":"IF($A284=\"\",\"\",IF(O284=\"Putzbord\",Daten!$D$16,IF(O284=\"Flexila PU\",_xlfn.NUMBERVALUE(MID(Daten!$D$17,1,2)),\"-\")))","v":""},{"$f":"IF($A284=\"\",\"\",IF(OR(O284=\"Putzbord\",O284=\"Flexila PU\"),Daten!$D$18,IF(OR(O284=\"Stehbord\",O284=\"Stehbord HB\",O284=\"Flexila STB\",O284=\"Jalousiebord\"),Daten!$D$21,\"-\")))","v":""},{"$f":"IF(A284=\"\",\"\",IF(Daten!D$6=Daten!N$11,Daten!M$11,IF(Daten!D$6=Daten!N$13,Daten!M$13,IF(AND(Daten!$D$6=Daten!$M$10,Daten!$D$8=TRUE),Daten!$M$14,Daten!D$6))))","v":""},{"$f":"IF($A284=\"\",\"\",IF(OR(S284=\"Putzbord\",S284=\"Flexila PU\"),Daten!$D$15,IF(OR(S284=\"Stehbord\",S284=\"Stehbord HB\",S284=\"Flexila STB\",S284=\"Jalousiebord\"),Daten!$D$19,\"-\")))","v":""},{"$f":"IF($A284=\"\",\"\",IF(S284=\"Putzbord\",Daten!$D$16,IF(S284=\"Flexila PU\",_xlfn.NUMBERVALUE(MID(Daten!$D$17,1,2)),\"-\")))","v":""},{"$f":"IF($A284=\"\",\"\",IF(OR(S284=\"Putzbord\",S284=\"Flexila PU\"),Daten!$D$18,IF(OR(S284=\"Stehbord\",S284=\"Stehbord HB\",S284=\"Flexila STB\",S284=\"Jalousiebord\"),Daten!$D$21,\"-\")))","v":""},{"$f":"IF(A284=\"\",\"\",IF(AND(Daten!D$6=\"Jalousiebord\",OR(O284=\"Stehbord\",S284=\"Stehbord\")),\"Jalousienklinkung\",\"\"))","v":""},{"$f":"IF(W284=\"\",\"\",Daten!D$20)","v":""},null,null,{"$f":"IF(A284=\"\",\"\",IF(Daten!F$1=\"A\",\"Ohne\",IF(OR(N284=\"Gerstenkorn roh\",N284=\"Riffelblech roh\"),\"XPS\",Daten!F$2)))","v":""},{"$f":"IF(A284=\"\",\"\",IF(AA284=\"Ohne\",\"A\",IF(AA284=\"XPS\",IF(Daten!F$1=\"D\",\"B\",Daten!F$1),Daten!F$1)))","v":""},{"$f":"IF(A284=\"\",\"\",IF(AB284=\"A\",\"-\",Daten!F$7))","v":""},{"$f":"IF(A284=\"\",\"\",IF(AB284=\"A\",\"-\",IF(AND(Daten!F$8=0,O284=\"Putzbord\"),5-Q284,0)))","v":""},{"$f":"IF(A284=\"\",\"\",IF(AB284=\"A\",\"-\",IF(AND(Daten!F$8=0,S284=\"Putzbord\"),5-U284,0)))","v":""},{"$f":"IF(A284=\"\",\"\",IF(AB284=\"A\",\"-\",Daten!F$10))","v":""},{"$f":"IFERROR(IF(A284=\"\",\"\",VLOOKUP(N284,Daten!N$1:O$7,2,FALSE)),\"\")","v":""}]
[null,null,null,{"$f":"IF(A285=\"\",\"\",IF(Daten!B$3=TRUE,Daten!B$7,\"\"))","v":""},{"$f":"IFERROR(IF(C285=\"\",\"\",C285+(2*D285)+IF(O285=Daten!M$13,6,0)+IF(S285=Daten!M$13,6,0)+IF(Q285=\"-\",0,Q285)+IF(U285=\"-\",0,U285)),\"\")","v":""},{"$f":"IF(OR(A285=\"\",AND(F$1=0,Daten!F$3=FALSE)),\"\",Daten!B$6)","v":""},{"$f":"IF(A285=\"\",\"\",IF(Daten!B$5=\"??\",\"\",Daten!B$5))","v":""},{"$f":"IF(A285=\"\",\"\",IF(Daten!B$3=FALSE,\"\",Daten!B$4))","v":""},{"$f":"IFERROR(IF(A285=\"\",\"\",G285+H285+IF(AND(G285>0,H285>0),5,0))-IF(Daten!H$21=TRUE,H285,0),\"\")","v":""},{"$f":"IFERROR(IF(A285=\"\",\"\",I285+IF(Daten!H$21=TRUE,H285,0)+IF(F285=\"\",0,F285)-IF(Daten!F$3=TRUE,Daten!F$10,0)),\"\")","v":""},{"$f":"IF(A285=\"\",\"\",Daten!D$14)","v":""},{"$f":"IF(A285=\"\",\"\",Daten!D$12)","v":""},{"$f":"IF(A285=\"\",\"\",Daten!D$13)","v":""},{"$f":"IF(A285=\"\",\"\",Daten!M$2)","v":""},{"$f":"IF(A285=\"\",\"\",IF(Daten!D$6=Daten!N$11,Daten!M$11,IF(Daten!D$6=Daten!N$13,Daten!M$13,IF(AND(Daten!$D$6=Daten!$M$10,Daten!$D$8=TRUE),Daten!$M$14,Daten!D$6))))","v":""},{"$f":"IF($A285=\"\",\"\",IF(OR(O285=\"Putzbord\",O285=\"Flexila PU\"),Daten!$D$15,IF(OR(O285=\"Stehbord\",O285=\"Stehbord HB\",O285=\"Flexila STB\",O285=\"Jalousiebord\"),Daten!$D$19,\"-\")))","v":""},{"$f":"IF($A285=\"\",\"\",IF(O285=\"Putzbord\",Daten!$D$16,IF(O285=\"Flexila PU\",_xlfn.NUMBERVALUE(MID(Daten!$D$17,1,2)),\"-\")))","v":""},{"$f":"IF($A285=\"\",\"\",IF(OR(O285=\"Putzbord\",O285=\"Flexila PU\"),Daten!$D$18,IF(OR(O285=\"Stehbord\",O285=\"Stehbord HB\",O285=\"Flexila STB\",O285=\"Jalousiebord\"),Daten!$D$21,\"-\")))","v":""},{"$f":"IF(A285=\"\",\"\",IF(Daten!D$6=Daten!N$11,Daten!M$11,IF(Daten!D$6=Daten!N$13,Daten!M$13,IF(AND(Daten!$D$6=Daten!$M$10,Daten!$D$8=TRUE),Daten!$M$14,Daten!D$6))))","v":""},{"$f":"IF($A285=\"\",\"\",IF(OR(S285=\"Putzbord\",S285=\"Flexila PU\"),Daten!$D$15,IF(OR(S285=\"Stehbord\",S285=\"Stehbord HB\",S285=\"Flexila STB\",S285=\"Jalousiebord\"),Daten!$D$19,\"-\")))","v":""},{"$f":"IF($A285=\"\",\"\",IF(S285=\"Putzbord\",Daten!$D$16,IF(S285=\"Flexila PU\",_xlfn.NUMBERVALUE(MID(Daten!$D$17,1,2)),\"-\")))","v":""},{"$f":"IF($A285=\"\",\"\",IF(OR(S285=\"Putzbord\",S285=\"Flexila PU\"),Daten!$D$18,IF(OR(S285=\"Stehbord\",S285=\"Stehbord HB\",S285=\"Flexila STB\",S285=\"Jalousiebord\"),Daten!$D$21,\"-\")))","v":""},{"$f":"IF(A285=\"\",\"\",IF(AND(Daten!D$6=\"Jalousiebord\",OR(O285=\"Stehbord\",S285=\"Stehbord\")),\"Jalousienklinkung\",\"\"))","v":""},{"$f":"IF(W285=\"\",\"\",Daten!D$20)","v":""},null,null,{"$f":"IF(A285=\"\",\"\",IF(Daten!F$1=\"A\",\"Ohne\",IF(OR(N285=\"Gerstenkorn roh\",N285=\"Riffelblech roh\"),\"XPS\",Daten!F$2)))","v":""},{"$f":"IF(A285=\"\",\"\",IF(AA285=\"Ohne\",\"A\",IF(AA285=\"XPS\",IF(Daten!F$1=\"D\",\"B\",Daten!F$1),Daten!F$1)))","v":""},{"$f":"IF(A285=\"\",\"\",IF(AB285=\"A\",\"-\",Daten!F$7))","v":""},{"$f":"IF(A285=\"\",\"\",IF(AB285=\"A\",\"-\",IF(AND(Daten!F$8=0,O285=\"Putzbord\"),5-Q285,0)))","v":""},{"$f":"IF(A285=\"\",\"\",IF(AB285=\"A\",\"-\",IF(AND(Daten!F$8=0,S285=\"Putzbord\"),5-U285,0)))","v":""},{"$f":"IF(A285=\"\",\"\",IF(AB285=\"A\",\"-\",Daten!F$10))","v":""},{"$f":"IFERROR(IF(A285=\"\",\"\",VLOOKUP(N285,Daten!N$1:O$7,2,FALSE)),\"\")","v":""}]
[null,null,null,{"$f":"IF(A286=\"\",\"\",IF(Daten!B$3=TRUE,Daten!B$7,\"\"))","v":""},{"$f":"IFERROR(IF(C286=\"\",\"\",C286+(2*D286)+IF(O286=Daten!M$13,6,0)+IF(S286=Daten!M$13,6,0)+IF(Q286=\"-\",0,Q286)+IF(U286=\"-\",0,U286)),\"\")","v":""},{"$f":"IF(OR(A286=\"\",AND(F$1=0,Daten!F$3=FALSE)),\"\",Daten!B$6)","v":""},{"$f":"IF(A286=\"\",\"\",IF(Daten!B$5=\"??\",\"\",Daten!B$5))","v":""},{"$f":"IF(A286=\"\",\"\",IF(Daten!B$3=FALSE,\"\",Daten!B$4))","v":""},{"$f":"IFERROR(IF(A286=\"\",\"\",G286+H286+IF(AND(G286>0,H286>0),5,0))-IF(Daten!H$21=TRUE,H286,0),\"\")","v":""},{"$f":"IFERROR(IF(A286=\"\",\"\",I286+IF(Daten!H$21=TRUE,H286,0)+IF(F286=\"\",0,F286)-IF(Daten!F$3=TRUE,Daten!F$10,0)),\"\")","v":""},{"$f":"IF(A286=\"\",\"\",Daten!D$14)","v":""},{"$f":"IF(A286=\"\",\"\",Daten!D$12)","v":""},{"$f":"IF(A286=\"\",\"\",Daten!D$13)","v":""},{"$f":"IF(A286=\"\",\"\",Daten!M$2)","v":""},{"$f":"IF(A286=\"\",\"\",IF(Daten!D$6=Daten!N$11,Daten!M$11,IF(Daten!D$6=Daten!N$13,Daten!M$13,IF(AND(Daten!$D$6=Daten!$M$10,Daten!$D$8=TRUE),Daten!$M$14,Daten!D$6))))","v":""},{"$f":"IF($A286=\"\",\"\",IF(OR(O286=\"Putzbord\",O286=\"Flexila PU\"),Daten!$D$15,IF(OR(O286=\"Stehbord\",O286=\"Stehbord HB\",O286=\"Flexila STB\",O286=\"Jalousiebord\"),Daten!$D$19,\"-\")))","v":""},{"$f":"IF($A286=\"\",\"\",IF(O286=\"Putzbord\",Daten!$D$16,IF(O286=\"Flexila PU\",_xlfn.NUMBERVALUE(MID(Daten!$D$17,1,2)),\"-\")))","v":""},{"$f":"IF($A286=\"\",\"\",IF(OR(O286=\"Putzbord\",O286=\"Flexila PU\"),Daten!$D$18,IF(OR(O286=\"Stehbord\",O286=\"Stehbord HB\",O286=\"Flexila STB\",O286=\"Jalousiebord\"),Daten!$D$21,\"-\")))","v":""},{"$f":"IF(A286=\"\",\"\",IF(Daten!D$6=Daten!N$11,Daten!M$11,IF(Daten!D$6=Daten!N$13,Daten!M$13,IF(AND(Daten!$D$6=Daten!$M$10,Daten!$D$8=TRUE),Daten!$M$14,Daten!D$6))))","v":""},{"$f":"IF($A286=\"\",\"\",IF(OR(S286=\"Putzbord\",S286=\"Flexila PU\"),Daten!$D$15,IF(OR(S286=\"Stehbord\",S286=\"Stehbord HB\",S286=\"Flexila STB\",S286=\"Jalousiebord\"),Daten!$D$19,\"-\")))","v":""},{"$f":"IF($A286=\"\",\"\",IF(S286=\"Putzbord\",Daten!$D$16,IF(S286=\"Flexila PU\",_xlfn.NUMBERVALUE(MID(Daten!$D$17,1,2)),\"-\")))","v":""},{"$f":"IF($A286=\"\",\"\",IF(OR(S286=\"Putzbord\",S286=\"Flexila PU\"),Daten!$D$18,IF(OR(S286=\"Stehbord\",S286=\"Stehbord HB\",S286=\"Flexila STB\",S286=\"Jalousiebord\"),Daten!$D$21,\"-\")))","v":""},{"$f":"IF(A286=\"\",\"\",IF(AND(Daten!D$6=\"Jalousiebord\",OR(O286=\"Stehbord\",S286=\"Stehbord\")),\"Jalousienklinkung\",\"\"))","v":""},{"$f":"IF(W286=\"\",\"\",Daten!D$20)","v":""},null,null,{"$f":"IF(A286=\"\",\"\",IF(Daten!F$1=\"A\",\"Ohne\",IF(OR(N286=\"Gerstenkorn roh\",N286=\"Riffelblech roh\"),\"XPS\",Daten!F$2)))","v":""},{"$f":"IF(A286=\"\",\"\",IF(AA286=\"Ohne\",\"A\",IF(AA286=\"XPS\",IF(Daten!F$1=\"D\",\"B\",Daten!F$1),Daten!F$1)))","v":""},{"$f":"IF(A286=\"\",\"\",IF(AB286=\"A\",\"-\",Daten!F$7))","v":""},{"$f":"IF(A286=\"\",\"\",IF(AB286=\"A\",\"-\",IF(AND(Daten!F$8=0,O286=\"Putzbord\"),5-Q286,0)))","v":""},{"$f":"IF(A286=\"\",\"\",IF(AB286=\"A\",\"-\",IF(AND(Daten!F$8=0,S286=\"Putzbord\"),5-U286,0)))","v":""},{"$f":"IF(A286=\"\",\"\",IF(AB286=\"A\",\"-\",Daten!F$10))","v":""},{"$f":"IFERROR(IF(A286=\"\",\"\",VLOOKUP(N286,Daten!N$1:O$7,2,FALSE)),\"\")","v":""}]
[null,null,null,{"$f":"IF(A287=\"\",\"\",IF(Daten!B$3=TRUE,Daten!B$7,\"\"))","v":""},{"$f":"IFERROR(IF(C287=\"\",\"\",C287+(2*D287)+IF(O287=Daten!M$13,6,0)+IF(S287=Daten!M$13,6,0)+IF(Q287=\"-\",0,Q287)+IF(U287=\"-\",0,U287)),\"\")","v":""},{"$f":"IF(OR(A287=\"\",AND(F$1=0,Daten!F$3=FALSE)),\"\",Daten!B$6)","v":""},{"$f":"IF(A287=\"\",\"\",IF(Daten!B$5=\"??\",\"\",Daten!B$5))","v":""},{"$f":"IF(A287=\"\",\"\",IF(Daten!B$3=FALSE,\"\",Daten!B$4))","v":""},{"$f":"IFERROR(IF(A287=\"\",\"\",G287+H287+IF(AND(G287>0,H287>0),5,0))-IF(Daten!H$21=TRUE,H287,0),\"\")","v":""},{"$f":"IFERROR(IF(A287=\"\",\"\",I287+IF(Daten!H$21=TRUE,H287,0)+IF(F287=\"\",0,F287)-IF(Daten!F$3=TRUE,Daten!F$10,0)),\"\")","v":""},{"$f":"IF(A287=\"\",\"\",Daten!D$14)","v":""},{"$f":"IF(A287=\"\",\"\",Daten!D$12)","v":""},{"$f":"IF(A287=\"\",\"\",Daten!D$13)","v":""},{"$f":"IF(A287=\"\",\"\",Daten!M$2)","v":""},{"$f":"IF(A287=\"\",\"\",IF(Daten!D$6=Daten!N$11,Daten!M$11,IF(Daten!D$6=Daten!N$13,Daten!M$13,IF(AND(Daten!$D$6=Daten!$M$10,Daten!$D$8=TRUE),Daten!$M$14,Daten!D$6))))","v":""},{"$f":"IF($A287=\"\",\"\",IF(OR(O287=\"Putzbord\",O287=\"Flexila PU\"),Daten!$D$15,IF(OR(O287=\"Stehbord\",O287=\"Stehbord HB\",O287=\"Flexila STB\",O287=\"Jalousiebord\"),Daten!$D$19,\"-\")))","v":""},{"$f":"IF($A287=\"\",\"\",IF(O287=\"Putzbord\",Daten!$D$16,IF(O287=\"Flexila PU\",_xlfn.NUMBERVALUE(MID(Daten!$D$17,1,2)),\"-\")))","v":""},{"$f":"IF($A287=\"\",\"\",IF(OR(O287=\"Putzbord\",O287=\"Flexila PU\"),Daten!$D$18,IF(OR(O287=\"Stehbord\",O287=\"Stehbord HB\",O287=\"Flexila STB\",O287=\"Jalousiebord\"),Daten!$D$21,\"-\")))","v":""},{"$f":"IF(A287=\"\",\"\",IF(Daten!D$6=Daten!N$11,Daten!M$11,IF(Daten!D$6=Daten!N$13,Daten!M$13,IF(AND(Daten!$D$6=Daten!$M$10,Daten!$D$8=TRUE),Daten!$M$14,Daten!D$6))))","v":""},{"$f":"IF($A287=\"\",\"\",IF(OR(S287=\"Putzbord\",S287=\"Flexila PU\"),Daten!$D$15,IF(OR(S287=\"Stehbord\",S287=\"Stehbord HB\",S287=\"Flexila STB\",S287=\"Jalousiebord\"),Daten!$D$19,\"-\")))","v":""},{"$f":"IF($A287=\"\",\"\",IF(S287=\"Putzbord\",Daten!$D$16,IF(S287=\"Flexila PU\",_xlfn.NUMBERVALUE(MID(Daten!$D$17,1,2)),\"-\")))","v":""},{"$f":"IF($A287=\"\",\"\",IF(OR(S287=\"Putzbord\",S287=\"Flexila PU\"),Daten!$D$18,IF(OR(S287=\"Stehbord\",S287=\"Stehbord HB\",S287=\"Flexila STB\",S287=\"Jalousiebord\"),Daten!$D$21,\"-\")))","v":""},{"$f":"IF(A287=\"\",\"\",IF(AND(Daten!D$6=\"Jalousiebord\",OR(O287=\"Stehbord\",S287=\"Stehbord\")),\"Jalousienklinkung\",\"\"))","v":""},{"$f":"IF(W287=\"\",\"\",Daten!D$20)","v":""},null,null,{"$f":"IF(A287=\"\",\"\",IF(Daten!F$1=\"A\",\"Ohne\",IF(OR(N287=\"Gerstenkorn roh\",N287=\"Riffelblech roh\"),\"XPS\",Daten!F$2)))","v":""},{"$f":"IF(A287=\"\",\"\",IF(AA287=\"Ohne\",\"A\",IF(AA287=\"XPS\",IF(Daten!F$1=\"D\",\"B\",Daten!F$1),Daten!F$1)))","v":""},{"$f":"IF(A287=\"\",\"\",IF(AB287=\"A\",\"-\",Daten!F$7))","v":""},{"$f":"IF(A287=\"\",\"\",IF(AB287=\"A\",\"-\",IF(AND(Daten!F$8=0,O287=\"Putzbord\"),5-Q287,0)))","v":""},{"$f":"IF(A287=\"\",\"\",IF(AB287=\"A\",\"-\",IF(AND(Daten!F$8=0,S287=\"Putzbord\"),5-U287,0)))","v":""},{"$f":"IF(A287=\"\",\"\",IF(AB287=\"A\",\"-\",Daten!F$10))","v":""},{"$f":"IFERROR(IF(A287=\"\",\"\",VLOOKUP(N287,Daten!N$1:O$7,2,FALSE)),\"\")","v":""}]
[null,null,null,{"$f":"IF(A288=\"\",\"\",IF(Daten!B$3=TRUE,Daten!B$7,\"\"))","v":""},{"$f":"IFERROR(IF(C288=\"\",\"\",C288+(2*D288)+IF(O288=Daten!M$13,6,0)+IF(S288=Daten!M$13,6,0)+IF(Q288=\"-\",0,Q288)+IF(U288=\"-\",0,U288)),\"\")","v":""},{"$f":"IF(OR(A288=\"\",AND(F$1=0,Daten!F$3=FALSE)),\"\",Daten!B$6)","v":""},{"$f":"IF(A288=\"\",\"\",IF(Daten!B$5=\"??\",\"\",Daten!B$5))","v":""},{"$f":"IF(A288=\"\",\"\",IF(Daten!B$3=FALSE,\"\",Daten!B$4))","v":""},{"$f":"IFERROR(IF(A288=\"\",\"\",G288+H288+IF(AND(G288>0,H288>0),5,0))-IF(Daten!H$21=TRUE,H288,0),\"\")","v":""},{"$f":"IFERROR(IF(A288=\"\",\"\",I288+IF(Daten!H$21=TRUE,H288,0)+IF(F288=\"\",0,F288)-IF(Daten!F$3=TRUE,Daten!F$10,0)),\"\")","v":""},{"$f":"IF(A288=\"\",\"\",Daten!D$14)","v":""},{"$f":"IF(A288=\"\",\"\",Daten!D$12)","v":""},{"$f":"IF(A288=\"\",\"\",Daten!D$13)","v":""},{"$f":"IF(A288=\"\",\"\",Daten!M$2)","v":""},{"$f":"IF(A288=\"\",\"\",IF(Daten!D$6=Daten!N$11,Daten!M$11,IF(Daten!D$6=Daten!N$13,Daten!M$13,IF(AND(Daten!$D$6=Daten!$M$10,Daten!$D$8=TRUE),Daten!$M$14,Daten!D$6))))","v":""},{"$f":"IF($A288=\"\",\"\",IF(OR(O288=\"Putzbord\",O288=\"Flexila PU\"),Daten!$D$15,IF(OR(O288=\"Stehbord\",O288=\"Stehbord HB\",O288=\"Flexila STB\",O288=\"Jalousiebord\"),Daten!$D$19,\"-\")))","v":""},{"$f":"IF($A288=\"\",\"\",IF(O288=\"Putzbord\",Daten!$D$16,IF(O288=\"Flexila PU\",_xlfn.NUMBERVALUE(MID(Daten!$D$17,1,2)),\"-\")))","v":""},{"$f":"IF($A288=\"\",\"\",IF(OR(O288=\"Putzbord\",O288=\"Flexila PU\"),Daten!$D$18,IF(OR(O288=\"Stehbord\",O288=\"Stehbord HB\",O288=\"Flexila STB\",O288=\"Jalousiebord\"),Daten!$D$21,\"-\")))","v":""},{"$f":"IF(A288=\"\",\"\",IF(Daten!D$6=Daten!N$11,Daten!M$11,IF(Daten!D$6=Daten!N$13,Daten!M$13,IF(AND(Daten!$D$6=Daten!$M$10,Daten!$D$8=TRUE),Daten!$M$14,Daten!D$6))))","v":""},{"$f":"IF($A288=\"\",\"\",IF(OR(S288=\"Putzbord\",S288=\"Flexila PU\"),Daten!$D$15,IF(OR(S288=\"Stehbord\",S288=\"Stehbord HB\",S288=\"Flexila STB\",S288=\"Jalousiebord\"),Daten!$D$19,\"-\")))","v":""},{"$f":"IF($A288=\"\",\"\",IF(S288=\"Putzbord\",Daten!$D$16,IF(S288=\"Flexila PU\",_xlfn.NUMBERVALUE(MID(Daten!$D$17,1,2)),\"-\")))","v":""},{"$f":"IF($A288=\"\",\"\",IF(OR(S288=\"Putzbord\",S288=\"Flexila PU\"),Daten!$D$18,IF(OR(S288=\"Stehbord\",S288=\"Stehbord HB\",S288=\"Flexila STB\",S288=\"Jalousiebord\"),Daten!$D$21,\"-\")))","v":""},{"$f":"IF(A288=\"\",\"\",IF(AND(Daten!D$6=\"Jalousiebord\",OR(O288=\"Stehbord\",S288=\"Stehbord\")),\"Jalousienklinkung\",\"\"))","v":""},{"$f":"IF(W288=\"\",\"\",Daten!D$20)","v":""},null,null,{"$f":"IF(A288=\"\",\"\",IF(Daten!F$1=\"A\",\"Ohne\",IF(OR(N288=\"Gerstenkorn roh\",N288=\"Riffelblech roh\"),\"XPS\",Daten!F$2)))","v":""},{"$f":"IF(A288=\"\",\"\",IF(AA288=\"Ohne\",\"A\",IF(AA288=\"XPS\",IF(Daten!F$1=\"D\",\"B\",Daten!F$1),Daten!F$1)))","v":""},{"$f":"IF(A288=\"\",\"\",IF(AB288=\"A\",\"-\",Daten!F$7))","v":""},{"$f":"IF(A288=\"\",\"\",IF(AB288=\"A\",\"-\",IF(AND(Daten!F$8=0,O288=\"Putzbord\"),5-Q288,0)))","v":""},{"$f":"IF(A288=\"\",\"\",IF(AB288=\"A\",\"-\",IF(AND(Daten!F$8=0,S288=\"Putzbord\"),5-U288,0)))","v":""},{"$f":"IF(A288=\"\",\"\",IF(AB288=\"A\",\"-\",Daten!F$10))","v":""},{"$f":"IFERROR(IF(A288=\"\",\"\",VLOOKUP(N288,Daten!N$1:O$7,2,FALSE)),\"\")","v":""}]
[null,null,null,{"$f":"IF(A289=\"\",\"\",IF(Daten!B$3=TRUE,Daten!B$7,\"\"))","v":""},{"$f":"IFERROR(IF(C289=\"\",\"\",C289+(2*D289)+IF(O289=Daten!M$13,6,0)+IF(S289=Daten!M$13,6,0)+IF(Q289=\"-\",0,Q289)+IF(U289=\"-\",0,U289)),\"\")","v":""},{"$f":"IF(OR(A289=\"\",AND(F$1=0,Daten!F$3=FALSE)),\"\",Daten!B$6)","v":""},{"$f":"IF(A289=\"\",\"\",IF(Daten!B$5=\"??\",\"\",Daten!B$5))","v":""},{"$f":"IF(A289=\"\",\"\",IF(Daten!B$3=FALSE,\"\",Daten!B$4))","v":""},{"$f":"IFERROR(IF(A289=\"\",\"\",G289+H289+IF(AND(G289>0,H289>0),5,0))-IF(Daten!H$21=TRUE,H289,0),\"\")","v":""},{"$f":"IFERROR(IF(A289=\"\",\"\",I289+IF(Daten!H$21=TRUE,H289,0)+IF(F289=\"\",0,F289)-IF(Daten!F$3=TRUE,Daten!F$10,0)),\"\")","v":""},{"$f":"IF(A289=\"\",\"\",Daten!D$14)","v":""},{"$f":"IF(A289=\"\",\"\",Daten!D$12)","v":""},{"$f":"IF(A289=\"\",\"\",Daten!D$13)","v":""},{"$f":"IF(A289=\"\",\"\",Daten!M$2)","v":""},{"$f":"IF(A289=\"\",\"\",IF(Daten!D$6=Daten!N$11,Daten!M$11,IF(Daten!D$6=Daten!N$13,Daten!M$13,IF(AND(Daten!$D$6=Daten!$M$10,Daten!$D$8=TRUE),Daten!$M$14,Daten!D$6))))","v":""},{"$f":"IF($A289=\"\",\"\",IF(OR(O289=\"Putzbord\",O289=\"Flexila PU\"),Daten!$D$15,IF(OR(O289=\"Stehbord\",O289=\"Stehbord HB\",O289=\"Flexila STB\",O289=\"Jalousiebord\"),Daten!$D$19,\"-\")))","v":""},{"$f":"IF($A289=\"\",\"\",IF(O289=\"Putzbord\",Daten!$D$16,IF(O289=\"Flexila PU\",_xlfn.NUMBERVALUE(MID(Daten!$D$17,1,2)),\"-\")))","v":""},{"$f":"IF($A289=\"\",\"\",IF(OR(O289=\"Putzbord\",O289=\"Flexila PU\"),Daten!$D$18,IF(OR(O289=\"Stehbord\",O289=\"Stehbord HB\",O289=\"Flexila STB\",O289=\"Jalousiebord\"),Daten!$D$21,\"-\")))","v":""},{"$f":"IF(A289=\"\",\"\",IF(Daten!D$6=Daten!N$11,Daten!M$11,IF(Daten!D$6=Daten!N$13,Daten!M$13,IF(AND(Daten!$D$6=Daten!$M$10,Daten!$D$8=TRUE),Daten!$M$14,Daten!D$6))))","v":""},{"$f":"IF($A289=\"\",\"\",IF(OR(S289=\"Putzbord\",S289=\"Flexila PU\"),Daten!$D$15,IF(OR(S289=\"Stehbord\",S289=\"Stehbord HB\",S289=\"Flexila STB\",S289=\"Jalousiebord\"),Daten!$D$19,\"-\")))","v":""},{"$f":"IF($A289=\"\",\"\",IF(S289=\"Putzbord\",Daten!$D$16,IF(S289=\"Flexila PU\",_xlfn.NUMBERVALUE(MID(Daten!$D$17,1,2)),\"-\")))","v":""},{"$f":"IF($A289=\"\",\"\",IF(OR(S289=\"Putzbord\",S289=\"Flexila PU\"),Daten!$D$18,IF(OR(S289=\"Stehbord\",S289=\"Stehbord HB\",S289=\"Flexila STB\",S289=\"Jalousiebord\"),Daten!$D$21,\"-\")))","v":""},{"$f":"IF(A289=\"\",\"\",IF(AND(Daten!D$6=\"Jalousiebord\",OR(O289=\"Stehbord\",S289=\"Stehbord\")),\"Jalousienklinkung\",\"\"))","v":""},{"$f":"IF(W289=\"\",\"\",Daten!D$20)","v":""},null,null,{"$f":"IF(A289=\"\",\"\",IF(Daten!F$1=\"A\",\"Ohne\",IF(OR(N289=\"Gerstenkorn roh\",N289=\"Riffelblech roh\"),\"XPS\",Daten!F$2)))","v":""},{"$f":"IF(A289=\"\",\"\",IF(AA289=\"Ohne\",\"A\",IF(AA289=\"XPS\",IF(Daten!F$1=\"D\",\"B\",Daten!F$1),Daten!F$1)))","v":""},{"$f":"IF(A289=\"\",\"\",IF(AB289=\"A\",\"-\",Daten!F$7))","v":""},{"$f":"IF(A289=\"\",\"\",IF(AB289=\"A\",\"-\",IF(AND(Daten!F$8=0,O289=\"Putzbord\"),5-Q289,0)))","v":""},{"$f":"IF(A289=\"\",\"\",IF(AB289=\"A\",\"-\",IF(AND(Daten!F$8=0,S289=\"Putzbord\"),5-U289,0)))","v":""},{"$f":"IF(A289=\"\",\"\",IF(AB289=\"A\",\"-\",Daten!F$10))","v":""},{"$f":"IFERROR(IF(A289=\"\",\"\",VLOOKUP(N289,Daten!N$1:O$7,2,FALSE)),\"\")","v":""}]
[null,null,null,{"$f":"IF(A290=\"\",\"\",IF(Daten!B$3=TRUE,Daten!B$7,\"\"))","v":""},{"$f":"IFERROR(IF(C290=\"\",\"\",C290+(2*D290)+IF(O290=Daten!M$13,6,0)+IF(S290=Daten!M$13,6,0)+IF(Q290=\"-\",0,Q290)+IF(U290=\"-\",0,U290)),\"\")","v":""},{"$f":"IF(OR(A290=\"\",AND(F$1=0,Daten!F$3=FALSE)),\"\",Daten!B$6)","v":""},{"$f":"IF(A290=\"\",\"\",IF(Daten!B$5=\"??\",\"\",Daten!B$5))","v":""},{"$f":"IF(A290=\"\",\"\",IF(Daten!B$3=FALSE,\"\",Daten!B$4))","v":""},{"$f":"IFERROR(IF(A290=\"\",\"\",G290+H290+IF(AND(G290>0,H290>0),5,0))-IF(Daten!H$21=TRUE,H290,0),\"\")","v":""},{"$f":"IFERROR(IF(A290=\"\",\"\",I290+IF(Daten!H$21=TRUE,H290,0)+IF(F290=\"\",0,F290)-IF(Daten!F$3=TRUE,Daten!F$10,0)),\"\")","v":""},{"$f":"IF(A290=\"\",\"\",Daten!D$14)","v":""},{"$f":"IF(A290=\"\",\"\",Daten!D$12)","v":""},{"$f":"IF(A290=\"\",\"\",Daten!D$13)","v":""},{"$f":"IF(A290=\"\",\"\",Daten!M$2)","v":""},{"$f":"IF(A290=\"\",\"\",IF(Daten!D$6=Daten!N$11,Daten!M$11,IF(Daten!D$6=Daten!N$13,Daten!M$13,IF(AND(Daten!$D$6=Daten!$M$10,Daten!$D$8=TRUE),Daten!$M$14,Daten!D$6))))","v":""},{"$f":"IF($A290=\"\",\"\",IF(OR(O290=\"Putzbord\",O290=\"Flexila PU\"),Daten!$D$15,IF(OR(O290=\"Stehbord\",O290=\"Stehbord HB\",O290=\"Flexila STB\",O290=\"Jalousiebord\"),Daten!$D$19,\"-\")))","v":""},{"$f":"IF($A290=\"\",\"\",IF(O290=\"Putzbord\",Daten!$D$16,IF(O290=\"Flexila PU\",_xlfn.NUMBERVALUE(MID(Daten!$D$17,1,2)),\"-\")))","v":""},{"$f":"IF($A290=\"\",\"\",IF(OR(O290=\"Putzbord\",O290=\"Flexila PU\"),Daten!$D$18,IF(OR(O290=\"Stehbord\",O290=\"Stehbord HB\",O290=\"Flexila STB\",O290=\"Jalousiebord\"),Daten!$D$21,\"-\")))","v":""},{"$f":"IF(A290=\"\",\"\",IF(Daten!D$6=Daten!N$11,Daten!M$11,IF(Daten!D$6=Daten!N$13,Daten!M$13,IF(AND(Daten!$D$6=Daten!$M$10,Daten!$D$8=TRUE),Daten!$M$14,Daten!D$6))))","v":""},{"$f":"IF($A290=\"\",\"\",IF(OR(S290=\"Putzbord\",S290=\"Flexila PU\"),Daten!$D$15,IF(OR(S290=\"Stehbord\",S290=\"Stehbord HB\",S290=\"Flexila STB\",S290=\"Jalousiebord\"),Daten!$D$19,\"-\")))","v":""},{"$f":"IF($A290=\"\",\"\",IF(S290=\"Putzbord\",Daten!$D$16,IF(S290=\"Flexila PU\",_xlfn.NUMBERVALUE(MID(Daten!$D$17,1,2)),\"-\")))","v":""},{"$f":"IF($A290=\"\",\"\",IF(OR(S290=\"Putzbord\",S290=\"Flexila PU\"),Daten!$D$18,IF(OR(S290=\"Stehbord\",S290=\"Stehbord HB\",S290=\"Flexila STB\",S290=\"Jalousiebord\"),Daten!$D$21,\"-\")))","v":""},{"$f":"IF(A290=\"\",\"\",IF(AND(Daten!D$6=\"Jalousiebord\",OR(O290=\"Stehbord\",S290=\"Stehbord\")),\"Jalousienklinkung\",\"\"))","v":""},{"$f":"IF(W290=\"\",\"\",Daten!D$20)","v":""},null,null,{"$f":"IF(A290=\"\",\"\",IF(Daten!F$1=\"A\",\"Ohne\",IF(OR(N290=\"Gerstenkorn roh\",N290=\"Riffelblech roh\"),\"XPS\",Daten!F$2)))","v":""},{"$f":"IF(A290=\"\",\"\",IF(AA290=\"Ohne\",\"A\",IF(AA290=\"XPS\",IF(Daten!F$1=\"D\",\"B\",Daten!F$1),Daten!F$1)))","v":""},{"$f":"IF(A290=\"\",\"\",IF(AB290=\"A\",\"-\",Daten!F$7))","v":""},{"$f":"IF(A290=\"\",\"\",IF(AB290=\"A\",\"-\",IF(AND(Daten!F$8=0,O290=\"Putzbord\"),5-Q290,0)))","v":""},{"$f":"IF(A290=\"\",\"\",IF(AB290=\"A\",\"-\",IF(AND(Daten!F$8=0,S290=\"Putzbord\"),5-U290,0)))","v":""},{"$f":"IF(A290=\"\",\"\",IF(AB290=\"A\",\"-\",Daten!F$10))","v":""},{"$f":"IFERROR(IF(A290=\"\",\"\",VLOOKUP(N290,Daten!N$1:O$7,2,FALSE)),\"\")","v":""}]
[null,null,null,{"$f":"IF(A291=\"\",\"\",IF(Daten!B$3=TRUE,Daten!B$7,\"\"))","v":""},{"$f":"IFERROR(IF(C291=\"\",\"\",C291+(2*D291)+IF(O291=Daten!M$13,6,0)+IF(S291=Daten!M$13,6,0)+IF(Q291=\"-\",0,Q291)+IF(U291=\"-\",0,U291)),\"\")","v":""},{"$f":"IF(OR(A291=\"\",AND(F$1=0,Daten!F$3=FALSE)),\"\",Daten!B$6)","v":""},{"$f":"IF(A291=\"\",\"\",IF(Daten!B$5=\"??\",\"\",Daten!B$5))","v":""},{"$f":"IF(A291=\"\",\"\",IF(Daten!B$3=FALSE,\"\",Daten!B$4))","v":""},{"$f":"IFERROR(IF(A291=\"\",\"\",G291+H291+IF(AND(G291>0,H291>0),5,0))-IF(Daten!H$21=TRUE,H291,0),\"\")","v":""},{"$f":"IFERROR(IF(A291=\"\",\"\",I291+IF(Daten!H$21=TRUE,H291,0)+IF(F291=\"\",0,F291)-IF(Daten!F$3=TRUE,Daten!F$10,0)),\"\")","v":""},{"$f":"IF(A291=\"\",\"\",Daten!D$14)","v":""},{"$f":"IF(A291=\"\",\"\",Daten!D$12)","v":""},{"$f":"IF(A291=\"\",\"\",Daten!D$13)","v":""},{"$f":"IF(A291=\"\",\"\",Daten!M$2)","v":""},{"$f":"IF(A291=\"\",\"\",IF(Daten!D$6=Daten!N$11,Daten!M$11,IF(Daten!D$6=Daten!N$13,Daten!M$13,IF(AND(Daten!$D$6=Daten!$M$10,Daten!$D$8=TRUE),Daten!$M$14,Daten!D$6))))","v":""},{"$f":"IF($A291=\"\",\"\",IF(OR(O291=\"Putzbord\",O291=\"Flexila PU\"),Daten!$D$15,IF(OR(O291=\"Stehbord\",O291=\"Stehbord HB\",O291=\"Flexila STB\",O291=\"Jalousiebord\"),Daten!$D$19,\"-\")))","v":""},{"$f":"IF($A291=\"\",\"\",IF(O291=\"Putzbord\",Daten!$D$16,IF(O291=\"Flexila PU\",_xlfn.NUMBERVALUE(MID(Daten!$D$17,1,2)),\"-\")))","v":""},{"$f":"IF($A291=\"\",\"\",IF(OR(O291=\"Putzbord\",O291=\"Flexila PU\"),Daten!$D$18,IF(OR(O291=\"Stehbord\",O291=\"Stehbord HB\",O291=\"Flexila STB\",O291=\"Jalousiebord\"),Daten!$D$21,\"-\")))","v":""},{"$f":"IF(A291=\"\",\"\",IF(Daten!D$6=Daten!N$11,Daten!M$11,IF(Daten!D$6=Daten!N$13,Daten!M$13,IF(AND(Daten!$D$6=Daten!$M$10,Daten!$D$8=TRUE),Daten!$M$14,Daten!D$6))))","v":""},{"$f":"IF($A291=\"\",\"\",IF(OR(S291=\"Putzbord\",S291=\"Flexila PU\"),Daten!$D$15,IF(OR(S291=\"Stehbord\",S291=\"Stehbord HB\",S291=\"Flexila STB\",S291=\"Jalousiebord\"),Daten!$D$19,\"-\")))","v":""},{"$f":"IF($A291=\"\",\"\",IF(S291=\"Putzbord\",Daten!$D$16,IF(S291=\"Flexila PU\",_xlfn.NUMBERVALUE(MID(Daten!$D$17,1,2)),\"-\")))","v":""},{"$f":"IF($A291=\"\",\"\",IF(OR(S291=\"Putzbord\",S291=\"Flexila PU\"),Daten!$D$18,IF(OR(S291=\"Stehbord\",S291=\"Stehbord HB\",S291=\"Flexila STB\",S291=\"Jalousiebord\"),Daten!$D$21,\"-\")))","v":""},{"$f":"IF(A291=\"\",\"\",IF(AND(Daten!D$6=\"Jalousiebord\",OR(O291=\"Stehbord\",S291=\"Stehbord\")),\"Jalousienklinkung\",\"\"))","v":""},{"$f":"IF(W291=\"\",\"\",Daten!D$20)","v":""},null,null,{"$f":"IF(A291=\"\",\"\",IF(Daten!F$1=\"A\",\"Ohne\",IF(OR(N291=\"Gerstenkorn roh\",N291=\"Riffelblech roh\"),\"XPS\",Daten!F$2)))","v":""},{"$f":"IF(A291=\"\",\"\",IF(AA291=\"Ohne\",\"A\",IF(AA291=\"XPS\",IF(Daten!F$1=\"D\",\"B\",Daten!F$1),Daten!F$1)))","v":""},{"$f":"IF(A291=\"\",\"\",IF(AB291=\"A\",\"-\",Daten!F$7))","v":""},{"$f":"IF(A291=\"\",\"\",IF(AB291=\"A\",\"-\",IF(AND(Daten!F$8=0,O291=\"Putzbord\"),5-Q291,0)))","v":""},{"$f":"IF(A291=\"\",\"\",IF(AB291=\"A\",\"-\",IF(AND(Daten!F$8=0,S291=\"Putzbord\"),5-U291,0)))","v":""},{"$f":"IF(A291=\"\",\"\",IF(AB291=\"A\",\"-\",Daten!F$10))","v":""},{"$f":"IFERROR(IF(A291=\"\",\"\",VLOOKUP(N291,Daten!N$1:O$7,2,FALSE)),\"\")","v":""}]
[null,null,null,{"$f":"IF(A292=\"\",\"\",IF(Daten!B$3=TRUE,Daten!B$7,\"\"))","v":""},{"$f":"IFERROR(IF(C292=\"\",\"\",C292+(2*D292)+IF(O292=Daten!M$13,6,0)+IF(S292=Daten!M$13,6,0)+IF(Q292=\"-\",0,Q292)+IF(U292=\"-\",0,U292)),\"\")","v":""},{"$f":"IF(OR(A292=\"\",AND(F$1=0,Daten!F$3=FALSE)),\"\",Daten!B$6)","v":""},{"$f":"IF(A292=\"\",\"\",IF(Daten!B$5=\"??\",\"\",Daten!B$5))","v":""},{"$f":"IF(A292=\"\",\"\",IF(Daten!B$3=FALSE,\"\",Daten!B$4))","v":""},{"$f":"IFERROR(IF(A292=\"\",\"\",G292+H292+IF(AND(G292>0,H292>0),5,0))-IF(Daten!H$21=TRUE,H292,0),\"\")","v":""},{"$f":"IFERROR(IF(A292=\"\",\"\",I292+IF(Daten!H$21=TRUE,H292,0)+IF(F292=\"\",0,F292)-IF(Daten!F$3=TRUE,Daten!F$10,0)),\"\")","v":""},{"$f":"IF(A292=\"\",\"\",Daten!D$14)","v":""},{"$f":"IF(A292=\"\",\"\",Daten!D$12)","v":""},{"$f":"IF(A292=\"\",\"\",Daten!D$13)","v":""},{"$f":"IF(A292=\"\",\"\",Daten!M$2)","v":""},{"$f":"IF(A292=\"\",\"\",IF(Daten!D$6=Daten!N$11,Daten!M$11,IF(Daten!D$6=Daten!N$13,Daten!M$13,IF(AND(Daten!$D$6=Daten!$M$10,Daten!$D$8=TRUE),Daten!$M$14,Daten!D$6))))","v":""},{"$f":"IF($A292=\"\",\"\",IF(OR(O292=\"Putzbord\",O292=\"Flexila PU\"),Daten!$D$15,IF(OR(O292=\"Stehbord\",O292=\"Stehbord HB\",O292=\"Flexila STB\",O292=\"Jalousiebord\"),Daten!$D$19,\"-\")))","v":""},{"$f":"IF($A292=\"\",\"\",IF(O292=\"Putzbord\",Daten!$D$16,IF(O292=\"Flexila PU\",_xlfn.NUMBERVALUE(MID(Daten!$D$17,1,2)),\"-\")))","v":""},{"$f":"IF($A292=\"\",\"\",IF(OR(O292=\"Putzbord\",O292=\"Flexila PU\"),Daten!$D$18,IF(OR(O292=\"Stehbord\",O292=\"Stehbord HB\",O292=\"Flexila STB\",O292=\"Jalousiebord\"),Daten!$D$21,\"-\")))","v":""},{"$f":"IF(A292=\"\",\"\",IF(Daten!D$6=Daten!N$11,Daten!M$11,IF(Daten!D$6=Daten!N$13,Daten!M$13,IF(AND(Daten!$D$6=Daten!$M$10,Daten!$D$8=TRUE),Daten!$M$14,Daten!D$6))))","v":""},{"$f":"IF($A292=\"\",\"\",IF(OR(S292=\"Putzbord\",S292=\"Flexila PU\"),Daten!$D$15,IF(OR(S292=\"Stehbord\",S292=\"Stehbord HB\",S292=\"Flexila STB\",S292=\"Jalousiebord\"),Daten!$D$19,\"-\")))","v":""},{"$f":"IF($A292=\"\",\"\",IF(S292=\"Putzbord\",Daten!$D$16,IF(S292=\"Flexila PU\",_xlfn.NUMBERVALUE(MID(Daten!$D$17,1,2)),\"-\")))","v":""},{"$f":"IF($A292=\"\",\"\",IF(OR(S292=\"Putzbord\",S292=\"Flexila PU\"),Daten!$D$18,IF(OR(S292=\"Stehbord\",S292=\"Stehbord HB\",S292=\"Flexila STB\",S292=\"Jalousiebord\"),Daten!$D$21,\"-\")))","v":""},{"$f":"IF(A292=\"\",\"\",IF(AND(Daten!D$6=\"Jalousiebord\",OR(O292=\"Stehbord\",S292=\"Stehbord\")),\"Jalousienklinkung\",\"\"))","v":""},{"$f":"IF(W292=\"\",\"\",Daten!D$20)","v":""},null,null,{"$f":"IF(A292=\"\",\"\",IF(Daten!F$1=\"A\",\"Ohne\",IF(OR(N292=\"Gerstenkorn roh\",N292=\"Riffelblech roh\"),\"XPS\",Daten!F$2)))","v":""},{"$f":"IF(A292=\"\",\"\",IF(AA292=\"Ohne\",\"A\",IF(AA292=\"XPS\",IF(Daten!F$1=\"D\",\"B\",Daten!F$1),Daten!F$1)))","v":""},{"$f":"IF(A292=\"\",\"\",IF(AB292=\"A\",\"-\",Daten!F$7))","v":""},{"$f":"IF(A292=\"\",\"\",IF(AB292=\"A\",\"-\",IF(AND(Daten!F$8=0,O292=\"Putzbord\"),5-Q292,0)))","v":""},{"$f":"IF(A292=\"\",\"\",IF(AB292=\"A\",\"-\",IF(AND(Daten!F$8=0,S292=\"Putzbord\"),5-U292,0)))","v":""},{"$f":"IF(A292=\"\",\"\",IF(AB292=\"A\",\"-\",Daten!F$10))","v":""},{"$f":"IFERROR(IF(A292=\"\",\"\",VLOOKUP(N292,Daten!N$1:O$7,2,FALSE)),\"\")","v":""}]
[null,null,null,{"$f":"IF(A293=\"\",\"\",IF(Daten!B$3=TRUE,Daten!B$7,\"\"))","v":""},{"$f":"IFERROR(IF(C293=\"\",\"\",C293+(2*D293)+IF(O293=Daten!M$13,6,0)+IF(S293=Daten!M$13,6,0)+IF(Q293=\"-\",0,Q293)+IF(U293=\"-\",0,U293)),\"\")","v":""},{"$f":"IF(OR(A293=\"\",AND(F$1=0,Daten!F$3=FALSE)),\"\",Daten!B$6)","v":""},{"$f":"IF(A293=\"\",\"\",IF(Daten!B$5=\"??\",\"\",Daten!B$5))","v":""},{"$f":"IF(A293=\"\",\"\",IF(Daten!B$3=FALSE,\"\",Daten!B$4))","v":""},{"$f":"IFERROR(IF(A293=\"\",\"\",G293+H293+IF(AND(G293>0,H293>0),5,0))-IF(Daten!H$21=TRUE,H293,0),\"\")","v":""},{"$f":"IFERROR(IF(A293=\"\",\"\",I293+IF(Daten!H$21=TRUE,H293,0)+IF(F293=\"\",0,F293)-IF(Daten!F$3=TRUE,Daten!F$10,0)),\"\")","v":""},{"$f":"IF(A293=\"\",\"\",Daten!D$14)","v":""},{"$f":"IF(A293=\"\",\"\",Daten!D$12)","v":""},{"$f":"IF(A293=\"\",\"\",Daten!D$13)","v":""},{"$f":"IF(A293=\"\",\"\",Daten!M$2)","v":""},{"$f":"IF(A293=\"\",\"\",IF(Daten!D$6=Daten!N$11,Daten!M$11,IF(Daten!D$6=Daten!N$13,Daten!M$13,IF(AND(Daten!$D$6=Daten!$M$10,Daten!$D$8=TRUE),Daten!$M$14,Daten!D$6))))","v":""},{"$f":"IF($A293=\"\",\"\",IF(OR(O293=\"Putzbord\",O293=\"Flexila PU\"),Daten!$D$15,IF(OR(O293=\"Stehbord\",O293=\"Stehbord HB\",O293=\"Flexila STB\",O293=\"Jalousiebord\"),Daten!$D$19,\"-\")))","v":""},{"$f":"IF($A293=\"\",\"\",IF(O293=\"Putzbord\",Daten!$D$16,IF(O293=\"Flexila PU\",_xlfn.NUMBERVALUE(MID(Daten!$D$17,1,2)),\"-\")))","v":""},{"$f":"IF($A293=\"\",\"\",IF(OR(O293=\"Putzbord\",O293=\"Flexila PU\"),Daten!$D$18,IF(OR(O293=\"Stehbord\",O293=\"Stehbord HB\",O293=\"Flexila STB\",O293=\"Jalousiebord\"),Daten!$D$21,\"-\")))","v":""},{"$f":"IF(A293=\"\",\"\",IF(Daten!D$6=Daten!N$11,Daten!M$11,IF(Daten!D$6=Daten!N$13,Daten!M$13,IF(AND(Daten!$D$6=Daten!$M$10,Daten!$D$8=TRUE),Daten!$M$14,Daten!D$6))))","v":""},{"$f":"IF($A293=\"\",\"\",IF(OR(S293=\"Putzbord\",S293=\"Flexila PU\"),Daten!$D$15,IF(OR(S293=\"Stehbord\",S293=\"Stehbord HB\",S293=\"Flexila STB\",S293=\"Jalousiebord\"),Daten!$D$19,\"-\")))","v":""},{"$f":"IF($A293=\"\",\"\",IF(S293=\"Putzbord\",Daten!$D$16,IF(S293=\"Flexila PU\",_xlfn.NUMBERVALUE(MID(Daten!$D$17,1,2)),\"-\")))","v":""},{"$f":"IF($A293=\"\",\"\",IF(OR(S293=\"Putzbord\",S293=\"Flexila PU\"),Daten!$D$18,IF(OR(S293=\"Stehbord\",S293=\"Stehbord HB\",S293=\"Flexila STB\",S293=\"Jalousiebord\"),Daten!$D$21,\"-\")))","v":""},{"$f":"IF(A293=\"\",\"\",IF(AND(Daten!D$6=\"Jalousiebord\",OR(O293=\"Stehbord\",S293=\"Stehbord\")),\"Jalousienklinkung\",\"\"))","v":""},{"$f":"IF(W293=\"\",\"\",Daten!D$20)","v":""},null,null,{"$f":"IF(A293=\"\",\"\",IF(Daten!F$1=\"A\",\"Ohne\",IF(OR(N293=\"Gerstenkorn roh\",N293=\"Riffelblech roh\"),\"XPS\",Daten!F$2)))","v":""},{"$f":"IF(A293=\"\",\"\",IF(AA293=\"Ohne\",\"A\",IF(AA293=\"XPS\",IF(Daten!F$1=\"D\",\"B\",Daten!F$1),Daten!F$1)))","v":""},{"$f":"IF(A293=\"\",\"\",IF(AB293=\"A\",\"-\",Daten!F$7))","v":""},{"$f":"IF(A293=\"\",\"\",IF(AB293=\"A\",\"-\",IF(AND(Daten!F$8=0,O293=\"Putzbord\"),5-Q293,0)))","v":""},{"$f":"IF(A293=\"\",\"\",IF(AB293=\"A\",\"-\",IF(AND(Daten!F$8=0,S293=\"Putzbord\"),5-U293,0)))","v":""},{"$f":"IF(A293=\"\",\"\",IF(AB293=\"A\",\"-\",Daten!F$10))","v":""},{"$f":"IFERROR(IF(A293=\"\",\"\",VLOOKUP(N293,Daten!N$1:O$7,2,FALSE)),\"\")","v":""}]
[null,null,null,{"$f":"IF(A294=\"\",\"\",IF(Daten!B$3=TRUE,Daten!B$7,\"\"))","v":""},{"$f":"IFERROR(IF(C294=\"\",\"\",C294+(2*D294)+IF(O294=Daten!M$13,6,0)+IF(S294=Daten!M$13,6,0)+IF(Q294=\"-\",0,Q294)+IF(U294=\"-\",0,U294)),\"\")","v":""},{"$f":"IF(OR(A294=\"\",AND(F$1=0,Daten!F$3=FALSE)),\"\",Daten!B$6)","v":""},{"$f":"IF(A294=\"\",\"\",IF(Daten!B$5=\"??\",\"\",Daten!B$5))","v":""},{"$f":"IF(A294=\"\",\"\",IF(Daten!B$3=FALSE,\"\",Daten!B$4))","v":""},{"$f":"IFERROR(IF(A294=\"\",\"\",G294+H294+IF(AND(G294>0,H294>0),5,0))-IF(Daten!H$21=TRUE,H294,0),\"\")","v":""},{"$f":"IFERROR(IF(A294=\"\",\"\",I294+IF(Daten!H$21=TRUE,H294,0)+IF(F294=\"\",0,F294)-IF(Daten!F$3=TRUE,Daten!F$10,0)),\"\")","v":""},{"$f":"IF(A294=\"\",\"\",Daten!D$14)","v":""},{"$f":"IF(A294=\"\",\"\",Daten!D$12)","v":""},{"$f":"IF(A294=\"\",\"\",Daten!D$13)","v":""},{"$f":"IF(A294=\"\",\"\",Daten!M$2)","v":""},{"$f":"IF(A294=\"\",\"\",IF(Daten!D$6=Daten!N$11,Daten!M$11,IF(Daten!D$6=Daten!N$13,Daten!M$13,IF(AND(Daten!$D$6=Daten!$M$10,Daten!$D$8=TRUE),Daten!$M$14,Daten!D$6))))","v":""},{"$f":"IF($A294=\"\",\"\",IF(OR(O294=\"Putzbord\",O294=\"Flexila PU\"),Daten!$D$15,IF(OR(O294=\"Stehbord\",O294=\"Stehbord HB\",O294=\"Flexila STB\",O294=\"Jalousiebord\"),Daten!$D$19,\"-\")))","v":""},{"$f":"IF($A294=\"\",\"\",IF(O294=\"Putzbord\",Daten!$D$16,IF(O294=\"Flexila PU\",_xlfn.NUMBERVALUE(MID(Daten!$D$17,1,2)),\"-\")))","v":""},{"$f":"IF($A294=\"\",\"\",IF(OR(O294=\"Putzbord\",O294=\"Flexila PU\"),Daten!$D$18,IF(OR(O294=\"Stehbord\",O294=\"Stehbord HB\",O294=\"Flexila STB\",O294=\"Jalousiebord\"),Daten!$D$21,\"-\")))","v":""},{"$f":"IF(A294=\"\",\"\",IF(Daten!D$6=Daten!N$11,Daten!M$11,IF(Daten!D$6=Daten!N$13,Daten!M$13,IF(AND(Daten!$D$6=Daten!$M$10,Daten!$D$8=TRUE),Daten!$M$14,Daten!D$6))))","v":""},{"$f":"IF($A294=\"\",\"\",IF(OR(S294=\"Putzbord\",S294=\"Flexila PU\"),Daten!$D$15,IF(OR(S294=\"Stehbord\",S294=\"Stehbord HB\",S294=\"Flexila STB\",S294=\"Jalousiebord\"),Daten!$D$19,\"-\")))","v":""},{"$f":"IF($A294=\"\",\"\",IF(S294=\"Putzbord\",Daten!$D$16,IF(S294=\"Flexila PU\",_xlfn.NUMBERVALUE(MID(Daten!$D$17,1,2)),\"-\")))","v":""},{"$f":"IF($A294=\"\",\"\",IF(OR(S294=\"Putzbord\",S294=\"Flexila PU\"),Daten!$D$18,IF(OR(S294=\"Stehbord\",S294=\"Stehbord HB\",S294=\"Flexila STB\",S294=\"Jalousiebord\"),Daten!$D$21,\"-\")))","v":""},{"$f":"IF(A294=\"\",\"\",IF(AND(Daten!D$6=\"Jalousiebord\",OR(O294=\"Stehbord\",S294=\"Stehbord\")),\"Jalousienklinkung\",\"\"))","v":""},{"$f":"IF(W294=\"\",\"\",Daten!D$20)","v":""},null,null,{"$f":"IF(A294=\"\",\"\",IF(Daten!F$1=\"A\",\"Ohne\",IF(OR(N294=\"Gerstenkorn roh\",N294=\"Riffelblech roh\"),\"XPS\",Daten!F$2)))","v":""},{"$f":"IF(A294=\"\",\"\",IF(AA294=\"Ohne\",\"A\",IF(AA294=\"XPS\",IF(Daten!F$1=\"D\",\"B\",Daten!F$1),Daten!F$1)))","v":""},{"$f":"IF(A294=\"\",\"\",IF(AB294=\"A\",\"-\",Daten!F$7))","v":""},{"$f":"IF(A294=\"\",\"\",IF(AB294=\"A\",\"-\",IF(AND(Daten!F$8=0,O294=\"Putzbord\"),5-Q294,0)))","v":""},{"$f":"IF(A294=\"\",\"\",IF(AB294=\"A\",\"-\",IF(AND(Daten!F$8=0,S294=\"Putzbord\"),5-U294,0)))","v":""},{"$f":"IF(A294=\"\",\"\",IF(AB294=\"A\",\"-\",Daten!F$10))","v":""},{"$f":"IFERROR(IF(A294=\"\",\"\",VLOOKUP(N294,Daten!N$1:O$7,2,FALSE)),\"\")","v":""}]
[null,null,null,{"$f":"IF(A295=\"\",\"\",IF(Daten!B$3=TRUE,Daten!B$7,\"\"))","v":""},{"$f":"IFERROR(IF(C295=\"\",\"\",C295+(2*D295)+IF(O295=Daten!M$13,6,0)+IF(S295=Daten!M$13,6,0)+IF(Q295=\"-\",0,Q295)+IF(U295=\"-\",0,U295)),\"\")","v":""},{"$f":"IF(OR(A295=\"\",AND(F$1=0,Daten!F$3=FALSE)),\"\",Daten!B$6)","v":""},{"$f":"IF(A295=\"\",\"\",IF(Daten!B$5=\"??\",\"\",Daten!B$5))","v":""},{"$f":"IF(A295=\"\",\"\",IF(Daten!B$3=FALSE,\"\",Daten!B$4))","v":""},{"$f":"IFERROR(IF(A295=\"\",\"\",G295+H295+IF(AND(G295>0,H295>0),5,0))-IF(Daten!H$21=TRUE,H295,0),\"\")","v":""},{"$f":"IFERROR(IF(A295=\"\",\"\",I295+IF(Daten!H$21=TRUE,H295,0)+IF(F295=\"\",0,F295)-IF(Daten!F$3=TRUE,Daten!F$10,0)),\"\")","v":""},{"$f":"IF(A295=\"\",\"\",Daten!D$14)","v":""},{"$f":"IF(A295=\"\",\"\",Daten!D$12)","v":""},{"$f":"IF(A295=\"\",\"\",Daten!D$13)","v":""},{"$f":"IF(A295=\"\",\"\",Daten!M$2)","v":""},{"$f":"IF(A295=\"\",\"\",IF(Daten!D$6=Daten!N$11,Daten!M$11,IF(Daten!D$6=Daten!N$13,Daten!M$13,IF(AND(Daten!$D$6=Daten!$M$10,Daten!$D$8=TRUE),Daten!$M$14,Daten!D$6))))","v":""},{"$f":"IF($A295=\"\",\"\",IF(OR(O295=\"Putzbord\",O295=\"Flexila PU\"),Daten!$D$15,IF(OR(O295=\"Stehbord\",O295=\"Stehbord HB\",O295=\"Flexila STB\",O295=\"Jalousiebord\"),Daten!$D$19,\"-\")))","v":""},{"$f":"IF($A295=\"\",\"\",IF(O295=\"Putzbord\",Daten!$D$16,IF(O295=\"Flexila PU\",_xlfn.NUMBERVALUE(MID(Daten!$D$17,1,2)),\"-\")))","v":""},{"$f":"IF($A295=\"\",\"\",IF(OR(O295=\"Putzbord\",O295=\"Flexila PU\"),Daten!$D$18,IF(OR(O295=\"Stehbord\",O295=\"Stehbord HB\",O295=\"Flexila STB\",O295=\"Jalousiebord\"),Daten!$D$21,\"-\")))","v":""},{"$f":"IF(A295=\"\",\"\",IF(Daten!D$6=Daten!N$11,Daten!M$11,IF(Daten!D$6=Daten!N$13,Daten!M$13,IF(AND(Daten!$D$6=Daten!$M$10,Daten!$D$8=TRUE),Daten!$M$14,Daten!D$6))))","v":""},{"$f":"IF($A295=\"\",\"\",IF(OR(S295=\"Putzbord\",S295=\"Flexila PU\"),Daten!$D$15,IF(OR(S295=\"Stehbord\",S295=\"Stehbord HB\",S295=\"Flexila STB\",S295=\"Jalousiebord\"),Daten!$D$19,\"-\")))","v":""},{"$f":"IF($A295=\"\",\"\",IF(S295=\"Putzbord\",Daten!$D$16,IF(S295=\"Flexila PU\",_xlfn.NUMBERVALUE(MID(Daten!$D$17,1,2)),\"-\")))","v":""},{"$f":"IF($A295=\"\",\"\",IF(OR(S295=\"Putzbord\",S295=\"Flexila PU\"),Daten!$D$18,IF(OR(S295=\"Stehbord\",S295=\"Stehbord HB\",S295=\"Flexila STB\",S295=\"Jalousiebord\"),Daten!$D$21,\"-\")))","v":""},{"$f":"IF(A295=\"\",\"\",IF(AND(Daten!D$6=\"Jalousiebord\",OR(O295=\"Stehbord\",S295=\"Stehbord\")),\"Jalousienklinkung\",\"\"))","v":""},{"$f":"IF(W295=\"\",\"\",Daten!D$20)","v":""},null,null,{"$f":"IF(A295=\"\",\"\",IF(Daten!F$1=\"A\",\"Ohne\",IF(OR(N295=\"Gerstenkorn roh\",N295=\"Riffelblech roh\"),\"XPS\",Daten!F$2)))","v":""},{"$f":"IF(A295=\"\",\"\",IF(AA295=\"Ohne\",\"A\",IF(AA295=\"XPS\",IF(Daten!F$1=\"D\",\"B\",Daten!F$1),Daten!F$1)))","v":""},{"$f":"IF(A295=\"\",\"\",IF(AB295=\"A\",\"-\",Daten!F$7))","v":""},{"$f":"IF(A295=\"\",\"\",IF(AB295=\"A\",\"-\",IF(AND(Daten!F$8=0,O295=\"Putzbord\"),5-Q295,0)))","v":""},{"$f":"IF(A295=\"\",\"\",IF(AB295=\"A\",\"-\",IF(AND(Daten!F$8=0,S295=\"Putzbord\"),5-U295,0)))","v":""},{"$f":"IF(A295=\"\",\"\",IF(AB295=\"A\",\"-\",Daten!F$10))","v":""},{"$f":"IFERROR(IF(A295=\"\",\"\",VLOOKUP(N295,Daten!N$1:O$7,2,FALSE)),\"\")","v":""}]
[null,null,null,{"$f":"IF(A296=\"\",\"\",IF(Daten!B$3=TRUE,Daten!B$7,\"\"))","v":""},{"$f":"IFERROR(IF(C296=\"\",\"\",C296+(2*D296)+IF(O296=Daten!M$13,6,0)+IF(S296=Daten!M$13,6,0)+IF(Q296=\"-\",0,Q296)+IF(U296=\"-\",0,U296)),\"\")","v":""},{"$f":"IF(OR(A296=\"\",AND(F$1=0,Daten!F$3=FALSE)),\"\",Daten!B$6)","v":""},{"$f":"IF(A296=\"\",\"\",IF(Daten!B$5=\"??\",\"\",Daten!B$5))","v":""},{"$f":"IF(A296=\"\",\"\",IF(Daten!B$3=FALSE,\"\",Daten!B$4))","v":""},{"$f":"IFERROR(IF(A296=\"\",\"\",G296+H296+IF(AND(G296>0,H296>0),5,0))-IF(Daten!H$21=TRUE,H296,0),\"\")","v":""},{"$f":"IFERROR(IF(A296=\"\",\"\",I296+IF(Daten!H$21=TRUE,H296,0)+IF(F296=\"\",0,F296)-IF(Daten!F$3=TRUE,Daten!F$10,0)),\"\")","v":""},{"$f":"IF(A296=\"\",\"\",Daten!D$14)","v":""},{"$f":"IF(A296=\"\",\"\",Daten!D$12)","v":""},{"$f":"IF(A296=\"\",\"\",Daten!D$13)","v":""},{"$f":"IF(A296=\"\",\"\",Daten!M$2)","v":""},{"$f":"IF(A296=\"\",\"\",IF(Daten!D$6=Daten!N$11,Daten!M$11,IF(Daten!D$6=Daten!N$13,Daten!M$13,IF(AND(Daten!$D$6=Daten!$M$10,Daten!$D$8=TRUE),Daten!$M$14,Daten!D$6))))","v":""},{"$f":"IF($A296=\"\",\"\",IF(OR(O296=\"Putzbord\",O296=\"Flexila PU\"),Daten!$D$15,IF(OR(O296=\"Stehbord\",O296=\"Stehbord HB\",O296=\"Flexila STB\",O296=\"Jalousiebord\"),Daten!$D$19,\"-\")))","v":""},{"$f":"IF($A296=\"\",\"\",IF(O296=\"Putzbord\",Daten!$D$16,IF(O296=\"Flexila PU\",_xlfn.NUMBERVALUE(MID(Daten!$D$17,1,2)),\"-\")))","v":""},{"$f":"IF($A296=\"\",\"\",IF(OR(O296=\"Putzbord\",O296=\"Flexila PU\"),Daten!$D$18,IF(OR(O296=\"Stehbord\",O296=\"Stehbord HB\",O296=\"Flexila STB\",O296=\"Jalousiebord\"),Daten!$D$21,\"-\")))","v":""},{"$f":"IF(A296=\"\",\"\",IF(Daten!D$6=Daten!N$11,Daten!M$11,IF(Daten!D$6=Daten!N$13,Daten!M$13,IF(AND(Daten!$D$6=Daten!$M$10,Daten!$D$8=TRUE),Daten!$M$14,Daten!D$6))))","v":""},{"$f":"IF($A296=\"\",\"\",IF(OR(S296=\"Putzbord\",S296=\"Flexila PU\"),Daten!$D$15,IF(OR(S296=\"Stehbord\",S296=\"Stehbord HB\",S296=\"Flexila STB\",S296=\"Jalousiebord\"),Daten!$D$19,\"-\")))","v":""},{"$f":"IF($A296=\"\",\"\",IF(S296=\"Putzbord\",Daten!$D$16,IF(S296=\"Flexila PU\",_xlfn.NUMBERVALUE(MID(Daten!$D$17,1,2)),\"-\")))","v":""},{"$f":"IF($A296=\"\",\"\",IF(OR(S296=\"Putzbord\",S296=\"Flexila PU\"),Daten!$D$18,IF(OR(S296=\"Stehbord\",S296=\"Stehbord HB\",S296=\"Flexila STB\",S296=\"Jalousiebord\"),Daten!$D$21,\"-\")))","v":""},{"$f":"IF(A296=\"\",\"\",IF(AND(Daten!D$6=\"Jalousiebord\",OR(O296=\"Stehbord\",S296=\"Stehbord\")),\"Jalousienklinkung\",\"\"))","v":""},{"$f":"IF(W296=\"\",\"\",Daten!D$20)","v":""},null,null,{"$f":"IF(A296=\"\",\"\",IF(Daten!F$1=\"A\",\"Ohne\",IF(OR(N296=\"Gerstenkorn roh\",N296=\"Riffelblech roh\"),\"XPS\",Daten!F$2)))","v":""},{"$f":"IF(A296=\"\",\"\",IF(AA296=\"Ohne\",\"A\",IF(AA296=\"XPS\",IF(Daten!F$1=\"D\",\"B\",Daten!F$1),Daten!F$1)))","v":""},{"$f":"IF(A296=\"\",\"\",IF(AB296=\"A\",\"-\",Daten!F$7))","v":""},{"$f":"IF(A296=\"\",\"\",IF(AB296=\"A\",\"-\",IF(AND(Daten!F$8=0,O296=\"Putzbord\"),5-Q296,0)))","v":""},{"$f":"IF(A296=\"\",\"\",IF(AB296=\"A\",\"-\",IF(AND(Daten!F$8=0,S296=\"Putzbord\"),5-U296,0)))","v":""},{"$f":"IF(A296=\"\",\"\",IF(AB296=\"A\",\"-\",Daten!F$10))","v":""},{"$f":"IFERROR(IF(A296=\"\",\"\",VLOOKUP(N296,Daten!N$1:O$7,2,FALSE)),\"\")","v":""}]
[null,null,null,{"$f":"IF(A297=\"\",\"\",IF(Daten!B$3=TRUE,Daten!B$7,\"\"))","v":""},{"$f":"IFERROR(IF(C297=\"\",\"\",C297+(2*D297)+IF(O297=Daten!M$13,6,0)+IF(S297=Daten!M$13,6,0)+IF(Q297=\"-\",0,Q297)+IF(U297=\"-\",0,U297)),\"\")","v":""},{"$f":"IF(OR(A297=\"\",AND(F$1=0,Daten!F$3=FALSE)),\"\",Daten!B$6)","v":""},{"$f":"IF(A297=\"\",\"\",IF(Daten!B$5=\"??\",\"\",Daten!B$5))","v":""},{"$f":"IF(A297=\"\",\"\",IF(Daten!B$3=FALSE,\"\",Daten!B$4))","v":""},{"$f":"IFERROR(IF(A297=\"\",\"\",G297+H297+IF(AND(G297>0,H297>0),5,0))-IF(Daten!H$21=TRUE,H297,0),\"\")","v":""},{"$f":"IFERROR(IF(A297=\"\",\"\",I297+IF(Daten!H$21=TRUE,H297,0)+IF(F297=\"\",0,F297)-IF(Daten!F$3=TRUE,Daten!F$10,0)),\"\")","v":""},{"$f":"IF(A297=\"\",\"\",Daten!D$14)","v":""},{"$f":"IF(A297=\"\",\"\",Daten!D$12)","v":""},{"$f":"IF(A297=\"\",\"\",Daten!D$13)","v":""},{"$f":"IF(A297=\"\",\"\",Daten!M$2)","v":""},{"$f":"IF(A297=\"\",\"\",IF(Daten!D$6=Daten!N$11,Daten!M$11,IF(Daten!D$6=Daten!N$13,Daten!M$13,IF(AND(Daten!$D$6=Daten!$M$10,Daten!$D$8=TRUE),Daten!$M$14,Daten!D$6))))","v":""},{"$f":"IF($A297=\"\",\"\",IF(OR(O297=\"Putzbord\",O297=\"Flexila PU\"),Daten!$D$15,IF(OR(O297=\"Stehbord\",O297=\"Stehbord HB\",O297=\"Flexila STB\",O297=\"Jalousiebord\"),Daten!$D$19,\"-\")))","v":""},{"$f":"IF($A297=\"\",\"\",IF(O297=\"Putzbord\",Daten!$D$16,IF(O297=\"Flexila PU\",_xlfn.NUMBERVALUE(MID(Daten!$D$17,1,2)),\"-\")))","v":""},{"$f":"IF($A297=\"\",\"\",IF(OR(O297=\"Putzbord\",O297=\"Flexila PU\"),Daten!$D$18,IF(OR(O297=\"Stehbord\",O297=\"Stehbord HB\",O297=\"Flexila STB\",O297=\"Jalousiebord\"),Daten!$D$21,\"-\")))","v":""},{"$f":"IF(A297=\"\",\"\",IF(Daten!D$6=Daten!N$11,Daten!M$11,IF(Daten!D$6=Daten!N$13,Daten!M$13,IF(AND(Daten!$D$6=Daten!$M$10,Daten!$D$8=TRUE),Daten!$M$14,Daten!D$6))))","v":""},{"$f":"IF($A297=\"\",\"\",IF(OR(S297=\"Putzbord\",S297=\"Flexila PU\"),Daten!$D$15,IF(OR(S297=\"Stehbord\",S297=\"Stehbord HB\",S297=\"Flexila STB\",S297=\"Jalousiebord\"),Daten!$D$19,\"-\")))","v":""},{"$f":"IF($A297=\"\",\"\",IF(S297=\"Putzbord\",Daten!$D$16,IF(S297=\"Flexila PU\",_xlfn.NUMBERVALUE(MID(Daten!$D$17,1,2)),\"-\")))","v":""},{"$f":"IF($A297=\"\",\"\",IF(OR(S297=\"Putzbord\",S297=\"Flexila PU\"),Daten!$D$18,IF(OR(S297=\"Stehbord\",S297=\"Stehbord HB\",S297=\"Flexila STB\",S297=\"Jalousiebord\"),Daten!$D$21,\"-\")))","v":""},{"$f":"IF(A297=\"\",\"\",IF(AND(Daten!D$6=\"Jalousiebord\",OR(O297=\"Stehbord\",S297=\"Stehbord\")),\"Jalousienklinkung\",\"\"))","v":""},{"$f":"IF(W297=\"\",\"\",Daten!D$20)","v":""},null,null,{"$f":"IF(A297=\"\",\"\",IF(Daten!F$1=\"A\",\"Ohne\",IF(OR(N297=\"Gerstenkorn roh\",N297=\"Riffelblech roh\"),\"XPS\",Daten!F$2)))","v":""},{"$f":"IF(A297=\"\",\"\",IF(AA297=\"Ohne\",\"A\",IF(AA297=\"XPS\",IF(Daten!F$1=\"D\",\"B\",Daten!F$1),Daten!F$1)))","v":""},{"$f":"IF(A297=\"\",\"\",IF(AB297=\"A\",\"-\",Daten!F$7))","v":""},{"$f":"IF(A297=\"\",\"\",IF(AB297=\"A\",\"-\",IF(AND(Daten!F$8=0,O297=\"Putzbord\"),5-Q297,0)))","v":""},{"$f":"IF(A297=\"\",\"\",IF(AB297=\"A\",\"-\",IF(AND(Daten!F$8=0,S297=\"Putzbord\"),5-U297,0)))","v":""},{"$f":"IF(A297=\"\",\"\",IF(AB297=\"A\",\"-\",Daten!F$10))","v":""},{"$f":"IFERROR(IF(A297=\"\",\"\",VLOOKUP(N297,Daten!N$1:O$7,2,FALSE)),\"\")","v":""}]
[null,null,null,{"$f":"IF(A298=\"\",\"\",IF(Daten!B$3=TRUE,Daten!B$7,\"\"))","v":""},{"$f":"IFERROR(IF(C298=\"\",\"\",C298+(2*D298)+IF(O298=Daten!M$13,6,0)+IF(S298=Daten!M$13,6,0)+IF(Q298=\"-\",0,Q298)+IF(U298=\"-\",0,U298)),\"\")","v":""},{"$f":"IF(OR(A298=\"\",AND(F$1=0,Daten!F$3=FALSE)),\"\",Daten!B$6)","v":""},{"$f":"IF(A298=\"\",\"\",IF(Daten!B$5=\"??\",\"\",Daten!B$5))","v":""},{"$f":"IF(A298=\"\",\"\",IF(Daten!B$3=FALSE,\"\",Daten!B$4))","v":""},{"$f":"IFERROR(IF(A298=\"\",\"\",G298+H298+IF(AND(G298>0,H298>0),5,0))-IF(Daten!H$21=TRUE,H298,0),\"\")","v":""},{"$f":"IFERROR(IF(A298=\"\",\"\",I298+IF(Daten!H$21=TRUE,H298,0)+IF(F298=\"\",0,F298)-IF(Daten!F$3=TRUE,Daten!F$10,0)),\"\")","v":""},{"$f":"IF(A298=\"\",\"\",Daten!D$14)","v":""},{"$f":"IF(A298=\"\",\"\",Daten!D$12)","v":""},{"$f":"IF(A298=\"\",\"\",Daten!D$13)","v":""},{"$f":"IF(A298=\"\",\"\",Daten!M$2)","v":""},{"$f":"IF(A298=\"\",\"\",IF(Daten!D$6=Daten!N$11,Daten!M$11,IF(Daten!D$6=Daten!N$13,Daten!M$13,IF(AND(Daten!$D$6=Daten!$M$10,Daten!$D$8=TRUE),Daten!$M$14,Daten!D$6))))","v":""},{"$f":"IF($A298=\"\",\"\",IF(OR(O298=\"Putzbord\",O298=\"Flexila PU\"),Daten!$D$15,IF(OR(O298=\"Stehbord\",O298=\"Stehbord HB\",O298=\"Flexila STB\",O298=\"Jalousiebord\"),Daten!$D$19,\"-\")))","v":""},{"$f":"IF($A298=\"\",\"\",IF(O298=\"Putzbord\",Daten!$D$16,IF(O298=\"Flexila PU\",_xlfn.NUMBERVALUE(MID(Daten!$D$17,1,2)),\"-\")))","v":""},{"$f":"IF($A298=\"\",\"\",IF(OR(O298=\"Putzbord\",O298=\"Flexila PU\"),Daten!$D$18,IF(OR(O298=\"Stehbord\",O298=\"Stehbord HB\",O298=\"Flexila STB\",O298=\"Jalousiebord\"),Daten!$D$21,\"-\")))","v":""},{"$f":"IF(A298=\"\",\"\",IF(Daten!D$6=Daten!N$11,Daten!M$11,IF(Daten!D$6=Daten!N$13,Daten!M$13,IF(AND(Daten!$D$6=Daten!$M$10,Daten!$D$8=TRUE),Daten!$M$14,Daten!D$6))))","v":""},{"$f":"IF($A298=\"\",\"\",IF(OR(S298=\"Putzbord\",S298=\"Flexila PU\"),Daten!$D$15,IF(OR(S298=\"Stehbord\",S298=\"Stehbord HB\",S298=\"Flexila STB\",S298=\"Jalousiebord\"),Daten!$D$19,\"-\")))","v":""},{"$f":"IF($A298=\"\",\"\",IF(S298=\"Putzbord\",Daten!$D$16,IF(S298=\"Flexila PU\",_xlfn.NUMBERVALUE(MID(Daten!$D$17,1,2)),\"-\")))","v":""},{"$f":"IF($A298=\"\",\"\",IF(OR(S298=\"Putzbord\",S298=\"Flexila PU\"),Daten!$D$18,IF(OR(S298=\"Stehbord\",S298=\"Stehbord HB\",S298=\"Flexila STB\",S298=\"Jalousiebord\"),Daten!$D$21,\"-\")))","v":""},{"$f":"IF(A298=\"\",\"\",IF(AND(Daten!D$6=\"Jalousiebord\",OR(O298=\"Stehbord\",S298=\"Stehbord\")),\"Jalousienklinkung\",\"\"))","v":""},{"$f":"IF(W298=\"\",\"\",Daten!D$20)","v":""},null,null,{"$f":"IF(A298=\"\",\"\",IF(Daten!F$1=\"A\",\"Ohne\",IF(OR(N298=\"Gerstenkorn roh\",N298=\"Riffelblech roh\"),\"XPS\",Daten!F$2)))","v":""},{"$f":"IF(A298=\"\",\"\",IF(AA298=\"Ohne\",\"A\",IF(AA298=\"XPS\",IF(Daten!F$1=\"D\",\"B\",Daten!F$1),Daten!F$1)))","v":""},{"$f":"IF(A298=\"\",\"\",IF(AB298=\"A\",\"-\",Daten!F$7))","v":""},{"$f":"IF(A298=\"\",\"\",IF(AB298=\"A\",\"-\",IF(AND(Daten!F$8=0,O298=\"Putzbord\"),5-Q298,0)))","v":""},{"$f":"IF(A298=\"\",\"\",IF(AB298=\"A\",\"-\",IF(AND(Daten!F$8=0,S298=\"Putzbord\"),5-U298,0)))","v":""},{"$f":"IF(A298=\"\",\"\",IF(AB298=\"A\",\"-\",Daten!F$10))","v":""},{"$f":"IFERROR(IF(A298=\"\",\"\",VLOOKUP(N298,Daten!N$1:O$7,2,FALSE)),\"\")","v":""}]
[null,null,null,{"$f":"IF(A299=\"\",\"\",IF(Daten!B$3=TRUE,Daten!B$7,\"\"))","v":""},{"$f":"IFERROR(IF(C299=\"\",\"\",C299+(2*D299)+IF(O299=Daten!M$13,6,0)+IF(S299=Daten!M$13,6,0)+IF(Q299=\"-\",0,Q299)+IF(U299=\"-\",0,U299)),\"\")","v":""},{"$f":"IF(OR(A299=\"\",AND(F$1=0,Daten!F$3=FALSE)),\"\",Daten!B$6)","v":""},{"$f":"IF(A299=\"\",\"\",IF(Daten!B$5=\"??\",\"\",Daten!B$5))","v":""},{"$f":"IF(A299=\"\",\"\",IF(Daten!B$3=FALSE,\"\",Daten!B$4))","v":""},{"$f":"IFERROR(IF(A299=\"\",\"\",G299+H299+IF(AND(G299>0,H299>0),5,0))-IF(Daten!H$21=TRUE,H299,0),\"\")","v":""},{"$f":"IFERROR(IF(A299=\"\",\"\",I299+IF(Daten!H$21=TRUE,H299,0)+IF(F299=\"\",0,F299)-IF(Daten!F$3=TRUE,Daten!F$10,0)),\"\")","v":""},{"$f":"IF(A299=\"\",\"\",Daten!D$14)","v":""},{"$f":"IF(A299=\"\",\"\",Daten!D$12)","v":""},{"$f":"IF(A299=\"\",\"\",Daten!D$13)","v":""},{"$f":"IF(A299=\"\",\"\",Daten!M$2)","v":""},{"$f":"IF(A299=\"\",\"\",IF(Daten!D$6=Daten!N$11,Daten!M$11,IF(Daten!D$6=Daten!N$13,Daten!M$13,IF(AND(Daten!$D$6=Daten!$M$10,Daten!$D$8=TRUE),Daten!$M$14,Daten!D$6))))","v":""},{"$f":"IF($A299=\"\",\"\",IF(OR(O299=\"Putzbord\",O299=\"Flexila PU\"),Daten!$D$15,IF(OR(O299=\"Stehbord\",O299=\"Stehbord HB\",O299=\"Flexila STB\",O299=\"Jalousiebord\"),Daten!$D$19,\"-\")))","v":""},{"$f":"IF($A299=\"\",\"\",IF(O299=\"Putzbord\",Daten!$D$16,IF(O299=\"Flexila PU\",_xlfn.NUMBERVALUE(MID(Daten!$D$17,1,2)),\"-\")))","v":""},{"$f":"IF($A299=\"\",\"\",IF(OR(O299=\"Putzbord\",O299=\"Flexila PU\"),Daten!$D$18,IF(OR(O299=\"Stehbord\",O299=\"Stehbord HB\",O299=\"Flexila STB\",O299=\"Jalousiebord\"),Daten!$D$21,\"-\")))","v":""},{"$f":"IF(A299=\"\",\"\",IF(Daten!D$6=Daten!N$11,Daten!M$11,IF(Daten!D$6=Daten!N$13,Daten!M$13,IF(AND(Daten!$D$6=Daten!$M$10,Daten!$D$8=TRUE),Daten!$M$14,Daten!D$6))))","v":""},{"$f":"IF($A299=\"\",\"\",IF(OR(S299=\"Putzbord\",S299=\"Flexila PU\"),Daten!$D$15,IF(OR(S299=\"Stehbord\",S299=\"Stehbord HB\",S299=\"Flexila STB\",S299=\"Jalousiebord\"),Daten!$D$19,\"-\")))","v":""},{"$f":"IF($A299=\"\",\"\",IF(S299=\"Putzbord\",Daten!$D$16,IF(S299=\"Flexila PU\",_xlfn.NUMBERVALUE(MID(Daten!$D$17,1,2)),\"-\")))","v":""},{"$f":"IF($A299=\"\",\"\",IF(OR(S299=\"Putzbord\",S299=\"Flexila PU\"),Daten!$D$18,IF(OR(S299=\"Stehbord\",S299=\"Stehbord HB\",S299=\"Flexila STB\",S299=\"Jalousiebord\"),Daten!$D$21,\"-\")))","v":""},{"$f":"IF(A299=\"\",\"\",IF(AND(Daten!D$6=\"Jalousiebord\",OR(O299=\"Stehbord\",S299=\"Stehbord\")),\"Jalousienklinkung\",\"\"))","v":""},{"$f":"IF(W299=\"\",\"\",Daten!D$20)","v":""},null,null,{"$f":"IF(A299=\"\",\"\",IF(Daten!F$1=\"A\",\"Ohne\",IF(OR(N299=\"Gerstenkorn roh\",N299=\"Riffelblech roh\"),\"XPS\",Daten!F$2)))","v":""},{"$f":"IF(A299=\"\",\"\",IF(AA299=\"Ohne\",\"A\",IF(AA299=\"XPS\",IF(Daten!F$1=\"D\",\"B\",Daten!F$1),Daten!F$1)))","v":""},{"$f":"IF(A299=\"\",\"\",IF(AB299=\"A\",\"-\",Daten!F$7))","v":""},{"$f":"IF(A299=\"\",\"\",IF(AB299=\"A\",\"-\",IF(AND(Daten!F$8=0,O299=\"Putzbord\"),5-Q299,0)))","v":""},{"$f":"IF(A299=\"\",\"\",IF(AB299=\"A\",\"-\",IF(AND(Daten!F$8=0,S299=\"Putzbord\"),5-U299,0)))","v":""},{"$f":"IF(A299=\"\",\"\",IF(AB299=\"A\",\"-\",Daten!F$10))","v":""},{"$f":"IFERROR(IF(A299=\"\",\"\",VLOOKUP(N299,Daten!N$1:O$7,2,FALSE)),\"\")","v":""}]
[null,null,null,{"$f":"IF(A300=\"\",\"\",IF(Daten!B$3=TRUE,Daten!B$7,\"\"))","v":""},{"$f":"IFERROR(IF(C300=\"\",\"\",C300+(2*D300)+IF(O300=Daten!M$13,6,0)+IF(S300=Daten!M$13,6,0)+IF(Q300=\"-\",0,Q300)+IF(U300=\"-\",0,U300)),\"\")","v":""},{"$f":"IF(OR(A300=\"\",AND(F$1=0,Daten!F$3=FALSE)),\"\",Daten!B$6)","v":""},{"$f":"IF(A300=\"\",\"\",IF(Daten!B$5=\"??\",\"\",Daten!B$5))","v":""},{"$f":"IF(A300=\"\",\"\",IF(Daten!B$3=FALSE,\"\",Daten!B$4))","v":""},{"$f":"IFERROR(IF(A300=\"\",\"\",G300+H300+IF(AND(G300>0,H300>0),5,0))-IF(Daten!H$21=TRUE,H300,0),\"\")","v":""},{"$f":"IFERROR(IF(A300=\"\",\"\",I300+IF(Daten!H$21=TRUE,H300,0)+IF(F300=\"\",0,F300)-IF(Daten!F$3=TRUE,Daten!F$10,0)),\"\")","v":""},{"$f":"IF(A300=\"\",\"\",Daten!D$14)","v":""},{"$f":"IF(A300=\"\",\"\",Daten!D$12)","v":""},{"$f":"IF(A300=\"\",\"\",Daten!D$13)","v":""},{"$f":"IF(A300=\"\",\"\",Daten!M$2)","v":""},{"$f":"IF(A300=\"\",\"\",IF(Daten!D$6=Daten!N$11,Daten!M$11,IF(Daten!D$6=Daten!N$13,Daten!M$13,IF(AND(Daten!$D$6=Daten!$M$10,Daten!$D$8=TRUE),Daten!$M$14,Daten!D$6))))","v":""},{"$f":"IF($A300=\"\",\"\",IF(OR(O300=\"Putzbord\",O300=\"Flexila PU\"),Daten!$D$15,IF(OR(O300=\"Stehbord\",O300=\"Stehbord HB\",O300=\"Flexila STB\",O300=\"Jalousiebord\"),Daten!$D$19,\"-\")))","v":""},{"$f":"IF($A300=\"\",\"\",IF(O300=\"Putzbord\",Daten!$D$16,IF(O300=\"Flexila PU\",_xlfn.NUMBERVALUE(MID(Daten!$D$17,1,2)),\"-\")))","v":""},{"$f":"IF($A300=\"\",\"\",IF(OR(O300=\"Putzbord\",O300=\"Flexila PU\"),Daten!$D$18,IF(OR(O300=\"Stehbord\",O300=\"Stehbord HB\",O300=\"Flexila STB\",O300=\"Jalousiebord\"),Daten!$D$21,\"-\")))","v":""},{"$f":"IF(A300=\"\",\"\",IF(Daten!D$6=Daten!N$11,Daten!M$11,IF(Daten!D$6=Daten!N$13,Daten!M$13,IF(AND(Daten!$D$6=Daten!$M$10,Daten!$D$8=TRUE),Daten!$M$14,Daten!D$6))))","v":""},{"$f":"IF($A300=\"\",\"\",IF(OR(S300=\"Putzbord\",S300=\"Flexila PU\"),Daten!$D$15,IF(OR(S300=\"Stehbord\",S300=\"Stehbord HB\",S300=\"Flexila STB\",S300=\"Jalousiebord\"),Daten!$D$19,\"-\")))","v":""},{"$f":"IF($A300=\"\",\"\",IF(S300=\"Putzbord\",Daten!$D$16,IF(S300=\"Flexila PU\",_xlfn.NUMBERVALUE(MID(Daten!$D$17,1,2)),\"-\")))","v":""},{"$f":"IF($A300=\"\",\"\",IF(OR(S300=\"Putzbord\",S300=\"Flexila PU\"),Daten!$D$18,IF(OR(S300=\"Stehbord\",S300=\"Stehbord HB\",S300=\"Flexila STB\",S300=\"Jalousiebord\"),Daten!$D$21,\"-\")))","v":""},{"$f":"IF(A300=\"\",\"\",IF(AND(Daten!D$6=\"Jalousiebord\",OR(O300=\"Stehbord\",S300=\"Stehbord\")),\"Jalousienklinkung\",\"\"))","v":""},{"$f":"IF(W300=\"\",\"\",Daten!D$20)","v":""},null,null,{"$f":"IF(A300=\"\",\"\",IF(Daten!F$1=\"A\",\"Ohne\",IF(OR(N300=\"Gerstenkorn roh\",N300=\"Riffelblech roh\"),\"XPS\",Daten!F$2)))","v":""},{"$f":"IF(A300=\"\",\"\",IF(AA300=\"Ohne\",\"A\",IF(AA300=\"XPS\",IF(Daten!F$1=\"D\",\"B\",Daten!F$1),Daten!F$1)))","v":""},{"$f":"IF(A300=\"\",\"\",IF(AB300=\"A\",\"-\",Daten!F$7))","v":""},{"$f":"IF(A300=\"\",\"\",IF(AB300=\"A\",\"-\",IF(AND(Daten!F$8=0,O300=\"Putzbord\"),5-Q300,0)))","v":""},{"$f":"IF(A300=\"\",\"\",IF(AB300=\"A\",\"-\",IF(AND(Daten!F$8=0,S300=\"Putzbord\"),5-U300,0)))","v":""},{"$f":"IF(A300=\"\",\"\",IF(AB300=\"A\",\"-\",Daten!F$10))","v":""},{"$f":"IFERROR(IF(A300=\"\",\"\",VLOOKUP(N300,Daten!N$1:O$7,2,FALSE)),\"\")","v":""}]
[null,null,null,{"$f":"IF(A301=\"\",\"\",IF(Daten!B$3=TRUE,Daten!B$7,\"\"))","v":""},{"$f":"IFERROR(IF(C301=\"\",\"\",C301+(2*D301)+IF(O301=Daten!M$13,6,0)+IF(S301=Daten!M$13,6,0)+IF(Q301=\"-\",0,Q301)+IF(U301=\"-\",0,U301)),\"\")","v":""},{"$f":"IF(OR(A301=\"\",AND(F$1=0,Daten!F$3=FALSE)),\"\",Daten!B$6)","v":""},{"$f":"IF(A301=\"\",\"\",IF(Daten!B$5=\"??\",\"\",Daten!B$5))","v":""},{"$f":"IF(A301=\"\",\"\",IF(Daten!B$3=FALSE,\"\",Daten!B$4))","v":""},{"$f":"IFERROR(IF(A301=\"\",\"\",G301+H301+IF(AND(G301>0,H301>0),5,0))-IF(Daten!H$21=TRUE,H301,0),\"\")","v":""},{"$f":"IFERROR(IF(A301=\"\",\"\",I301+IF(Daten!H$21=TRUE,H301,0)+IF(F301=\"\",0,F301)-IF(Daten!F$3=TRUE,Daten!F$10,0)),\"\")","v":""},{"$f":"IF(A301=\"\",\"\",Daten!D$14)","v":""},{"$f":"IF(A301=\"\",\"\",Daten!D$12)","v":""},{"$f":"IF(A301=\"\",\"\",Daten!D$13)","v":""},{"$f":"IF(A301=\"\",\"\",Daten!M$2)","v":""},{"$f":"IF(A301=\"\",\"\",IF(Daten!D$6=Daten!N$11,Daten!M$11,IF(Daten!D$6=Daten!N$13,Daten!M$13,IF(AND(Daten!$D$6=Daten!$M$10,Daten!$D$8=TRUE),Daten!$M$14,Daten!D$6))))","v":""},{"$f":"IF($A301=\"\",\"\",IF(OR(O301=\"Putzbord\",O301=\"Flexila PU\"),Daten!$D$15,IF(OR(O301=\"Stehbord\",O301=\"Stehbord HB\",O301=\"Flexila STB\",O301=\"Jalousiebord\"),Daten!$D$19,\"-\")))","v":""},{"$f":"IF($A301=\"\",\"\",IF(O301=\"Putzbord\",Daten!$D$16,IF(O301=\"Flexila PU\",_xlfn.NUMBERVALUE(MID(Daten!$D$17,1,2)),\"-\")))","v":""},{"$f":"IF($A301=\"\",\"\",IF(OR(O301=\"Putzbord\",O301=\"Flexila PU\"),Daten!$D$18,IF(OR(O301=\"Stehbord\",O301=\"Stehbord HB\",O301=\"Flexila STB\",O301=\"Jalousiebord\"),Daten!$D$21,\"-\")))","v":""},{"$f":"IF(A301=\"\",\"\",IF(Daten!D$6=Daten!N$11,Daten!M$11,IF(Daten!D$6=Daten!N$13,Daten!M$13,IF(AND(Daten!$D$6=Daten!$M$10,Daten!$D$8=TRUE),Daten!$M$14,Daten!D$6))))","v":""},{"$f":"IF($A301=\"\",\"\",IF(OR(S301=\"Putzbord\",S301=\"Flexila PU\"),Daten!$D$15,IF(OR(S301=\"Stehbord\",S301=\"Stehbord HB\",S301=\"Flexila STB\",S301=\"Jalousiebord\"),Daten!$D$19,\"-\")))","v":""},{"$f":"IF($A301=\"\",\"\",IF(S301=\"Putzbord\",Daten!$D$16,IF(S301=\"Flexila PU\",_xlfn.NUMBERVALUE(MID(Daten!$D$17,1,2)),\"-\")))","v":""},{"$f":"IF($A301=\"\",\"\",IF(OR(S301=\"Putzbord\",S301=\"Flexila PU\"),Daten!$D$18,IF(OR(S301=\"Stehbord\",S301=\"Stehbord HB\",S301=\"Flexila STB\",S301=\"Jalousiebord\"),Daten!$D$21,\"-\")))","v":""},{"$f":"IF(A301=\"\",\"\",IF(AND(Daten!D$6=\"Jalousiebord\",OR(O301=\"Stehbord\",S301=\"Stehbord\")),\"Jalousienklinkung\",\"\"))","v":""},{"$f":"IF(W301=\"\",\"\",Daten!D$20)","v":""},null,null,{"$f":"IF(A301=\"\",\"\",IF(Daten!F$1=\"A\",\"Ohne\",IF(OR(N301=\"Gerstenkorn roh\",N301=\"Riffelblech roh\"),\"XPS\",Daten!F$2)))","v":""},{"$f":"IF(A301=\"\",\"\",IF(AA301=\"Ohne\",\"A\",IF(AA301=\"XPS\",IF(Daten!F$1=\"D\",\"B\",Daten!F$1),Daten!F$1)))","v":""},{"$f":"IF(A301=\"\",\"\",IF(AB301=\"A\",\"-\",Daten!F$7))","v":""},{"$f":"IF(A301=\"\",\"\",IF(AB301=\"A\",\"-\",IF(AND(Daten!F$8=0,O301=\"Putzbord\"),5-Q301,0)))","v":""},{"$f":"IF(A301=\"\",\"\",IF(AB301=\"A\",\"-\",IF(AND(Daten!F$8=0,S301=\"Putzbord\"),5-U301,0)))","v":""},{"$f":"IF(A301=\"\",\"\",IF(AB301=\"A\",\"-\",Daten!F$10))","v":""},{"$f":"IFERROR(IF(A301=\"\",\"\",VLOOKUP(N301,Daten!N$1:O$7,2,FALSE)),\"\")","v":""}]
[null,null,null,{"$f":"IF(A302=\"\",\"\",IF(Daten!B$3=TRUE,Daten!B$7,\"\"))","v":""},{"$f":"IFERROR(IF(C302=\"\",\"\",C302+(2*D302)+IF(O302=Daten!M$13,6,0)+IF(S302=Daten!M$13,6,0)+IF(Q302=\"-\",0,Q302)+IF(U302=\"-\",0,U302)),\"\")","v":""},{"$f":"IF(OR(A302=\"\",AND(F$1=0,Daten!F$3=FALSE)),\"\",Daten!B$6)","v":""},{"$f":"IF(A302=\"\",\"\",IF(Daten!B$5=\"??\",\"\",Daten!B$5))","v":""},{"$f":"IF(A302=\"\",\"\",IF(Daten!B$3=FALSE,\"\",Daten!B$4))","v":""},{"$f":"IFERROR(IF(A302=\"\",\"\",G302+H302+IF(AND(G302>0,H302>0),5,0))-IF(Daten!H$21=TRUE,H302,0),\"\")","v":""},{"$f":"IFERROR(IF(A302=\"\",\"\",I302+IF(Daten!H$21=TRUE,H302,0)+IF(F302=\"\",0,F302)-IF(Daten!F$3=TRUE,Daten!F$10,0)),\"\")","v":""},{"$f":"IF(A302=\"\",\"\",Daten!D$14)","v":""},{"$f":"IF(A302=\"\",\"\",Daten!D$12)","v":""},{"$f":"IF(A302=\"\",\"\",Daten!D$13)","v":""},{"$f":"IF(A302=\"\",\"\",Daten!M$2)","v":""},{"$f":"IF(A302=\"\",\"\",IF(Daten!D$6=Daten!N$11,Daten!M$11,IF(Daten!D$6=Daten!N$13,Daten!M$13,IF(AND(Daten!$D$6=Daten!$M$10,Daten!$D$8=TRUE),Daten!$M$14,Daten!D$6))))","v":""},{"$f":"IF($A302=\"\",\"\",IF(OR(O302=\"Putzbord\",O302=\"Flexila PU\"),Daten!$D$15,IF(OR(O302=\"Stehbord\",O302=\"Stehbord HB\",O302=\"Flexila STB\",O302=\"Jalousiebord\"),Daten!$D$19,\"-\")))","v":""},{"$f":"IF($A302=\"\",\"\",IF(O302=\"Putzbord\",Daten!$D$16,IF(O302=\"Flexila PU\",_xlfn.NUMBERVALUE(MID(Daten!$D$17,1,2)),\"-\")))","v":""},{"$f":"IF($A302=\"\",\"\",IF(OR(O302=\"Putzbord\",O302=\"Flexila PU\"),Daten!$D$18,IF(OR(O302=\"Stehbord\",O302=\"Stehbord HB\",O302=\"Flexila STB\",O302=\"Jalousiebord\"),Daten!$D$21,\"-\")))","v":""},{"$f":"IF(A302=\"\",\"\",IF(Daten!D$6=Daten!N$11,Daten!M$11,IF(Daten!D$6=Daten!N$13,Daten!M$13,IF(AND(Daten!$D$6=Daten!$M$10,Daten!$D$8=TRUE),Daten!$M$14,Daten!D$6))))","v":""},{"$f":"IF($A302=\"\",\"\",IF(OR(S302=\"Putzbord\",S302=\"Flexila PU\"),Daten!$D$15,IF(OR(S302=\"Stehbord\",S302=\"Stehbord HB\",S302=\"Flexila STB\",S302=\"Jalousiebord\"),Daten!$D$19,\"-\")))","v":""},{"$f":"IF($A302=\"\",\"\",IF(S302=\"Putzbord\",Daten!$D$16,IF(S302=\"Flexila PU\",_xlfn.NUMBERVALUE(MID(Daten!$D$17,1,2)),\"-\")))","v":""},{"$f":"IF($A302=\"\",\"\",IF(OR(S302=\"Putzbord\",S302=\"Flexila PU\"),Daten!$D$18,IF(OR(S302=\"Stehbord\",S302=\"Stehbord HB\",S302=\"Flexila STB\",S302=\"Jalousiebord\"),Daten!$D$21,\"-\")))","v":""},{"$f":"IF(A302=\"\",\"\",IF(AND(Daten!D$6=\"Jalousiebord\",OR(O302=\"Stehbord\",S302=\"Stehbord\")),\"Jalousienklinkung\",\"\"))","v":""},{"$f":"IF(W302=\"\",\"\",Daten!D$20)","v":""},null,null,{"$f":"IF(A302=\"\",\"\",IF(Daten!F$1=\"A\",\"Ohne\",IF(OR(N302=\"Gerstenkorn roh\",N302=\"Riffelblech roh\"),\"XPS\",Daten!F$2)))","v":""},{"$f":"IF(A302=\"\",\"\",IF(AA302=\"Ohne\",\"A\",IF(AA302=\"XPS\",IF(Daten!F$1=\"D\",\"B\",Daten!F$1),Daten!F$1)))","v":""},{"$f":"IF(A302=\"\",\"\",IF(AB302=\"A\",\"-\",Daten!F$7))","v":""},{"$f":"IF(A302=\"\",\"\",IF(AB302=\"A\",\"-\",IF(AND(Daten!F$8=0,O302=\"Putzbord\"),5-Q302,0)))","v":""},{"$f":"IF(A302=\"\",\"\",IF(AB302=\"A\",\"-\",IF(AND(Daten!F$8=0,S302=\"Putzbord\"),5-U302,0)))","v":""},{"$f":"IF(A302=\"\",\"\",IF(AB302=\"A\",\"-\",Daten!F$10))","v":""},{"$f":"IFERROR(IF(A302=\"\",\"\",VLOOKUP(N302,Daten!N$1:O$7,2,FALSE)),\"\")","v":""}]
[null,null,null,{"$f":"IF(A303=\"\",\"\",IF(Daten!B$3=TRUE,Daten!B$7,\"\"))","v":""},{"$f":"IFERROR(IF(C303=\"\",\"\",C303+(2*D303)+IF(O303=Daten!M$13,6,0)+IF(S303=Daten!M$13,6,0)+IF(Q303=\"-\",0,Q303)+IF(U303=\"-\",0,U303)),\"\")","v":""},{"$f":"IF(OR(A303=\"\",AND(F$1=0,Daten!F$3=FALSE)),\"\",Daten!B$6)","v":""},{"$f":"IF(A303=\"\",\"\",IF(Daten!B$5=\"??\",\"\",Daten!B$5))","v":""},{"$f":"IF(A303=\"\",\"\",IF(Daten!B$3=FALSE,\"\",Daten!B$4))","v":""},{"$f":"IFERROR(IF(A303=\"\",\"\",G303+H303+IF(AND(G303>0,H303>0),5,0))-IF(Daten!H$21=TRUE,H303,0),\"\")","v":""},{"$f":"IFERROR(IF(A303=\"\",\"\",I303+IF(Daten!H$21=TRUE,H303,0)+IF(F303=\"\",0,F303)-IF(Daten!F$3=TRUE,Daten!F$10,0)),\"\")","v":""},{"$f":"IF(A303=\"\",\"\",Daten!D$14)","v":""},{"$f":"IF(A303=\"\",\"\",Daten!D$12)","v":""},{"$f":"IF(A303=\"\",\"\",Daten!D$13)","v":""},{"$f":"IF(A303=\"\",\"\",Daten!M$2)","v":""},{"$f":"IF(A303=\"\",\"\",IF(Daten!D$6=Daten!N$11,Daten!M$11,IF(Daten!D$6=Daten!N$13,Daten!M$13,IF(AND(Daten!$D$6=Daten!$M$10,Daten!$D$8=TRUE),Daten!$M$14,Daten!D$6))))","v":""},{"$f":"IF($A303=\"\",\"\",IF(OR(O303=\"Putzbord\",O303=\"Flexila PU\"),Daten!$D$15,IF(OR(O303=\"Stehbord\",O303=\"Stehbord HB\",O303=\"Flexila STB\",O303=\"Jalousiebord\"),Daten!$D$19,\"-\")))","v":""},{"$f":"IF($A303=\"\",\"\",IF(O303=\"Putzbord\",Daten!$D$16,IF(O303=\"Flexila PU\",_xlfn.NUMBERVALUE(MID(Daten!$D$17,1,2)),\"-\")))","v":""},{"$f":"IF($A303=\"\",\"\",IF(OR(O303=\"Putzbord\",O303=\"Flexila PU\"),Daten!$D$18,IF(OR(O303=\"Stehbord\",O303=\"Stehbord HB\",O303=\"Flexila STB\",O303=\"Jalousiebord\"),Daten!$D$21,\"-\")))","v":""},{"$f":"IF(A303=\"\",\"\",IF(Daten!D$6=Daten!N$11,Daten!M$11,IF(Daten!D$6=Daten!N$13,Daten!M$13,IF(AND(Daten!$D$6=Daten!$M$10,Daten!$D$8=TRUE),Daten!$M$14,Daten!D$6))))","v":""},{"$f":"IF($A303=\"\",\"\",IF(OR(S303=\"Putzbord\",S303=\"Flexila PU\"),Daten!$D$15,IF(OR(S303=\"Stehbord\",S303=\"Stehbord HB\",S303=\"Flexila STB\",S303=\"Jalousiebord\"),Daten!$D$19,\"-\")))","v":""},{"$f":"IF($A303=\"\",\"\",IF(S303=\"Putzbord\",Daten!$D$16,IF(S303=\"Flexila PU\",_xlfn.NUMBERVALUE(MID(Daten!$D$17,1,2)),\"-\")))","v":""},{"$f":"IF($A303=\"\",\"\",IF(OR(S303=\"Putzbord\",S303=\"Flexila PU\"),Daten!$D$18,IF(OR(S303=\"Stehbord\",S303=\"Stehbord HB\",S303=\"Flexila STB\",S303=\"Jalousiebord\"),Daten!$D$21,\"-\")))","v":""},{"$f":"IF(A303=\"\",\"\",IF(AND(Daten!D$6=\"Jalousiebord\",OR(O303=\"Stehbord\",S303=\"Stehbord\")),\"Jalousienklinkung\",\"\"))","v":""},{"$f":"IF(W303=\"\",\"\",Daten!D$20)","v":""},null,null,{"$f":"IF(A303=\"\",\"\",IF(Daten!F$1=\"A\",\"Ohne\",IF(OR(N303=\"Gerstenkorn roh\",N303=\"Riffelblech roh\"),\"XPS\",Daten!F$2)))","v":""},{"$f":"IF(A303=\"\",\"\",IF(AA303=\"Ohne\",\"A\",IF(AA303=\"XPS\",IF(Daten!F$1=\"D\",\"B\",Daten!F$1),Daten!F$1)))","v":""},{"$f":"IF(A303=\"\",\"\",IF(AB303=\"A\",\"-\",Daten!F$7))","v":""},{"$f":"IF(A303=\"\",\"\",IF(AB303=\"A\",\"-\",IF(AND(Daten!F$8=0,O303=\"Putzbord\"),5-Q303,0)))","v":""},{"$f":"IF(A303=\"\",\"\",IF(AB303=\"A\",\"-\",IF(AND(Daten!F$8=0,S303=\"Putzbord\"),5-U303,0)))","v":""},{"$f":"IF(A303=\"\",\"\",IF(AB303=\"A\",\"-\",Daten!F$10))","v":""},{"$f":"IFERROR(IF(A303=\"\",\"\",VLOOKUP(N303,Daten!N$1:O$7,2,FALSE)),\"\")","v":""}]
[null,null,null,{"$f":"IF(A304=\"\",\"\",IF(Daten!B$3=TRUE,Daten!B$7,\"\"))","v":""},{"$f":"IFERROR(IF(C304=\"\",\"\",C304+(2*D304)+IF(O304=Daten!M$13,6,0)+IF(S304=Daten!M$13,6,0)+IF(Q304=\"-\",0,Q304)+IF(U304=\"-\",0,U304)),\"\")","v":""},{"$f":"IF(OR(A304=\"\",AND(F$1=0,Daten!F$3=FALSE)),\"\",Daten!B$6)","v":""},{"$f":"IF(A304=\"\",\"\",IF(Daten!B$5=\"??\",\"\",Daten!B$5))","v":""},{"$f":"IF(A304=\"\",\"\",IF(Daten!B$3=FALSE,\"\",Daten!B$4))","v":""},{"$f":"IFERROR(IF(A304=\"\",\"\",G304+H304+IF(AND(G304>0,H304>0),5,0))-IF(Daten!H$21=TRUE,H304,0),\"\")","v":""},{"$f":"IFERROR(IF(A304=\"\",\"\",I304+IF(Daten!H$21=TRUE,H304,0)+IF(F304=\"\",0,F304)-IF(Daten!F$3=TRUE,Daten!F$10,0)),\"\")","v":""},{"$f":"IF(A304=\"\",\"\",Daten!D$14)","v":""},{"$f":"IF(A304=\"\",\"\",Daten!D$12)","v":""},{"$f":"IF(A304=\"\",\"\",Daten!D$13)","v":""},{"$f":"IF(A304=\"\",\"\",Daten!M$2)","v":""},{"$f":"IF(A304=\"\",\"\",IF(Daten!D$6=Daten!N$11,Daten!M$11,IF(Daten!D$6=Daten!N$13,Daten!M$13,IF(AND(Daten!$D$6=Daten!$M$10,Daten!$D$8=TRUE),Daten!$M$14,Daten!D$6))))","v":""},{"$f":"IF($A304=\"\",\"\",IF(OR(O304=\"Putzbord\",O304=\"Flexila PU\"),Daten!$D$15,IF(OR(O304=\"Stehbord\",O304=\"Stehbord HB\",O304=\"Flexila STB\",O304=\"Jalousiebord\"),Daten!$D$19,\"-\")))","v":""},{"$f":"IF($A304=\"\",\"\",IF(O304=\"Putzbord\",Daten!$D$16,IF(O304=\"Flexila PU\",_xlfn.NUMBERVALUE(MID(Daten!$D$17,1,2)),\"-\")))","v":""},{"$f":"IF($A304=\"\",\"\",IF(OR(O304=\"Putzbord\",O304=\"Flexila PU\"),Daten!$D$18,IF(OR(O304=\"Stehbord\",O304=\"Stehbord HB\",O304=\"Flexila STB\",O304=\"Jalousiebord\"),Daten!$D$21,\"-\")))","v":""},{"$f":"IF(A304=\"\",\"\",IF(Daten!D$6=Daten!N$11,Daten!M$11,IF(Daten!D$6=Daten!N$13,Daten!M$13,IF(AND(Daten!$D$6=Daten!$M$10,Daten!$D$8=TRUE),Daten!$M$14,Daten!D$6))))","v":""},{"$f":"IF($A304=\"\",\"\",IF(OR(S304=\"Putzbord\",S304=\"Flexila PU\"),Daten!$D$15,IF(OR(S304=\"Stehbord\",S304=\"Stehbord HB\",S304=\"Flexila STB\",S304=\"Jalousiebord\"),Daten!$D$19,\"-\")))","v":""},{"$f":"IF($A304=\"\",\"\",IF(S304=\"Putzbord\",Daten!$D$16,IF(S304=\"Flexila PU\",_xlfn.NUMBERVALUE(MID(Daten!$D$17,1,2)),\"-\")))","v":""},{"$f":"IF($A304=\"\",\"\",IF(OR(S304=\"Putzbord\",S304=\"Flexila PU\"),Daten!$D$18,IF(OR(S304=\"Stehbord\",S304=\"Stehbord HB\",S304=\"Flexila STB\",S304=\"Jalousiebord\"),Daten!$D$21,\"-\")))","v":""},{"$f":"IF(A304=\"\",\"\",IF(AND(Daten!D$6=\"Jalousiebord\",OR(O304=\"Stehbord\",S304=\"Stehbord\")),\"Jalousienklinkung\",\"\"))","v":""},{"$f":"IF(W304=\"\",\"\",Daten!D$20)","v":""},null,null,{"$f":"IF(A304=\"\",\"\",IF(Daten!F$1=\"A\",\"Ohne\",IF(OR(N304=\"Gerstenkorn roh\",N304=\"Riffelblech roh\"),\"XPS\",Daten!F$2)))","v":""},{"$f":"IF(A304=\"\",\"\",IF(AA304=\"Ohne\",\"A\",IF(AA304=\"XPS\",IF(Daten!F$1=\"D\",\"B\",Daten!F$1),Daten!F$1)))","v":""},{"$f":"IF(A304=\"\",\"\",IF(AB304=\"A\",\"-\",Daten!F$7))","v":""},{"$f":"IF(A304=\"\",\"\",IF(AB304=\"A\",\"-\",IF(AND(Daten!F$8=0,O304=\"Putzbord\"),5-Q304,0)))","v":""},{"$f":"IF(A304=\"\",\"\",IF(AB304=\"A\",\"-\",IF(AND(Daten!F$8=0,S304=\"Putzbord\"),5-U304,0)))","v":""},{"$f":"IF(A304=\"\",\"\",IF(AB304=\"A\",\"-\",Daten!F$10))","v":""},{"$f":"IFERROR(IF(A304=\"\",\"\",VLOOKUP(N304,Daten!N$1:O$7,2,FALSE)),\"\")","v":""}]
[null,null,null,{"$f":"IF(A305=\"\",\"\",IF(Daten!B$3=TRUE,Daten!B$7,\"\"))","v":""},{"$f":"IFERROR(IF(C305=\"\",\"\",C305+(2*D305)+IF(O305=Daten!M$13,6,0)+IF(S305=Daten!M$13,6,0)+IF(Q305=\"-\",0,Q305)+IF(U305=\"-\",0,U305)),\"\")","v":""},{"$f":"IF(OR(A305=\"\",AND(F$1=0,Daten!F$3=FALSE)),\"\",Daten!B$6)","v":""},{"$f":"IF(A305=\"\",\"\",IF(Daten!B$5=\"??\",\"\",Daten!B$5))","v":""},{"$f":"IF(A305=\"\",\"\",IF(Daten!B$3=FALSE,\"\",Daten!B$4))","v":""},{"$f":"IFERROR(IF(A305=\"\",\"\",G305+H305+IF(AND(G305>0,H305>0),5,0))-IF(Daten!H$21=TRUE,H305,0),\"\")","v":""},{"$f":"IFERROR(IF(A305=\"\",\"\",I305+IF(Daten!H$21=TRUE,H305,0)+IF(F305=\"\",0,F305)-IF(Daten!F$3=TRUE,Daten!F$10,0)),\"\")","v":""},{"$f":"IF(A305=\"\",\"\",Daten!D$14)","v":""},{"$f":"IF(A305=\"\",\"\",Daten!D$12)","v":""},{"$f":"IF(A305=\"\",\"\",Daten!D$13)","v":""},{"$f":"IF(A305=\"\",\"\",Daten!M$2)","v":""},{"$f":"IF(A305=\"\",\"\",IF(Daten!D$6=Daten!N$11,Daten!M$11,IF(Daten!D$6=Daten!N$13,Daten!M$13,IF(AND(Daten!$D$6=Daten!$M$10,Daten!$D$8=TRUE),Daten!$M$14,Daten!D$6))))","v":""},{"$f":"IF($A305=\"\",\"\",IF(OR(O305=\"Putzbord\",O305=\"Flexila PU\"),Daten!$D$15,IF(OR(O305=\"Stehbord\",O305=\"Stehbord HB\",O305=\"Flexila STB\",O305=\"Jalousiebord\"),Daten!$D$19,\"-\")))","v":""},{"$f":"IF($A305=\"\",\"\",IF(O305=\"Putzbord\",Daten!$D$16,IF(O305=\"Flexila PU\",_xlfn.NUMBERVALUE(MID(Daten!$D$17,1,2)),\"-\")))","v":""},{"$f":"IF($A305=\"\",\"\",IF(OR(O305=\"Putzbord\",O305=\"Flexila PU\"),Daten!$D$18,IF(OR(O305=\"Stehbord\",O305=\"Stehbord HB\",O305=\"Flexila STB\",O305=\"Jalousiebord\"),Daten!$D$21,\"-\")))","v":""},{"$f":"IF(A305=\"\",\"\",IF(Daten!D$6=Daten!N$11,Daten!M$11,IF(Daten!D$6=Daten!N$13,Daten!M$13,IF(AND(Daten!$D$6=Daten!$M$10,Daten!$D$8=TRUE),Daten!$M$14,Daten!D$6))))","v":""},{"$f":"IF($A305=\"\",\"\",IF(OR(S305=\"Putzbord\",S305=\"Flexila PU\"),Daten!$D$15,IF(OR(S305=\"Stehbord\",S305=\"Stehbord HB\",S305=\"Flexila STB\",S305=\"Jalousiebord\"),Daten!$D$19,\"-\")))","v":""},{"$f":"IF($A305=\"\",\"\",IF(S305=\"Putzbord\",Daten!$D$16,IF(S305=\"Flexila PU\",_xlfn.NUMBERVALUE(MID(Daten!$D$17,1,2)),\"-\")))","v":""},{"$f":"IF($A305=\"\",\"\",IF(OR(S305=\"Putzbord\",S305=\"Flexila PU\"),Daten!$D$18,IF(OR(S305=\"Stehbord\",S305=\"Stehbord HB\",S305=\"Flexila STB\",S305=\"Jalousiebord\"),Daten!$D$21,\"-\")))","v":""},{"$f":"IF(A305=\"\",\"\",IF(AND(Daten!D$6=\"Jalousiebord\",OR(O305=\"Stehbord\",S305=\"Stehbord\")),\"Jalousienklinkung\",\"\"))","v":""},{"$f":"IF(W305=\"\",\"\",Daten!D$20)","v":""},null,null,{"$f":"IF(A305=\"\",\"\",IF(Daten!F$1=\"A\",\"Ohne\",IF(OR(N305=\"Gerstenkorn roh\",N305=\"Riffelblech roh\"),\"XPS\",Daten!F$2)))","v":""},{"$f":"IF(A305=\"\",\"\",IF(AA305=\"Ohne\",\"A\",IF(AA305=\"XPS\",IF(Daten!F$1=\"D\",\"B\",Daten!F$1),Daten!F$1)))","v":""},{"$f":"IF(A305=\"\",\"\",IF(AB305=\"A\",\"-\",Daten!F$7))","v":""},{"$f":"IF(A305=\"\",\"\",IF(AB305=\"A\",\"-\",IF(AND(Daten!F$8=0,O305=\"Putzbord\"),5-Q305,0)))","v":""},{"$f":"IF(A305=\"\",\"\",IF(AB305=\"A\",\"-\",IF(AND(Daten!F$8=0,S305=\"Putzbord\"),5-U305,0)))","v":""},{"$f":"IF(A305=\"\",\"\",IF(AB305=\"A\",\"-\",Daten!F$10))","v":""},{"$f":"IFERROR(IF(A305=\"\",\"\",VLOOKUP(N305,Daten!N$1:O$7,2,FALSE)),\"\")","v":""}]
[null,null,null,{"$f":"IF(A306=\"\",\"\",IF(Daten!B$3=TRUE,Daten!B$7,\"\"))","v":""},{"$f":"IFERROR(IF(C306=\"\",\"\",C306+(2*D306)+IF(O306=Daten!M$13,6,0)+IF(S306=Daten!M$13,6,0)+IF(Q306=\"-\",0,Q306)+IF(U306=\"-\",0,U306)),\"\")","v":""},{"$f":"IF(OR(A306=\"\",AND(F$1=0,Daten!F$3=FALSE)),\"\",Daten!B$6)","v":""},{"$f":"IF(A306=\"\",\"\",IF(Daten!B$5=\"??\",\"\",Daten!B$5))","v":""},{"$f":"IF(A306=\"\",\"\",IF(Daten!B$3=FALSE,\"\",Daten!B$4))","v":""},{"$f":"IFERROR(IF(A306=\"\",\"\",G306+H306+IF(AND(G306>0,H306>0),5,0))-IF(Daten!H$21=TRUE,H306,0),\"\")","v":""},{"$f":"IFERROR(IF(A306=\"\",\"\",I306+IF(Daten!H$21=TRUE,H306,0)+IF(F306=\"\",0,F306)-IF(Daten!F$3=TRUE,Daten!F$10,0)),\"\")","v":""},{"$f":"IF(A306=\"\",\"\",Daten!D$14)","v":""},{"$f":"IF(A306=\"\",\"\",Daten!D$12)","v":""},{"$f":"IF(A306=\"\",\"\",Daten!D$13)","v":""},{"$f":"IF(A306=\"\",\"\",Daten!M$2)","v":""},{"$f":"IF(A306=\"\",\"\",IF(Daten!D$6=Daten!N$11,Daten!M$11,IF(Daten!D$6=Daten!N$13,Daten!M$13,IF(AND(Daten!$D$6=Daten!$M$10,Daten!$D$8=TRUE),Daten!$M$14,Daten!D$6))))","v":""},{"$f":"IF($A306=\"\",\"\",IF(OR(O306=\"Putzbord\",O306=\"Flexila PU\"),Daten!$D$15,IF(OR(O306=\"Stehbord\",O306=\"Stehbord HB\",O306=\"Flexila STB\",O306=\"Jalousiebord\"),Daten!$D$19,\"-\")))","v":""},{"$f":"IF($A306=\"\",\"\",IF(O306=\"Putzbord\",Daten!$D$16,IF(O306=\"Flexila PU\",_xlfn.NUMBERVALUE(MID(Daten!$D$17,1,2)),\"-\")))","v":""},{"$f":"IF($A306=\"\",\"\",IF(OR(O306=\"Putzbord\",O306=\"Flexila PU\"),Daten!$D$18,IF(OR(O306=\"Stehbord\",O306=\"Stehbord HB\",O306=\"Flexila STB\",O306=\"Jalousiebord\"),Daten!$D$21,\"-\")))","v":""},{"$f":"IF(A306=\"\",\"\",IF(Daten!D$6=Daten!N$11,Daten!M$11,IF(Daten!D$6=Daten!N$13,Daten!M$13,IF(AND(Daten!$D$6=Daten!$M$10,Daten!$D$8=TRUE),Daten!$M$14,Daten!D$6))))","v":""},{"$f":"IF($A306=\"\",\"\",IF(OR(S306=\"Putzbord\",S306=\"Flexila PU\"),Daten!$D$15,IF(OR(S306=\"Stehbord\",S306=\"Stehbord HB\",S306=\"Flexila STB\",S306=\"Jalousiebord\"),Daten!$D$19,\"-\")))","v":""},{"$f":"IF($A306=\"\",\"\",IF(S306=\"Putzbord\",Daten!$D$16,IF(S306=\"Flexila PU\",_xlfn.NUMBERVALUE(MID(Daten!$D$17,1,2)),\"-\")))","v":""},{"$f":"IF($A306=\"\",\"\",IF(OR(S306=\"Putzbord\",S306=\"Flexila PU\"),Daten!$D$18,IF(OR(S306=\"Stehbord\",S306=\"Stehbord HB\",S306=\"Flexila STB\",S306=\"Jalousiebord\"),Daten!$D$21,\"-\")))","v":""},{"$f":"IF(A306=\"\",\"\",IF(AND(Daten!D$6=\"Jalousiebord\",OR(O306=\"Stehbord\",S306=\"Stehbord\")),\"Jalousienklinkung\",\"\"))","v":""},{"$f":"IF(W306=\"\",\"\",Daten!D$20)","v":""},null,null,{"$f":"IF(A306=\"\",\"\",IF(Daten!F$1=\"A\",\"Ohne\",IF(OR(N306=\"Gerstenkorn roh\",N306=\"Riffelblech roh\"),\"XPS\",Daten!F$2)))","v":""},{"$f":"IF(A306=\"\",\"\",IF(AA306=\"Ohne\",\"A\",IF(AA306=\"XPS\",IF(Daten!F$1=\"D\",\"B\",Daten!F$1),Daten!F$1)))","v":""},{"$f":"IF(A306=\"\",\"\",IF(AB306=\"A\",\"-\",Daten!F$7))","v":""},{"$f":"IF(A306=\"\",\"\",IF(AB306=\"A\",\"-\",IF(AND(Daten!F$8=0,O306=\"Putzbord\"),5-Q306,0)))","v":""},{"$f":"IF(A306=\"\",\"\",IF(AB306=\"A\",\"-\",IF(AND(Daten!F$8=0,S306=\"Putzbord\"),5-U306,0)))","v":""},{"$f":"IF(A306=\"\",\"\",IF(AB306=\"A\",\"-\",Daten!F$10))","v":""},{"$f":"IFERROR(IF(A306=\"\",\"\",VLOOKUP(N306,Daten!N$1:O$7,2,FALSE)),\"\")","v":""}]
[null,null,null,{"$f":"IF(A307=\"\",\"\",IF(Daten!B$3=TRUE,Daten!B$7,\"\"))","v":""},{"$f":"IFERROR(IF(C307=\"\",\"\",C307+(2*D307)+IF(O307=Daten!M$13,6,0)+IF(S307=Daten!M$13,6,0)+IF(Q307=\"-\",0,Q307)+IF(U307=\"-\",0,U307)),\"\")","v":""},{"$f":"IF(OR(A307=\"\",AND(F$1=0,Daten!F$3=FALSE)),\"\",Daten!B$6)","v":""},{"$f":"IF(A307=\"\",\"\",IF(Daten!B$5=\"??\",\"\",Daten!B$5))","v":""},{"$f":"IF(A307=\"\",\"\",IF(Daten!B$3=FALSE,\"\",Daten!B$4))","v":""},{"$f":"IFERROR(IF(A307=\"\",\"\",G307+H307+IF(AND(G307>0,H307>0),5,0))-IF(Daten!H$21=TRUE,H307,0),\"\")","v":""},{"$f":"IFERROR(IF(A307=\"\",\"\",I307+IF(Daten!H$21=TRUE,H307,0)+IF(F307=\"\",0,F307)-IF(Daten!F$3=TRUE,Daten!F$10,0)),\"\")","v":""},{"$f":"IF(A307=\"\",\"\",Daten!D$14)","v":""},{"$f":"IF(A307=\"\",\"\",Daten!D$12)","v":""},{"$f":"IF(A307=\"\",\"\",Daten!D$13)","v":""},{"$f":"IF(A307=\"\",\"\",Daten!M$2)","v":""},{"$f":"IF(A307=\"\",\"\",IF(Daten!D$6=Daten!N$11,Daten!M$11,IF(Daten!D$6=Daten!N$13,Daten!M$13,IF(AND(Daten!$D$6=Daten!$M$10,Daten!$D$8=TRUE),Daten!$M$14,Daten!D$6))))","v":""},{"$f":"IF($A307=\"\",\"\",IF(OR(O307=\"Putzbord\",O307=\"Flexila PU\"),Daten!$D$15,IF(OR(O307=\"Stehbord\",O307=\"Stehbord HB\",O307=\"Flexila STB\",O307=\"Jalousiebord\"),Daten!$D$19,\"-\")))","v":""},{"$f":"IF($A307=\"\",\"\",IF(O307=\"Putzbord\",Daten!$D$16,IF(O307=\"Flexila PU\",_xlfn.NUMBERVALUE(MID(Daten!$D$17,1,2)),\"-\")))","v":""},{"$f":"IF($A307=\"\",\"\",IF(OR(O307=\"Putzbord\",O307=\"Flexila PU\"),Daten!$D$18,IF(OR(O307=\"Stehbord\",O307=\"Stehbord HB\",O307=\"Flexila STB\",O307=\"Jalousiebord\"),Daten!$D$21,\"-\")))","v":""},{"$f":"IF(A307=\"\",\"\",IF(Daten!D$6=Daten!N$11,Daten!M$11,IF(Daten!D$6=Daten!N$13,Daten!M$13,IF(AND(Daten!$D$6=Daten!$M$10,Daten!$D$8=TRUE),Daten!$M$14,Daten!D$6))))","v":""},{"$f":"IF($A307=\"\",\"\",IF(OR(S307=\"Putzbord\",S307=\"Flexila PU\"),Daten!$D$15,IF(OR(S307=\"Stehbord\",S307=\"Stehbord HB\",S307=\"Flexila STB\",S307=\"Jalousiebord\"),Daten!$D$19,\"-\")))","v":""},{"$f":"IF($A307=\"\",\"\",IF(S307=\"Putzbord\",Daten!$D$16,IF(S307=\"Flexila PU\",_xlfn.NUMBERVALUE(MID(Daten!$D$17,1,2)),\"-\")))","v":""},{"$f":"IF($A307=\"\",\"\",IF(OR(S307=\"Putzbord\",S307=\"Flexila PU\"),Daten!$D$18,IF(OR(S307=\"Stehbord\",S307=\"Stehbord HB\",S307=\"Flexila STB\",S307=\"Jalousiebord\"),Daten!$D$21,\"-\")))","v":""},{"$f":"IF(A307=\"\",\"\",IF(AND(Daten!D$6=\"Jalousiebord\",OR(O307=\"Stehbord\",S307=\"Stehbord\")),\"Jalousienklinkung\",\"\"))","v":""},{"$f":"IF(W307=\"\",\"\",Daten!D$20)","v":""},null,null,{"$f":"IF(A307=\"\",\"\",IF(Daten!F$1=\"A\",\"Ohne\",IF(OR(N307=\"Gerstenkorn roh\",N307=\"Riffelblech roh\"),\"XPS\",Daten!F$2)))","v":""},{"$f":"IF(A307=\"\",\"\",IF(AA307=\"Ohne\",\"A\",IF(AA307=\"XPS\",IF(Daten!F$1=\"D\",\"B\",Daten!F$1),Daten!F$1)))","v":""},{"$f":"IF(A307=\"\",\"\",IF(AB307=\"A\",\"-\",Daten!F$7))","v":""},{"$f":"IF(A307=\"\",\"\",IF(AB307=\"A\",\"-\",IF(AND(Daten!F$8=0,O307=\"Putzbord\"),5-Q307,0)))","v":""},{"$f":"IF(A307=\"\",\"\",IF(AB307=\"A\",\"-\",IF(AND(Daten!F$8=0,S307=\"Putzbord\"),5-U307,0)))","v":""},{"$f":"IF(A307=\"\",\"\",IF(AB307=\"A\",\"-\",Daten!F$10))","v":""},{"$f":"IFERROR(IF(A307=\"\",\"\",VLOOKUP(N307,Daten!N$1:O$7,2,FALSE)),\"\")","v":""}]
[null,null,null,{"$f":"IF(A308=\"\",\"\",IF(Daten!B$3=TRUE,Daten!B$7,\"\"))","v":""},{"$f":"IFERROR(IF(C308=\"\",\"\",C308+(2*D308)+IF(O308=Daten!M$13,6,0)+IF(S308=Daten!M$13,6,0)+IF(Q308=\"-\",0,Q308)+IF(U308=\"-\",0,U308)),\"\")","v":""},{"$f":"IF(OR(A308=\"\",AND(F$1=0,Daten!F$3=FALSE)),\"\",Daten!B$6)","v":""},{"$f":"IF(A308=\"\",\"\",IF(Daten!B$5=\"??\",\"\",Daten!B$5))","v":""},{"$f":"IF(A308=\"\",\"\",IF(Daten!B$3=FALSE,\"\",Daten!B$4))","v":""},{"$f":"IFERROR(IF(A308=\"\",\"\",G308+H308+IF(AND(G308>0,H308>0),5,0))-IF(Daten!H$21=TRUE,H308,0),\"\")","v":""},{"$f":"IFERROR(IF(A308=\"\",\"\",I308+IF(Daten!H$21=TRUE,H308,0)+IF(F308=\"\",0,F308)-IF(Daten!F$3=TRUE,Daten!F$10,0)),\"\")","v":""},{"$f":"IF(A308=\"\",\"\",Daten!D$14)","v":""},{"$f":"IF(A308=\"\",\"\",Daten!D$12)","v":""},{"$f":"IF(A308=\"\",\"\",Daten!D$13)","v":""},{"$f":"IF(A308=\"\",\"\",Daten!M$2)","v":""},{"$f":"IF(A308=\"\",\"\",IF(Daten!D$6=Daten!N$11,Daten!M$11,IF(Daten!D$6=Daten!N$13,Daten!M$13,IF(AND(Daten!$D$6=Daten!$M$10,Daten!$D$8=TRUE),Daten!$M$14,Daten!D$6))))","v":""},{"$f":"IF($A308=\"\",\"\",IF(OR(O308=\"Putzbord\",O308=\"Flexila PU\"),Daten!$D$15,IF(OR(O308=\"Stehbord\",O308=\"Stehbord HB\",O308=\"Flexila STB\",O308=\"Jalousiebord\"),Daten!$D$19,\"-\")))","v":""},{"$f":"IF($A308=\"\",\"\",IF(O308=\"Putzbord\",Daten!$D$16,IF(O308=\"Flexila PU\",_xlfn.NUMBERVALUE(MID(Daten!$D$17,1,2)),\"-\")))","v":""},{"$f":"IF($A308=\"\",\"\",IF(OR(O308=\"Putzbord\",O308=\"Flexila PU\"),Daten!$D$18,IF(OR(O308=\"Stehbord\",O308=\"Stehbord HB\",O308=\"Flexila STB\",O308=\"Jalousiebord\"),Daten!$D$21,\"-\")))","v":""},{"$f":"IF(A308=\"\",\"\",IF(Daten!D$6=Daten!N$11,Daten!M$11,IF(Daten!D$6=Daten!N$13,Daten!M$13,IF(AND(Daten!$D$6=Daten!$M$10,Daten!$D$8=TRUE),Daten!$M$14,Daten!D$6))))","v":""},{"$f":"IF($A308=\"\",\"\",IF(OR(S308=\"Putzbord\",S308=\"Flexila PU\"),Daten!$D$15,IF(OR(S308=\"Stehbord\",S308=\"Stehbord HB\",S308=\"Flexila STB\",S308=\"Jalousiebord\"),Daten!$D$19,\"-\")))","v":""},{"$f":"IF($A308=\"\",\"\",IF(S308=\"Putzbord\",Daten!$D$16,IF(S308=\"Flexila PU\",_xlfn.NUMBERVALUE(MID(Daten!$D$17,1,2)),\"-\")))","v":""},{"$f":"IF($A308=\"\",\"\",IF(OR(S308=\"Putzbord\",S308=\"Flexila PU\"),Daten!$D$18,IF(OR(S308=\"Stehbord\",S308=\"Stehbord HB\",S308=\"Flexila STB\",S308=\"Jalousiebord\"),Daten!$D$21,\"-\")))","v":""},{"$f":"IF(A308=\"\",\"\",IF(AND(Daten!D$6=\"Jalousiebord\",OR(O308=\"Stehbord\",S308=\"Stehbord\")),\"Jalousienklinkung\",\"\"))","v":""},{"$f":"IF(W308=\"\",\"\",Daten!D$20)","v":""},null,null,{"$f":"IF(A308=\"\",\"\",IF(Daten!F$1=\"A\",\"Ohne\",IF(OR(N308=\"Gerstenkorn roh\",N308=\"Riffelblech roh\"),\"XPS\",Daten!F$2)))","v":""},{"$f":"IF(A308=\"\",\"\",IF(AA308=\"Ohne\",\"A\",IF(AA308=\"XPS\",IF(Daten!F$1=\"D\",\"B\",Daten!F$1),Daten!F$1)))","v":""},{"$f":"IF(A308=\"\",\"\",IF(AB308=\"A\",\"-\",Daten!F$7))","v":""},{"$f":"IF(A308=\"\",\"\",IF(AB308=\"A\",\"-\",IF(AND(Daten!F$8=0,O308=\"Putzbord\"),5-Q308,0)))","v":""},{"$f":"IF(A308=\"\",\"\",IF(AB308=\"A\",\"-\",IF(AND(Daten!F$8=0,S308=\"Putzbord\"),5-U308,0)))","v":""},{"$f":"IF(A308=\"\",\"\",IF(AB308=\"A\",\"-\",Daten!F$10))","v":""},{"$f":"IFERROR(IF(A308=\"\",\"\",VLOOKUP(N308,Daten!N$1:O$7,2,FALSE)),\"\")","v":""}]
[null,null,null,{"$f":"IF(A309=\"\",\"\",IF(Daten!B$3=TRUE,Daten!B$7,\"\"))","v":""},{"$f":"IFERROR(IF(C309=\"\",\"\",C309+(2*D309)+IF(O309=Daten!M$13,6,0)+IF(S309=Daten!M$13,6,0)+IF(Q309=\"-\",0,Q309)+IF(U309=\"-\",0,U309)),\"\")","v":""},{"$f":"IF(OR(A309=\"\",AND(F$1=0,Daten!F$3=FALSE)),\"\",Daten!B$6)","v":""},{"$f":"IF(A309=\"\",\"\",IF(Daten!B$5=\"??\",\"\",Daten!B$5))","v":""},{"$f":"IF(A309=\"\",\"\",IF(Daten!B$3=FALSE,\"\",Daten!B$4))","v":""},{"$f":"IFERROR(IF(A309=\"\",\"\",G309+H309+IF(AND(G309>0,H309>0),5,0))-IF(Daten!H$21=TRUE,H309,0),\"\")","v":""},{"$f":"IFERROR(IF(A309=\"\",\"\",I309+IF(Daten!H$21=TRUE,H309,0)+IF(F309=\"\",0,F309)-IF(Daten!F$3=TRUE,Daten!F$10,0)),\"\")","v":""},{"$f":"IF(A309=\"\",\"\",Daten!D$14)","v":""},{"$f":"IF(A309=\"\",\"\",Daten!D$12)","v":""},{"$f":"IF(A309=\"\",\"\",Daten!D$13)","v":""},{"$f":"IF(A309=\"\",\"\",Daten!M$2)","v":""},{"$f":"IF(A309=\"\",\"\",IF(Daten!D$6=Daten!N$11,Daten!M$11,IF(Daten!D$6=Daten!N$13,Daten!M$13,IF(AND(Daten!$D$6=Daten!$M$10,Daten!$D$8=TRUE),Daten!$M$14,Daten!D$6))))","v":""},{"$f":"IF($A309=\"\",\"\",IF(OR(O309=\"Putzbord\",O309=\"Flexila PU\"),Daten!$D$15,IF(OR(O309=\"Stehbord\",O309=\"Stehbord HB\",O309=\"Flexila STB\",O309=\"Jalousiebord\"),Daten!$D$19,\"-\")))","v":""},{"$f":"IF($A309=\"\",\"\",IF(O309=\"Putzbord\",Daten!$D$16,IF(O309=\"Flexila PU\",_xlfn.NUMBERVALUE(MID(Daten!$D$17,1,2)),\"-\")))","v":""},{"$f":"IF($A309=\"\",\"\",IF(OR(O309=\"Putzbord\",O309=\"Flexila PU\"),Daten!$D$18,IF(OR(O309=\"Stehbord\",O309=\"Stehbord HB\",O309=\"Flexila STB\",O309=\"Jalousiebord\"),Daten!$D$21,\"-\")))","v":""},{"$f":"IF(A309=\"\",\"\",IF(Daten!D$6=Daten!N$11,Daten!M$11,IF(Daten!D$6=Daten!N$13,Daten!M$13,IF(AND(Daten!$D$6=Daten!$M$10,Daten!$D$8=TRUE),Daten!$M$14,Daten!D$6))))","v":""},{"$f":"IF($A309=\"\",\"\",IF(OR(S309=\"Putzbord\",S309=\"Flexila PU\"),Daten!$D$15,IF(OR(S309=\"Stehbord\",S309=\"Stehbord HB\",S309=\"Flexila STB\",S309=\"Jalousiebord\"),Daten!$D$19,\"-\")))","v":""},{"$f":"IF($A309=\"\",\"\",IF(S309=\"Putzbord\",Daten!$D$16,IF(S309=\"Flexila PU\",_xlfn.NUMBERVALUE(MID(Daten!$D$17,1,2)),\"-\")))","v":""},{"$f":"IF($A309=\"\",\"\",IF(OR(S309=\"Putzbord\",S309=\"Flexila PU\"),Daten!$D$18,IF(OR(S309=\"Stehbord\",S309=\"Stehbord HB\",S309=\"Flexila STB\",S309=\"Jalousiebord\"),Daten!$D$21,\"-\")))","v":""},{"$f":"IF(A309=\"\",\"\",IF(AND(Daten!D$6=\"Jalousiebord\",OR(O309=\"Stehbord\",S309=\"Stehbord\")),\"Jalousienklinkung\",\"\"))","v":""},{"$f":"IF(W309=\"\",\"\",Daten!D$20)","v":""},null,null,{"$f":"IF(A309=\"\",\"\",IF(Daten!F$1=\"A\",\"Ohne\",IF(OR(N309=\"Gerstenkorn roh\",N309=\"Riffelblech roh\"),\"XPS\",Daten!F$2)))","v":""},{"$f":"IF(A309=\"\",\"\",IF(AA309=\"Ohne\",\"A\",IF(AA309=\"XPS\",IF(Daten!F$1=\"D\",\"B\",Daten!F$1),Daten!F$1)))","v":""},{"$f":"IF(A309=\"\",\"\",IF(AB309=\"A\",\"-\",Daten!F$7))","v":""},{"$f":"IF(A309=\"\",\"\",IF(AB309=\"A\",\"-\",IF(AND(Daten!F$8=0,O309=\"Putzbord\"),5-Q309,0)))","v":""},{"$f":"IF(A309=\"\",\"\",IF(AB309=\"A\",\"-\",IF(AND(Daten!F$8=0,S309=\"Putzbord\"),5-U309,0)))","v":""},{"$f":"IF(A309=\"\",\"\",IF(AB309=\"A\",\"-\",Daten!F$10))","v":""},{"$f":"IFERROR(IF(A309=\"\",\"\",VLOOKUP(N309,Daten!N$1:O$7,2,FALSE)),\"\")","v":""}]
[null,null,null,{"$f":"IF(A310=\"\",\"\",IF(Daten!B$3=TRUE,Daten!B$7,\"\"))","v":""},{"$f":"IFERROR(IF(C310=\"\",\"\",C310+(2*D310)+IF(O310=Daten!M$13,6,0)+IF(S310=Daten!M$13,6,0)+IF(Q310=\"-\",0,Q310)+IF(U310=\"-\",0,U310)),\"\")","v":""},{"$f":"IF(OR(A310=\"\",AND(F$1=0,Daten!F$3=FALSE)),\"\",Daten!B$6)","v":""},{"$f":"IF(A310=\"\",\"\",IF(Daten!B$5=\"??\",\"\",Daten!B$5))","v":""},{"$f":"IF(A310=\"\",\"\",IF(Daten!B$3=FALSE,\"\",Daten!B$4))","v":""},{"$f":"IFERROR(IF(A310=\"\",\"\",G310+H310+IF(AND(G310>0,H310>0),5,0))-IF(Daten!H$21=TRUE,H310,0),\"\")","v":""},{"$f":"IFERROR(IF(A310=\"\",\"\",I310+IF(Daten!H$21=TRUE,H310,0)+IF(F310=\"\",0,F310)-IF(Daten!F$3=TRUE,Daten!F$10,0)),\"\")","v":""},{"$f":"IF(A310=\"\",\"\",Daten!D$14)","v":""},{"$f":"IF(A310=\"\",\"\",Daten!D$12)","v":""},{"$f":"IF(A310=\"\",\"\",Daten!D$13)","v":""},{"$f":"IF(A310=\"\",\"\",Daten!M$2)","v":""},{"$f":"IF(A310=\"\",\"\",IF(Daten!D$6=Daten!N$11,Daten!M$11,IF(Daten!D$6=Daten!N$13,Daten!M$13,IF(AND(Daten!$D$6=Daten!$M$10,Daten!$D$8=TRUE),Daten!$M$14,Daten!D$6))))","v":""},{"$f":"IF($A310=\"\",\"\",IF(OR(O310=\"Putzbord\",O310=\"Flexila PU\"),Daten!$D$15,IF(OR(O310=\"Stehbord\",O310=\"Stehbord HB\",O310=\"Flexila STB\",O310=\"Jalousiebord\"),Daten!$D$19,\"-\")))","v":""},{"$f":"IF($A310=\"\",\"\",IF(O310=\"Putzbord\",Daten!$D$16,IF(O310=\"Flexila PU\",_xlfn.NUMBERVALUE(MID(Daten!$D$17,1,2)),\"-\")))","v":""},{"$f":"IF($A310=\"\",\"\",IF(OR(O310=\"Putzbord\",O310=\"Flexila PU\"),Daten!$D$18,IF(OR(O310=\"Stehbord\",O310=\"Stehbord HB\",O310=\"Flexila STB\",O310=\"Jalousiebord\"),Daten!$D$21,\"-\")))","v":""},{"$f":"IF(A310=\"\",\"\",IF(Daten!D$6=Daten!N$11,Daten!M$11,IF(Daten!D$6=Daten!N$13,Daten!M$13,IF(AND(Daten!$D$6=Daten!$M$10,Daten!$D$8=TRUE),Daten!$M$14,Daten!D$6))))","v":""},{"$f":"IF($A310=\"\",\"\",IF(OR(S310=\"Putzbord\",S310=\"Flexila PU\"),Daten!$D$15,IF(OR(S310=\"Stehbord\",S310=\"Stehbord HB\",S310=\"Flexila STB\",S310=\"Jalousiebord\"),Daten!$D$19,\"-\")))","v":""},{"$f":"IF($A310=\"\",\"\",IF(S310=\"Putzbord\",Daten!$D$16,IF(S310=\"Flexila PU\",_xlfn.NUMBERVALUE(MID(Daten!$D$17,1,2)),\"-\")))","v":""},{"$f":"IF($A310=\"\",\"\",IF(OR(S310=\"Putzbord\",S310=\"Flexila PU\"),Daten!$D$18,IF(OR(S310=\"Stehbord\",S310=\"Stehbord HB\",S310=\"Flexila STB\",S310=\"Jalousiebord\"),Daten!$D$21,\"-\")))","v":""},{"$f":"IF(A310=\"\",\"\",IF(AND(Daten!D$6=\"Jalousiebord\",OR(O310=\"Stehbord\",S310=\"Stehbord\")),\"Jalousienklinkung\",\"\"))","v":""},{"$f":"IF(W310=\"\",\"\",Daten!D$20)","v":""},null,null,{"$f":"IF(A310=\"\",\"\",IF(Daten!F$1=\"A\",\"Ohne\",IF(OR(N310=\"Gerstenkorn roh\",N310=\"Riffelblech roh\"),\"XPS\",Daten!F$2)))","v":""},{"$f":"IF(A310=\"\",\"\",IF(AA310=\"Ohne\",\"A\",IF(AA310=\"XPS\",IF(Daten!F$1=\"D\",\"B\",Daten!F$1),Daten!F$1)))","v":""},{"$f":"IF(A310=\"\",\"\",IF(AB310=\"A\",\"-\",Daten!F$7))","v":""},{"$f":"IF(A310=\"\",\"\",IF(AB310=\"A\",\"-\",IF(AND(Daten!F$8=0,O310=\"Putzbord\"),5-Q310,0)))","v":""},{"$f":"IF(A310=\"\",\"\",IF(AB310=\"A\",\"-\",IF(AND(Daten!F$8=0,S310=\"Putzbord\"),5-U310,0)))","v":""},{"$f":"IF(A310=\"\",\"\",IF(AB310=\"A\",\"-\",Daten!F$10))","v":""},{"$f":"IFERROR(IF(A310=\"\",\"\",VLOOKUP(N310,Daten!N$1:O$7,2,FALSE)),\"\")","v":""}]
[null,null,null,{"$f":"IF(A311=\"\",\"\",IF(Daten!B$3=TRUE,Daten!B$7,\"\"))","v":""},{"$f":"IFERROR(IF(C311=\"\",\"\",C311+(2*D311)+IF(O311=Daten!M$13,6,0)+IF(S311=Daten!M$13,6,0)+IF(Q311=\"-\",0,Q311)+IF(U311=\"-\",0,U311)),\"\")","v":""},{"$f":"IF(OR(A311=\"\",AND(F$1=0,Daten!F$3=FALSE)),\"\",Daten!B$6)","v":""},{"$f":"IF(A311=\"\",\"\",IF(Daten!B$5=\"??\",\"\",Daten!B$5))","v":""},{"$f":"IF(A311=\"\",\"\",IF(Daten!B$3=FALSE,\"\",Daten!B$4))","v":""},{"$f":"IFERROR(IF(A311=\"\",\"\",G311+H311+IF(AND(G311>0,H311>0),5,0))-IF(Daten!H$21=TRUE,H311,0),\"\")","v":""},{"$f":"IFERROR(IF(A311=\"\",\"\",I311+IF(Daten!H$21=TRUE,H311,0)+IF(F311=\"\",0,F311)-IF(Daten!F$3=TRUE,Daten!F$10,0)),\"\")","v":""},{"$f":"IF(A311=\"\",\"\",Daten!D$14)","v":""},{"$f":"IF(A311=\"\",\"\",Daten!D$12)","v":""},{"$f":"IF(A311=\"\",\"\",Daten!D$13)","v":""},{"$f":"IF(A311=\"\",\"\",Daten!M$2)","v":""},{"$f":"IF(A311=\"\",\"\",IF(Daten!D$6=Daten!N$11,Daten!M$11,IF(Daten!D$6=Daten!N$13,Daten!M$13,IF(AND(Daten!$D$6=Daten!$M$10,Daten!$D$8=TRUE),Daten!$M$14,Daten!D$6))))","v":""},{"$f":"IF($A311=\"\",\"\",IF(OR(O311=\"Putzbord\",O311=\"Flexila PU\"),Daten!$D$15,IF(OR(O311=\"Stehbord\",O311=\"Stehbord HB\",O311=\"Flexila STB\",O311=\"Jalousiebord\"),Daten!$D$19,\"-\")))","v":""},{"$f":"IF($A311=\"\",\"\",IF(O311=\"Putzbord\",Daten!$D$16,IF(O311=\"Flexila PU\",_xlfn.NUMBERVALUE(MID(Daten!$D$17,1,2)),\"-\")))","v":""},{"$f":"IF($A311=\"\",\"\",IF(OR(O311=\"Putzbord\",O311=\"Flexila PU\"),Daten!$D$18,IF(OR(O311=\"Stehbord\",O311=\"Stehbord HB\",O311=\"Flexila STB\",O311=\"Jalousiebord\"),Daten!$D$21,\"-\")))","v":""},{"$f":"IF(A311=\"\",\"\",IF(Daten!D$6=Daten!N$11,Daten!M$11,IF(Daten!D$6=Daten!N$13,Daten!M$13,IF(AND(Daten!$D$6=Daten!$M$10,Daten!$D$8=TRUE),Daten!$M$14,Daten!D$6))))","v":""},{"$f":"IF($A311=\"\",\"\",IF(OR(S311=\"Putzbord\",S311=\"Flexila PU\"),Daten!$D$15,IF(OR(S311=\"Stehbord\",S311=\"Stehbord HB\",S311=\"Flexila STB\",S311=\"Jalousiebord\"),Daten!$D$19,\"-\")))","v":""},{"$f":"IF($A311=\"\",\"\",IF(S311=\"Putzbord\",Daten!$D$16,IF(S311=\"Flexila PU\",_xlfn.NUMBERVALUE(MID(Daten!$D$17,1,2)),\"-\")))","v":""},{"$f":"IF($A311=\"\",\"\",IF(OR(S311=\"Putzbord\",S311=\"Flexila PU\"),Daten!$D$18,IF(OR(S311=\"Stehbord\",S311=\"Stehbord HB\",S311=\"Flexila STB\",S311=\"Jalousiebord\"),Daten!$D$21,\"-\")))","v":""},{"$f":"IF(A311=\"\",\"\",IF(AND(Daten!D$6=\"Jalousiebord\",OR(O311=\"Stehbord\",S311=\"Stehbord\")),\"Jalousienklinkung\",\"\"))","v":""},{"$f":"IF(W311=\"\",\"\",Daten!D$20)","v":""},null,null,{"$f":"IF(A311=\"\",\"\",IF(Daten!F$1=\"A\",\"Ohne\",IF(OR(N311=\"Gerstenkorn roh\",N311=\"Riffelblech roh\"),\"XPS\",Daten!F$2)))","v":""},{"$f":"IF(A311=\"\",\"\",IF(AA311=\"Ohne\",\"A\",IF(AA311=\"XPS\",IF(Daten!F$1=\"D\",\"B\",Daten!F$1),Daten!F$1)))","v":""},{"$f":"IF(A311=\"\",\"\",IF(AB311=\"A\",\"-\",Daten!F$7))","v":""},{"$f":"IF(A311=\"\",\"\",IF(AB311=\"A\",\"-\",IF(AND(Daten!F$8=0,O311=\"Putzbord\"),5-Q311,0)))","v":""},{"$f":"IF(A311=\"\",\"\",IF(AB311=\"A\",\"-\",IF(AND(Daten!F$8=0,S311=\"Putzbord\"),5-U311,0)))","v":""},{"$f":"IF(A311=\"\",\"\",IF(AB311=\"A\",\"-\",Daten!F$10))","v":""},{"$f":"IFERROR(IF(A311=\"\",\"\",VLOOKUP(N311,Daten!N$1:O$7,2,FALSE)),\"\")","v":""}]
[null,null,null,{"$f":"IF(A312=\"\",\"\",IF(Daten!B$3=TRUE,Daten!B$7,\"\"))","v":""},{"$f":"IFERROR(IF(C312=\"\",\"\",C312+(2*D312)+IF(O312=Daten!M$13,6,0)+IF(S312=Daten!M$13,6,0)+IF(Q312=\"-\",0,Q312)+IF(U312=\"-\",0,U312)),\"\")","v":""},{"$f":"IF(OR(A312=\"\",AND(F$1=0,Daten!F$3=FALSE)),\"\",Daten!B$6)","v":""},{"$f":"IF(A312=\"\",\"\",IF(Daten!B$5=\"??\",\"\",Daten!B$5))","v":""},{"$f":"IF(A312=\"\",\"\",IF(Daten!B$3=FALSE,\"\",Daten!B$4))","v":""},{"$f":"IFERROR(IF(A312=\"\",\"\",G312+H312+IF(AND(G312>0,H312>0),5,0))-IF(Daten!H$21=TRUE,H312,0),\"\")","v":""},{"$f":"IFERROR(IF(A312=\"\",\"\",I312+IF(Daten!H$21=TRUE,H312,0)+IF(F312=\"\",0,F312)-IF(Daten!F$3=TRUE,Daten!F$10,0)),\"\")","v":""},{"$f":"IF(A312=\"\",\"\",Daten!D$14)","v":""},{"$f":"IF(A312=\"\",\"\",Daten!D$12)","v":""},{"$f":"IF(A312=\"\",\"\",Daten!D$13)","v":""},{"$f":"IF(A312=\"\",\"\",Daten!M$2)","v":""},{"$f":"IF(A312=\"\",\"\",IF(Daten!D$6=Daten!N$11,Daten!M$11,IF(Daten!D$6=Daten!N$13,Daten!M$13,IF(AND(Daten!$D$6=Daten!$M$10,Daten!$D$8=TRUE),Daten!$M$14,Daten!D$6))))","v":""},{"$f":"IF($A312=\"\",\"\",IF(OR(O312=\"Putzbord\",O312=\"Flexila PU\"),Daten!$D$15,IF(OR(O312=\"Stehbord\",O312=\"Stehbord HB\",O312=\"Flexila STB\",O312=\"Jalousiebord\"),Daten!$D$19,\"-\")))","v":""},{"$f":"IF($A312=\"\",\"\",IF(O312=\"Putzbord\",Daten!$D$16,IF(O312=\"Flexila PU\",_xlfn.NUMBERVALUE(MID(Daten!$D$17,1,2)),\"-\")))","v":""},{"$f":"IF($A312=\"\",\"\",IF(OR(O312=\"Putzbord\",O312=\"Flexila PU\"),Daten!$D$18,IF(OR(O312=\"Stehbord\",O312=\"Stehbord HB\",O312=\"Flexila STB\",O312=\"Jalousiebord\"),Daten!$D$21,\"-\")))","v":""},{"$f":"IF(A312=\"\",\"\",IF(Daten!D$6=Daten!N$11,Daten!M$11,IF(Daten!D$6=Daten!N$13,Daten!M$13,IF(AND(Daten!$D$6=Daten!$M$10,Daten!$D$8=TRUE),Daten!$M$14,Daten!D$6))))","v":""},{"$f":"IF($A312=\"\",\"\",IF(OR(S312=\"Putzbord\",S312=\"Flexila PU\"),Daten!$D$15,IF(OR(S312=\"Stehbord\",S312=\"Stehbord HB\",S312=\"Flexila STB\",S312=\"Jalousiebord\"),Daten!$D$19,\"-\")))","v":""},{"$f":"IF($A312=\"\",\"\",IF(S312=\"Putzbord\",Daten!$D$16,IF(S312=\"Flexila PU\",_xlfn.NUMBERVALUE(MID(Daten!$D$17,1,2)),\"-\")))","v":""},{"$f":"IF($A312=\"\",\"\",IF(OR(S312=\"Putzbord\",S312=\"Flexila PU\"),Daten!$D$18,IF(OR(S312=\"Stehbord\",S312=\"Stehbord HB\",S312=\"Flexila STB\",S312=\"Jalousiebord\"),Daten!$D$21,\"-\")))","v":""},{"$f":"IF(A312=\"\",\"\",IF(AND(Daten!D$6=\"Jalousiebord\",OR(O312=\"Stehbord\",S312=\"Stehbord\")),\"Jalousienklinkung\",\"\"))","v":""},{"$f":"IF(W312=\"\",\"\",Daten!D$20)","v":""},null,null,{"$f":"IF(A312=\"\",\"\",IF(Daten!F$1=\"A\",\"Ohne\",IF(OR(N312=\"Gerstenkorn roh\",N312=\"Riffelblech roh\"),\"XPS\",Daten!F$2)))","v":""},{"$f":"IF(A312=\"\",\"\",IF(AA312=\"Ohne\",\"A\",IF(AA312=\"XPS\",IF(Daten!F$1=\"D\",\"B\",Daten!F$1),Daten!F$1)))","v":""},{"$f":"IF(A312=\"\",\"\",IF(AB312=\"A\",\"-\",Daten!F$7))","v":""},{"$f":"IF(A312=\"\",\"\",IF(AB312=\"A\",\"-\",IF(AND(Daten!F$8=0,O312=\"Putzbord\"),5-Q312,0)))","v":""},{"$f":"IF(A312=\"\",\"\",IF(AB312=\"A\",\"-\",IF(AND(Daten!F$8=0,S312=\"Putzbord\"),5-U312,0)))","v":""},{"$f":"IF(A312=\"\",\"\",IF(AB312=\"A\",\"-\",Daten!F$10))","v":""},{"$f":"IFERROR(IF(A312=\"\",\"\",VLOOKUP(N312,Daten!N$1:O$7,2,FALSE)),\"\")","v":""}]
[null,null,null,{"$f":"IF(A313=\"\",\"\",IF(Daten!B$3=TRUE,Daten!B$7,\"\"))","v":""},{"$f":"IFERROR(IF(C313=\"\",\"\",C313+(2*D313)+IF(O313=Daten!M$13,6,0)+IF(S313=Daten!M$13,6,0)+IF(Q313=\"-\",0,Q313)+IF(U313=\"-\",0,U313)),\"\")","v":""},{"$f":"IF(OR(A313=\"\",AND(F$1=0,Daten!F$3=FALSE)),\"\",Daten!B$6)","v":""},{"$f":"IF(A313=\"\",\"\",IF(Daten!B$5=\"??\",\"\",Daten!B$5))","v":""},{"$f":"IF(A313=\"\",\"\",IF(Daten!B$3=FALSE,\"\",Daten!B$4))","v":""},{"$f":"IFERROR(IF(A313=\"\",\"\",G313+H313+IF(AND(G313>0,H313>0),5,0))-IF(Daten!H$21=TRUE,H313,0),\"\")","v":""},{"$f":"IFERROR(IF(A313=\"\",\"\",I313+IF(Daten!H$21=TRUE,H313,0)+IF(F313=\"\",0,F313)-IF(Daten!F$3=TRUE,Daten!F$10,0)),\"\")","v":""},{"$f":"IF(A313=\"\",\"\",Daten!D$14)","v":""},{"$f":"IF(A313=\"\",\"\",Daten!D$12)","v":""},{"$f":"IF(A313=\"\",\"\",Daten!D$13)","v":""},{"$f":"IF(A313=\"\",\"\",Daten!M$2)","v":""},{"$f":"IF(A313=\"\",\"\",IF(Daten!D$6=Daten!N$11,Daten!M$11,IF(Daten!D$6=Daten!N$13,Daten!M$13,IF(AND(Daten!$D$6=Daten!$M$10,Daten!$D$8=TRUE),Daten!$M$14,Daten!D$6))))","v":""},{"$f":"IF($A313=\"\",\"\",IF(OR(O313=\"Putzbord\",O313=\"Flexila PU\"),Daten!$D$15,IF(OR(O313=\"Stehbord\",O313=\"Stehbord HB\",O313=\"Flexila STB\",O313=\"Jalousiebord\"),Daten!$D$19,\"-\")))","v":""},{"$f":"IF($A313=\"\",\"\",IF(O313=\"Putzbord\",Daten!$D$16,IF(O313=\"Flexila PU\",_xlfn.NUMBERVALUE(MID(Daten!$D$17,1,2)),\"-\")))","v":""},{"$f":"IF($A313=\"\",\"\",IF(OR(O313=\"Putzbord\",O313=\"Flexila PU\"),Daten!$D$18,IF(OR(O313=\"Stehbord\",O313=\"Stehbord HB\",O313=\"Flexila STB\",O313=\"Jalousiebord\"),Daten!$D$21,\"-\")))","v":""},{"$f":"IF(A313=\"\",\"\",IF(Daten!D$6=Daten!N$11,Daten!M$11,IF(Daten!D$6=Daten!N$13,Daten!M$13,IF(AND(Daten!$D$6=Daten!$M$10,Daten!$D$8=TRUE),Daten!$M$14,Daten!D$6))))","v":""},{"$f":"IF($A313=\"\",\"\",IF(OR(S313=\"Putzbord\",S313=\"Flexila PU\"),Daten!$D$15,IF(OR(S313=\"Stehbord\",S313=\"Stehbord HB\",S313=\"Flexila STB\",S313=\"Jalousiebord\"),Daten!$D$19,\"-\")))","v":""},{"$f":"IF($A313=\"\",\"\",IF(S313=\"Putzbord\",Daten!$D$16,IF(S313=\"Flexila PU\",_xlfn.NUMBERVALUE(MID(Daten!$D$17,1,2)),\"-\")))","v":""},{"$f":"IF($A313=\"\",\"\",IF(OR(S313=\"Putzbord\",S313=\"Flexila PU\"),Daten!$D$18,IF(OR(S313=\"Stehbord\",S313=\"Stehbord HB\",S313=\"Flexila STB\",S313=\"Jalousiebord\"),Daten!$D$21,\"-\")))","v":""},{"$f":"IF(A313=\"\",\"\",IF(AND(Daten!D$6=\"Jalousiebord\",OR(O313=\"Stehbord\",S313=\"Stehbord\")),\"Jalousienklinkung\",\"\"))","v":""},{"$f":"IF(W313=\"\",\"\",Daten!D$20)","v":""},null,null,{"$f":"IF(A313=\"\",\"\",IF(Daten!F$1=\"A\",\"Ohne\",IF(OR(N313=\"Gerstenkorn roh\",N313=\"Riffelblech roh\"),\"XPS\",Daten!F$2)))","v":""},{"$f":"IF(A313=\"\",\"\",IF(AA313=\"Ohne\",\"A\",IF(AA313=\"XPS\",IF(Daten!F$1=\"D\",\"B\",Daten!F$1),Daten!F$1)))","v":""},{"$f":"IF(A313=\"\",\"\",IF(AB313=\"A\",\"-\",Daten!F$7))","v":""},{"$f":"IF(A313=\"\",\"\",IF(AB313=\"A\",\"-\",IF(AND(Daten!F$8=0,O313=\"Putzbord\"),5-Q313,0)))","v":""},{"$f":"IF(A313=\"\",\"\",IF(AB313=\"A\",\"-\",IF(AND(Daten!F$8=0,S313=\"Putzbord\"),5-U313,0)))","v":""},{"$f":"IF(A313=\"\",\"\",IF(AB313=\"A\",\"-\",Daten!F$10))","v":""},{"$f":"IFERROR(IF(A313=\"\",\"\",VLOOKUP(N313,Daten!N$1:O$7,2,FALSE)),\"\")","v":""}]
[null,null,null,{"$f":"IF(A314=\"\",\"\",IF(Daten!B$3=TRUE,Daten!B$7,\"\"))","v":""},{"$f":"IFERROR(IF(C314=\"\",\"\",C314+(2*D314)+IF(O314=Daten!M$13,6,0)+IF(S314=Daten!M$13,6,0)+IF(Q314=\"-\",0,Q314)+IF(U314=\"-\",0,U314)),\"\")","v":""},{"$f":"IF(OR(A314=\"\",AND(F$1=0,Daten!F$3=FALSE)),\"\",Daten!B$6)","v":""},{"$f":"IF(A314=\"\",\"\",IF(Daten!B$5=\"??\",\"\",Daten!B$5))","v":""},{"$f":"IF(A314=\"\",\"\",IF(Daten!B$3=FALSE,\"\",Daten!B$4))","v":""},{"$f":"IFERROR(IF(A314=\"\",\"\",G314+H314+IF(AND(G314>0,H314>0),5,0))-IF(Daten!H$21=TRUE,H314,0),\"\")","v":""},{"$f":"IFERROR(IF(A314=\"\",\"\",I314+IF(Daten!H$21=TRUE,H314,0)+IF(F314=\"\",0,F314)-IF(Daten!F$3=TRUE,Daten!F$10,0)),\"\")","v":""},{"$f":"IF(A314=\"\",\"\",Daten!D$14)","v":""},{"$f":"IF(A314=\"\",\"\",Daten!D$12)","v":""},{"$f":"IF(A314=\"\",\"\",Daten!D$13)","v":""},{"$f":"IF(A314=\"\",\"\",Daten!M$2)","v":""},{"$f":"IF(A314=\"\",\"\",IF(Daten!D$6=Daten!N$11,Daten!M$11,IF(Daten!D$6=Daten!N$13,Daten!M$13,IF(AND(Daten!$D$6=Daten!$M$10,Daten!$D$8=TRUE),Daten!$M$14,Daten!D$6))))","v":""},{"$f":"IF($A314=\"\",\"\",IF(OR(O314=\"Putzbord\",O314=\"Flexila PU\"),Daten!$D$15,IF(OR(O314=\"Stehbord\",O314=\"Stehbord HB\",O314=\"Flexila STB\",O314=\"Jalousiebord\"),Daten!$D$19,\"-\")))","v":""},{"$f":"IF($A314=\"\",\"\",IF(O314=\"Putzbord\",Daten!$D$16,IF(O314=\"Flexila PU\",_xlfn.NUMBERVALUE(MID(Daten!$D$17,1,2)),\"-\")))","v":""},{"$f":"IF($A314=\"\",\"\",IF(OR(O314=\"Putzbord\",O314=\"Flexila PU\"),Daten!$D$18,IF(OR(O314=\"Stehbord\",O314=\"Stehbord HB\",O314=\"Flexila STB\",O314=\"Jalousiebord\"),Daten!$D$21,\"-\")))","v":""},{"$f":"IF(A314=\"\",\"\",IF(Daten!D$6=Daten!N$11,Daten!M$11,IF(Daten!D$6=Daten!N$13,Daten!M$13,IF(AND(Daten!$D$6=Daten!$M$10,Daten!$D$8=TRUE),Daten!$M$14,Daten!D$6))))","v":""},{"$f":"IF($A314=\"\",\"\",IF(OR(S314=\"Putzbord\",S314=\"Flexila PU\"),Daten!$D$15,IF(OR(S314=\"Stehbord\",S314=\"Stehbord HB\",S314=\"Flexila STB\",S314=\"Jalousiebord\"),Daten!$D$19,\"-\")))","v":""},{"$f":"IF($A314=\"\",\"\",IF(S314=\"Putzbord\",Daten!$D$16,IF(S314=\"Flexila PU\",_xlfn.NUMBERVALUE(MID(Daten!$D$17,1,2)),\"-\")))","v":""},{"$f":"IF($A314=\"\",\"\",IF(OR(S314=\"Putzbord\",S314=\"Flexila PU\"),Daten!$D$18,IF(OR(S314=\"Stehbord\",S314=\"Stehbord HB\",S314=\"Flexila STB\",S314=\"Jalousiebord\"),Daten!$D$21,\"-\")))","v":""},{"$f":"IF(A314=\"\",\"\",IF(AND(Daten!D$6=\"Jalousiebord\",OR(O314=\"Stehbord\",S314=\"Stehbord\")),\"Jalousienklinkung\",\"\"))","v":""},{"$f":"IF(W314=\"\",\"\",Daten!D$20)","v":""},null,null,{"$f":"IF(A314=\"\",\"\",IF(Daten!F$1=\"A\",\"Ohne\",IF(OR(N314=\"Gerstenkorn roh\",N314=\"Riffelblech roh\"),\"XPS\",Daten!F$2)))","v":""},{"$f":"IF(A314=\"\",\"\",IF(AA314=\"Ohne\",\"A\",IF(AA314=\"XPS\",IF(Daten!F$1=\"D\",\"B\",Daten!F$1),Daten!F$1)))","v":""},{"$f":"IF(A314=\"\",\"\",IF(AB314=\"A\",\"-\",Daten!F$7))","v":""},{"$f":"IF(A314=\"\",\"\",IF(AB314=\"A\",\"-\",IF(AND(Daten!F$8=0,O314=\"Putzbord\"),5-Q314,0)))","v":""},{"$f":"IF(A314=\"\",\"\",IF(AB314=\"A\",\"-\",IF(AND(Daten!F$8=0,S314=\"Putzbord\"),5-U314,0)))","v":""},{"$f":"IF(A314=\"\",\"\",IF(AB314=\"A\",\"-\",Daten!F$10))","v":""},{"$f":"IFERROR(IF(A314=\"\",\"\",VLOOKUP(N314,Daten!N$1:O$7,2,FALSE)),\"\")","v":""}]
[null,null,null,{"$f":"IF(A315=\"\",\"\",IF(Daten!B$3=TRUE,Daten!B$7,\"\"))","v":""},{"$f":"IFERROR(IF(C315=\"\",\"\",C315+(2*D315)+IF(O315=Daten!M$13,6,0)+IF(S315=Daten!M$13,6,0)+IF(Q315=\"-\",0,Q315)+IF(U315=\"-\",0,U315)),\"\")","v":""},{"$f":"IF(OR(A315=\"\",AND(F$1=0,Daten!F$3=FALSE)),\"\",Daten!B$6)","v":""},{"$f":"IF(A315=\"\",\"\",IF(Daten!B$5=\"??\",\"\",Daten!B$5))","v":""},{"$f":"IF(A315=\"\",\"\",IF(Daten!B$3=FALSE,\"\",Daten!B$4))","v":""},{"$f":"IFERROR(IF(A315=\"\",\"\",G315+H315+IF(AND(G315>0,H315>0),5,0))-IF(Daten!H$21=TRUE,H315,0),\"\")","v":""},{"$f":"IFERROR(IF(A315=\"\",\"\",I315+IF(Daten!H$21=TRUE,H315,0)+IF(F315=\"\",0,F315)-IF(Daten!F$3=TRUE,Daten!F$10,0)),\"\")","v":""},{"$f":"IF(A315=\"\",\"\",Daten!D$14)","v":""},{"$f":"IF(A315=\"\",\"\",Daten!D$12)","v":""},{"$f":"IF(A315=\"\",\"\",Daten!D$13)","v":""},{"$f":"IF(A315=\"\",\"\",Daten!M$2)","v":""},{"$f":"IF(A315=\"\",\"\",IF(Daten!D$6=Daten!N$11,Daten!M$11,IF(Daten!D$6=Daten!N$13,Daten!M$13,IF(AND(Daten!$D$6=Daten!$M$10,Daten!$D$8=TRUE),Daten!$M$14,Daten!D$6))))","v":""},{"$f":"IF($A315=\"\",\"\",IF(OR(O315=\"Putzbord\",O315=\"Flexila PU\"),Daten!$D$15,IF(OR(O315=\"Stehbord\",O315=\"Stehbord HB\",O315=\"Flexila STB\",O315=\"Jalousiebord\"),Daten!$D$19,\"-\")))","v":""},{"$f":"IF($A315=\"\",\"\",IF(O315=\"Putzbord\",Daten!$D$16,IF(O315=\"Flexila PU\",_xlfn.NUMBERVALUE(MID(Daten!$D$17,1,2)),\"-\")))","v":""},{"$f":"IF($A315=\"\",\"\",IF(OR(O315=\"Putzbord\",O315=\"Flexila PU\"),Daten!$D$18,IF(OR(O315=\"Stehbord\",O315=\"Stehbord HB\",O315=\"Flexila STB\",O315=\"Jalousiebord\"),Daten!$D$21,\"-\")))","v":""},{"$f":"IF(A315=\"\",\"\",IF(Daten!D$6=Daten!N$11,Daten!M$11,IF(Daten!D$6=Daten!N$13,Daten!M$13,IF(AND(Daten!$D$6=Daten!$M$10,Daten!$D$8=TRUE),Daten!$M$14,Daten!D$6))))","v":""},{"$f":"IF($A315=\"\",\"\",IF(OR(S315=\"Putzbord\",S315=\"Flexila PU\"),Daten!$D$15,IF(OR(S315=\"Stehbord\",S315=\"Stehbord HB\",S315=\"Flexila STB\",S315=\"Jalousiebord\"),Daten!$D$19,\"-\")))","v":""},{"$f":"IF($A315=\"\",\"\",IF(S315=\"Putzbord\",Daten!$D$16,IF(S315=\"Flexila PU\",_xlfn.NUMBERVALUE(MID(Daten!$D$17,1,2)),\"-\")))","v":""},{"$f":"IF($A315=\"\",\"\",IF(OR(S315=\"Putzbord\",S315=\"Flexila PU\"),Daten!$D$18,IF(OR(S315=\"Stehbord\",S315=\"Stehbord HB\",S315=\"Flexila STB\",S315=\"Jalousiebord\"),Daten!$D$21,\"-\")))","v":""},{"$f":"IF(A315=\"\",\"\",IF(AND(Daten!D$6=\"Jalousiebord\",OR(O315=\"Stehbord\",S315=\"Stehbord\")),\"Jalousienklinkung\",\"\"))","v":""},{"$f":"IF(W315=\"\",\"\",Daten!D$20)","v":""},null,null,{"$f":"IF(A315=\"\",\"\",IF(Daten!F$1=\"A\",\"Ohne\",IF(OR(N315=\"Gerstenkorn roh\",N315=\"Riffelblech roh\"),\"XPS\",Daten!F$2)))","v":""},{"$f":"IF(A315=\"\",\"\",IF(AA315=\"Ohne\",\"A\",IF(AA315=\"XPS\",IF(Daten!F$1=\"D\",\"B\",Daten!F$1),Daten!F$1)))","v":""},{"$f":"IF(A315=\"\",\"\",IF(AB315=\"A\",\"-\",Daten!F$7))","v":""},{"$f":"IF(A315=\"\",\"\",IF(AB315=\"A\",\"-\",IF(AND(Daten!F$8=0,O315=\"Putzbord\"),5-Q315,0)))","v":""},{"$f":"IF(A315=\"\",\"\",IF(AB315=\"A\",\"-\",IF(AND(Daten!F$8=0,S315=\"Putzbord\"),5-U315,0)))","v":""},{"$f":"IF(A315=\"\",\"\",IF(AB315=\"A\",\"-\",Daten!F$10))","v":""},{"$f":"IFERROR(IF(A315=\"\",\"\",VLOOKUP(N315,Daten!N$1:O$7,2,FALSE)),\"\")","v":""}]
[null,null,null,{"$f":"IF(A316=\"\",\"\",IF(Daten!B$3=TRUE,Daten!B$7,\"\"))","v":""},{"$f":"IFERROR(IF(C316=\"\",\"\",C316+(2*D316)+IF(O316=Daten!M$13,6,0)+IF(S316=Daten!M$13,6,0)+IF(Q316=\"-\",0,Q316)+IF(U316=\"-\",0,U316)),\"\")","v":""},{"$f":"IF(OR(A316=\"\",AND(F$1=0,Daten!F$3=FALSE)),\"\",Daten!B$6)","v":""},{"$f":"IF(A316=\"\",\"\",IF(Daten!B$5=\"??\",\"\",Daten!B$5))","v":""},{"$f":"IF(A316=\"\",\"\",IF(Daten!B$3=FALSE,\"\",Daten!B$4))","v":""},{"$f":"IFERROR(IF(A316=\"\",\"\",G316+H316+IF(AND(G316>0,H316>0),5,0))-IF(Daten!H$21=TRUE,H316,0),\"\")","v":""},{"$f":"IFERROR(IF(A316=\"\",\"\",I316+IF(Daten!H$21=TRUE,H316,0)+IF(F316=\"\",0,F316)-IF(Daten!F$3=TRUE,Daten!F$10,0)),\"\")","v":""},{"$f":"IF(A316=\"\",\"\",Daten!D$14)","v":""},{"$f":"IF(A316=\"\",\"\",Daten!D$12)","v":""},{"$f":"IF(A316=\"\",\"\",Daten!D$13)","v":""},{"$f":"IF(A316=\"\",\"\",Daten!M$2)","v":""},{"$f":"IF(A316=\"\",\"\",IF(Daten!D$6=Daten!N$11,Daten!M$11,IF(Daten!D$6=Daten!N$13,Daten!M$13,IF(AND(Daten!$D$6=Daten!$M$10,Daten!$D$8=TRUE),Daten!$M$14,Daten!D$6))))","v":""},{"$f":"IF($A316=\"\",\"\",IF(OR(O316=\"Putzbord\",O316=\"Flexila PU\"),Daten!$D$15,IF(OR(O316=\"Stehbord\",O316=\"Stehbord HB\",O316=\"Flexila STB\",O316=\"Jalousiebord\"),Daten!$D$19,\"-\")))","v":""},{"$f":"IF($A316=\"\",\"\",IF(O316=\"Putzbord\",Daten!$D$16,IF(O316=\"Flexila PU\",_xlfn.NUMBERVALUE(MID(Daten!$D$17,1,2)),\"-\")))","v":""},{"$f":"IF($A316=\"\",\"\",IF(OR(O316=\"Putzbord\",O316=\"Flexila PU\"),Daten!$D$18,IF(OR(O316=\"Stehbord\",O316=\"Stehbord HB\",O316=\"Flexila STB\",O316=\"Jalousiebord\"),Daten!$D$21,\"-\")))","v":""},{"$f":"IF(A316=\"\",\"\",IF(Daten!D$6=Daten!N$11,Daten!M$11,IF(Daten!D$6=Daten!N$13,Daten!M$13,IF(AND(Daten!$D$6=Daten!$M$10,Daten!$D$8=TRUE),Daten!$M$14,Daten!D$6))))","v":""},{"$f":"IF($A316=\"\",\"\",IF(OR(S316=\"Putzbord\",S316=\"Flexila PU\"),Daten!$D$15,IF(OR(S316=\"Stehbord\",S316=\"Stehbord HB\",S316=\"Flexila STB\",S316=\"Jalousiebord\"),Daten!$D$19,\"-\")))","v":""},{"$f":"IF($A316=\"\",\"\",IF(S316=\"Putzbord\",Daten!$D$16,IF(S316=\"Flexila PU\",_xlfn.NUMBERVALUE(MID(Daten!$D$17,1,2)),\"-\")))","v":""},{"$f":"IF($A316=\"\",\"\",IF(OR(S316=\"Putzbord\",S316=\"Flexila PU\"),Daten!$D$18,IF(OR(S316=\"Stehbord\",S316=\"Stehbord HB\",S316=\"Flexila STB\",S316=\"Jalousiebord\"),Daten!$D$21,\"-\")))","v":""},{"$f":"IF(A316=\"\",\"\",IF(AND(Daten!D$6=\"Jalousiebord\",OR(O316=\"Stehbord\",S316=\"Stehbord\")),\"Jalousienklinkung\",\"\"))","v":""},{"$f":"IF(W316=\"\",\"\",Daten!D$20)","v":""},null,null,{"$f":"IF(A316=\"\",\"\",IF(Daten!F$1=\"A\",\"Ohne\",IF(OR(N316=\"Gerstenkorn roh\",N316=\"Riffelblech roh\"),\"XPS\",Daten!F$2)))","v":""},{"$f":"IF(A316=\"\",\"\",IF(AA316=\"Ohne\",\"A\",IF(AA316=\"XPS\",IF(Daten!F$1=\"D\",\"B\",Daten!F$1),Daten!F$1)))","v":""},{"$f":"IF(A316=\"\",\"\",IF(AB316=\"A\",\"-\",Daten!F$7))","v":""},{"$f":"IF(A316=\"\",\"\",IF(AB316=\"A\",\"-\",IF(AND(Daten!F$8=0,O316=\"Putzbord\"),5-Q316,0)))","v":""},{"$f":"IF(A316=\"\",\"\",IF(AB316=\"A\",\"-\",IF(AND(Daten!F$8=0,S316=\"Putzbord\"),5-U316,0)))","v":""},{"$f":"IF(A316=\"\",\"\",IF(AB316=\"A\",\"-\",Daten!F$10))","v":""},{"$f":"IFERROR(IF(A316=\"\",\"\",VLOOKUP(N316,Daten!N$1:O$7,2,FALSE)),\"\")","v":""}]
[null,null,null,{"$f":"IF(A317=\"\",\"\",IF(Daten!B$3=TRUE,Daten!B$7,\"\"))","v":""},{"$f":"IFERROR(IF(C317=\"\",\"\",C317+(2*D317)+IF(O317=Daten!M$13,6,0)+IF(S317=Daten!M$13,6,0)+IF(Q317=\"-\",0,Q317)+IF(U317=\"-\",0,U317)),\"\")","v":""},{"$f":"IF(OR(A317=\"\",AND(F$1=0,Daten!F$3=FALSE)),\"\",Daten!B$6)","v":""},{"$f":"IF(A317=\"\",\"\",IF(Daten!B$5=\"??\",\"\",Daten!B$5))","v":""},{"$f":"IF(A317=\"\",\"\",IF(Daten!B$3=FALSE,\"\",Daten!B$4))","v":""},{"$f":"IFERROR(IF(A317=\"\",\"\",G317+H317+IF(AND(G317>0,H317>0),5,0))-IF(Daten!H$21=TRUE,H317,0),\"\")","v":""},{"$f":"IFERROR(IF(A317=\"\",\"\",I317+IF(Daten!H$21=TRUE,H317,0)+IF(F317=\"\",0,F317)-IF(Daten!F$3=TRUE,Daten!F$10,0)),\"\")","v":""},{"$f":"IF(A317=\"\",\"\",Daten!D$14)","v":""},{"$f":"IF(A317=\"\",\"\",Daten!D$12)","v":""},{"$f":"IF(A317=\"\",\"\",Daten!D$13)","v":""},{"$f":"IF(A317=\"\",\"\",Daten!M$2)","v":""},{"$f":"IF(A317=\"\",\"\",IF(Daten!D$6=Daten!N$11,Daten!M$11,IF(Daten!D$6=Daten!N$13,Daten!M$13,IF(AND(Daten!$D$6=Daten!$M$10,Daten!$D$8=TRUE),Daten!$M$14,Daten!D$6))))","v":""},{"$f":"IF($A317=\"\",\"\",IF(OR(O317=\"Putzbord\",O317=\"Flexila PU\"),Daten!$D$15,IF(OR(O317=\"Stehbord\",O317=\"Stehbord HB\",O317=\"Flexila STB\",O317=\"Jalousiebord\"),Daten!$D$19,\"-\")))","v":""},{"$f":"IF($A317=\"\",\"\",IF(O317=\"Putzbord\",Daten!$D$16,IF(O317=\"Flexila PU\",_xlfn.NUMBERVALUE(MID(Daten!$D$17,1,2)),\"-\")))","v":""},{"$f":"IF($A317=\"\",\"\",IF(OR(O317=\"Putzbord\",O317=\"Flexila PU\"),Daten!$D$18,IF(OR(O317=\"Stehbord\",O317=\"Stehbord HB\",O317=\"Flexila STB\",O317=\"Jalousiebord\"),Daten!$D$21,\"-\")))","v":""},{"$f":"IF(A317=\"\",\"\",IF(Daten!D$6=Daten!N$11,Daten!M$11,IF(Daten!D$6=Daten!N$13,Daten!M$13,IF(AND(Daten!$D$6=Daten!$M$10,Daten!$D$8=TRUE),Daten!$M$14,Daten!D$6))))","v":""},{"$f":"IF($A317=\"\",\"\",IF(OR(S317=\"Putzbord\",S317=\"Flexila PU\"),Daten!$D$15,IF(OR(S317=\"Stehbord\",S317=\"Stehbord HB\",S317=\"Flexila STB\",S317=\"Jalousiebord\"),Daten!$D$19,\"-\")))","v":""},{"$f":"IF($A317=\"\",\"\",IF(S317=\"Putzbord\",Daten!$D$16,IF(S317=\"Flexila PU\",_xlfn.NUMBERVALUE(MID(Daten!$D$17,1,2)),\"-\")))","v":""},{"$f":"IF($A317=\"\",\"\",IF(OR(S317=\"Putzbord\",S317=\"Flexila PU\"),Daten!$D$18,IF(OR(S317=\"Stehbord\",S317=\"Stehbord HB\",S317=\"Flexila STB\",S317=\"Jalousiebord\"),Daten!$D$21,\"-\")))","v":""},{"$f":"IF(A317=\"\",\"\",IF(AND(Daten!D$6=\"Jalousiebord\",OR(O317=\"Stehbord\",S317=\"Stehbord\")),\"Jalousienklinkung\",\"\"))","v":""},{"$f":"IF(W317=\"\",\"\",Daten!D$20)","v":""},null,null,{"$f":"IF(A317=\"\",\"\",IF(Daten!F$1=\"A\",\"Ohne\",IF(OR(N317=\"Gerstenkorn roh\",N317=\"Riffelblech roh\"),\"XPS\",Daten!F$2)))","v":""},{"$f":"IF(A317=\"\",\"\",IF(AA317=\"Ohne\",\"A\",IF(AA317=\"XPS\",IF(Daten!F$1=\"D\",\"B\",Daten!F$1),Daten!F$1)))","v":""},{"$f":"IF(A317=\"\",\"\",IF(AB317=\"A\",\"-\",Daten!F$7))","v":""},{"$f":"IF(A317=\"\",\"\",IF(AB317=\"A\",\"-\",IF(AND(Daten!F$8=0,O317=\"Putzbord\"),5-Q317,0)))","v":""},{"$f":"IF(A317=\"\",\"\",IF(AB317=\"A\",\"-\",IF(AND(Daten!F$8=0,S317=\"Putzbord\"),5-U317,0)))","v":""},{"$f":"IF(A317=\"\",\"\",IF(AB317=\"A\",\"-\",Daten!F$10))","v":""},{"$f":"IFERROR(IF(A317=\"\",\"\",VLOOKUP(N317,Daten!N$1:O$7,2,FALSE)),\"\")","v":""}]
[null,null,null,{"$f":"IF(A318=\"\",\"\",IF(Daten!B$3=TRUE,Daten!B$7,\"\"))","v":""},{"$f":"IFERROR(IF(C318=\"\",\"\",C318+(2*D318)+IF(O318=Daten!M$13,6,0)+IF(S318=Daten!M$13,6,0)+IF(Q318=\"-\",0,Q318)+IF(U318=\"-\",0,U318)),\"\")","v":""},{"$f":"IF(OR(A318=\"\",AND(F$1=0,Daten!F$3=FALSE)),\"\",Daten!B$6)","v":""},{"$f":"IF(A318=\"\",\"\",IF(Daten!B$5=\"??\",\"\",Daten!B$5))","v":""},{"$f":"IF(A318=\"\",\"\",IF(Daten!B$3=FALSE,\"\",Daten!B$4))","v":""},{"$f":"IFERROR(IF(A318=\"\",\"\",G318+H318+IF(AND(G318>0,H318>0),5,0))-IF(Daten!H$21=TRUE,H318,0),\"\")","v":""},{"$f":"IFERROR(IF(A318=\"\",\"\",I318+IF(Daten!H$21=TRUE,H318,0)+IF(F318=\"\",0,F318)-IF(Daten!F$3=TRUE,Daten!F$10,0)),\"\")","v":""},{"$f":"IF(A318=\"\",\"\",Daten!D$14)","v":""},{"$f":"IF(A318=\"\",\"\",Daten!D$12)","v":""},{"$f":"IF(A318=\"\",\"\",Daten!D$13)","v":""},{"$f":"IF(A318=\"\",\"\",Daten!M$2)","v":""},{"$f":"IF(A318=\"\",\"\",IF(Daten!D$6=Daten!N$11,Daten!M$11,IF(Daten!D$6=Daten!N$13,Daten!M$13,IF(AND(Daten!$D$6=Daten!$M$10,Daten!$D$8=TRUE),Daten!$M$14,Daten!D$6))))","v":""},{"$f":"IF($A318=\"\",\"\",IF(OR(O318=\"Putzbord\",O318=\"Flexila PU\"),Daten!$D$15,IF(OR(O318=\"Stehbord\",O318=\"Stehbord HB\",O318=\"Flexila STB\",O318=\"Jalousiebord\"),Daten!$D$19,\"-\")))","v":""},{"$f":"IF($A318=\"\",\"\",IF(O318=\"Putzbord\",Daten!$D$16,IF(O318=\"Flexila PU\",_xlfn.NUMBERVALUE(MID(Daten!$D$17,1,2)),\"-\")))","v":""},{"$f":"IF($A318=\"\",\"\",IF(OR(O318=\"Putzbord\",O318=\"Flexila PU\"),Daten!$D$18,IF(OR(O318=\"Stehbord\",O318=\"Stehbord HB\",O318=\"Flexila STB\",O318=\"Jalousiebord\"),Daten!$D$21,\"-\")))","v":""},{"$f":"IF(A318=\"\",\"\",IF(Daten!D$6=Daten!N$11,Daten!M$11,IF(Daten!D$6=Daten!N$13,Daten!M$13,IF(AND(Daten!$D$6=Daten!$M$10,Daten!$D$8=TRUE),Daten!$M$14,Daten!D$6))))","v":""},{"$f":"IF($A318=\"\",\"\",IF(OR(S318=\"Putzbord\",S318=\"Flexila PU\"),Daten!$D$15,IF(OR(S318=\"Stehbord\",S318=\"Stehbord HB\",S318=\"Flexila STB\",S318=\"Jalousiebord\"),Daten!$D$19,\"-\")))","v":""},{"$f":"IF($A318=\"\",\"\",IF(S318=\"Putzbord\",Daten!$D$16,IF(S318=\"Flexila PU\",_xlfn.NUMBERVALUE(MID(Daten!$D$17,1,2)),\"-\")))","v":""},{"$f":"IF($A318=\"\",\"\",IF(OR(S318=\"Putzbord\",S318=\"Flexila PU\"),Daten!$D$18,IF(OR(S318=\"Stehbord\",S318=\"Stehbord HB\",S318=\"Flexila STB\",S318=\"Jalousiebord\"),Daten!$D$21,\"-\")))","v":""},{"$f":"IF(A318=\"\",\"\",IF(AND(Daten!D$6=\"Jalousiebord\",OR(O318=\"Stehbord\",S318=\"Stehbord\")),\"Jalousienklinkung\",\"\"))","v":""},{"$f":"IF(W318=\"\",\"\",Daten!D$20)","v":""},null,null,{"$f":"IF(A318=\"\",\"\",IF(Daten!F$1=\"A\",\"Ohne\",IF(OR(N318=\"Gerstenkorn roh\",N318=\"Riffelblech roh\"),\"XPS\",Daten!F$2)))","v":""},{"$f":"IF(A318=\"\",\"\",IF(AA318=\"Ohne\",\"A\",IF(AA318=\"XPS\",IF(Daten!F$1=\"D\",\"B\",Daten!F$1),Daten!F$1)))","v":""},{"$f":"IF(A318=\"\",\"\",IF(AB318=\"A\",\"-\",Daten!F$7))","v":""},{"$f":"IF(A318=\"\",\"\",IF(AB318=\"A\",\"-\",IF(AND(Daten!F$8=0,O318=\"Putzbord\"),5-Q318,0)))","v":""},{"$f":"IF(A318=\"\",\"\",IF(AB318=\"A\",\"-\",IF(AND(Daten!F$8=0,S318=\"Putzbord\"),5-U318,0)))","v":""},{"$f":"IF(A318=\"\",\"\",IF(AB318=\"A\",\"-\",Daten!F$10))","v":""},{"$f":"IFERROR(IF(A318=\"\",\"\",VLOOKUP(N318,Daten!N$1:O$7,2,FALSE)),\"\")","v":""}]
[null,null,null,{"$f":"IF(A319=\"\",\"\",IF(Daten!B$3=TRUE,Daten!B$7,\"\"))","v":""},{"$f":"IFERROR(IF(C319=\"\",\"\",C319+(2*D319)+IF(O319=Daten!M$13,6,0)+IF(S319=Daten!M$13,6,0)+IF(Q319=\"-\",0,Q319)+IF(U319=\"-\",0,U319)),\"\")","v":""},{"$f":"IF(OR(A319=\"\",AND(F$1=0,Daten!F$3=FALSE)),\"\",Daten!B$6)","v":""},{"$f":"IF(A319=\"\",\"\",IF(Daten!B$5=\"??\",\"\",Daten!B$5))","v":""},{"$f":"IF(A319=\"\",\"\",IF(Daten!B$3=FALSE,\"\",Daten!B$4))","v":""},{"$f":"IFERROR(IF(A319=\"\",\"\",G319+H319+IF(AND(G319>0,H319>0),5,0))-IF(Daten!H$21=TRUE,H319,0),\"\")","v":""},{"$f":"IFERROR(IF(A319=\"\",\"\",I319+IF(Daten!H$21=TRUE,H319,0)+IF(F319=\"\",0,F319)-IF(Daten!F$3=TRUE,Daten!F$10,0)),\"\")","v":""},{"$f":"IF(A319=\"\",\"\",Daten!D$14)","v":""},{"$f":"IF(A319=\"\",\"\",Daten!D$12)","v":""},{"$f":"IF(A319=\"\",\"\",Daten!D$13)","v":""},{"$f":"IF(A319=\"\",\"\",Daten!M$2)","v":""},{"$f":"IF(A319=\"\",\"\",IF(Daten!D$6=Daten!N$11,Daten!M$11,IF(Daten!D$6=Daten!N$13,Daten!M$13,IF(AND(Daten!$D$6=Daten!$M$10,Daten!$D$8=TRUE),Daten!$M$14,Daten!D$6))))","v":""},{"$f":"IF($A319=\"\",\"\",IF(OR(O319=\"Putzbord\",O319=\"Flexila PU\"),Daten!$D$15,IF(OR(O319=\"Stehbord\",O319=\"Stehbord HB\",O319=\"Flexila STB\",O319=\"Jalousiebord\"),Daten!$D$19,\"-\")))","v":""},{"$f":"IF($A319=\"\",\"\",IF(O319=\"Putzbord\",Daten!$D$16,IF(O319=\"Flexila PU\",_xlfn.NUMBERVALUE(MID(Daten!$D$17,1,2)),\"-\")))","v":""},{"$f":"IF($A319=\"\",\"\",IF(OR(O319=\"Putzbord\",O319=\"Flexila PU\"),Daten!$D$18,IF(OR(O319=\"Stehbord\",O319=\"Stehbord HB\",O319=\"Flexila STB\",O319=\"Jalousiebord\"),Daten!$D$21,\"-\")))","v":""},{"$f":"IF(A319=\"\",\"\",IF(Daten!D$6=Daten!N$11,Daten!M$11,IF(Daten!D$6=Daten!N$13,Daten!M$13,IF(AND(Daten!$D$6=Daten!$M$10,Daten!$D$8=TRUE),Daten!$M$14,Daten!D$6))))","v":""},{"$f":"IF($A319=\"\",\"\",IF(OR(S319=\"Putzbord\",S319=\"Flexila PU\"),Daten!$D$15,IF(OR(S319=\"Stehbord\",S319=\"Stehbord HB\",S319=\"Flexila STB\",S319=\"Jalousiebord\"),Daten!$D$19,\"-\")))","v":""},{"$f":"IF($A319=\"\",\"\",IF(S319=\"Putzbord\",Daten!$D$16,IF(S319=\"Flexila PU\",_xlfn.NUMBERVALUE(MID(Daten!$D$17,1,2)),\"-\")))","v":""},{"$f":"IF($A319=\"\",\"\",IF(OR(S319=\"Putzbord\",S319=\"Flexila PU\"),Daten!$D$18,IF(OR(S319=\"Stehbord\",S319=\"Stehbord HB\",S319=\"Flexila STB\",S319=\"Jalousiebord\"),Daten!$D$21,\"-\")))","v":""},{"$f":"IF(A319=\"\",\"\",IF(AND(Daten!D$6=\"Jalousiebord\",OR(O319=\"Stehbord\",S319=\"Stehbord\")),\"Jalousienklinkung\",\"\"))","v":""},{"$f":"IF(W319=\"\",\"\",Daten!D$20)","v":""},null,null,{"$f":"IF(A319=\"\",\"\",IF(Daten!F$1=\"A\",\"Ohne\",IF(OR(N319=\"Gerstenkorn roh\",N319=\"Riffelblech roh\"),\"XPS\",Daten!F$2)))","v":""},{"$f":"IF(A319=\"\",\"\",IF(AA319=\"Ohne\",\"A\",IF(AA319=\"XPS\",IF(Daten!F$1=\"D\",\"B\",Daten!F$1),Daten!F$1)))","v":""},{"$f":"IF(A319=\"\",\"\",IF(AB319=\"A\",\"-\",Daten!F$7))","v":""},{"$f":"IF(A319=\"\",\"\",IF(AB319=\"A\",\"-\",IF(AND(Daten!F$8=0,O319=\"Putzbord\"),5-Q319,0)))","v":""},{"$f":"IF(A319=\"\",\"\",IF(AB319=\"A\",\"-\",IF(AND(Daten!F$8=0,S319=\"Putzbord\"),5-U319,0)))","v":""},{"$f":"IF(A319=\"\",\"\",IF(AB319=\"A\",\"-\",Daten!F$10))","v":""},{"$f":"IFERROR(IF(A319=\"\",\"\",VLOOKUP(N319,Daten!N$1:O$7,2,FALSE)),\"\")","v":""}]
[null,null,null,{"$f":"IF(A320=\"\",\"\",IF(Daten!B$3=TRUE,Daten!B$7,\"\"))","v":""},{"$f":"IFERROR(IF(C320=\"\",\"\",C320+(2*D320)+IF(O320=Daten!M$13,6,0)+IF(S320=Daten!M$13,6,0)+IF(Q320=\"-\",0,Q320)+IF(U320=\"-\",0,U320)),\"\")","v":""},{"$f":"IF(OR(A320=\"\",AND(F$1=0,Daten!F$3=FALSE)),\"\",Daten!B$6)","v":""},{"$f":"IF(A320=\"\",\"\",IF(Daten!B$5=\"??\",\"\",Daten!B$5))","v":""},{"$f":"IF(A320=\"\",\"\",IF(Daten!B$3=FALSE,\"\",Daten!B$4))","v":""},{"$f":"IFERROR(IF(A320=\"\",\"\",G320+H320+IF(AND(G320>0,H320>0),5,0))-IF(Daten!H$21=TRUE,H320,0),\"\")","v":""},{"$f":"IFERROR(IF(A320=\"\",\"\",I320+IF(Daten!H$21=TRUE,H320,0)+IF(F320=\"\",0,F320)-IF(Daten!F$3=TRUE,Daten!F$10,0)),\"\")","v":""},{"$f":"IF(A320=\"\",\"\",Daten!D$14)","v":""},{"$f":"IF(A320=\"\",\"\",Daten!D$12)","v":""},{"$f":"IF(A320=\"\",\"\",Daten!D$13)","v":""},{"$f":"IF(A320=\"\",\"\",Daten!M$2)","v":""},{"$f":"IF(A320=\"\",\"\",IF(Daten!D$6=Daten!N$11,Daten!M$11,IF(Daten!D$6=Daten!N$13,Daten!M$13,IF(AND(Daten!$D$6=Daten!$M$10,Daten!$D$8=TRUE),Daten!$M$14,Daten!D$6))))","v":""},{"$f":"IF($A320=\"\",\"\",IF(OR(O320=\"Putzbord\",O320=\"Flexila PU\"),Daten!$D$15,IF(OR(O320=\"Stehbord\",O320=\"Stehbord HB\",O320=\"Flexila STB\",O320=\"Jalousiebord\"),Daten!$D$19,\"-\")))","v":""},{"$f":"IF($A320=\"\",\"\",IF(O320=\"Putzbord\",Daten!$D$16,IF(O320=\"Flexila PU\",_xlfn.NUMBERVALUE(MID(Daten!$D$17,1,2)),\"-\")))","v":""},{"$f":"IF($A320=\"\",\"\",IF(OR(O320=\"Putzbord\",O320=\"Flexila PU\"),Daten!$D$18,IF(OR(O320=\"Stehbord\",O320=\"Stehbord HB\",O320=\"Flexila STB\",O320=\"Jalousiebord\"),Daten!$D$21,\"-\")))","v":""},{"$f":"IF(A320=\"\",\"\",IF(Daten!D$6=Daten!N$11,Daten!M$11,IF(Daten!D$6=Daten!N$13,Daten!M$13,IF(AND(Daten!$D$6=Daten!$M$10,Daten!$D$8=TRUE),Daten!$M$14,Daten!D$6))))","v":""},{"$f":"IF($A320=\"\",\"\",IF(OR(S320=\"Putzbord\",S320=\"Flexila PU\"),Daten!$D$15,IF(OR(S320=\"Stehbord\",S320=\"Stehbord HB\",S320=\"Flexila STB\",S320=\"Jalousiebord\"),Daten!$D$19,\"-\")))","v":""},{"$f":"IF($A320=\"\",\"\",IF(S320=\"Putzbord\",Daten!$D$16,IF(S320=\"Flexila PU\",_xlfn.NUMBERVALUE(MID(Daten!$D$17,1,2)),\"-\")))","v":""},{"$f":"IF($A320=\"\",\"\",IF(OR(S320=\"Putzbord\",S320=\"Flexila PU\"),Daten!$D$18,IF(OR(S320=\"Stehbord\",S320=\"Stehbord HB\",S320=\"Flexila STB\",S320=\"Jalousiebord\"),Daten!$D$21,\"-\")))","v":""},{"$f":"IF(A320=\"\",\"\",IF(AND(Daten!D$6=\"Jalousiebord\",OR(O320=\"Stehbord\",S320=\"Stehbord\")),\"Jalousienklinkung\",\"\"))","v":""},{"$f":"IF(W320=\"\",\"\",Daten!D$20)","v":""},null,null,{"$f":"IF(A320=\"\",\"\",IF(Daten!F$1=\"A\",\"Ohne\",IF(OR(N320=\"Gerstenkorn roh\",N320=\"Riffelblech roh\"),\"XPS\",Daten!F$2)))","v":""},{"$f":"IF(A320=\"\",\"\",IF(AA320=\"Ohne\",\"A\",IF(AA320=\"XPS\",IF(Daten!F$1=\"D\",\"B\",Daten!F$1),Daten!F$1)))","v":""},{"$f":"IF(A320=\"\",\"\",IF(AB320=\"A\",\"-\",Daten!F$7))","v":""},{"$f":"IF(A320=\"\",\"\",IF(AB320=\"A\",\"-\",IF(AND(Daten!F$8=0,O320=\"Putzbord\"),5-Q320,0)))","v":""},{"$f":"IF(A320=\"\",\"\",IF(AB320=\"A\",\"-\",IF(AND(Daten!F$8=0,S320=\"Putzbord\"),5-U320,0)))","v":""},{"$f":"IF(A320=\"\",\"\",IF(AB320=\"A\",\"-\",Daten!F$10))","v":""},{"$f":"IFERROR(IF(A320=\"\",\"\",VLOOKUP(N320,Daten!N$1:O$7,2,FALSE)),\"\")","v":""}]
[null,null,null,{"$f":"IF(A321=\"\",\"\",IF(Daten!B$3=TRUE,Daten!B$7,\"\"))","v":""},{"$f":"IFERROR(IF(C321=\"\",\"\",C321+(2*D321)+IF(O321=Daten!M$13,6,0)+IF(S321=Daten!M$13,6,0)+IF(Q321=\"-\",0,Q321)+IF(U321=\"-\",0,U321)),\"\")","v":""},{"$f":"IF(OR(A321=\"\",AND(F$1=0,Daten!F$3=FALSE)),\"\",Daten!B$6)","v":""},{"$f":"IF(A321=\"\",\"\",IF(Daten!B$5=\"??\",\"\",Daten!B$5))","v":""},{"$f":"IF(A321=\"\",\"\",IF(Daten!B$3=FALSE,\"\",Daten!B$4))","v":""},{"$f":"IFERROR(IF(A321=\"\",\"\",G321+H321+IF(AND(G321>0,H321>0),5,0))-IF(Daten!H$21=TRUE,H321,0),\"\")","v":""},{"$f":"IFERROR(IF(A321=\"\",\"\",I321+IF(Daten!H$21=TRUE,H321,0)+IF(F321=\"\",0,F321)-IF(Daten!F$3=TRUE,Daten!F$10,0)),\"\")","v":""},{"$f":"IF(A321=\"\",\"\",Daten!D$14)","v":""},{"$f":"IF(A321=\"\",\"\",Daten!D$12)","v":""},{"$f":"IF(A321=\"\",\"\",Daten!D$13)","v":""},{"$f":"IF(A321=\"\",\"\",Daten!M$2)","v":""},{"$f":"IF(A321=\"\",\"\",IF(Daten!D$6=Daten!N$11,Daten!M$11,IF(Daten!D$6=Daten!N$13,Daten!M$13,IF(AND(Daten!$D$6=Daten!$M$10,Daten!$D$8=TRUE),Daten!$M$14,Daten!D$6))))","v":""},{"$f":"IF($A321=\"\",\"\",IF(OR(O321=\"Putzbord\",O321=\"Flexila PU\"),Daten!$D$15,IF(OR(O321=\"Stehbord\",O321=\"Stehbord HB\",O321=\"Flexila STB\",O321=\"Jalousiebord\"),Daten!$D$19,\"-\")))","v":""},{"$f":"IF($A321=\"\",\"\",IF(O321=\"Putzbord\",Daten!$D$16,IF(O321=\"Flexila PU\",_xlfn.NUMBERVALUE(MID(Daten!$D$17,1,2)),\"-\")))","v":""},{"$f":"IF($A321=\"\",\"\",IF(OR(O321=\"Putzbord\",O321=\"Flexila PU\"),Daten!$D$18,IF(OR(O321=\"Stehbord\",O321=\"Stehbord HB\",O321=\"Flexila STB\",O321=\"Jalousiebord\"),Daten!$D$21,\"-\")))","v":""},{"$f":"IF(A321=\"\",\"\",IF(Daten!D$6=Daten!N$11,Daten!M$11,IF(Daten!D$6=Daten!N$13,Daten!M$13,IF(AND(Daten!$D$6=Daten!$M$10,Daten!$D$8=TRUE),Daten!$M$14,Daten!D$6))))","v":""},{"$f":"IF($A321=\"\",\"\",IF(OR(S321=\"Putzbord\",S321=\"Flexila PU\"),Daten!$D$15,IF(OR(S321=\"Stehbord\",S321=\"Stehbord HB\",S321=\"Flexila STB\",S321=\"Jalousiebord\"),Daten!$D$19,\"-\")))","v":""},{"$f":"IF($A321=\"\",\"\",IF(S321=\"Putzbord\",Daten!$D$16,IF(S321=\"Flexila PU\",_xlfn.NUMBERVALUE(MID(Daten!$D$17,1,2)),\"-\")))","v":""},{"$f":"IF($A321=\"\",\"\",IF(OR(S321=\"Putzbord\",S321=\"Flexila PU\"),Daten!$D$18,IF(OR(S321=\"Stehbord\",S321=\"Stehbord HB\",S321=\"Flexila STB\",S321=\"Jalousiebord\"),Daten!$D$21,\"-\")))","v":""},{"$f":"IF(A321=\"\",\"\",IF(AND(Daten!D$6=\"Jalousiebord\",OR(O321=\"Stehbord\",S321=\"Stehbord\")),\"Jalousienklinkung\",\"\"))","v":""},{"$f":"IF(W321=\"\",\"\",Daten!D$20)","v":""},null,null,{"$f":"IF(A321=\"\",\"\",IF(Daten!F$1=\"A\",\"Ohne\",IF(OR(N321=\"Gerstenkorn roh\",N321=\"Riffelblech roh\"),\"XPS\",Daten!F$2)))","v":""},{"$f":"IF(A321=\"\",\"\",IF(AA321=\"Ohne\",\"A\",IF(AA321=\"XPS\",IF(Daten!F$1=\"D\",\"B\",Daten!F$1),Daten!F$1)))","v":""},{"$f":"IF(A321=\"\",\"\",IF(AB321=\"A\",\"-\",Daten!F$7))","v":""},{"$f":"IF(A321=\"\",\"\",IF(AB321=\"A\",\"-\",IF(AND(Daten!F$8=0,O321=\"Putzbord\"),5-Q321,0)))","v":""},{"$f":"IF(A321=\"\",\"\",IF(AB321=\"A\",\"-\",IF(AND(Daten!F$8=0,S321=\"Putzbord\"),5-U321,0)))","v":""},{"$f":"IF(A321=\"\",\"\",IF(AB321=\"A\",\"-\",Daten!F$10))","v":""},{"$f":"IFERROR(IF(A321=\"\",\"\",VLOOKUP(N321,Daten!N$1:O$7,2,FALSE)),\"\")","v":""}]
[null,null,null,{"$f":"IF(A322=\"\",\"\",IF(Daten!B$3=TRUE,Daten!B$7,\"\"))","v":""},{"$f":"IFERROR(IF(C322=\"\",\"\",C322+(2*D322)+IF(O322=Daten!M$13,6,0)+IF(S322=Daten!M$13,6,0)+IF(Q322=\"-\",0,Q322)+IF(U322=\"-\",0,U322)),\"\")","v":""},{"$f":"IF(OR(A322=\"\",AND(F$1=0,Daten!F$3=FALSE)),\"\",Daten!B$6)","v":""},{"$f":"IF(A322=\"\",\"\",IF(Daten!B$5=\"??\",\"\",Daten!B$5))","v":""},{"$f":"IF(A322=\"\",\"\",IF(Daten!B$3=FALSE,\"\",Daten!B$4))","v":""},{"$f":"IFERROR(IF(A322=\"\",\"\",G322+H322+IF(AND(G322>0,H322>0),5,0))-IF(Daten!H$21=TRUE,H322,0),\"\")","v":""},{"$f":"IFERROR(IF(A322=\"\",\"\",I322+IF(Daten!H$21=TRUE,H322,0)+IF(F322=\"\",0,F322)-IF(Daten!F$3=TRUE,Daten!F$10,0)),\"\")","v":""},{"$f":"IF(A322=\"\",\"\",Daten!D$14)","v":""},{"$f":"IF(A322=\"\",\"\",Daten!D$12)","v":""},{"$f":"IF(A322=\"\",\"\",Daten!D$13)","v":""},{"$f":"IF(A322=\"\",\"\",Daten!M$2)","v":""},{"$f":"IF(A322=\"\",\"\",IF(Daten!D$6=Daten!N$11,Daten!M$11,IF(Daten!D$6=Daten!N$13,Daten!M$13,IF(AND(Daten!$D$6=Daten!$M$10,Daten!$D$8=TRUE),Daten!$M$14,Daten!D$6))))","v":""},{"$f":"IF($A322=\"\",\"\",IF(OR(O322=\"Putzbord\",O322=\"Flexila PU\"),Daten!$D$15,IF(OR(O322=\"Stehbord\",O322=\"Stehbord HB\",O322=\"Flexila STB\",O322=\"Jalousiebord\"),Daten!$D$19,\"-\")))","v":""},{"$f":"IF($A322=\"\",\"\",IF(O322=\"Putzbord\",Daten!$D$16,IF(O322=\"Flexila PU\",_xlfn.NUMBERVALUE(MID(Daten!$D$17,1,2)),\"-\")))","v":""},{"$f":"IF($A322=\"\",\"\",IF(OR(O322=\"Putzbord\",O322=\"Flexila PU\"),Daten!$D$18,IF(OR(O322=\"Stehbord\",O322=\"Stehbord HB\",O322=\"Flexila STB\",O322=\"Jalousiebord\"),Daten!$D$21,\"-\")))","v":""},{"$f":"IF(A322=\"\",\"\",IF(Daten!D$6=Daten!N$11,Daten!M$11,IF(Daten!D$6=Daten!N$13,Daten!M$13,IF(AND(Daten!$D$6=Daten!$M$10,Daten!$D$8=TRUE),Daten!$M$14,Daten!D$6))))","v":""},{"$f":"IF($A322=\"\",\"\",IF(OR(S322=\"Putzbord\",S322=\"Flexila PU\"),Daten!$D$15,IF(OR(S322=\"Stehbord\",S322=\"Stehbord HB\",S322=\"Flexila STB\",S322=\"Jalousiebord\"),Daten!$D$19,\"-\")))","v":""},{"$f":"IF($A322=\"\",\"\",IF(S322=\"Putzbord\",Daten!$D$16,IF(S322=\"Flexila PU\",_xlfn.NUMBERVALUE(MID(Daten!$D$17,1,2)),\"-\")))","v":""},{"$f":"IF($A322=\"\",\"\",IF(OR(S322=\"Putzbord\",S322=\"Flexila PU\"),Daten!$D$18,IF(OR(S322=\"Stehbord\",S322=\"Stehbord HB\",S322=\"Flexila STB\",S322=\"Jalousiebord\"),Daten!$D$21,\"-\")))","v":""},{"$f":"IF(A322=\"\",\"\",IF(AND(Daten!D$6=\"Jalousiebord\",OR(O322=\"Stehbord\",S322=\"Stehbord\")),\"Jalousienklinkung\",\"\"))","v":""},{"$f":"IF(W322=\"\",\"\",Daten!D$20)","v":""},null,null,{"$f":"IF(A322=\"\",\"\",IF(Daten!F$1=\"A\",\"Ohne\",IF(OR(N322=\"Gerstenkorn roh\",N322=\"Riffelblech roh\"),\"XPS\",Daten!F$2)))","v":""},{"$f":"IF(A322=\"\",\"\",IF(AA322=\"Ohne\",\"A\",IF(AA322=\"XPS\",IF(Daten!F$1=\"D\",\"B\",Daten!F$1),Daten!F$1)))","v":""},{"$f":"IF(A322=\"\",\"\",IF(AB322=\"A\",\"-\",Daten!F$7))","v":""},{"$f":"IF(A322=\"\",\"\",IF(AB322=\"A\",\"-\",IF(AND(Daten!F$8=0,O322=\"Putzbord\"),5-Q322,0)))","v":""},{"$f":"IF(A322=\"\",\"\",IF(AB322=\"A\",\"-\",IF(AND(Daten!F$8=0,S322=\"Putzbord\"),5-U322,0)))","v":""},{"$f":"IF(A322=\"\",\"\",IF(AB322=\"A\",\"-\",Daten!F$10))","v":""},{"$f":"IFERROR(IF(A322=\"\",\"\",VLOOKUP(N322,Daten!N$1:O$7,2,FALSE)),\"\")","v":""}]
[null,null,null,{"$f":"IF(A323=\"\",\"\",IF(Daten!B$3=TRUE,Daten!B$7,\"\"))","v":""},{"$f":"IFERROR(IF(C323=\"\",\"\",C323+(2*D323)+IF(O323=Daten!M$13,6,0)+IF(S323=Daten!M$13,6,0)+IF(Q323=\"-\",0,Q323)+IF(U323=\"-\",0,U323)),\"\")","v":""},{"$f":"IF(OR(A323=\"\",AND(F$1=0,Daten!F$3=FALSE)),\"\",Daten!B$6)","v":""},{"$f":"IF(A323=\"\",\"\",IF(Daten!B$5=\"??\",\"\",Daten!B$5))","v":""},{"$f":"IF(A323=\"\",\"\",IF(Daten!B$3=FALSE,\"\",Daten!B$4))","v":""},{"$f":"IFERROR(IF(A323=\"\",\"\",G323+H323+IF(AND(G323>0,H323>0),5,0))-IF(Daten!H$21=TRUE,H323,0),\"\")","v":""},{"$f":"IFERROR(IF(A323=\"\",\"\",I323+IF(Daten!H$21=TRUE,H323,0)+IF(F323=\"\",0,F323)-IF(Daten!F$3=TRUE,Daten!F$10,0)),\"\")","v":""},{"$f":"IF(A323=\"\",\"\",Daten!D$14)","v":""},{"$f":"IF(A323=\"\",\"\",Daten!D$12)","v":""},{"$f":"IF(A323=\"\",\"\",Daten!D$13)","v":""},{"$f":"IF(A323=\"\",\"\",Daten!M$2)","v":""},{"$f":"IF(A323=\"\",\"\",IF(Daten!D$6=Daten!N$11,Daten!M$11,IF(Daten!D$6=Daten!N$13,Daten!M$13,IF(AND(Daten!$D$6=Daten!$M$10,Daten!$D$8=TRUE),Daten!$M$14,Daten!D$6))))","v":""},{"$f":"IF($A323=\"\",\"\",IF(OR(O323=\"Putzbord\",O323=\"Flexila PU\"),Daten!$D$15,IF(OR(O323=\"Stehbord\",O323=\"Stehbord HB\",O323=\"Flexila STB\",O323=\"Jalousiebord\"),Daten!$D$19,\"-\")))","v":""},{"$f":"IF($A323=\"\",\"\",IF(O323=\"Putzbord\",Daten!$D$16,IF(O323=\"Flexila PU\",_xlfn.NUMBERVALUE(MID(Daten!$D$17,1,2)),\"-\")))","v":""},{"$f":"IF($A323=\"\",\"\",IF(OR(O323=\"Putzbord\",O323=\"Flexila PU\"),Daten!$D$18,IF(OR(O323=\"Stehbord\",O323=\"Stehbord HB\",O323=\"Flexila STB\",O323=\"Jalousiebord\"),Daten!$D$21,\"-\")))","v":""},{"$f":"IF(A323=\"\",\"\",IF(Daten!D$6=Daten!N$11,Daten!M$11,IF(Daten!D$6=Daten!N$13,Daten!M$13,IF(AND(Daten!$D$6=Daten!$M$10,Daten!$D$8=TRUE),Daten!$M$14,Daten!D$6))))","v":""},{"$f":"IF($A323=\"\",\"\",IF(OR(S323=\"Putzbord\",S323=\"Flexila PU\"),Daten!$D$15,IF(OR(S323=\"Stehbord\",S323=\"Stehbord HB\",S323=\"Flexila STB\",S323=\"Jalousiebord\"),Daten!$D$19,\"-\")))","v":""},{"$f":"IF($A323=\"\",\"\",IF(S323=\"Putzbord\",Daten!$D$16,IF(S323=\"Flexila PU\",_xlfn.NUMBERVALUE(MID(Daten!$D$17,1,2)),\"-\")))","v":""},{"$f":"IF($A323=\"\",\"\",IF(OR(S323=\"Putzbord\",S323=\"Flexila PU\"),Daten!$D$18,IF(OR(S323=\"Stehbord\",S323=\"Stehbord HB\",S323=\"Flexila STB\",S323=\"Jalousiebord\"),Daten!$D$21,\"-\")))","v":""},{"$f":"IF(A323=\"\",\"\",IF(AND(Daten!D$6=\"Jalousiebord\",OR(O323=\"Stehbord\",S323=\"Stehbord\")),\"Jalousienklinkung\",\"\"))","v":""},{"$f":"IF(W323=\"\",\"\",Daten!D$20)","v":""},null,null,{"$f":"IF(A323=\"\",\"\",IF(Daten!F$1=\"A\",\"Ohne\",IF(OR(N323=\"Gerstenkorn roh\",N323=\"Riffelblech roh\"),\"XPS\",Daten!F$2)))","v":""},{"$f":"IF(A323=\"\",\"\",IF(AA323=\"Ohne\",\"A\",IF(AA323=\"XPS\",IF(Daten!F$1=\"D\",\"B\",Daten!F$1),Daten!F$1)))","v":""},{"$f":"IF(A323=\"\",\"\",IF(AB323=\"A\",\"-\",Daten!F$7))","v":""},{"$f":"IF(A323=\"\",\"\",IF(AB323=\"A\",\"-\",IF(AND(Daten!F$8=0,O323=\"Putzbord\"),5-Q323,0)))","v":""},{"$f":"IF(A323=\"\",\"\",IF(AB323=\"A\",\"-\",IF(AND(Daten!F$8=0,S323=\"Putzbord\"),5-U323,0)))","v":""},{"$f":"IF(A323=\"\",\"\",IF(AB323=\"A\",\"-\",Daten!F$10))","v":""},{"$f":"IFERROR(IF(A323=\"\",\"\",VLOOKUP(N323,Daten!N$1:O$7,2,FALSE)),\"\")","v":""}]
[null,null,null,{"$f":"IF(A324=\"\",\"\",IF(Daten!B$3=TRUE,Daten!B$7,\"\"))","v":""},{"$f":"IFERROR(IF(C324=\"\",\"\",C324+(2*D324)+IF(O324=Daten!M$13,6,0)+IF(S324=Daten!M$13,6,0)+IF(Q324=\"-\",0,Q324)+IF(U324=\"-\",0,U324)),\"\")","v":""},{"$f":"IF(OR(A324=\"\",AND(F$1=0,Daten!F$3=FALSE)),\"\",Daten!B$6)","v":""},{"$f":"IF(A324=\"\",\"\",IF(Daten!B$5=\"??\",\"\",Daten!B$5))","v":""},{"$f":"IF(A324=\"\",\"\",IF(Daten!B$3=FALSE,\"\",Daten!B$4))","v":""},{"$f":"IFERROR(IF(A324=\"\",\"\",G324+H324+IF(AND(G324>0,H324>0),5,0))-IF(Daten!H$21=TRUE,H324,0),\"\")","v":""},{"$f":"IFERROR(IF(A324=\"\",\"\",I324+IF(Daten!H$21=TRUE,H324,0)+IF(F324=\"\",0,F324)-IF(Daten!F$3=TRUE,Daten!F$10,0)),\"\")","v":""},{"$f":"IF(A324=\"\",\"\",Daten!D$14)","v":""},{"$f":"IF(A324=\"\",\"\",Daten!D$12)","v":""},{"$f":"IF(A324=\"\",\"\",Daten!D$13)","v":""},{"$f":"IF(A324=\"\",\"\",Daten!M$2)","v":""},{"$f":"IF(A324=\"\",\"\",IF(Daten!D$6=Daten!N$11,Daten!M$11,IF(Daten!D$6=Daten!N$13,Daten!M$13,IF(AND(Daten!$D$6=Daten!$M$10,Daten!$D$8=TRUE),Daten!$M$14,Daten!D$6))))","v":""},{"$f":"IF($A324=\"\",\"\",IF(OR(O324=\"Putzbord\",O324=\"Flexila PU\"),Daten!$D$15,IF(OR(O324=\"Stehbord\",O324=\"Stehbord HB\",O324=\"Flexila STB\",O324=\"Jalousiebord\"),Daten!$D$19,\"-\")))","v":""},{"$f":"IF($A324=\"\",\"\",IF(O324=\"Putzbord\",Daten!$D$16,IF(O324=\"Flexila PU\",_xlfn.NUMBERVALUE(MID(Daten!$D$17,1,2)),\"-\")))","v":""},{"$f":"IF($A324=\"\",\"\",IF(OR(O324=\"Putzbord\",O324=\"Flexila PU\"),Daten!$D$18,IF(OR(O324=\"Stehbord\",O324=\"Stehbord HB\",O324=\"Flexila STB\",O324=\"Jalousiebord\"),Daten!$D$21,\"-\")))","v":""},{"$f":"IF(A324=\"\",\"\",IF(Daten!D$6=Daten!N$11,Daten!M$11,IF(Daten!D$6=Daten!N$13,Daten!M$13,IF(AND(Daten!$D$6=Daten!$M$10,Daten!$D$8=TRUE),Daten!$M$14,Daten!D$6))))","v":""},{"$f":"IF($A324=\"\",\"\",IF(OR(S324=\"Putzbord\",S324=\"Flexila PU\"),Daten!$D$15,IF(OR(S324=\"Stehbord\",S324=\"Stehbord HB\",S324=\"Flexila STB\",S324=\"Jalousiebord\"),Daten!$D$19,\"-\")))","v":""},{"$f":"IF($A324=\"\",\"\",IF(S324=\"Putzbord\",Daten!$D$16,IF(S324=\"Flexila PU\",_xlfn.NUMBERVALUE(MID(Daten!$D$17,1,2)),\"-\")))","v":""},{"$f":"IF($A324=\"\",\"\",IF(OR(S324=\"Putzbord\",S324=\"Flexila PU\"),Daten!$D$18,IF(OR(S324=\"Stehbord\",S324=\"Stehbord HB\",S324=\"Flexila STB\",S324=\"Jalousiebord\"),Daten!$D$21,\"-\")))","v":""},{"$f":"IF(A324=\"\",\"\",IF(AND(Daten!D$6=\"Jalousiebord\",OR(O324=\"Stehbord\",S324=\"Stehbord\")),\"Jalousienklinkung\",\"\"))","v":""},{"$f":"IF(W324=\"\",\"\",Daten!D$20)","v":""},null,null,{"$f":"IF(A324=\"\",\"\",IF(Daten!F$1=\"A\",\"Ohne\",IF(OR(N324=\"Gerstenkorn roh\",N324=\"Riffelblech roh\"),\"XPS\",Daten!F$2)))","v":""},{"$f":"IF(A324=\"\",\"\",IF(AA324=\"Ohne\",\"A\",IF(AA324=\"XPS\",IF(Daten!F$1=\"D\",\"B\",Daten!F$1),Daten!F$1)))","v":""},{"$f":"IF(A324=\"\",\"\",IF(AB324=\"A\",\"-\",Daten!F$7))","v":""},{"$f":"IF(A324=\"\",\"\",IF(AB324=\"A\",\"-\",IF(AND(Daten!F$8=0,O324=\"Putzbord\"),5-Q324,0)))","v":""},{"$f":"IF(A324=\"\",\"\",IF(AB324=\"A\",\"-\",IF(AND(Daten!F$8=0,S324=\"Putzbord\"),5-U324,0)))","v":""},{"$f":"IF(A324=\"\",\"\",IF(AB324=\"A\",\"-\",Daten!F$10))","v":""},{"$f":"IFERROR(IF(A324=\"\",\"\",VLOOKUP(N324,Daten!N$1:O$7,2,FALSE)),\"\")","v":""}]
[null,null,null,{"$f":"IF(A325=\"\",\"\",IF(Daten!B$3=TRUE,Daten!B$7,\"\"))","v":""},{"$f":"IFERROR(IF(C325=\"\",\"\",C325+(2*D325)+IF(O325=Daten!M$13,6,0)+IF(S325=Daten!M$13,6,0)+IF(Q325=\"-\",0,Q325)+IF(U325=\"-\",0,U325)),\"\")","v":""},{"$f":"IF(OR(A325=\"\",AND(F$1=0,Daten!F$3=FALSE)),\"\",Daten!B$6)","v":""},{"$f":"IF(A325=\"\",\"\",IF(Daten!B$5=\"??\",\"\",Daten!B$5))","v":""},{"$f":"IF(A325=\"\",\"\",IF(Daten!B$3=FALSE,\"\",Daten!B$4))","v":""},{"$f":"IFERROR(IF(A325=\"\",\"\",G325+H325+IF(AND(G325>0,H325>0),5,0))-IF(Daten!H$21=TRUE,H325,0),\"\")","v":""},{"$f":"IFERROR(IF(A325=\"\",\"\",I325+IF(Daten!H$21=TRUE,H325,0)+IF(F325=\"\",0,F325)-IF(Daten!F$3=TRUE,Daten!F$10,0)),\"\")","v":""},{"$f":"IF(A325=\"\",\"\",Daten!D$14)","v":""},{"$f":"IF(A325=\"\",\"\",Daten!D$12)","v":""},{"$f":"IF(A325=\"\",\"\",Daten!D$13)","v":""},{"$f":"IF(A325=\"\",\"\",Daten!M$2)","v":""},{"$f":"IF(A325=\"\",\"\",IF(Daten!D$6=Daten!N$11,Daten!M$11,IF(Daten!D$6=Daten!N$13,Daten!M$13,IF(AND(Daten!$D$6=Daten!$M$10,Daten!$D$8=TRUE),Daten!$M$14,Daten!D$6))))","v":""},{"$f":"IF($A325=\"\",\"\",IF(OR(O325=\"Putzbord\",O325=\"Flexila PU\"),Daten!$D$15,IF(OR(O325=\"Stehbord\",O325=\"Stehbord HB\",O325=\"Flexila STB\",O325=\"Jalousiebord\"),Daten!$D$19,\"-\")))","v":""},{"$f":"IF($A325=\"\",\"\",IF(O325=\"Putzbord\",Daten!$D$16,IF(O325=\"Flexila PU\",_xlfn.NUMBERVALUE(MID(Daten!$D$17,1,2)),\"-\")))","v":""},{"$f":"IF($A325=\"\",\"\",IF(OR(O325=\"Putzbord\",O325=\"Flexila PU\"),Daten!$D$18,IF(OR(O325=\"Stehbord\",O325=\"Stehbord HB\",O325=\"Flexila STB\",O325=\"Jalousiebord\"),Daten!$D$21,\"-\")))","v":""},{"$f":"IF(A325=\"\",\"\",IF(Daten!D$6=Daten!N$11,Daten!M$11,IF(Daten!D$6=Daten!N$13,Daten!M$13,IF(AND(Daten!$D$6=Daten!$M$10,Daten!$D$8=TRUE),Daten!$M$14,Daten!D$6))))","v":""},{"$f":"IF($A325=\"\",\"\",IF(OR(S325=\"Putzbord\",S325=\"Flexila PU\"),Daten!$D$15,IF(OR(S325=\"Stehbord\",S325=\"Stehbord HB\",S325=\"Flexila STB\",S325=\"Jalousiebord\"),Daten!$D$19,\"-\")))","v":""},{"$f":"IF($A325=\"\",\"\",IF(S325=\"Putzbord\",Daten!$D$16,IF(S325=\"Flexila PU\",_xlfn.NUMBERVALUE(MID(Daten!$D$17,1,2)),\"-\")))","v":""},{"$f":"IF($A325=\"\",\"\",IF(OR(S325=\"Putzbord\",S325=\"Flexila PU\"),Daten!$D$18,IF(OR(S325=\"Stehbord\",S325=\"Stehbord HB\",S325=\"Flexila STB\",S325=\"Jalousiebord\"),Daten!$D$21,\"-\")))","v":""},{"$f":"IF(A325=\"\",\"\",IF(AND(Daten!D$6=\"Jalousiebord\",OR(O325=\"Stehbord\",S325=\"Stehbord\")),\"Jalousienklinkung\",\"\"))","v":""},{"$f":"IF(W325=\"\",\"\",Daten!D$20)","v":""},null,null,{"$f":"IF(A325=\"\",\"\",IF(Daten!F$1=\"A\",\"Ohne\",IF(OR(N325=\"Gerstenkorn roh\",N325=\"Riffelblech roh\"),\"XPS\",Daten!F$2)))","v":""},{"$f":"IF(A325=\"\",\"\",IF(AA325=\"Ohne\",\"A\",IF(AA325=\"XPS\",IF(Daten!F$1=\"D\",\"B\",Daten!F$1),Daten!F$1)))","v":""},{"$f":"IF(A325=\"\",\"\",IF(AB325=\"A\",\"-\",Daten!F$7))","v":""},{"$f":"IF(A325=\"\",\"\",IF(AB325=\"A\",\"-\",IF(AND(Daten!F$8=0,O325=\"Putzbord\"),5-Q325,0)))","v":""},{"$f":"IF(A325=\"\",\"\",IF(AB325=\"A\",\"-\",IF(AND(Daten!F$8=0,S325=\"Putzbord\"),5-U325,0)))","v":""},{"$f":"IF(A325=\"\",\"\",IF(AB325=\"A\",\"-\",Daten!F$10))","v":""},{"$f":"IFERROR(IF(A325=\"\",\"\",VLOOKUP(N325,Daten!N$1:O$7,2,FALSE)),\"\")","v":""}]
[null,null,null,{"$f":"IF(A326=\"\",\"\",IF(Daten!B$3=TRUE,Daten!B$7,\"\"))","v":""},{"$f":"IFERROR(IF(C326=\"\",\"\",C326+(2*D326)+IF(O326=Daten!M$13,6,0)+IF(S326=Daten!M$13,6,0)+IF(Q326=\"-\",0,Q326)+IF(U326=\"-\",0,U326)),\"\")","v":""},{"$f":"IF(OR(A326=\"\",AND(F$1=0,Daten!F$3=FALSE)),\"\",Daten!B$6)","v":""},{"$f":"IF(A326=\"\",\"\",IF(Daten!B$5=\"??\",\"\",Daten!B$5))","v":""},{"$f":"IF(A326=\"\",\"\",IF(Daten!B$3=FALSE,\"\",Daten!B$4))","v":""},{"$f":"IFERROR(IF(A326=\"\",\"\",G326+H326+IF(AND(G326>0,H326>0),5,0))-IF(Daten!H$21=TRUE,H326,0),\"\")","v":""},{"$f":"IFERROR(IF(A326=\"\",\"\",I326+IF(Daten!H$21=TRUE,H326,0)+IF(F326=\"\",0,F326)-IF(Daten!F$3=TRUE,Daten!F$10,0)),\"\")","v":""},{"$f":"IF(A326=\"\",\"\",Daten!D$14)","v":""},{"$f":"IF(A326=\"\",\"\",Daten!D$12)","v":""},{"$f":"IF(A326=\"\",\"\",Daten!D$13)","v":""},{"$f":"IF(A326=\"\",\"\",Daten!M$2)","v":""},{"$f":"IF(A326=\"\",\"\",IF(Daten!D$6=Daten!N$11,Daten!M$11,IF(Daten!D$6=Daten!N$13,Daten!M$13,IF(AND(Daten!$D$6=Daten!$M$10,Daten!$D$8=TRUE),Daten!$M$14,Daten!D$6))))","v":""},{"$f":"IF($A326=\"\",\"\",IF(OR(O326=\"Putzbord\",O326=\"Flexila PU\"),Daten!$D$15,IF(OR(O326=\"Stehbord\",O326=\"Stehbord HB\",O326=\"Flexila STB\",O326=\"Jalousiebord\"),Daten!$D$19,\"-\")))","v":""},{"$f":"IF($A326=\"\",\"\",IF(O326=\"Putzbord\",Daten!$D$16,IF(O326=\"Flexila PU\",_xlfn.NUMBERVALUE(MID(Daten!$D$17,1,2)),\"-\")))","v":""},{"$f":"IF($A326=\"\",\"\",IF(OR(O326=\"Putzbord\",O326=\"Flexila PU\"),Daten!$D$18,IF(OR(O326=\"Stehbord\",O326=\"Stehbord HB\",O326=\"Flexila STB\",O326=\"Jalousiebord\"),Daten!$D$21,\"-\")))","v":""},{"$f":"IF(A326=\"\",\"\",IF(Daten!D$6=Daten!N$11,Daten!M$11,IF(Daten!D$6=Daten!N$13,Daten!M$13,IF(AND(Daten!$D$6=Daten!$M$10,Daten!$D$8=TRUE),Daten!$M$14,Daten!D$6))))","v":""},{"$f":"IF($A326=\"\",\"\",IF(OR(S326=\"Putzbord\",S326=\"Flexila PU\"),Daten!$D$15,IF(OR(S326=\"Stehbord\",S326=\"Stehbord HB\",S326=\"Flexila STB\",S326=\"Jalousiebord\"),Daten!$D$19,\"-\")))","v":""},{"$f":"IF($A326=\"\",\"\",IF(S326=\"Putzbord\",Daten!$D$16,IF(S326=\"Flexila PU\",_xlfn.NUMBERVALUE(MID(Daten!$D$17,1,2)),\"-\")))","v":""},{"$f":"IF($A326=\"\",\"\",IF(OR(S326=\"Putzbord\",S326=\"Flexila PU\"),Daten!$D$18,IF(OR(S326=\"Stehbord\",S326=\"Stehbord HB\",S326=\"Flexila STB\",S326=\"Jalousiebord\"),Daten!$D$21,\"-\")))","v":""},{"$f":"IF(A326=\"\",\"\",IF(AND(Daten!D$6=\"Jalousiebord\",OR(O326=\"Stehbord\",S326=\"Stehbord\")),\"Jalousienklinkung\",\"\"))","v":""},{"$f":"IF(W326=\"\",\"\",Daten!D$20)","v":""},null,null,{"$f":"IF(A326=\"\",\"\",IF(Daten!F$1=\"A\",\"Ohne\",IF(OR(N326=\"Gerstenkorn roh\",N326=\"Riffelblech roh\"),\"XPS\",Daten!F$2)))","v":""},{"$f":"IF(A326=\"\",\"\",IF(AA326=\"Ohne\",\"A\",IF(AA326=\"XPS\",IF(Daten!F$1=\"D\",\"B\",Daten!F$1),Daten!F$1)))","v":""},{"$f":"IF(A326=\"\",\"\",IF(AB326=\"A\",\"-\",Daten!F$7))","v":""},{"$f":"IF(A326=\"\",\"\",IF(AB326=\"A\",\"-\",IF(AND(Daten!F$8=0,O326=\"Putzbord\"),5-Q326,0)))","v":""},{"$f":"IF(A326=\"\",\"\",IF(AB326=\"A\",\"-\",IF(AND(Daten!F$8=0,S326=\"Putzbord\"),5-U326,0)))","v":""},{"$f":"IF(A326=\"\",\"\",IF(AB326=\"A\",\"-\",Daten!F$10))","v":""},{"$f":"IFERROR(IF(A326=\"\",\"\",VLOOKUP(N326,Daten!N$1:O$7,2,FALSE)),\"\")","v":""}]
[null,null,null,{"$f":"IF(A327=\"\",\"\",IF(Daten!B$3=TRUE,Daten!B$7,\"\"))","v":""},{"$f":"IFERROR(IF(C327=\"\",\"\",C327+(2*D327)+IF(O327=Daten!M$13,6,0)+IF(S327=Daten!M$13,6,0)+IF(Q327=\"-\",0,Q327)+IF(U327=\"-\",0,U327)),\"\")","v":""},{"$f":"IF(OR(A327=\"\",AND(F$1=0,Daten!F$3=FALSE)),\"\",Daten!B$6)","v":""},{"$f":"IF(A327=\"\",\"\",IF(Daten!B$5=\"??\",\"\",Daten!B$5))","v":""},{"$f":"IF(A327=\"\",\"\",IF(Daten!B$3=FALSE,\"\",Daten!B$4))","v":""},{"$f":"IFERROR(IF(A327=\"\",\"\",G327+H327+IF(AND(G327>0,H327>0),5,0))-IF(Daten!H$21=TRUE,H327,0),\"\")","v":""},{"$f":"IFERROR(IF(A327=\"\",\"\",I327+IF(Daten!H$21=TRUE,H327,0)+IF(F327=\"\",0,F327)-IF(Daten!F$3=TRUE,Daten!F$10,0)),\"\")","v":""},{"$f":"IF(A327=\"\",\"\",Daten!D$14)","v":""},{"$f":"IF(A327=\"\",\"\",Daten!D$12)","v":""},{"$f":"IF(A327=\"\",\"\",Daten!D$13)","v":""},{"$f":"IF(A327=\"\",\"\",Daten!M$2)","v":""},{"$f":"IF(A327=\"\",\"\",IF(Daten!D$6=Daten!N$11,Daten!M$11,IF(Daten!D$6=Daten!N$13,Daten!M$13,IF(AND(Daten!$D$6=Daten!$M$10,Daten!$D$8=TRUE),Daten!$M$14,Daten!D$6))))","v":""},{"$f":"IF($A327=\"\",\"\",IF(OR(O327=\"Putzbord\",O327=\"Flexila PU\"),Daten!$D$15,IF(OR(O327=\"Stehbord\",O327=\"Stehbord HB\",O327=\"Flexila STB\",O327=\"Jalousiebord\"),Daten!$D$19,\"-\")))","v":""},{"$f":"IF($A327=\"\",\"\",IF(O327=\"Putzbord\",Daten!$D$16,IF(O327=\"Flexila PU\",_xlfn.NUMBERVALUE(MID(Daten!$D$17,1,2)),\"-\")))","v":""},{"$f":"IF($A327=\"\",\"\",IF(OR(O327=\"Putzbord\",O327=\"Flexila PU\"),Daten!$D$18,IF(OR(O327=\"Stehbord\",O327=\"Stehbord HB\",O327=\"Flexila STB\",O327=\"Jalousiebord\"),Daten!$D$21,\"-\")))","v":""},{"$f":"IF(A327=\"\",\"\",IF(Daten!D$6=Daten!N$11,Daten!M$11,IF(Daten!D$6=Daten!N$13,Daten!M$13,IF(AND(Daten!$D$6=Daten!$M$10,Daten!$D$8=TRUE),Daten!$M$14,Daten!D$6))))","v":""},{"$f":"IF($A327=\"\",\"\",IF(OR(S327=\"Putzbord\",S327=\"Flexila PU\"),Daten!$D$15,IF(OR(S327=\"Stehbord\",S327=\"Stehbord HB\",S327=\"Flexila STB\",S327=\"Jalousiebord\"),Daten!$D$19,\"-\")))","v":""},{"$f":"IF($A327=\"\",\"\",IF(S327=\"Putzbord\",Daten!$D$16,IF(S327=\"Flexila PU\",_xlfn.NUMBERVALUE(MID(Daten!$D$17,1,2)),\"-\")))","v":""},{"$f":"IF($A327=\"\",\"\",IF(OR(S327=\"Putzbord\",S327=\"Flexila PU\"),Daten!$D$18,IF(OR(S327=\"Stehbord\",S327=\"Stehbord HB\",S327=\"Flexila STB\",S327=\"Jalousiebord\"),Daten!$D$21,\"-\")))","v":""},{"$f":"IF(A327=\"\",\"\",IF(AND(Daten!D$6=\"Jalousiebord\",OR(O327=\"Stehbord\",S327=\"Stehbord\")),\"Jalousienklinkung\",\"\"))","v":""},{"$f":"IF(W327=\"\",\"\",Daten!D$20)","v":""},null,null,{"$f":"IF(A327=\"\",\"\",IF(Daten!F$1=\"A\",\"Ohne\",IF(OR(N327=\"Gerstenkorn roh\",N327=\"Riffelblech roh\"),\"XPS\",Daten!F$2)))","v":""},{"$f":"IF(A327=\"\",\"\",IF(AA327=\"Ohne\",\"A\",IF(AA327=\"XPS\",IF(Daten!F$1=\"D\",\"B\",Daten!F$1),Daten!F$1)))","v":""},{"$f":"IF(A327=\"\",\"\",IF(AB327=\"A\",\"-\",Daten!F$7))","v":""},{"$f":"IF(A327=\"\",\"\",IF(AB327=\"A\",\"-\",IF(AND(Daten!F$8=0,O327=\"Putzbord\"),5-Q327,0)))","v":""},{"$f":"IF(A327=\"\",\"\",IF(AB327=\"A\",\"-\",IF(AND(Daten!F$8=0,S327=\"Putzbord\"),5-U327,0)))","v":""},{"$f":"IF(A327=\"\",\"\",IF(AB327=\"A\",\"-\",Daten!F$10))","v":""},{"$f":"IFERROR(IF(A327=\"\",\"\",VLOOKUP(N327,Daten!N$1:O$7,2,FALSE)),\"\")","v":""}]
[null,null,null,{"$f":"IF(A328=\"\",\"\",IF(Daten!B$3=TRUE,Daten!B$7,\"\"))","v":""},{"$f":"IFERROR(IF(C328=\"\",\"\",C328+(2*D328)+IF(O328=Daten!M$13,6,0)+IF(S328=Daten!M$13,6,0)+IF(Q328=\"-\",0,Q328)+IF(U328=\"-\",0,U328)),\"\")","v":""},{"$f":"IF(OR(A328=\"\",AND(F$1=0,Daten!F$3=FALSE)),\"\",Daten!B$6)","v":""},{"$f":"IF(A328=\"\",\"\",IF(Daten!B$5=\"??\",\"\",Daten!B$5))","v":""},{"$f":"IF(A328=\"\",\"\",IF(Daten!B$3=FALSE,\"\",Daten!B$4))","v":""},{"$f":"IFERROR(IF(A328=\"\",\"\",G328+H328+IF(AND(G328>0,H328>0),5,0))-IF(Daten!H$21=TRUE,H328,0),\"\")","v":""},{"$f":"IFERROR(IF(A328=\"\",\"\",I328+IF(Daten!H$21=TRUE,H328,0)+IF(F328=\"\",0,F328)-IF(Daten!F$3=TRUE,Daten!F$10,0)),\"\")","v":""},{"$f":"IF(A328=\"\",\"\",Daten!D$14)","v":""},{"$f":"IF(A328=\"\",\"\",Daten!D$12)","v":""},{"$f":"IF(A328=\"\",\"\",Daten!D$13)","v":""},{"$f":"IF(A328=\"\",\"\",Daten!M$2)","v":""},{"$f":"IF(A328=\"\",\"\",IF(Daten!D$6=Daten!N$11,Daten!M$11,IF(Daten!D$6=Daten!N$13,Daten!M$13,IF(AND(Daten!$D$6=Daten!$M$10,Daten!$D$8=TRUE),Daten!$M$14,Daten!D$6))))","v":""},{"$f":"IF($A328=\"\",\"\",IF(OR(O328=\"Putzbord\",O328=\"Flexila PU\"),Daten!$D$15,IF(OR(O328=\"Stehbord\",O328=\"Stehbord HB\",O328=\"Flexila STB\",O328=\"Jalousiebord\"),Daten!$D$19,\"-\")))","v":""},{"$f":"IF($A328=\"\",\"\",IF(O328=\"Putzbord\",Daten!$D$16,IF(O328=\"Flexila PU\",_xlfn.NUMBERVALUE(MID(Daten!$D$17,1,2)),\"-\")))","v":""},{"$f":"IF($A328=\"\",\"\",IF(OR(O328=\"Putzbord\",O328=\"Flexila PU\"),Daten!$D$18,IF(OR(O328=\"Stehbord\",O328=\"Stehbord HB\",O328=\"Flexila STB\",O328=\"Jalousiebord\"),Daten!$D$21,\"-\")))","v":""},{"$f":"IF(A328=\"\",\"\",IF(Daten!D$6=Daten!N$11,Daten!M$11,IF(Daten!D$6=Daten!N$13,Daten!M$13,IF(AND(Daten!$D$6=Daten!$M$10,Daten!$D$8=TRUE),Daten!$M$14,Daten!D$6))))","v":""},{"$f":"IF($A328=\"\",\"\",IF(OR(S328=\"Putzbord\",S328=\"Flexila PU\"),Daten!$D$15,IF(OR(S328=\"Stehbord\",S328=\"Stehbord HB\",S328=\"Flexila STB\",S328=\"Jalousiebord\"),Daten!$D$19,\"-\")))","v":""},{"$f":"IF($A328=\"\",\"\",IF(S328=\"Putzbord\",Daten!$D$16,IF(S328=\"Flexila PU\",_xlfn.NUMBERVALUE(MID(Daten!$D$17,1,2)),\"-\")))","v":""},{"$f":"IF($A328=\"\",\"\",IF(OR(S328=\"Putzbord\",S328=\"Flexila PU\"),Daten!$D$18,IF(OR(S328=\"Stehbord\",S328=\"Stehbord HB\",S328=\"Flexila STB\",S328=\"Jalousiebord\"),Daten!$D$21,\"-\")))","v":""},{"$f":"IF(A328=\"\",\"\",IF(AND(Daten!D$6=\"Jalousiebord\",OR(O328=\"Stehbord\",S328=\"Stehbord\")),\"Jalousienklinkung\",\"\"))","v":""},{"$f":"IF(W328=\"\",\"\",Daten!D$20)","v":""},null,null,{"$f":"IF(A328=\"\",\"\",IF(Daten!F$1=\"A\",\"Ohne\",IF(OR(N328=\"Gerstenkorn roh\",N328=\"Riffelblech roh\"),\"XPS\",Daten!F$2)))","v":""},{"$f":"IF(A328=\"\",\"\",IF(AA328=\"Ohne\",\"A\",IF(AA328=\"XPS\",IF(Daten!F$1=\"D\",\"B\",Daten!F$1),Daten!F$1)))","v":""},{"$f":"IF(A328=\"\",\"\",IF(AB328=\"A\",\"-\",Daten!F$7))","v":""},{"$f":"IF(A328=\"\",\"\",IF(AB328=\"A\",\"-\",IF(AND(Daten!F$8=0,O328=\"Putzbord\"),5-Q328,0)))","v":""},{"$f":"IF(A328=\"\",\"\",IF(AB328=\"A\",\"-\",IF(AND(Daten!F$8=0,S328=\"Putzbord\"),5-U328,0)))","v":""},{"$f":"IF(A328=\"\",\"\",IF(AB328=\"A\",\"-\",Daten!F$10))","v":""},{"$f":"IFERROR(IF(A328=\"\",\"\",VLOOKUP(N328,Daten!N$1:O$7,2,FALSE)),\"\")","v":""}]
[null,null,null,{"$f":"IF(A329=\"\",\"\",IF(Daten!B$3=TRUE,Daten!B$7,\"\"))","v":""},{"$f":"IFERROR(IF(C329=\"\",\"\",C329+(2*D329)+IF(O329=Daten!M$13,6,0)+IF(S329=Daten!M$13,6,0)+IF(Q329=\"-\",0,Q329)+IF(U329=\"-\",0,U329)),\"\")","v":""},{"$f":"IF(OR(A329=\"\",AND(F$1=0,Daten!F$3=FALSE)),\"\",Daten!B$6)","v":""},{"$f":"IF(A329=\"\",\"\",IF(Daten!B$5=\"??\",\"\",Daten!B$5))","v":""},{"$f":"IF(A329=\"\",\"\",IF(Daten!B$3=FALSE,\"\",Daten!B$4))","v":""},{"$f":"IFERROR(IF(A329=\"\",\"\",G329+H329+IF(AND(G329>0,H329>0),5,0))-IF(Daten!H$21=TRUE,H329,0),\"\")","v":""},{"$f":"IFERROR(IF(A329=\"\",\"\",I329+IF(Daten!H$21=TRUE,H329,0)+IF(F329=\"\",0,F329)-IF(Daten!F$3=TRUE,Daten!F$10,0)),\"\")","v":""},{"$f":"IF(A329=\"\",\"\",Daten!D$14)","v":""},{"$f":"IF(A329=\"\",\"\",Daten!D$12)","v":""},{"$f":"IF(A329=\"\",\"\",Daten!D$13)","v":""},{"$f":"IF(A329=\"\",\"\",Daten!M$2)","v":""},{"$f":"IF(A329=\"\",\"\",IF(Daten!D$6=Daten!N$11,Daten!M$11,IF(Daten!D$6=Daten!N$13,Daten!M$13,IF(AND(Daten!$D$6=Daten!$M$10,Daten!$D$8=TRUE),Daten!$M$14,Daten!D$6))))","v":""},{"$f":"IF($A329=\"\",\"\",IF(OR(O329=\"Putzbord\",O329=\"Flexila PU\"),Daten!$D$15,IF(OR(O329=\"Stehbord\",O329=\"Stehbord HB\",O329=\"Flexila STB\",O329=\"Jalousiebord\"),Daten!$D$19,\"-\")))","v":""},{"$f":"IF($A329=\"\",\"\",IF(O329=\"Putzbord\",Daten!$D$16,IF(O329=\"Flexila PU\",_xlfn.NUMBERVALUE(MID(Daten!$D$17,1,2)),\"-\")))","v":""},{"$f":"IF($A329=\"\",\"\",IF(OR(O329=\"Putzbord\",O329=\"Flexila PU\"),Daten!$D$18,IF(OR(O329=\"Stehbord\",O329=\"Stehbord HB\",O329=\"Flexila STB\",O329=\"Jalousiebord\"),Daten!$D$21,\"-\")))","v":""},{"$f":"IF(A329=\"\",\"\",IF(Daten!D$6=Daten!N$11,Daten!M$11,IF(Daten!D$6=Daten!N$13,Daten!M$13,IF(AND(Daten!$D$6=Daten!$M$10,Daten!$D$8=TRUE),Daten!$M$14,Daten!D$6))))","v":""},{"$f":"IF($A329=\"\",\"\",IF(OR(S329=\"Putzbord\",S329=\"Flexila PU\"),Daten!$D$15,IF(OR(S329=\"Stehbord\",S329=\"Stehbord HB\",S329=\"Flexila STB\",S329=\"Jalousiebord\"),Daten!$D$19,\"-\")))","v":""},{"$f":"IF($A329=\"\",\"\",IF(S329=\"Putzbord\",Daten!$D$16,IF(S329=\"Flexila PU\",_xlfn.NUMBERVALUE(MID(Daten!$D$17,1,2)),\"-\")))","v":""},{"$f":"IF($A329=\"\",\"\",IF(OR(S329=\"Putzbord\",S329=\"Flexila PU\"),Daten!$D$18,IF(OR(S329=\"Stehbord\",S329=\"Stehbord HB\",S329=\"Flexila STB\",S329=\"Jalousiebord\"),Daten!$D$21,\"-\")))","v":""},{"$f":"IF(A329=\"\",\"\",IF(AND(Daten!D$6=\"Jalousiebord\",OR(O329=\"Stehbord\",S329=\"Stehbord\")),\"Jalousienklinkung\",\"\"))","v":""},{"$f":"IF(W329=\"\",\"\",Daten!D$20)","v":""},null,null,{"$f":"IF(A329=\"\",\"\",IF(Daten!F$1=\"A\",\"Ohne\",IF(OR(N329=\"Gerstenkorn roh\",N329=\"Riffelblech roh\"),\"XPS\",Daten!F$2)))","v":""},{"$f":"IF(A329=\"\",\"\",IF(AA329=\"Ohne\",\"A\",IF(AA329=\"XPS\",IF(Daten!F$1=\"D\",\"B\",Daten!F$1),Daten!F$1)))","v":""},{"$f":"IF(A329=\"\",\"\",IF(AB329=\"A\",\"-\",Daten!F$7))","v":""},{"$f":"IF(A329=\"\",\"\",IF(AB329=\"A\",\"-\",IF(AND(Daten!F$8=0,O329=\"Putzbord\"),5-Q329,0)))","v":""},{"$f":"IF(A329=\"\",\"\",IF(AB329=\"A\",\"-\",IF(AND(Daten!F$8=0,S329=\"Putzbord\"),5-U329,0)))","v":""},{"$f":"IF(A329=\"\",\"\",IF(AB329=\"A\",\"-\",Daten!F$10))","v":""},{"$f":"IFERROR(IF(A329=\"\",\"\",VLOOKUP(N329,Daten!N$1:O$7,2,FALSE)),\"\")","v":""}]
[null,null,null,{"$f":"IF(A330=\"\",\"\",IF(Daten!B$3=TRUE,Daten!B$7,\"\"))","v":""},{"$f":"IFERROR(IF(C330=\"\",\"\",C330+(2*D330)+IF(O330=Daten!M$13,6,0)+IF(S330=Daten!M$13,6,0)+IF(Q330=\"-\",0,Q330)+IF(U330=\"-\",0,U330)),\"\")","v":""},{"$f":"IF(OR(A330=\"\",AND(F$1=0,Daten!F$3=FALSE)),\"\",Daten!B$6)","v":""},{"$f":"IF(A330=\"\",\"\",IF(Daten!B$5=\"??\",\"\",Daten!B$5))","v":""},{"$f":"IF(A330=\"\",\"\",IF(Daten!B$3=FALSE,\"\",Daten!B$4))","v":""},{"$f":"IFERROR(IF(A330=\"\",\"\",G330+H330+IF(AND(G330>0,H330>0),5,0))-IF(Daten!H$21=TRUE,H330,0),\"\")","v":""},{"$f":"IFERROR(IF(A330=\"\",\"\",I330+IF(Daten!H$21=TRUE,H330,0)+IF(F330=\"\",0,F330)-IF(Daten!F$3=TRUE,Daten!F$10,0)),\"\")","v":""},{"$f":"IF(A330=\"\",\"\",Daten!D$14)","v":""},{"$f":"IF(A330=\"\",\"\",Daten!D$12)","v":""},{"$f":"IF(A330=\"\",\"\",Daten!D$13)","v":""},{"$f":"IF(A330=\"\",\"\",Daten!M$2)","v":""},{"$f":"IF(A330=\"\",\"\",IF(Daten!D$6=Daten!N$11,Daten!M$11,IF(Daten!D$6=Daten!N$13,Daten!M$13,IF(AND(Daten!$D$6=Daten!$M$10,Daten!$D$8=TRUE),Daten!$M$14,Daten!D$6))))","v":""},{"$f":"IF($A330=\"\",\"\",IF(OR(O330=\"Putzbord\",O330=\"Flexila PU\"),Daten!$D$15,IF(OR(O330=\"Stehbord\",O330=\"Stehbord HB\",O330=\"Flexila STB\",O330=\"Jalousiebord\"),Daten!$D$19,\"-\")))","v":""},{"$f":"IF($A330=\"\",\"\",IF(O330=\"Putzbord\",Daten!$D$16,IF(O330=\"Flexila PU\",_xlfn.NUMBERVALUE(MID(Daten!$D$17,1,2)),\"-\")))","v":""},{"$f":"IF($A330=\"\",\"\",IF(OR(O330=\"Putzbord\",O330=\"Flexila PU\"),Daten!$D$18,IF(OR(O330=\"Stehbord\",O330=\"Stehbord HB\",O330=\"Flexila STB\",O330=\"Jalousiebord\"),Daten!$D$21,\"-\")))","v":""},{"$f":"IF(A330=\"\",\"\",IF(Daten!D$6=Daten!N$11,Daten!M$11,IF(Daten!D$6=Daten!N$13,Daten!M$13,IF(AND(Daten!$D$6=Daten!$M$10,Daten!$D$8=TRUE),Daten!$M$14,Daten!D$6))))","v":""},{"$f":"IF($A330=\"\",\"\",IF(OR(S330=\"Putzbord\",S330=\"Flexila PU\"),Daten!$D$15,IF(OR(S330=\"Stehbord\",S330=\"Stehbord HB\",S330=\"Flexila STB\",S330=\"Jalousiebord\"),Daten!$D$19,\"-\")))","v":""},{"$f":"IF($A330=\"\",\"\",IF(S330=\"Putzbord\",Daten!$D$16,IF(S330=\"Flexila PU\",_xlfn.NUMBERVALUE(MID(Daten!$D$17,1,2)),\"-\")))","v":""},{"$f":"IF($A330=\"\",\"\",IF(OR(S330=\"Putzbord\",S330=\"Flexila PU\"),Daten!$D$18,IF(OR(S330=\"Stehbord\",S330=\"Stehbord HB\",S330=\"Flexila STB\",S330=\"Jalousiebord\"),Daten!$D$21,\"-\")))","v":""},{"$f":"IF(A330=\"\",\"\",IF(AND(Daten!D$6=\"Jalousiebord\",OR(O330=\"Stehbord\",S330=\"Stehbord\")),\"Jalousienklinkung\",\"\"))","v":""},{"$f":"IF(W330=\"\",\"\",Daten!D$20)","v":""},null,null,{"$f":"IF(A330=\"\",\"\",IF(Daten!F$1=\"A\",\"Ohne\",IF(OR(N330=\"Gerstenkorn roh\",N330=\"Riffelblech roh\"),\"XPS\",Daten!F$2)))","v":""},{"$f":"IF(A330=\"\",\"\",IF(AA330=\"Ohne\",\"A\",IF(AA330=\"XPS\",IF(Daten!F$1=\"D\",\"B\",Daten!F$1),Daten!F$1)))","v":""},{"$f":"IF(A330=\"\",\"\",IF(AB330=\"A\",\"-\",Daten!F$7))","v":""},{"$f":"IF(A330=\"\",\"\",IF(AB330=\"A\",\"-\",IF(AND(Daten!F$8=0,O330=\"Putzbord\"),5-Q330,0)))","v":""},{"$f":"IF(A330=\"\",\"\",IF(AB330=\"A\",\"-\",IF(AND(Daten!F$8=0,S330=\"Putzbord\"),5-U330,0)))","v":""},{"$f":"IF(A330=\"\",\"\",IF(AB330=\"A\",\"-\",Daten!F$10))","v":""},{"$f":"IFERROR(IF(A330=\"\",\"\",VLOOKUP(N330,Daten!N$1:O$7,2,FALSE)),\"\")","v":""}]
[null,null,null,{"$f":"IF(A331=\"\",\"\",IF(Daten!B$3=TRUE,Daten!B$7,\"\"))","v":""},{"$f":"IFERROR(IF(C331=\"\",\"\",C331+(2*D331)+IF(O331=Daten!M$13,6,0)+IF(S331=Daten!M$13,6,0)+IF(Q331=\"-\",0,Q331)+IF(U331=\"-\",0,U331)),\"\")","v":""},{"$f":"IF(OR(A331=\"\",AND(F$1=0,Daten!F$3=FALSE)),\"\",Daten!B$6)","v":""},{"$f":"IF(A331=\"\",\"\",IF(Daten!B$5=\"??\",\"\",Daten!B$5))","v":""},{"$f":"IF(A331=\"\",\"\",IF(Daten!B$3=FALSE,\"\",Daten!B$4))","v":""},{"$f":"IFERROR(IF(A331=\"\",\"\",G331+H331+IF(AND(G331>0,H331>0),5,0))-IF(Daten!H$21=TRUE,H331,0),\"\")","v":""},{"$f":"IFERROR(IF(A331=\"\",\"\",I331+IF(Daten!H$21=TRUE,H331,0)+IF(F331=\"\",0,F331)-IF(Daten!F$3=TRUE,Daten!F$10,0)),\"\")","v":""},{"$f":"IF(A331=\"\",\"\",Daten!D$14)","v":""},{"$f":"IF(A331=\"\",\"\",Daten!D$12)","v":""},{"$f":"IF(A331=\"\",\"\",Daten!D$13)","v":""},{"$f":"IF(A331=\"\",\"\",Daten!M$2)","v":""},{"$f":"IF(A331=\"\",\"\",IF(Daten!D$6=Daten!N$11,Daten!M$11,IF(Daten!D$6=Daten!N$13,Daten!M$13,IF(AND(Daten!$D$6=Daten!$M$10,Daten!$D$8=TRUE),Daten!$M$14,Daten!D$6))))","v":""},{"$f":"IF($A331=\"\",\"\",IF(OR(O331=\"Putzbord\",O331=\"Flexila PU\"),Daten!$D$15,IF(OR(O331=\"Stehbord\",O331=\"Stehbord HB\",O331=\"Flexila STB\",O331=\"Jalousiebord\"),Daten!$D$19,\"-\")))","v":""},{"$f":"IF($A331=\"\",\"\",IF(O331=\"Putzbord\",Daten!$D$16,IF(O331=\"Flexila PU\",_xlfn.NUMBERVALUE(MID(Daten!$D$17,1,2)),\"-\")))","v":""},{"$f":"IF($A331=\"\",\"\",IF(OR(O331=\"Putzbord\",O331=\"Flexila PU\"),Daten!$D$18,IF(OR(O331=\"Stehbord\",O331=\"Stehbord HB\",O331=\"Flexila STB\",O331=\"Jalousiebord\"),Daten!$D$21,\"-\")))","v":""},{"$f":"IF(A331=\"\",\"\",IF(Daten!D$6=Daten!N$11,Daten!M$11,IF(Daten!D$6=Daten!N$13,Daten!M$13,IF(AND(Daten!$D$6=Daten!$M$10,Daten!$D$8=TRUE),Daten!$M$14,Daten!D$6))))","v":""},{"$f":"IF($A331=\"\",\"\",IF(OR(S331=\"Putzbord\",S331=\"Flexila PU\"),Daten!$D$15,IF(OR(S331=\"Stehbord\",S331=\"Stehbord HB\",S331=\"Flexila STB\",S331=\"Jalousiebord\"),Daten!$D$19,\"-\")))","v":""},{"$f":"IF($A331=\"\",\"\",IF(S331=\"Putzbord\",Daten!$D$16,IF(S331=\"Flexila PU\",_xlfn.NUMBERVALUE(MID(Daten!$D$17,1,2)),\"-\")))","v":""},{"$f":"IF($A331=\"\",\"\",IF(OR(S331=\"Putzbord\",S331=\"Flexila PU\"),Daten!$D$18,IF(OR(S331=\"Stehbord\",S331=\"Stehbord HB\",S331=\"Flexila STB\",S331=\"Jalousiebord\"),Daten!$D$21,\"-\")))","v":""},{"$f":"IF(A331=\"\",\"\",IF(AND(Daten!D$6=\"Jalousiebord\",OR(O331=\"Stehbord\",S331=\"Stehbord\")),\"Jalousienklinkung\",\"\"))","v":""},{"$f":"IF(W331=\"\",\"\",Daten!D$20)","v":""},null,null,{"$f":"IF(A331=\"\",\"\",IF(Daten!F$1=\"A\",\"Ohne\",IF(OR(N331=\"Gerstenkorn roh\",N331=\"Riffelblech roh\"),\"XPS\",Daten!F$2)))","v":""},{"$f":"IF(A331=\"\",\"\",IF(AA331=\"Ohne\",\"A\",IF(AA331=\"XPS\",IF(Daten!F$1=\"D\",\"B\",Daten!F$1),Daten!F$1)))","v":""},{"$f":"IF(A331=\"\",\"\",IF(AB331=\"A\",\"-\",Daten!F$7))","v":""},{"$f":"IF(A331=\"\",\"\",IF(AB331=\"A\",\"-\",IF(AND(Daten!F$8=0,O331=\"Putzbord\"),5-Q331,0)))","v":""},{"$f":"IF(A331=\"\",\"\",IF(AB331=\"A\",\"-\",IF(AND(Daten!F$8=0,S331=\"Putzbord\"),5-U331,0)))","v":""},{"$f":"IF(A331=\"\",\"\",IF(AB331=\"A\",\"-\",Daten!F$10))","v":""},{"$f":"IFERROR(IF(A331=\"\",\"\",VLOOKUP(N331,Daten!N$1:O$7,2,FALSE)),\"\")","v":""}]
[null,null,null,{"$f":"IF(A332=\"\",\"\",IF(Daten!B$3=TRUE,Daten!B$7,\"\"))","v":""},{"$f":"IFERROR(IF(C332=\"\",\"\",C332+(2*D332)+IF(O332=Daten!M$13,6,0)+IF(S332=Daten!M$13,6,0)+IF(Q332=\"-\",0,Q332)+IF(U332=\"-\",0,U332)),\"\")","v":""},{"$f":"IF(OR(A332=\"\",AND(F$1=0,Daten!F$3=FALSE)),\"\",Daten!B$6)","v":""},{"$f":"IF(A332=\"\",\"\",IF(Daten!B$5=\"??\",\"\",Daten!B$5))","v":""},{"$f":"IF(A332=\"\",\"\",IF(Daten!B$3=FALSE,\"\",Daten!B$4))","v":""},{"$f":"IFERROR(IF(A332=\"\",\"\",G332+H332+IF(AND(G332>0,H332>0),5,0))-IF(Daten!H$21=TRUE,H332,0),\"\")","v":""},{"$f":"IFERROR(IF(A332=\"\",\"\",I332+IF(Daten!H$21=TRUE,H332,0)+IF(F332=\"\",0,F332)-IF(Daten!F$3=TRUE,Daten!F$10,0)),\"\")","v":""},{"$f":"IF(A332=\"\",\"\",Daten!D$14)","v":""},{"$f":"IF(A332=\"\",\"\",Daten!D$12)","v":""},{"$f":"IF(A332=\"\",\"\",Daten!D$13)","v":""},{"$f":"IF(A332=\"\",\"\",Daten!M$2)","v":""},{"$f":"IF(A332=\"\",\"\",IF(Daten!D$6=Daten!N$11,Daten!M$11,IF(Daten!D$6=Daten!N$13,Daten!M$13,IF(AND(Daten!$D$6=Daten!$M$10,Daten!$D$8=TRUE),Daten!$M$14,Daten!D$6))))","v":""},{"$f":"IF($A332=\"\",\"\",IF(OR(O332=\"Putzbord\",O332=\"Flexila PU\"),Daten!$D$15,IF(OR(O332=\"Stehbord\",O332=\"Stehbord HB\",O332=\"Flexila STB\",O332=\"Jalousiebord\"),Daten!$D$19,\"-\")))","v":""},{"$f":"IF($A332=\"\",\"\",IF(O332=\"Putzbord\",Daten!$D$16,IF(O332=\"Flexila PU\",_xlfn.NUMBERVALUE(MID(Daten!$D$17,1,2)),\"-\")))","v":""},{"$f":"IF($A332=\"\",\"\",IF(OR(O332=\"Putzbord\",O332=\"Flexila PU\"),Daten!$D$18,IF(OR(O332=\"Stehbord\",O332=\"Stehbord HB\",O332=\"Flexila STB\",O332=\"Jalousiebord\"),Daten!$D$21,\"-\")))","v":""},{"$f":"IF(A332=\"\",\"\",IF(Daten!D$6=Daten!N$11,Daten!M$11,IF(Daten!D$6=Daten!N$13,Daten!M$13,IF(AND(Daten!$D$6=Daten!$M$10,Daten!$D$8=TRUE),Daten!$M$14,Daten!D$6))))","v":""},{"$f":"IF($A332=\"\",\"\",IF(OR(S332=\"Putzbord\",S332=\"Flexila PU\"),Daten!$D$15,IF(OR(S332=\"Stehbord\",S332=\"Stehbord HB\",S332=\"Flexila STB\",S332=\"Jalousiebord\"),Daten!$D$19,\"-\")))","v":""},{"$f":"IF($A332=\"\",\"\",IF(S332=\"Putzbord\",Daten!$D$16,IF(S332=\"Flexila PU\",_xlfn.NUMBERVALUE(MID(Daten!$D$17,1,2)),\"-\")))","v":""},{"$f":"IF($A332=\"\",\"\",IF(OR(S332=\"Putzbord\",S332=\"Flexila PU\"),Daten!$D$18,IF(OR(S332=\"Stehbord\",S332=\"Stehbord HB\",S332=\"Flexila STB\",S332=\"Jalousiebord\"),Daten!$D$21,\"-\")))","v":""},{"$f":"IF(A332=\"\",\"\",IF(AND(Daten!D$6=\"Jalousiebord\",OR(O332=\"Stehbord\",S332=\"Stehbord\")),\"Jalousienklinkung\",\"\"))","v":""},{"$f":"IF(W332=\"\",\"\",Daten!D$20)","v":""},null,null,{"$f":"IF(A332=\"\",\"\",IF(Daten!F$1=\"A\",\"Ohne\",IF(OR(N332=\"Gerstenkorn roh\",N332=\"Riffelblech roh\"),\"XPS\",Daten!F$2)))","v":""},{"$f":"IF(A332=\"\",\"\",IF(AA332=\"Ohne\",\"A\",IF(AA332=\"XPS\",IF(Daten!F$1=\"D\",\"B\",Daten!F$1),Daten!F$1)))","v":""},{"$f":"IF(A332=\"\",\"\",IF(AB332=\"A\",\"-\",Daten!F$7))","v":""},{"$f":"IF(A332=\"\",\"\",IF(AB332=\"A\",\"-\",IF(AND(Daten!F$8=0,O332=\"Putzbord\"),5-Q332,0)))","v":""},{"$f":"IF(A332=\"\",\"\",IF(AB332=\"A\",\"-\",IF(AND(Daten!F$8=0,S332=\"Putzbord\"),5-U332,0)))","v":""},{"$f":"IF(A332=\"\",\"\",IF(AB332=\"A\",\"-\",Daten!F$10))","v":""},{"$f":"IFERROR(IF(A332=\"\",\"\",VLOOKUP(N332,Daten!N$1:O$7,2,FALSE)),\"\")","v":""}]
[null,null,null,{"$f":"IF(A333=\"\",\"\",IF(Daten!B$3=TRUE,Daten!B$7,\"\"))","v":""},{"$f":"IFERROR(IF(C333=\"\",\"\",C333+(2*D333)+IF(O333=Daten!M$13,6,0)+IF(S333=Daten!M$13,6,0)+IF(Q333=\"-\",0,Q333)+IF(U333=\"-\",0,U333)),\"\")","v":""},{"$f":"IF(OR(A333=\"\",AND(F$1=0,Daten!F$3=FALSE)),\"\",Daten!B$6)","v":""},{"$f":"IF(A333=\"\",\"\",IF(Daten!B$5=\"??\",\"\",Daten!B$5))","v":""},{"$f":"IF(A333=\"\",\"\",IF(Daten!B$3=FALSE,\"\",Daten!B$4))","v":""},{"$f":"IFERROR(IF(A333=\"\",\"\",G333+H333+IF(AND(G333>0,H333>0),5,0))-IF(Daten!H$21=TRUE,H333,0),\"\")","v":""},{"$f":"IFERROR(IF(A333=\"\",\"\",I333+IF(Daten!H$21=TRUE,H333,0)+IF(F333=\"\",0,F333)-IF(Daten!F$3=TRUE,Daten!F$10,0)),\"\")","v":""},{"$f":"IF(A333=\"\",\"\",Daten!D$14)","v":""},{"$f":"IF(A333=\"\",\"\",Daten!D$12)","v":""},{"$f":"IF(A333=\"\",\"\",Daten!D$13)","v":""},{"$f":"IF(A333=\"\",\"\",Daten!M$2)","v":""},{"$f":"IF(A333=\"\",\"\",IF(Daten!D$6=Daten!N$11,Daten!M$11,IF(Daten!D$6=Daten!N$13,Daten!M$13,IF(AND(Daten!$D$6=Daten!$M$10,Daten!$D$8=TRUE),Daten!$M$14,Daten!D$6))))","v":""},{"$f":"IF($A333=\"\",\"\",IF(OR(O333=\"Putzbord\",O333=\"Flexila PU\"),Daten!$D$15,IF(OR(O333=\"Stehbord\",O333=\"Stehbord HB\",O333=\"Flexila STB\",O333=\"Jalousiebord\"),Daten!$D$19,\"-\")))","v":""},{"$f":"IF($A333=\"\",\"\",IF(O333=\"Putzbord\",Daten!$D$16,IF(O333=\"Flexila PU\",_xlfn.NUMBERVALUE(MID(Daten!$D$17,1,2)),\"-\")))","v":""},{"$f":"IF($A333=\"\",\"\",IF(OR(O333=\"Putzbord\",O333=\"Flexila PU\"),Daten!$D$18,IF(OR(O333=\"Stehbord\",O333=\"Stehbord HB\",O333=\"Flexila STB\",O333=\"Jalousiebord\"),Daten!$D$21,\"-\")))","v":""},{"$f":"IF(A333=\"\",\"\",IF(Daten!D$6=Daten!N$11,Daten!M$11,IF(Daten!D$6=Daten!N$13,Daten!M$13,IF(AND(Daten!$D$6=Daten!$M$10,Daten!$D$8=TRUE),Daten!$M$14,Daten!D$6))))","v":""},{"$f":"IF($A333=\"\",\"\",IF(OR(S333=\"Putzbord\",S333=\"Flexila PU\"),Daten!$D$15,IF(OR(S333=\"Stehbord\",S333=\"Stehbord HB\",S333=\"Flexila STB\",S333=\"Jalousiebord\"),Daten!$D$19,\"-\")))","v":""},{"$f":"IF($A333=\"\",\"\",IF(S333=\"Putzbord\",Daten!$D$16,IF(S333=\"Flexila PU\",_xlfn.NUMBERVALUE(MID(Daten!$D$17,1,2)),\"-\")))","v":""},{"$f":"IF($A333=\"\",\"\",IF(OR(S333=\"Putzbord\",S333=\"Flexila PU\"),Daten!$D$18,IF(OR(S333=\"Stehbord\",S333=\"Stehbord HB\",S333=\"Flexila STB\",S333=\"Jalousiebord\"),Daten!$D$21,\"-\")))","v":""},{"$f":"IF(A333=\"\",\"\",IF(AND(Daten!D$6=\"Jalousiebord\",OR(O333=\"Stehbord\",S333=\"Stehbord\")),\"Jalousienklinkung\",\"\"))","v":""},{"$f":"IF(W333=\"\",\"\",Daten!D$20)","v":""},null,null,{"$f":"IF(A333=\"\",\"\",IF(Daten!F$1=\"A\",\"Ohne\",IF(OR(N333=\"Gerstenkorn roh\",N333=\"Riffelblech roh\"),\"XPS\",Daten!F$2)))","v":""},{"$f":"IF(A333=\"\",\"\",IF(AA333=\"Ohne\",\"A\",IF(AA333=\"XPS\",IF(Daten!F$1=\"D\",\"B\",Daten!F$1),Daten!F$1)))","v":""},{"$f":"IF(A333=\"\",\"\",IF(AB333=\"A\",\"-\",Daten!F$7))","v":""},{"$f":"IF(A333=\"\",\"\",IF(AB333=\"A\",\"-\",IF(AND(Daten!F$8=0,O333=\"Putzbord\"),5-Q333,0)))","v":""},{"$f":"IF(A333=\"\",\"\",IF(AB333=\"A\",\"-\",IF(AND(Daten!F$8=0,S333=\"Putzbord\"),5-U333,0)))","v":""},{"$f":"IF(A333=\"\",\"\",IF(AB333=\"A\",\"-\",Daten!F$10))","v":""},{"$f":"IFERROR(IF(A333=\"\",\"\",VLOOKUP(N333,Daten!N$1:O$7,2,FALSE)),\"\")","v":""}]
[null,null,null,{"$f":"IF(A334=\"\",\"\",IF(Daten!B$3=TRUE,Daten!B$7,\"\"))","v":""},{"$f":"IFERROR(IF(C334=\"\",\"\",C334+(2*D334)+IF(O334=Daten!M$13,6,0)+IF(S334=Daten!M$13,6,0)+IF(Q334=\"-\",0,Q334)+IF(U334=\"-\",0,U334)),\"\")","v":""},{"$f":"IF(OR(A334=\"\",AND(F$1=0,Daten!F$3=FALSE)),\"\",Daten!B$6)","v":""},{"$f":"IF(A334=\"\",\"\",IF(Daten!B$5=\"??\",\"\",Daten!B$5))","v":""},{"$f":"IF(A334=\"\",\"\",IF(Daten!B$3=FALSE,\"\",Daten!B$4))","v":""},{"$f":"IFERROR(IF(A334=\"\",\"\",G334+H334+IF(AND(G334>0,H334>0),5,0))-IF(Daten!H$21=TRUE,H334,0),\"\")","v":""},{"$f":"IFERROR(IF(A334=\"\",\"\",I334+IF(Daten!H$21=TRUE,H334,0)+IF(F334=\"\",0,F334)-IF(Daten!F$3=TRUE,Daten!F$10,0)),\"\")","v":""},{"$f":"IF(A334=\"\",\"\",Daten!D$14)","v":""},{"$f":"IF(A334=\"\",\"\",Daten!D$12)","v":""},{"$f":"IF(A334=\"\",\"\",Daten!D$13)","v":""},{"$f":"IF(A334=\"\",\"\",Daten!M$2)","v":""},{"$f":"IF(A334=\"\",\"\",IF(Daten!D$6=Daten!N$11,Daten!M$11,IF(Daten!D$6=Daten!N$13,Daten!M$13,IF(AND(Daten!$D$6=Daten!$M$10,Daten!$D$8=TRUE),Daten!$M$14,Daten!D$6))))","v":""},{"$f":"IF($A334=\"\",\"\",IF(OR(O334=\"Putzbord\",O334=\"Flexila PU\"),Daten!$D$15,IF(OR(O334=\"Stehbord\",O334=\"Stehbord HB\",O334=\"Flexila STB\",O334=\"Jalousiebord\"),Daten!$D$19,\"-\")))","v":""},{"$f":"IF($A334=\"\",\"\",IF(O334=\"Putzbord\",Daten!$D$16,IF(O334=\"Flexila PU\",_xlfn.NUMBERVALUE(MID(Daten!$D$17,1,2)),\"-\")))","v":""},{"$f":"IF($A334=\"\",\"\",IF(OR(O334=\"Putzbord\",O334=\"Flexila PU\"),Daten!$D$18,IF(OR(O334=\"Stehbord\",O334=\"Stehbord HB\",O334=\"Flexila STB\",O334=\"Jalousiebord\"),Daten!$D$21,\"-\")))","v":""},{"$f":"IF(A334=\"\",\"\",IF(Daten!D$6=Daten!N$11,Daten!M$11,IF(Daten!D$6=Daten!N$13,Daten!M$13,IF(AND(Daten!$D$6=Daten!$M$10,Daten!$D$8=TRUE),Daten!$M$14,Daten!D$6))))","v":""},{"$f":"IF($A334=\"\",\"\",IF(OR(S334=\"Putzbord\",S334=\"Flexila PU\"),Daten!$D$15,IF(OR(S334=\"Stehbord\",S334=\"Stehbord HB\",S334=\"Flexila STB\",S334=\"Jalousiebord\"),Daten!$D$19,\"-\")))","v":""},{"$f":"IF($A334=\"\",\"\",IF(S334=\"Putzbord\",Daten!$D$16,IF(S334=\"Flexila PU\",_xlfn.NUMBERVALUE(MID(Daten!$D$17,1,2)),\"-\")))","v":""},{"$f":"IF($A334=\"\",\"\",IF(OR(S334=\"Putzbord\",S334=\"Flexila PU\"),Daten!$D$18,IF(OR(S334=\"Stehbord\",S334=\"Stehbord HB\",S334=\"Flexila STB\",S334=\"Jalousiebord\"),Daten!$D$21,\"-\")))","v":""},{"$f":"IF(A334=\"\",\"\",IF(AND(Daten!D$6=\"Jalousiebord\",OR(O334=\"Stehbord\",S334=\"Stehbord\")),\"Jalousienklinkung\",\"\"))","v":""},{"$f":"IF(W334=\"\",\"\",Daten!D$20)","v":""},null,null,{"$f":"IF(A334=\"\",\"\",IF(Daten!F$1=\"A\",\"Ohne\",IF(OR(N334=\"Gerstenkorn roh\",N334=\"Riffelblech roh\"),\"XPS\",Daten!F$2)))","v":""},{"$f":"IF(A334=\"\",\"\",IF(AA334=\"Ohne\",\"A\",IF(AA334=\"XPS\",IF(Daten!F$1=\"D\",\"B\",Daten!F$1),Daten!F$1)))","v":""},{"$f":"IF(A334=\"\",\"\",IF(AB334=\"A\",\"-\",Daten!F$7))","v":""},{"$f":"IF(A334=\"\",\"\",IF(AB334=\"A\",\"-\",IF(AND(Daten!F$8=0,O334=\"Putzbord\"),5-Q334,0)))","v":""},{"$f":"IF(A334=\"\",\"\",IF(AB334=\"A\",\"-\",IF(AND(Daten!F$8=0,S334=\"Putzbord\"),5-U334,0)))","v":""},{"$f":"IF(A334=\"\",\"\",IF(AB334=\"A\",\"-\",Daten!F$10))","v":""},{"$f":"IFERROR(IF(A334=\"\",\"\",VLOOKUP(N334,Daten!N$1:O$7,2,FALSE)),\"\")","v":""}]
[null,null,null,{"$f":"IF(A335=\"\",\"\",IF(Daten!B$3=TRUE,Daten!B$7,\"\"))","v":""},{"$f":"IFERROR(IF(C335=\"\",\"\",C335+(2*D335)+IF(O335=Daten!M$13,6,0)+IF(S335=Daten!M$13,6,0)+IF(Q335=\"-\",0,Q335)+IF(U335=\"-\",0,U335)),\"\")","v":""},{"$f":"IF(OR(A335=\"\",AND(F$1=0,Daten!F$3=FALSE)),\"\",Daten!B$6)","v":""},{"$f":"IF(A335=\"\",\"\",IF(Daten!B$5=\"??\",\"\",Daten!B$5))","v":""},{"$f":"IF(A335=\"\",\"\",IF(Daten!B$3=FALSE,\"\",Daten!B$4))","v":""},{"$f":"IFERROR(IF(A335=\"\",\"\",G335+H335+IF(AND(G335>0,H335>0),5,0))-IF(Daten!H$21=TRUE,H335,0),\"\")","v":""},{"$f":"IFERROR(IF(A335=\"\",\"\",I335+IF(Daten!H$21=TRUE,H335,0)+IF(F335=\"\",0,F335)-IF(Daten!F$3=TRUE,Daten!F$10,0)),\"\")","v":""},{"$f":"IF(A335=\"\",\"\",Daten!D$14)","v":""},{"$f":"IF(A335=\"\",\"\",Daten!D$12)","v":""},{"$f":"IF(A335=\"\",\"\",Daten!D$13)","v":""},{"$f":"IF(A335=\"\",\"\",Daten!M$2)","v":""},{"$f":"IF(A335=\"\",\"\",IF(Daten!D$6=Daten!N$11,Daten!M$11,IF(Daten!D$6=Daten!N$13,Daten!M$13,IF(AND(Daten!$D$6=Daten!$M$10,Daten!$D$8=TRUE),Daten!$M$14,Daten!D$6))))","v":""},{"$f":"IF($A335=\"\",\"\",IF(OR(O335=\"Putzbord\",O335=\"Flexila PU\"),Daten!$D$15,IF(OR(O335=\"Stehbord\",O335=\"Stehbord HB\",O335=\"Flexila STB\",O335=\"Jalousiebord\"),Daten!$D$19,\"-\")))","v":""},{"$f":"IF($A335=\"\",\"\",IF(O335=\"Putzbord\",Daten!$D$16,IF(O335=\"Flexila PU\",_xlfn.NUMBERVALUE(MID(Daten!$D$17,1,2)),\"-\")))","v":""},{"$f":"IF($A335=\"\",\"\",IF(OR(O335=\"Putzbord\",O335=\"Flexila PU\"),Daten!$D$18,IF(OR(O335=\"Stehbord\",O335=\"Stehbord HB\",O335=\"Flexila STB\",O335=\"Jalousiebord\"),Daten!$D$21,\"-\")))","v":""},{"$f":"IF(A335=\"\",\"\",IF(Daten!D$6=Daten!N$11,Daten!M$11,IF(Daten!D$6=Daten!N$13,Daten!M$13,IF(AND(Daten!$D$6=Daten!$M$10,Daten!$D$8=TRUE),Daten!$M$14,Daten!D$6))))","v":""},{"$f":"IF($A335=\"\",\"\",IF(OR(S335=\"Putzbord\",S335=\"Flexila PU\"),Daten!$D$15,IF(OR(S335=\"Stehbord\",S335=\"Stehbord HB\",S335=\"Flexila STB\",S335=\"Jalousiebord\"),Daten!$D$19,\"-\")))","v":""},{"$f":"IF($A335=\"\",\"\",IF(S335=\"Putzbord\",Daten!$D$16,IF(S335=\"Flexila PU\",_xlfn.NUMBERVALUE(MID(Daten!$D$17,1,2)),\"-\")))","v":""},{"$f":"IF($A335=\"\",\"\",IF(OR(S335=\"Putzbord\",S335=\"Flexila PU\"),Daten!$D$18,IF(OR(S335=\"Stehbord\",S335=\"Stehbord HB\",S335=\"Flexila STB\",S335=\"Jalousiebord\"),Daten!$D$21,\"-\")))","v":""},{"$f":"IF(A335=\"\",\"\",IF(AND(Daten!D$6=\"Jalousiebord\",OR(O335=\"Stehbord\",S335=\"Stehbord\")),\"Jalousienklinkung\",\"\"))","v":""},{"$f":"IF(W335=\"\",\"\",Daten!D$20)","v":""},null,null,{"$f":"IF(A335=\"\",\"\",IF(Daten!F$1=\"A\",\"Ohne\",IF(OR(N335=\"Gerstenkorn roh\",N335=\"Riffelblech roh\"),\"XPS\",Daten!F$2)))","v":""},{"$f":"IF(A335=\"\",\"\",IF(AA335=\"Ohne\",\"A\",IF(AA335=\"XPS\",IF(Daten!F$1=\"D\",\"B\",Daten!F$1),Daten!F$1)))","v":""},{"$f":"IF(A335=\"\",\"\",IF(AB335=\"A\",\"-\",Daten!F$7))","v":""},{"$f":"IF(A335=\"\",\"\",IF(AB335=\"A\",\"-\",IF(AND(Daten!F$8=0,O335=\"Putzbord\"),5-Q335,0)))","v":""},{"$f":"IF(A335=\"\",\"\",IF(AB335=\"A\",\"-\",IF(AND(Daten!F$8=0,S335=\"Putzbord\"),5-U335,0)))","v":""},{"$f":"IF(A335=\"\",\"\",IF(AB335=\"A\",\"-\",Daten!F$10))","v":""},{"$f":"IFERROR(IF(A335=\"\",\"\",VLOOKUP(N335,Daten!N$1:O$7,2,FALSE)),\"\")","v":""}]
[null,null,null,{"$f":"IF(A336=\"\",\"\",IF(Daten!B$3=TRUE,Daten!B$7,\"\"))","v":""},{"$f":"IFERROR(IF(C336=\"\",\"\",C336+(2*D336)+IF(O336=Daten!M$13,6,0)+IF(S336=Daten!M$13,6,0)+IF(Q336=\"-\",0,Q336)+IF(U336=\"-\",0,U336)),\"\")","v":""},{"$f":"IF(OR(A336=\"\",AND(F$1=0,Daten!F$3=FALSE)),\"\",Daten!B$6)","v":""},{"$f":"IF(A336=\"\",\"\",IF(Daten!B$5=\"??\",\"\",Daten!B$5))","v":""},{"$f":"IF(A336=\"\",\"\",IF(Daten!B$3=FALSE,\"\",Daten!B$4))","v":""},{"$f":"IFERROR(IF(A336=\"\",\"\",G336+H336+IF(AND(G336>0,H336>0),5,0))-IF(Daten!H$21=TRUE,H336,0),\"\")","v":""},{"$f":"IFERROR(IF(A336=\"\",\"\",I336+IF(Daten!H$21=TRUE,H336,0)+IF(F336=\"\",0,F336)-IF(Daten!F$3=TRUE,Daten!F$10,0)),\"\")","v":""},{"$f":"IF(A336=\"\",\"\",Daten!D$14)","v":""},{"$f":"IF(A336=\"\",\"\",Daten!D$12)","v":""},{"$f":"IF(A336=\"\",\"\",Daten!D$13)","v":""},{"$f":"IF(A336=\"\",\"\",Daten!M$2)","v":""},{"$f":"IF(A336=\"\",\"\",IF(Daten!D$6=Daten!N$11,Daten!M$11,IF(Daten!D$6=Daten!N$13,Daten!M$13,IF(AND(Daten!$D$6=Daten!$M$10,Daten!$D$8=TRUE),Daten!$M$14,Daten!D$6))))","v":""},{"$f":"IF($A336=\"\",\"\",IF(OR(O336=\"Putzbord\",O336=\"Flexila PU\"),Daten!$D$15,IF(OR(O336=\"Stehbord\",O336=\"Stehbord HB\",O336=\"Flexila STB\",O336=\"Jalousiebord\"),Daten!$D$19,\"-\")))","v":""},{"$f":"IF($A336=\"\",\"\",IF(O336=\"Putzbord\",Daten!$D$16,IF(O336=\"Flexila PU\",_xlfn.NUMBERVALUE(MID(Daten!$D$17,1,2)),\"-\")))","v":""},{"$f":"IF($A336=\"\",\"\",IF(OR(O336=\"Putzbord\",O336=\"Flexila PU\"),Daten!$D$18,IF(OR(O336=\"Stehbord\",O336=\"Stehbord HB\",O336=\"Flexila STB\",O336=\"Jalousiebord\"),Daten!$D$21,\"-\")))","v":""},{"$f":"IF(A336=\"\",\"\",IF(Daten!D$6=Daten!N$11,Daten!M$11,IF(Daten!D$6=Daten!N$13,Daten!M$13,IF(AND(Daten!$D$6=Daten!$M$10,Daten!$D$8=TRUE),Daten!$M$14,Daten!D$6))))","v":""},{"$f":"IF($A336=\"\",\"\",IF(OR(S336=\"Putzbord\",S336=\"Flexila PU\"),Daten!$D$15,IF(OR(S336=\"Stehbord\",S336=\"Stehbord HB\",S336=\"Flexila STB\",S336=\"Jalousiebord\"),Daten!$D$19,\"-\")))","v":""},{"$f":"IF($A336=\"\",\"\",IF(S336=\"Putzbord\",Daten!$D$16,IF(S336=\"Flexila PU\",_xlfn.NUMBERVALUE(MID(Daten!$D$17,1,2)),\"-\")))","v":""},{"$f":"IF($A336=\"\",\"\",IF(OR(S336=\"Putzbord\",S336=\"Flexila PU\"),Daten!$D$18,IF(OR(S336=\"Stehbord\",S336=\"Stehbord HB\",S336=\"Flexila STB\",S336=\"Jalousiebord\"),Daten!$D$21,\"-\")))","v":""},{"$f":"IF(A336=\"\",\"\",IF(AND(Daten!D$6=\"Jalousiebord\",OR(O336=\"Stehbord\",S336=\"Stehbord\")),\"Jalousienklinkung\",\"\"))","v":""},{"$f":"IF(W336=\"\",\"\",Daten!D$20)","v":""},null,null,{"$f":"IF(A336=\"\",\"\",IF(Daten!F$1=\"A\",\"Ohne\",IF(OR(N336=\"Gerstenkorn roh\",N336=\"Riffelblech roh\"),\"XPS\",Daten!F$2)))","v":""},{"$f":"IF(A336=\"\",\"\",IF(AA336=\"Ohne\",\"A\",IF(AA336=\"XPS\",IF(Daten!F$1=\"D\",\"B\",Daten!F$1),Daten!F$1)))","v":""},{"$f":"IF(A336=\"\",\"\",IF(AB336=\"A\",\"-\",Daten!F$7))","v":""},{"$f":"IF(A336=\"\",\"\",IF(AB336=\"A\",\"-\",IF(AND(Daten!F$8=0,O336=\"Putzbord\"),5-Q336,0)))","v":""},{"$f":"IF(A336=\"\",\"\",IF(AB336=\"A\",\"-\",IF(AND(Daten!F$8=0,S336=\"Putzbord\"),5-U336,0)))","v":""},{"$f":"IF(A336=\"\",\"\",IF(AB336=\"A\",\"-\",Daten!F$10))","v":""},{"$f":"IFERROR(IF(A336=\"\",\"\",VLOOKUP(N336,Daten!N$1:O$7,2,FALSE)),\"\")","v":""}]
[null,null,null,{"$f":"IF(A337=\"\",\"\",IF(Daten!B$3=TRUE,Daten!B$7,\"\"))","v":""},{"$f":"IFERROR(IF(C337=\"\",\"\",C337+(2*D337)+IF(O337=Daten!M$13,6,0)+IF(S337=Daten!M$13,6,0)+IF(Q337=\"-\",0,Q337)+IF(U337=\"-\",0,U337)),\"\")","v":""},{"$f":"IF(OR(A337=\"\",AND(F$1=0,Daten!F$3=FALSE)),\"\",Daten!B$6)","v":""},{"$f":"IF(A337=\"\",\"\",IF(Daten!B$5=\"??\",\"\",Daten!B$5))","v":""},{"$f":"IF(A337=\"\",\"\",IF(Daten!B$3=FALSE,\"\",Daten!B$4))","v":""},{"$f":"IFERROR(IF(A337=\"\",\"\",G337+H337+IF(AND(G337>0,H337>0),5,0))-IF(Daten!H$21=TRUE,H337,0),\"\")","v":""},{"$f":"IFERROR(IF(A337=\"\",\"\",I337+IF(Daten!H$21=TRUE,H337,0)+IF(F337=\"\",0,F337)-IF(Daten!F$3=TRUE,Daten!F$10,0)),\"\")","v":""},{"$f":"IF(A337=\"\",\"\",Daten!D$14)","v":""},{"$f":"IF(A337=\"\",\"\",Daten!D$12)","v":""},{"$f":"IF(A337=\"\",\"\",Daten!D$13)","v":""},{"$f":"IF(A337=\"\",\"\",Daten!M$2)","v":""},{"$f":"IF(A337=\"\",\"\",IF(Daten!D$6=Daten!N$11,Daten!M$11,IF(Daten!D$6=Daten!N$13,Daten!M$13,IF(AND(Daten!$D$6=Daten!$M$10,Daten!$D$8=TRUE),Daten!$M$14,Daten!D$6))))","v":""},{"$f":"IF($A337=\"\",\"\",IF(OR(O337=\"Putzbord\",O337=\"Flexila PU\"),Daten!$D$15,IF(OR(O337=\"Stehbord\",O337=\"Stehbord HB\",O337=\"Flexila STB\",O337=\"Jalousiebord\"),Daten!$D$19,\"-\")))","v":""},{"$f":"IF($A337=\"\",\"\",IF(O337=\"Putzbord\",Daten!$D$16,IF(O337=\"Flexila PU\",_xlfn.NUMBERVALUE(MID(Daten!$D$17,1,2)),\"-\")))","v":""},{"$f":"IF($A337=\"\",\"\",IF(OR(O337=\"Putzbord\",O337=\"Flexila PU\"),Daten!$D$18,IF(OR(O337=\"Stehbord\",O337=\"Stehbord HB\",O337=\"Flexila STB\",O337=\"Jalousiebord\"),Daten!$D$21,\"-\")))","v":""},{"$f":"IF(A337=\"\",\"\",IF(Daten!D$6=Daten!N$11,Daten!M$11,IF(Daten!D$6=Daten!N$13,Daten!M$13,IF(AND(Daten!$D$6=Daten!$M$10,Daten!$D$8=TRUE),Daten!$M$14,Daten!D$6))))","v":""},{"$f":"IF($A337=\"\",\"\",IF(OR(S337=\"Putzbord\",S337=\"Flexila PU\"),Daten!$D$15,IF(OR(S337=\"Stehbord\",S337=\"Stehbord HB\",S337=\"Flexila STB\",S337=\"Jalousiebord\"),Daten!$D$19,\"-\")))","v":""},{"$f":"IF($A337=\"\",\"\",IF(S337=\"Putzbord\",Daten!$D$16,IF(S337=\"Flexila PU\",_xlfn.NUMBERVALUE(MID(Daten!$D$17,1,2)),\"-\")))","v":""},{"$f":"IF($A337=\"\",\"\",IF(OR(S337=\"Putzbord\",S337=\"Flexila PU\"),Daten!$D$18,IF(OR(S337=\"Stehbord\",S337=\"Stehbord HB\",S337=\"Flexila STB\",S337=\"Jalousiebord\"),Daten!$D$21,\"-\")))","v":""},{"$f":"IF(A337=\"\",\"\",IF(AND(Daten!D$6=\"Jalousiebord\",OR(O337=\"Stehbord\",S337=\"Stehbord\")),\"Jalousienklinkung\",\"\"))","v":""},{"$f":"IF(W337=\"\",\"\",Daten!D$20)","v":""},null,null,{"$f":"IF(A337=\"\",\"\",IF(Daten!F$1=\"A\",\"Ohne\",IF(OR(N337=\"Gerstenkorn roh\",N337=\"Riffelblech roh\"),\"XPS\",Daten!F$2)))","v":""},{"$f":"IF(A337=\"\",\"\",IF(AA337=\"Ohne\",\"A\",IF(AA337=\"XPS\",IF(Daten!F$1=\"D\",\"B\",Daten!F$1),Daten!F$1)))","v":""},{"$f":"IF(A337=\"\",\"\",IF(AB337=\"A\",\"-\",Daten!F$7))","v":""},{"$f":"IF(A337=\"\",\"\",IF(AB337=\"A\",\"-\",IF(AND(Daten!F$8=0,O337=\"Putzbord\"),5-Q337,0)))","v":""},{"$f":"IF(A337=\"\",\"\",IF(AB337=\"A\",\"-\",IF(AND(Daten!F$8=0,S337=\"Putzbord\"),5-U337,0)))","v":""},{"$f":"IF(A337=\"\",\"\",IF(AB337=\"A\",\"-\",Daten!F$10))","v":""},{"$f":"IFERROR(IF(A337=\"\",\"\",VLOOKUP(N337,Daten!N$1:O$7,2,FALSE)),\"\")","v":""}]
[null,null,null,{"$f":"IF(A338=\"\",\"\",IF(Daten!B$3=TRUE,Daten!B$7,\"\"))","v":""},{"$f":"IFERROR(IF(C338=\"\",\"\",C338+(2*D338)+IF(O338=Daten!M$13,6,0)+IF(S338=Daten!M$13,6,0)+IF(Q338=\"-\",0,Q338)+IF(U338=\"-\",0,U338)),\"\")","v":""},{"$f":"IF(OR(A338=\"\",AND(F$1=0,Daten!F$3=FALSE)),\"\",Daten!B$6)","v":""},{"$f":"IF(A338=\"\",\"\",IF(Daten!B$5=\"??\",\"\",Daten!B$5))","v":""},{"$f":"IF(A338=\"\",\"\",IF(Daten!B$3=FALSE,\"\",Daten!B$4))","v":""},{"$f":"IFERROR(IF(A338=\"\",\"\",G338+H338+IF(AND(G338>0,H338>0),5,0))-IF(Daten!H$21=TRUE,H338,0),\"\")","v":""},{"$f":"IFERROR(IF(A338=\"\",\"\",I338+IF(Daten!H$21=TRUE,H338,0)+IF(F338=\"\",0,F338)-IF(Daten!F$3=TRUE,Daten!F$10,0)),\"\")","v":""},{"$f":"IF(A338=\"\",\"\",Daten!D$14)","v":""},{"$f":"IF(A338=\"\",\"\",Daten!D$12)","v":""},{"$f":"IF(A338=\"\",\"\",Daten!D$13)","v":""},{"$f":"IF(A338=\"\",\"\",Daten!M$2)","v":""},{"$f":"IF(A338=\"\",\"\",IF(Daten!D$6=Daten!N$11,Daten!M$11,IF(Daten!D$6=Daten!N$13,Daten!M$13,IF(AND(Daten!$D$6=Daten!$M$10,Daten!$D$8=TRUE),Daten!$M$14,Daten!D$6))))","v":""},{"$f":"IF($A338=\"\",\"\",IF(OR(O338=\"Putzbord\",O338=\"Flexila PU\"),Daten!$D$15,IF(OR(O338=\"Stehbord\",O338=\"Stehbord HB\",O338=\"Flexila STB\",O338=\"Jalousiebord\"),Daten!$D$19,\"-\")))","v":""},{"$f":"IF($A338=\"\",\"\",IF(O338=\"Putzbord\",Daten!$D$16,IF(O338=\"Flexila PU\",_xlfn.NUMBERVALUE(MID(Daten!$D$17,1,2)),\"-\")))","v":""},{"$f":"IF($A338=\"\",\"\",IF(OR(O338=\"Putzbord\",O338=\"Flexila PU\"),Daten!$D$18,IF(OR(O338=\"Stehbord\",O338=\"Stehbord HB\",O338=\"Flexila STB\",O338=\"Jalousiebord\"),Daten!$D$21,\"-\")))","v":""},{"$f":"IF(A338=\"\",\"\",IF(Daten!D$6=Daten!N$11,Daten!M$11,IF(Daten!D$6=Daten!N$13,Daten!M$13,IF(AND(Daten!$D$6=Daten!$M$10,Daten!$D$8=TRUE),Daten!$M$14,Daten!D$6))))","v":""},{"$f":"IF($A338=\"\",\"\",IF(OR(S338=\"Putzbord\",S338=\"Flexila PU\"),Daten!$D$15,IF(OR(S338=\"Stehbord\",S338=\"Stehbord HB\",S338=\"Flexila STB\",S338=\"Jalousiebord\"),Daten!$D$19,\"-\")))","v":""},{"$f":"IF($A338=\"\",\"\",IF(S338=\"Putzbord\",Daten!$D$16,IF(S338=\"Flexila PU\",_xlfn.NUMBERVALUE(MID(Daten!$D$17,1,2)),\"-\")))","v":""},{"$f":"IF($A338=\"\",\"\",IF(OR(S338=\"Putzbord\",S338=\"Flexila PU\"),Daten!$D$18,IF(OR(S338=\"Stehbord\",S338=\"Stehbord HB\",S338=\"Flexila STB\",S338=\"Jalousiebord\"),Daten!$D$21,\"-\")))","v":""},{"$f":"IF(A338=\"\",\"\",IF(AND(Daten!D$6=\"Jalousiebord\",OR(O338=\"Stehbord\",S338=\"Stehbord\")),\"Jalousienklinkung\",\"\"))","v":""},{"$f":"IF(W338=\"\",\"\",Daten!D$20)","v":""},null,null,{"$f":"IF(A338=\"\",\"\",IF(Daten!F$1=\"A\",\"Ohne\",IF(OR(N338=\"Gerstenkorn roh\",N338=\"Riffelblech roh\"),\"XPS\",Daten!F$2)))","v":""},{"$f":"IF(A338=\"\",\"\",IF(AA338=\"Ohne\",\"A\",IF(AA338=\"XPS\",IF(Daten!F$1=\"D\",\"B\",Daten!F$1),Daten!F$1)))","v":""},{"$f":"IF(A338=\"\",\"\",IF(AB338=\"A\",\"-\",Daten!F$7))","v":""},{"$f":"IF(A338=\"\",\"\",IF(AB338=\"A\",\"-\",IF(AND(Daten!F$8=0,O338=\"Putzbord\"),5-Q338,0)))","v":""},{"$f":"IF(A338=\"\",\"\",IF(AB338=\"A\",\"-\",IF(AND(Daten!F$8=0,S338=\"Putzbord\"),5-U338,0)))","v":""},{"$f":"IF(A338=\"\",\"\",IF(AB338=\"A\",\"-\",Daten!F$10))","v":""},{"$f":"IFERROR(IF(A338=\"\",\"\",VLOOKUP(N338,Daten!N$1:O$7,2,FALSE)),\"\")","v":""}]
[null,null,null,{"$f":"IF(A339=\"\",\"\",IF(Daten!B$3=TRUE,Daten!B$7,\"\"))","v":""},{"$f":"IFERROR(IF(C339=\"\",\"\",C339+(2*D339)+IF(O339=Daten!M$13,6,0)+IF(S339=Daten!M$13,6,0)+IF(Q339=\"-\",0,Q339)+IF(U339=\"-\",0,U339)),\"\")","v":""},{"$f":"IF(OR(A339=\"\",AND(F$1=0,Daten!F$3=FALSE)),\"\",Daten!B$6)","v":""},{"$f":"IF(A339=\"\",\"\",IF(Daten!B$5=\"??\",\"\",Daten!B$5))","v":""},{"$f":"IF(A339=\"\",\"\",IF(Daten!B$3=FALSE,\"\",Daten!B$4))","v":""},{"$f":"IFERROR(IF(A339=\"\",\"\",G339+H339+IF(AND(G339>0,H339>0),5,0))-IF(Daten!H$21=TRUE,H339,0),\"\")","v":""},{"$f":"IFERROR(IF(A339=\"\",\"\",I339+IF(Daten!H$21=TRUE,H339,0)+IF(F339=\"\",0,F339)-IF(Daten!F$3=TRUE,Daten!F$10,0)),\"\")","v":""},{"$f":"IF(A339=\"\",\"\",Daten!D$14)","v":""},{"$f":"IF(A339=\"\",\"\",Daten!D$12)","v":""},{"$f":"IF(A339=\"\",\"\",Daten!D$13)","v":""},{"$f":"IF(A339=\"\",\"\",Daten!M$2)","v":""},{"$f":"IF(A339=\"\",\"\",IF(Daten!D$6=Daten!N$11,Daten!M$11,IF(Daten!D$6=Daten!N$13,Daten!M$13,IF(AND(Daten!$D$6=Daten!$M$10,Daten!$D$8=TRUE),Daten!$M$14,Daten!D$6))))","v":""},{"$f":"IF($A339=\"\",\"\",IF(OR(O339=\"Putzbord\",O339=\"Flexila PU\"),Daten!$D$15,IF(OR(O339=\"Stehbord\",O339=\"Stehbord HB\",O339=\"Flexila STB\",O339=\"Jalousiebord\"),Daten!$D$19,\"-\")))","v":""},{"$f":"IF($A339=\"\",\"\",IF(O339=\"Putzbord\",Daten!$D$16,IF(O339=\"Flexila PU\",_xlfn.NUMBERVALUE(MID(Daten!$D$17,1,2)),\"-\")))","v":""},{"$f":"IF($A339=\"\",\"\",IF(OR(O339=\"Putzbord\",O339=\"Flexila PU\"),Daten!$D$18,IF(OR(O339=\"Stehbord\",O339=\"Stehbord HB\",O339=\"Flexila STB\",O339=\"Jalousiebord\"),Daten!$D$21,\"-\")))","v":""},{"$f":"IF(A339=\"\",\"\",IF(Daten!D$6=Daten!N$11,Daten!M$11,IF(Daten!D$6=Daten!N$13,Daten!M$13,IF(AND(Daten!$D$6=Daten!$M$10,Daten!$D$8=TRUE),Daten!$M$14,Daten!D$6))))","v":""},{"$f":"IF($A339=\"\",\"\",IF(OR(S339=\"Putzbord\",S339=\"Flexila PU\"),Daten!$D$15,IF(OR(S339=\"Stehbord\",S339=\"Stehbord HB\",S339=\"Flexila STB\",S339=\"Jalousiebord\"),Daten!$D$19,\"-\")))","v":""},{"$f":"IF($A339=\"\",\"\",IF(S339=\"Putzbord\",Daten!$D$16,IF(S339=\"Flexila PU\",_xlfn.NUMBERVALUE(MID(Daten!$D$17,1,2)),\"-\")))","v":""},{"$f":"IF($A339=\"\",\"\",IF(OR(S339=\"Putzbord\",S339=\"Flexila PU\"),Daten!$D$18,IF(OR(S339=\"Stehbord\",S339=\"Stehbord HB\",S339=\"Flexila STB\",S339=\"Jalousiebord\"),Daten!$D$21,\"-\")))","v":""},{"$f":"IF(A339=\"\",\"\",IF(AND(Daten!D$6=\"Jalousiebord\",OR(O339=\"Stehbord\",S339=\"Stehbord\")),\"Jalousienklinkung\",\"\"))","v":""},{"$f":"IF(W339=\"\",\"\",Daten!D$20)","v":""},null,null,{"$f":"IF(A339=\"\",\"\",IF(Daten!F$1=\"A\",\"Ohne\",IF(OR(N339=\"Gerstenkorn roh\",N339=\"Riffelblech roh\"),\"XPS\",Daten!F$2)))","v":""},{"$f":"IF(A339=\"\",\"\",IF(AA339=\"Ohne\",\"A\",IF(AA339=\"XPS\",IF(Daten!F$1=\"D\",\"B\",Daten!F$1),Daten!F$1)))","v":""},{"$f":"IF(A339=\"\",\"\",IF(AB339=\"A\",\"-\",Daten!F$7))","v":""},{"$f":"IF(A339=\"\",\"\",IF(AB339=\"A\",\"-\",IF(AND(Daten!F$8=0,O339=\"Putzbord\"),5-Q339,0)))","v":""},{"$f":"IF(A339=\"\",\"\",IF(AB339=\"A\",\"-\",IF(AND(Daten!F$8=0,S339=\"Putzbord\"),5-U339,0)))","v":""},{"$f":"IF(A339=\"\",\"\",IF(AB339=\"A\",\"-\",Daten!F$10))","v":""},{"$f":"IFERROR(IF(A339=\"\",\"\",VLOOKUP(N339,Daten!N$1:O$7,2,FALSE)),\"\")","v":""}]
[null,null,null,{"$f":"IF(A340=\"\",\"\",IF(Daten!B$3=TRUE,Daten!B$7,\"\"))","v":""},{"$f":"IFERROR(IF(C340=\"\",\"\",C340+(2*D340)+IF(O340=Daten!M$13,6,0)+IF(S340=Daten!M$13,6,0)+IF(Q340=\"-\",0,Q340)+IF(U340=\"-\",0,U340)),\"\")","v":""},{"$f":"IF(OR(A340=\"\",AND(F$1=0,Daten!F$3=FALSE)),\"\",Daten!B$6)","v":""},{"$f":"IF(A340=\"\",\"\",IF(Daten!B$5=\"??\",\"\",Daten!B$5))","v":""},{"$f":"IF(A340=\"\",\"\",IF(Daten!B$3=FALSE,\"\",Daten!B$4))","v":""},{"$f":"IFERROR(IF(A340=\"\",\"\",G340+H340+IF(AND(G340>0,H340>0),5,0))-IF(Daten!H$21=TRUE,H340,0),\"\")","v":""},{"$f":"IFERROR(IF(A340=\"\",\"\",I340+IF(Daten!H$21=TRUE,H340,0)+IF(F340=\"\",0,F340)-IF(Daten!F$3=TRUE,Daten!F$10,0)),\"\")","v":""},{"$f":"IF(A340=\"\",\"\",Daten!D$14)","v":""},{"$f":"IF(A340=\"\",\"\",Daten!D$12)","v":""},{"$f":"IF(A340=\"\",\"\",Daten!D$13)","v":""},{"$f":"IF(A340=\"\",\"\",Daten!M$2)","v":""},{"$f":"IF(A340=\"\",\"\",IF(Daten!D$6=Daten!N$11,Daten!M$11,IF(Daten!D$6=Daten!N$13,Daten!M$13,IF(AND(Daten!$D$6=Daten!$M$10,Daten!$D$8=TRUE),Daten!$M$14,Daten!D$6))))","v":""},{"$f":"IF($A340=\"\",\"\",IF(OR(O340=\"Putzbord\",O340=\"Flexila PU\"),Daten!$D$15,IF(OR(O340=\"Stehbord\",O340=\"Stehbord HB\",O340=\"Flexila STB\",O340=\"Jalousiebord\"),Daten!$D$19,\"-\")))","v":""},{"$f":"IF($A340=\"\",\"\",IF(O340=\"Putzbord\",Daten!$D$16,IF(O340=\"Flexila PU\",_xlfn.NUMBERVALUE(MID(Daten!$D$17,1,2)),\"-\")))","v":""},{"$f":"IF($A340=\"\",\"\",IF(OR(O340=\"Putzbord\",O340=\"Flexila PU\"),Daten!$D$18,IF(OR(O340=\"Stehbord\",O340=\"Stehbord HB\",O340=\"Flexila STB\",O340=\"Jalousiebord\"),Daten!$D$21,\"-\")))","v":""},{"$f":"IF(A340=\"\",\"\",IF(Daten!D$6=Daten!N$11,Daten!M$11,IF(Daten!D$6=Daten!N$13,Daten!M$13,IF(AND(Daten!$D$6=Daten!$M$10,Daten!$D$8=TRUE),Daten!$M$14,Daten!D$6))))","v":""},{"$f":"IF($A340=\"\",\"\",IF(OR(S340=\"Putzbord\",S340=\"Flexila PU\"),Daten!$D$15,IF(OR(S340=\"Stehbord\",S340=\"Stehbord HB\",S340=\"Flexila STB\",S340=\"Jalousiebord\"),Daten!$D$19,\"-\")))","v":""},{"$f":"IF($A340=\"\",\"\",IF(S340=\"Putzbord\",Daten!$D$16,IF(S340=\"Flexila PU\",_xlfn.NUMBERVALUE(MID(Daten!$D$17,1,2)),\"-\")))","v":""},{"$f":"IF($A340=\"\",\"\",IF(OR(S340=\"Putzbord\",S340=\"Flexila PU\"),Daten!$D$18,IF(OR(S340=\"Stehbord\",S340=\"Stehbord HB\",S340=\"Flexila STB\",S340=\"Jalousiebord\"),Daten!$D$21,\"-\")))","v":""},{"$f":"IF(A340=\"\",\"\",IF(AND(Daten!D$6=\"Jalousiebord\",OR(O340=\"Stehbord\",S340=\"Stehbord\")),\"Jalousienklinkung\",\"\"))","v":""},{"$f":"IF(W340=\"\",\"\",Daten!D$20)","v":""},null,null,{"$f":"IF(A340=\"\",\"\",IF(Daten!F$1=\"A\",\"Ohne\",IF(OR(N340=\"Gerstenkorn roh\",N340=\"Riffelblech roh\"),\"XPS\",Daten!F$2)))","v":""},{"$f":"IF(A340=\"\",\"\",IF(AA340=\"Ohne\",\"A\",IF(AA340=\"XPS\",IF(Daten!F$1=\"D\",\"B\",Daten!F$1),Daten!F$1)))","v":""},{"$f":"IF(A340=\"\",\"\",IF(AB340=\"A\",\"-\",Daten!F$7))","v":""},{"$f":"IF(A340=\"\",\"\",IF(AB340=\"A\",\"-\",IF(AND(Daten!F$8=0,O340=\"Putzbord\"),5-Q340,0)))","v":""},{"$f":"IF(A340=\"\",\"\",IF(AB340=\"A\",\"-\",IF(AND(Daten!F$8=0,S340=\"Putzbord\"),5-U340,0)))","v":""},{"$f":"IF(A340=\"\",\"\",IF(AB340=\"A\",\"-\",Daten!F$10))","v":""},{"$f":"IFERROR(IF(A340=\"\",\"\",VLOOKUP(N340,Daten!N$1:O$7,2,FALSE)),\"\")","v":""}]

{"sheet":"Zusammenfassung","index":1,"n_rows":340,"n_cols":50,"rows_kept":340,"cut":false,"hidden":true,"merged":[[0,37,0,38],[0,39,0,40],[0,41,0,42],[0,43,0,44]]}
[null,null,null,null,null,null,null,null,null,null,null,null,15,15,null,null,null,null,null,null,15,25,15,25,null,15,25,15,25,null,null,null,null,null,null,null,null,"elox",null,"pulverb",null,"elox",null,"pulverb"]
[null,null,550,null,null,null,null,null,null,null,null,null,27,37,"Spez.",24,"spez",40,"spez.",null,27,27,27,27,"spez.",27,27,27,27,"spez.",65,65,65,65,null,null,null,300,500,300,500,300,500,300,500,{"$f":"SUM(AT5:AT340)","v":0},{"$f":"ROUNDUP(D4/10,0)","v":0}]
["Positionen","Anzahl","Abwicklung","Laufmeter","Dilas","Oberfläche","ISO Typ","Mass B","Material","Dämmstärke","Mass C","AD","Putzbord","Putzbord","Putzbord","Stehbord","Stehbord","Stehbord HB","Stehbord HB","Ausklink hinten","Flexila PU","Flexila PU","Flexila PU","Flexila PU","Flexila PU","Flexila PU","Flexila PU","Flexila PU","Flexila PU","Flexila PU","Flexila STB","Flexila STB","Flexila STB","Flexila STB","Boden","Boden","Ohne","Dila lose","Dila lose","Dila lose","Dila lose","Dila geklebt","Dila geklebt","Dila geklebt","Dila geklebt","Befestigungbügel","Dichtungsband lose","Dichtungsband geklebt","Dichtungsband F-SEC","Auf Anfrage"]
[{"$f":"SUM(A5:A340)","v":0},{"$f":"SUM(B5:B340)","v":0},"-",{"$f":"ROUND(SUM(D5:D340)/1000,1)","v":0},null,null,null,null,null,null,null,null,{"$f":"SUMIFS(Eingabeliste!$B$5:$B$340,Eingabeliste!$O$5:$O$340,M$3,Eingabeliste!$Q$5:$Q$340,M$1,Eingabeliste!$P$5:$P$340,M$2)+SUMIFS(Eingabeliste!$B$5:$B$340,Eingabeliste!$S$5:$S$340,M$3,Eingabeliste!$U$5:$U$340,M$1,Eingabeliste!$T$5:$T$340,M$2)","v":0},{"$f":"SUMIFS(Eingabeliste!$B$5:$B$340,Eingabeliste!$O$5:$O$340,N$3,Eingabeliste!$Q$5:$Q$340,N$1,Eingabeliste!$P$5:$P$340,N$2)+SUMIFS(Eingabeliste!$B$5:$B$340,Eingabeliste!$S$5:$S$340,N$3,Eingabeliste!$U$5:$U$340,N$1,Eingabeliste!$T$5:$T$340,N$2)","v":0},{"$f":"SUMIFS(Eingabeliste!$B$5:$B$340,Eingabeliste!$O$5:$O$340,O$3)+SUMIFS(Eingabeliste!$B$5:$B$340,Eingabeliste!$S$5:$S$340,O$3)-M4-N4","v":0},{"$f":"SUMIFS(Eingabeliste!$B$5:$B$340,Eingabeliste!$O$5:$O$340,P$3,Eingabeliste!$P$5:$P$340,P$2)+SUMIFS(Eingabeliste!$B$5:$B$340,Eingabeliste!$S$5:$S$340,P$3,Eingabeliste!$T$5:$T$340,P$2)","v":0},{"$f":"SUMIFS(Eingabeliste!$B$5:$B$340,Eingabeliste!$O$5:$O$340,Q$3)+SUMIFS(Eingabeliste!$B$5:$B$340,Eingabeliste!$S$5:$S$340,Q$3)-P4","v":0},{"$f":"SUMIFS(Eingabeliste!$B$5:$B$340,Eingabeliste!$O$5:$O$340,R$3,Eingabeliste!$P$5:$P$340,R$2)+SUMIFS(Eingabeliste!$B$5:$B$340,Eingabeliste!$S$5:$S$340,R$3,Eingabeliste!$T$5:$T$340,R$2)","v":0},{"$f":"SUMIFS(Eingabeliste!$B$5:$B$340,Eingabeliste!$O$5:$O$340,S$3)+SUMIFS(Eingabeliste!$B$5:$B$340,Eingabeliste!$S$5:$S$340,S$3)-R4","v":0},{"$f":"IF(Daten!D10=FALSE,0,SUM(M4:S4))","v":0},{"$f":"SUMIFS(Eingabeliste!$B$5:$B$340,Eingabeliste!$O$5:$O$340,U$3,Eingabeliste!$Q$5:$Q$340,U$1,Eingabeliste!$P$5:$P$340,U$2,Eingabeliste!$J$5:$J$340,\"<=300\",$F$5:$F$340,\"Pulverbeschichtet\")+SUMIFS(Eingabeliste!$B$5:$B$340,Eingabeliste!$S$5:$S$340,U$3,Eingabeliste!$U$5:$U$340,U$1,Eingabeliste!$T$5:$T$340,U$2,Eingabeliste!$J$5:$J$340,\"<=300\",$F$5:$F$340,\"Pulverbeschichtet\")","v":0},{"$f":"SUMIFS(Eingabeliste!$B$5:$B$340,Eingabeliste!$O$5:$O$340,V$3,Eingabeliste!$Q$5:$Q$340,V$1,Eingabeliste!$P$5:$P$340,V$2,Eingabeliste!$J$5:$J$340,\"<=300\",$F$5:$F$340,\"Pulverbeschichtet\")+SUMIFS(Eingabeliste!$B$5:$B$340,Eingabeliste!$S$5:$S$340,V$3,Eingabeliste!$U$5:$U$340,V$1,Eingabeliste!$T$5:$T$340,V$2,Eingabeliste!$J$5:$J$340,\"<=300\",$F$5:$F$340,\"Pulverbeschichtet\")","v":0},{"$f":"SUMIFS(Eingabeliste!$B$5:$B$340,Eingabeliste!$O$5:$O$340,W$3,Eingabeliste!$Q$5:$Q$340,W$1,Eingabeliste!$P$5:$P$340,W$2,Eingabeliste!$J$5:$J$340,\">300\",$F$5:$F$340,\"Pulverbeschichtet\")+SUMIFS(Eingabeliste!$B$5:$B$340,Eingabeliste!$S$5:$S$340,W$3,Eingabeliste!$U$5:$U$340,W$1,Eingabeliste!$T$5:$T$340,W$2,Eingabeliste!$J$5:$J$340,\">300\",$F$5:$F$340,\"Pulverbeschichtet\")","v":0},{"$f":"SUMIFS(Eingabeliste!$B$5:$B$340,Eingabeliste!$O$5:$O$340,X$3,Eingabeliste!$Q$5:$Q$340,X$1,Eingabeliste!$P$5:$P$340,X$2,Eingabeliste!$J$5:$J$340,\">300\",$F$5:$F$340,\"Pulverbeschichtet\")+SUMIFS(Eingabeliste!$B$5:$B$340,Eingabeliste!$S$5:$S$340,X$3,Eingabeliste!$U$5:$U$340,X$1,Eingabeliste!$T$5:$T$340,X$2,Eingabeliste!$J$5:$J$340,\">300\",$F$5:$F$340,\"Pulverbeschichtet\")","v":0},{"$f":"SUMIFS(Eingabeliste!$B$5:$B$340,Eingabeliste!$O$5:$O$340,Y$3,$F$5:$F$340,\"Pulverbeschichtet\")+SUMIFS(Eingabeliste!$B$5:$B$340,Eingabeliste!$S$5:$S$340,Y$3,$F$5:$F$340,\"Pulverbeschichtet\")-SUM(U4:X4)","v":0},{"$f":"SUMIFS(Eingabeliste!$B$5:$B$340,Eingabeliste!$O$5:$O$340,Z$3,Eingabeliste!$Q$5:$Q$340,Z$1,Eingabeliste!$P$5:$P$340,Z$2,Eingabeliste!$J$5:$J$340,\"<=300\",$F$5:$F$340,\"<>Pulverbeschichtet\")+SUMIFS(Eingabeliste!$B$5:$B$340,Eingabeliste!$S$5:$S$340,Z$3,Eingabeliste!$U$5:$U$340,Z$1,Eingabeliste!$T$5:$T$340,Z$2,Eingabeliste!$J$5:$J$340,\"<=300\",$F$5:$F$340,\"<>Pulverbeschichtet\")","v":0},{"$f":"SUMIFS(Eingabeliste!$B$5:$B$340,Eingabeliste!$O$5:$O$340,AA$3,Eingabeliste!$Q$5:$Q$340,AA$1,Eingabeliste!$P$5:$P$340,AA$2,Eingabeliste!$J$5:$J$340,\"<=300\",$F$5:$F$340,\"<>Pulverbeschichtet\")+SUMIFS(Eingabeliste!$B$5:$B$340,Eingabeliste!$S$5:$S$340,AA$3,Eingabeliste!$U$5:$U$340,AA$1,Eingabeliste!$T$5:$T$340,AA$2,Eingabeliste!$J$5:$J$340,\"<=300\",$F$5:$F$340,\"<>Pulverbeschichtet\")","v":0},{"$f":"SUMIFS(Eingabeliste!$B$5:$B$340,Eingabeliste!$O$5:$O$340,AB$3,Eingabeliste!$Q$5:$Q$340,AB$1,Eingabeliste!$P$5:$P$340,AB$2,Eingabeliste!$J$5:$J$340,\">300\",$F$5:$F$340,\"<>Pulverbeschichtet\")+SUMIFS(Eingabeliste!$B$5:$B$340,Eingabeliste!$S$5:$S$340,AB$3,Eingabeliste!$U$5:$U$340,AB$1,Eingabeliste!$T$5:$T$340,AB$2,Eingabeliste!$J$5:$J$340,\">300\",$F$5:$F$340,\"<>Pulverbeschichtet\")","v":0},{"$f":"SUMIFS(Eingabeliste!$B$5:$B$340,Eingabeliste!$O$5:$O$340,AC$3,Eingabeliste!$Q$5:$Q$340,AC$1,Eingabeliste!$P$5:$P$340,AC$2,Eingabeliste!$J$5:$J$340,\">300\",$F$5:$F$340,\"<>Pulverbeschichtet\")+SUMIFS(Eingabeliste!$B$5:$B$340,Eingabeliste!$S$5:$S$340,AC$3,Eingabeliste!$U$5:$U$340,AC$1,Eingabeliste!$T$5:$T$340,AC$2,Eingabeliste!$J$5:$J$340,\">300\",$F$5:$F$340,\"<>Pulverbeschichtet\")","v":0},{"$f":"MAX(SUMIFS(Eingabeliste!$B$5:$B$340,Eingabeliste!$O$5:$O$340,AD$3,$F$5:$F$340,\"<>Pulverbeschichtet\")+SUMIFS(Eingabeliste!$B$5:$B$340,Eingabeliste!$S$5:$S$340,AD$3,$F$5:$F$340,\"<>Pulverbeschichtet\")-SUM(Z4:AC4),0)","v":0},{"$f":"SUMIFS(Eingabeliste!$B$5:$B$340,Eingabeliste!$O$5:$O$340,AE$3,Eingabeliste!$P$5:$P$340,AE$2,Eingabeliste!$J$5:$J$340,\"<=300\",$F$5:$F$340,\"Pulverbeschichtet\")+SUMIFS(Eingabeliste!$B$5:$B$340,Eingabeliste!$S$5:$S$340,AE$3,Eingabeliste!$U$5:$U$340,AE$1,Eingabeliste!$J$5:$J$340,\"<=300\",$F$5:$F$340,\"Pulverbeschichtet\")","v":0},{"$f":"SUMIFS(Eingabeliste!$B$5:$B$340,Eingabeliste!$O$5:$O$340,AF$3,Eingabeliste!$P$5:$P$340,AF$2,Eingabeliste!$J$5:$J$340,\">300\",$F$5:$F$340,\"Pulverbeschichtet\")+SUMIFS(Eingabeliste!$B$5:$B$340,Eingabeliste!$S$5:$S$340,AF$3,Eingabeliste!$U$5:$U$340,AF$1,Eingabeliste!$J$5:$J$340,\">300\",$F$5:$F$340,\"Pulverbeschichtet\")","v":0},{"$f":"SUMIFS(Eingabeliste!$B$5:$B$340,Eingabeliste!$O$5:$O$340,AG$3,Eingabeliste!$P$5:$P$340,AG$2,Eingabeliste!$J$5:$J$340,\"<=300\",$F$5:$F$340,\"<>Pulverbeschichtet\")+SUMIFS(Eingabeliste!$B$5:$B$340,Eingabeliste!$S$5:$S$340,AG$3,Eingabeliste!$T$5:$T$340,AG$2,Eingabeliste!$J$5:$J$340,\"<=300\",$F$5:$F$340,\"<>Pulverbeschichtet\")","v":0},{"$f":"SUMIFS(Eingabeliste!$B$5:$B$340,Eingabeliste!$O$5:$O$340,AH$3,Eingabeliste!$P$5:$P$340,AH$2,Eingabeliste!$J$5:$J$340,\">300\",$F$5:$F$340,\"<>Pulverbeschichtet\")+SUMIFS(Eingabeliste!$B$5:$B$340,Eingabeliste!$S$5:$S$340,AH$3,Eingabeliste!$T$5:$T$340,AH$2,Eingabeliste!$J$5:$J$340,\">300\",$F$5:$F$340,\"<>Pulverbeschichtet\")","v":0},{"$f":"SUMIFS(Eingabeliste!$B$5:$B$340,Eingabeliste!$O$5:$O$340,AI$3,Eingabeliste!$J$5:$J$340,\"<=300\")+SUMIFS(Eingabeliste!$B$5:$B$340,Eingabeliste!$S$5:$S$340,AI$3,Eingabeliste!$J$5:$J$340,\"<=300\")","v":0},{"$f":"SUMIFS(Eingabeliste!$B$5:$B$340,Eingabeliste!$O$5:$O$340,AJ$3,Eingabeliste!$J$5:$J$340,\">300\")+SUMIFS(Eingabeliste!$B$5:$B$340,Eingabeliste!$S$5:$S$340,AJ$3,Eingabeliste!$J$5:$J$340,\">300\")","v":0},{"$f":"SUMIFS(Eingabeliste!$B$5:$B$340,Eingabeliste!$O$5:$O$340,AK$3)+SUMIFS(Eingabeliste!$B$5:$B$340,Eingabeliste!$S$5:$S$340,AK$3)","v":0},{"$f":"SUMIFS($E$5:$E$340,Eingabeliste!$J$5:$J$340,\"<=\"&AL2,$G$5:$G$340,\"A\",F$5:F$340,\"<>Pulverbeschichtet\")","v":0},{"$f":"SUMIFS($E$5:$E$340,Eingabeliste!$J$5:$J$340,\">\"&AL2,$G$5:$G$340,\"A\",F$5:F$340,\"<>Pulverbeschichtet\")","v":0},{"$f":"SUMIFS($E$5:$E$340,Eingabeliste!$J$5:$J$340,\"<=\"&AN2,$G$5:$G$340,\"A\",F$5:F$340,\"Pulverbeschichtet\")","v":0},{"$f":"SUMIFS($E$5:$E$340,Eingabeliste!$J$5:$J$340,\">\"&AN2,$G$5:$G$340,\"A\",F$5:F$340,\"Pulverbeschichtet\")","v":0},{"$f":"SUMIFS($E$5:$E$340,Eingabeliste!$J$5:$J$340,\"<=\"&AP2,$G$5:$G$340,\"<>A\",F$5:F$340,\"<>Pulverbeschichtet\")","v":0},{"$f":"SUMIFS($E$5:$E$340,Eingabeliste!$J$5:$J$340,\">\"&AP2,$G$5:$G$340,\"<>A\",F$5:F$340,\"<>Pulverbeschichtet\")","v":0},{"$f":"SUMIFS($E$5:$E$340,Eingabeliste!$J$5:$J$340,\"<=\"&AR2,$G$5:$G$340,\"<>A\",F$5:F$340,\"Pulverbeschichtet\")","v":0},{"$f":"SUMIFS($E$5:$E$340,Eingabeliste!$J$5:$J$340,\">\"&AR2,$G$5:$G$340,\"<>A\",F$5:F$340,\"Pulverbeschichtet\")","v":0},{"$f":"Daten!H22","v":0},{"$f":"Daten!H2","v":0},{"$f":"IF(Daten!H4=TRUE,D4,0)","v":0},{"$f":"IF(Daten!F3=TRUE,ROUNDUP(D4/5,0),0)","v":0},{"$f":"SUM(AX5:AX340)+IF(Preise!AA2>Daten!K16,1,0)","v":0}]
[{"$f":"IF(Eingabeliste!A5=\"\",0,1)","v":0},{"$f":"Eingabeliste!B5","v":0},{"$f":"IFERROR(ROUND(Eingabeliste!J5/(COS((Eingabeliste!K5*PI())/180))-(SIN((Eingabeliste!K5*PI())/180)*2)+(Eingabeliste!M5-2.74)+IF(Eingabeliste!L5=0,0,Eingabeliste!L5-2.74)+IF(Eingabeliste!N5=Daten!N$6,0,12-1.86),1),\"\")","v":""},{"$f":"IF(OR(B5=0,Eingabeliste!E5=\"\"),0,MAX(Eingabeliste!E5,1000)*B5)","v":0},{"$f":"IFERROR((ROUNDUP(Eingabeliste!E5/Daten!$K$15,0)-1)*B5,\"\")","v":""},{"$f":"IF(Eingabeliste!N5=\"Pulverbesch.\",Daten!$D$1,Eingabeliste!N5)","v":""},{"$f":"Eingabeliste!AB5","v":""},{"$f":"Eingabeliste!AC5","v":""},{"$f":"Eingabeliste!AA5","v":""},{"$f":"Eingabeliste!I5","v":""},{"$f":"Eingabeliste!G5","v":""},{"$f":"Eingabeliste!H5","v":""},null,null,null,null,null,null,null,null,{"$f":"IF(OR(Eingabeliste!O5=\"Flexila PU\",Eingabeliste!O5=\"Flexila STB\"),Eingabeliste!B5,0)+IF(OR(Eingabeliste!S5=\"Flexila PU\",Eingabeliste!S5=\"Flexila STB\"),Eingabeliste!B5,0)","v":0},null,null,null,null,null,null,null,null,null,null,null,null,null,null,null,null,null,null,null,null,null,null,null,null,{"$f":"IF(B5=0,0,ROUNDUP(D5/800,0)+1)","v":0},null,null,null,{"$f":"IF(A5=0,0,IF(C5>$C$2,1,0)+IF(AND(Daten!$F$3=TRUE,Zusammenfassung!J5>Preise!$A$70),1,0)+IF(AND(G5=\"D\",K5>Preise!$A$54),1,0)+IF(AND(OR(G5=\"B\",G5=\"C\"),I5<>\"XPS\",AND(Eingabeliste!AC5>50,Daten!F$3=FALSE)),1,0)+IF(AND(OR(G5=\"B\",G5=\"C\"),I5=\"XPS\",Eingabeliste!AC5>100),1,0))","v":0}]
[{"$f":"IF(Eingabeliste!A6=\"\",0,1)","v":0},{"$f":"Eingabeliste!B6","v":0},{"$f":"IFERROR(ROUND(Eingabeliste!J6/(COS((Eingabeliste!K6*PI())/180))-(SIN((Eingabeliste!K6*PI())/180)*2)+(Eingabeliste!M6-2.74)+IF(Eingabeliste!L6=0,0,Eingabeliste!L6-2.74)+IF(Eingabeliste!N6=Daten!N$6,0,12-1.86),1),\"\")","v":""},{"$f":"IF(OR(B6=0,Eingabeliste!E6=\"\"),0,MAX(Eingabeliste!E6,1000)*B6)","v":0},{"$f":"IFERROR((ROUNDUP(Eingabeliste!E6/Daten!$K$15,0)-1)*B6,\"\")","v":""},{"$f":"IF(Eingabeliste!N6=\"Pulverbesch.\",Daten!$D$1,Eingabeliste!N6)","v":""},{"$f":"Eingabeliste!AB6","v":""},{"$f":"Eingabeliste!AC6","v":""},{"$f":"Eingabeliste!AA6","v":""},{"$f":"Eingabeliste!I6","v":""},{"$f":"Eingabeliste!G6","v":""},{"$f":"Eingabeliste!H6","v":""},null,null,null,null,null,null,null,null,{"$f":"IF(OR(Eingabeliste!O6=\"Flexila PU\",Eingabeliste!O6=\"Flexila STB\"),Eingabeliste!B6,0)+IF(OR(Eingabeliste!S6=\"Flexila PU\",Eingabeliste!S6=\"Flexila STB\"),Eingabeliste!B6,0)","v":0},null,null,null,null,null,null,null,null,null,null,null,null,null,null,null,null,null,null,null,null,null,null,null,null,{"$f":"IF(B6=0,0,ROUNDUP(D6/800,0)+1)","v":0},null,null,null,{"$f":"IF(A6=0,0,IF(C6>$C$2,1,0)+IF(AND(Daten!$F$3=TRUE,Zusammenfassung!J6>Preise!$A$70),1,0)+IF(AND(G6=\"D\",K6>Preise!$A$54),1,0)+IF(AND(OR(G6=\"B\",G6=\"C\"),I6<>\"XPS\",AND(Eingabeliste!AC6>50,Daten!F$3=FALSE)),1,0)+IF(AND(OR(G6=\"B\",G6=\"C\"),I6=\"XPS\",Eingabeliste!AC6>100),1,0))","v":0}]
[{"$f":"IF(Eingabeliste!A7=\"\",0,1)","v":0},{"$f":"Eingabeliste!B7","v":0},{"$f":"IFERROR(ROUND(Eingabeliste!J7/(COS((Eingabeliste!K7*PI())/180))-(SIN((Eingabeliste!K7*PI())/180)*2)+(Eingabeliste!M7-2.74)+IF(Eingabeliste!L7=0,0,Eingabeliste!L7-2.74)+IF(Eingabeliste!N7=Daten!N$6,0,12-1.86),1),\"\")","v":""},{"$f":"IF(OR(B7=0,Eingabeliste!E7=\"\"),0,MAX(Eingabeliste!E7,1000)*B7)","v":0},{"$f":"IFERROR((ROUNDUP(Eingabeliste!E7/Daten!$K$15,0)-1)*B7,\"\")","v":""},{"$f":"IF(Eingabeliste!N7=\"Pulverbesch.\",Daten!$D$1,Eingabeliste!N7)","v":""},{"$f":"Eingabeliste!AB7","v":""},{"$f":"Eingabeliste!AC7","v":""},{"$f":"Eingabeliste!AA7","v":""},{"$f":"Eingabeliste!I7","v":""},{"$f":"Eingabeliste!G7","v":""},{"$f":"Eingabeliste!H7","v":""},null,null,null,null,null,null,null,null,{"$f":"IF(OR(Eingabeliste!O7=\"Flexila PU\",Eingabeliste!O7=\"Flexila STB\"),Eingabeliste!B7,0)+IF(OR(Eingabeliste!S7=\"Flexila PU\",Eingabeliste!S7=\"Flexila STB\"),Eingabeliste!B7,0)","v":0},null,null,null,null,null,null,null,null,null,null,null,null,null,null,null,null,null,null,null,null,null,null,null,null,0,null,null,null,{"$f":"IF(A7=0,0,IF(C7>$C$2,1,0)+IF(AND(Daten!$F$3=TRUE,Zusammenfassung!J7>Preise!$A$70),1,0)+IF(AND(G7=\"D\",K7>Preise!$A$54),1,0)+IF(AND(OR(G7=\"B\",G7=\"C\"),I7<>\"XPS\",AND(Eingabeliste!AC7>50,Daten!F$3=FALSE)),1,0)+IF(AND(OR(G7=\"B\",G7=\"C\"),I7=\"XPS\",Eingabeliste!AC7>100),1,0))","v":0}]
[{"$f":"IF(Eingabeliste!A8=\"\",0,1)","v":0},{"$f":"Eingabeliste!B8","v":0},{"$f":"IFERROR(ROUND(Eingabeliste!J8/(COS((Eingabeliste!K8*PI())/180))-(SIN((Eingabeliste!K8*PI())/180)*2)+(Eingabeliste!M8-2.74)+IF(Eingabeliste!L8=0,0,Eingabeliste!L8-2.74)+IF(Eingabeliste!N8=Daten!N$6,0,12-1.86),1),\"\")","v":""},{"$f":"IF(OR(B8=0,Eingabeliste!E8=\"\"),0,MAX(Eingabeliste!E8,1000)*B8)","v":0},{"$f":"IFERROR((ROUNDUP(Eingabeliste!E8/Daten!$K$15,0)-1)*B8,\"\")","v":""},{"$f":"IF(Eingabeliste!N8=\"Pulverbesch.\",Daten!$D$1,Eingabeliste!N8)","v":""},{"$f":"Eingabeliste!AB8","v":""},{"$f":"Eingabeliste!AC8","v":""},{"$f":"Eingabeliste!AA8","v":""},{"$f":"Eingabeliste!I8","v":""},{"$f":"Eingabeliste!G8","v":""},{"$f":"Eingabeliste!H8","v":""},null,null,null,null,null,null,null,null,{"$f":"IF(OR(Eingabeliste!O8=\"Flexila PU\",Eingabeliste!O8=\"Flexila STB\"),Eingabeliste!B8,0)+IF(OR(Eingabeliste!S8=\"Flexila PU\",Eingabeliste!S8=\"Flexila STB\"),Eingabeliste!B8,0)","v":0},null,null,null,null,null,null,null,null,null,null,null,null,null,null,null,null,null,null,null,null,null,null,null,null,0,null,null,null,{"$f":"IF(A8=0,0,IF(C8>$C$2,1,0)+IF(AND(Daten!$F$3=TRUE,Zusammenfassung!J8>Preise!$A$70),1,0)+IF(AND(G8=\"D\",K8>Preise!$A$54),1,0)+IF(AND(OR(G8=\"B\",G8=\"C\"),I8<>\"XPS\",AND(Eingabeliste!AC8>50,Daten!F$3=FALSE)),1,0)+IF(AND(OR(G8=\"B\",G8=\"C\"),I8=\"XPS\",Eingabeliste!AC8>100),1,0))","v":0}]
[{"$f":"IF(Eingabeliste!A9=\"\",0,1)","v":0},{"$f":"Eingabeliste!B9","v":0},{"$f":"IFERROR(ROUND(Eingabeliste!J9/(COS((Eingabeliste!K9*PI())/180))-(SIN((Eingabeliste!K9*PI())/180)*2)+(Eingabeliste!M9-2.74)+IF(Eingabeliste!L9=0,0,Eingabeliste!L9-2.74)+IF(Eingabeliste!N9=Daten!N$6,0,12-1.86),1),\"\")","v":""},{"$f":"IF(OR(B9=0,Eingabeliste!E9=\"\"),0,MAX(Eingabeliste!E9,1000)*B9)","v":0},{"$f":"IFERROR((ROUNDUP(Eingabeliste!E9/Daten!$K$15,0)-1)*B9,\"\")","v":""},{"$f":"IF(Eingabeliste!N9=\"Pulverbesch.\",Daten!$D$1,Eingabeliste!N9)","v":""},{"$f":"Eingabeliste!AB9","v":""},{"$f":"Eingabeliste!AC9","v":""},{"$f":"Eingabeliste!AA9","v":""},{"$f":"Eingabeliste!I9","v":""},{"$f":"Eingabeliste!G9","v":""},{"$f":"Eingabeliste!H9","v":""},null,null,null,null,null,null,null,null,{"$f":"IF(OR(Eingabeliste!O9=\"Flexila PU\",Eingabeliste!O9=\"Flexila STB\"),Eingabeliste!B9,0)+IF(OR(Eingabeliste!S9=\"Flexila PU\",Eingabeliste!S9=\"Flexila STB\"),Eingabeliste!B9,0)","v":0},null,null,null,null,null,null,null,null,null,null,null,null,null,null,null,null,null,null,null,null,null,null,null,null,0,null,null,null,{"$f":"IF(A9=0,0,IF(C9>$C$2,1,0)+IF(AND(Daten!$F$3=TRUE,Zusammenfassung!J9>Preise!$A$70),1,0)+IF(AND(G9=\"D\",K9>Preise!$A$54),1,0)+IF(AND(OR(G9=\"B\",G9=\"C\"),I9<>\"XPS\",AND(Eingabeliste!AC9>50,Daten!F$3=FALSE)),1,0)+IF(AND(OR(G9=\"B\",G9=\"C\"),I9=\"XPS\",Eingabeliste!AC9>100),1,0))","v":0}]
[{"$f":"IF(Eingabeliste!A10=\"\",0,1)","v":0},{"$f":"Eingabeliste!B10","v":0},{"$f":"IFERROR(ROUND(Eingabeliste!J10/(COS((Eingabeliste!K10*PI())/180))-(SIN((Eingabeliste!K10*PI())/180)*2)+(Eingabeliste!M10-2.74)+IF(Eingabeliste!L10=0,0,Eingabeliste!L10-2.74)+IF(Eingabeliste!N10=Daten!N$6,0,12-1.86),1),\"\")","v":""},{"$f":"IF(OR(B10=0,Eingabeliste!E10=\"\"),0,MAX(Eingabeliste!E10,1000)*B10)","v":0},{"$f":"IFERROR((ROUNDUP(Eingabeliste!E10/Daten!$K$15,0)-1)*B10,\"\")","v":""},{"$f":"IF(Eingabeliste!N10=\"Pulverbesch.\",Daten!$D$1,Eingabeliste!N10)","v":""},{"$f":"Eingabeliste!AB10","v":""},{"$f":"Eingabeliste!AC10","v":""},{"$f":"Eingabeliste!AA10","v":""},{"$f":"Eingabeliste!I10","v":""},{"$f":"Eingabeliste!G10","v":""},{"$f":"Eingabeliste!H10","v":""},null,null,null,null,null,null,null,null,{"$f":"IF(OR(Eingabeliste!O10=\"Flexila PU\",Eingabeliste!O10=\"Flexila STB\"),Eingabeliste!B10,0)+IF(OR(Eingabeliste!S10=\"Flexila PU\",Eingabeliste!S10=\"Flexila STB\"),Eingabeliste!B10,0)","v":0},null,null,null,null,null,null,null,null,null,null,null,null,null,null,null,null,null,null,null,null,null,null,null,null,0,null,null,null,{"$f":"IF(A10=0,0,IF(C10>$C$2,1,0)+IF(AND(Daten!$F$3=TRUE,Zusammenfassung!J10>Preise!$A$70),1,0)+IF(AND(G10=\"D\",K10>Preise!$A$54),1,0)+IF(AND(OR(G10=\"B\",G10=\"C\"),I10<>\"XPS\",AND(Eingabeliste!AC10>50,Daten!F$3=FALSE)),1,0)+IF(AND(OR(G10=\"B\",G10=\"C\"),I10=\"XPS\",Eingabeliste!AC10>100),1,0))","v":0}]
[{"$f":"IF(Eingabeliste!A11=\"\",0,1)","v":0},{"$f":"Eingabeliste!B11","v":0},{"$f":"IFERROR(ROUND(Eingabeliste!J11/(COS((Eingabeliste!K11*PI())/180))-(SIN((Eingabeliste!K11*PI())/180)*2)+(Eingabeliste!M11-2.74)+IF(Eingabeliste!L11=0,0,Eingabeliste!L11-2.74)+IF(Eingabeliste!N11=Daten!N$6,0,12-1.86),1),\"\")","v":""},{"$f":"IF(OR(B11=0,Eingabeliste!E11=\"\"),0,MAX(Eingabeliste!E11,1000)*B11)","v":0},{"$f":"IFERROR((ROUNDUP(Eingabeliste!E11/Daten!$K$15,0)-1)*B11,\"\")","v":""},{"$f":"IF(Eingabeliste!N11=\"Pulverbesch.\",Daten!$D$1,Eingabeliste!N11)","v":""},{"$f":"Eingabeliste!AB11","v":""},{"$f":"Eingabeliste!AC11","v":""},{"$f":"Eingabeliste!AA11","v":""},{"$f":"Eingabeliste!I11","v":""},{"$f":"Eingabeliste!G11","v":""},{"$f":"Eingabeliste!H11","v":""},null,null,null,null,null,null,null,null,{"$f":"IF(OR(Eingabeliste!O11=\"Flexila PU\",Eingabeliste!O11=\"Flexila STB\"),Eingabeliste!B11,0)+IF(OR(Eingabeliste!S11=\"Flexila PU\",Eingabeliste!S11=\"Flexila STB\"),Eingabeliste!B11,0)","v":0},null,null,null,null,null,null,null,null,null,null,null,null,null,null,null,null,null,null,null,null,null,null,null,null,0,null,null,null,{"$f":"IF(A11=0,0,IF(C11>$C$2,1,0)+IF(AND(Daten!$F$3=TRUE,Zusammenfassung!J11>Preise!$A$70),1,0)+IF(AND(G11=\"D\",K11>Preise!$A$54),1,0)+IF(AND(OR(G11=\"B\",G11=\"C\"),I11<>\"XPS\",AND(Eingabeliste!AC11>50,Daten!F$3=FALSE)),1,0)+IF(AND(OR(G11=\"B\",G11=\"C\"),I11=\"XPS\",Eingabeliste!AC11>100),1,0))","v":0}]
[{"$f":"IF(Eingabeliste!A12=\"\",0,1)","v":0},{"$f":"Eingabeliste!B12","v":0},{"$f":"IFERROR(ROUND(Eingabeliste!J12/(COS((Eingabeliste!K12*PI())/180))-(SIN((Eingabeliste!K12*PI())/180)*2)+(Eingabeliste!M12-2.74)+IF(Eingabeliste!L12=0,0,Eingabeliste!L12-2.74)+IF(Eingabeliste!N12=Daten!N$6,0,12-1.86),1),\"\")","v":""},{"$f":"IF(OR(B12=0,Eingabeliste!E12=\"\"),0,MAX(Eingabeliste!E12,1000)*B12)","v":0},{"$f":"IFERROR((ROUNDUP(Eingabeliste!E12/Daten!$K$15,0)-1)*B12,\"\")","v":""},{"$f":"IF(Eingabeliste!N12=\"Pulverbesch.\",Daten!$D$1,Eingabeliste!N12)","v":""},{"$f":"Eingabeliste!AB12","v":""},{"$f":"Eingabeliste!AC12","v":""},{"$f":"Eingabeliste!AA12","v":""},{"$f":"Eingabeliste!I12","v":""},{"$f":"Eingabeliste!G12","v":""},{"$f":"Eingabeliste!H12","v":""},null,null,null,null,null,null,null,null,{"$f":"IF(OR(Eingabeliste!O12=\"Flexila PU\",Eingabeliste!O12=\"Flexila STB\"),Eingabeliste!B12,0)+IF(OR(Eingabeliste!S12=\"Flexila PU\",Eingabeliste!S12=\"Flexila STB\"),Eingabeliste!B12,0)","v":0},null,null,null,null,null,null,null,null,null,null,null,null,null,null,null,null,null,null,null,null,null,null,null,null,0,null,null,null,{"$f":"IF(A12=0,0,IF(C12>$C$2,1,0)+IF(AND(Daten!$F$3=TRUE,Zusammenfassung!J12>Preise!$A$70),1,0)+IF(AND(G12=\"D\",K12>Preise!$A$54),1,0)+IF(AND(OR(G12=\"B\",G12=\"C\"),I12<>\"XPS\",AND(Eingabeliste!AC12>50,Daten!F$3=FALSE)),1,0)+IF(AND(OR(G12=\"B\",G12=\"C\"),I12=\"XPS\",Eingabeliste!AC12>100),1,0))","v":0}]
[{"$f":"IF(Eingabeliste!A13=\"\",0,1)","v":0},{"$f":"Eingabeliste!B13","v":0},{"$f":"IFERROR(ROUND(Eingabeliste!J13/(COS((Eingabeliste!K13*PI())/180))-(SIN((Eingabeliste!K13*PI())/180)*2)+(Eingabeliste!M13-2.74)+IF(Eingabeliste!L13=0,0,Eingabeliste!L13-2.74)+IF(Eingabeliste!N13=Daten!N$6,0,12-1.86),1),\"\")","v":""},{"$f":"IF(OR(B13=0,Eingabeliste!E13=\"\"),0,MAX(Eingabeliste!E13,1000)*B13)","v":0},{"$f":"IFERROR((ROUNDUP(Eingabeliste!E13/Daten!$K$15,0)-1)*B13,\"\")","v":""},{"$f":"IF(Eingabeliste!N13=\"Pulverbesch.\",Daten!$D$1,Eingabeliste!N13)","v":""},{"$f":"Eingabeliste!AB13","v":""},{"$f":"Eingabeliste!AC13","v":""},{"$f":"Eingabeliste!AA13","v":""},{"$f":"Eingabeliste!I13","v":""},{"$f":"Eingabeliste!G13","v":""},{"$f":"Eingabeliste!H13","v":""},null,null,null,null,null,null,null,null,{"$f":"IF(OR(Eingabeliste!O13=\"Flexila PU\",Eingabeliste!O13=\"Flexila STB\"),Eingabeliste!B13,0)+IF(OR(Eingabeliste!S13=\"Flexila PU\",Eingabeliste!S13=\"Flexila STB\"),Eingabeliste!B13,0)","v":0},null,null,null,null,null,null,null,null,null,null,null,null,null,null,null,null,null,null,null,null,null,null,null,null,0,null,null,null,{"$f":"IF(A13=0,0,IF(C13>$C$2,1,0)+IF(AND(Daten!$F$3=TRUE,Zusammenfassung!J13>Preise!$A$70),1,0)+IF(AND(G13=\"D\",K13>Preise!$A$54),1,0)+IF(AND(OR(G13=\"B\",G13=\"C\"),I13<>\"XPS\",AND(Eingabeliste!AC13>50,Daten!F$3=FALSE)),1,0)+IF(AND(OR(G13=\"B\",G13=\"C\"),I13=\"XPS\",Eingabeliste!AC13>100),1,0))","v":0}]
[{"$f":"IF(Eingabeliste!A14=\"\",0,1)","v":0},{"$f":"Eingabeliste!B14","v":0},{"$f":"IFERROR(ROUND(Eingabeliste!J14/(COS((Eingabeliste!K14*PI())/180))-(SIN((Eingabeliste!K14*PI())/180)*2)+(Eingabeliste!M14-2.74)+IF(Eingabeliste!L14=0,0,Eingabeliste!L14-2.74)+IF(Eingabeliste!N14=Daten!N$6,0,12-1.86),1),\"\")","v":""},{"$f":"IF(OR(B14=0,Eingabeliste!E14=\"\"),0,MAX(Eingabeliste!E14,1000)*B14)","v":0},{"$f":"IFERROR((ROUNDUP(Eingabeliste!E14/Daten!$K$15,0)-1)*B14,\"\")","v":""},{"$f":"IF(Eingabeliste!N14=\"Pulverbesch.\",Daten!$D$1,Eingabeliste!N14)","v":""},{"$f":"Eingabeliste!AB14","v":""},{"$f":"Eingabeliste!AC14","v":""},{"$f":"Eingabeliste!AA14","v":""},{"$f":"Eingabeliste!I14","v":""},{"$f":"Eingabeliste!G14","v":""},{"$f":"Eingabeliste!H14","v":""},null,null,null,null,null,null,null,null,{"$f":"IF(OR(Eingabeliste!O14=\"Flexila PU\",Eingabeliste!O14=\"Flexila STB\"),Eingabeliste!B14,0)+IF(OR(Eingabeliste!S14=\"Flexila PU\",Eingabeliste!S14=\"Flexila STB\"),Eingabeliste!B14,0)","v":0},null,null,null,null,null,null,null,null,null,null,null,null,null,null,null,null,null,null,null,null,null,null,null,null,0,null,null,null,{"$f":"IF(A14=0,0,IF(C14>$C$2,1,0)+IF(AND(Daten!$F$3=TRUE,Zusammenfassung!J14>Preise!$A$70),1,0)+IF(AND(G14=\"D\",K14>Preise!$A$54),1,0)+IF(AND(OR(G14=\"B\",G14=\"C\"),I14<>\"XPS\",AND(Eingabeliste!AC14>50,Daten!F$3=FALSE)),1,0)+IF(AND(OR(G14=\"B\",G14=\"C\"),I14=\"XPS\",Eingabeliste!AC14>100),1,0))","v":0}]
[{"$f":"IF(Eingabeliste!A15=\"\",0,1)","v":0},{"$f":"Eingabeliste!B15","v":0},{"$f":"IFERROR(ROUND(Eingabeliste!J15/(COS((Eingabeliste!K15*PI())/180))-(SIN((Eingabeliste!K15*PI())/180)*2)+(Eingabeliste!M15-2.74)+IF(Eingabeliste!L15=0,0,Eingabeliste!L15-2.74)+IF(Eingabeliste!N15=Daten!N$6,0,12-1.86),1),\"\")","v":""},{"$f":"IF(OR(B15=0,Eingabeliste!E15=\"\"),0,MAX(Eingabeliste!E15,1000)*B15)","v":0},{"$f":"IFERROR((ROUNDUP(Eingabeliste!E15/Daten!$K$15,0)-1)*B15,\"\")","v":""},{"$f":"IF(Eingabeliste!N15=\"Pulverbesch.\",Daten!$D$1,Eingabeliste!N15)","v":""},{"$f":"Eingabeliste!AB15","v":""},{"$f":"Eingabeliste!AC15","v":""},{"$f":"Eingabeliste!AA15","v":""},{"$f":"Eingabeliste!I15","v":""},{"$f":"Eingabeliste!G15","v":""},{"$f":"Eingabeliste!H15","v":""},null,null,null,null,null,null,null,null,{"$f":"IF(OR(Eingabeliste!O15=\"Flexila PU\",Eingabeliste!O15=\"Flexila STB\"),Eingabeliste!B15,0)+IF(OR(Eingabeliste!S15=\"Flexila PU\",Eingabeliste!S15=\"Flexila STB\"),Eingabeliste!B15,0)","v":0},null,null,null,null,null,null,null,null,null,null,null,null,null,null,null,null,null,null,null,null,null,null,null,null,0,null,null,null,{"$f":"IF(A15=0,0,IF(C15>$C$2,1,0)+IF(AND(Daten!$F$3=TRUE,Zusammenfassung!J15>Preise!$A$70),1,0)+IF(AND(G15=\"D\",K15>Preise!$A$54),1,0)+IF(AND(OR(G15=\"B\",G15=\"C\"),I15<>\"XPS\",AND(Eingabeliste!AC15>50,Daten!F$3=FALSE)),1,0)+IF(AND(OR(G15=\"B\",G15=\"C\"),I15=\"XPS\",Eingabeliste!AC15>100),1,0))","v":0}]
[{"$f":"IF(Eingabeliste!A16=\"\",0,1)","v":0},{"$f":"Eingabeliste!B16","v":0},{"$f":"IFERROR(ROUND(Eingabeliste!J16/(COS((Eingabeliste!K16*PI())/180))-(SIN((Eingabeliste!K16*PI())/180)*2)+(Eingabeliste!M16-2.74)+IF(Eingabeliste!L16=0,0,Eingabeliste!L16-2.74)+IF(Eingabeliste!N16=Daten!N$6,0,12-1.86),1),\"\")","v":""},{"$f":"IF(OR(B16=0,Eingabeliste!E16=\"\"),0,MAX(Eingabeliste!E16,1000)*B16)","v":0},{"$f":"IFERROR((ROUNDUP(Eingabeliste!E16/Daten!$K$15,0)-1)*B16,\"\")","v":""},{"$f":"IF(Eingabeliste!N16=\"Pulverbesch.\",Daten!$D$1,Eingabeliste!N16)","v":""},{"$f":"Eingabeliste!AB16","v":""},{"$f":"Eingabeliste!AC16","v":""},{"$f":"Eingabeliste!AA16","v":""},{"$f":"Eingabeliste!I16","v":""},{"$f":"Eingabeliste!G16","v":""},{"$f":"Eingabeliste!H16","v":""},null,null,null,null,null,null,null,null,{"$f":"IF(OR(Eingabeliste!O16=\"Flexila PU\",Eingabeliste!O16=\"Flexila STB\"),Eingabeliste!B16,0)+IF(OR(Eingabeliste!S16=\"Flexila PU\",Eingabeliste!S16=\"Flexila STB\"),Eingabeliste!B16,0)","v":0},null,null,null,null,null,null,null,null,null,null,null,null,null,null,null,null,null,null,null,null,null,null,null,null,0,null,null,null,{"$f":"IF(A16=0,0,IF(C16>$C$2,1,0)+IF(AND(Daten!$F$3=TRUE,Zusammenfassung!J16>Preise!$A$70),1,0)+IF(AND(G16=\"D\",K16>Preise!$A$54),1,0)+IF(AND(OR(G16=\"B\",G16=\"C\"),I16<>\"XPS\",AND(Eingabeliste!AC16>50,Daten!F$3=FALSE)),1,0)+IF(AND(OR(G16=\"B\",G16=\"C\"),I16=\"XPS\",Eingabeliste!AC16>100),1,0))","v":0}]
[{"$f":"IF(Eingabeliste!A17=\"\",0,1)","v":0},{"$f":"Eingabeliste!B17","v":0},{"$f":"IFERROR(ROUND(Eingabeliste!J17/(COS((Eingabeliste!K17*PI())/180))-(SIN((Eingabeliste!K17*PI())/180)*2)+(Eingabeliste!M17-2.74)+IF(Eingabeliste!L17=0,0,Eingabeliste!L17-2.74)+IF(Eingabeliste!N17=Daten!N$6,0,12-1.86),1),\"\")","v":""},{"$f":"IF(OR(B17=0,Eingabeliste!E17=\"\"),0,MAX(Eingabeliste!E17,1000)*B17)","v":0},{"$f":"IFERROR((ROUNDUP(Eingabeliste!E17/Daten!$K$15,0)-1)*B17,\"\")","v":""},{"$f":"IF(Eingabeliste!N17=\"Pulverbesch.\",Daten!$D$1,Eingabeliste!N17)","v":""},{"$f":"Eingabeliste!AB17","v":""},{"$f":"Eingabeliste!AC17","v":""},{"$f":"Eingabeliste!AA17","v":""},{"$f":"Eingabeliste!I17","v":""},{"$f":"Eingabeliste!G17","v":""},{"$f":"Eingabeliste!H17","v":""},null,null,null,null,null,null,null,null,{"$f":"IF(OR(Eingabeliste!O17=\"Flexila PU\",Eingabeliste!O17=\"Flexila STB\"),Eingabeliste!B17,0)+IF(OR(Eingabeliste!S17=\"Flexila PU\",Eingabeliste!S17=\"Flexila STB\"),Eingabeliste!B17,0)","v":0},null,null,null,null,null,null,null,null,null,null,null,null,null,null,null,null,null,null,null,null,null,null,null,null,0,null,null,null,{"$f":"IF(A17=0,0,IF(C17>$C$2,1,0)+IF(AND(Daten!$F$3=TRUE,Zusammenfassung!J17>Preise!$A$70),1,0)+IF(AND(G17=\"D\",K17>Preise!$A$54),1,0)+IF(AND(OR(G17=\"B\",G17=\"C\"),I17<>\"XPS\",AND(Eingabeliste!AC17>50,Daten!F$3=FALSE)),1,0)+IF(AND(OR(G17=\"B\",G17=\"C\"),I17=\"XPS\",Eingabeliste!AC17>100),1,0))","v":0}]
[{"$f":"IF(Eingabeliste!A18=\"\",0,1)","v":0},{"$f":"Eingabeliste!B18","v":0},{"$f":"IFERROR(ROUND(Eingabeliste!J18/(COS((Eingabeliste!K18*PI())/180))-(SIN((Eingabeliste!K18*PI())/180)*2)+(Eingabeliste!M18-2.74)+IF(Eingabeliste!L18=0,0,Eingabeliste!L18-2.74)+IF(Eingabeliste!N18=Daten!N$6,0,12-1.86),1),\"\")","v":""},{"$f":"IF(OR(B18=0,Eingabeliste!E18=\"\"),0,MAX(Eingabeliste!E18,1000)*B18)","v":0},{"$f":"IFERROR((ROUNDUP(Eingabeliste!E18/Daten!$K$15,0)-1)*B18,\"\")","v":""},{"$f":"IF(Eingabeliste!N18=\"Pulverbesch.\",Daten!$D$1,Eingabeliste!N18)","v":""},{"$f":"Eingabeliste!AB18","v":""},{"$f":"Eingabeliste!AC18","v":""},{"$f":"Eingabeliste!AA18","v":""},{"$f":"Eingabeliste!I18","v":""},{"$f":"Eingabeliste!G18","v":""},{"$f":"Eingabeliste!H18","v":""},null,null,null,null,null,null,null,null,{"$f":"IF(OR(Eingabeliste!O18=\"Flexila PU\",Eingabeliste!O18=\"Flexila STB\"),Eingabeliste!B18,0)+IF(OR(Eingabeliste!S18=\"Flexila PU\",Eingabeliste!S18=\"Flexila STB\"),Eingabeliste!B18,0)","v":0},null,null,null,null,null,null,null,null,null,null,null,null,null,null,null,null,null,null,null,null,null,null,null,null,0,null,null,null,{"$f":"IF(A18=0,0,IF(C18>$C$2,1,0)+IF(AND(Daten!$F$3=TRUE,Zusammenfassung!J18>Preise!$A$70),1,0)+IF(AND(G18=\"D\",K18>Preise!$A$54),1,0)+IF(AND(OR(G18=\"B\",G18=\"C\"),I18<>\"XPS\",AND(Eingabeliste!AC18>50,Daten!F$3=FALSE)),1,0)+IF(AND(OR(G18=\"B\",G18=\"C\"),I18=\"XPS\",Eingabeliste!AC18>100),1,0))","v":0}]
[{"$f":"IF(Eingabeliste!A19=\"\",0,1)","v":0},{"$f":"Eingabeliste!B19","v":0},{"$f":"IFERROR(ROUND(Eingabeliste!J19/(COS((Eingabeliste!K19*PI())/180))-(SIN((Eingabeliste!K19*PI())/180)*2)+(Eingabeliste!M19-2.74)+IF(Eingabeliste!L19=0,0,Eingabeliste!L19-2.74)+IF(Eingabeliste!N19=Daten!N$6,0,12-1.86),1),\"\")","v":""},{"$f":"IF(OR(B19=0,Eingabeliste!E19=\"\"),0,MAX(Eingabeliste!E19,1000)*B19)","v":0},{"$f":"IFERROR((ROUNDUP(Eingabeliste!E19/Daten!$K$15,0)-1)*B19,\"\")","v":""},{"$f":"IF(Eingabeliste!N19=\"Pulverbesch.\",Daten!$D$1,Eingabeliste!N19)","v":""},{"$f":"Eingabeliste!AB19","v":""},{"$f":"Eingabeliste!AC19","v":""},{"$f":"Eingabeliste!AA19","v":""},{"$f":"Eingabeliste!I19","v":""},{"$f":"Eingabeliste!G19","v":""},{"$f":"Eingabeliste!H19","v":""},null,null,null,null,null,null,null,null,{"$f":"IF(OR(Eingabeliste!O19=\"Flexila PU\",Eingabeliste!O19=\"Flexila STB\"),Eingabeliste!B19,0)+IF(OR(Eingabeliste!S19=\"Flexila PU\",Eingabeliste!S19=\"Flexila STB\"),Eingabeliste!B19,0)","v":0},null,null,null,null,null,null,null,null,null,null,null,null,null,null,null,null,null,null,null,null,null,null,null,null,0,null,null,null,{"$f":"IF(A19=0,0,IF(C19>$C$2,1,0)+IF(AND(Daten!$F$3=TRUE,Zusammenfassung!J19>Preise!$A$70),1,0)+IF(AND(G19=\"D\",K19>Preise!$A$54),1,0)+IF(AND(OR(G19=\"B\",G19=\"C\"),I19<>\"XPS\",AND(Eingabeliste!AC19>50,Daten!F$3=FALSE)),1,0)+IF(AND(OR(G19=\"B\",G19=\"C\"),I19=\"XPS\",Eingabeliste!AC19>100),1,0))","v":0}]
[{"$f":"IF(Eingabeliste!A20=\"\",0,1)","v":0},{"$f":"Eingabeliste!B20","v":0},{"$f":"IFERROR(ROUND(Eingabeliste!J20/(COS((Eingabeliste!K20*PI())/180))-(SIN((Eingabeliste!K20*PI())/180)*2)+(Eingabeliste!M20-2.74)+IF(Eingabeliste!L20=0,0,Eingabeliste!L20-2.74)+IF(Eingabeliste!N20=Daten!N$6,0,12-1.86),1),\"\")","v":""},{"$f":"IF(OR(B20=0,Eingabeliste!E20=\"\"),0,MAX(Eingabeliste!E20,1000)*B20)","v":0},{"$f":"IFERROR((ROUNDUP(Eingabeliste!E20/Daten!$K$15,0)-1)*B20,\"\")","v":""},{"$f":"IF(Eingabeliste!N20=\"Pulverbesch.\",Daten!$D$1,Eingabeliste!N20)","v":""},{"$f":"Eingabeliste!AB20","v":""},{"$f":"Eingabeliste!AC20","v":""},{"$f":"Eingabeliste!AA20","v":""},{"$f":"Eingabeliste!I20","v":""},{"$f":"Eingabeliste!G20","v":""},{"$f":"Eingabeliste!H20","v":""},null,null,null,null,null,null,null,null,{"$f":"IF(OR(Eingabeliste!O20=\"Flexila PU\",Eingabeliste!O20=\"Flexila STB\"),Eingabeliste!B20,0)+IF(OR(Eingabeliste!S20=\"Flexila PU\",Eingabeliste!S20=\"Flexila STB\"),Eingabeliste!B20,0)","v":0},null,null,null,null,null,null,null,null,null,null,null,null,null,null,null,null,null,null,null,null,null,null,null,null,0,null,null,null,{"$f":"IF(A20=0,0,IF(C20>$C$2,1,0)+IF(AND(Daten!$F$3=TRUE,Zusammenfassung!J20>Preise!$A$70),1,0)+IF(AND(G20=\"D\",K20>Preise!$A$54),1,0)+IF(AND(OR(G20=\"B\",G20=\"C\"),I20<>\"XPS\",AND(Eingabeliste!AC20>50,Daten!F$3=FALSE)),1,0)+IF(AND(OR(G20=\"B\",G20=\"C\"),I20=\"XPS\",Eingabeliste!AC20>100),1,0))","v":0}]
[{"$f":"IF(Eingabeliste!A21=\"\",0,1)","v":0},{"$f":"Eingabeliste!B21","v":0},{"$f":"IFERROR(ROUND(Eingabeliste!J21/(COS((Eingabeliste!K21*PI())/180))-(SIN((Eingabeliste!K21*PI())/180)*2)+(Eingabeliste!M21-2.74)+IF(Eingabeliste!L21=0,0,Eingabeliste!L21-2.74)+IF(Eingabeliste!N21=Daten!N$6,0,12-1.86),1),\"\")","v":""},{"$f":"IF(OR(B21=0,Eingabeliste!E21=\"\"),0,MAX(Eingabeliste!E21,1000)*B21)","v":0},{"$f":"IFERROR((ROUNDUP(Eingabeliste!E21/Daten!$K$15,0)-1)*B21,\"\")","v":""},{"$f":"IF(Eingabeliste!N21=\"Pulverbesch.\",Daten!$D$1,Eingabeliste!N21)","v":""},{"$f":"Eingabeliste!AB21","v":""},{"$f":"Eingabeliste!AC21","v":""},{"$f":"Eingabeliste!AA21","v":""},{"$f":"Eingabeliste!I21","v":""},{"$f":"Eingabeliste!G21","v":""},{"$f":"Eingabeliste!H21","v":""},null,null,null,null,null,null,null,null,{"$f":"IF(OR(Eingabeliste!O21=\"Flexila PU\",Eingabeliste!O21=\"Flexila STB\"),Eingabeliste!B21,0)+IF(OR(Eingabeliste!S21=\"Flexila PU\",Eingabeliste!S21=\"Flexila STB\"),Eingabeliste!B21,0)","v":0},null,null,null,null,null,null,null,null,null,null,null,null,null,null,null,null,null,null,null,null,null,null,null,null,0,null,null,null,{"$f":"IF(A21=0,0,IF(C21>$C$2,1,0)+IF(AND(Daten!$F$3=TRUE,Zusammenfassung!J21>Preise!$A$70),1,0)+IF(AND(G21=\"D\",K21>Preise!$A$54),1,0)+IF(AND(OR(G21=\"B\",G21=\"C\"),I21<>\"XPS\",AND(Eingabeliste!AC21>50,Daten!F$3=FALSE)),1,0)+IF(AND(OR(G21=\"B\",G21=\"C\"),I21=\"XPS\",Eingabeliste!AC21>100),1,0))","v":0}]
[{"$f":"IF(Eingabeliste!A22=\"\",0,1)","v":0},{"$f":"Eingabeliste!B22","v":0},{"$f":"IFERROR(ROUND(Eingabeliste!J22/(COS((Eingabeliste!K22*PI())/180))-(SIN((Eingabeliste!K22*PI())/180)*2)+(Eingabeliste!M22-2.74)+IF(Eingabeliste!L22=0,0,Eingabeliste!L22-2.74)+IF(Eingabeliste!N22=Daten!N$6,0,12-1.86),1),\"\")","v":""},{"$f":"IF(OR(B22=0,Eingabeliste!E22=\"\"),0,MAX(Eingabeliste!E22,1000)*B22)","v":0},{"$f":"IFERROR((ROUNDUP(Eingabeliste!E22/Daten!$K$15,0)-1)*B22,\"\")","v":""},{"$f":"IF(Eingabeliste!N22=\"Pulverbesch.\",Daten!$D$1,Eingabeliste!N22)","v":""},{"$f":"Eingabeliste!AB22","v":""},{"$f":"Eingabeliste!AC22","v":""},{"$f":"Eingabeliste!AA22","v":""},{"$f":"Eingabeliste!I22","v":""},{"$f":"Eingabeliste!G22","v":""},{"$f":"Eingabeliste!H22","v":""},null,null,null,null,null,null,null,null,{"$f":"IF(OR(Eingabeliste!O22=\"Flexila PU\",Eingabeliste!O22=\"Flexila STB\"),Eingabeliste!B22,0)+IF(OR(Eingabeliste!S22=\"Flexila PU\",Eingabeliste!S22=\"Flexila STB\"),Eingabeliste!B22,0)","v":0},null,null,null,null,null,null,null,null,null,null,null,null,null,null,null,null,null,null,null,null,null,null,null,null,0,null,null,null,{"$f":"IF(A22=0,0,IF(C22>$C$2,1,0)+IF(AND(Daten!$F$3=TRUE,Zusammenfassung!J22>Preise!$A$70),1,0)+IF(AND(G22=\"D\",K22>Preise!$A$54),1,0)+IF(AND(OR(G22=\"B\",G22=\"C\"),I22<>\"XPS\",AND(Eingabeliste!AC22>50,Daten!F$3=FALSE)),1,0)+IF(AND(OR(G22=\"B\",G22=\"C\"),I22=\"XPS\",Eingabeliste!AC22>100),1,0))","v":0}]
[{"$f":"IF(Eingabeliste!A23=\"\",0,1)","v":0},{"$f":"Eingabeliste!B23","v":0},{"$f":"IFERROR(ROUND(Eingabeliste!J23/(COS((Eingabeliste!K23*PI())/180))-(SIN((Eingabeliste!K23*PI())/180)*2)+(Eingabeliste!M23-2.74)+IF(Eingabeliste!L23=0,0,Eingabeliste!L23-2.74)+IF(Eingabeliste!N23=Daten!N$6,0,12-1.86),1),\"\")","v":""},{"$f":"IF(OR(B23=0,Eingabeliste!E23=\"\"),0,MAX(Eingabeliste!E23,1000)*B23)","v":0},{"$f":"IFERROR((ROUNDUP(Eingabeliste!E23/Daten!$K$15,0)-1)*B23,\"\")","v":""},{"$f":"IF(Eingabeliste!N23=\"Pulverbesch.\",Daten!$D$1,Eingabeliste!N23)","v":""},{"$f":"Eingabeliste!AB23","v":""},{"$f":"Eingabeliste!AC23","v":""},{"$f":"Eingabeliste!AA23","v":""},{"$f":"Eingabeliste!I23","v":""},{"$f":"Eingabeliste!G23","v":""},{"$f":"Eingabeliste!H23","v":""},null,null,null,null,null,null,null,null,{"$f":"IF(OR(Eingabeliste!O23=\"Flexila PU\",Eingabeliste!O23=\"Flexila STB\"),Eingabeliste!B23,0)+IF(OR(Eingabeliste!S23=\"Flexila PU\",Eingabeliste!S23=\"Flexila STB\"),Eingabeliste!B23,0)","v":0},null,null,null,null,null,null,null,null,null,null,null,null,null,null,null,null,null,null,null,null,null,null,null,null,0,null,null,null,{"$f":"IF(A23=0,0,IF(C23>$C$2,1,0)+IF(AND(Daten!$F$3=TRUE,Zusammenfassung!J23>Preise!$A$70),1,0)+IF(AND(G23=\"D\",K23>Preise!$A$54),1,0)+IF(AND(OR(G23=\"B\",G23=\"C\"),I23<>\"XPS\",AND(Eingabeliste!AC23>50,Daten!F$3=FALSE)),1,0)+IF(AND(OR(G23=\"B\",G23=\"C\"),I23=\"XPS\",Eingabeliste!AC23>100),1,0))","v":0}]
[{"$f":"IF(Eingabeliste!A24=\"\",0,1)","v":0},{"$f":"Eingabeliste!B24","v":0},{"$f":"IFERROR(ROUND(Eingabeliste!J24/(COS((Eingabeliste!K24*PI())/180))-(SIN((Eingabeliste!K24*PI())/180)*2)+(Eingabeliste!M24-2.74)+IF(Eingabeliste!L24=0,0,Eingabeliste!L24-2.74)+IF(Eingabeliste!N24=Daten!N$6,0,12-1.86),1),\"\")","v":""},{"$f":"IF(OR(B24=0,Eingabeliste!E24=\"\"),0,MAX(Eingabeliste!E24,1000)*B24)","v":0},{"$f":"IFERROR((ROUNDUP(Eingabeliste!E24/Daten!$K$15,0)-1)*B24,\"\")","v":""},{"$f":"IF(Eingabeliste!N24=\"Pulverbesch.\",Daten!$D$1,Eingabeliste!N24)","v":""},{"$f":"Eingabeliste!AB24","v":""},{"$f":"Eingabeliste!AC24","v":""},{"$f":"Eingabeliste!AA24","v":""},{"$f":"Eingabeliste!I24","v":""},{"$f":"Eingabeliste!G24","v":""},{"$f":"Eingabeliste!H24","v":""},null,null,null,null,null,null,null,null,{"$f":"IF(OR(Eingabeliste!O24=\"Flexila PU\",Eingabeliste!O24=\"Flexila STB\"),Eingabeliste!B24,0)+IF(OR(Eingabeliste!S24=\"Flexila PU\",Eingabeliste!S24=\"Flexila STB\"),Eingabeliste!B24,0)","v":0},null,null,null,null,null,null,null,null,null,null,null,null,null,null,null,null,null,null,null,null,null,null,null,null,0,null,null,null,{"$f":"IF(A24=0,0,IF(C24>$C$2,1,0)+IF(AND(Daten!$F$3=TRUE,Zusammenfassung!J24>Preise!$A$70),1,0)+IF(AND(G24=\"D\",K24>Preise!$A$54),1,0)+IF(AND(OR(G24=\"B\",G24=\"C\"),I24<>\"XPS\",AND(Eingabeliste!AC24>50,Daten!F$3=FALSE)),1,0)+IF(AND(OR(G24=\"B\",G24=\"C\"),I24=\"XPS\",Eingabeliste!AC24>100),1,0))","v":0}]
[{"$f":"IF(Eingabeliste!A25=\"\",0,1)","v":0},{"$f":"Eingabeliste!B25","v":0},{"$f":"IFERROR(ROUND(Eingabeliste!J25/(COS((Eingabeliste!K25*PI())/180))-(SIN((Eingabeliste!K25*PI())/180)*2)+(Eingabeliste!M25-2.74)+IF(Eingabeliste!L25=0,0,Eingabeliste!L25-2.74)+IF(Eingabeliste!N25=Daten!N$6,0,12-1.86),1),\"\")","v":""},{"$f":"IF(OR(B25=0,Eingabeliste!E25=\"\"),0,MAX(Eingabeliste!E25,1000)*B25)","v":0},{"$f":"IFERROR((ROUNDUP(Eingabeliste!E25/Daten!$K$15,0)-1)*B25,\"\")","v":""},{"$f":"IF(Eingabeliste!N25=\"Pulverbesch.\",Daten!$D$1,Eingabeliste!N25)","v":""},{"$f":"Eingabeliste!AB25","v":""},{"$f":"Eingabeliste!AC25","v":""},{"$f":"Eingabeliste!AA25","v":""},{"$f":"Eingabeliste!I25","v":""},{"$f":"Eingabeliste!G25","v":""},{"$f":"Eingabeliste!H25","v":""},null,null,null,null,null,null,null,null,{"$f":"IF(OR(Eingabeliste!O25=\"Flexila PU\",Eingabeliste!O25=\"Flexila STB\"),Eingabeliste!B25,0)+IF(OR(Eingabeliste!S25=\"Flexila PU\",Eingabeliste!S25=\"Flexila STB\"),Eingabeliste!B25,0)","v":0},null,null,null,null,null,null,null,null,null,null,null,null,null,null,null,null,null,null,null,null,null,null,null,null,0,null,null,null,{"$f":"IF(A25=0,0,IF(C25>$C$2,1,0)+IF(AND(Daten!$F$3=TRUE,Zusammenfassung!J25>Preise!$A$70),1,0)+IF(AND(G25=\"D\",K25>Preise!$A$54),1,0)+IF(AND(OR(G25=\"B\",G25=\"C\"),I25<>\"XPS\",AND(Eingabeliste!AC25>50,Daten!F$3=FALSE)),1,0)+IF(AND(OR(G25=\"B\",G25=\"C\"),I25=\"XPS\",Eingabeliste!AC25>100),1,0))","v":0}]
[{"$f":"IF(Eingabeliste!A26=\"\",0,1)","v":0},{"$f":"Eingabeliste!B26","v":0},{"$f":"IFERROR(ROUND(Eingabeliste!J26/(COS((Eingabeliste!K26*PI())/180))-(SIN((Eingabeliste!K26*PI())/180)*2)+(Eingabeliste!M26-2.74)+IF(Eingabeliste!L26=0,0,Eingabeliste!L26-2.74)+IF(Eingabeliste!N26=Daten!N$6,0,12-1.86),1),\"\")","v":""},{"$f":"IF(OR(B26=0,Eingabeliste!E26=\"\"),0,MAX(Eingabeliste!E26,1000)*B26)","v":0},{"$f":"IFERROR((ROUNDUP(Eingabeliste!E26/Daten!$K$15,0)-1)*B26,\"\")","v":""},{"$f":"IF(Eingabeliste!N26=\"Pulverbesch.\",Daten!$D$1,Eingabeliste!N26)","v":""},{"$f":"Eingabeliste!AB26","v":""},{"$f":"Eingabeliste!AC26","v":""},{"$f":"Eingabeliste!AA26","v":""},{"$f":"Eingabeliste!I26","v":""},{"$f":"Eingabeliste!G26","v":""},{"$f":"Eingabeliste!H26","v":""},null,null,null,null,null,null,null,null,{"$f":"IF(OR(Eingabeliste!O26=\"Flexila PU\",Eingabeliste!O26=\"Flexila STB\"),Eingabeliste!B26,0)+IF(OR(Eingabeliste!S26=\"Flexila PU\",Eingabeliste!S26=\"Flexila STB\"),Eingabeliste!B26,0)","v":0},null,null,null,null,null,null,null,null,null,null,null,null,null,null,null,null,null,null,null,null,null,null,null,null,0,null,null,null,{"$f":"IF(A26=0,0,IF(C26>$C$2,1,0)+IF(AND(Daten!$F$3=TRUE,Zusammenfassung!J26>Preise!$A$70),1,0)+IF(AND(G26=\"D\",K26>Preise!$A$54),1,0)+IF(AND(OR(G26=\"B\",G26=\"C\"),I26<>\"XPS\",AND(Eingabeliste!AC26>50,Daten!F$3=FALSE)),1,0)+IF(AND(OR(G26=\"B\",G26=\"C\"),I26=\"XPS\",Eingabeliste!AC26>100),1,0))","v":0}]
[{"$f":"IF(Eingabeliste!A27=\"\",0,1)","v":0},{"$f":"Eingabeliste!B27","v":0},{"$f":"IFERROR(ROUND(Eingabeliste!J27/(COS((Eingabeliste!K27*PI())/180))-(SIN((Eingabeliste!K27*PI())/180)*2)+(Eingabeliste!M27-2.74)+IF(Eingabeliste!L27=0,0,Eingabeliste!L27-2.74)+IF(Eingabeliste!N27=Daten!N$6,0,12-1.86),1),\"\")","v":""},{"$f":"IF(OR(B27=0,Eingabeliste!E27=\"\"),0,MAX(Eingabeliste!E27,1000)*B27)","v":0},{"$f":"IFERROR((ROUNDUP(Eingabeliste!E27/Daten!$K$15,0)-1)*B27,\"\")","v":""},{"$f":"IF(Eingabeliste!N27=\"Pulverbesch.\",Daten!$D$1,Eingabeliste!N27)","v":""},{"$f":"Eingabeliste!AB27","v":""},{"$f":"Eingabeliste!AC27","v":""},{"$f":"Eingabeliste!AA27","v":""},{"$f":"Eingabeliste!I27","v":""},{"$f":"Eingabeliste!G27","v":""},{"$f":"Eingabeliste!H27","v":""},null,null,null,null,null,null,null,null,{"$f":"IF(OR(Eingabeliste!O27=\"Flexila PU\",Eingabeliste!O27=\"Flexila STB\"),Eingabeliste!B27,0)+IF(OR(Eingabeliste!S27=\"Flexila PU\",Eingabeliste!S27=\"Flexila STB\"),Eingabeliste!B27,0)","v":0},null,null,null,null,null,null,null,null,null,null,null,null,null,null,null,null,null,null,null,null,null,null,null,null,0,null,null,null,{"$f":"IF(A27=0,0,IF(C27>$C$2,1,0)+IF(AND(Daten!$F$3=TRUE,Zusammenfassung!J27>Preise!$A$70),1,0)+IF(AND(G27=\"D\",K27>Preise!$A$54),1,0)+IF(AND(OR(G27=\"B\",G27=\"C\"),I27<>\"XPS\",AND(Eingabeliste!AC27>50,Daten!F$3=FALSE)),1,0)+IF(AND(OR(G27=\"B\",G27=\"C\"),I27=\"XPS\",Eingabeliste!AC27>100),1,0))","v":0}]
[{"$f":"IF(Eingabeliste!A28=\"\",0,1)","v":0},{"$f":"Eingabeliste!B28","v":0},{"$f":"IFERROR(ROUND(Eingabeliste!J28/(COS((Eingabeliste!K28*PI())/180))-(SIN((Eingabeliste!K28*PI())/180)*2)+(Eingabeliste!M28-2.74)+IF(Eingabeliste!L28=0,0,Eingabeliste!L28-2.74)+IF(Eingabeliste!N28=Daten!N$6,0,12-1.86),1),\"\")","v":""},{"$f":"IF(OR(B28=0,Eingabeliste!E28=\"\"),0,MAX(Eingabeliste!E28,1000)*B28)","v":0},{"$f":"IFERROR((ROUNDUP(Eingabeliste!E28/Daten!$K$15,0)-1)*B28,\"\")","v":""},{"$f":"IF(Eingabeliste!N28=\"Pulverbesch.\",Daten!$D$1,Eingabeliste!N28)","v":""},{"$f":"Eingabeliste!AB28","v":""},{"$f":"Eingabeliste!AC28","v":""},{"$f":"Eingabeliste!AA28","v":""},{"$f":"Eingabeliste!I28","v":""},{"$f":"Eingabeliste!G28","v":""},{"$f":"Eingabeliste!H28","v":""},null,null,null,null,null,null,null,null,{"$f":"IF(OR(Eingabeliste!O28=\"Flexila PU\",Eingabeliste!O28=\"Flexila STB\"),Eingabeliste!B28,0)+IF(OR(Eingabeliste!S28=\"Flexila PU\",Eingabeliste!S28=\"Flexila STB\"),Eingabeliste!B28,0)","v":0},null,null,null,null,null,null,null,null,null,null,null,null,null,null,null,null,null,null,null,null,null,null,null,null,0,null,null,null,{"$f":"IF(A28=0,0,IF(C28>$C$2,1,0)+IF(AND(Daten!$F$3=TRUE,Zusammenfassung!J28>Preise!$A$70),1,0)+IF(AND(G28=\"D\",K28>Preise!$A$54),1,0)+IF(AND(OR(G28=\"B\",G28=\"C\"),I28<>\"XPS\",AND(Eingabeliste!AC28>50,Daten!F$3=FALSE)),1,0)+IF(AND(OR(G28=\"B\",G28=\"C\"),I28=\"XPS\",Eingabeliste!AC28>100),1,0))","v":0}]
[{"$f":"IF(Eingabeliste!A29=\"\",0,1)","v":0},{"$f":"Eingabeliste!B29","v":0},{"$f":"IFERROR(ROUND(Eingabeliste!J29/(COS((Eingabeliste!K29*PI())/180))-(SIN((Eingabeliste!K29*PI())/180)*2)+(Eingabeliste!M29-2.74)+IF(Eingabeliste!L29=0,0,Eingabeliste!L29-2.74)+IF(Eingabeliste!N29=Daten!N$6,0,12-1.86),1),\"\")","v":""},{"$f":"IF(OR(B29=0,Eingabeliste!E29=\"\"),0,MAX(Eingabeliste!E29,1000)*B29)","v":0},{"$f":"IFERROR((ROUNDUP(Eingabeliste!E29/Daten!$K$15,0)-1)*B29,\"\")","v":""},{"$f":"IF(Eingabeliste!N29=\"Pulverbesch.\",Daten!$D$1,Eingabeliste!N29)","v":""},{"$f":"Eingabeliste!AB29","v":""},{"$f":"Eingabeliste!AC29","v":""},{"$f":"Eingabeliste!AA29","v":""},{"$f":"Eingabeliste!I29","v":""},{"$f":"Eingabeliste!G29","v":""},{"$f":"Eingabeliste!H29","v":""},null,null,null,null,null,null,null,null,{"$f":"IF(OR(Eingabeliste!O29=\"Flexila PU\",Eingabeliste!O29=\"Flexila STB\"),Eingabeliste!B29,0)+IF(OR(Eingabeliste!S29=\"Flexila PU\",Eingabeliste!S29=\"Flexila STB\"),Eingabeliste!B29,0)","v":0},null,null,null,null,null,null,null,null,null,null,null,null,null,null,null,null,null,null,null,null,null,null,null,null,0,null,null,null,{"$f":"IF(A29=0,0,IF(C29>$C$2,1,0)+IF(AND(Daten!$F$3=TRUE,Zusammenfassung!J29>Preise!$A$70),1,0)+IF(AND(G29=\"D\",K29>Preise!$A$54),1,0)+IF(AND(OR(G29=\"B\",G29=\"C\"),I29<>\"XPS\",AND(Eingabeliste!AC29>50,Daten!F$3=FALSE)),1,0)+IF(AND(OR(G29=\"B\",G29=\"C\"),I29=\"XPS\",Eingabeliste!AC29>100),1,0))","v":0}]
[{"$f":"IF(Eingabeliste!A30=\"\",0,1)","v":0},{"$f":"Eingabeliste!B30","v":0},{"$f":"IFERROR(ROUND(Eingabeliste!J30/(COS((Eingabeliste!K30*PI())/180))-(SIN((Eingabeliste!K30*PI())/180)*2)+(Eingabeliste!M30-2.74)+IF(Eingabeliste!L30=0,0,Eingabeliste!L30-2.74)+IF(Eingabeliste!N30=Daten!N$6,0,12-1.86),1),\"\")","v":""},{"$f":"IF(OR(B30=0,Eingabeliste!E30=\"\"),0,MAX(Eingabeliste!E30,1000)*B30)","v":0},{"$f":"IFERROR((ROUNDUP(Eingabeliste!E30/Daten!$K$15,0)-1)*B30,\"\")","v":""},{"$f":"IF(Eingabeliste!N30=\"Pulverbesch.\",Daten!$D$1,Eingabeliste!N30)","v":""},{"$f":"Eingabeliste!AB30","v":""},{"$f":"Eingabeliste!AC30","v":""},{"$f":"Eingabeliste!AA30","v":""},{"$f":"Eingabeliste!I30","v":""},{"$f":"Eingabeliste!G30","v":""},{"$f":"Eingabeliste!H30","v":""},null,null,null,null,null,null,null,null,{"$f":"IF(OR(Eingabeliste!O30=\"Flexila PU\",Eingabeliste!O30=\"Flexila STB\"),Eingabeliste!B30,0)+IF(OR(Eingabeliste!S30=\"Flexila PU\",Eingabeliste!S30=\"Flexila STB\"),Eingabeliste!B30,0)","v":0},null,null,null,null,null,null,null,null,null,null,null,null,null,null,null,null,null,null,null,null,null,null,null,null,0,null,null,null,{"$f":"IF(A30=0,0,IF(C30>$C$2,1,0)+IF(AND(Daten!$F$3=TRUE,Zusammenfassung!J30>Preise!$A$70),1,0)+IF(AND(G30=\"D\",K30>Preise!$A$54),1,0)+IF(AND(OR(G30=\"B\",G30=\"C\"),I30<>\"XPS\",AND(Eingabeliste!AC30>50,Daten!F$3=FALSE)),1,0)+IF(AND(OR(G30=\"B\",G30=\"C\"),I30=\"XPS\",Eingabeliste!AC30>100),1,0))","v":0}]
[{"$f":"IF(Eingabeliste!A31=\"\",0,1)","v":0},{"$f":"Eingabeliste!B31","v":0},{"$f":"IFERROR(ROUND(Eingabeliste!J31/(COS((Eingabeliste!K31*PI())/180))-(SIN((Eingabeliste!K31*PI())/180)*2)+(Eingabeliste!M31-2.74)+IF(Eingabeliste!L31=0,0,Eingabeliste!L31-2.74)+IF(Eingabeliste!N31=Daten!N$6,0,12-1.86),1),\"\")","v":""},{"$f":"IF(OR(B31=0,Eingabeliste!E31=\"\"),0,MAX(Eingabeliste!E31,1000)*B31)","v":0},{"$f":"IFERROR((ROUNDUP(Eingabeliste!E31/Daten!$K$15,0)-1)*B31,\"\")","v":""},{"$f":"IF(Eingabeliste!N31=\"Pulverbesch.\",Daten!$D$1,Eingabeliste!N31)","v":""},{"$f":"Eingabeliste!AB31","v":""},{"$f":"Eingabeliste!AC31","v":""},{"$f":"Eingabeliste!AA31","v":""},{"$f":"Eingabeliste!I31","v":""},{"$f":"Eingabeliste!G31","v":""},{"$f":"Eingabeliste!H31","v":""},null,null,null,null,null,null,null,null,{"$f":"IF(OR(Eingabeliste!O31=\"Flexila PU\",Eingabeliste!O31=\"Flexila STB\"),Eingabeliste!B31,0)+IF(OR(Eingabeliste!S31=\"Flexila PU\",Eingabeliste!S31=\"Flexila STB\"),Eingabeliste!B31,0)","v":0},null,null,null,null,null,null,null,null,null,null,null,null,null,null,null,null,null,null,null,null,null,null,null,null,0,null,null,null,{"$f":"IF(A31=0,0,IF(C31>$C$2,1,0)+IF(AND(Daten!$F$3=TRUE,Zusammenfassung!J31>Preise!$A$70),1,0)+IF(AND(G31=\"D\",K31>Preise!$A$54),1,0)+IF(AND(OR(G31=\"B\",G31=\"C\"),I31<>\"XPS\",AND(Eingabeliste!AC31>50,Daten!F$3=FALSE)),1,0)+IF(AND(OR(G31=\"B\",G31=\"C\"),I31=\"XPS\",Eingabeliste!AC31>100),1,0))","v":0}]
[{"$f":"IF(Eingabeliste!A32=\"\",0,1)","v":0},{"$f":"Eingabeliste!B32","v":0},{"$f":"IFERROR(ROUND(Eingabeliste!J32/(COS((Eingabeliste!K32*PI())/180))-(SIN((Eingabeliste!K32*PI())/180)*2)+(Eingabeliste!M32-2.74)+IF(Eingabeliste!L32=0,0,Eingabeliste!L32-2.74)+IF(Eingabeliste!N32=Daten!N$6,0,12-1.86),1),\"\")","v":""},{"$f":"IF(OR(B32=0,Eingabeliste!E32=\"\"),0,MAX(Eingabeliste!E32,1000)*B32)","v":0},{"$f":"IFERROR((ROUNDUP(Eingabeliste!E32/Daten!$K$15,0)-1)*B32,\"\")","v":""},{"$f":"IF(Eingabeliste!N32=\"Pulverbesch.\",Daten!$D$1,Eingabeliste!N32)","v":""},{"$f":"Eingabeliste!AB32","v":""},{"$f":"Eingabeliste!AC32","v":""},{"$f":"Eingabeliste!AA32","v":""},{"$f":"Eingabeliste!I32","v":""},{"$f":"Eingabeliste!G32","v":""},{"$f":"Eingabeliste!H32","v":""},null,null,null,null,null,null,null,null,{"$f":"IF(OR(Eingabeliste!O32=\"Flexila PU\",Eingabeliste!O32=\"Flexila STB\"),Eingabeliste!B32,0)+IF(OR(Eingabeliste!S32=\"Flexila PU\",Eingabeliste!S32=\"Flexila STB\"),Eingabeliste!B32,0)","v":0},null,null,null,null,null,null,null,null,null,null,null,null,null,null,null,null,null,null,null,null,null,null,null,null,0,null,null,null,{"$f":"IF(A32=0,0,IF(C32>$C$2,1,0)+IF(AND(Daten!$F$3=TRUE,Zusammenfassung!J32>Preise!$A$70),1,0)+IF(AND(G32=\"D\",K32>Preise!$A$54),1,0)+IF(AND(OR(G32=\"B\",G32=\"C\"),I32<>\"XPS\",AND(Eingabeliste!AC32>50,Daten!F$3=FALSE)),1,0)+IF(AND(OR(G32=\"B\",G32=\"C\"),I32=\"XPS\",Eingabeliste!AC32>100),1,0))","v":0}]
[{"$f":"IF(Eingabeliste!A33=\"\",0,1)","v":0},{"$f":"Eingabeliste!B33","v":0},{"$f":"IFERROR(ROUND(Eingabeliste!J33/(COS((Eingabeliste!K33*PI())/180))-(SIN((Eingabeliste!K33*PI())/180)*2)+(Eingabeliste!M33-2.74)+IF(Eingabeliste!L33=0,0,Eingabeliste!L33-2.74)+IF(Eingabeliste!N33=Daten!N$6,0,12-1.86),1),\"\")","v":""},{"$f":"IF(OR(B33=0,Eingabeliste!E33=\"\"),0,MAX(Eingabeliste!E33,1000)*B33)","v":0},{"$f":"IFERROR((ROUNDUP(Eingabeliste!E33/Daten!$K$15,0)-1)*B33,\"\")","v":""},{"$f":"IF(Eingabeliste!N33=\"Pulverbesch.\",Daten!$D$1,Eingabeliste!N33)","v":""},{"$f":"Eingabeliste!AB33","v":""},{"$f":"Eingabeliste!AC33","v":""},{"$f":"Eingabeliste!AA33","v":""},{"$f":"Eingabeliste!I33","v":""},{"$f":"Eingabeliste!G33","v":""},{"$f":"Eingabeliste!H33","v":""},null,null,null,null,null,null,null,null,{"$f":"IF(OR(Eingabeliste!O33=\"Flexila PU\",Eingabeliste!O33=\"Flexila STB\"),Eingabeliste!B33,0)+IF(OR(Eingabeliste!S33=\"Flexila PU\",Eingabeliste!S33=\"Flexila STB\"),Eingabeliste!B33,0)","v":0},null,null,null,null,null,null,null,null,null,null,null,null,null,null,null,null,null,null,null,null,null,null,null,null,0,null,null,null,{"$f":"IF(A33=0,0,IF(C33>$C$2,1,0)+IF(AND(Daten!$F$3=TRUE,Zusammenfassung!J33>Preise!$A$70),1,0)+IF(AND(G33=\"D\",K33>Preise!$A$54),1,0)+IF(AND(OR(G33=\"B\",G33=\"C\"),I33<>\"XPS\",AND(Eingabeliste!AC33>50,Daten!F$3=FALSE)),1,0)+IF(AND(OR(G33=\"B\",G33=\"C\"),I33=\"XPS\",Eingabeliste!AC33>100),1,0))","v":0}]
[{"$f":"IF(Eingabeliste!A34=\"\",0,1)","v":0},{"$f":"Eingabeliste!B34","v":0},{"$f":"IFERROR(ROUND(Eingabeliste!J34/(COS((Eingabeliste!K34*PI())/180))-(SIN((Eingabeliste!K34*PI())/180)*2)+(Eingabeliste!M34-2.74)+IF(Eingabeliste!L34=0,0,Eingabeliste!L34-2.74)+IF(Eingabeliste!N34=Daten!N$6,0,12-1.86),1),\"\")","v":""},{"$f":"IF(OR(B34=0,Eingabeliste!E34=\"\"),0,MAX(Eingabeliste!E34,1000)*B34)","v":0},{"$f":"IFERROR((ROUNDUP(Eingabeliste!E34/Daten!$K$15,0)-1)*B34,\"\")","v":""},{"$f":"IF(Eingabeliste!N34=\"Pulverbesch.\",Daten!$D$1,Eingabeliste!N34)","v":""},{"$f":"Eingabeliste!AB34","v":""},{"$f":"Eingabeliste!AC34","v":""},{"$f":"Eingabeliste!AA34","v":""},{"$f":"Eingabeliste!I34","v":""},{"$f":"Eingabeliste!G34","v":""},{"$f":"Eingabeliste!H34","v":""},null,null,null,null,null,null,null,null,{"$f":"IF(OR(Eingabeliste!O34=\"Flexila PU\",Eingabeliste!O34=\"Flexila STB\"),Eingabeliste!B34,0)+IF(OR(Eingabeliste!S34=\"Flexila PU\",Eingabeliste!S34=\"Flexila STB\"),Eingabeliste!B34,0)","v":0},null,null,null,null,null,null,null,null,null,null,null,null,null,null,null,null,null,null,null,null,null,null,null,null,0,null,null,null,{"$f":"IF(A34=0,0,IF(C34>$C$2,1,0)+IF(AND(Daten!$F$3=TRUE,Zusammenfassung!J34>Preise!$A$70),1,0)+IF(AND(G34=\"D\",K34>Preise!$A$54),1,0)+IF(AND(OR(G34=\"B\",G34=\"C\"),I34<>\"XPS\",AND(Eingabeliste!AC34>50,Daten!F$3=FALSE)),1,0)+IF(AND(OR(G34=\"B\",G34=\"C\"),I34=\"XPS\",Eingabeliste!AC34>100),1,0))","v":0}]
[{"$f":"IF(Eingabeliste!A35=\"\",0,1)","v":0},{"$f":"Eingabeliste!B35","v":0},{"$f":"IFERROR(ROUND(Eingabeliste!J35/(COS((Eingabeliste!K35*PI())/180))-(SIN((Eingabeliste!K35*PI())/180)*2)+(Eingabeliste!M35-2.74)+IF(Eingabeliste!L35=0,0,Eingabeliste!L35-2.74)+IF(Eingabeliste!N35=Daten!N$6,0,12-1.86),1),\"\")","v":""},{"$f":"IF(OR(B35=0,Eingabeliste!E35=\"\"),0,MAX(Eingabeliste!E35,1000)*B35)","v":0},{"$f":"IFERROR((ROUNDUP(Eingabeliste!E35/Daten!$K$15,0)-1)*B35,\"\")","v":""},{"$f":"IF(Eingabeliste!N35=\"Pulverbesch.\",Daten!$D$1,Eingabeliste!N35)","v":""},{"$f":"Eingabeliste!AB35","v":""},{"$f":"Eingabeliste!AC35","v":""},{"$f":"Eingabeliste!AA35","v":""},{"$f":"Eingabeliste!I35","v":""},{"$f":"Eingabeliste!G35","v":""},{"$f":"Eingabeliste!H35","v":""},null,null,null,null,null,null,null,null,{"$f":"IF(OR(Eingabeliste!O35=\"Flexila PU\",Eingabeliste!O35=\"Flexila STB\"),Eingabeliste!B35,0)+IF(OR(Eingabeliste!S35=\"Flexila PU\",Eingabeliste!S35=\"Flexila STB\"),Eingabeliste!B35,0)","v":0},null,null,null,null,null,null,null,null,null,null,null,null,null,null,null,null,null,null,null,null,null,null,null,null,0,null,null,null,{"$f":"IF(A35=0,0,IF(C35>$C$2,1,0)+IF(AND(Daten!$F$3=TRUE,Zusammenfassung!J35>Preise!$A$70),1,0)+IF(AND(G35=\"D\",K35>Preise!$A$54),1,0)+IF(AND(OR(G35=\"B\",G35=\"C\"),I35<>\"XPS\",AND(Eingabeliste!AC35>50,Daten!F$3=FALSE)),1,0)+IF(AND(OR(G35=\"B\",G35=\"C\"),I35=\"XPS\",Eingabeliste!AC35>100),1,0))","v":0}]
[{"$f":"IF(Eingabeliste!A36=\"\",0,1)","v":0},{"$f":"Eingabeliste!B36","v":0},{"$f":"IFERROR(ROUND(Eingabeliste!J36/(COS((Eingabeliste!K36*PI())/180))-(SIN((Eingabeliste!K36*PI())/180)*2)+(Eingabeliste!M36-2.74)+IF(Eingabeliste!L36=0,0,Eingabeliste!L36-2.74)+IF(Eingabeliste!N36=Daten!N$6,0,12-1.86),1),\"\")","v":""},{"$f":"IF(OR(B36=0,Eingabeliste!E36=\"\"),0,MAX(Eingabeliste!E36,1000)*B36)","v":0},{"$f":"IFERROR((ROUNDUP(Eingabeliste!E36/Daten!$K$15,0)-1)*B36,\"\")","v":""},{"$f":"IF(Eingabeliste!N36=\"Pulverbesch.\",Daten!$D$1,Eingabeliste!N36)","v":""},{"$f":"Eingabeliste!AB36","v":""},{"$f":"Eingabeliste!AC36","v":""},{"$f":"Eingabeliste!AA36","v":""},{"$f":"Eingabeliste!I36","v":""},{"$f":"Eingabeliste!G36","v":""},{"$f":"Eingabeliste!H36","v":""},null,null,null,null,null,null,null,null,{"$f":"IF(OR(Eingabeliste!O36=\"Flexila PU\",Eingabeliste!O36=\"Flexila STB\"),Eingabeliste!B36,0)+IF(OR(Eingabeliste!S36=\"Flexila PU\",Eingabeliste!S36=\"Flexila STB\"),Eingabeliste!B36,0)","v":0},null,null,null,null,null,null,null,null,null,null,null,null,null,null,null,null,null,null,null,null,null,null,null,null,0,null,null,null,{"$f":"IF(A36=0,0,IF(C36>$C$2,1,0)+IF(AND(Daten!$F$3=TRUE,Zusammenfassung!J36>Preise!$A$70),1,0)+IF(AND(G36=\"D\",K36>Preise!$A$54),1,0)+IF(AND(OR(G36=\"B\",G36=\"C\"),I36<>\"XPS\",AND(Eingabeliste!AC36>50,Daten!F$3=FALSE)),1,0)+IF(AND(OR(G36=\"B\",G36=\"C\"),I36=\"XPS\",Eingabeliste!AC36>100),1,0))","v":0}]
[{"$f":"IF(Eingabeliste!A37=\"\",0,1)","v":0},{"$f":"Eingabeliste!B37","v":0},{"$f":"IFERROR(ROUND(Eingabeliste!J37/(COS((Eingabeliste!K37*PI())/180))-(SIN((Eingabeliste!K37*PI())/180)*2)+(Eingabeliste!M37-2.74)+IF(Eingabeliste!L37=0,0,Eingabeliste!L37-2.74)+IF(Eingabeliste!N37=Daten!N$6,0,12-1.86),1),\"\")","v":""},{"$f":"IF(OR(B37=0,Eingabeliste!E37=\"\"),0,MAX(Eingabeliste!E37,1000)*B37)","v":0},{"$f":"IFERROR((ROUNDUP(Eingabeliste!E37/Daten!$K$15,0)-1)*B37,\"\")","v":""},{"$f":"IF(Eingabeliste!N37=\"Pulverbesch.\",Daten!$D$1,Eingabeliste!N37)","v":""},{"$f":"Eingabeliste!AB37","v":""},{"$f":"Eingabeliste!AC37","v":""},{"$f":"Eingabeliste!AA37","v":""},{"$f":"Eingabeliste!I37","v":""},{"$f":"Eingabeliste!G37","v":""},{"$f":"Eingabeliste!H37","v":""},null,null,null,null,null,null,null,null,{"$f":"IF(OR(Eingabeliste!O37=\"Flexila PU\",Eingabeliste!O37=\"Flexila STB\"),Eingabeliste!B37,0)+IF(OR(Eingabeliste!S37=\"Flexila PU\",Eingabeliste!S37=\"Flexila STB\"),Eingabeliste!B37,0)","v":0},null,null,null,null,null,null,null,null,null,null,null,null,null,null,null,null,null,null,null,null,null,null,null,null,0,null,null,null,{"$f":"IF(A37=0,0,IF(C37>$C$2,1,0)+IF(AND(Daten!$F$3=TRUE,Zusammenfassung!J37>Preise!$A$70),1,0)+IF(AND(G37=\"D\",K37>Preise!$A$54),1,0)+IF(AND(OR(G37=\"B\",G37=\"C\"),I37<>\"XPS\",AND(Eingabeliste!AC37>50,Daten!F$3=FALSE)),1,0)+IF(AND(OR(G37=\"B\",G37=\"C\"),I37=\"XPS\",Eingabeliste!AC37>100),1,0))","v":0}]
[{"$f":"IF(Eingabeliste!A38=\"\",0,1)","v":0},{"$f":"Eingabeliste!B38","v":0},{"$f":"IFERROR(ROUND(Eingabeliste!J38/(COS((Eingabeliste!K38*PI())/180))-(SIN((Eingabeliste!K38*PI())/180)*2)+(Eingabeliste!M38-2.74)+IF(Eingabeliste!L38=0,0,Eingabeliste!L38-2.74)+IF(Eingabeliste!N38=Daten!N$6,0,12-1.86),1),\"\")","v":""},{"$f":"IF(OR(B38=0,Eingabeliste!E38=\"\"),0,MAX(Eingabeliste!E38,1000)*B38)","v":0},{"$f":"IFERROR((ROUNDUP(Eingabeliste!E38/Daten!$K$15,0)-1)*B38,\"\")","v":""},{"$f":"IF(Eingabeliste!N38=\"Pulverbesch.\",Daten!$D$1,Eingabeliste!N38)","v":""},{"$f":"Eingabeliste!AB38","v":""},{"$f":"Eingabeliste!AC38","v":""},{"$f":"Eingabeliste!AA38","v":""},{"$f":"Eingabeliste!I38","v":""},{"$f":"Eingabeliste!G38","v":""},{"$f":"Eingabeliste!H38","v":""},null,null,null,null,null,null,null,null,{"$f":"IF(OR(Eingabeliste!O38=\"Flexila PU\",Eingabeliste!O38=\"Flexila STB\"),Eingabeliste!B38,0)+IF(OR(Eingabeliste!S38=\"Flexila PU\",Eingabeliste!S38=\"Flexila STB\"),Eingabeliste!B38,0)","v":0},null,null,null,null,null,null,null,null,null,null,null,null,null,null,null,null,null,null,null,null,null,null,null,null,0,null,null,null,{"$f":"IF(A38=0,0,IF(C38>$C$2,1,0)+IF(AND(Daten!$F$3=TRUE,Zusammenfassung!J38>Preise!$A$70),1,0)+IF(AND(G38=\"D\",K38>Preise!$A$54),1,0)+IF(AND(OR(G38=\"B\",G38=\"C\"),I38<>\"XPS\",AND(Eingabeliste!AC38>50,Daten!F$3=FALSE)),1,0)+IF(AND(OR(G38=\"B\",G38=\"C\"),I38=\"XPS\",Eingabeliste!AC38>100),1,0))","v":0}]
[{"$f":"IF(Eingabeliste!A39=\"\",0,1)","v":0},{"$f":"Eingabeliste!B39","v":0},{"$f":"IFERROR(ROUND(Eingabeliste!J39/(COS((Eingabeliste!K39*PI())/180))-(SIN((Eingabeliste!K39*PI())/180)*2)+(Eingabeliste!M39-2.74)+IF(Eingabeliste!L39=0,0,Eingabeliste!L39-2.74)+IF(Eingabeliste!N39=Daten!N$6,0,12-1.86),1),\"\")","v":""},{"$f":"IF(OR(B39=0,Eingabeliste!E39=\"\"),0,MAX(Eingabeliste!E39,1000)*B39)","v":0},{"$f":"IFERROR((ROUNDUP(Eingabeliste!E39/Daten!$K$15,0)-1)*B39,\"\")","v":""},{"$f":"IF(Eingabeliste!N39=\"Pulverbesch.\",Daten!$D$1,Eingabeliste!N39)","v":""},{"$f":"Eingabeliste!AB39","v":""},{"$f":"Eingabeliste!AC39","v":""},{"$f":"Eingabeliste!AA39","v":""},{"$f":"Eingabeliste!I39","v":""},{"$f":"Eingabeliste!G39","v":""},{"$f":"Eingabeliste!H39","v":""},null,null,null,null,null,null,null,null,{"$f":"IF(OR(Eingabeliste!O39=\"Flexila PU\",Eingabeliste!O39=\"Flexila STB\"),Eingabeliste!B39,0)+IF(OR(Eingabeliste!S39=\"Flexila PU\",Eingabeliste!S39=\"Flexila STB\"),Eingabeliste!B39,0)","v":0},null,null,null,null,null,null,null,null,null,null,null,null,null,null,null,null,null,null,null,null,null,null,null,null,0,null,null,null,{"$f":"IF(A39=0,0,IF(C39>$C$2,1,0)+IF(AND(Daten!$F$3=TRUE,Zusammenfassung!J39>Preise!$A$70),1,0)+IF(AND(G39=\"D\",K39>Preise!$A$54),1,0)+IF(AND(OR(G39=\"B\",G39=\"C\"),I39<>\"XPS\",AND(Eingabeliste!AC39>50,Daten!F$3=FALSE)),1,0)+IF(AND(OR(G39=\"B\",G39=\"C\"),I39=\"XPS\",Eingabeliste!AC39>100),1,0))","v":0}]
[{"$f":"IF(Eingabeliste!A40=\"\",0,1)","v":0},{"$f":"Eingabeliste!B40","v":0},{"$f":"IFERROR(ROUND(Eingabeliste!J40/(COS((Eingabeliste!K40*PI())/180))-(SIN((Eingabeliste!K40*PI())/180)*2)+(Eingabeliste!M40-2.74)+IF(Eingabeliste!L40=0,0,Eingabeliste!L40-2.74)+IF(Eingabeliste!N40=Daten!N$6,0,12-1.86),1),\"\")","v":""},{"$f":"IF(OR(B40=0,Eingabeliste!E40=\"\"),0,MAX(Eingabeliste!E40,1000)*B40)","v":0},{"$f":"IFERROR((ROUNDUP(Eingabeliste!E40/Daten!$K$15,0)-1)*B40,\"\")","v":""},{"$f":"IF(Eingabeliste!N40=\"Pulverbesch.\",Daten!$D$1,Eingabeliste!N40)","v":""},{"$f":"Eingabeliste!AB40","v":""},{"$f":"Eingabeliste!AC40","v":""},{"$f":"Eingabeliste!AA40","v":""},{"$f":"Eingabeliste!I40","v":""},{"$f":"Eingabeliste!G40","v":""},{"$f":"Eingabeliste!H40","v":""},null,null,null,null,null,null,null,null,{"$f":"IF(OR(Eingabeliste!O40=\"Flexila PU\",Eingabeliste!O40=\"Flexila STB\"),Eingabeliste!B40,0)+IF(OR(Eingabeliste!S40=\"Flexila PU\",Eingabeliste!S40=\"Flexila STB\"),Eingabeliste!B40,0)","v":0},null,null,null,null,null,null,null,null,null,null,null,null,null,null,null,null,null,null,null,null,null,null,null,null,0,null,null,null,{"$f":"IF(A40=0,0,IF(C40>$C$2,1,0)+IF(AND(Daten!$F$3=TRUE,Zusammenfassung!J40>Preise!$A$70),1,0)+IF(AND(G40=\"D\",K40>Preise!$A$54),1,0)+IF(AND(OR(G40=\"B\",G40=\"C\"),I40<>\"XPS\",AND(Eingabeliste!AC40>50,Daten!F$3=FALSE)),1,0)+IF(AND(OR(G40=\"B\",G40=\"C\"),I40=\"XPS\",Eingabeliste!AC40>100),1,0))","v":0}]
[{"$f":"IF(Eingabeliste!A41=\"\",0,1)","v":0},{"$f":"Eingabeliste!B41","v":0},{"$f":"IFERROR(ROUND(Eingabeliste!J41/(COS((Eingabeliste!K41*PI())/180))-(SIN((Eingabeliste!K41*PI())/180)*2)+(Eingabeliste!M41-2.74)+IF(Eingabeliste!L41=0,0,Eingabeliste!L41-2.74)+IF(Eingabeliste!N41=Daten!N$6,0,12-1.86),1),\"\")","v":""},{"$f":"IF(OR(B41=0,Eingabeliste!E41=\"\"),0,MAX(Eingabeliste!E41,1000)*B41)","v":0},{"$f":"IFERROR((ROUNDUP(Eingabeliste!E41/Daten!$K$15,0)-1)*B41,\"\")","v":""},{"$f":"IF(Eingabeliste!N41=\"Pulverbesch.\",Daten!$D$1,Eingabeliste!N41)","v":""},{"$f":"Eingabeliste!AB41","v":""},{"$f":"Eingabeliste!AC41","v":""},{"$f":"Eingabeliste!AA41","v":""},{"$f":"Eingabeliste!I41","v":""},{"$f":"Eingabeliste!G41","v":""},{"$f":"Eingabeliste!H41","v":""},null,null,null,null,null,null,null,null,{"$f":"IF(OR(Eingabeliste!O41=\"Flexila PU\",Eingabeliste!O41=\"Flexila STB\"),Eingabeliste!B41,0)+IF(OR(Eingabeliste!S41=\"Flexila PU\",Eingabeliste!S41=\"Flexila STB\"),Eingabeliste!B41,0)","v":0},null,null,null,null,null,null,null,null,null,null,null,null,null,null,null,null,null,null,null,null,null,null,null,null,0,null,null,null,{"$f":"IF(A41=0,0,IF(C41>$C$2,1,0)+IF(AND(Daten!$F$3=TRUE,Zusammenfassung!J41>Preise!$A$70),1,0)+IF(AND(G41=\"D\",K41>Preise!$A$54),1,0)+IF(AND(OR(G41=\"B\",G41=\"C\"),I41<>\"XPS\",AND(Eingabeliste!AC41>50,Daten!F$3=FALSE)),1,0)+IF(AND(OR(G41=\"B\",G41=\"C\"),I41=\"XPS\",Eingabeliste!AC41>100),1,0))","v":0}]
[{"$f":"IF(Eingabeliste!A42=\"\",0,1)","v":0},{"$f":"Eingabeliste!B42","v":0},{"$f":"IFERROR(ROUND(Eingabeliste!J42/(COS((Eingabeliste!K42*PI())/180))-(SIN((Eingabeliste!K42*PI())/180)*2)+(Eingabeliste!M42-2.74)+IF(Eingabeliste!L42=0,0,Eingabeliste!L42-2.74)+IF(Eingabeliste!N42=Daten!N$6,0,12-1.86),1),\"\")","v":""},{"$f":"IF(OR(B42=0,Eingabeliste!E42=\"\"),0,MAX(Eingabeliste!E42,1000)*B42)","v":0},{"$f":"IFERROR((ROUNDUP(Eingabeliste!E42/Daten!$K$15,0)-1)*B42,\"\")","v":""},{"$f":"IF(Eingabeliste!N42=\"Pulverbesch.\",Daten!$D$1,Eingabeliste!N42)","v":""},{"$f":"Eingabeliste!AB42","v":""},{"$f":"Eingabeliste!AC42","v":""},{"$f":"Eingabeliste!AA42","v":""},{"$f":"Eingabeliste!I42","v":""},{"$f":"Eingabeliste!G42","v":""},{"$f":"Eingabeliste!H42","v":""},null,null,null,null,null,null,null,null,{"$f":"IF(OR(Eingabeliste!O42=\"Flexila PU\",Eingabeliste!O42=\"Flexila STB\"),Eingabeliste!B42,0)+IF(OR(Eingabeliste!S42=\"Flexila PU\",Eingabeliste!S42=\"Flexila STB\"),Eingabeliste!B42,0)","v":0},null,null,null,null,null,null,null,null,null,null,null,null,null,null,null,null,null,null,null,null,null,null,null,null,0,null,null,null,{"$f":"IF(A42=0,0,IF(C42>$C$2,1,0)+IF(AND(Daten!$F$3=TRUE,Zusammenfassung!J42>Preise!$A$70),1,0)+IF(AND(G42=\"D\",K42>Preise!$A$54),1,0)+IF(AND(OR(G42=\"B\",G42=\"C\"),I42<>\"XPS\",AND(Eingabeliste!AC42>50,Daten!F$3=FALSE)),1,0)+IF(AND(OR(G42=\"B\",G42=\"C\"),I42=\"XPS\",Eingabeliste!AC42>100),1,0))","v":0}]
[{"$f":"IF(Eingabeliste!A43=\"\",0,1)","v":0},{"$f":"Eingabeliste!B43","v":0},{"$f":"IFERROR(ROUND(Eingabeliste!J43/(COS((Eingabeliste!K43*PI())/180))-(SIN((Eingabeliste!K43*PI())/180)*2)+(Eingabeliste!M43-2.74)+IF(Eingabeliste!L43=0,0,Eingabeliste!L43-2.74)+IF(Eingabeliste!N43=Daten!N$6,0,12-1.86),1),\"\")","v":""},{"$f":"IF(OR(B43=0,Eingabeliste!E43=\"\"),0,MAX(Eingabeliste!E43,1000)*B43)","v":0},{"$f":"IFERROR((ROUNDUP(Eingabeliste!E43/Daten!$K$15,0)-1)*B43,\"\")","v":""},{"$f":"IF(Eingabeliste!N43=\"Pulverbesch.\",Daten!$D$1,Eingabeliste!N43)","v":""},{"$f":"Eingabeliste!AB43","v":""},{"$f":"Eingabeliste!AC43","v":""},{"$f":"Eingabeliste!AA43","v":""},{"$f":"Eingabeliste!I43","v":""},{"$f":"Eingabeliste!G43","v":""},{"$f":"Eingabeliste!H43","v":""},null,null,null,null,null,null,null,null,{"$f":"IF(OR(Eingabeliste!O43=\"Flexila PU\",Eingabeliste!O43=\"Flexila STB\"),Eingabeliste!B43,0)+IF(OR(Eingabeliste!S43=\"Flexila PU\",Eingabeliste!S43=\"Flexila STB\"),Eingabeliste!B43,0)","v":0},null,null,null,null,null,null,null,null,null,null,null,null,null,null,null,null,null,null,null,null,null,null,null,null,0,null,null,null,{"$f":"IF(A43=0,0,IF(C43>$C$2,1,0)+IF(AND(Daten!$F$3=TRUE,Zusammenfassung!J43>Preise!$A$70),1,0)+IF(AND(G43=\"D\",K43>Preise!$A$54),1,0)+IF(AND(OR(G43=\"B\",G43=\"C\"),I43<>\"XPS\",AND(Eingabeliste!AC43>50,Daten!F$3=FALSE)),1,0)+IF(AND(OR(G43=\"B\",G43=\"C\"),I43=\"XPS\",Eingabeliste!AC43>100),1,0))","v":0}]
[{"$f":"IF(Eingabeliste!A44=\"\",0,1)","v":0},{"$f":"Eingabeliste!B44","v":0},{"$f":"IFERROR(ROUND(Eingabeliste!J44/(COS((Eingabeliste!K44*PI())/180))-(SIN((Eingabeliste!K44*PI())/180)*2)+(Eingabeliste!M44-2.74)+IF(Eingabeliste!L44=0,0,Eingabeliste!L44-2.74)+IF(Eingabeliste!N44=Daten!N$6,0,12-1.86),1),\"\")","v":""},{"$f":"IF(OR(B44=0,Eingabeliste!E44=\"\"),0,MAX(Eingabeliste!E44,1000)*B44)","v":0},{"$f":"IFERROR((ROUNDUP(Eingabeliste!E44/Daten!$K$15,0)-1)*B44,\"\")","v":""},{"$f":"IF(Eingabeliste!N44=\"Pulverbesch.\",Daten!$D$1,Eingabeliste!N44)","v":""},{"$f":"Eingabeliste!AB44","v":""},{"$f":"Eingabeliste!AC44","v":""},{"$f":"Eingabeliste!AA44","v":""},{"$f":"Eingabeliste!I44","v":""},{"$f":"Eingabeliste!G44","v":""},{"$f":"Eingabeliste!H44","v":""},null,null,null,null,null,null,null,null,{"$f":"IF(OR(Eingabeliste!O44=\"Flexila PU\",Eingabeliste!O44=\"Flexila STB\"),Eingabeliste!B44,0)+IF(OR(Eingabeliste!S44=\"Flexila PU\",Eingabeliste!S44=\"Flexila STB\"),Eingabeliste!B44,0)","v":0},null,null,null,null,null,null,null,null,null,null,null,null,null,null,null,null,null,null,null,null,null,null,null,null,0,null,null,null,{"$f":"IF(A44=0,0,IF(C44>$C$2,1,0)+IF(AND(Daten!$F$3=TRUE,Zusammenfassung!J44>Preise!$A$70),1,0)+IF(AND(G44=\"D\",K44>Preise!$A$54),1,0)+IF(AND(OR(G44=\"B\",G44=\"C\"),I44<>\"XPS\",AND(Eingabeliste!AC44>50,Daten!F$3=FALSE)),1,0)+IF(AND(OR(G44=\"B\",G44=\"C\"),I44=\"XPS\",Eingabeliste!AC44>100),1,0))","v":0}]
[{"$f":"IF(Eingabeliste!A45=\"\",0,1)","v":0},{"$f":"Eingabeliste!B45","v":0},{"$f":"IFERROR(ROUND(Eingabeliste!J45/(COS((Eingabeliste!K45*PI())/180))-(SIN((Eingabeliste!K45*PI())/180)*2)+(Eingabeliste!M45-2.74)+IF(Eingabeliste!L45=0,0,Eingabeliste!L45-2.74)+IF(Eingabeliste!N45=Daten!N$6,0,12-1.86),1),\"\")","v":""},{"$f":"IF(OR(B45=0,Eingabeliste!E45=\"\"),0,MAX(Eingabeliste!E45,1000)*B45)","v":0},{"$f":"IFERROR((ROUNDUP(Eingabeliste!E45/Daten!$K$15,0)-1)*B45,\"\")","v":""},{"$f":"IF(Eingabeliste!N45=\"Pulverbesch.\",Daten!$D$1,Eingabeliste!N45)","v":""},{"$f":"Eingabeliste!AB45","v":""},{"$f":"Eingabeliste!AC45","v":""},{"$f":"Eingabeliste!AA45","v":""},{"$f":"Eingabeliste!I45","v":""},{"$f":"Eingabeliste!G45","v":""},{"$f":"Eingabeliste!H45","v":""},null,null,null,null,null,null,null,null,{"$f":"IF(OR(Eingabeliste!O45=\"Flexila PU\",Eingabeliste!O45=\"Flexila STB\"),Eingabeliste!B45,0)+IF(OR(Eingabeliste!S45=\"Flexila PU\",Eingabeliste!S45=\"Flexila STB\"),Eingabeliste!B45,0)","v":0},null,null,null,null,null,null,null,null,null,null,null,null,null,null,null,null,null,null,null,null,null,null,null,null,0,null,null,null,{"$f":"IF(A45=0,0,IF(C45>$C$2,1,0)+IF(AND(Daten!$F$3=TRUE,Zusammenfassung!J45>Preise!$A$70),1,0)+IF(AND(G45=\"D\",K45>Preise!$A$54),1,0)+IF(AND(OR(G45=\"B\",G45=\"C\"),I45<>\"XPS\",AND(Eingabeliste!AC45>50,Daten!F$3=FALSE)),1,0)+IF(AND(OR(G45=\"B\",G45=\"C\"),I45=\"XPS\",Eingabeliste!AC45>100),1,0))","v":0}]
[{"$f":"IF(Eingabeliste!A46=\"\",0,1)","v":0},{"$f":"Eingabeliste!B46","v":0},{"$f":"IFERROR(ROUND(Eingabeliste!J46/(COS((Eingabeliste!K46*PI())/180))-(SIN((Eingabeliste!K46*PI())/180)*2)+(Eingabeliste!M46-2.74)+IF(Eingabeliste!L46=0,0,Eingabeliste!L46-2.74)+IF(Eingabeliste!N46=Daten!N$6,0,12-1.86),1),\"\")","v":""},{"$f":"IF(OR(B46=0,Eingabeliste!E46=\"\"),0,MAX(Eingabeliste!E46,1000)*B46)","v":0},{"$f":"IFERROR((ROUNDUP(Eingabeliste!E46/Daten!$K$15,0)-1)*B46,\"\")","v":""},{"$f":"IF(Eingabeliste!N46=\"Pulverbesch.\",Daten!$D$1,Eingabeliste!N46)","v":""},{"$f":"Eingabeliste!AB46","v":""},{"$f":"Eingabeliste!AC46","v":""},{"$f":"Eingabeliste!AA46","v":""},{"$f":"Eingabeliste!I46","v":""},{"$f":"Eingabeliste!G46","v":""},{"$f":"Eingabeliste!H46","v":""},null,null,null,null,null,null,null,null,{"$f":"IF(OR(Eingabeliste!O46=\"Flexila PU\",Eingabeliste!O46=\"Flexila STB\"),Eingabeliste!B46,0)+IF(OR(Eingabeliste!S46=\"Flexila PU\",Eingabeliste!S46=\"Flexila STB\"),Eingabeliste!B46,0)","v":0},null,null,null,null,null,null,null,null,null,null,null,null,null,null,null,null,null,null,null,null,null,null,null,null,0,null,null,null,{"$f":"IF(A46=0,0,IF(C46>$C$2,1,0)+IF(AND(Daten!$F$3=TRUE,Zusammenfassung!J46>Preise!$A$70),1,0)+IF(AND(G46=\"D\",K46>Preise!$A$54),1,0)+IF(AND(OR(G46=\"B\",G46=\"C\"),I46<>\"XPS\",AND(Eingabeliste!AC46>50,Daten!F$3=FALSE)),1,0)+IF(AND(OR(G46=\"B\",G46=\"C\"),I46=\"XPS\",Eingabeliste!AC46>100),1,0))","v":0}]
[{"$f":"IF(Eingabeliste!A47=\"\",0,1)","v":0},{"$f":"Eingabeliste!B47","v":0},{"$f":"IFERROR(ROUND(Eingabeliste!J47/(COS((Eingabeliste!K47*PI())/180))-(SIN((Eingabeliste!K47*PI())/180)*2)+(Eingabeliste!M47-2.74)+IF(Eingabeliste!L47=0,0,Eingabeliste!L47-2.74)+IF(Eingabeliste!N47=Daten!N$6,0,12-1.86),1),\"\")","v":""},{"$f":"IF(OR(B47=0,Eingabeliste!E47=\"\"),0,MAX(Eingabeliste!E47,1000)*B47)","v":0},{"$f":"IFERROR((ROUNDUP(Eingabeliste!E47/Daten!$K$15,0)-1)*B47,\"\")","v":""},{"$f":"IF(Eingabeliste!N47=\"Pulverbesch.\",Daten!$D$1,Eingabeliste!N47)","v":""},{"$f":"Eingabeliste!AB47","v":""},{"$f":"Eingabeliste!AC47","v":""},{"$f":"Eingabeliste!AA47","v":""},{"$f":"Eingabeliste!I47","v":""},{"$f":"Eingabeliste!G47","v":""},{"$f":"Eingabeliste!H47","v":""},null,null,null,null,null,null,null,null,{"$f":"IF(OR(Eingabeliste!O47=\"Flexila PU\",Eingabeliste!O47=\"Flexila STB\"),Eingabeliste!B47,0)+IF(OR(Eingabeliste!S47=\"Flexila PU\",Eingabeliste!S47=\"Flexila STB\"),Eingabeliste!B47,0)","v":0},null,null,null,null,null,null,null,null,null,null,null,null,null,null,null,null,null,null,null,null,null,null,null,null,0,null,null,null,{"$f":"IF(A47=0,0,IF(C47>$C$2,1,0)+IF(AND(Daten!$F$3=TRUE,Zusammenfassung!J47>Preise!$A$70),1,0)+IF(AND(G47=\"D\",K47>Preise!$A$54),1,0)+IF(AND(OR(G47=\"B\",G47=\"C\"),I47<>\"XPS\",AND(Eingabeliste!AC47>50,Daten!F$3=FALSE)),1,0)+IF(AND(OR(G47=\"B\",G47=\"C\"),I47=\"XPS\",Eingabeliste!AC47>100),1,0))","v":0}]
[{"$f":"IF(Eingabeliste!A48=\"\",0,1)","v":0},{"$f":"Eingabeliste!B48","v":0},{"$f":"IFERROR(ROUND(Eingabeliste!J48/(COS((Eingabeliste!K48*PI())/180))-(SIN((Eingabeliste!K48*PI())/180)*2)+(Eingabeliste!M48-2.74)+IF(Eingabeliste!L48=0,0,Eingabeliste!L48-2.74)+IF(Eingabeliste!N48=Daten!N$6,0,12-1.86),1),\"\")","v":""},{"$f":"IF(OR(B48=0,Eingabeliste!E48=\"\"),0,MAX(Eingabeliste!E48,1000)*B48)","v":0},{"$f":"IFERROR((ROUNDUP(Eingabeliste!E48/Daten!$K$15,0)-1)*B48,\"\")","v":""},{"$f":"IF(Eingabeliste!N48=\"Pulverbesch.\",Daten!$D$1,Eingabeliste!N48)","v":""},{"$f":"Eingabeliste!AB48","v":""},{"$f":"Eingabeliste!AC48","v":""},{"$f":"Eingabeliste!AA48","v":""},{"$f":"Eingabeliste!I48","v":""},{"$f":"Eingabeliste!G48","v":""},{"$f":"Eingabeliste!H48","v":""},null,null,null,null,null,null,null,null,{"$f":"IF(OR(Eingabeliste!O48=\"Flexila PU\",Eingabeliste!O48=\"Flexila STB\"),Eingabeliste!B48,0)+IF(OR(Eingabeliste!S48=\"Flexila PU\",Eingabeliste!S48=\"Flexila STB\"),Eingabeliste!B48,0)","v":0},null,null,null,null,null,null,null,null,null,null,null,null,null,null,null,null,null,null,null,null,null,null,null,null,0,null,null,null,{"$f":"IF(A48=0,0,IF(C48>$C$2,1,0)+IF(AND(Daten!$F$3=TRUE,Zusammenfassung!J48>Preise!$A$70),1,0)+IF(AND(G48=\"D\",K48>Preise!$A$54),1,0)+IF(AND(OR(G48=\"B\",G48=\"C\"),I48<>\"XPS\",AND(Eingabeliste!AC48>50,Daten!F$3=FALSE)),1,0)+IF(AND(OR(G48=\"B\",G48=\"C\"),I48=\"XPS\",Eingabeliste!AC48>100),1,0))","v":0}]
[{"$f":"IF(Eingabeliste!A49=\"\",0,1)","v":0},{"$f":"Eingabeliste!B49","v":0},{"$f":"IFERROR(ROUND(Eingabeliste!J49/(COS((Eingabeliste!K49*PI())/180))-(SIN((Eingabeliste!K49*PI())/180)*2)+(Eingabeliste!M49-2.74)+IF(Eingabeliste!L49=0,0,Eingabeliste!L49-2.74)+IF(Eingabeliste!N49=Daten!N$6,0,12-1.86),1),\"\")","v":""},{"$f":"IF(OR(B49=0,Eingabeliste!E49=\"\"),0,MAX(Eingabeliste!E49,1000)*B49)","v":0},{"$f":"IFERROR((ROUNDUP(Eingabeliste!E49/Daten!$K$15,0)-1)*B49,\"\")","v":""},{"$f":"IF(Eingabeliste!N49=\"Pulverbesch.\",Daten!$D$1,Eingabeliste!N49)","v":""},{"$f":"Eingabeliste!AB49","v":""},{"$f":"Eingabeliste!AC49","v":""},{"$f":"Eingabeliste!AA49","v":""},{"$f":"Eingabeliste!I49","v":""},{"$f":"Eingabeliste!G49","v":""},{"$f":"Eingabeliste!H49","v":""},null,null,null,null,null,null,null,null,{"$f":"IF(OR(Eingabeliste!O49=\"Flexila PU\",Eingabeliste!O49=\"Flexila STB\"),Eingabeliste!B49,0)+IF(OR(Eingabeliste!S49=\"Flexila PU\",Eingabeliste!S49=\"Flexila STB\"),Eingabeliste!B49,0)","v":0},null,null,null,null,null,null,null,null,null,null,null,null,null,null,null,null,null,null,null,null,null,null,null,null,0,null,null,null,{"$f":"IF(A49=0,0,IF(C49>$C$2,1,0)+IF(AND(Daten!$F$3=TRUE,Zusammenfassung!J49>Preise!$A$70),1,0)+IF(AND(G49=\"D\",K49>Preise!$A$54),1,0)+IF(AND(OR(G49=\"B\",G49=\"C\"),I49<>\"XPS\",AND(Eingabeliste!AC49>50,Daten!F$3=FALSE)),1,0)+IF(AND(OR(G49=\"B\",G49=\"C\"),I49=\"XPS\",Eingabeliste!AC49>100),1,0))","v":0}]
[{"$f":"IF(Eingabeliste!A50=\"\",0,1)","v":0},{"$f":"Eingabeliste!B50","v":0},{"$f":"IFERROR(ROUND(Eingabeliste!J50/(COS((Eingabeliste!K50*PI())/180))-(SIN((Eingabeliste!K50*PI())/180)*2)+(Eingabeliste!M50-2.74)+IF(Eingabeliste!L50=0,0,Eingabeliste!L50-2.74)+IF(Eingabeliste!N50=Daten!N$6,0,12-1.86),1),\"\")","v":""},{"$f":"IF(OR(B50=0,Eingabeliste!E50=\"\"),0,MAX(Eingabeliste!E50,1000)*B50)","v":0},{"$f":"IFERROR((ROUNDUP(Eingabeliste!E50/Daten!$K$15,0)-1)*B50,\"\")","v":""},{"$f":"IF(Eingabeliste!N50=\"Pulverbesch.\",Daten!$D$1,Eingabeliste!N50)","v":""},{"$f":"Eingabeliste!AB50","v":""},{"$f":"Eingabeliste!AC50","v":""},{"$f":"Eingabeliste!AA50","v":""},{"$f":"Eingabeliste!I50","v":""},{"$f":"Eingabeliste!G50","v":""},{"$f":"Eingabeliste!H50","v":""},null,null,null,null,null,null,null,null,{"$f":"IF(OR(Eingabeliste!O50=\"Flexila PU\",Eingabeliste!O50=\"Flexila STB\"),Eingabeliste!B50,0)+IF(OR(Eingabeliste!S50=\"Flexila PU\",Eingabeliste!S50=\"Flexila STB\"),Eingabeliste!B50,0)","v":0},null,null,null,null,null,null,null,null,null,null,null,null,null,null,null,null,null,null,null,null,null,null,null,null,0,null,null,null,{"$f":"IF(A50=0,0,IF(C50>$C$2,1,0)+IF(AND(Daten!$F$3=TRUE,Zusammenfassung!J50>Preise!$A$70),1,0)+IF(AND(G50=\"D\",K50>Preise!$A$54),1,0)+IF(AND(OR(G50=\"B\",G50=\"C\"),I50<>\"XPS\",AND(Eingabeliste!AC50>50,Daten!F$3=FALSE)),1,0)+IF(AND(OR(G50=\"B\",G50=\"C\"),I50=\"XPS\",Eingabeliste!AC50>100),1,0))","v":0}]
[{"$f":"IF(Eingabeliste!A51=\"\",0,1)","v":0},{"$f":"Eingabeliste!B51","v":0},{"$f":"IFERROR(ROUND(Eingabeliste!J51/(COS((Eingabeliste!K51*PI())/180))-(SIN((Eingabeliste!K51*PI())/180)*2)+(Eingabeliste!M51-2.74)+IF(Eingabeliste!L51=0,0,Eingabeliste!L51-2.74)+IF(Eingabeliste!N51=Daten!N$6,0,12-1.86),1),\"\")","v":""},{"$f":"IF(OR(B51=0,Eingabeliste!E51=\"\"),0,MAX(Eingabeliste!E51,1000)*B51)","v":0},{"$f":"IFERROR((ROUNDUP(Eingabeliste!E51/Daten!$K$15,0)-1)*B51,\"\")","v":""},{"$f":"IF(Eingabeliste!N51=\"Pulverbesch.\",Daten!$D$1,Eingabeliste!N51)","v":""},{"$f":"Eingabeliste!AB51","v":""},{"$f":"Eingabeliste!AC51","v":""},{"$f":"Eingabeliste!AA51","v":""},{"$f":"Eingabeliste!I51","v":""},{"$f":"Eingabeliste!G51","v":""},{"$f":"Eingabeliste!H51","v":""},null,null,null,null,null,null,null,null,{"$f":"IF(OR(Eingabeliste!O51=\"Flexila PU\",Eingabeliste!O51=\"Flexila STB\"),Eingabeliste!B51,0)+IF(OR(Eingabeliste!S51=\"Flexila PU\",Eingabeliste!S51=\"Flexila STB\"),Eingabeliste!B51,0)","v":0},null,null,null,null,null,null,null,null,null,null,null,null,null,null,null,null,null,null,null,null,null,null,null,null,0,null,null,null,{"$f":"IF(A51=0,0,IF(C51>$C$2,1,0)+IF(AND(Daten!$F$3=TRUE,Zusammenfassung!J51>Preise!$A$70),1,0)+IF(AND(G51=\"D\",K51>Preise!$A$54),1,0)+IF(AND(OR(G51=\"B\",G51=\"C\"),I51<>\"XPS\",AND(Eingabeliste!AC51>50,Daten!F$3=FALSE)),1,0)+IF(AND(OR(G51=\"B\",G51=\"C\"),I51=\"XPS\",Eingabeliste!AC51>100),1,0))","v":0}]
[{"$f":"IF(Eingabeliste!A52=\"\",0,1)","v":0},{"$f":"Eingabeliste!B52","v":0},{"$f":"IFERROR(ROUND(Eingabeliste!J52/(COS((Eingabeliste!K52*PI())/180))-(SIN((Eingabeliste!K52*PI())/180)*2)+(Eingabeliste!M52-2.74)+IF(Eingabeliste!L52=0,0,Eingabeliste!L52-2.74)+IF(Eingabeliste!N52=Daten!N$6,0,12-1.86),1),\"\")","v":""},{"$f":"IF(OR(B52=0,Eingabeliste!E52=\"\"),0,MAX(Eingabeliste!E52,1000)*B52)","v":0},{"$f":"IFERROR((ROUNDUP(Eingabeliste!E52/Daten!$K$15,0)-1)*B52,\"\")","v":""},{"$f":"IF(Eingabeliste!N52=\"Pulverbesch.\",Daten!$D$1,Eingabeliste!N52)","v":""},{"$f":"Eingabeliste!AB52","v":""},{"$f":"Eingabeliste!AC52","v":""},{"$f":"Eingabeliste!AA52","v":""},{"$f":"Eingabeliste!I52","v":""},{"$f":"Eingabeliste!G52","v":""},{"$f":"Eingabeliste!H52","v":""},null,null,null,null,null,null,null,null,{"$f":"IF(OR(Eingabeliste!O52=\"Flexila PU\",Eingabeliste!O52=\"Flexila STB\"),Eingabeliste!B52,0)+IF(OR(Eingabeliste!S52=\"Flexila PU\",Eingabeliste!S52=\"Flexila STB\"),Eingabeliste!B52,0)","v":0},null,null,null,null,null,null,null,null,null,null,null,null,null,null,null,null,null,null,null,null,null,null,null,null,0,null,null,null,{"$f":"IF(A52=0,0,IF(C52>$C$2,1,0)+IF(AND(Daten!$F$3=TRUE,Zusammenfassung!J52>Preise!$A$70),1,0)+IF(AND(G52=\"D\",K52>Preise!$A$54),1,0)+IF(AND(OR(G52=\"B\",G52=\"C\"),I52<>\"XPS\",AND(Eingabeliste!AC52>50,Daten!F$3=FALSE)),1,0)+IF(AND(OR(G52=\"B\",G52=\"C\"),I52=\"XPS\",Eingabeliste!AC52>100),1,0))","v":0}]
[{"$f":"IF(Eingabeliste!A53=\"\",0,1)","v":0},{"$f":"Eingabeliste!B53","v":0},{"$f":"IFERROR(ROUND(Eingabeliste!J53/(COS((Eingabeliste!K53*PI())/180))-(SIN((Eingabeliste!K53*PI())/180)*2)+(Eingabeliste!M53-2.74)+IF(Eingabeliste!L53=0,0,Eingabeliste!L53-2.74)+IF(Eingabeliste!N53=Daten!N$6,0,12-1.86),1),\"\")","v":""},{"$f":"IF(OR(B53=0,Eingabeliste!E53=\"\"),0,MAX(Eingabeliste!E53,1000)*B53)","v":0},{"$f":"IFERROR((ROUNDUP(Eingabeliste!E53/Daten!$K$15,0)-1)*B53,\"\")","v":""},{"$f":"IF(Eingabeliste!N53=\"Pulverbesch.\",Daten!$D$1,Eingabeliste!N53)","v":""},{"$f":"Eingabeliste!AB53","v":""},{"$f":"Eingabeliste!AC53","v":""},{"$f":"Eingabeliste!AA53","v":""},{"$f":"Eingabeliste!I53","v":""},{"$f":"Eingabeliste!G53","v":""},{"$f":"Eingabeliste!H53","v":""},null,null,null,null,null,null,null,null,{"$f":"IF(OR(Eingabeliste!O53=\"Flexila PU\",Eingabeliste!O53=\"Flexila STB\"),Eingabeliste!B53,0)+IF(OR(Eingabeliste!S53=\"Flexila PU\",Eingabeliste!S53=\"Flexila STB\"),Eingabeliste!B53,0)","v":0},null,null,null,null,null,null,null,null,null,null,null,null,null,null,null,null,null,null,null,null,null,null,null,null,0,null,null,null,{"$f":"IF(A53=0,0,IF(C53>$C$2,1,0)+IF(AND(Daten!$F$3=TRUE,Zusammenfassung!J53>Preise!$A$70),1,0)+IF(AND(G53=\"D\",K53>Preise!$A$54),1,0)+IF(AND(OR(G53=\"B\",G53=\"C\"),I53<>\"XPS\",AND(Eingabeliste!AC53>50,Daten!F$3=FALSE)),1,0)+IF(AND(OR(G53=\"B\",G53=\"C\"),I53=\"XPS\",Eingabeliste!AC53>100),1,0))","v":0}]
[{"$f":"IF(Eingabeliste!A54=\"\",0,1)","v":0},{"$f":"Eingabeliste!B54","v":0},{"$f":"IFERROR(ROUND(Eingabeliste!J54/(COS((Eingabeliste!K54*PI())/180))-(SIN((Eingabeliste!K54*PI())/180)*2)+(Eingabeliste!M54-2.74)+IF(Eingabeliste!L54=0,0,Eingabeliste!L54-2.74)+IF(Eingabeliste!N54=Daten!N$6,0,12-1.86),1),\"\")","v":""},{"$f":"IF(OR(B54=0,Eingabeliste!E54=\"\"),0,MAX(Eingabeliste!E54,1000)*B54)","v":0},{"$f":"IFERROR((ROUNDUP(Eingabeliste!E54/Daten!$K$15,0)-1)*B54,\"\")","v":""},{"$f":"IF(Eingabeliste!N54=\"Pulverbesch.\",Daten!$D$1,Eingabeliste!N54)","v":""},{"$f":"Eingabeliste!AB54","v":""},{"$f":"Eingabeliste!AC54","v":""},{"$f":"Eingabeliste!AA54","v":""},{"$f":"Eingabeliste!I54","v":""},{"$f":"Eingabeliste!G54","v":""},{"$f":"Eingabeliste!H54","v":""},null,null,null,null,null,null,null,null,{"$f":"IF(OR(Eingabeliste!O54=\"Flexila PU\",Eingabeliste!O54=\"Flexila STB\"),Eingabeliste!B54,0)+IF(OR(Eingabeliste!S54=\"Flexila PU\",Eingabeliste!S54=\"Flexila STB\"),Eingabeliste!B54,0)","v":0},null,null,null,null,null,null,null,null,null,null,null,null,null,null,null,null,null,null,null,null,null,null,null,null,0,null,null,null,{"$f":"IF(A54=0,0,IF(C54>$C$2,1,0)+IF(AND(Daten!$F$3=TRUE,Zusammenfassung!J54>Preise!$A$70),1,0)+IF(AND(G54=\"D\",K54>Preise!$A$54),1,0)+IF(AND(OR(G54=\"B\",G54=\"C\"),I54<>\"XPS\",AND(Eingabeliste!AC54>50,Daten!F$3=FALSE)),1,0)+IF(AND(OR(G54=\"B\",G54=\"C\"),I54=\"XPS\",Eingabeliste!AC54>100),1,0))","v":0}]
[{"$f":"IF(Eingabeliste!A55=\"\",0,1)","v":0},{"$f":"Eingabeliste!B55","v":0},{"$f":"IFERROR(ROUND(Eingabeliste!J55/(COS((Eingabeliste!K55*PI())/180))-(SIN((Eingabeliste!K55*PI())/180)*2)+(Eingabeliste!M55-2.74)+IF(Eingabeliste!L55=0,0,Eingabeliste!L55-2.74)+IF(Eingabeliste!N55=Daten!N$6,0,12-1.86),1),\"\")","v":""},{"$f":"IF(OR(B55=0,Eingabeliste!E55=\"\"),0,MAX(Eingabeliste!E55,1000)*B55)","v":0},{"$f":"IFERROR((ROUNDUP(Eingabeliste!E55/Daten!$K$15,0)-1)*B55,\"\")","v":""},{"$f":"IF(Eingabeliste!N55=\"Pulverbesch.\",Daten!$D$1,Eingabeliste!N55)","v":""},{"$f":"Eingabeliste!AB55","v":""},{"$f":"Eingabeliste!AC55","v":""},{"$f":"Eingabeliste!AA55","v":""},{"$f":"Eingabeliste!I55","v":""},{"$f":"Eingabeliste!G55","v":""},{"$f":"Eingabeliste!H55","v":""},null,null,null,null,null,null,null,null,{"$f":"IF(OR(Eingabeliste!O55=\"Flexila PU\",Eingabeliste!O55=\"Flexila STB\"),Eingabeliste!B55,0)+IF(OR(Eingabeliste!S55=\"Flexila PU\",Eingabeliste!S55=\"Flexila STB\"),Eingabeliste!B55,0)","v":0},null,null,null,null,null,null,null,null,null,null,null,null,null,null,null,null,null,null,null,null,null,null,null,null,0,null,null,null,{"$f":"IF(A55=0,0,IF(C55>$C$2,1,0)+IF(AND(Daten!$F$3=TRUE,Zusammenfassung!J55>Preise!$A$70),1,0)+IF(AND(G55=\"D\",K55>Preise!$A$54),1,0)+IF(AND(OR(G55=\"B\",G55=\"C\"),I55<>\"XPS\",AND(Eingabeliste!AC55>50,Daten!F$3=FALSE)),1,0)+IF(AND(OR(G55=\"B\",G55=\"C\"),I55=\"XPS\",Eingabeliste!AC55>100),1,0))","v":0}]
[{"$f":"IF(Eingabeliste!A56=\"\",0,1)","v":0},{"$f":"Eingabeliste!B56","v":0},{"$f":"IFERROR(ROUND(Eingabeliste!J56/(COS((Eingabeliste!K56*PI())/180))-(SIN((Eingabeliste!K56*PI())/180)*2)+(Eingabeliste!M56-2.74)+IF(Eingabeliste!L56=0,0,Eingabeliste!L56-2.74)+IF(Eingabeliste!N56=Daten!N$6,0,12-1.86),1),\"\")","v":""},{"$f":"IF(OR(B56=0,Eingabeliste!E56=\"\"),0,MAX(Eingabeliste!E56,1000)*B56)","v":0},{"$f":"IFERROR((ROUNDUP(Eingabeliste!E56/Daten!$K$15,0)-1)*B56,\"\")","v":""},{"$f":"IF(Eingabeliste!N56=\"Pulverbesch.\",Daten!$D$1,Eingabeliste!N56)","v":""},{"$f":"Eingabeliste!AB56","v":""},{"$f":"Eingabeliste!AC56","v":""},{"$f":"Eingabeliste!AA56","v":""},{"$f":"Eingabeliste!I56","v":""},{"$f":"Eingabeliste!G56","v":""},{"$f":"Eingabeliste!H56","v":""},null,null,null,null,null,null,null,null,{"$f":"IF(OR(Eingabeliste!O56=\"Flexila PU\",Eingabeliste!O56=\"Flexila STB\"),Eingabeliste!B56,0)+IF(OR(Eingabeliste!S56=\"Flexila PU\",Eingabeliste!S56=\"Flexila STB\"),Eingabeliste!B56,0)","v":0},null,null,null,null,null,null,null,null,null,null,null,null,null,null,null,null,null,null,null,null,null,null,null,null,0,null,null,null,{"$f":"IF(A56=0,0,IF(C56>$C$2,1,0)+IF(AND(Daten!$F$3=TRUE,Zusammenfassung!J56>Preise!$A$70),1,0)+IF(AND(G56=\"D\",K56>Preise!$A$54),1,0)+IF(AND(OR(G56=\"B\",G56=\"C\"),I56<>\"XPS\",AND(Eingabeliste!AC56>50,Daten!F$3=FALSE)),1,0)+IF(AND(OR(G56=\"B\",G56=\"C\"),I56=\"XPS\",Eingabeliste!AC56>100),1,0))","v":0}]
[{"$f":"IF(Eingabeliste!A57=\"\",0,1)","v":0},{"$f":"Eingabeliste!B57","v":0},{"$f":"IFERROR(ROUND(Eingabeliste!J57/(COS((Eingabeliste!K57*PI())/180))-(SIN((Eingabeliste!K57*PI())/180)*2)+(Eingabeliste!M57-2.74)+IF(Eingabeliste!L57=0,0,Eingabeliste!L57-2.74)+IF(Eingabeliste!N57=Daten!N$6,0,12-1.86),1),\"\")","v":""},{"$f":"IF(OR(B57=0,Eingabeliste!E57=\"\"),0,MAX(Eingabeliste!E57,1000)*B57)","v":0},{"$f":"IFERROR((ROUNDUP(Eingabeliste!E57/Daten!$K$15,0)-1)*B57,\"\")","v":""},{"$f":"IF(Eingabeliste!N57=\"Pulverbesch.\",Daten!$D$1,Eingabeliste!N57)","v":""},{"$f":"Eingabeliste!AB57","v":""},{"$f":"Eingabeliste!AC57","v":""},{"$f":"Eingabeliste!AA57","v":""},{"$f":"Eingabeliste!I57","v":""},{"$f":"Eingabeliste!G57","v":""},{"$f":"Eingabeliste!H57","v":""},null,null,null,null,null,null,null,null,{"$f":"IF(OR(Eingabeliste!O57=\"Flexila PU\",Eingabeliste!O57=\"Flexila STB\"),Eingabeliste!B57,0)+IF(OR(Eingabeliste!S57=\"Flexila PU\",Eingabeliste!S57=\"Flexila STB\"),Eingabeliste!B57,0)","v":0},null,null,null,null,null,null,null,null,null,null,null,null,null,null,null,null,null,null,null,null,null,null,null,null,0,null,null,null,{"$f":"IF(A57=0,0,IF(C57>$C$2,1,0)+IF(AND(Daten!$F$3=TRUE,Zusammenfassung!J57>Preise!$A$70),1,0)+IF(AND(G57=\"D\",K57>Preise!$A$54),1,0)+IF(AND(OR(G57=\"B\",G57=\"C\"),I57<>\"XPS\",AND(Eingabeliste!AC57>50,Daten!F$3=FALSE)),1,0)+IF(AND(OR(G57=\"B\",G57=\"C\"),I57=\"XPS\",Eingabeliste!AC57>100),1,0))","v":0}]
[{"$f":"IF(Eingabeliste!A58=\"\",0,1)","v":0},{"$f":"Eingabeliste!B58","v":0},{"$f":"IFERROR(ROUND(Eingabeliste!J58/(COS((Eingabeliste!K58*PI())/180))-(SIN((Eingabeliste!K58*PI())/180)*2)+(Eingabeliste!M58-2.74)+IF(Eingabeliste!L58=0,0,Eingabeliste!L58-2.74)+IF(Eingabeliste!N58=Daten!N$6,0,12-1.86),1),\"\")","v":""},{"$f":"IF(OR(B58=0,Eingabeliste!E58=\"\"),0,MAX(Eingabeliste!E58,1000)*B58)","v":0},{"$f":"IFERROR((ROUNDUP(Eingabeliste!E58/Daten!$K$15,0)-1)*B58,\"\")","v":""},{"$f":"IF(Eingabeliste!N58=\"Pulverbesch.\",Daten!$D$1,Eingabeliste!N58)","v":""},{"$f":"Eingabeliste!AB58","v":""},{"$f":"Eingabeliste!AC58","v":""},{"$f":"Eingabeliste!AA58","v":""},{"$f":"Eingabeliste!I58","v":""},{"$f":"Eingabeliste!G58","v":""},{"$f":"Eingabeliste!H58","v":""},null,null,null,null,null,null,null,null,{"$f":"IF(OR(Eingabeliste!O58=\"Flexila PU\",Eingabeliste!O58=\"Flexila STB\"),Eingabeliste!B58,0)+IF(OR(Eingabeliste!S58=\"Flexila PU\",Eingabeliste!S58=\"Flexila STB\"),Eingabeliste!B58,0)","v":0},null,null,null,null,null,null,null,null,null,null,null,null,null,null,null,null,null,null,null,null,null,null,null,null,0,null,null,null,{"$f":"IF(A58=0,0,IF(C58>$C$2,1,0)+IF(AND(Daten!$F$3=TRUE,Zusammenfassung!J58>Preise!$A$70),1,0)+IF(AND(G58=\"D\",K58>Preise!$A$54),1,0)+IF(AND(OR(G58=\"B\",G58=\"C\"),I58<>\"XPS\",AND(Eingabeliste!AC58>50,Daten!F$3=FALSE)),1,0)+IF(AND(OR(G58=\"B\",G58=\"C\"),I58=\"XPS\",Eingabeliste!AC58>100),1,0))","v":0}]
[{"$f":"IF(Eingabeliste!A59=\"\",0,1)","v":0},{"$f":"Eingabeliste!B59","v":0},{"$f":"IFERROR(ROUND(Eingabeliste!J59/(COS((Eingabeliste!K59*PI())/180))-(SIN((Eingabeliste!K59*PI())/180)*2)+(Eingabeliste!M59-2.74)+IF(Eingabeliste!L59=0,0,Eingabeliste!L59-2.74)+IF(Eingabeliste!N59=Daten!N$6,0,12-1.86),1),\"\")","v":""},{"$f":"IF(OR(B59=0,Eingabeliste!E59=\"\"),0,MAX(Eingabeliste!E59,1000)*B59)","v":0},{"$f":"IFERROR((ROUNDUP(Eingabeliste!E59/Daten!$K$15,0)-1)*B59,\"\")","v":""},{"$f":"IF(Eingabeliste!N59=\"Pulverbesch.\",Daten!$D$1,Eingabeliste!N59)","v":""},{"$f":"Eingabeliste!AB59","v":""},{"$f":"Eingabeliste!AC59","v":""},{"$f":"Eingabeliste!AA59","v":""},{"$f":"Eingabeliste!I59","v":""},{"$f":"Eingabeliste!G59","v":""},{"$f":"Eingabeliste!H59","v":""},null,null,null,null,null,null,null,null,{"$f":"IF(OR(Eingabeliste!O59=\"Flexila PU\",Eingabeliste!O59=\"Flexila STB\"),Eingabeliste!B59,0)+IF(OR(Eingabeliste!S59=\"Flexila PU\",Eingabeliste!S59=\"Flexila STB\"),Eingabeliste!B59,0)","v":0},null,null,null,null,null,null,null,null,null,null,null,null,null,null,null,null,null,null,null,null,null,null,null,null,0,null,null,null,{"$f":"IF(A59=0,0,IF(C59>$C$2,1,0)+IF(AND(Daten!$F$3=TRUE,Zusammenfassung!J59>Preise!$A$70),1,0)+IF(AND(G59=\"D\",K59>Preise!$A$54),1,0)+IF(AND(OR(G59=\"B\",G59=\"C\"),I59<>\"XPS\",AND(Eingabeliste!AC59>50,Daten!F$3=FALSE)),1,0)+IF(AND(OR(G59=\"B\",G59=\"C\"),I59=\"XPS\",Eingabeliste!AC59>100),1,0))","v":0}]
[{"$f":"IF(Eingabeliste!A60=\"\",0,1)","v":0},{"$f":"Eingabeliste!B60","v":0},{"$f":"IFERROR(ROUND(Eingabeliste!J60/(COS((Eingabeliste!K60*PI())/180))-(SIN((Eingabeliste!K60*PI())/180)*2)+(Eingabeliste!M60-2.74)+IF(Eingabeliste!L60=0,0,Eingabeliste!L60-2.74)+IF(Eingabeliste!N60=Daten!N$6,0,12-1.86),1),\"\")","v":""},{"$f":"IF(OR(B60=0,Eingabeliste!E60=\"\"),0,MAX(Eingabeliste!E60,1000)*B60)","v":0},{"$f":"IFERROR((ROUNDUP(Eingabeliste!E60/Daten!$K$15,0)-1)*B60,\"\")","v":""},{"$f":"IF(Eingabeliste!N60=\"Pulverbesch.\",Daten!$D$1,Eingabeliste!N60)","v":""},{"$f":"Eingabeliste!AB60","v":""},{"$f":"Eingabeliste!AC60","v":""},{"$f":"Eingabeliste!AA60","v":""},{"$f":"Eingabeliste!I60","v":""},{"$f":"Eingabeliste!G60","v":""},{"$f":"Eingabeliste!H60","v":""},null,null,null,null,null,null,null,null,{"$f":"IF(OR(Eingabeliste!O60=\"Flexila PU\",Eingabeliste!O60=\"Flexila STB\"),Eingabeliste!B60,0)+IF(OR(Eingabeliste!S60=\"Flexila PU\",Eingabeliste!S60=\"Flexila STB\"),Eingabeliste!B60,0)","v":0},null,null,null,null,null,null,null,null,null,null,null,null,null,null,null,null,null,null,null,null,null,null,null,null,0,null,null,null,{"$f":"IF(A60=0,0,IF(C60>$C$2,1,0)+IF(AND(Daten!$F$3=TRUE,Zusammenfassung!J60>Preise!$A$70),1,0)+IF(AND(G60=\"D\",K60>Preise!$A$54),1,0)+IF(AND(OR(G60=\"B\",G60=\"C\"),I60<>\"XPS\",AND(Eingabeliste!AC60>50,Daten!F$3=FALSE)),1,0)+IF(AND(OR(G60=\"B\",G60=\"C\"),I60=\"XPS\",Eingabeliste!AC60>100),1,0))","v":0}]
[{"$f":"IF(Eingabeliste!A61=\"\",0,1)","v":0},{"$f":"Eingabeliste!B61","v":0},{"$f":"IFERROR(ROUND(Eingabeliste!J61/(COS((Eingabeliste!K61*PI())/180))-(SIN((Eingabeliste!K61*PI())/180)*2)+(Eingabeliste!M61-2.74)+IF(Eingabeliste!L61=0,0,Eingabeliste!L61-2.74)+IF(Eingabeliste!N61=Daten!N$6,0,12-1.86),1),\"\")","v":""},{"$f":"IF(OR(B61=0,Eingabeliste!E61=\"\"),0,MAX(Eingabeliste!E61,1000)*B61)","v":0},{"$f":"IFERROR((ROUNDUP(Eingabeliste!E61/Daten!$K$15,0)-1)*B61,\"\")","v":""},{"$f":"IF(Eingabeliste!N61=\"Pulverbesch.\",Daten!$D$1,Eingabeliste!N61)","v":""},{"$f":"Eingabeliste!AB61","v":""},{"$f":"Eingabeliste!AC61","v":""},{"$f":"Eingabeliste!AA61","v":""},{"$f":"Eingabeliste!I61","v":""},{"$f":"Eingabeliste!G61","v":""},{"$f":"Eingabeliste!H61","v":""},null,null,null,null,null,null,null,null,{"$f":"IF(OR(Eingabeliste!O61=\"Flexila PU\",Eingabeliste!O61=\"Flexila STB\"),Eingabeliste!B61,0)+IF(OR(Eingabeliste!S61=\"Flexila PU\",Eingabeliste!S61=\"Flexila STB\"),Eingabeliste!B61,0)","v":0},null,null,null,null,null,null,null,null,null,null,null,null,null,null,null,null,null,null,null,null,null,null,null,null,0,null,null,null,{"$f":"IF(A61=0,0,IF(C61>$C$2,1,0)+IF(AND(Daten!$F$3=TRUE,Zusammenfassung!J61>Preise!$A$70),1,0)+IF(AND(G61=\"D\",K61>Preise!$A$54),1,0)+IF(AND(OR(G61=\"B\",G61=\"C\"),I61<>\"XPS\",AND(Eingabeliste!AC61>50,Daten!F$3=FALSE)),1,0)+IF(AND(OR(G61=\"B\",G61=\"C\"),I61=\"XPS\",Eingabeliste!AC61>100),1,0))","v":0}]
[{"$f":"IF(Eingabeliste!A62=\"\",0,1)","v":0},{"$f":"Eingabeliste!B62","v":0},{"$f":"IFERROR(ROUND(Eingabeliste!J62/(COS((Eingabeliste!K62*PI())/180))-(SIN((Eingabeliste!K62*PI())/180)*2)+(Eingabeliste!M62-2.74)+IF(Eingabeliste!L62=0,0,Eingabeliste!L62-2.74)+IF(Eingabeliste!N62=Daten!N$6,0,12-1.86),1),\"\")","v":""},{"$f":"IF(OR(B62=0,Eingabeliste!E62=\"\"),0,MAX(Eingabeliste!E62,1000)*B62)","v":0},{"$f":"IFERROR((ROUNDUP(Eingabeliste!E62/Daten!$K$15,0)-1)*B62,\"\")","v":""},{"$f":"IF(Eingabeliste!N62=\"Pulverbesch.\",Daten!$D$1,Eingabeliste!N62)","v":""},{"$f":"Eingabeliste!AB62","v":""},{"$f":"Eingabeliste!AC62","v":""},{"$f":"Eingabeliste!AA62","v":""},{"$f":"Eingabeliste!I62","v":""},{"$f":"Eingabeliste!G62","v":""},{"$f":"Eingabeliste!H62","v":""},null,null,null,null,null,null,null,null,{"$f":"IF(OR(Eingabeliste!O62=\"Flexila PU\",Eingabeliste!O62=\"Flexila STB\"),Eingabeliste!B62,0)+IF(OR(Eingabeliste!S62=\"Flexila PU\",Eingabeliste!S62=\"Flexila STB\"),Eingabeliste!B62,0)","v":0},null,null,null,null,null,null,null,null,null,null,null,null,null,null,null,null,null,null,null,null,null,null,null,null,0,null,null,null,{"$f":"IF(A62=0,0,IF(C62>$C$2,1,0)+IF(AND(Daten!$F$3=TRUE,Zusammenfassung!J62>Preise!$A$70),1,0)+IF(AND(G62=\"D\",K62>Preise!$A$54),1,0)+IF(AND(OR(G62=\"B\",G62=\"C\"),I62<>\"XPS\",AND(Eingabeliste!AC62>50,Daten!F$3=FALSE)),1,0)+IF(AND(OR(G62=\"B\",G62=\"C\"),I62=\"XPS\",Eingabeliste!AC62>100),1,0))","v":0}]
[{"$f":"IF(Eingabeliste!A63=\"\",0,1)","v":0},{"$f":"Eingabeliste!B63","v":0},{"$f":"IFERROR(ROUND(Eingabeliste!J63/(COS((Eingabeliste!K63*PI())/180))-(SIN((Eingabeliste!K63*PI())/180)*2)+(Eingabeliste!M63-2.74)+IF(Eingabeliste!L63=0,0,Eingabeliste!L63-2.74)+IF(Eingabeliste!N63=Daten!N$6,0,12-1.86),1),\"\")","v":""},{"$f":"IF(OR(B63=0,Eingabeliste!E63=\"\"),0,MAX(Eingabeliste!E63,1000)*B63)","v":0},{"$f":"IFERROR((ROUNDUP(Eingabeliste!E63/Daten!$K$15,0)-1)*B63,\"\")","v":""},{"$f":"IF(Eingabeliste!N63=\"Pulverbesch.\",Daten!$D$1,Eingabeliste!N63)","v":""},{"$f":"Eingabeliste!AB63","v":""},{"$f":"Eingabeliste!AC63","v":""},{"$f":"Eingabeliste!AA63","v":""},{"$f":"Eingabeliste!I63","v":""},{"$f":"Eingabeliste!G63","v":""},{"$f":"Eingabeliste!H63","v":""},null,null,null,null,null,null,null,null,{"$f":"IF(OR(Eingabeliste!O63=\"Flexila PU\",Eingabeliste!O63=\"Flexila STB\"),Eingabeliste!B63,0)+IF(OR(Eingabeliste!S63=\"Flexila PU\",Eingabeliste!S63=\"Flexila STB\"),Eingabeliste!B63,0)","v":0},null,null,null,null,null,null,null,null,null,null,null,null,null,null,null,null,null,null,null,null,null,null,null,null,0,null,null,null,{"$f":"IF(A63=0,0,IF(C63>$C$2,1,0)+IF(AND(Daten!$F$3=TRUE,Zusammenfassung!J63>Preise!$A$70),1,0)+IF(AND(G63=\"D\",K63>Preise!$A$54),1,0)+IF(AND(OR(G63=\"B\",G63=\"C\"),I63<>\"XPS\",AND(Eingabeliste!AC63>50,Daten!F$3=FALSE)),1,0)+IF(AND(OR(G63=\"B\",G63=\"C\"),I63=\"XPS\",Eingabeliste!AC63>100),1,0))","v":0}]
[{"$f":"IF(Eingabeliste!A64=\"\",0,1)","v":0},{"$f":"Eingabeliste!B64","v":0},{"$f":"IFERROR(ROUND(Eingabeliste!J64/(COS((Eingabeliste!K64*PI())/180))-(SIN((Eingabeliste!K64*PI())/180)*2)+(Eingabeliste!M64-2.74)+IF(Eingabeliste!L64=0,0,Eingabeliste!L64-2.74)+IF(Eingabeliste!N64=Daten!N$6,0,12-1.86),1),\"\")","v":""},{"$f":"IF(OR(B64=0,Eingabeliste!E64=\"\"),0,MAX(Eingabeliste!E64,1000)*B64)","v":0},{"$f":"IFERROR((ROUNDUP(Eingabeliste!E64/Daten!$K$15,0)-1)*B64,\"\")","v":""},{"$f":"IF(Eingabeliste!N64=\"Pulverbesch.\",Daten!$D$1,Eingabeliste!N64)","v":""},{"$f":"Eingabeliste!AB64","v":""},{"$f":"Eingabeliste!AC64","v":""},{"$f":"Eingabeliste!AA64","v":""},{"$f":"Eingabeliste!I64","v":""},{"$f":"Eingabeliste!G64","v":""},{"$f":"Eingabeliste!H64","v":""},null,null,null,null,null,null,null,null,{"$f":"IF(OR(Eingabeliste!O64=\"Flexila PU\",Eingabeliste!O64=\"Flexila STB\"),Eingabeliste!B64,0)+IF(OR(Eingabeliste!S64=\"Flexila PU\",Eingabeliste!S64=\"Flexila STB\"),Eingabeliste!B64,0)","v":0},null,null,null,null,null,null,null,null,null,null,null,null,null,null,null,null,null,null,null,null,null,null,null,null,0,null,null,null,{"$f":"IF(A64=0,0,IF(C64>$C$2,1,0)+IF(AND(Daten!$F$3=TRUE,Zusammenfassung!J64>Preise!$A$70),1,0)+IF(AND(G64=\"D\",K64>Preise!$A$54),1,0)+IF(AND(OR(G64=\"B\",G64=\"C\"),I64<>\"XPS\",AND(Eingabeliste!AC64>50,Daten!F$3=FALSE)),1,0)+IF(AND(OR(G64=\"B\",G64=\"C\"),I64=\"XPS\",Eingabeliste!AC64>100),1,0))","v":0}]
[{"$f":"IF(Eingabeliste!A65=\"\",0,1)","v":0},{"$f":"Eingabeliste!B65","v":0},{"$f":"IFERROR(ROUND(Eingabeliste!J65/(COS((Eingabeliste!K65*PI())/180))-(SIN((Eingabeliste!K65*PI())/180)*2)+(Eingabeliste!M65-2.74)+IF(Eingabeliste!L65=0,0,Eingabeliste!L65-2.74)+IF(Eingabeliste!N65=Daten!N$6,0,12-1.86),1),\"\")","v":""},{"$f":"IF(OR(B65=0,Eingabeliste!E65=\"\"),0,MAX(Eingabeliste!E65,1000)*B65)","v":0},{"$f":"IFERROR((ROUNDUP(Eingabeliste!E65/Daten!$K$15,0)-1)*B65,\"\")","v":""},{"$f":"IF(Eingabeliste!N65=\"Pulverbesch.\",Daten!$D$1,Eingabeliste!N65)","v":""},{"$f":"Eingabeliste!AB65","v":""},{"$f":"Eingabeliste!AC65","v":""},{"$f":"Eingabeliste!AA65","v":""},{"$f":"Eingabeliste!I65","v":""},{"$f":"Eingabeliste!G65","v":""},{"$f":"Eingabeliste!H65","v":""},null,null,null,null,null,null,null,null,{"$f":"IF(OR(Eingabeliste!O65=\"Flexila PU\",Eingabeliste!O65=\"Flexila STB\"),Eingabeliste!B65,0)+IF(OR(Eingabeliste!S65=\"Flexila PU\",Eingabeliste!S65=\"Flexila STB\"),Eingabeliste!B65,0)","v":0},null,null,null,null,null,null,null,null,null,null,null,null,null,null,null,null,null,null,null,null,null,null,null,null,0,null,null,null,{"$f":"IF(A65=0,0,IF(C65>$C$2,1,0)+IF(AND(Daten!$F$3=TRUE,Zusammenfassung!J65>Preise!$A$70),1,0)+IF(AND(G65=\"D\",K65>Preise!$A$54),1,0)+IF(AND(OR(G65=\"B\",G65=\"C\"),I65<>\"XPS\",AND(Eingabeliste!AC65>50,Daten!F$3=FALSE)),1,0)+IF(AND(OR(G65=\"B\",G65=\"C\"),I65=\"XPS\",Eingabeliste!AC65>100),1,0))","v":0}]
[{"$f":"IF(Eingabeliste!A66=\"\",0,1)","v":0},{"$f":"Eingabeliste!B66","v":0},{"$f":"IFERROR(ROUND(Eingabeliste!J66/(COS((Eingabeliste!K66*PI())/180))-(SIN((Eingabeliste!K66*PI())/180)*2)+(Eingabeliste!M66-2.74)+IF(Eingabeliste!L66=0,0,Eingabeliste!L66-2.74)+IF(Eingabeliste!N66=Daten!N$6,0,12-1.86),1),\"\")","v":""},{"$f":"IF(OR(B66=0,Eingabeliste!E66=\"\"),0,MAX(Eingabeliste!E66,1000)*B66)","v":0},{"$f":"IFERROR((ROUNDUP(Eingabeliste!E66/Daten!$K$15,0)-1)*B66,\"\")","v":""},{"$f":"IF(Eingabeliste!N66=\"Pulverbesch.\",Daten!$D$1,Eingabeliste!N66)","v":""},{"$f":"Eingabeliste!AB66","v":""},{"$f":"Eingabeliste!AC66","v":""},{"$f":"Eingabeliste!AA66","v":""},{"$f":"Eingabeliste!I66","v":""},{"$f":"Eingabeliste!G66","v":""},{"$f":"Eingabeliste!H66","v":""},null,null,null,null,null,null,null,null,{"$f":"IF(OR(Eingabeliste!O66=\"Flexila PU\",Eingabeliste!O66=\"Flexila STB\"),Eingabeliste!B66,0)+IF(OR(Eingabeliste!S66=\"Flexila PU\",Eingabeliste!S66=\"Flexila STB\"),Eingabeliste!B66,0)","v":0},null,null,null,null,null,null,null,null,null,null,null,null,null,null,null,null,null,null,null,null,null,null,null,null,0,null,null,null,{"$f":"IF(A66=0,0,IF(C66>$C$2,1,0)+IF(AND(Daten!$F$3=TRUE,Zusammenfassung!J66>Preise!$A$70),1,0)+IF(AND(G66=\"D\",K66>Preise!$A$54),1,0)+IF(AND(OR(G66=\"B\",G66=\"C\"),I66<>\"XPS\",AND(Eingabeliste!AC66>50,Daten!F$3=FALSE)),1,0)+IF(AND(OR(G66=\"B\",G66=\"C\"),I66=\"XPS\",Eingabeliste!AC66>100),1,0))","v":0}]
[{"$f":"IF(Eingabeliste!A67=\"\",0,1)","v":0},{"$f":"Eingabeliste!B67","v":0},{"$f":"IFERROR(ROUND(Eingabeliste!J67/(COS((Eingabeliste!K67*PI())/180))-(SIN((Eingabeliste!K67*PI())/180)*2)+(Eingabeliste!M67-2.74)+IF(Eingabeliste!L67=0,0,Eingabeliste!L67-2.74)+IF(Eingabeliste!N67=Daten!N$6,0,12-1.86),1),\"\")","v":""},{"$f":"IF(OR(B67=0,Eingabeliste!E67=\"\"),0,MAX(Eingabeliste!E67,1000)*B67)","v":0},{"$f":"IFERROR((ROUNDUP(Eingabeliste!E67/Daten!$K$15,0)-1)*B67,\"\")","v":""},{"$f":"IF(Eingabeliste!N67=\"Pulverbesch.\",Daten!$D$1,Eingabeliste!N67)","v":""},{"$f":"Eingabeliste!AB67","v":""},{"$f":"Eingabeliste!AC67","v":""},{"$f":"Eingabeliste!AA67","v":""},{"$f":"Eingabeliste!I67","v":""},{"$f":"Eingabeliste!G67","v":""},{"$f":"Eingabeliste!H67","v":""},null,null,null,null,null,null,null,null,{"$f":"IF(OR(Eingabeliste!O67=\"Flexila PU\",Eingabeliste!O67=\"Flexila STB\"),Eingabeliste!B67,0)+IF(OR(Eingabeliste!S67=\"Flexila PU\",Eingabeliste!S67=\"Flexila STB\"),Eingabeliste!B67,0)","v":0},null,null,null,null,null,null,null,null,null,null,null,null,null,null,null,null,null,null,null,null,null,null,null,null,0,null,null,null,{"$f":"IF(A67=0,0,IF(C67>$C$2,1,0)+IF(AND(Daten!$F$3=TRUE,Zusammenfassung!J67>Preise!$A$70),1,0)+IF(AND(G67=\"D\",K67>Preise!$A$54),1,0)+IF(AND(OR(G67=\"B\",G67=\"C\"),I67<>\"XPS\",AND(Eingabeliste!AC67>50,Daten!F$3=FALSE)),1,0)+IF(AND(OR(G67=\"B\",G67=\"C\"),I67=\"XPS\",Eingabeliste!AC67>100),1,0))","v":0}]
[{"$f":"IF(Eingabeliste!A68=\"\",0,1)","v":0},{"$f":"Eingabeliste!B68","v":0},{"$f":"IFERROR(ROUND(Eingabeliste!J68/(COS((Eingabeliste!K68*PI())/180))-(SIN((Eingabeliste!K68*PI())/180)*2)+(Eingabeliste!M68-2.74)+IF(Eingabeliste!L68=0,0,Eingabeliste!L68-2.74)+IF(Eingabeliste!N68=Daten!N$6,0,12-1.86),1),\"\")","v":""},{"$f":"IF(OR(B68=0,Eingabeliste!E68=\"\"),0,MAX(Eingabeliste!E68,1000)*B68)","v":0},{"$f":"IFERROR((ROUNDUP(Eingabeliste!E68/Daten!$K$15,0)-1)*B68,\"\")","v":""},{"$f":"IF(Eingabeliste!N68=\"Pulverbesch.\",Daten!$D$1,Eingabeliste!N68)","v":""},{"$f":"Eingabeliste!AB68","v":""},{"$f":"Eingabeliste!AC68","v":""},{"$f":"Eingabeliste!AA68","v":""},{"$f":"Eingabeliste!I68","v":""},{"$f":"Eingabeliste!G68","v":""},{"$f":"Eingabeliste!H68","v":""},null,null,null,null,null,null,null,null,{"$f":"IF(OR(Eingabeliste!O68=\"Flexila PU\",Eingabeliste!O68=\"Flexila STB\"),Eingabeliste!B68,0)+IF(OR(Eingabeliste!S68=\"Flexila PU\",Eingabeliste!S68=\"Flexila STB\"),Eingabeliste!B68,0)","v":0},null,null,null,null,null,null,null,null,null,null,null,null,null,null,null,null,null,null,null,null,null,null,null,null,0,null,null,null,{"$f":"IF(A68=0,0,IF(C68>$C$2,1,0)+IF(AND(Daten!$F$3=TRUE,Zusammenfassung!J68>Preise!$A$70),1,0)+IF(AND(G68=\"D\",K68>Preise!$A$54),1,0)+IF(AND(OR(G68=\"B\",G68=\"C\"),I68<>\"XPS\",AND(Eingabeliste!AC68>50,Daten!F$3=FALSE)),1,0)+IF(AND(OR(G68=\"B\",G68=\"C\"),I68=\"XPS\",Eingabeliste!AC68>100),1,0))","v":0}]
[{"$f":"IF(Eingabeliste!A69=\"\",0,1)","v":0},{"$f":"Eingabeliste!B69","v":0},{"$f":"IFERROR(ROUND(Eingabeliste!J69/(COS((Eingabeliste!K69*PI())/180))-(SIN((Eingabeliste!K69*PI())/180)*2)+(Eingabeliste!M69-2.74)+IF(Eingabeliste!L69=0,0,Eingabeliste!L69-2.74)+IF(Eingabeliste!N69=Daten!N$6,0,12-1.86),1),\"\")","v":""},{"$f":"IF(OR(B69=0,Eingabeliste!E69=\"\"),0,MAX(Eingabeliste!E69,1000)*B69)","v":0},{"$f":"IFERROR((ROUNDUP(Eingabeliste!E69/Daten!$K$15,0)-1)*B69,\"\")","v":""},{"$f":"IF(Eingabeliste!N69=\"Pulverbesch.\",Daten!$D$1,Eingabeliste!N69)","v":""},{"$f":"Eingabeliste!AB69","v":""},{"$f":"Eingabeliste!AC69","v":""},{"$f":"Eingabeliste!AA69","v":""},{"$f":"Eingabeliste!I69","v":""},{"$f":"Eingabeliste!G69","v":""},{"$f":"Eingabeliste!H69","v":""},null,null,null,null,null,null,null,null,{"$f":"IF(OR(Eingabeliste!O69=\"Flexila PU\",Eingabeliste!O69=\"Flexila STB\"),Eingabeliste!B69,0)+IF(OR(Eingabeliste!S69=\"Flexila PU\",Eingabeliste!S69=\"Flexila STB\"),Eingabeliste!B69,0)","v":0},null,null,null,null,null,null,null,null,null,null,null,null,null,null,null,null,null,null,null,null,null,null,null,null,0,null,null,null,{"$f":"IF(A69=0,0,IF(C69>$C$2,1,0)+IF(AND(Daten!$F$3=TRUE,Zusammenfassung!J69>Preise!$A$70),1,0)+IF(AND(G69=\"D\",K69>Preise!$A$54),1,0)+IF(AND(OR(G69=\"B\",G69=\"C\"),I69<>\"XPS\",AND(Eingabeliste!AC69>50,Daten!F$3=FALSE)),1,0)+IF(AND(OR(G69=\"B\",G69=\"C\"),I69=\"XPS\",Eingabeliste!AC69>100),1,0))","v":0}]
[{"$f":"IF(Eingabeliste!A70=\"\",0,1)","v":0},{"$f":"Eingabeliste!B70","v":0},{"$f":"IFERROR(ROUND(Eingabeliste!J70/(COS((Eingabeliste!K70*PI())/180))-(SIN((Eingabeliste!K70*PI())/180)*2)+(Eingabeliste!M70-2.74)+IF(Eingabeliste!L70=0,0,Eingabeliste!L70-2.74)+IF(Eingabeliste!N70=Daten!N$6,0,12-1.86),1),\"\")","v":""},{"$f":"IF(OR(B70=0,Eingabeliste!E70=\"\"),0,MAX(Eingabeliste!E70,1000)*B70)","v":0},{"$f":"IFERROR((ROUNDUP(Eingabeliste!E70/Daten!$K$15,0)-1)*B70,\"\")","v":""},{"$f":"IF(Eingabeliste!N70=\"Pulverbesch.\",Daten!$D$1,Eingabeliste!N70)","v":""},{"$f":"Eingabeliste!AB70","v":""},{"$f":"Eingabeliste!AC70","v":""},{"$f":"Eingabeliste!AA70","v":""},{"$f":"Eingabeliste!I70","v":""},{"$f":"Eingabeliste!G70","v":""},{"$f":"Eingabeliste!H70","v":""},null,null,null,null,null,null,null,null,{"$f":"IF(OR(Eingabeliste!O70=\"Flexila PU\",Eingabeliste!O70=\"Flexila STB\"),Eingabeliste!B70,0)+IF(OR(Eingabeliste!S70=\"Flexila PU\",Eingabeliste!S70=\"Flexila STB\"),Eingabeliste!B70,0)","v":0},null,null,null,null,null,null,null,null,null,null,null,null,null,null,null,null,null,null,null,null,null,null,null,null,{"$f":"IF(B70=0,0,ROUNDUP(D70/800,0)+1)","v":0},null,null,null,{"$f":"IF(A70=0,0,IF(C70>$C$2,1,0)+IF(AND(Daten!$F$3=TRUE,Zusammenfassung!J70>Preise!$A$70),1,0)+IF(AND(G70=\"D\",K70>Preise!$A$54),1,0)+IF(AND(OR(G70=\"B\",G70=\"C\"),I70<>\"XPS\",AND(Eingabeliste!AC70>50,Daten!F$3=FALSE)),1,0)+IF(AND(OR(G70=\"B\",G70=\"C\"),I70=\"XPS\",Eingabeliste!AC70>100),1,0))","v":0}]
[{"$f":"IF(Eingabeliste!A71=\"\",0,1)","v":0},{"$f":"Eingabeliste!B71","v":0},{"$f":"IFERROR(ROUND(Eingabeliste!J71/(COS((Eingabeliste!K71*PI())/180))-(SIN((Eingabeliste!K71*PI())/180)*2)+(Eingabeliste!M71-2.74)+IF(Eingabeliste!L71=0,0,Eingabeliste!L71-2.74)+IF(Eingabeliste!N71=Daten!N$6,0,12-1.86),1),\"\")","v":""},{"$f":"IF(OR(B71=0,Eingabeliste!E71=\"\"),0,MAX(Eingabeliste!E71,1000)*B71)","v":0},{"$f":"IFERROR((ROUNDUP(Eingabeliste!E71/Daten!$K$15,0)-1)*B71,\"\")","v":""},{"$f":"IF(Eingabeliste!N71=\"Pulverbesch.\",Daten!$D$1,Eingabeliste!N71)","v":""},{"$f":"Eingabeliste!AB71","v":""},{"$f":"Eingabeliste!AC71","v":""},{"$f":"Eingabeliste!AA71","v":""},{"$f":"Eingabeliste!I71","v":""},{"$f":"Eingabeliste!G71","v":""},{"$f":"Eingabeliste!H71","v":""},null,null,null,null,null,null,null,null,{"$f":"IF(OR(Eingabeliste!O71=\"Flexila PU\",Eingabeliste!O71=\"Flexila STB\"),Eingabeliste!B71,0)+IF(OR(Eingabeliste!S71=\"Flexila PU\",Eingabeliste!S71=\"Flexila STB\"),Eingabeliste!B71,0)","v":0},null,null,null,null,null,null,null,null,null,null,null,null,null,null,null,null,null,null,null,null,null,null,null,null,0,null,null,null,{"$f":"IF(A71=0,0,IF(C71>$C$2,1,0)+IF(AND(Daten!$F$3=TRUE,Zusammenfassung!J71>Preise!$A$70),1,0)+IF(AND(G71=\"D\",K71>Preise!$A$54),1,0)+IF(AND(OR(G71=\"B\",G71=\"C\"),I71<>\"XPS\",AND(Eingabeliste!AC71>50,Daten!F$3=FALSE)),1,0)+IF(AND(OR(G71=\"B\",G71=\"C\"),I71=\"XPS\",Eingabeliste!AC71>100),1,0))","v":0}]
[{"$f":"IF(Eingabeliste!A72=\"\",0,1)","v":0},{"$f":"Eingabeliste!B72","v":0},{"$f":"IFERROR(ROUND(Eingabeliste!J72/(COS((Eingabeliste!K72*PI())/180))-(SIN((Eingabeliste!K72*PI())/180)*2)+(Eingabeliste!M72-2.74)+IF(Eingabeliste!L72=0,0,Eingabeliste!L72-2.74)+IF(Eingabeliste!N72=Daten!N$6,0,12-1.86),1),\"\")","v":""},{"$f":"IF(OR(B72=0,Eingabeliste!E72=\"\"),0,MAX(Eingabeliste!E72,1000)*B72)","v":0},{"$f":"IFERROR((ROUNDUP(Eingabeliste!E72/Daten!$K$15,0)-1)*B72,\"\")","v":""},{"$f":"IF(Eingabeliste!N72=\"Pulverbesch.\",Daten!$D$1,Eingabeliste!N72)","v":""},{"$f":"Eingabeliste!AB72","v":""},{"$f":"Eingabeliste!AC72","v":""},{"$f":"Eingabeliste!AA72","v":""},{"$f":"Eingabeliste!I72","v":""},{"$f":"Eingabeliste!G72","v":""},{"$f":"Eingabeliste!H72","v":""},null,null,null,null,null,null,null,null,{"$f":"IF(OR(Eingabeliste!O72=\"Flexila PU\",Eingabeliste!O72=\"Flexila STB\"),Eingabeliste!B72,0)+IF(OR(Eingabeliste!S72=\"Flexila PU\",Eingabeliste!S72=\"Flexila STB\"),Eingabeliste!B72,0)","v":0},null,null,null,null,null,null,null,null,null,null,null,null,null,null,null,null,null,null,null,null,null,null,null,null,0,null,null,null,{"$f":"IF(A72=0,0,IF(C72>$C$2,1,0)+IF(AND(Daten!$F$3=TRUE,Zusammenfassung!J72>Preise!$A$70),1,0)+IF(AND(G72=\"D\",K72>Preise!$A$54),1,0)+IF(AND(OR(G72=\"B\",G72=\"C\"),I72<>\"XPS\",AND(Eingabeliste!AC72>50,Daten!F$3=FALSE)),1,0)+IF(AND(OR(G72=\"B\",G72=\"C\"),I72=\"XPS\",Eingabeliste!AC72>100),1,0))","v":0}]
[{"$f":"IF(Eingabeliste!A73=\"\",0,1)","v":0},{"$f":"Eingabeliste!B73","v":0},{"$f":"IFERROR(ROUND(Eingabeliste!J73/(COS((Eingabeliste!K73*PI())/180))-(SIN((Eingabeliste!K73*PI())/180)*2)+(Eingabeliste!M73-2.74)+IF(Eingabeliste!L73=0,0,Eingabeliste!L73-2.74)+IF(Eingabeliste!N73=Daten!N$6,0,12-1.86),1),\"\")","v":""},{"$f":"IF(OR(B73=0,Eingabeliste!E73=\"\"),0,MAX(Eingabeliste!E73,1000)*B73)","v":0},{"$f":"IFERROR((ROUNDUP(Eingabeliste!E73/Daten!$K$15,0)-1)*B73,\"\")","v":""},{"$f":"IF(Eingabeliste!N73=\"Pulverbesch.\",Daten!$D$1,Eingabeliste!N73)","v":""},{"$f":"Eingabeliste!AB73","v":""},{"$f":"Eingabeliste!AC73","v":""},{"$f":"Eingabeliste!AA73","v":""},{"$f":"Eingabeliste!I73","v":""},{"$f":"Eingabeliste!G73","v":""},{"$f":"Eingabeliste!H73","v":""},null,null,null,null,null,null,null,null,{"$f":"IF(OR(Eingabeliste!O73=\"Flexila PU\",Eingabeliste!O73=\"Flexila STB\"),Eingabeliste!B73,0)+IF(OR(Eingabeliste!S73=\"Flexila PU\",Eingabeliste!S73=\"Flexila STB\"),Eingabeliste!B73,0)","v":0},null,null,null,null,null,null,null,null,null,null,null,null,null,null,null,null,null,null,null,null,null,null,null,null,0,null,null,null,{"$f":"IF(A73=0,0,IF(C73>$C$2,1,0)+IF(AND(Daten!$F$3=TRUE,Zusammenfassung!J73>Preise!$A$70),1,0)+IF(AND(G73=\"D\",K73>Preise!$A$54),1,0)+IF(AND(OR(G73=\"B\",G73=\"C\"),I73<>\"XPS\",AND(Eingabeliste!AC73>50,Daten!F$3=FALSE)),1,0)+IF(AND(OR(G73=\"B\",G73=\"C\"),I73=\"XPS\",Eingabeliste!AC73>100),1,0))","v":0}]
[{"$f":"IF(Eingabeliste!A74=\"\",0,1)","v":0},{"$f":"Eingabeliste!B74","v":0},{"$f":"IFERROR(ROUND(Eingabeliste!J74/(COS((Eingabeliste!K74*PI())/180))-(SIN((Eingabeliste!K74*PI())/180)*2)+(Eingabeliste!M74-2.74)+IF(Eingabeliste!L74=0,0,Eingabeliste!L74-2.74)+IF(Eingabeliste!N74=Daten!N$6,0,12-1.86),1),\"\")","v":""},{"$f":"IF(OR(B74=0,Eingabeliste!E74=\"\"),0,MAX(Eingabeliste!E74,1000)*B74)","v":0},{"$f":"IFERROR((ROUNDUP(Eingabeliste!E74/Daten!$K$15,0)-1)*B74,\"\")","v":""},{"$f":"IF(Eingabeliste!N74=\"Pulverbesch.\",Daten!$D$1,Eingabeliste!N74)","v":""},{"$f":"Eingabeliste!AB74","v":""},{"$f":"Eingabeliste!AC74","v":""},{"$f":"Eingabeliste!AA74","v":""},{"$f":"Eingabeliste!I74","v":""},{"$f":"Eingabeliste!G74","v":""},{"$f":"Eingabeliste!H74","v":""},null,null,null,null,null,null,null,null,{"$f":"IF(OR(Eingabeliste!O74=\"Flexila PU\",Eingabeliste!O74=\"Flexila STB\"),Eingabeliste!B74,0)+IF(OR(Eingabeliste!S74=\"Flexila PU\",Eingabeliste!S74=\"Flexila STB\"),Eingabeliste!B74,0)","v":0},null,null,null,null,null,null,null,null,null,null,null,null,null,null,null,null,null,null,null,null,null,null,null,null,0,null,null,null,{"$f":"IF(A74=0,0,IF(C74>$C$2,1,0)+IF(AND(Daten!$F$3=TRUE,Zusammenfassung!J74>Preise!$A$70),1,0)+IF(AND(G74=\"D\",K74>Preise!$A$54),1,0)+IF(AND(OR(G74=\"B\",G74=\"C\"),I74<>\"XPS\",AND(Eingabeliste!AC74>50,Daten!F$3=FALSE)),1,0)+IF(AND(OR(G74=\"B\",G74=\"C\"),I74=\"XPS\",Eingabeliste!AC74>100),1,0))","v":0}]
[{"$f":"IF(Eingabeliste!A75=\"\",0,1)","v":0},{"$f":"Eingabeliste!B75","v":0},{"$f":"IFERROR(ROUND(Eingabeliste!J75/(COS((Eingabeliste!K75*PI())/180))-(SIN((Eingabeliste!K75*PI())/180)*2)+(Eingabeliste!M75-2.74)+IF(Eingabeliste!L75=0,0,Eingabeliste!L75-2.74)+IF(Eingabeliste!N75=Daten!N$6,0,12-1.86),1),\"\")","v":""},{"$f":"IF(OR(B75=0,Eingabeliste!E75=\"\"),0,MAX(Eingabeliste!E75,1000)*B75)","v":0},{"$f":"IFERROR((ROUNDUP(Eingabeliste!E75/Daten!$K$15,0)-1)*B75,\"\")","v":""},{"$f":"IF(Eingabeliste!N75=\"Pulverbesch.\",Daten!$D$1,Eingabeliste!N75)","v":""},{"$f":"Eingabeliste!AB75","v":""},{"$f":"Eingabeliste!AC75","v":""},{"$f":"Eingabeliste!AA75","v":""},{"$f":"Eingabeliste!I75","v":""},{"$f":"Eingabeliste!G75","v":""},{"$f":"Eingabeliste!H75","v":""},null,null,null,null,null,null,null,null,{"$f":"IF(OR(Eingabeliste!O75=\"Flexila PU\",Eingabeliste!O75=\"Flexila STB\"),Eingabeliste!B75,0)+IF(OR(Eingabeliste!S75=\"Flexila PU\",Eingabeliste!S75=\"Flexila STB\"),Eingabeliste!B75,0)","v":0},null,null,null,null,null,null,null,null,null,null,null,null,null,null,null,null,null,null,null,null,null,null,null,null,0,null,null,null,{"$f":"IF(A75=0,0,IF(C75>$C$2,1,0)+IF(AND(Daten!$F$3=TRUE,Zusammenfassung!J75>Preise!$A$70),1,0)+IF(AND(G75=\"D\",K75>Preise!$A$54),1,0)+IF(AND(OR(G75=\"B\",G75=\"C\"),I75<>\"XPS\",AND(Eingabeliste!AC75>50,Daten!F$3=FALSE)),1,0)+IF(AND(OR(G75=\"B\",G75=\"C\"),I75=\"XPS\",Eingabeliste!AC75>100),1,0))","v":0}]
[{"$f":"IF(Eingabeliste!A76=\"\",0,1)","v":0},{"$f":"Eingabeliste!B76","v":0},{"$f":"IFERROR(ROUND(Eingabeliste!J76/(COS((Eingabeliste!K76*PI())/180))-(SIN((Eingabeliste!K76*PI())/180)*2)+(Eingabeliste!M76-2.74)+IF(Eingabeliste!L76=0,0,Eingabeliste!L76-2.74)+IF(Eingabeliste!N76=Daten!N$6,0,12-1.86),1),\"\")","v":""},{"$f":"IF(OR(B76=0,Eingabeliste!E76=\"\"),0,MAX(Eingabeliste!E76,1000)*B76)","v":0},{"$f":"IFERROR((ROUNDUP(Eingabeliste!E76/Daten!$K$15,0)-1)*B76,\"\")","v":""},{"$f":"IF(Eingabeliste!N76=\"Pulverbesch.\",Daten!$D$1,Eingabeliste!N76)","v":""},{"$f":"Eingabeliste!AB76","v":""},{"$f":"Eingabeliste!AC76","v":""},{"$f":"Eingabeliste!AA76","v":""},{"$f":"Eingabeliste!I76","v":""},{"$f":"Eingabeliste!G76","v":""},{"$f":"Eingabeliste!H76","v":""},null,null,null,null,null,null,null,null,{"$f":"IF(OR(Eingabeliste!O76=\"Flexila PU\",Eingabeliste!O76=\"Flexila STB\"),Eingabeliste!B76,0)+IF(OR(Eingabeliste!S76=\"Flexila PU\",Eingabeliste!S76=\"Flexila STB\"),Eingabeliste!B76,0)","v":0},null,null,null,null,null,null,null,null,null,null,null,null,null,null,null,null,null,null,null,null,null,null,null,null,0,null,null,null,{"$f":"IF(A76=0,0,IF(C76>$C$2,1,0)+IF(AND(Daten!$F$3=TRUE,Zusammenfassung!J76>Preise!$A$70),1,0)+IF(AND(G76=\"D\",K76>Preise!$A$54),1,0)+IF(AND(OR(G76=\"B\",G76=\"C\"),I76<>\"XPS\",AND(Eingabeliste!AC76>50,Daten!F$3=FALSE)),1,0)+IF(AND(OR(G76=\"B\",G76=\"C\"),I76=\"XPS\",Eingabeliste!AC76>100),1,0))","v":0}]
[{"$f":"IF(Eingabeliste!A77=\"\",0,1)","v":0},{"$f":"Eingabeliste!B77","v":0},{"$f":"IFERROR(ROUND(Eingabeliste!J77/(COS((Eingabeliste!K77*PI())/180))-(SIN((Eingabeliste!K77*PI())/180)*2)+(Eingabeliste!M77-2.74)+IF(Eingabeliste!L77=0,0,Eingabeliste!L77-2.74)+IF(Eingabeliste!N77=Daten!N$6,0,12-1.86),1),\"\")","v":""},{"$f":"IF(OR(B77=0,Eingabeliste!E77=\"\"),0,MAX(Eingabeliste!E77,1000)*B77)","v":0},{"$f":"IFERROR((ROUNDUP(Eingabeliste!E77/Daten!$K$15,0)-1)*B77,\"\")","v":""},{"$f":"IF(Eingabeliste!N77=\"Pulverbesch.\",Daten!$D$1,Eingabeliste!N77)","v":""},{"$f":"Eingabeliste!AB77","v":""},{"$f":"Eingabeliste!AC77","v":""},{"$f":"Eingabeliste!AA77","v":""},{"$f":"Eingabeliste!I77","v":""},{"$f":"Eingabeliste!G77","v":""},{"$f":"Eingabeliste!H77","v":""},null,null,null,null,null,null,null,null,{"$f":"IF(OR(Eingabeliste!O77=\"Flexila PU\",Eingabeliste!O77=\"Flexila STB\"),Eingabeliste!B77,0)+IF(OR(Eingabeliste!S77=\"Flexila PU\",Eingabeliste!S77=\"Flexila STB\"),Eingabeliste!B77,0)","v":0},null,null,null,null,null,null,null,null,null,null,null,null,null,null,null,null,null,null,null,null,null,null,null,null,0,null,null,null,{"$f":"IF(A77=0,0,IF(C77>$C$2,1,0)+IF(AND(Daten!$F$3=TRUE,Zusammenfassung!J77>Preise!$A$70),1,0)+IF(AND(G77=\"D\",K77>Preise!$A$54),1,0)+IF(AND(OR(G77=\"B\",G77=\"C\"),I77<>\"XPS\",AND(Eingabeliste!AC77>50,Daten!F$3=FALSE)),1,0)+IF(AND(OR(G77=\"B\",G77=\"C\"),I77=\"XPS\",Eingabeliste!AC77>100),1,0))","v":0}]
[{"$f":"IF(Eingabeliste!A78=\"\",0,1)","v":0},{"$f":"Eingabeliste!B78","v":0},{"$f":"IFERROR(ROUND(Eingabeliste!J78/(COS((Eingabeliste!K78*PI())/180))-(SIN((Eingabeliste!K78*PI())/180)*2)+(Eingabeliste!M78-2.74)+IF(Eingabeliste!L78=0,0,Eingabeliste!L78-2.74)+IF(Eingabeliste!N78=Daten!N$6,0,12-1.86),1),\"\")","v":""},{"$f":"IF(OR(B78=0,Eingabeliste!E78=\"\"),0,MAX(Eingabeliste!E78,1000)*B78)","v":0},{"$f":"IFERROR((ROUNDUP(Eingabeliste!E78/Daten!$K$15,0)-1)*B78,\"\")","v":""},{"$f":"IF(Eingabeliste!N78=\"Pulverbesch.\",Daten!$D$1,Eingabeliste!N78)","v":""},{"$f":"Eingabeliste!AB78","v":""},{"$f":"Eingabeliste!AC78","v":""},{"$f":"Eingabeliste!AA78","v":""},{"$f":"Eingabeliste!I78","v":""},{"$f":"Eingabeliste!G78","v":""},{"$f":"Eingabeliste!H78","v":""},null,null,null,null,null,null,null,null,{"$f":"IF(OR(Eingabeliste!O78=\"Flexila PU\",Eingabeliste!O78=\"Flexila STB\"),Eingabeliste!B78,0)+IF(OR(Eingabeliste!S78=\"Flexila PU\",Eingabeliste!S78=\"Flexila STB\"),Eingabeliste!B78,0)","v":0},null,null,null,null,null,null,null,null,null,null,null,null,null,null,null,null,null,null,null,null,null,null,null,null,0,null,null,null,{"$f":"IF(A78=0,0,IF(C78>$C$2,1,0)+IF(AND(Daten!$F$3=TRUE,Zusammenfassung!J78>Preise!$A$70),1,0)+IF(AND(G78=\"D\",K78>Preise!$A$54),1,0)+IF(AND(OR(G78=\"B\",G78=\"C\"),I78<>\"XPS\",AND(Eingabeliste!AC78>50,Daten!F$3=FALSE)),1,0)+IF(AND(OR(G78=\"B\",G78=\"C\"),I78=\"XPS\",Eingabeliste!AC78>100),1,0))","v":0}]
[{"$f":"IF(Eingabeliste!A79=\"\",0,1)","v":0},{"$f":"Eingabeliste!B79","v":0},{"$f":"IFERROR(ROUND(Eingabeliste!J79/(COS((Eingabeliste!K79*PI())/180))-(SIN((Eingabeliste!K79*PI())/180)*2)+(Eingabeliste!M79-2.74)+IF(Eingabeliste!L79=0,0,Eingabeliste!L79-2.74)+IF(Eingabeliste!N79=Daten!N$6,0,12-1.86),1),\"\")","v":""},{"$f":"IF(OR(B79=0,Eingabeliste!E79=\"\"),0,MAX(Eingabeliste!E79,1000)*B79)","v":0},{"$f":"IFERROR((ROUNDUP(Eingabeliste!E79/Daten!$K$15,0)-1)*B79,\"\")","v":""},{"$f":"IF(Eingabeliste!N79=\"Pulverbesch.\",Daten!$D$1,Eingabeliste!N79)","v":""},{"$f":"Eingabeliste!AB79","v":""},{"$f":"Eingabeliste!AC79","v":""},{"$f":"Eingabeliste!AA79","v":""},{"$f":"Eingabeliste!I79","v":""},{"$f":"Eingabeliste!G79","v":""},{"$f":"Eingabeliste!H79","v":""},null,null,null,null,null,null,null,null,{"$f":"IF(OR(Eingabeliste!O79=\"Flexila PU\",Eingabeliste!O79=\"Flexila STB\"),Eingabeliste!B79,0)+IF(OR(Eingabeliste!S79=\"Flexila PU\",Eingabeliste!S79=\"Flexila STB\"),Eingabeliste!B79,0)","v":0},null,null,null,null,null,null,null,null,null,null,null,null,null,null,null,null,null,null,null,null,null,null,null,null,0,null,null,null,{"$f":"IF(A79=0,0,IF(C79>$C$2,1,0)+IF(AND(Daten!$F$3=TRUE,Zusammenfassung!J79>Preise!$A$70),1,0)+IF(AND(G79=\"D\",K79>Preise!$A$54),1,0)+IF(AND(OR(G79=\"B\",G79=\"C\"),I79<>\"XPS\",AND(Eingabeliste!AC79>50,Daten!F$3=FALSE)),1,0)+IF(AND(OR(G79=\"B\",G79=\"C\"),I79=\"XPS\",Eingabeliste!AC79>100),1,0))","v":0}]
[{"$f":"IF(Eingabeliste!A80=\"\",0,1)","v":0},{"$f":"Eingabeliste!B80","v":0},{"$f":"IFERROR(ROUND(Eingabeliste!J80/(COS((Eingabeliste!K80*PI())/180))-(SIN((Eingabeliste!K80*PI())/180)*2)+(Eingabeliste!M80-2.74)+IF(Eingabeliste!L80=0,0,Eingabeliste!L80-2.74)+IF(Eingabeliste!N80=Daten!N$6,0,12-1.86),1),\"\")","v":""},{"$f":"IF(OR(B80=0,Eingabeliste!E80=\"\"),0,MAX(Eingabeliste!E80,1000)*B80)","v":0},{"$f":"IFERROR((ROUNDUP(Eingabeliste!E80/Daten!$K$15,0)-1)*B80,\"\")","v":""},{"$f":"IF(Eingabeliste!N80=\"Pulverbesch.\",Daten!$D$1,Eingabeliste!N80)","v":""},{"$f":"Eingabeliste!AB80","v":""},{"$f":"Eingabeliste!AC80","v":""},{"$f":"Eingabeliste!AA80","v":""},{"$f":"Eingabeliste!I80","v":""},{"$f":"Eingabeliste!G80","v":""},{"$f":"Eingabeliste!H80","v":""},null,null,null,null,null,null,null,null,{"$f":"IF(OR(Eingabeliste!O80=\"Flexila PU\",Eingabeliste!O80=\"Flexila STB\"),Eingabeliste!B80,0)+IF(OR(Eingabeliste!S80=\"Flexila PU\",Eingabeliste!S80=\"Flexila STB\"),Eingabeliste!B80,0)","v":0},null,null,null,null,null,null,null,null,null,null,null,null,null,null,null,null,null,null,null,null,null,null,null,null,0,null,null,null,{"$f":"IF(A80=0,0,IF(C80>$C$2,1,0)+IF(AND(Daten!$F$3=TRUE,Zusammenfassung!J80>Preise!$A$70),1,0)+IF(AND(G80=\"D\",K80>Preise!$A$54),1,0)+IF(AND(OR(G80=\"B\",G80=\"C\"),I80<>\"XPS\",AND(Eingabeliste!AC80>50,Daten!F$3=FALSE)),1,0)+IF(AND(OR(G80=\"B\",G80=\"C\"),I80=\"XPS\",Eingabeliste!AC80>100),1,0))","v":0}]
[{"$f":"IF(Eingabeliste!A81=\"\",0,1)","v":0},{"$f":"Eingabeliste!B81","v":0},{"$f":"IFERROR(ROUND(Eingabeliste!J81/(COS((Eingabeliste!K81*PI())/180))-(SIN((Eingabeliste!K81*PI())/180)*2)+(Eingabeliste!M81-2.74)+IF(Eingabeliste!L81=0,0,Eingabeliste!L81-2.74)+IF(Eingabeliste!N81=Daten!N$6,0,12-1.86),1),\"\")","v":""},{"$f":"IF(OR(B81=0,Eingabeliste!E81=\"\"),0,MAX(Eingabeliste!E81,1000)*B81)","v":0},{"$f":"IFERROR((ROUNDUP(Eingabeliste!E81/Daten!$K$15,0)-1)*B81,\"\")","v":""},{"$f":"IF(Eingabeliste!N81=\"Pulverbesch.\",Daten!$D$1,Eingabeliste!N81)","v":""},{"$f":"Eingabeliste!AB81","v":""},{"$f":"Eingabeliste!AC81","v":""},{"$f":"Eingabeliste!AA81","v":""},{"$f":"Eingabeliste!I81","v":""},{"$f":"Eingabeliste!G81","v":""},{"$f":"Eingabeliste!H81","v":""},null,null,null,null,null,null,null,null,{"$f":"IF(OR(Eingabeliste!O81=\"Flexila PU\",Eingabeliste!O81=\"Flexila STB\"),Eingabeliste!B81,0)+IF(OR(Eingabeliste!S81=\"Flexila PU\",Eingabeliste!S81=\"Flexila STB\"),Eingabeliste!B81,0)","v":0},null,null,null,null,null,null,null,null,null,null,null,null,null,null,null,null,null,null,null,null,null,null,null,null,0,null,null,null,{"$f":"IF(A81=0,0,IF(C81>$C$2,1,0)+IF(AND(Daten!$F$3=TRUE,Zusammenfassung!J81>Preise!$A$70),1,0)+IF(AND(G81=\"D\",K81>Preise!$A$54),1,0)+IF(AND(OR(G81=\"B\",G81=\"C\"),I81<>\"XPS\",AND(Eingabeliste!AC81>50,Daten!F$3=FALSE)),1,0)+IF(AND(OR(G81=\"B\",G81=\"C\"),I81=\"XPS\",Eingabeliste!AC81>100),1,0))","v":0}]
[{"$f":"IF(Eingabeliste!A82=\"\",0,1)","v":0},{"$f":"Eingabeliste!B82","v":0},{"$f":"IFERROR(ROUND(Eingabeliste!J82/(COS((Eingabeliste!K82*PI())/180))-(SIN((Eingabeliste!K82*PI())/180)*2)+(Eingabeliste!M82-2.74)+IF(Eingabeliste!L82=0,0,Eingabeliste!L82-2.74)+IF(Eingabeliste!N82=Daten!N$6,0,12-1.86),1),\"\")","v":""},{"$f":"IF(OR(B82=0,Eingabeliste!E82=\"\"),0,MAX(Eingabeliste!E82,1000)*B82)","v":0},{"$f":"IFERROR((ROUNDUP(Eingabeliste!E82/Daten!$K$15,0)-1)*B82,\"\")","v":""},{"$f":"IF(Eingabeliste!N82=\"Pulverbesch.\",Daten!$D$1,Eingabeliste!N82)","v":""},{"$f":"Eingabeliste!AB82","v":""},{"$f":"Eingabeliste!AC82","v":""},{"$f":"Eingabeliste!AA82","v":""},{"$f":"Eingabeliste!I82","v":""},{"$f":"Eingabeliste!G82","v":""},{"$f":"Eingabeliste!H82","v":""},null,null,null,null,null,null,null,null,{"$f":"IF(OR(Eingabeliste!O82=\"Flexila PU\",Eingabeliste!O82=\"Flexila STB\"),Eingabeliste!B82,0)+IF(OR(Eingabeliste!S82=\"Flexila PU\",Eingabeliste!S82=\"Flexila STB\"),Eingabeliste!B82,0)","v":0},null,null,null,null,null,null,null,null,null,null,null,null,null,null,null,null,null,null,null,null,null,null,null,null,0,null,null,null,{"$f":"IF(A82=0,0,IF(C82>$C$2,1,0)+IF(AND(Daten!$F$3=TRUE,Zusammenfassung!J82>Preise!$A$70),1,0)+IF(AND(G82=\"D\",K82>Preise!$A$54),1,0)+IF(AND(OR(G82=\"B\",G82=\"C\"),I82<>\"XPS\",AND(Eingabeliste!AC82>50,Daten!F$3=FALSE)),1,0)+IF(AND(OR(G82=\"B\",G82=\"C\"),I82=\"XPS\",Eingabeliste!AC82>100),1,0))","v":0}]
[{"$f":"IF(Eingabeliste!A83=\"\",0,1)","v":0},{"$f":"Eingabeliste!B83","v":0},{"$f":"IFERROR(ROUND(Eingabeliste!J83/(COS((Eingabeliste!K83*PI())/180))-(SIN((Eingabeliste!K83*PI())/180)*2)+(Eingabeliste!M83-2.74)+IF(Eingabeliste!L83=0,0,Eingabeliste!L83-2.74)+IF(Eingabeliste!N83=Daten!N$6,0,12-1.86),1),\"\")","v":""},{"$f":"IF(OR(B83=0,Eingabeliste!E83=\"\"),0,MAX(Eingabeliste!E83,1000)*B83)","v":0},{"$f":"IFERROR((ROUNDUP(Eingabeliste!E83/Daten!$K$15,0)-1)*B83,\"\")","v":""},{"$f":"IF(Eingabeliste!N83=\"Pulverbesch.\",Daten!$D$1,Eingabeliste!N83)","v":""},{"$f":"Eingabeliste!AB83","v":""},{"$f":"Eingabeliste!AC83","v":""},{"$f":"Eingabeliste!AA83","v":""},{"$f":"Eingabeliste!I83","v":""},{"$f":"Eingabeliste!G83","v":""},{"$f":"Eingabeliste!H83","v":""},null,null,null,null,null,null,null,null,{"$f":"IF(OR(Eingabeliste!O83=\"Flexila PU\",Eingabeliste!O83=\"Flexila STB\"),Eingabeliste!B83,0)+IF(OR(Eingabeliste!S83=\"Flexila PU\",Eingabeliste!S83=\"Flexila STB\"),Eingabeliste!B83,0)","v":0},null,null,null,null,null,null,null,null,null,null,null,null,null,null,null,null,null,null,null,null,null,null,null,null,0,null,null,null,{"$f":"IF(A83=0,0,IF(C83>$C$2,1,0)+IF(AND(Daten!$F$3=TRUE,Zusammenfassung!J83>Preise!$A$70),1,0)+IF(AND(G83=\"D\",K83>Preise!$A$54),1,0)+IF(AND(OR(G83=\"B\",G83=\"C\"),I83<>\"XPS\",AND(Eingabeliste!AC83>50,Daten!F$3=FALSE)),1,0)+IF(AND(OR(G83=\"B\",G83=\"C\"),I83=\"XPS\",Eingabeliste!AC83>100),1,0))","v":0}]
[{"$f":"IF(Eingabeliste!A84=\"\",0,1)","v":0},{"$f":"Eingabeliste!B84","v":0},{"$f":"IFERROR(ROUND(Eingabeliste!J84/(COS((Eingabeliste!K84*PI())/180))-(SIN((Eingabeliste!K84*PI())/180)*2)+(Eingabeliste!M84-2.74)+IF(Eingabeliste!L84=0,0,Eingabeliste!L84-2.74)+IF(Eingabeliste!N84=Daten!N$6,0,12-1.86),1),\"\")","v":""},{"$f":"IF(OR(B84=0,Eingabeliste!E84=\"\"),0,MAX(Eingabeliste!E84,1000)*B84)","v":0},{"$f":"IFERROR((ROUNDUP(Eingabeliste!E84/Daten!$K$15,0)-1)*B84,\"\")","v":""},{"$f":"IF(Eingabeliste!N84=\"Pulverbesch.\",Daten!$D$1,Eingabeliste!N84)","v":""},{"$f":"Eingabeliste!AB84","v":""},{"$f":"Eingabeliste!AC84","v":""},{"$f":"Eingabeliste!AA84","v":""},{"$f":"Eingabeliste!I84","v":""},{"$f":"Eingabeliste!G84","v":""},{"$f":"Eingabeliste!H84","v":""},null,null,null,null,null,null,null,null,{"$f":"IF(OR(Eingabeliste!O84=\"Flexila PU\",Eingabeliste!O84=\"Flexila STB\"),Eingabeliste!B84,0)+IF(OR(Eingabeliste!S84=\"Flexila PU\",Eingabeliste!S84=\"Flexila STB\"),Eingabeliste!B84,0)","v":0},null,null,null,null,null,null,null,null,null,null,null,null,null,null,null,null,null,null,null,null,null,null,null,null,0,null,null,null,{"$f":"IF(A84=0,0,IF(C84>$C$2,1,0)+IF(AND(Daten!$F$3=TRUE,Zusammenfassung!J84>Preise!$A$70),1,0)+IF(AND(G84=\"D\",K84>Preise!$A$54),1,0)+IF(AND(OR(G84=\"B\",G84=\"C\"),I84<>\"XPS\",AND(Eingabeliste!AC84>50,Daten!F$3=FALSE)),1,0)+IF(AND(OR(G84=\"B\",G84=\"C\"),I84=\"XPS\",Eingabeliste!AC84>100),1,0))","v":0}]
[{"$f":"IF(Eingabeliste!A85=\"\",0,1)","v":0},{"$f":"Eingabeliste!B85","v":0},{"$f":"IFERROR(ROUND(Eingabeliste!J85/(COS((Eingabeliste!K85*PI())/180))-(SIN((Eingabeliste!K85*PI())/180)*2)+(Eingabeliste!M85-2.74)+IF(Eingabeliste!L85=0,0,Eingabeliste!L85-2.74)+IF(Eingabeliste!N85=Daten!N$6,0,12-1.86),1),\"\")","v":""},{"$f":"IF(OR(B85=0,Eingabeliste!E85=\"\"),0,MAX(Eingabeliste!E85,1000)*B85)","v":0},{"$f":"IFERROR((ROUNDUP(Eingabeliste!E85/Daten!$K$15,0)-1)*B85,\"\")","v":""},{"$f":"IF(Eingabeliste!N85=\"Pulverbesch.\",Daten!$D$1,Eingabeliste!N85)","v":""},{"$f":"Eingabeliste!AB85","v":""},{"$f":"Eingabeliste!AC85","v":""},{"$f":"Eingabeliste!AA85","v":""},{"$f":"Eingabeliste!I85","v":""},{"$f":"Eingabeliste!G85","v":""},{"$f":"Eingabeliste!H85","v":""},null,null,null,null,null,null,null,null,{"$f":"IF(OR(Eingabeliste!O85=\"Flexila PU\",Eingabeliste!O85=\"Flexila STB\"),Eingabeliste!B85,0)+IF(OR(Eingabeliste!S85=\"Flexila PU\",Eingabeliste!S85=\"Flexila STB\"),Eingabeliste!B85,0)","v":0},null,null,null,null,null,null,null,null,null,null,null,null,null,null,null,null,null,null,null,null,null,null,null,null,0,null,null,null,{"$f":"IF(A85=0,0,IF(C85>$C$2,1,0)+IF(AND(Daten!$F$3=TRUE,Zusammenfassung!J85>Preise!$A$70),1,0)+IF(AND(G85=\"D\",K85>Preise!$A$54),1,0)+IF(AND(OR(G85=\"B\",G85=\"C\"),I85<>\"XPS\",AND(Eingabeliste!AC85>50,Daten!F$3=FALSE)),1,0)+IF(AND(OR(G85=\"B\",G85=\"C\"),I85=\"XPS\",Eingabeliste!AC85>100),1,0))","v":0}]
[{"$f":"IF(Eingabeliste!A86=\"\",0,1)","v":0},{"$f":"Eingabeliste!B86","v":0},{"$f":"IFERROR(ROUND(Eingabeliste!J86/(COS((Eingabeliste!K86*PI())/180))-(SIN((Eingabeliste!K86*PI())/180)*2)+(Eingabeliste!M86-2.74)+IF(Eingabeliste!L86=0,0,Eingabeliste!L86-2.74)+IF(Eingabeliste!N86=Daten!N$6,0,12-1.86),1),\"\")","v":""},{"$f":"IF(OR(B86=0,Eingabeliste!E86=\"\"),0,MAX(Eingabeliste!E86,1000)*B86)","v":0},{"$f":"IFERROR((ROUNDUP(Eingabeliste!E86/Daten!$K$15,0)-1)*B86,\"\")","v":""},{"$f":"IF(Eingabeliste!N86=\"Pulverbesch.\",Daten!$D$1,Eingabeliste!N86)","v":""},{"$f":"Eingabeliste!AB86","v":""},{"$f":"Eingabeliste!AC86","v":""},{"$f":"Eingabeliste!AA86","v":""},{"$f":"Eingabeliste!I86","v":""},{"$f":"Eingabeliste!G86","v":""},{"$f":"Eingabeliste!H86","v":""},null,null,null,null,null,null,null,null,{"$f":"IF(OR(Eingabeliste!O86=\"Flexila PU\",Eingabeliste!O86=\"Flexila STB\"),Eingabeliste!B86,0)+IF(OR(Eingabeliste!S86=\"Flexila PU\",Eingabeliste!S86=\"Flexila STB\"),Eingabeliste!B86,0)","v":0},null,null,null,null,null,null,null,null,null,null,null,null,null,null,null,null,null,null,null,null,null,null,null,null,0,null,null,null,{"$f":"IF(A86=0,0,IF(C86>$C$2,1,0)+IF(AND(Daten!$F$3=TRUE,Zusammenfassung!J86>Preise!$A$70),1,0)+IF(AND(G86=\"D\",K86>Preise!$A$54),1,0)+IF(AND(OR(G86=\"B\",G86=\"C\"),I86<>\"XPS\",AND(Eingabeliste!AC86>50,Daten!F$3=FALSE)),1,0)+IF(AND(OR(G86=\"B\",G86=\"C\"),I86=\"XPS\",Eingabeliste!AC86>100),1,0))","v":0}]
[{"$f":"IF(Eingabeliste!A87=\"\",0,1)","v":0},{"$f":"Eingabeliste!B87","v":0},{"$f":"IFERROR(ROUND(Eingabeliste!J87/(COS((Eingabeliste!K87*PI())/180))-(SIN((Eingabeliste!K87*PI())/180)*2)+(Eingabeliste!M87-2.74)+IF(Eingabeliste!L87=0,0,Eingabeliste!L87-2.74)+IF(Eingabeliste!N87=Daten!N$6,0,12-1.86),1),\"\")","v":""},{"$f":"IF(OR(B87=0,Eingabeliste!E87=\"\"),0,MAX(Eingabeliste!E87,1000)*B87)","v":0},{"$f":"IFERROR((ROUNDUP(Eingabeliste!E87/Daten!$K$15,0)-1)*B87,\"\")","v":""},{"$f":"IF(Eingabeliste!N87=\"Pulverbesch.\",Daten!$D$1,Eingabeliste!N87)","v":""},{"$f":"Eingabeliste!AB87","v":""},{"$f":"Eingabeliste!AC87","v":""},{"$f":"Eingabeliste!AA87","v":""},{"$f":"Eingabeliste!I87","v":""},{"$f":"Eingabeliste!G87","v":""},{"$f":"Eingabeliste!H87","v":""},null,null,null,null,null,null,null,null,{"$f":"IF(OR(Eingabeliste!O87=\"Flexila PU\",Eingabeliste!O87=\"Flexila STB\"),Eingabeliste!B87,0)+IF(OR(Eingabeliste!S87=\"Flexila PU\",Eingabeliste!S87=\"Flexila STB\"),Eingabeliste!B87,0)","v":0},null,null,null,null,null,null,null,null,null,null,null,null,null,null,null,null,null,null,null,null,null,null,null,null,0,null,null,null,{"$f":"IF(A87=0,0,IF(C87>$C$2,1,0)+IF(AND(Daten!$F$3=TRUE,Zusammenfassung!J87>Preise!$A$70),1,0)+IF(AND(G87=\"D\",K87>Preise!$A$54),1,0)+IF(AND(OR(G87=\"B\",G87=\"C\"),I87<>\"XPS\",AND(Eingabeliste!AC87>50,Daten!F$3=FALSE)),1,0)+IF(AND(OR(G87=\"B\",G87=\"C\"),I87=\"XPS\",Eingabeliste!AC87>100),1,0))","v":0}]
[{"$f":"IF(Eingabeliste!A88=\"\",0,1)","v":0},{"$f":"Eingabeliste!B88","v":0},{"$f":"IFERROR(ROUND(Eingabeliste!J88/(COS((Eingabeliste!K88*PI())/180))-(SIN((Eingabeliste!K88*PI())/180)*2)+(Eingabeliste!M88-2.74)+IF(Eingabeliste!L88=0,0,Eingabeliste!L88-2.74)+IF(Eingabeliste!N88=Daten!N$6,0,12-1.86),1),\"\")","v":""},{"$f":"IF(OR(B88=0,Eingabeliste!E88=\"\"),0,MAX(Eingabeliste!E88,1000)*B88)","v":0},{"$f":"IFERROR((ROUNDUP(Eingabeliste!E88/Daten!$K$15,0)-1)*B88,\"\")","v":""},{"$f":"IF(Eingabeliste!N88=\"Pulverbesch.\",Daten!$D$1,Eingabeliste!N88)","v":""},{"$f":"Eingabeliste!AB88","v":""},{"$f":"Eingabeliste!AC88","v":""},{"$f":"Eingabeliste!AA88","v":""},{"$f":"Eingabeliste!I88","v":""},{"$f":"Eingabeliste!G88","v":""},{"$f":"Eingabeliste!H88","v":""},null,null,null,null,null,null,null,null,{"$f":"IF(OR(Eingabeliste!O88=\"Flexila PU\",Eingabeliste!O88=\"Flexila STB\"),Eingabeliste!B88,0)+IF(OR(Eingabeliste!S88=\"Flexila PU\",Eingabeliste!S88=\"Flexila STB\"),Eingabeliste!B88,0)","v":0},null,null,null,null,null,null,null,null,null,null,null,null,null,null,null,null,null,null,null,null,null,null,null,null,0,null,null,null,{"$f":"IF(A88=0,0,IF(C88>$C$2,1,0)+IF(AND(Daten!$F$3=TRUE,Zusammenfassung!J88>Preise!$A$70),1,0)+IF(AND(G88=\"D\",K88>Preise!$A$54),1,0)+IF(AND(OR(G88=\"B\",G88=\"C\"),I88<>\"XPS\",AND(Eingabeliste!AC88>50,Daten!F$3=FALSE)),1,0)+IF(AND(OR(G88=\"B\",G88=\"C\"),I88=\"XPS\",Eingabeliste!AC88>100),1,0))","v":0}]
[{"$f":"IF(Eingabeliste!A89=\"\",0,1)","v":0},{"$f":"Eingabeliste!B89","v":0},{"$f":"IFERROR(ROUND(Eingabeliste!J89/(COS((Eingabeliste!K89*PI())/180))-(SIN((Eingabeliste!K89*PI())/180)*2)+(Eingabeliste!M89-2.74)+IF(Eingabeliste!L89=0,0,Eingabeliste!L89-2.74)+IF(Eingabeliste!N89=Daten!N$6,0,12-1.86),1),\"\")","v":""},{"$f":"IF(OR(B89=0,Eingabeliste!E89=\"\"),0,MAX(Eingabeliste!E89,1000)*B89)","v":0},{"$f":"IFERROR((ROUNDUP(Eingabeliste!E89/Daten!$K$15,0)-1)*B89,\"\")","v":""},{"$f":"IF(Eingabeliste!N89=\"Pulverbesch.\",Daten!$D$1,Eingabeliste!N89)","v":""},{"$f":"Eingabeliste!AB89","v":""},{"$f":"Eingabeliste!AC89","v":""},{"$f":"Eingabeliste!AA89","v":""},{"$f":"Eingabeliste!I89","v":""},{"$f":"Eingabeliste!G89","v":""},{"$f":"Eingabeliste!H89","v":""},null,null,null,null,null,null,null,null,{"$f":"IF(OR(Eingabeliste!O89=\"Flexila PU\",Eingabeliste!O89=\"Flexila STB\"),Eingabeliste!B89,0)+IF(OR(Eingabeliste!S89=\"Flexila PU\",Eingabeliste!S89=\"Flexila STB\"),Eingabeliste!B89,0)","v":0},null,null,null,null,null,null,null,null,null,null,null,null,null,null,null,null,null,null,null,null,null,null,null,null,0,null,null,null,{"$f":"IF(A89=0,0,IF(C89>$C$2,1,0)+IF(AND(Daten!$F$3=TRUE,Zusammenfassung!J89>Preise!$A$70),1,0)+IF(AND(G89=\"D\",K89>Preise!$A$54),1,0)+IF(AND(OR(G89=\"B\",G89=\"C\"),I89<>\"XPS\",AND(Eingabeliste!AC89>50,Daten!F$3=FALSE)),1,0)+IF(AND(OR(G89=\"B\",G89=\"C\"),I89=\"XPS\",Eingabeliste!AC89>100),1,0))","v":0}]
[{"$f":"IF(Eingabeliste!A90=\"\",0,1)","v":0},{"$f":"Eingabeliste!B90","v":0},{"$f":"IFERROR(ROUND(Eingabeliste!J90/(COS((Eingabeliste!K90*PI())/180))-(SIN((Eingabeliste!K90*PI())/180)*2)+(Eingabeliste!M90-2.74)+IF(Eingabeliste!L90=0,0,Eingabeliste!L90-2.74)+IF(Eingabeliste!N90=Daten!N$6,0,12-1.86),1),\"\")","v":""},{"$f":"IF(OR(B90=0,Eingabeliste!E90=\"\"),0,MAX(Eingabeliste!E90,1000)*B90)","v":0},{"$f":"IFERROR((ROUNDUP(Eingabeliste!E90/Daten!$K$15,0)-1)*B90,\"\")","v":""},{"$f":"IF(Eingabeliste!N90=\"Pulverbesch.\",Daten!$D$1,Eingabeliste!N90)","v":""},{"$f":"Eingabeliste!AB90","v":""},{"$f":"Eingabeliste!AC90","v":""},{"$f":"Eingabeliste!AA90","v":""},{"$f":"Eingabeliste!I90","v":""},{"$f":"Eingabeliste!G90","v":""},{"$f":"Eingabeliste!H90","v":""},null,null,null,null,null,null,null,null,{"$f":"IF(OR(Eingabeliste!O90=\"Flexila PU\",Eingabeliste!O90=\"Flexila STB\"),Eingabeliste!B90,0)+IF(OR(Eingabeliste!S90=\"Flexila PU\",Eingabeliste!S90=\"Flexila STB\"),Eingabeliste!B90,0)","v":0},null,null,null,null,null,null,null,null,null,null,null,null,null,null,null,null,null,null,null,null,null,null,null,null,0,null,null,null,{"$f":"IF(A90=0,0,IF(C90>$C$2,1,0)+IF(AND(Daten!$F$3=TRUE,Zusammenfassung!J90>Preise!$A$70),1,0)+IF(AND(G90=\"D\",K90>Preise!$A$54),1,0)+IF(AND(OR(G90=\"B\",G90=\"C\"),I90<>\"XPS\",AND(Eingabeliste!AC90>50,Daten!F$3=FALSE)),1,0)+IF(AND(OR(G90=\"B\",G90=\"C\"),I90=\"XPS\",Eingabeliste!AC90>100),1,0))","v":0}]
[{"$f":"IF(Eingabeliste!A91=\"\",0,1)","v":0},{"$f":"Eingabeliste!B91","v":0},{"$f":"IFERROR(ROUND(Eingabeliste!J91/(COS((Eingabeliste!K91*PI())/180))-(SIN((Eingabeliste!K91*PI())/180)*2)+(Eingabeliste!M91-2.74)+IF(Eingabeliste!L91=0,0,Eingabeliste!L91-2.74)+IF(Eingabeliste!N91=Daten!N$6,0,12-1.86),1),\"\")","v":""},{"$f":"IF(OR(B91=0,Eingabeliste!E91=\"\"),0,MAX(Eingabeliste!E91,1000)*B91)","v":0},{"$f":"IFERROR((ROUNDUP(Eingabeliste!E91/Daten!$K$15,0)-1)*B91,\"\")","v":""},{"$f":"IF(Eingabeliste!N91=\"Pulverbesch.\",Daten!$D$1,Eingabeliste!N91)","v":""},{"$f":"Eingabeliste!AB91","v":""},{"$f":"Eingabeliste!AC91","v":""},{"$f":"Eingabeliste!AA91","v":""},{"$f":"Eingabeliste!I91","v":""},{"$f":"Eingabeliste!G91","v":""},{"$f":"Eingabeliste!H91","v":""},null,null,null,null,null,null,null,null,{"$f":"IF(OR(Eingabeliste!O91=\"Flexila PU\",Eingabeliste!O91=\"Flexila STB\"),Eingabeliste!B91,0)+IF(OR(Eingabeliste!S91=\"Flexila PU\",Eingabeliste!S91=\"Flexila STB\"),Eingabeliste!B91,0)","v":0},null,null,null,null,null,null,null,null,null,null,null,null,null,null,null,null,null,null,null,null,null,null,null,null,0,null,null,null,{"$f":"IF(A91=0,0,IF(C91>$C$2,1,0)+IF(AND(Daten!$F$3=TRUE,Zusammenfassung!J91>Preise!$A$70),1,0)+IF(AND(G91=\"D\",K91>Preise!$A$54),1,0)+IF(AND(OR(G91=\"B\",G91=\"C\"),I91<>\"XPS\",AND(Eingabeliste!AC91>50,Daten!F$3=FALSE)),1,0)+IF(AND(OR(G91=\"B\",G91=\"C\"),I91=\"XPS\",Eingabeliste!AC91>100),1,0))","v":0}]
[{"$f":"IF(Eingabeliste!A92=\"\",0,1)","v":0},{"$f":"Eingabeliste!B92","v":0},{"$f":"IFERROR(ROUND(Eingabeliste!J92/(COS((Eingabeliste!K92*PI())/180))-(SIN((Eingabeliste!K92*PI())/180)*2)+(Eingabeliste!M92-2.74)+IF(Eingabeliste!L92=0,0,Eingabeliste!L92-2.74)+IF(Eingabeliste!N92=Daten!N$6,0,12-1.86),1),\"\")","v":""},{"$f":"IF(OR(B92=0,Eingabeliste!E92=\"\"),0,MAX(Eingabeliste!E92,1000)*B92)","v":0},{"$f":"IFERROR((ROUNDUP(Eingabeliste!E92/Daten!$K$15,0)-1)*B92,\"\")","v":""},{"$f":"IF(Eingabeliste!N92=\"Pulverbesch.\",Daten!$D$1,Eingabeliste!N92)","v":""},{"$f":"Eingabeliste!AB92","v":""},{"$f":"Eingabeliste!AC92","v":""},{"$f":"Eingabeliste!AA92","v":""},{"$f":"Eingabeliste!I92","v":""},{"$f":"Eingabeliste!G92","v":""},{"$f":"Eingabeliste!H92","v":""},null,null,null,null,null,null,null,null,{"$f":"IF(OR(Eingabeliste!O92=\"Flexila PU\",Eingabeliste!O92=\"Flexila STB\"),Eingabeliste!B92,0)+IF(OR(Eingabeliste!S92=\"Flexila PU\",Eingabeliste!S92=\"Flexila STB\"),Eingabeliste!B92,0)","v":0},null,null,null,null,null,null,null,null,null,null,null,null,null,null,null,null,null,null,null,null,null,null,null,null,0,null,null,null,{"$f":"IF(A92=0,0,IF(C92>$C$2,1,0)+IF(AND(Daten!$F$3=TRUE,Zusammenfassung!J92>Preise!$A$70),1,0)+IF(AND(G92=\"D\",K92>Preise!$A$54),1,0)+IF(AND(OR(G92=\"B\",G92=\"C\"),I92<>\"XPS\",AND(Eingabeliste!AC92>50,Daten!F$3=FALSE)),1,0)+IF(AND(OR(G92=\"B\",G92=\"C\"),I92=\"XPS\",Eingabeliste!AC92>100),1,0))","v":0}]
[{"$f":"IF(Eingabeliste!A93=\"\",0,1)","v":0},{"$f":"Eingabeliste!B93","v":0},{"$f":"IFERROR(ROUND(Eingabeliste!J93/(COS((Eingabeliste!K93*PI())/180))-(SIN((Eingabeliste!K93*PI())/180)*2)+(Eingabeliste!M93-2.74)+IF(Eingabeliste!L93=0,0,Eingabeliste!L93-2.74)+IF(Eingabeliste!N93=Daten!N$6,0,12-1.86),1),\"\")","v":""},{"$f":"IF(OR(B93=0,Eingabeliste!E93=\"\"),0,MAX(Eingabeliste!E93,1000)*B93)","v":0},{"$f":"IFERROR((ROUNDUP(Eingabeliste!E93/Daten!$K$15,0)-1)*B93,\"\")","v":""},{"$f":"IF(Eingabeliste!N93=\"Pulverbesch.\",Daten!$D$1,Eingabeliste!N93)","v":""},{"$f":"Eingabeliste!AB93","v":""},{"$f":"Eingabeliste!AC93","v":""},{"$f":"Eingabeliste!AA93","v":""},{"$f":"Eingabeliste!I93","v":""},{"$f":"Eingabeliste!G93","v":""},{"$f":"Eingabeliste!H93","v":""},null,null,null,null,null,null,null,null,{"$f":"IF(OR(Eingabeliste!O93=\"Flexila PU\",Eingabeliste!O93=\"Flexila STB\"),Eingabeliste!B93,0)+IF(OR(Eingabeliste!S93=\"Flexila PU\",Eingabeliste!S93=\"Flexila STB\"),Eingabeliste!B93,0)","v":0},null,null,null,null,null,null,null,null,null,null,null,null,null,null,null,null,null,null,null,null,null,null,null,null,0,null,null,null,{"$f":"IF(A93=0,0,IF(C93>$C$2,1,0)+IF(AND(Daten!$F$3=TRUE,Zusammenfassung!J93>Preise!$A$70),1,0)+IF(AND(G93=\"D\",K93>Preise!$A$54),1,0)+IF(AND(OR(G93=\"B\",G93=\"C\"),I93<>\"XPS\",AND(Eingabeliste!AC93>50,Daten!F$3=FALSE)),1,0)+IF(AND(OR(G93=\"B\",G93=\"C\"),I93=\"XPS\",Eingabeliste!AC93>100),1,0))","v":0}]
[{"$f":"IF(Eingabeliste!A94=\"\",0,1)","v":0},{"$f":"Eingabeliste!B94","v":0},{"$f":"IFERROR(ROUND(Eingabeliste!J94/(COS((Eingabeliste!K94*PI())/180))-(SIN((Eingabeliste!K94*PI())/180)*2)+(Eingabeliste!M94-2.74)+IF(Eingabeliste!L94=0,0,Eingabeliste!L94-2.74)+IF(Eingabeliste!N94=Daten!N$6,0,12-1.86),1),\"\")","v":""},{"$f":"IF(OR(B94=0,Eingabeliste!E94=\"\"),0,MAX(Eingabeliste!E94,1000)*B94)","v":0},{"$f":"IFERROR((ROUNDUP(Eingabeliste!E94/Daten!$K$15,0)-1)*B94,\"\")","v":""},{"$f":"IF(Eingabeliste!N94=\"Pulverbesch.\",Daten!$D$1,Eingabeliste!N94)","v":""},{"$f":"Eingabeliste!AB94","v":""},{"$f":"Eingabeliste!AC94","v":""},{"$f":"Eingabeliste!AA94","v":""},{"$f":"Eingabeliste!I94","v":""},{"$f":"Eingabeliste!G94","v":""},{"$f":"Eingabeliste!H94","v":""},null,null,null,null,null,null,null,null,{"$f":"IF(OR(Eingabeliste!O94=\"Flexila PU\",Eingabeliste!O94=\"Flexila STB\"),Eingabeliste!B94,0)+IF(OR(Eingabeliste!S94=\"Flexila PU\",Eingabeliste!S94=\"Flexila STB\"),Eingabeliste!B94,0)","v":0},null,null,null,null,null,null,null,null,null,null,null,null,null,null,null,null,null,null,null,null,null,null,null,null,0,null,null,null,{"$f":"IF(A94=0,0,IF(C94>$C$2,1,0)+IF(AND(Daten!$F$3=TRUE,Zusammenfassung!J94>Preise!$A$70),1,0)+IF(AND(G94=\"D\",K94>Preise!$A$54),1,0)+IF(AND(OR(G94=\"B\",G94=\"C\"),I94<>\"XPS\",AND(Eingabeliste!AC94>50,Daten!F$3=FALSE)),1,0)+IF(AND(OR(G94=\"B\",G94=\"C\"),I94=\"XPS\",Eingabeliste!AC94>100),1,0))","v":0}]
[{"$f":"IF(Eingabeliste!A95=\"\",0,1)","v":0},{"$f":"Eingabeliste!B95","v":0},{"$f":"IFERROR(ROUND(Eingabeliste!J95/(COS((Eingabeliste!K95*PI())/180))-(SIN((Eingabeliste!K95*PI())/180)*2)+(Eingabeliste!M95-2.74)+IF(Eingabeliste!L95=0,0,Eingabeliste!L95-2.74)+IF(Eingabeliste!N95=Daten!N$6,0,12-1.86),1),\"\")","v":""},{"$f":"IF(OR(B95=0,Eingabeliste!E95=\"\"),0,MAX(Eingabeliste!E95,1000)*B95)","v":0},{"$f":"IFERROR((ROUNDUP(Eingabeliste!E95/Daten!$K$15,0)-1)*B95,\"\")","v":""},{"$f":"IF(Eingabeliste!N95=\"Pulverbesch.\",Daten!$D$1,Eingabeliste!N95)","v":""},{"$f":"Eingabeliste!AB95","v":""},{"$f":"Eingabeliste!AC95","v":""},{"$f":"Eingabeliste!AA95","v":""},{"$f":"Eingabeliste!I95","v":""},{"$f":"Eingabeliste!G95","v":""},{"$f":"Eingabeliste!H95","v":""},null,null,null,null,null,null,null,null,{"$f":"IF(OR(Eingabeliste!O95=\"Flexila PU\",Eingabeliste!O95=\"Flexila STB\"),Eingabeliste!B95,0)+IF(OR(Eingabeliste!S95=\"Flexila PU\",Eingabeliste!S95=\"Flexila STB\"),Eingabeliste!B95,0)","v":0},null,null,null,null,null,null,null,null,null,null,null,null,null,null,null,null,null,null,null,null,null,null,null,null,0,null,null,null,{"$f":"IF(A95=0,0,IF(C95>$C$2,1,0)+IF(AND(Daten!$F$3=TRUE,Zusammenfassung!J95>Preise!$A$70),1,0)+IF(AND(G95=\"D\",K95>Preise!$A$54),1,0)+IF(AND(OR(G95=\"B\",G95=\"C\"),I95<>\"XPS\",AND(Eingabeliste!AC95>50,Daten!F$3=FALSE)),1,0)+IF(AND(OR(G95=\"B\",G95=\"C\"),I95=\"XPS\",Eingabeliste!AC95>100),1,0))","v":0}]
[{"$f":"IF(Eingabeliste!A96=\"\",0,1)","v":0},{"$f":"Eingabeliste!B96","v":0},{"$f":"IFERROR(ROUND(Eingabeliste!J96/(COS((Eingabeliste!K96*PI())/180))-(SIN((Eingabeliste!K96*PI())/180)*2)+(Eingabeliste!M96-2.74)+IF(Eingabeliste!L96=0,0,Eingabeliste!L96-2.74)+IF(Eingabeliste!N96=Daten!N$6,0,12-1.86),1),\"\")","v":""},{"$f":"IF(OR(B96=0,Eingabeliste!E96=\"\"),0,MAX(Eingabeliste!E96,1000)*B96)","v":0},{"$f":"IFERROR((ROUNDUP(Eingabeliste!E96/Daten!$K$15,0)-1)*B96,\"\")","v":""},{"$f":"IF(Eingabeliste!N96=\"Pulverbesch.\",Daten!$D$1,Eingabeliste!N96)","v":""},{"$f":"Eingabeliste!AB96","v":""},{"$f":"Eingabeliste!AC96","v":""},{"$f":"Eingabeliste!AA96","v":""},{"$f":"Eingabeliste!I96","v":""},{"$f":"Eingabeliste!G96","v":""},{"$f":"Eingabeliste!H96","v":""},null,null,null,null,null,null,null,null,{"$f":"IF(OR(Eingabeliste!O96=\"Flexila PU\",Eingabeliste!O96=\"Flexila STB\"),Eingabeliste!B96,0)+IF(OR(Eingabeliste!S96=\"Flexila PU\",Eingabeliste!S96=\"Flexila STB\"),Eingabeliste!B96,0)","v":0},null,null,null,null,null,null,null,null,null,null,null,null,null,null,null,null,null,null,null,null,null,null,null,null,0,null,null,null,{"$f":"IF(A96=0,0,IF(C96>$C$2,1,0)+IF(AND(Daten!$F$3=TRUE,Zusammenfassung!J96>Preise!$A$70),1,0)+IF(AND(G96=\"D\",K96>Preise!$A$54),1,0)+IF(AND(OR(G96=\"B\",G96=\"C\"),I96<>\"XPS\",AND(Eingabeliste!AC96>50,Daten!F$3=FALSE)),1,0)+IF(AND(OR(G96=\"B\",G96=\"C\"),I96=\"XPS\",Eingabeliste!AC96>100),1,0))","v":0}]
[{"$f":"IF(Eingabeliste!A97=\"\",0,1)","v":0},{"$f":"Eingabeliste!B97","v":0},{"$f":"IFERROR(ROUND(Eingabeliste!J97/(COS((Eingabeliste!K97*PI())/180))-(SIN((Eingabeliste!K97*PI())/180)*2)+(Eingabeliste!M97-2.74)+IF(Eingabeliste!L97=0,0,Eingabeliste!L97-2.74)+IF(Eingabeliste!N97=Daten!N$6,0,12-1.86),1),\"\")","v":""},{"$f":"IF(OR(B97=0,Eingabeliste!E97=\"\"),0,MAX(Eingabeliste!E97,1000)*B97)","v":0},{"$f":"IFERROR((ROUNDUP(Eingabeliste!E97/Daten!$K$15,0)-1)*B97,\"\")","v":""},{"$f":"IF(Eingabeliste!N97=\"Pulverbesch.\",Daten!$D$1,Eingabeliste!N97)","v":""},{"$f":"Eingabeliste!AB97","v":""},{"$f":"Eingabeliste!AC97","v":""},{"$f":"Eingabeliste!AA97","v":""},{"$f":"Eingabeliste!I97","v":""},{"$f":"Eingabeliste!G97","v":""},{"$f":"Eingabeliste!H97","v":""},null,null,null,null,null,null,null,null,{"$f":"IF(OR(Eingabeliste!O97=\"Flexila PU\",Eingabeliste!O97=\"Flexila STB\"),Eingabeliste!B97,0)+IF(OR(Eingabeliste!S97=\"Flexila PU\",Eingabeliste!S97=\"Flexila STB\"),Eingabeliste!B97,0)","v":0},null,null,null,null,null,null,null,null,null,null,null,null,null,null,null,null,null,null,null,null,null,null,null,null,0,null,null,null,{"$f":"IF(A97=0,0,IF(C97>$C$2,1,0)+IF(AND(Daten!$F$3=TRUE,Zusammenfassung!J97>Preise!$A$70),1,0)+IF(AND(G97=\"D\",K97>Preise!$A$54),1,0)+IF(AND(OR(G97=\"B\",G97=\"C\"),I97<>\"XPS\",AND(Eingabeliste!AC97>50,Daten!F$3=FALSE)),1,0)+IF(AND(OR(G97=\"B\",G97=\"C\"),I97=\"XPS\",Eingabeliste!AC97>100),1,0))","v":0}]
[{"$f":"IF(Eingabeliste!A98=\"\",0,1)","v":0},{"$f":"Eingabeliste!B98","v":0},{"$f":"IFERROR(ROUND(Eingabeliste!J98/(COS((Eingabeliste!K98*PI())/180))-(SIN((Eingabeliste!K98*PI())/180)*2)+(Eingabeliste!M98-2.74)+IF(Eingabeliste!L98=0,0,Eingabeliste!L98-2.74)+IF(Eingabeliste!N98=Daten!N$6,0,12-1.86),1),\"\")","v":""},{"$f":"IF(OR(B98=0,Eingabeliste!E98=\"\"),0,MAX(Eingabeliste!E98,1000)*B98)","v":0},{"$f":"IFERROR((ROUNDUP(Eingabeliste!E98/Daten!$K$15,0)-1)*B98,\"\")","v":""},{"$f":"IF(Eingabeliste!N98=\"Pulverbesch.\",Daten!$D$1,Eingabeliste!N98)","v":""},{"$f":"Eingabeliste!AB98","v":""},{"$f":"Eingabeliste!AC98","v":""},{"$f":"Eingabeliste!AA98","v":""},{"$f":"Eingabeliste!I98","v":""},{"$f":"Eingabeliste!G98","v":""},{"$f":"Eingabeliste!H98","v":""},null,null,null,null,null,null,null,null,{"$f":"IF(OR(Eingabeliste!O98=\"Flexila PU\",Eingabeliste!O98=\"Flexila STB\"),Eingabeliste!B98,0)+IF(OR(Eingabeliste!S98=\"Flexila PU\",Eingabeliste!S98=\"Flexila STB\"),Eingabeliste!B98,0)","v":0},null,null,null,null,null,null,null,null,null,null,null,null,null,null,null,null,null,null,null,null,null,null,null,null,0,null,null,null,{"$f":"IF(A98=0,0,IF(C98>$C$2,1,0)+IF(AND(Daten!$F$3=TRUE,Zusammenfassung!J98>Preise!$A$70),1,0)+IF(AND(G98=\"D\",K98>Preise!$A$54),1,0)+IF(AND(OR(G98=\"B\",G98=\"C\"),I98<>\"XPS\",AND(Eingabeliste!AC98>50,Daten!F$3=FALSE)),1,0)+IF(AND(OR(G98=\"B\",G98=\"C\"),I98=\"XPS\",Eingabeliste!AC98>100),1,0))","v":0}]
[{"$f":"IF(Eingabeliste!A99=\"\",0,1)","v":0},{"$f":"Eingabeliste!B99","v":0},{"$f":"IFERROR(ROUND(Eingabeliste!J99/(COS((Eingabeliste!K99*PI())/180))-(SIN((Eingabeliste!K99*PI())/180)*2)+(Eingabeliste!M99-2.74)+IF(Eingabeliste!L99=0,0,Eingabeliste!L99-2.74)+IF(Eingabeliste!N99=Daten!N$6,0,12-1.86),1),\"\")","v":""},{"$f":"IF(OR(B99=0,Eingabeliste!E99=\"\"),0,MAX(Eingabeliste!E99,1000)*B99)","v":0},{"$f":"IFERROR((ROUNDUP(Eingabeliste!E99/Daten!$K$15,0)-1)*B99,\"\")","v":""},{"$f":"IF(Eingabeliste!N99=\"Pulverbesch.\",Daten!$D$1,Eingabeliste!N99)","v":""},{"$f":"Eingabeliste!AB99","v":""},{"$f":"Eingabeliste!AC99","v":""},{"$f":"Eingabeliste!AA99","v":""},{"$f":"Eingabeliste!I99","v":""},{"$f":"Eingabeliste!G99","v":""},{"$f":"Eingabeliste!H99","v":""},null,null,null,null,null,null,null,null,{"$f":"IF(OR(Eingabeliste!O99=\"Flexila PU\",Eingabeliste!O99=\"Flexila STB\"),Eingabeliste!B99,0)+IF(OR(Eingabeliste!S99=\"Flexila PU\",Eingabeliste!S99=\"Flexila STB\"),Eingabeliste!B99,0)","v":0},null,null,null,null,null,null,null,null,null,null,null,null,null,null,null,null,null,null,null,null,null,null,null,null,0,null,null,null,{"$f":"IF(A99=0,0,IF(C99>$C$2,1,0)+IF(AND(Daten!$F$3=TRUE,Zusammenfassung!J99>Preise!$A$70),1,0)+IF(AND(G99=\"D\",K99>Preise!$A$54),1,0)+IF(AND(OR(G99=\"B\",G99=\"C\"),I99<>\"XPS\",AND(Eingabeliste!AC99>50,Daten!F$3=FALSE)),1,0)+IF(AND(OR(G99=\"B\",G99=\"C\"),I99=\"XPS\",Eingabeliste!AC99>100),1,0))","v":0}]
[{"$f":"IF(Eingabeliste!A100=\"\",0,1)","v":0},{"$f":"Eingabeliste!B100","v":0},{"$f":"IFERROR(ROUND(Eingabeliste!J100/(COS((Eingabeliste!K100*PI())/180))-(SIN((Eingabeliste!K100*PI())/180)*2)+(Eingabeliste!M100-2.74)+IF(Eingabeliste!L100=0,0,Eingabeliste!L100-2.74)+IF(Eingabeliste!N100=Daten!N$6,0,12-1.86),1),\"\")","v":""},{"$f":"IF(OR(B100=0,Eingabeliste!E100=\"\"),0,MAX(Eingabeliste!E100,1000)*B100)","v":0},{"$f":"IFERROR((ROUNDUP(Eingabeliste!E100/Daten!$K$15,0)-1)*B100,\"\")","v":""},{"$f":"IF(Eingabeliste!N100=\"Pulverbesch.\",Daten!$D$1,Eingabeliste!N100)","v":""},{"$f":"Eingabeliste!AB100","v":""},{"$f":"Eingabeliste!AC100","v":""},{"$f":"Eingabeliste!AA100","v":""},{"$f":"Eingabeliste!I100","v":""},{"$f":"Eingabeliste!G100","v":""},{"$f":"Eingabeliste!H100","v":""},null,null,null,null,null,null,null,null,{"$f":"IF(OR(Eingabeliste!O100=\"Flexila PU\",Eingabeliste!O100=\"Flexila STB\"),Eingabeliste!B100,0)+IF(OR(Eingabeliste!S100=\"Flexila PU\",Eingabeliste!S100=\"Flexila STB\"),Eingabeliste!B100,0)","v":0},null,null,null,null,null,null,null,null,null,null,null,null,null,null,null,null,null,null,null,null,null,null,null,null,0,null,null,null,{"$f":"IF(A100=0,0,IF(C100>$C$2,1,0)+IF(AND(Daten!$F$3=TRUE,Zusammenfassung!J100>Preise!$A$70),1,0)+IF(AND(G100=\"D\",K100>Preise!$A$54),1,0)+IF(AND(OR(G100=\"B\",G100=\"C\"),I100<>\"XPS\",AND(Eingabeliste!AC100>50,Daten!F$3=FALSE)),1,0)+IF(AND(OR(G100=\"B\",G100=\"C\"),I100=\"XPS\",Eingabeliste!AC100>100),1,0))","v":0}]
[{"$f":"IF(Eingabeliste!A101=\"\",0,1)","v":0},{"$f":"Eingabeliste!B101","v":0},{"$f":"IFERROR(ROUND(Eingabeliste!J101/(COS((Eingabeliste!K101*PI())/180))-(SIN((Eingabeliste!K101*PI())/180)*2)+(Eingabeliste!M101-2.74)+IF(Eingabeliste!L101=0,0,Eingabeliste!L101-2.74)+IF(Eingabeliste!N101=Daten!N$6,0,12-1.86),1),\"\")","v":""},{"$f":"IF(OR(B101=0,Eingabeliste!E101=\"\"),0,MAX(Eingabeliste!E101,1000)*B101)","v":0},{"$f":"IFERROR((ROUNDUP(Eingabeliste!E101/Daten!$K$15,0)-1)*B101,\"\")","v":""},{"$f":"IF(Eingabeliste!N101=\"Pulverbesch.\",Daten!$D$1,Eingabeliste!N101)","v":""},{"$f":"Eingabeliste!AB101","v":""},{"$f":"Eingabeliste!AC101","v":""},{"$f":"Eingabeliste!AA101","v":""},{"$f":"Eingabeliste!I101","v":""},{"$f":"Eingabeliste!G101","v":""},{"$f":"Eingabeliste!H101","v":""},null,null,null,null,null,null,null,null,{"$f":"IF(OR(Eingabeliste!O101=\"Flexila PU\",Eingabeliste!O101=\"Flexila STB\"),Eingabeliste!B101,0)+IF(OR(Eingabeliste!S101=\"Flexila PU\",Eingabeliste!S101=\"Flexila STB\"),Eingabeliste!B101,0)","v":0},null,null,null,null,null,null,null,null,null,null,null,null,null,null,null,null,null,null,null,null,null,null,null,null,0,null,null,null,{"$f":"IF(A101=0,0,IF(C101>$C$2,1,0)+IF(AND(Daten!$F$3=TRUE,Zusammenfassung!J101>Preise!$A$70),1,0)+IF(AND(G101=\"D\",K101>Preise!$A$54),1,0)+IF(AND(OR(G101=\"B\",G101=\"C\"),I101<>\"XPS\",AND(Eingabeliste!AC101>50,Daten!F$3=FALSE)),1,0)+IF(AND(OR(G101=\"B\",G101=\"C\"),I101=\"XPS\",Eingabeliste!AC101>100),1,0))","v":0}]
[{"$f":"IF(Eingabeliste!A102=\"\",0,1)","v":0},{"$f":"Eingabeliste!B102","v":0},{"$f":"IFERROR(ROUND(Eingabeliste!J102/(COS((Eingabeliste!K102*PI())/180))-(SIN((Eingabeliste!K102*PI())/180)*2)+(Eingabeliste!M102-2.74)+IF(Eingabeliste!L102=0,0,Eingabeliste!L102-2.74)+IF(Eingabeliste!N102=Daten!N$6,0,12-1.86),1),\"\")","v":""},{"$f":"IF(OR(B102=0,Eingabeliste!E102=\"\"),0,MAX(Eingabeliste!E102,1000)*B102)","v":0},{"$f":"IFERROR((ROUNDUP(Eingabeliste!E102/Daten!$K$15,0)-1)*B102,\"\")","v":""},{"$f":"IF(Eingabeliste!N102=\"Pulverbesch.\",Daten!$D$1,Eingabeliste!N102)","v":""},{"$f":"Eingabeliste!AB102","v":""},{"$f":"Eingabeliste!AC102","v":""},{"$f":"Eingabeliste!AA102","v":""},{"$f":"Eingabeliste!I102","v":""},{"$f":"Eingabeliste!G102","v":""},{"$f":"Eingabeliste!H102","v":""},null,null,null,null,null,null,null,null,{"$f":"IF(OR(Eingabeliste!O102=\"Flexila PU\",Eingabeliste!O102=\"Flexila STB\"),Eingabeliste!B102,0)+IF(OR(Eingabeliste!S102=\"Flexila PU\",Eingabeliste!S102=\"Flexila STB\"),Eingabeliste!B102,0)","v":0},null,null,null,null,null,null,null,null,null,null,null,null,null,null,null,null,null,null,null,null,null,null,null,null,0,null,null,null,{"$f":"IF(A102=0,0,IF(C102>$C$2,1,0)+IF(AND(Daten!$F$3=TRUE,Zusammenfassung!J102>Preise!$A$70),1,0)+IF(AND(G102=\"D\",K102>Preise!$A$54),1,0)+IF(AND(OR(G102=\"B\",G102=\"C\"),I102<>\"XPS\",AND(Eingabeliste!AC102>50,Daten!F$3=FALSE)),1,0)+IF(AND(OR(G102=\"B\",G102=\"C\"),I102=\"XPS\",Eingabeliste!AC102>100),1,0))","v":0}]
[{"$f":"IF(Eingabeliste!A103=\"\",0,1)","v":0},{"$f":"Eingabeliste!B103","v":0},{"$f":"IFERROR(ROUND(Eingabeliste!J103/(COS((Eingabeliste!K103*PI())/180))-(SIN((Eingabeliste!K103*PI())/180)*2)+(Eingabeliste!M103-2.74)+IF(Eingabeliste!L103=0,0,Eingabeliste!L103-2.74)+IF(Eingabeliste!N103=Daten!N$6,0,12-1.86),1),\"\")","v":""},{"$f":"IF(OR(B103=0,Eingabeliste!E103=\"\"),0,MAX(Eingabeliste!E103,1000)*B103)","v":0},{"$f":"IFERROR((ROUNDUP(Eingabeliste!E103/Daten!$K$15,0)-1)*B103,\"\")","v":""},{"$f":"IF(Eingabeliste!N103=\"Pulverbesch.\",Daten!$D$1,Eingabeliste!N103)","v":""},{"$f":"Eingabeliste!AB103","v":""},{"$f":"Eingabeliste!AC103","v":""},{"$f":"Eingabeliste!AA103","v":""},{"$f":"Eingabeliste!I103","v":""},{"$f":"Eingabeliste!G103","v":""},{"$f":"Eingabeliste!H103","v":""},null,null,null,null,null,null,null,null,{"$f":"IF(OR(Eingabeliste!O103=\"Flexila PU\",Eingabeliste!O103=\"Flexila STB\"),Eingabeliste!B103,0)+IF(OR(Eingabeliste!S103=\"Flexila PU\",Eingabeliste!S103=\"Flexila STB\"),Eingabeliste!B103,0)","v":0},null,null,null,null,null,null,null,null,null,null,null,null,null,null,null,null,null,null,null,null,null,null,null,null,0,null,null,null,{"$f":"IF(A103=0,0,IF(C103>$C$2,1,0)+IF(AND(Daten!$F$3=TRUE,Zusammenfassung!J103>Preise!$A$70),1,0)+IF(AND(G103=\"D\",K103>Preise!$A$54),1,0)+IF(AND(OR(G103=\"B\",G103=\"C\"),I103<>\"XPS\",AND(Eingabeliste!AC103>50,Daten!F$3=FALSE)),1,0)+IF(AND(OR(G103=\"B\",G103=\"C\"),I103=\"XPS\",Eingabeliste!AC103>100),1,0))","v":0}]
[{"$f":"IF(Eingabeliste!A104=\"\",0,1)","v":0},{"$f":"Eingabeliste!B104","v":0},{"$f":"IFERROR(ROUND(Eingabeliste!J104/(COS((Eingabeliste!K104*PI())/180))-(SIN((Eingabeliste!K104*PI())/180)*2)+(Eingabeliste!M104-2.74)+IF(Eingabeliste!L104=0,0,Eingabeliste!L104-2.74)+IF(Eingabeliste!N104=Daten!N$6,0,12-1.86),1),\"\")","v":""},{"$f":"IF(OR(B104=0,Eingabeliste!E104=\"\"),0,MAX(Eingabeliste!E104,1000)*B104)","v":0},{"$f":"IFERROR((ROUNDUP(Eingabeliste!E104/Daten!$K$15,0)-1)*B104,\"\")","v":""},{"$f":"IF(Eingabeliste!N104=\"Pulverbesch.\",Daten!$D$1,Eingabeliste!N104)","v":""},{"$f":"Eingabeliste!AB104","v":""},{"$f":"Eingabeliste!AC104","v":""},{"$f":"Eingabeliste!AA104","v":""},{"$f":"Eingabeliste!I104","v":""},{"$f":"Eingabeliste!G104","v":""},{"$f":"Eingabeliste!H104","v":""},null,null,null,null,null,null,null,null,{"$f":"IF(OR(Eingabeliste!O104=\"Flexila PU\",Eingabeliste!O104=\"Flexila STB\"),Eingabeliste!B104,0)+IF(OR(Eingabeliste!S104=\"Flexila PU\",Eingabeliste!S104=\"Flexila STB\"),Eingabeliste!B104,0)","v":0},null,null,null,null,null,null,null,null,null,null,null,null,null,null,null,null,null,null,null,null,null,null,null,null,0,null,null,null,{"$f":"IF(A104=0,0,IF(C104>$C$2,1,0)+IF(AND(Daten!$F$3=TRUE,Zusammenfassung!J104>Preise!$A$70),1,0)+IF(AND(G104=\"D\",K104>Preise!$A$54),1,0)+IF(AND(OR(G104=\"B\",G104=\"C\"),I104<>\"XPS\",AND(Eingabeliste!AC104>50,Daten!F$3=FALSE)),1,0)+IF(AND(OR(G104=\"B\",G104=\"C\"),I104=\"XPS\",Eingabeliste!AC104>100),1,0))","v":0}]
[{"$f":"IF(Eingabeliste!A105=\"\",0,1)","v":0},{"$f":"Eingabeliste!B105","v":0},{"$f":"IFERROR(ROUND(Eingabeliste!J105/(COS((Eingabeliste!K105*PI())/180))-(SIN((Eingabeliste!K105*PI())/180)*2)+(Eingabeliste!M105-2.74)+IF(Eingabeliste!L105=0,0,Eingabeliste!L105-2.74)+IF(Eingabeliste!N105=Daten!N$6,0,12-1.86),1),\"\")","v":""},{"$f":"IF(OR(B105=0,Eingabeliste!E105=\"\"),0,MAX(Eingabeliste!E105,1000)*B105)","v":0},{"$f":"IFERROR((ROUNDUP(Eingabeliste!E105/Daten!$K$15,0)-1)*B105,\"\")","v":""},{"$f":"IF(Eingabeliste!N105=\"Pulverbesch.\",Daten!$D$1,Eingabeliste!N105)","v":""},{"$f":"Eingabeliste!AB105","v":""},{"$f":"Eingabeliste!AC105","v":""},{"$f":"Eingabeliste!AA105","v":""},{"$f":"Eingabeliste!I105","v":""},{"$f":"Eingabeliste!G105","v":""},{"$f":"Eingabeliste!H105","v":""},null,null,null,null,null,null,null,null,{"$f":"IF(OR(Eingabeliste!O105=\"Flexila PU\",Eingabeliste!O105=\"Flexila STB\"),Eingabeliste!B105,0)+IF(OR(Eingabeliste!S105=\"Flexila PU\",Eingabeliste!S105=\"Flexila STB\"),Eingabeliste!B105,0)","v":0},null,null,null,null,null,null,null,null,null,null,null,null,null,null,null,null,null,null,null,null,null,null,null,null,0,null,null,null,{"$f":"IF(A105=0,0,IF(C105>$C$2,1,0)+IF(AND(Daten!$F$3=TRUE,Zusammenfassung!J105>Preise!$A$70),1,0)+IF(AND(G105=\"D\",K105>Preise!$A$54),1,0)+IF(AND(OR(G105=\"B\",G105=\"C\"),I105<>\"XPS\",AND(Eingabeliste!AC105>50,Daten!F$3=FALSE)),1,0)+IF(AND(OR(G105=\"B\",G105=\"C\"),I105=\"XPS\",Eingabeliste!AC105>100),1,0))","v":0}]
[{"$f":"IF(Eingabeliste!A106=\"\",0,1)","v":0},{"$f":"Eingabeliste!B106","v":0},{"$f":"IFERROR(ROUND(Eingabeliste!J106/(COS((Eingabeliste!K106*PI())/180))-(SIN((Eingabeliste!K106*PI())/180)*2)+(Eingabeliste!M106-2.74)+IF(Eingabeliste!L106=0,0,Eingabeliste!L106-2.74)+IF(Eingabeliste!N106=Daten!N$6,0,12-1.86),1),\"\")","v":""},{"$f":"IF(OR(B106=0,Eingabeliste!E106=\"\"),0,MAX(Eingabeliste!E106,1000)*B106)","v":0},{"$f":"IFERROR((ROUNDUP(Eingabeliste!E106/Daten!$K$15,0)-1)*B106,\"\")","v":""},{"$f":"IF(Eingabeliste!N106=\"Pulverbesch.\",Daten!$D$1,Eingabeliste!N106)","v":""},{"$f":"Eingabeliste!AB106","v":""},{"$f":"Eingabeliste!AC106","v":""},{"$f":"Eingabeliste!AA106","v":""},{"$f":"Eingabeliste!I106","v":""},{"$f":"Eingabeliste!G106","v":""},{"$f":"Eingabeliste!H106","v":""},null,null,null,null,null,null,null,null,{"$f":"IF(OR(Eingabeliste!O106=\"Flexila PU\",Eingabeliste!O106=\"Flexila STB\"),Eingabeliste!B106,0)+IF(OR(Eingabeliste!S106=\"Flexila PU\",Eingabeliste!S106=\"Flexila STB\"),Eingabeliste!B106,0)","v":0},null,null,null,null,null,null,null,null,null,null,null,null,null,null,null,null,null,null,null,null,null,null,null,null,0,null,null,null,{"$f":"IF(A106=0,0,IF(C106>$C$2,1,0)+IF(AND(Daten!$F$3=TRUE,Zusammenfassung!J106>Preise!$A$70),1,0)+IF(AND(G106=\"D\",K106>Preise!$A$54),1,0)+IF(AND(OR(G106=\"B\",G106=\"C\"),I106<>\"XPS\",AND(Eingabeliste!AC106>50,Daten!F$3=FALSE)),1,0)+IF(AND(OR(G106=\"B\",G106=\"C\"),I106=\"XPS\",Eingabeliste!AC106>100),1,0))","v":0}]
[{"$f":"IF(Eingabeliste!A107=\"\",0,1)","v":0},{"$f":"Eingabeliste!B107","v":0},{"$f":"IFERROR(ROUND(Eingabeliste!J107/(COS((Eingabeliste!K107*PI())/180))-(SIN((Eingabeliste!K107*PI())/180)*2)+(Eingabeliste!M107-2.74)+IF(Eingabeliste!L107=0,0,Eingabeliste!L107-2.74)+IF(Eingabeliste!N107=Daten!N$6,0,12-1.86),1),\"\")","v":""},{"$f":"IF(OR(B107=0,Eingabeliste!E107=\"\"),0,MAX(Eingabeliste!E107,1000)*B107)","v":0},{"$f":"IFERROR((ROUNDUP(Eingabeliste!E107/Daten!$K$15,0)-1)*B107,\"\")","v":""},{"$f":"IF(Eingabeliste!N107=\"Pulverbesch.\",Daten!$D$1,Eingabeliste!N107)","v":""},{"$f":"Eingabeliste!AB107","v":""},{"$f":"Eingabeliste!AC107","v":""},{"$f":"Eingabeliste!AA107","v":""},{"$f":"Eingabeliste!I107","v":""},{"$f":"Eingabeliste!G107","v":""},{"$f":"Eingabeliste!H107","v":""},null,null,null,null,null,null,null,null,{"$f":"IF(OR(Eingabeliste!O107=\"Flexila PU\",Eingabeliste!O107=\"Flexila STB\"),Eingabeliste!B107,0)+IF(OR(Eingabeliste!S107=\"Flexila PU\",Eingabeliste!S107=\"Flexila STB\"),Eingabeliste!B107,0)","v":0},null,null,null,null,null,null,null,null,null,null,null,null,null,null,null,null,null,null,null,null,null,null,null,null,0,null,null,null,{"$f":"IF(A107=0,0,IF(C107>$C$2,1,0)+IF(AND(Daten!$F$3=TRUE,Zusammenfassung!J107>Preise!$A$70),1,0)+IF(AND(G107=\"D\",K107>Preise!$A$54),1,0)+IF(AND(OR(G107=\"B\",G107=\"C\"),I107<>\"XPS\",AND(Eingabeliste!AC107>50,Daten!F$3=FALSE)),1,0)+IF(AND(OR(G107=\"B\",G107=\"C\"),I107=\"XPS\",Eingabeliste!AC107>100),1,0))","v":0}]
[{"$f":"IF(Eingabeliste!A108=\"\",0,1)","v":0},{"$f":"Eingabeliste!B108","v":0},{"$f":"IFERROR(ROUND(Eingabeliste!J108/(COS((Eingabeliste!K108*PI())/180))-(SIN((Eingabeliste!K108*PI())/180)*2)+(Eingabeliste!M108-2.74)+IF(Eingabeliste!L108=0,0,Eingabeliste!L108-2.74)+IF(Eingabeliste!N108=Daten!N$6,0,12-1.86),1),\"\")","v":""},{"$f":"IF(OR(B108=0,Eingabeliste!E108=\"\"),0,MAX(Eingabeliste!E108,1000)*B108)","v":0},{"$f":"IFERROR((ROUNDUP(Eingabeliste!E108/Daten!$K$15,0)-1)*B108,\"\")","v":""},{"$f":"IF(Eingabeliste!N108=\"Pulverbesch.\",Daten!$D$1,Eingabeliste!N108)","v":""},{"$f":"Eingabeliste!AB108","v":""},{"$f":"Eingabeliste!AC108","v":""},{"$f":"Eingabeliste!AA108","v":""},{"$f":"Eingabeliste!I108","v":""},{"$f":"Eingabeliste!G108","v":""},{"$f":"Eingabeliste!H108","v":""},null,null,null,null,null,null,null,null,{"$f":"IF(OR(Eingabeliste!O108=\"Flexila PU\",Eingabeliste!O108=\"Flexila STB\"),Eingabeliste!B108,0)+IF(OR(Eingabeliste!S108=\"Flexila PU\",Eingabeliste!S108=\"Flexila STB\"),Eingabeliste!B108,0)","v":0},null,null,null,null,null,null,null,null,null,null,null,null,null,null,null,null,null,null,null,null,null,null,null,null,0,null,null,null,{"$f":"IF(A108=0,0,IF(C108>$C$2,1,0)+IF(AND(Daten!$F$3=TRUE,Zusammenfassung!J108>Preise!$A$70),1,0)+IF(AND(G108=\"D\",K108>Preise!$A$54),1,0)+IF(AND(OR(G108=\"B\",G108=\"C\"),I108<>\"XPS\",AND(Eingabeliste!AC108>50,Daten!F$3=FALSE)),1,0)+IF(AND(OR(G108=\"B\",G108=\"C\"),I108=\"XPS\",Eingabeliste!AC108>100),1,0))","v":0}]
[{"$f":"IF(Eingabeliste!A109=\"\",0,1)","v":0},{"$f":"Eingabeliste!B109","v":0},{"$f":"IFERROR(ROUND(Eingabeliste!J109/(COS((Eingabeliste!K109*PI())/180))-(SIN((Eingabeliste!K109*PI())/180)*2)+(Eingabeliste!M109-2.74)+IF(Eingabeliste!L109=0,0,Eingabeliste!L109-2.74)+IF(Eingabeliste!N109=Daten!N$6,0,12-1.86),1),\"\")","v":""},{"$f":"IF(OR(B109=0,Eingabeliste!E109=\"\"),0,MAX(Eingabeliste!E109,1000)*B109)","v":0},{"$f":"IFERROR((ROUNDUP(Eingabeliste!E109/Daten!$K$15,0)-1)*B109,\"\")","v":""},{"$f":"IF(Eingabeliste!N109=\"Pulverbesch.\",Daten!$D$1,Eingabeliste!N109)","v":""},{"$f":"Eingabeliste!AB109","v":""},{"$f":"Eingabeliste!AC109","v":""},{"$f":"Eingabeliste!AA109","v":""},{"$f":"Eingabeliste!I109","v":""},{"$f":"Eingabeliste!G109","v":""},{"$f":"Eingabeliste!H109","v":""},null,null,null,null,null,null,null,null,{"$f":"IF(OR(Eingabeliste!O109=\"Flexila PU\",Eingabeliste!O109=\"Flexila STB\"),Eingabeliste!B109,0)+IF(OR(Eingabeliste!S109=\"Flexila PU\",Eingabeliste!S109=\"Flexila STB\"),Eingabeliste!B109,0)","v":0},null,null,null,null,null,null,null,null,null,null,null,null,null,null,null,null,null,null,null,null,null,null,null,null,0,null,null,null,{"$f":"IF(A109=0,0,IF(C109>$C$2,1,0)+IF(AND(Daten!$F$3=TRUE,Zusammenfassung!J109>Preise!$A$70),1,0)+IF(AND(G109=\"D\",K109>Preise!$A$54),1,0)+IF(AND(OR(G109=\"B\",G109=\"C\"),I109<>\"XPS\",AND(Eingabeliste!AC109>50,Daten!F$3=FALSE)),1,0)+IF(AND(OR(G109=\"B\",G109=\"C\"),I109=\"XPS\",Eingabeliste!AC109>100),1,0))","v":0}]
[{"$f":"IF(Eingabeliste!A110=\"\",0,1)","v":0},{"$f":"Eingabeliste!B110","v":0},{"$f":"IFERROR(ROUND(Eingabeliste!J110/(COS((Eingabeliste!K110*PI())/180))-(SIN((Eingabeliste!K110*PI())/180)*2)+(Eingabeliste!M110-2.74)+IF(Eingabeliste!L110=0,0,Eingabeliste!L110-2.74)+IF(Eingabeliste!N110=Daten!N$6,0,12-1.86),1),\"\")","v":""},{"$f":"IF(OR(B110=0,Eingabeliste!E110=\"\"),0,MAX(Eingabeliste!E110,1000)*B110)","v":0},{"$f":"IFERROR((ROUNDUP(Eingabeliste!E110/Daten!$K$15,0)-1)*B110,\"\")","v":""},{"$f":"IF(Eingabeliste!N110=\"Pulverbesch.\",Daten!$D$1,Eingabeliste!N110)","v":""},{"$f":"Eingabeliste!AB110","v":""},{"$f":"Eingabeliste!AC110","v":""},{"$f":"Eingabeliste!AA110","v":""},{"$f":"Eingabeliste!I110","v":""},{"$f":"Eingabeliste!G110","v":""},{"$f":"Eingabeliste!H110","v":""},null,null,null,null,null,null,null,null,{"$f":"IF(OR(Eingabeliste!O110=\"Flexila PU\",Eingabeliste!O110=\"Flexila STB\"),Eingabeliste!B110,0)+IF(OR(Eingabeliste!S110=\"Flexila PU\",Eingabeliste!S110=\"Flexila STB\"),Eingabeliste!B110,0)","v":0},null,null,null,null,null,null,null,null,null,null,null,null,null,null,null,null,null,null,null,null,null,null,null,null,0,null,null,null,{"$f":"IF(A110=0,0,IF(C110>$C$2,1,0)+IF(AND(Daten!$F$3=TRUE,Zusammenfassung!J110>Preise!$A$70),1,0)+IF(AND(G110=\"D\",K110>Preise!$A$54),1,0)+IF(AND(OR(G110=\"B\",G110=\"C\"),I110<>\"XPS\",AND(Eingabeliste!AC110>50,Daten!F$3=FALSE)),1,0)+IF(AND(OR(G110=\"B\",G110=\"C\"),I110=\"XPS\",Eingabeliste!AC110>100),1,0))","v":0}]
[{"$f":"IF(Eingabeliste!A111=\"\",0,1)","v":0},{"$f":"Eingabeliste!B111","v":0},{"$f":"IFERROR(ROUND(Eingabeliste!J111/(COS((Eingabeliste!K111*PI())/180))-(SIN((Eingabeliste!K111*PI())/180)*2)+(Eingabeliste!M111-2.74)+IF(Eingabeliste!L111=0,0,Eingabeliste!L111-2.74)+IF(Eingabeliste!N111=Daten!N$6,0,12-1.86),1),\"\")","v":""},{"$f":"IF(OR(B111=0,Eingabeliste!E111=\"\"),0,MAX(Eingabeliste!E111,1000)*B111)","v":0},{"$f":"IFERROR((ROUNDUP(Eingabeliste!E111/Daten!$K$15,0)-1)*B111,\"\")","v":""},{"$f":"IF(Eingabeliste!N111=\"Pulverbesch.\",Daten!$D$1,Eingabeliste!N111)","v":""},{"$f":"Eingabeliste!AB111","v":""},{"$f":"Eingabeliste!AC111","v":""},{"$f":"Eingabeliste!AA111","v":""},{"$f":"Eingabeliste!I111","v":""},{"$f":"Eingabeliste!G111","v":""},{"$f":"Eingabeliste!H111","v":""},null,null,null,null,null,null,null,null,{"$f":"IF(OR(Eingabeliste!O111=\"Flexila PU\",Eingabeliste!O111=\"Flexila STB\"),Eingabeliste!B111,0)+IF(OR(Eingabeliste!S111=\"Flexila PU\",Eingabeliste!S111=\"Flexila STB\"),Eingabeliste!B111,0)","v":0},null,null,null,null,null,null,null,null,null,null,null,null,null,null,null,null,null,null,null,null,null,null,null,null,0,null,null,null,{"$f":"IF(A111=0,0,IF(C111>$C$2,1,0)+IF(AND(Daten!$F$3=TRUE,Zusammenfassung!J111>Preise!$A$70),1,0)+IF(AND(G111=\"D\",K111>Preise!$A$54),1,0)+IF(AND(OR(G111=\"B\",G111=\"C\"),I111<>\"XPS\",AND(Eingabeliste!AC111>50,Daten!F$3=FALSE)),1,0)+IF(AND(OR(G111=\"B\",G111=\"C\"),I111=\"XPS\",Eingabeliste!AC111>100),1,0))","v":0}]
[{"$f":"IF(Eingabeliste!A112=\"\",0,1)","v":0},{"$f":"Eingabeliste!B112","v":0},{"$f":"IFERROR(ROUND(Eingabeliste!J112/(COS((Eingabeliste!K112*PI())/180))-(SIN((Eingabeliste!K112*PI())/180)*2)+(Eingabeliste!M112-2.74)+IF(Eingabeliste!L112=0,0,Eingabeliste!L112-2.74)+IF(Eingabeliste!N112=Daten!N$6,0,12-1.86),1),\"\")","v":""},{"$f":"IF(OR(B112=0,Eingabeliste!E112=\"\"),0,MAX(Eingabeliste!E112,1000)*B112)","v":0},{"$f":"IFERROR((ROUNDUP(Eingabeliste!E112/Daten!$K$15,0)-1)*B112,\"\")","v":""},{"$f":"IF(Eingabeliste!N112=\"Pulverbesch.\",Daten!$D$1,Eingabeliste!N112)","v":""},{"$f":"Eingabeliste!AB112","v":""},{"$f":"Eingabeliste!AC112","v":""},{"$f":"Eingabeliste!AA112","v":""},{"$f":"Eingabeliste!I112","v":""},{"$f":"Eingabeliste!G112","v":""},{"$f":"Eingabeliste!H112","v":""},null,null,null,null,null,null,null,null,{"$f":"IF(OR(Eingabeliste!O112=\"Flexila PU\",Eingabeliste!O112=\"Flexila STB\"),Eingabeliste!B112,0)+IF(OR(Eingabeliste!S112=\"Flexila PU\",Eingabeliste!S112=\"Flexila STB\"),Eingabeliste!B112,0)","v":0},null,null,null,null,null,null,null,null,null,null,null,null,null,null,null,null,null,null,null,null,null,null,null,null,0,null,null,null,{"$f":"IF(A112=0,0,IF(C112>$C$2,1,0)+IF(AND(Daten!$F$3=TRUE,Zusammenfassung!J112>Preise!$A$70),1,0)+IF(AND(G112=\"D\",K112>Preise!$A$54),1,0)+IF(AND(OR(G112=\"B\",G112=\"C\"),I112<>\"XPS\",AND(Eingabeliste!AC112>50,Daten!F$3=FALSE)),1,0)+IF(AND(OR(G112=\"B\",G112=\"C\"),I112=\"XPS\",Eingabeliste!AC112>100),1,0))","v":0}]
[{"$f":"IF(Eingabeliste!A113=\"\",0,1)","v":0},{"$f":"Eingabeliste!B113","v":0},{"$f":"IFERROR(ROUND(Eingabeliste!J113/(COS((Eingabeliste!K113*PI())/180))-(SIN((Eingabeliste!K113*PI())/180)*2)+(Eingabeliste!M113-2.74)+IF(Eingabeliste!L113=0,0,Eingabeliste!L113-2.74)+IF(Eingabeliste!N113=Daten!N$6,0,12-1.86),1),\"\")","v":""},{"$f":"IF(OR(B113=0,Eingabeliste!E113=\"\"),0,MAX(Eingabeliste!E113,1000)*B113)","v":0},{"$f":"IFERROR((ROUNDUP(Eingabeliste!E113/Daten!$K$15,0)-1)*B113,\"\")","v":""},{"$f":"IF(Eingabeliste!N113=\"Pulverbesch.\",Daten!$D$1,Eingabeliste!N113)","v":""},{"$f":"Eingabeliste!AB113","v":""},{"$f":"Eingabeliste!AC113","v":""},{"$f":"Eingabeliste!AA113","v":""},{"$f":"Eingabeliste!I113","v":""},{"$f":"Eingabeliste!G113","v":""},{"$f":"Eingabeliste!H113","v":""},null,null,null,null,null,null,null,null,{"$f":"IF(OR(Eingabeliste!O113=\"Flexila PU\",Eingabeliste!O113=\"Flexila STB\"),Eingabeliste!B113,0)+IF(OR(Eingabeliste!S113=\"Flexila PU\",Eingabeliste!S113=\"Flexila STB\"),Eingabeliste!B113,0)","v":0},null,null,null,null,null,null,null,null,null,null,null,null,null,null,null,null,null,null,null,null,null,null,null,null,0,null,null,null,{"$f":"IF(A113=0,0,IF(C113>$C$2,1,0)+IF(AND(Daten!$F$3=TRUE,Zusammenfassung!J113>Preise!$A$70),1,0)+IF(AND(G113=\"D\",K113>Preise!$A$54),1,0)+IF(AND(OR(G113=\"B\",G113=\"C\"),I113<>\"XPS\",AND(Eingabeliste!AC113>50,Daten!F$3=FALSE)),1,0)+IF(AND(OR(G113=\"B\",G113=\"C\"),I113=\"XPS\",Eingabeliste!AC113>100),1,0))","v":0}]
[{"$f":"IF(Eingabeliste!A114=\"\",0,1)","v":0},{"$f":"Eingabeliste!B114","v":0},{"$f":"IFERROR(ROUND(Eingabeliste!J114/(COS((Eingabeliste!K114*PI())/180))-(SIN((Eingabeliste!K114*PI())/180)*2)+(Eingabeliste!M114-2.74)+IF(Eingabeliste!L114=0,0,Eingabeliste!L114-2.74)+IF(Eingabeliste!N114=Daten!N$6,0,12-1.86),1),\"\")","v":""},{"$f":"IF(OR(B114=0,Eingabeliste!E114=\"\"),0,MAX(Eingabeliste!E114,1000)*B114)","v":0},{"$f":"IFERROR((ROUNDUP(Eingabeliste!E114/Daten!$K$15,0)-1)*B114,\"\")","v":""},{"$f":"IF(Eingabeliste!N114=\"Pulverbesch.\",Daten!$D$1,Eingabeliste!N114)","v":""},{"$f":"Eingabeliste!AB114","v":""},{"$f":"Eingabeliste!AC114","v":""},{"$f":"Eingabeliste!AA114","v":""},{"$f":"Eingabeliste!I114","v":""},{"$f":"Eingabeliste!G114","v":""},{"$f":"Eingabeliste!H114","v":""},null,null,null,null,null,null,null,null,{"$f":"IF(OR(Eingabeliste!O114=\"Flexila PU\",Eingabeliste!O114=\"Flexila STB\"),Eingabeliste!B114,0)+IF(OR(Eingabeliste!S114=\"Flexila PU\",Eingabeliste!S114=\"Flexila STB\"),Eingabeliste!B114,0)","v":0},null,null,null,null,null,null,null,null,null,null,null,null,null,null,null,null,null,null,null,null,null,null,null,null,0,null,null,null,{"$f":"IF(A114=0,0,IF(C114>$C$2,1,0)+IF(AND(Daten!$F$3=TRUE,Zusammenfassung!J114>Preise!$A$70),1,0)+IF(AND(G114=\"D\",K114>Preise!$A$54),1,0)+IF(AND(OR(G114=\"B\",G114=\"C\"),I114<>\"XPS\",AND(Eingabeliste!AC114>50,Daten!F$3=FALSE)),1,0)+IF(AND(OR(G114=\"B\",G114=\"C\"),I114=\"XPS\",Eingabeliste!AC114>100),1,0))","v":0}]
[{"$f":"IF(Eingabeliste!A115=\"\",0,1)","v":0},{"$f":"Eingabeliste!B115","v":0},{"$f":"IFERROR(ROUND(Eingabeliste!J115/(COS((Eingabeliste!K115*PI())/180))-(SIN((Eingabeliste!K115*PI())/180)*2)+(Eingabeliste!M115-2.74)+IF(Eingabeliste!L115=0,0,Eingabeliste!L115-2.74)+IF(Eingabeliste!N115=Daten!N$6,0,12-1.86),1),\"\")","v":""},{"$f":"IF(OR(B115=0,Eingabeliste!E115=\"\"),0,MAX(Eingabeliste!E115,1000)*B115)","v":0},{"$f":"IFERROR((ROUNDUP(Eingabeliste!E115/Daten!$K$15,0)-1)*B115,\"\")","v":""},{"$f":"IF(Eingabeliste!N115=\"Pulverbesch.\",Daten!$D$1,Eingabeliste!N115)","v":""},{"$f":"Eingabeliste!AB115","v":""},{"$f":"Eingabeliste!AC115","v":""},{"$f":"Eingabeliste!AA115","v":""},{"$f":"Eingabeliste!I115","v":""},{"$f":"Eingabeliste!G115","v":""},{"$f":"Eingabeliste!H115","v":""},null,null,null,null,null,null,null,null,{"$f":"IF(OR(Eingabeliste!O115=\"Flexila PU\",Eingabeliste!O115=\"Flexila STB\"),Eingabeliste!B115,0)+IF(OR(Eingabeliste!S115=\"Flexila PU\",Eingabeliste!S115=\"Flexila STB\"),Eingabeliste!B115,0)","v":0},null,null,null,null,null,null,null,null,null,null,null,null,null,null,null,null,null,null,null,null,null,null,null,null,0,null,null,null,{"$f":"IF(A115=0,0,IF(C115>$C$2,1,0)+IF(AND(Daten!$F$3=TRUE,Zusammenfassung!J115>Preise!$A$70),1,0)+IF(AND(G115=\"D\",K115>Preise!$A$54),1,0)+IF(AND(OR(G115=\"B\",G115=\"C\"),I115<>\"XPS\",AND(Eingabeliste!AC115>50,Daten!F$3=FALSE)),1,0)+IF(AND(OR(G115=\"B\",G115=\"C\"),I115=\"XPS\",Eingabeliste!AC115>100),1,0))","v":0}]
[{"$f":"IF(Eingabeliste!A116=\"\",0,1)","v":0},{"$f":"Eingabeliste!B116","v":0},{"$f":"IFERROR(ROUND(Eingabeliste!J116/(COS((Eingabeliste!K116*PI())/180))-(SIN((Eingabeliste!K116*PI())/180)*2)+(Eingabeliste!M116-2.74)+IF(Eingabeliste!L116=0,0,Eingabeliste!L116-2.74)+IF(Eingabeliste!N116=Daten!N$6,0,12-1.86),1),\"\")","v":""},{"$f":"IF(OR(B116=0,Eingabeliste!E116=\"\"),0,MAX(Eingabeliste!E116,1000)*B116)","v":0},{"$f":"IFERROR((ROUNDUP(Eingabeliste!E116/Daten!$K$15,0)-1)*B116,\"\")","v":""},{"$f":"IF(Eingabeliste!N116=\"Pulverbesch.\",Daten!$D$1,Eingabeliste!N116)","v":""},{"$f":"Eingabeliste!AB116","v":""},{"$f":"Eingabeliste!AC116","v":""},{"$f":"Eingabeliste!AA116","v":""},{"$f":"Eingabeliste!I116","v":""},{"$f":"Eingabeliste!G116","v":""},{"$f":"Eingabeliste!H116","v":""},null,null,null,null,null,null,null,null,{"$f":"IF(OR(Eingabeliste!O116=\"Flexila PU\",Eingabeliste!O116=\"Flexila STB\"),Eingabeliste!B116,0)+IF(OR(Eingabeliste!S116=\"Flexila PU\",Eingabeliste!S116=\"Flexila STB\"),Eingabeliste!B116,0)","v":0},null,null,null,null,null,null,null,null,null,null,null,null,null,null,null,null,null,null,null,null,null,null,null,null,0,null,null,null,{"$f":"IF(A116=0,0,IF(C116>$C$2,1,0)+IF(AND(Daten!$F$3=TRUE,Zusammenfassung!J116>Preise!$A$70),1,0)+IF(AND(G116=\"D\",K116>Preise!$A$54),1,0)+IF(AND(OR(G116=\"B\",G116=\"C\"),I116<>\"XPS\",AND(Eingabeliste!AC116>50,Daten!F$3=FALSE)),1,0)+IF(AND(OR(G116=\"B\",G116=\"C\"),I116=\"XPS\",Eingabeliste!AC116>100),1,0))","v":0}]
[{"$f":"IF(Eingabeliste!A117=\"\",0,1)","v":0},{"$f":"Eingabeliste!B117","v":0},{"$f":"IFERROR(ROUND(Eingabeliste!J117/(COS((Eingabeliste!K117*PI())/180))-(SIN((Eingabeliste!K117*PI())/180)*2)+(Eingabeliste!M117-2.74)+IF(Eingabeliste!L117=0,0,Eingabeliste!L117-2.74)+IF(Eingabeliste!N117=Daten!N$6,0,12-1.86),1),\"\")","v":""},{"$f":"IF(OR(B117=0,Eingabeliste!E117=\"\"),0,MAX(Eingabeliste!E117,1000)*B117)","v":0},{"$f":"IFERROR((ROUNDUP(Eingabeliste!E117/Daten!$K$15,0)-1)*B117,\"\")","v":""},{"$f":"IF(Eingabeliste!N117=\"Pulverbesch.\",Daten!$D$1,Eingabeliste!N117)","v":""},{"$f":"Eingabeliste!AB117","v":""},{"$f":"Eingabeliste!AC117","v":""},{"$f":"Eingabeliste!AA117","v":""},{"$f":"Eingabeliste!I117","v":""},{"$f":"Eingabeliste!G117","v":""},{"$f":"Eingabeliste!H117","v":""},null,null,null,null,null,null,null,null,{"$f":"IF(OR(Eingabeliste!O117=\"Flexila PU\",Eingabeliste!O117=\"Flexila STB\"),Eingabeliste!B117,0)+IF(OR(Eingabeliste!S117=\"Flexila PU\",Eingabeliste!S117=\"Flexila STB\"),Eingabeliste!B117,0)","v":0},null,null,null,null,null,null,null,null,null,null,null,null,null,null,null,null,null,null,null,null,null,null,null,null,0,null,null,null,{"$f":"IF(A117=0,0,IF(C117>$C$2,1,0)+IF(AND(Daten!$F$3=TRUE,Zusammenfassung!J117>Preise!$A$70),1,0)+IF(AND(G117=\"D\",K117>Preise!$A$54),1,0)+IF(AND(OR(G117=\"B\",G117=\"C\"),I117<>\"XPS\",AND(Eingabeliste!AC117>50,Daten!F$3=FALSE)),1,0)+IF(AND(OR(G117=\"B\",G117=\"C\"),I117=\"XPS\",Eingabeliste!AC117>100),1,0))","v":0}]
[{"$f":"IF(Eingabeliste!A118=\"\",0,1)","v":0},{"$f":"Eingabeliste!B118","v":0},{"$f":"IFERROR(ROUND(Eingabeliste!J118/(COS((Eingabeliste!K118*PI())/180))-(SIN((Eingabeliste!K118*PI())/180)*2)+(Eingabeliste!M118-2.74)+IF(Eingabeliste!L118=0,0,Eingabeliste!L118-2.74)+IF(Eingabeliste!N118=Daten!N$6,0,12-1.86),1),\"\")","v":""},{"$f":"IF(OR(B118=0,Eingabeliste!E118=\"\"),0,MAX(Eingabeliste!E118,1000)*B118)","v":0},{"$f":"IFERROR((ROUNDUP(Eingabeliste!E118/Daten!$K$15,0)-1)*B118,\"\")","v":""},{"$f":"IF(Eingabeliste!N118=\"Pulverbesch.\",Daten!$D$1,Eingabeliste!N118)","v":""},{"$f":"Eingabeliste!AB118","v":""},{"$f":"Eingabeliste!AC118","v":""},{"$f":"Eingabeliste!AA118","v":""},{"$f":"Eingabeliste!I118","v":""},{"$f":"Eingabeliste!G118","v":""},{"$f":"Eingabeliste!H118","v":""},null,null,null,null,null,null,null,null,{"$f":"IF(OR(Eingabeliste!O118=\"Flexila PU\",Eingabeliste!O118=\"Flexila STB\"),Eingabeliste!B118,0)+IF(OR(Eingabeliste!S118=\"Flexila PU\",Eingabeliste!S118=\"Flexila STB\"),Eingabeliste!B118,0)","v":0},null,null,null,null,null,null,null,null,null,null,null,null,null,null,null,null,null,null,null,null,null,null,null,null,0,null,null,null,{"$f":"IF(A118=0,0,IF(C118>$C$2,1,0)+IF(AND(Daten!$F$3=TRUE,Zusammenfassung!J118>Preise!$A$70),1,0)+IF(AND(G118=\"D\",K118>Preise!$A$54),1,0)+IF(AND(OR(G118=\"B\",G118=\"C\"),I118<>\"XPS\",AND(Eingabeliste!AC118>50,Daten!F$3=FALSE)),1,0)+IF(AND(OR(G118=\"B\",G118=\"C\"),I118=\"XPS\",Eingabeliste!AC118>100),1,0))","v":0}]
[{"$f":"IF(Eingabeliste!A119=\"\",0,1)","v":0},{"$f":"Eingabeliste!B119","v":0},{"$f":"IFERROR(ROUND(Eingabeliste!J119/(COS((Eingabeliste!K119*PI())/180))-(SIN((Eingabeliste!K119*PI())/180)*2)+(Eingabeliste!M119-2.74)+IF(Eingabeliste!L119=0,0,Eingabeliste!L119-2.74)+IF(Eingabeliste!N119=Daten!N$6,0,12-1.86),1),\"\")","v":""},{"$f":"IF(OR(B119=0,Eingabeliste!E119=\"\"),0,MAX(Eingabeliste!E119,1000)*B119)","v":0},{"$f":"IFERROR((ROUNDUP(Eingabeliste!E119/Daten!$K$15,0)-1)*B119,\"\")","v":""},{"$f":"IF(Eingabeliste!N119=\"Pulverbesch.\",Daten!$D$1,Eingabeliste!N119)","v":""},{"$f":"Eingabeliste!AB119","v":""},{"$f":"Eingabeliste!AC119","v":""},{"$f":"Eingabeliste!AA119","v":""},{"$f":"Eingabeliste!I119","v":""},{"$f":"Eingabeliste!G119","v":""},{"$f":"Eingabeliste!H119","v":""},null,null,null,null,null,null,null,null,{"$f":"IF(OR(Eingabeliste!O119=\"Flexila PU\",Eingabeliste!O119=\"Flexila STB\"),Eingabeliste!B119,0)+IF(OR(Eingabeliste!S119=\"Flexila PU\",Eingabeliste!S119=\"Flexila STB\"),Eingabeliste!B119,0)","v":0},null,null,null,null,null,null,null,null,null,null,null,null,null,null,null,null,null,null,null,null,null,null,null,null,0,null,null,null,{"$f":"IF(A119=0,0,IF(C119>$C$2,1,0)+IF(AND(Daten!$F$3=TRUE,Zusammenfassung!J119>Preise!$A$70),1,0)+IF(AND(G119=\"D\",K119>Preise!$A$54),1,0)+IF(AND(OR(G119=\"B\",G119=\"C\"),I119<>\"XPS\",AND(Eingabeliste!AC119>50,Daten!F$3=FALSE)),1,0)+IF(AND(OR(G119=\"B\",G119=\"C\"),I119=\"XPS\",Eingabeliste!AC119>100),1,0))","v":0}]
[{"$f":"IF(Eingabeliste!A120=\"\",0,1)","v":0},{"$f":"Eingabeliste!B120","v":0},{"$f":"IFERROR(ROUND(Eingabeliste!J120/(COS((Eingabeliste!K120*PI())/180))-(SIN((Eingabeliste!K120*PI())/180)*2)+(Eingabeliste!M120-2.74)+IF(Eingabeliste!L120=0,0,Eingabeliste!L120-2.74)+IF(Eingabeliste!N120=Daten!N$6,0,12-1.86),1),\"\")","v":""},{"$f":"IF(OR(B120=0,Eingabeliste!E120=\"\"),0,MAX(Eingabeliste!E120,1000)*B120)","v":0},{"$f":"IFERROR((ROUNDUP(Eingabeliste!E120/Daten!$K$15,0)-1)*B120,\"\")","v":""},{"$f":"IF(Eingabeliste!N120=\"Pulverbesch.\",Daten!$D$1,Eingabeliste!N120)","v":""},{"$f":"Eingabeliste!AB120","v":""},{"$f":"Eingabeliste!AC120","v":""},{"$f":"Eingabeliste!AA120","v":""},{"$f":"Eingabeliste!I120","v":""},{"$f":"Eingabeliste!G120","v":""},{"$f":"Eingabeliste!H120","v":""},null,null,null,null,null,null,null,null,{"$f":"IF(OR(Eingabeliste!O120=\"Flexila PU\",Eingabeliste!O120=\"Flexila STB\"),Eingabeliste!B120,0)+IF(OR(Eingabeliste!S120=\"Flexila PU\",Eingabeliste!S120=\"Flexila STB\"),Eingabeliste!B120,0)","v":0},null,null,null,null,null,null,null,null,null,null,null,null,null,null,null,null,null,null,null,null,null,null,null,null,0,null,null,null,{"$f":"IF(A120=0,0,IF(C120>$C$2,1,0)+IF(AND(Daten!$F$3=TRUE,Zusammenfassung!J120>Preise!$A$70),1,0)+IF(AND(G120=\"D\",K120>Preise!$A$54),1,0)+IF(AND(OR(G120=\"B\",G120=\"C\"),I120<>\"XPS\",AND(Eingabeliste!AC120>50,Daten!F$3=FALSE)),1,0)+IF(AND(OR(G120=\"B\",G120=\"C\"),I120=\"XPS\",Eingabeliste!AC120>100),1,0))","v":0}]
[{"$f":"IF(Eingabeliste!A121=\"\",0,1)","v":0},{"$f":"Eingabeliste!B121","v":0},{"$f":"IFERROR(ROUND(Eingabeliste!J121/(COS((Eingabeliste!K121*PI())/180))-(SIN((Eingabeliste!K121*PI())/180)*2)+(Eingabeliste!M121-2.74)+IF(Eingabeliste!L121=0,0,Eingabeliste!L121-2.74)+IF(Eingabeliste!N121=Daten!N$6,0,12-1.86),1),\"\")","v":""},{"$f":"IF(OR(B121=0,Eingabeliste!E121=\"\"),0,MAX(Eingabeliste!E121,1000)*B121)","v":0},{"$f":"IFERROR((ROUNDUP(Eingabeliste!E121/Daten!$K$15,0)-1)*B121,\"\")","v":""},{"$f":"IF(Eingabeliste!N121=\"Pulverbesch.\",Daten!$D$1,Eingabeliste!N121)","v":""},{"$f":"Eingabeliste!AB121","v":""},{"$f":"Eingabeliste!AC121","v":""},{"$f":"Eingabeliste!AA121","v":""},{"$f":"Eingabeliste!I121","v":""},{"$f":"Eingabeliste!G121","v":""},{"$f":"Eingabeliste!H121","v":""},null,null,null,null,null,null,null,null,{"$f":"IF(OR(Eingabeliste!O121=\"Flexila PU\",Eingabeliste!O121=\"Flexila STB\"),Eingabeliste!B121,0)+IF(OR(Eingabeliste!S121=\"Flexila PU\",Eingabeliste!S121=\"Flexila STB\"),Eingabeliste!B121,0)","v":0},null,null,null,null,null,null,null,null,null,null,null,null,null,null,null,null,null,null,null,null,null,null,null,null,0,null,null,null,{"$f":"IF(A121=0,0,IF(C121>$C$2,1,0)+IF(AND(Daten!$F$3=TRUE,Zusammenfassung!J121>Preise!$A$70),1,0)+IF(AND(G121=\"D\",K121>Preise!$A$54),1,0)+IF(AND(OR(G121=\"B\",G121=\"C\"),I121<>\"XPS\",AND(Eingabeliste!AC121>50,Daten!F$3=FALSE)),1,0)+IF(AND(OR(G121=\"B\",G121=\"C\"),I121=\"XPS\",Eingabeliste!AC121>100),1,0))","v":0}]
[{"$f":"IF(Eingabeliste!A122=\"\",0,1)","v":0},{"$f":"Eingabeliste!B122","v":0},{"$f":"IFERROR(ROUND(Eingabeliste!J122/(COS((Eingabeliste!K122*PI())/180))-(SIN((Eingabeliste!K122*PI())/180)*2)+(Eingabeliste!M122-2.74)+IF(Eingabeliste!L122=0,0,Eingabeliste!L122-2.74)+IF(Eingabeliste!N122=Daten!N$6,0,12-1.86),1),\"\")","v":""},{"$f":"IF(OR(B122=0,Eingabeliste!E122=\"\"),0,MAX(Eingabeliste!E122,1000)*B122)","v":0},{"$f":"IFERROR((ROUNDUP(Eingabeliste!E122/Daten!$K$15,0)-1)*B122,\"\")","v":""},{"$f":"IF(Eingabeliste!N122=\"Pulverbesch.\",Daten!$D$1,Eingabeliste!N122)","v":""},{"$f":"Eingabeliste!AB122","v":""},{"$f":"Eingabeliste!AC122","v":""},{"$f":"Eingabeliste!AA122","v":""},{"$f":"Eingabeliste!I122","v":""},{"$f":"Eingabeliste!G122","v":""},{"$f":"Eingabeliste!H122","v":""},null,null,null,null,null,null,null,null,{"$f":"IF(OR(Eingabeliste!O122=\"Flexila PU\",Eingabeliste!O122=\"Flexila STB\"),Eingabeliste!B122,0)+IF(OR(Eingabeliste!S122=\"Flexila PU\",Eingabeliste!S122=\"Flexila STB\"),Eingabeliste!B122,0)","v":0},null,null,null,null,null,null,null,null,null,null,null,null,null,null,null,null,null,null,null,null,null,null,null,null,0,null,null,null,{"$f":"IF(A122=0,0,IF(C122>$C$2,1,0)+IF(AND(Daten!$F$3=TRUE,Zusammenfassung!J122>Preise!$A$70),1,0)+IF(AND(G122=\"D\",K122>Preise!$A$54),1,0)+IF(AND(OR(G122=\"B\",G122=\"C\"),I122<>\"XPS\",AND(Eingabeliste!AC122>50,Daten!F$3=FALSE)),1,0)+IF(AND(OR(G122=\"B\",G122=\"C\"),I122=\"XPS\",Eingabeliste!AC122>100),1,0))","v":0}]
[{"$f":"IF(Eingabeliste!A123=\"\",0,1)","v":0},{"$f":"Eingabeliste!B123","v":0},{"$f":"IFERROR(ROUND(Eingabeliste!J123/(COS((Eingabeliste!K123*PI())/180))-(SIN((Eingabeliste!K123*PI())/180)*2)+(Eingabeliste!M123-2.74)+IF(Eingabeliste!L123=0,0,Eingabeliste!L123-2.74)+IF(Eingabeliste!N123=Daten!N$6,0,12-1.86),1),\"\")","v":""},{"$f":"IF(OR(B123=0,Eingabeliste!E123=\"\"),0,MAX(Eingabeliste!E123,1000)*B123)","v":0},{"$f":"IFERROR((ROUNDUP(Eingabeliste!E123/Daten!$K$15,0)-1)*B123,\"\")","v":""},{"$f":"IF(Eingabeliste!N123=\"Pulverbesch.\",Daten!$D$1,Eingabeliste!N123)","v":""},{"$f":"Eingabeliste!AB123","v":""},{"$f":"Eingabeliste!AC123","v":""},{"$f":"Eingabeliste!AA123","v":""},{"$f":"Eingabeliste!I123","v":""},{"$f":"Eingabeliste!G123","v":""},{"$f":"Eingabeliste!H123","v":""},null,null,null,null,null,null,null,null,{"$f":"IF(OR(Eingabeliste!O123=\"Flexila PU\",Eingabeliste!O123=\"Flexila STB\"),Eingabeliste!B123,0)+IF(OR(Eingabeliste!S123=\"Flexila PU\",Eingabeliste!S123=\"Flexila STB\"),Eingabeliste!B123,0)","v":0},null,null,null,null,null,null,null,null,null,null,null,null,null,null,null,null,null,null,null,null,null,null,null,null,0,null,null,null,{"$f":"IF(A123=0,0,IF(C123>$C$2,1,0)+IF(AND(Daten!$F$3=TRUE,Zusammenfassung!J123>Preise!$A$70),1,0)+IF(AND(G123=\"D\",K123>Preise!$A$54),1,0)+IF(AND(OR(G123=\"B\",G123=\"C\"),I123<>\"XPS\",AND(Eingabeliste!AC123>50,Daten!F$3=FALSE)),1,0)+IF(AND(OR(G123=\"B\",G123=\"C\"),I123=\"XPS\",Eingabeliste!AC123>100),1,0))","v":0}]
[{"$f":"IF(Eingabeliste!A124=\"\",0,1)","v":0},{"$f":"Eingabeliste!B124","v":0},{"$f":"IFERROR(ROUND(Eingabeliste!J124/(COS((Eingabeliste!K124*PI())/180))-(SIN((Eingabeliste!K124*PI())/180)*2)+(Eingabeliste!M124-2.74)+IF(Eingabeliste!L124=0,0,Eingabeliste!L124-2.74)+IF(Eingabeliste!N124=Daten!N$6,0,12-1.86),1),\"\")","v":""},{"$f":"IF(OR(B124=0,Eingabeliste!E124=\"\"),0,MAX(Eingabeliste!E124,1000)*B124)","v":0},{"$f":"IFERROR((ROUNDUP(Eingabeliste!E124/Daten!$K$15,0)-1)*B124,\"\")","v":""},{"$f":"IF(Eingabeliste!N124=\"Pulverbesch.\",Daten!$D$1,Eingabeliste!N124)","v":""},{"$f":"Eingabeliste!AB124","v":""},{"$f":"Eingabeliste!AC124","v":""},{"$f":"Eingabeliste!AA124","v":""},{"$f":"Eingabeliste!I124","v":""},{"$f":"Eingabeliste!G124","v":""},{"$f":"Eingabeliste!H124","v":""},null,null,null,null,null,null,null,null,{"$f":"IF(OR(Eingabeliste!O124=\"Flexila PU\",Eingabeliste!O124=\"Flexila STB\"),Eingabeliste!B124,0)+IF(OR(Eingabeliste!S124=\"Flexila PU\",Eingabeliste!S124=\"Flexila STB\"),Eingabeliste!B124,0)","v":0},null,null,null,null,null,null,null,null,null,null,null,null,null,null,null,null,null,null,null,null,null,null,null,null,0,null,null,null,{"$f":"IF(A124=0,0,IF(C124>$C$2,1,0)+IF(AND(Daten!$F$3=TRUE,Zusammenfassung!J124>Preise!$A$70),1,0)+IF(AND(G124=\"D\",K124>Preise!$A$54),1,0)+IF(AND(OR(G124=\"B\",G124=\"C\"),I124<>\"XPS\",AND(Eingabeliste!AC124>50,Daten!F$3=FALSE)),1,0)+IF(AND(OR(G124=\"B\",G124=\"C\"),I124=\"XPS\",Eingabeliste!AC124>100),1,0))","v":0}]
[{"$f":"IF(Eingabeliste!A125=\"\",0,1)","v":0},{"$f":"Eingabeliste!B125","v":0},{"$f":"IFERROR(ROUND(Eingabeliste!J125/(COS((Eingabeliste!K125*PI())/180))-(SIN((Eingabeliste!K125*PI())/180)*2)+(Eingabeliste!M125-2.74)+IF(Eingabeliste!L125=0,0,Eingabeliste!L125-2.74)+IF(Eingabeliste!N125=Daten!N$6,0,12-1.86),1),\"\")","v":""},{"$f":"IF(OR(B125=0,Eingabeliste!E125=\"\"),0,MAX(Eingabeliste!E125,1000)*B125)","v":0},{"$f":"IFERROR((ROUNDUP(Eingabeliste!E125/Daten!$K$15,0)-1)*B125,\"\")","v":""},{"$f":"IF(Eingabeliste!N125=\"Pulverbesch.\",Daten!$D$1,Eingabeliste!N125)","v":""},{"$f":"Eingabeliste!AB125","v":""},{"$f":"Eingabeliste!AC125","v":""},{"$f":"Eingabeliste!AA125","v":""},{"$f":"Eingabeliste!I125","v":""},{"$f":"Eingabeliste!G125","v":""},{"$f":"Eingabeliste!H125","v":""},null,null,null,null,null,null,null,null,{"$f":"IF(OR(Eingabeliste!O125=\"Flexila PU\",Eingabeliste!O125=\"Flexila STB\"),Eingabeliste!B125,0)+IF(OR(Eingabeliste!S125=\"Flexila PU\",Eingabeliste!S125=\"Flexila STB\"),Eingabeliste!B125,0)","v":0},null,null,null,null,null,null,null,null,null,null,null,null,null,null,null,null,null,null,null,null,null,null,null,null,0,null,null,null,{"$f":"IF(A125=0,0,IF(C125>$C$2,1,0)+IF(AND(Daten!$F$3=TRUE,Zusammenfassung!J125>Preise!$A$70),1,0)+IF(AND(G125=\"D\",K125>Preise!$A$54),1,0)+IF(AND(OR(G125=\"B\",G125=\"C\"),I125<>\"XPS\",AND(Eingabeliste!AC125>50,Daten!F$3=FALSE)),1,0)+IF(AND(OR(G125=\"B\",G125=\"C\"),I125=\"XPS\",Eingabeliste!AC125>100),1,0))","v":0}]
[{"$f":"IF(Eingabeliste!A126=\"\",0,1)","v":0},{"$f":"Eingabeliste!B126","v":0},{"$f":"IFERROR(ROUND(Eingabeliste!J126/(COS((Eingabeliste!K126*PI())/180))-(SIN((Eingabeliste!K126*PI())/180)*2)+(Eingabeliste!M126-2.74)+IF(Eingabeliste!L126=0,0,Eingabeliste!L126-2.74)+IF(Eingabeliste!N126=Daten!N$6,0,12-1.86),1),\"\")","v":""},{"$f":"IF(OR(B126=0,Eingabeliste!E126=\"\"),0,MAX(Eingabeliste!E126,1000)*B126)","v":0},{"$f":"IFERROR((ROUNDUP(Eingabeliste!E126/Daten!$K$15,0)-1)*B126,\"\")","v":""},{"$f":"IF(Eingabeliste!N126=\"Pulverbesch.\",Daten!$D$1,Eingabeliste!N126)","v":""},{"$f":"Eingabeliste!AB126","v":""},{"$f":"Eingabeliste!AC126","v":""},{"$f":"Eingabeliste!AA126","v":""},{"$f":"Eingabeliste!I126","v":""},{"$f":"Eingabeliste!G126","v":""},{"$f":"Eingabeliste!H126","v":""},null,null,null,null,null,null,null,null,{"$f":"IF(OR(Eingabeliste!O126=\"Flexila PU\",Eingabeliste!O126=\"Flexila STB\"),Eingabeliste!B126,0)+IF(OR(Eingabeliste!S126=\"Flexila PU\",Eingabeliste!S126=\"Flexila STB\"),Eingabeliste!B126,0)","v":0},null,null,null,null,null,null,null,null,null,null,null,null,null,null,null,null,null,null,null,null,null,null,null,null,0,null,null,null,{"$f":"IF(A126=0,0,IF(C126>$C$2,1,0)+IF(AND(Daten!$F$3=TRUE,Zusammenfassung!J126>Preise!$A$70),1,0)+IF(AND(G126=\"D\",K126>Preise!$A$54),1,0)+IF(AND(OR(G126=\"B\",G126=\"C\"),I126<>\"XPS\",AND(Eingabeliste!AC126>50,Daten!F$3=FALSE)),1,0)+IF(AND(OR(G126=\"B\",G126=\"C\"),I126=\"XPS\",Eingabeliste!AC126>100),1,0))","v":0}]
[{"$f":"IF(Eingabeliste!A127=\"\",0,1)","v":0},{"$f":"Eingabeliste!B127","v":0},{"$f":"IFERROR(ROUND(Eingabeliste!J127/(COS((Eingabeliste!K127*PI())/180))-(SIN((Eingabeliste!K127*PI())/180)*2)+(Eingabeliste!M127-2.74)+IF(Eingabeliste!L127=0,0,Eingabeliste!L127-2.74)+IF(Eingabeliste!N127=Daten!N$6,0,12-1.86),1),\"\")","v":""},{"$f":"IF(OR(B127=0,Eingabeliste!E127=\"\"),0,MAX(Eingabeliste!E127,1000)*B127)","v":0},{"$f":"IFERROR((ROUNDUP(Eingabeliste!E127/Daten!$K$15,0)-1)*B127,\"\")","v":""},{"$f":"IF(Eingabeliste!N127=\"Pulverbesch.\",Daten!$D$1,Eingabeliste!N127)","v":""},{"$f":"Eingabeliste!AB127","v":""},{"$f":"Eingabeliste!AC127","v":""},{"$f":"Eingabeliste!AA127","v":""},{"$f":"Eingabeliste!I127","v":""},{"$f":"Eingabeliste!G127","v":""},{"$f":"Eingabeliste!H127","v":""},null,null,null,null,null,null,null,null,{"$f":"IF(OR(Eingabeliste!O127=\"Flexila PU\",Eingabeliste!O127=\"Flexila STB\"),Eingabeliste!B127,0)+IF(OR(Eingabeliste!S127=\"Flexila PU\",Eingabeliste!S127=\"Flexila STB\"),Eingabeliste!B127,0)","v":0},null,null,null,null,null,null,null,null,null,null,null,null,null,null,null,null,null,null,null,null,null,null,null,null,0,null,null,null,{"$f":"IF(A127=0,0,IF(C127>$C$2,1,0)+IF(AND(Daten!$F$3=TRUE,Zusammenfassung!J127>Preise!$A$70),1,0)+IF(AND(G127=\"D\",K127>Preise!$A$54),1,0)+IF(AND(OR(G127=\"B\",G127=\"C\"),I127<>\"XPS\",AND(Eingabeliste!AC127>50,Daten!F$3=FALSE)),1,0)+IF(AND(OR(G127=\"B\",G127=\"C\"),I127=\"XPS\",Eingabeliste!AC127>100),1,0))","v":0}]
[{"$f":"IF(Eingabeliste!A128=\"\",0,1)","v":0},{"$f":"Eingabeliste!B128","v":0},{"$f":"IFERROR(ROUND(Eingabeliste!J128/(COS((Eingabeliste!K128*PI())/180))-(SIN((Eingabeliste!K128*PI())/180)*2)+(Eingabeliste!M128-2.74)+IF(Eingabeliste!L128=0,0,Eingabeliste!L128-2.74)+IF(Eingabeliste!N128=Daten!N$6,0,12-1.86),1),\"\")","v":""},{"$f":"IF(OR(B128=0,Eingabeliste!E128=\"\"),0,MAX(Eingabeliste!E128,1000)*B128)","v":0},{"$f":"IFERROR((ROUNDUP(Eingabeliste!E128/Daten!$K$15,0)-1)*B128,\"\")","v":""},{"$f":"IF(Eingabeliste!N128=\"Pulverbesch.\",Daten!$D$1,Eingabeliste!N128)","v":""},{"$f":"Eingabeliste!AB128","v":""},{"$f":"Eingabeliste!AC128","v":""},{"$f":"Eingabeliste!AA128","v":""},{"$f":"Eingabeliste!I128","v":""},{"$f":"Eingabeliste!G128","v":""},{"$f":"Eingabeliste!H128","v":""},null,null,null,null,null,null,null,null,{"$f":"IF(OR(Eingabeliste!O128=\"Flexila PU\",Eingabeliste!O128=\"Flexila STB\"),Eingabeliste!B128,0)+IF(OR(Eingabeliste!S128=\"Flexila PU\",Eingabeliste!S128=\"Flexila STB\"),Eingabeliste!B128,0)","v":0},null,null,null,null,null,null,null,null,null,null,null,null,null,null,null,null,null,null,null,null,null,null,null,null,0,null,null,null,{"$f":"IF(A128=0,0,IF(C128>$C$2,1,0)+IF(AND(Daten!$F$3=TRUE,Zusammenfassung!J128>Preise!$A$70),1,0)+IF(AND(G128=\"D\",K128>Preise!$A$54),1,0)+IF(AND(OR(G128=\"B\",G128=\"C\"),I128<>\"XPS\",AND(Eingabeliste!AC128>50,Daten!F$3=FALSE)),1,0)+IF(AND(OR(G128=\"B\",G128=\"C\"),I128=\"XPS\",Eingabeliste!AC128>100),1,0))","v":0}]
[{"$f":"IF(Eingabeliste!A129=\"\",0,1)","v":0},{"$f":"Eingabeliste!B129","v":0},{"$f":"IFERROR(ROUND(Eingabeliste!J129/(COS((Eingabeliste!K129*PI())/180))-(SIN((Eingabeliste!K129*PI())/180)*2)+(Eingabeliste!M129-2.74)+IF(Eingabeliste!L129=0,0,Eingabeliste!L129-2.74)+IF(Eingabeliste!N129=Daten!N$6,0,12-1.86),1),\"\")","v":""},{"$f":"IF(OR(B129=0,Eingabeliste!E129=\"\"),0,MAX(Eingabeliste!E129,1000)*B129)","v":0},{"$f":"IFERROR((ROUNDUP(Eingabeliste!E129/Daten!$K$15,0)-1)*B129,\"\")","v":""},{"$f":"IF(Eingabeliste!N129=\"Pulverbesch.\",Daten!$D$1,Eingabeliste!N129)","v":""},{"$f":"Eingabeliste!AB129","v":""},{"$f":"Eingabeliste!AC129","v":""},{"$f":"Eingabeliste!AA129","v":""},{"$f":"Eingabeliste!I129","v":""},{"$f":"Eingabeliste!G129","v":""},{"$f":"Eingabeliste!H129","v":""},null,null,null,null,null,null,null,null,{"$f":"IF(OR(Eingabeliste!O129=\"Flexila PU\",Eingabeliste!O129=\"Flexila STB\"),Eingabeliste!B129,0)+IF(OR(Eingabeliste!S129=\"Flexila PU\",Eingabeliste!S129=\"Flexila STB\"),Eingabeliste!B129,0)","v":0},null,null,null,null,null,null,null,null,null,null,null,null,null,null,null,null,null,null,null,null,null,null,null,null,0,null,null,null,{"$f":"IF(A129=0,0,IF(C129>$C$2,1,0)+IF(AND(Daten!$F$3=TRUE,Zusammenfassung!J129>Preise!$A$70),1,0)+IF(AND(G129=\"D\",K129>Preise!$A$54),1,0)+IF(AND(OR(G129=\"B\",G129=\"C\"),I129<>\"XPS\",AND(Eingabeliste!AC129>50,Daten!F$3=FALSE)),1,0)+IF(AND(OR(G129=\"B\",G129=\"C\"),I129=\"XPS\",Eingabeliste!AC129>100),1,0))","v":0}]
[{"$f":"IF(Eingabeliste!A130=\"\",0,1)","v":0},{"$f":"Eingabeliste!B130","v":0},{"$f":"IFERROR(ROUND(Eingabeliste!J130/(COS((Eingabeliste!K130*PI())/180))-(SIN((Eingabeliste!K130*PI())/180)*2)+(Eingabeliste!M130-2.74)+IF(Eingabeliste!L130=0,0,Eingabeliste!L130-2.74)+IF(Eingabeliste!N130=Daten!N$6,0,12-1.86),1),\"\")","v":""},{"$f":"IF(OR(B130=0,Eingabeliste!E130=\"\"),0,MAX(Eingabeliste!E130,1000)*B130)","v":0},{"$f":"IFERROR((ROUNDUP(Eingabeliste!E130/Daten!$K$15,0)-1)*B130,\"\")","v":""},{"$f":"IF(Eingabeliste!N130=\"Pulverbesch.\",Daten!$D$1,Eingabeliste!N130)","v":""},{"$f":"Eingabeliste!AB130","v":""},{"$f":"Eingabeliste!AC130","v":""},{"$f":"Eingabeliste!AA130","v":""},{"$f":"Eingabeliste!I130","v":""},{"$f":"Eingabeliste!G130","v":""},{"$f":"Eingabeliste!H130","v":""},null,null,null,null,null,null,null,null,{"$f":"IF(OR(Eingabeliste!O130=\"Flexila PU\",Eingabeliste!O130=\"Flexila STB\"),Eingabeliste!B130,0)+IF(OR(Eingabeliste!S130=\"Flexila PU\",Eingabeliste!S130=\"Flexila STB\"),Eingabeliste!B130,0)","v":0},null,null,null,null,null,null,null,null,null,null,null,null,null,null,null,null,null,null,null,null,null,null,null,null,0,null,null,null,{"$f":"IF(A130=0,0,IF(C130>$C$2,1,0)+IF(AND(Daten!$F$3=TRUE,Zusammenfassung!J130>Preise!$A$70),1,0)+IF(AND(G130=\"D\",K130>Preise!$A$54),1,0)+IF(AND(OR(G130=\"B\",G130=\"C\"),I130<>\"XPS\",AND(Eingabeliste!AC130>50,Daten!F$3=FALSE)),1,0)+IF(AND(OR(G130=\"B\",G130=\"C\"),I130=\"XPS\",Eingabeliste!AC130>100),1,0))","v":0}]
[{"$f":"IF(Eingabeliste!A131=\"\",0,1)","v":0},{"$f":"Eingabeliste!B131","v":0},{"$f":"IFERROR(ROUND(Eingabeliste!J131/(COS((Eingabeliste!K131*PI())/180))-(SIN((Eingabeliste!K131*PI())/180)*2)+(Eingabeliste!M131-2.74)+IF(Eingabeliste!L131=0,0,Eingabeliste!L131-2.74)+IF(Eingabeliste!N131=Daten!N$6,0,12-1.86),1),\"\")","v":""},{"$f":"IF(OR(B131=0,Eingabeliste!E131=\"\"),0,MAX(Eingabeliste!E131,1000)*B131)","v":0},{"$f":"IFERROR((ROUNDUP(Eingabeliste!E131/Daten!$K$15,0)-1)*B131,\"\")","v":""},{"$f":"IF(Eingabeliste!N131=\"Pulverbesch.\",Daten!$D$1,Eingabeliste!N131)","v":""},{"$f":"Eingabeliste!AB131","v":""},{"$f":"Eingabeliste!AC131","v":""},{"$f":"Eingabeliste!AA131","v":""},{"$f":"Eingabeliste!I131","v":""},{"$f":"Eingabeliste!G131","v":""},{"$f":"Eingabeliste!H131","v":""},null,null,null,null,null,null,null,null,{"$f":"IF(OR(Eingabeliste!O131=\"Flexila PU\",Eingabeliste!O131=\"Flexila STB\"),Eingabeliste!B131,0)+IF(OR(Eingabeliste!S131=\"Flexila PU\",Eingabeliste!S131=\"Flexila STB\"),Eingabeliste!B131,0)","v":0},null,null,null,null,null,null,null,null,null,null,null,null,null,null,null,null,null,null,null,null,null,null,null,null,0,null,null,null,{"$f":"IF(A131=0,0,IF(C131>$C$2,1,0)+IF(AND(Daten!$F$3=TRUE,Zusammenfassung!J131>Preise!$A$70),1,0)+IF(AND(G131=\"D\",K131>Preise!$A$54),1,0)+IF(AND(OR(G131=\"B\",G131=\"C\"),I131<>\"XPS\",AND(Eingabeliste!AC131>50,Daten!F$3=FALSE)),1,0)+IF(AND(OR(G131=\"B\",G131=\"C\"),I131=\"XPS\",Eingabeliste!AC131>100),1,0))","v":0}]
[{"$f":"IF(Eingabeliste!A132=\"\",0,1)","v":0},{"$f":"Eingabeliste!B132","v":0},{"$f":"IFERROR(ROUND(Eingabeliste!J132/(COS((Eingabeliste!K132*PI())/180))-(SIN((Eingabeliste!K132*PI())/180)*2)+(Eingabeliste!M132-2.74)+IF(Eingabeliste!L132=0,0,Eingabeliste!L132-2.74)+IF(Eingabeliste!N132=Daten!N$6,0,12-1.86),1),\"\")","v":""},{"$f":"IF(OR(B132=0,Eingabeliste!E132=\"\"),0,MAX(Eingabeliste!E132,1000)*B132)","v":0},{"$f":"IFERROR((ROUNDUP(Eingabeliste!E132/Daten!$K$15,0)-1)*B132,\"\")","v":""},{"$f":"IF(Eingabeliste!N132=\"Pulverbesch.\",Daten!$D$1,Eingabeliste!N132)","v":""},{"$f":"Eingabeliste!AB132","v":""},{"$f":"Eingabeliste!AC132","v":""},{"$f":"Eingabeliste!AA132","v":""},{"$f":"Eingabeliste!I132","v":""},{"$f":"Eingabeliste!G132","v":""},{"$f":"Eingabeliste!H132","v":""},null,null,null,null,null,null,null,null,{"$f":"IF(OR(Eingabeliste!O132=\"Flexila PU\",Eingabeliste!O132=\"Flexila STB\"),Eingabeliste!B132,0)+IF(OR(Eingabeliste!S132=\"Flexila PU\",Eingabeliste!S132=\"Flexila STB\"),Eingabeliste!B132,0)","v":0},null,null,null,null,null,null,null,null,null,null,null,null,null,null,null,null,null,null,null,null,null,null,null,null,0,null,null,null,{"$f":"IF(A132=0,0,IF(C132>$C$2,1,0)+IF(AND(Daten!$F$3=TRUE,Zusammenfassung!J132>Preise!$A$70),1,0)+IF(AND(G132=\"D\",K132>Preise!$A$54),1,0)+IF(AND(OR(G132=\"B\",G132=\"C\"),I132<>\"XPS\",AND(Eingabeliste!AC132>50,Daten!F$3=FALSE)),1,0)+IF(AND(OR(G132=\"B\",G132=\"C\"),I132=\"XPS\",Eingabeliste!AC132>100),1,0))","v":0}]
[{"$f":"IF(Eingabeliste!A133=\"\",0,1)","v":0},{"$f":"Eingabeliste!B133","v":0},{"$f":"IFERROR(ROUND(Eingabeliste!J133/(COS((Eingabeliste!K133*PI())/180))-(SIN((Eingabeliste!K133*PI())/180)*2)+(Eingabeliste!M133-2.74)+IF(Eingabeliste!L133=0,0,Eingabeliste!L133-2.74)+IF(Eingabeliste!N133=Daten!N$6,0,12-1.86),1),\"\")","v":""},{"$f":"IF(OR(B133=0,Eingabeliste!E133=\"\"),0,MAX(Eingabeliste!E133,1000)*B133)","v":0},{"$f":"IFERROR((ROUNDUP(Eingabeliste!E133/Daten!$K$15,0)-1)*B133,\"\")","v":""},{"$f":"IF(Eingabeliste!N133=\"Pulverbesch.\",Daten!$D$1,Eingabeliste!N133)","v":""},{"$f":"Eingabeliste!AB133","v":""},{"$f":"Eingabeliste!AC133","v":""},{"$f":"Eingabeliste!AA133","v":""},{"$f":"Eingabeliste!I133","v":""},{"$f":"Eingabeliste!G133","v":""},{"$f":"Eingabeliste!H133","v":""},null,null,null,null,null,null,null,null,{"$f":"IF(OR(Eingabeliste!O133=\"Flexila PU\",Eingabeliste!O133=\"Flexila STB\"),Eingabeliste!B133,0)+IF(OR(Eingabeliste!S133=\"Flexila PU\",Eingabeliste!S133=\"Flexila STB\"),Eingabeliste!B133,0)","v":0},null,null,null,null,null,null,null,null,null,null,null,null,null,null,null,null,null,null,null,null,null,null,null,null,0,null,null,null,{"$f":"IF(A133=0,0,IF(C133>$C$2,1,0)+IF(AND(Daten!$F$3=TRUE,Zusammenfassung!J133>Preise!$A$70),1,0)+IF(AND(G133=\"D\",K133>Preise!$A$54),1,0)+IF(AND(OR(G133=\"B\",G133=\"C\"),I133<>\"XPS\",AND(Eingabeliste!AC133>50,Daten!F$3=FALSE)),1,0)+IF(AND(OR(G133=\"B\",G133=\"C\"),I133=\"XPS\",Eingabeliste!AC133>100),1,0))","v":0}]
[{"$f":"IF(Eingabeliste!A134=\"\",0,1)","v":0},{"$f":"Eingabeliste!B134","v":0},{"$f":"IFERROR(ROUND(Eingabeliste!J134/(COS((Eingabeliste!K134*PI())/180))-(SIN((Eingabeliste!K134*PI())/180)*2)+(Eingabeliste!M134-2.74)+IF(Eingabeliste!L134=0,0,Eingabeliste!L134-2.74)+IF(Eingabeliste!N134=Daten!N$6,0,12-1.86),1),\"\")","v":""},{"$f":"IF(OR(B134=0,Eingabeliste!E134=\"\"),0,MAX(Eingabeliste!E134,1000)*B134)","v":0},{"$f":"IFERROR((ROUNDUP(Eingabeliste!E134/Daten!$K$15,0)-1)*B134,\"\")","v":""},{"$f":"IF(Eingabeliste!N134=\"Pulverbesch.\",Daten!$D$1,Eingabeliste!N134)","v":""},{"$f":"Eingabeliste!AB134","v":""},{"$f":"Eingabeliste!AC134","v":""},{"$f":"Eingabeliste!AA134","v":""},{"$f":"Eingabeliste!I134","v":""},{"$f":"Eingabeliste!G134","v":""},{"$f":"Eingabeliste!H134","v":""},null,null,null,null,null,null,null,null,{"$f":"IF(OR(Eingabeliste!O134=\"Flexila PU\",Eingabeliste!O134=\"Flexila STB\"),Eingabeliste!B134,0)+IF(OR(Eingabeliste!S134=\"Flexila PU\",Eingabeliste!S134=\"Flexila STB\"),Eingabeliste!B134,0)","v":0},null,null,null,null,null,null,null,null,null,null,null,null,null,null,null,null,null,null,null,null,null,null,null,null,{"$f":"IF(B134=0,0,ROUNDUP(D134/800,0)+1)","v":0},null,null,null,{"$f":"IF(A134=0,0,IF(C134>$C$2,1,0)+IF(AND(Daten!$F$3=TRUE,Zusammenfassung!J134>Preise!$A$70),1,0)+IF(AND(G134=\"D\",K134>Preise!$A$54),1,0)+IF(AND(OR(G134=\"B\",G134=\"C\"),I134<>\"XPS\",AND(Eingabeliste!AC134>50,Daten!F$3=FALSE)),1,0)+IF(AND(OR(G134=\"B\",G134=\"C\"),I134=\"XPS\",Eingabeliste!AC134>100),1,0))","v":0}]
[{"$f":"IF(Eingabeliste!A135=\"\",0,1)","v":0},{"$f":"Eingabeliste!B135","v":0},{"$f":"IFERROR(ROUND(Eingabeliste!J135/(COS((Eingabeliste!K135*PI())/180))-(SIN((Eingabeliste!K135*PI())/180)*2)+(Eingabeliste!M135-2.74)+IF(Eingabeliste!L135=0,0,Eingabeliste!L135-2.74)+IF(Eingabeliste!N135=Daten!N$6,0,12-1.86),1),\"\")","v":""},{"$f":"IF(OR(B135=0,Eingabeliste!E135=\"\"),0,MAX(Eingabeliste!E135,1000)*B135)","v":0},{"$f":"IFERROR((ROUNDUP(Eingabeliste!E135/Daten!$K$15,0)-1)*B135,\"\")","v":""},{"$f":"IF(Eingabeliste!N135=\"Pulverbesch.\",Daten!$D$1,Eingabeliste!N135)","v":""},{"$f":"Eingabeliste!AB135","v":""},{"$f":"Eingabeliste!AC135","v":""},{"$f":"Eingabeliste!AA135","v":""},{"$f":"Eingabeliste!I135","v":""},{"$f":"Eingabeliste!G135","v":""},{"$f":"Eingabeliste!H135","v":""},null,null,null,null,null,null,null,null,{"$f":"IF(OR(Eingabeliste!O135=\"Flexila PU\",Eingabeliste!O135=\"Flexila STB\"),Eingabeliste!B135,0)+IF(OR(Eingabeliste!S135=\"Flexila PU\",Eingabeliste!S135=\"Flexila STB\"),Eingabeliste!B135,0)","v":0},null,null,null,null,null,null,null,null,null,null,null,null,null,null,null,null,null,null,null,null,null,null,null,null,0,null,null,null,{"$f":"IF(A135=0,0,IF(C135>$C$2,1,0)+IF(AND(Daten!$F$3=TRUE,Zusammenfassung!J135>Preise!$A$70),1,0)+IF(AND(G135=\"D\",K135>Preise!$A$54),1,0)+IF(AND(OR(G135=\"B\",G135=\"C\"),I135<>\"XPS\",AND(Eingabeliste!AC135>50,Daten!F$3=FALSE)),1,0)+IF(AND(OR(G135=\"B\",G135=\"C\"),I135=\"XPS\",Eingabeliste!AC135>100),1,0))","v":0}]
[{"$f":"IF(Eingabeliste!A136=\"\",0,1)","v":0},{"$f":"Eingabeliste!B136","v":0},{"$f":"IFERROR(ROUND(Eingabeliste!J136/(COS((Eingabeliste!K136*PI())/180))-(SIN((Eingabeliste!K136*PI())/180)*2)+(Eingabeliste!M136-2.74)+IF(Eingabeliste!L136=0,0,Eingabeliste!L136-2.74)+IF(Eingabeliste!N136=Daten!N$6,0,12-1.86),1),\"\")","v":""},{"$f":"IF(OR(B136=0,Eingabeliste!E136=\"\"),0,MAX(Eingabeliste!E136,1000)*B136)","v":0},{"$f":"IFERROR((ROUNDUP(Eingabeliste!E136/Daten!$K$15,0)-1)*B136,\"\")","v":""},{"$f":"IF(Eingabeliste!N136=\"Pulverbesch.\",Daten!$D$1,Eingabeliste!N136)","v":""},{"$f":"Eingabeliste!AB136","v":""},{"$f":"Eingabeliste!AC136","v":""},{"$f":"Eingabeliste!AA136","v":""},{"$f":"Eingabeliste!I136","v":""},{"$f":"Eingabeliste!G136","v":""},{"$f":"Eingabeliste!H136","v":""},null,null,null,null,null,null,null,null,{"$f":"IF(OR(Eingabeliste!O136=\"Flexila PU\",Eingabeliste!O136=\"Flexila STB\"),Eingabeliste!B136,0)+IF(OR(Eingabeliste!S136=\"Flexila PU\",Eingabeliste!S136=\"Flexila STB\"),Eingabeliste!B136,0)","v":0},null,null,null,null,null,null,null,null,null,null,null,null,null,null,null,null,null,null,null,null,null,null,null,null,0,null,null,null,{"$f":"IF(A136=0,0,IF(C136>$C$2,1,0)+IF(AND(Daten!$F$3=TRUE,Zusammenfassung!J136>Preise!$A$70),1,0)+IF(AND(G136=\"D\",K136>Preise!$A$54),1,0)+IF(AND(OR(G136=\"B\",G136=\"C\"),I136<>\"XPS\",AND(Eingabeliste!AC136>50,Daten!F$3=FALSE)),1,0)+IF(AND(OR(G136=\"B\",G136=\"C\"),I136=\"XPS\",Eingabeliste!AC136>100),1,0))","v":0}]
[{"$f":"IF(Eingabeliste!A137=\"\",0,1)","v":0},{"$f":"Eingabeliste!B137","v":0},{"$f":"IFERROR(ROUND(Eingabeliste!J137/(COS((Eingabeliste!K137*PI())/180))-(SIN((Eingabeliste!K137*PI())/180)*2)+(Eingabeliste!M137-2.74)+IF(Eingabeliste!L137=0,0,Eingabeliste!L137-2.74)+IF(Eingabeliste!N137=Daten!N$6,0,12-1.86),1),\"\")","v":""},{"$f":"IF(OR(B137=0,Eingabeliste!E137=\"\"),0,MAX(Eingabeliste!E137,1000)*B137)","v":0},{"$f":"IFERROR((ROUNDUP(Eingabeliste!E137/Daten!$K$15,0)-1)*B137,\"\")","v":""},{"$f":"IF(Eingabeliste!N137=\"Pulverbesch.\",Daten!$D$1,Eingabeliste!N137)","v":""},{"$f":"Eingabeliste!AB137","v":""},{"$f":"Eingabeliste!AC137","v":""},{"$f":"Eingabeliste!AA137","v":""},{"$f":"Eingabeliste!I137","v":""},{"$f":"Eingabeliste!G137","v":""},{"$f":"Eingabeliste!H137","v":""},null,null,null,null,null,null,null,null,{"$f":"IF(OR(Eingabeliste!O137=\"Flexila PU\",Eingabeliste!O137=\"Flexila STB\"),Eingabeliste!B137,0)+IF(OR(Eingabeliste!S137=\"Flexila PU\",Eingabeliste!S137=\"Flexila STB\"),Eingabeliste!B137,0)","v":0},null,null,null,null,null,null,null,null,null,null,null,null,null,null,null,null,null,null,null,null,null,null,null,null,0,null,null,null,{"$f":"IF(A137=0,0,IF(C137>$C$2,1,0)+IF(AND(Daten!$F$3=TRUE,Zusammenfassung!J137>Preise!$A$70),1,0)+IF(AND(G137=\"D\",K137>Preise!$A$54),1,0)+IF(AND(OR(G137=\"B\",G137=\"C\"),I137<>\"XPS\",AND(Eingabeliste!AC137>50,Daten!F$3=FALSE)),1,0)+IF(AND(OR(G137=\"B\",G137=\"C\"),I137=\"XPS\",Eingabeliste!AC137>100),1,0))","v":0}]
[{"$f":"IF(Eingabeliste!A138=\"\",0,1)","v":0},{"$f":"Eingabeliste!B138","v":0},{"$f":"IFERROR(ROUND(Eingabeliste!J138/(COS((Eingabeliste!K138*PI())/180))-(SIN((Eingabeliste!K138*PI())/180)*2)+(Eingabeliste!M138-2.74)+IF(Eingabeliste!L138=0,0,Eingabeliste!L138-2.74)+IF(Eingabeliste!N138=Daten!N$6,0,12-1.86),1),\"\")","v":""},{"$f":"IF(OR(B138=0,Eingabeliste!E138=\"\"),0,MAX(Eingabeliste!E138,1000)*B138)","v":0},{"$f":"IFERROR((ROUNDUP(Eingabeliste!E138/Daten!$K$15,0)-1)*B138,\"\")","v":""},{"$f":"IF(Eingabeliste!N138=\"Pulverbesch.\",Daten!$D$1,Eingabeliste!N138)","v":""},{"$f":"Eingabeliste!AB138","v":""},{"$f":"Eingabeliste!AC138","v":""},{"$f":"Eingabeliste!AA138","v":""},{"$f":"Eingabeliste!I138","v":""},{"$f":"Eingabeliste!G138","v":""},{"$f":"Eingabeliste!H138","v":""},null,null,null,null,null,null,null,null,{"$f":"IF(OR(Eingabeliste!O138=\"Flexila PU\",Eingabeliste!O138=\"Flexila STB\"),Eingabeliste!B138,0)+IF(OR(Eingabeliste!S138=\"Flexila PU\",Eingabeliste!S138=\"Flexila STB\"),Eingabeliste!B138,0)","v":0},null,null,null,null,null,null,null,null,null,null,null,null,null,null,null,null,null,null,null,null,null,null,null,null,0,null,null,null,{"$f":"IF(A138=0,0,IF(C138>$C$2,1,0)+IF(AND(Daten!$F$3=TRUE,Zusammenfassung!J138>Preise!$A$70),1,0)+IF(AND(G138=\"D\",K138>Preise!$A$54),1,0)+IF(AND(OR(G138=\"B\",G138=\"C\"),I138<>\"XPS\",AND(Eingabeliste!AC138>50,Daten!F$3=FALSE)),1,0)+IF(AND(OR(G138=\"B\",G138=\"C\"),I138=\"XPS\",Eingabeliste!AC138>100),1,0))","v":0}]
[{"$f":"IF(Eingabeliste!A139=\"\",0,1)","v":0},{"$f":"Eingabeliste!B139","v":0},{"$f":"IFERROR(ROUND(Eingabeliste!J139/(COS((Eingabeliste!K139*PI())/180))-(SIN((Eingabeliste!K139*PI())/180)*2)+(Eingabeliste!M139-2.74)+IF(Eingabeliste!L139=0,0,Eingabeliste!L139-2.74)+IF(Eingabeliste!N139=Daten!N$6,0,12-1.86),1),\"\")","v":""},{"$f":"IF(OR(B139=0,Eingabeliste!E139=\"\"),0,MAX(Eingabeliste!E139,1000)*B139)","v":0},{"$f":"IFERROR((ROUNDUP(Eingabeliste!E139/Daten!$K$15,0)-1)*B139,\"\")","v":""},{"$f":"IF(Eingabeliste!N139=\"Pulverbesch.\",Daten!$D$1,Eingabeliste!N139)","v":""},{"$f":"Eingabeliste!AB139","v":""},{"$f":"Eingabeliste!AC139","v":""},{"$f":"Eingabeliste!AA139","v":""},{"$f":"Eingabeliste!I139","v":""},{"$f":"Eingabeliste!G139","v":""},{"$f":"Eingabeliste!H139","v":""},null,null,null,null,null,null,null,null,{"$f":"IF(OR(Eingabeliste!O139=\"Flexila PU\",Eingabeliste!O139=\"Flexila STB\"),Eingabeliste!B139,0)+IF(OR(Eingabeliste!S139=\"Flexila PU\",Eingabeliste!S139=\"Flexila STB\"),Eingabeliste!B139,0)","v":0},null,null,null,null,null,null,null,null,null,null,null,null,null,null,null,null,null,null,null,null,null,null,null,null,0,null,null,null,{"$f":"IF(A139=0,0,IF(C139>$C$2,1,0)+IF(AND(Daten!$F$3=TRUE,Zusammenfassung!J139>Preise!$A$70),1,0)+IF(AND(G139=\"D\",K139>Preise!$A$54),1,0)+IF(AND(OR(G139=\"B\",G139=\"C\"),I139<>\"XPS\",AND(Eingabeliste!AC139>50,Daten!F$3=FALSE)),1,0)+IF(AND(OR(G139=\"B\",G139=\"C\"),I139=\"XPS\",Eingabeliste!AC139>100),1,0))","v":0}]
[{"$f":"IF(Eingabeliste!A140=\"\",0,1)","v":0},{"$f":"Eingabeliste!B140","v":0},{"$f":"IFERROR(ROUND(Eingabeliste!J140/(COS((Eingabeliste!K140*PI())/180))-(SIN((Eingabeliste!K140*PI())/180)*2)+(Eingabeliste!M140-2.74)+IF(Eingabeliste!L140=0,0,Eingabeliste!L140-2.74)+IF(Eingabeliste!N140=Daten!N$6,0,12-1.86),1),\"\")","v":""},{"$f":"IF(OR(B140=0,Eingabeliste!E140=\"\"),0,MAX(Eingabeliste!E140,1000)*B140)","v":0},{"$f":"IFERROR((ROUNDUP(Eingabeliste!E140/Daten!$K$15,0)-1)*B140,\"\")","v":""},{"$f":"IF(Eingabeliste!N140=\"Pulverbesch.\",Daten!$D$1,Eingabeliste!N140)","v":""},{"$f":"Eingabeliste!AB140","v":""},{"$f":"Eingabeliste!AC140","v":""},{"$f":"Eingabeliste!AA140","v":""},{"$f":"Eingabeliste!I140","v":""},{"$f":"Eingabeliste!G140","v":""},{"$f":"Eingabeliste!H140","v":""},null,null,null,null,null,null,null,null,{"$f":"IF(OR(Eingabeliste!O140=\"Flexila PU\",Eingabeliste!O140=\"Flexila STB\"),Eingabeliste!B140,0)+IF(OR(Eingabeliste!S140=\"Flexila PU\",Eingabeliste!S140=\"Flexila STB\"),Eingabeliste!B140,0)","v":0},null,null,null,null,null,null,null,null,null,null,null,null,null,null,null,null,null,null,null,null,null,null,null,null,0,null,null,null,{"$f":"IF(A140=0,0,IF(C140>$C$2,1,0)+IF(AND(Daten!$F$3=TRUE,Zusammenfassung!J140>Preise!$A$70),1,0)+IF(AND(G140=\"D\",K140>Preise!$A$54),1,0)+IF(AND(OR(G140=\"B\",G140=\"C\"),I140<>\"XPS\",AND(Eingabeliste!AC140>50,Daten!F$3=FALSE)),1,0)+IF(AND(OR(G140=\"B\",G140=\"C\"),I140=\"XPS\",Eingabeliste!AC140>100),1,0))","v":0}]
[{"$f":"IF(Eingabeliste!A141=\"\",0,1)","v":0},{"$f":"Eingabeliste!B141","v":0},{"$f":"IFERROR(ROUND(Eingabeliste!J141/(COS((Eingabeliste!K141*PI())/180))-(SIN((Eingabeliste!K141*PI())/180)*2)+(Eingabeliste!M141-2.74)+IF(Eingabeliste!L141=0,0,Eingabeliste!L141-2.74)+IF(Eingabeliste!N141=Daten!N$6,0,12-1.86),1),\"\")","v":""},{"$f":"IF(OR(B141=0,Eingabeliste!E141=\"\"),0,MAX(Eingabeliste!E141,1000)*B141)","v":0},{"$f":"IFERROR((ROUNDUP(Eingabeliste!E141/Daten!$K$15,0)-1)*B141,\"\")","v":""},{"$f":"IF(Eingabeliste!N141=\"Pulverbesch.\",Daten!$D$1,Eingabeliste!N141)","v":""},{"$f":"Eingabeliste!AB141","v":""},{"$f":"Eingabeliste!AC141","v":""},{"$f":"Eingabeliste!AA141","v":""},{"$f":"Eingabeliste!I141","v":""},{"$f":"Eingabeliste!G141","v":""},{"$f":"Eingabeliste!H141","v":""},null,null,null,null,null,null,null,null,{"$f":"IF(OR(Eingabeliste!O141=\"Flexila PU\",Eingabeliste!O141=\"Flexila STB\"),Eingabeliste!B141,0)+IF(OR(Eingabeliste!S141=\"Flexila PU\",Eingabeliste!S141=\"Flexila STB\"),Eingabeliste!B141,0)","v":0},null,null,null,null,null,null,null,null,null,null,null,null,null,null,null,null,null,null,null,null,null,null,null,null,0,null,null,null,{"$f":"IF(A141=0,0,IF(C141>$C$2,1,0)+IF(AND(Daten!$F$3=TRUE,Zusammenfassung!J141>Preise!$A$70),1,0)+IF(AND(G141=\"D\",K141>Preise!$A$54),1,0)+IF(AND(OR(G141=\"B\",G141=\"C\"),I141<>\"XPS\",AND(Eingabeliste!AC141>50,Daten!F$3=FALSE)),1,0)+IF(AND(OR(G141=\"B\",G141=\"C\"),I141=\"XPS\",Eingabeliste!AC141>100),1,0))","v":0}]
[{"$f":"IF(Eingabeliste!A142=\"\",0,1)","v":0},{"$f":"Eingabeliste!B142","v":0},{"$f":"IFERROR(ROUND(Eingabeliste!J142/(COS((Eingabeliste!K142*PI())/180))-(SIN((Eingabeliste!K142*PI())/180)*2)+(Eingabeliste!M142-2.74)+IF(Eingabeliste!L142=0,0,Eingabeliste!L142-2.74)+IF(Eingabeliste!N142=Daten!N$6,0,12-1.86),1),\"\")","v":""},{"$f":"IF(OR(B142=0,Eingabeliste!E142=\"\"),0,MAX(Eingabeliste!E142,1000)*B142)","v":0},{"$f":"IFERROR((ROUNDUP(Eingabeliste!E142/Daten!$K$15,0)-1)*B142,\"\")","v":""},{"$f":"IF(Eingabeliste!N142=\"Pulverbesch.\",Daten!$D$1,Eingabeliste!N142)","v":""},{"$f":"Eingabeliste!AB142","v":""},{"$f":"Eingabeliste!AC142","v":""},{"$f":"Eingabeliste!AA142","v":""},{"$f":"Eingabeliste!I142","v":""},{"$f":"Eingabeliste!G142","v":""},{"$f":"Eingabeliste!H142","v":""},null,null,null,null,null,null,null,null,{"$f":"IF(OR(Eingabeliste!O142=\"Flexila PU\",Eingabeliste!O142=\"Flexila STB\"),Eingabeliste!B142,0)+IF(OR(Eingabeliste!S142=\"Flexila PU\",Eingabeliste!S142=\"Flexila STB\"),Eingabeliste!B142,0)","v":0},null,null,null,null,null,null,null,null,null,null,null,null,null,null,null,null,null,null,null,null,null,null,null,null,0,null,null,null,{"$f":"IF(A142=0,0,IF(C142>$C$2,1,0)+IF(AND(Daten!$F$3=TRUE,Zusammenfassung!J142>Preise!$A$70),1,0)+IF(AND(G142=\"D\",K142>Preise!$A$54),1,0)+IF(AND(OR(G142=\"B\",G142=\"C\"),I142<>\"XPS\",AND(Eingabeliste!AC142>50,Daten!F$3=FALSE)),1,0)+IF(AND(OR(G142=\"B\",G142=\"C\"),I142=\"XPS\",Eingabeliste!AC142>100),1,0))","v":0}]
[{"$f":"IF(Eingabeliste!A143=\"\",0,1)","v":0},{"$f":"Eingabeliste!B143","v":0},{"$f":"IFERROR(ROUND(Eingabeliste!J143/(COS((Eingabeliste!K143*PI())/180))-(SIN((Eingabeliste!K143*PI())/180)*2)+(Eingabeliste!M143-2.74)+IF(Eingabeliste!L143=0,0,Eingabeliste!L143-2.74)+IF(Eingabeliste!N143=Daten!N$6,0,12-1.86),1),\"\")","v":""},{"$f":"IF(OR(B143=0,Eingabeliste!E143=\"\"),0,MAX(Eingabeliste!E143,1000)*B143)","v":0},{"$f":"IFERROR((ROUNDUP(Eingabeliste!E143/Daten!$K$15,0)-1)*B143,\"\")","v":""},{"$f":"IF(Eingabeliste!N143=\"Pulverbesch.\",Daten!$D$1,Eingabeliste!N143)","v":""},{"$f":"Eingabeliste!AB143","v":""},{"$f":"Eingabeliste!AC143","v":""},{"$f":"Eingabeliste!AA143","v":""},{"$f":"Eingabeliste!I143","v":""},{"$f":"Eingabeliste!G143","v":""},{"$f":"Eingabeliste!H143","v":""},null,null,null,null,null,null,null,null,{"$f":"IF(OR(Eingabeliste!O143=\"Flexila PU\",Eingabeliste!O143=\"Flexila STB\"),Eingabeliste!B143,0)+IF(OR(Eingabeliste!S143=\"Flexila PU\",Eingabeliste!S143=\"Flexila STB\"),Eingabeliste!B143,0)","v":0},null,null,null,null,null,null,null,null,null,null,null,null,null,null,null,null,null,null,null,null,null,null,null,null,0,null,null,null,{"$f":"IF(A143=0,0,IF(C143>$C$2,1,0)+IF(AND(Daten!$F$3=TRUE,Zusammenfassung!J143>Preise!$A$70),1,0)+IF(AND(G143=\"D\",K143>Preise!$A$54),1,0)+IF(AND(OR(G143=\"B\",G143=\"C\"),I143<>\"XPS\",AND(Eingabeliste!AC143>50,Daten!F$3=FALSE)),1,0)+IF(AND(OR(G143=\"B\",G143=\"C\"),I143=\"XPS\",Eingabeliste!AC143>100),1,0))","v":0}]
[{"$f":"IF(Eingabeliste!A144=\"\",0,1)","v":0},{"$f":"Eingabeliste!B144","v":0},{"$f":"IFERROR(ROUND(Eingabeliste!J144/(COS((Eingabeliste!K144*PI())/180))-(SIN((Eingabeliste!K144*PI())/180)*2)+(Eingabeliste!M144-2.74)+IF(Eingabeliste!L144=0,0,Eingabeliste!L144-2.74)+IF(Eingabeliste!N144=Daten!N$6,0,12-1.86),1),\"\")","v":""},{"$f":"IF(OR(B144=0,Eingabeliste!E144=\"\"),0,MAX(Eingabeliste!E144,1000)*B144)","v":0},{"$f":"IFERROR((ROUNDUP(Eingabeliste!E144/Daten!$K$15,0)-1)*B144,\"\")","v":""},{"$f":"IF(Eingabeliste!N144=\"Pulverbesch.\",Daten!$D$1,Eingabeliste!N144)","v":""},{"$f":"Eingabeliste!AB144","v":""},{"$f":"Eingabeliste!AC144","v":""},{"$f":"Eingabeliste!AA144","v":""},{"$f":"Eingabeliste!I144","v":""},{"$f":"Eingabeliste!G144","v":""},{"$f":"Eingabeliste!H144","v":""},null,null,null,null,null,null,null,null,{"$f":"IF(OR(Eingabeliste!O144=\"Flexila PU\",Eingabeliste!O144=\"Flexila STB\"),Eingabeliste!B144,0)+IF(OR(Eingabeliste!S144=\"Flexila PU\",Eingabeliste!S144=\"Flexila STB\"),Eingabeliste!B144,0)","v":0},null,null,null,null,null,null,null,null,null,null,null,null,null,null,null,null,null,null,null,null,null,null,null,null,0,null,null,null,{"$f":"IF(A144=0,0,IF(C144>$C$2,1,0)+IF(AND(Daten!$F$3=TRUE,Zusammenfassung!J144>Preise!$A$70),1,0)+IF(AND(G144=\"D\",K144>Preise!$A$54),1,0)+IF(AND(OR(G144=\"B\",G144=\"C\"),I144<>\"XPS\",AND(Eingabeliste!AC144>50,Daten!F$3=FALSE)),1,0)+IF(AND(OR(G144=\"B\",G144=\"C\"),I144=\"XPS\",Eingabeliste!AC144>100),1,0))","v":0}]
[{"$f":"IF(Eingabeliste!A145=\"\",0,1)","v":0},{"$f":"Eingabeliste!B145","v":0},{"$f":"IFERROR(ROUND(Eingabeliste!J145/(COS((Eingabeliste!K145*PI())/180))-(SIN((Eingabeliste!K145*PI())/180)*2)+(Eingabeliste!M145-2.74)+IF(Eingabeliste!L145=0,0,Eingabeliste!L145-2.74)+IF(Eingabeliste!N145=Daten!N$6,0,12-1.86),1),\"\")","v":""},{"$f":"IF(OR(B145=0,Eingabeliste!E145=\"\"),0,MAX(Eingabeliste!E145,1000)*B145)","v":0},{"$f":"IFERROR((ROUNDUP(Eingabeliste!E145/Daten!$K$15,0)-1)*B145,\"\")","v":""},{"$f":"IF(Eingabeliste!N145=\"Pulverbesch.\",Daten!$D$1,Eingabeliste!N145)","v":""},{"$f":"Eingabeliste!AB145","v":""},{"$f":"Eingabeliste!AC145","v":""},{"$f":"Eingabeliste!AA145","v":""},{"$f":"Eingabeliste!I145","v":""},{"$f":"Eingabeliste!G145","v":""},{"$f":"Eingabeliste!H145","v":""},null,null,null,null,null,null,null,null,{"$f":"IF(OR(Eingabeliste!O145=\"Flexila PU\",Eingabeliste!O145=\"Flexila STB\"),Eingabeliste!B145,0)+IF(OR(Eingabeliste!S145=\"Flexila PU\",Eingabeliste!S145=\"Flexila STB\"),Eingabeliste!B145,0)","v":0},null,null,null,null,null,null,null,null,null,null,null,null,null,null,null,null,null,null,null,null,null,null,null,null,0,null,null,null,{"$f":"IF(A145=0,0,IF(C145>$C$2,1,0)+IF(AND(Daten!$F$3=TRUE,Zusammenfassung!J145>Preise!$A$70),1,0)+IF(AND(G145=\"D\",K145>Preise!$A$54),1,0)+IF(AND(OR(G145=\"B\",G145=\"C\"),I145<>\"XPS\",AND(Eingabeliste!AC145>50,Daten!F$3=FALSE)),1,0)+IF(AND(OR(G145=\"B\",G145=\"C\"),I145=\"XPS\",Eingabeliste!AC145>100),1,0))","v":0}]
[{"$f":"IF(Eingabeliste!A146=\"\",0,1)","v":0},{"$f":"Eingabeliste!B146","v":0},{"$f":"IFERROR(ROUND(Eingabeliste!J146/(COS((Eingabeliste!K146*PI())/180))-(SIN((Eingabeliste!K146*PI())/180)*2)+(Eingabeliste!M146-2.74)+IF(Eingabeliste!L146=0,0,Eingabeliste!L146-2.74)+IF(Eingabeliste!N146=Daten!N$6,0,12-1.86),1),\"\")","v":""},{"$f":"IF(OR(B146=0,Eingabeliste!E146=\"\"),0,MAX(Eingabeliste!E146,1000)*B146)","v":0},{"$f":"IFERROR((ROUNDUP(Eingabeliste!E146/Daten!$K$15,0)-1)*B146,\"\")","v":""},{"$f":"IF(Eingabeliste!N146=\"Pulverbesch.\",Daten!$D$1,Eingabeliste!N146)","v":""},{"$f":"Eingabeliste!AB146","v":""},{"$f":"Eingabeliste!AC146","v":""},{"$f":"Eingabeliste!AA146","v":""},{"$f":"Eingabeliste!I146","v":""},{"$f":"Eingabeliste!G146","v":""},{"$f":"Eingabeliste!H146","v":""},null,null,null,null,null,null,null,null,{"$f":"IF(OR(Eingabeliste!O146=\"Flexila PU\",Eingabeliste!O146=\"Flexila STB\"),Eingabeliste!B146,0)+IF(OR(Eingabeliste!S146=\"Flexila PU\",Eingabeliste!S146=\"Flexila STB\"),Eingabeliste!B146,0)","v":0},null,null,null,null,null,null,null,null,null,null,null,null,null,null,null,null,null,null,null,null,null,null,null,null,0,null,null,null,{"$f":"IF(A146=0,0,IF(C146>$C$2,1,0)+IF(AND(Daten!$F$3=TRUE,Zusammenfassung!J146>Preise!$A$70),1,0)+IF(AND(G146=\"D\",K146>Preise!$A$54),1,0)+IF(AND(OR(G146=\"B\",G146=\"C\"),I146<>\"XPS\",AND(Eingabeliste!AC146>50,Daten!F$3=FALSE)),1,0)+IF(AND(OR(G146=\"B\",G146=\"C\"),I146=\"XPS\",Eingabeliste!AC146>100),1,0))","v":0}]
[{"$f":"IF(Eingabeliste!A147=\"\",0,1)","v":0},{"$f":"Eingabeliste!B147","v":0},{"$f":"IFERROR(ROUND(Eingabeliste!J147/(COS((Eingabeliste!K147*PI())/180))-(SIN((Eingabeliste!K147*PI())/180)*2)+(Eingabeliste!M147-2.74)+IF(Eingabeliste!L147=0,0,Eingabeliste!L147-2.74)+IF(Eingabeliste!N147=Daten!N$6,0,12-1.86),1),\"\")","v":""},{"$f":"IF(OR(B147=0,Eingabeliste!E147=\"\"),0,MAX(Eingabeliste!E147,1000)*B147)","v":0},{"$f":"IFERROR((ROUNDUP(Eingabeliste!E147/Daten!$K$15,0)-1)*B147,\"\")","v":""},{"$f":"IF(Eingabeliste!N147=\"Pulverbesch.\",Daten!$D$1,Eingabeliste!N147)","v":""},{"$f":"Eingabeliste!AB147","v":""},{"$f":"Eingabeliste!AC147","v":""},{"$f":"Eingabeliste!AA147","v":""},{"$f":"Eingabeliste!I147","v":""},{"$f":"Eingabeliste!G147","v":""},{"$f":"Eingabeliste!H147","v":""},null,null,null,null,null,null,null,null,{"$f":"IF(OR(Eingabeliste!O147=\"Flexila PU\",Eingabeliste!O147=\"Flexila STB\"),Eingabeliste!B147,0)+IF(OR(Eingabeliste!S147=\"Flexila PU\",Eingabeliste!S147=\"Flexila STB\"),Eingabeliste!B147,0)","v":0},null,null,null,null,null,null,null,null,null,null,null,null,null,null,null,null,null,null,null,null,null,null,null,null,0,null,null,null,{"$f":"IF(A147=0,0,IF(C147>$C$2,1,0)+IF(AND(Daten!$F$3=TRUE,Zusammenfassung!J147>Preise!$A$70),1,0)+IF(AND(G147=\"D\",K147>Preise!$A$54),1,0)+IF(AND(OR(G147=\"B\",G147=\"C\"),I147<>\"XPS\",AND(Eingabeliste!AC147>50,Daten!F$3=FALSE)),1,0)+IF(AND(OR(G147=\"B\",G147=\"C\"),I147=\"XPS\",Eingabeliste!AC147>100),1,0))","v":0}]
[{"$f":"IF(Eingabeliste!A148=\"\",0,1)","v":0},{"$f":"Eingabeliste!B148","v":0},{"$f":"IFERROR(ROUND(Eingabeliste!J148/(COS((Eingabeliste!K148*PI())/180))-(SIN((Eingabeliste!K148*PI())/180)*2)+(Eingabeliste!M148-2.74)+IF(Eingabeliste!L148=0,0,Eingabeliste!L148-2.74)+IF(Eingabeliste!N148=Daten!N$6,0,12-1.86),1),\"\")","v":""},{"$f":"IF(OR(B148=0,Eingabeliste!E148=\"\"),0,MAX(Eingabeliste!E148,1000)*B148)","v":0},{"$f":"IFERROR((ROUNDUP(Eingabeliste!E148/Daten!$K$15,0)-1)*B148,\"\")","v":""},{"$f":"IF(Eingabeliste!N148=\"Pulverbesch.\",Daten!$D$1,Eingabeliste!N148)","v":""},{"$f":"Eingabeliste!AB148","v":""},{"$f":"Eingabeliste!AC148","v":""},{"$f":"Eingabeliste!AA148","v":""},{"$f":"Eingabeliste!I148","v":""},{"$f":"Eingabeliste!G148","v":""},{"$f":"Eingabeliste!H148","v":""},null,null,null,null,null,null,null,null,{"$f":"IF(OR(Eingabeliste!O148=\"Flexila PU\",Eingabeliste!O148=\"Flexila STB\"),Eingabeliste!B148,0)+IF(OR(Eingabeliste!S148=\"Flexila PU\",Eingabeliste!S148=\"Flexila STB\"),Eingabeliste!B148,0)","v":0},null,null,null,null,null,null,null,null,null,null,null,null,null,null,null,null,null,null,null,null,null,null,null,null,0,null,null,null,{"$f":"IF(A148=0,0,IF(C148>$C$2,1,0)+IF(AND(Daten!$F$3=TRUE,Zusammenfassung!J148>Preise!$A$70),1,0)+IF(AND(G148=\"D\",K148>Preise!$A$54),1,0)+IF(AND(OR(G148=\"B\",G148=\"C\"),I148<>\"XPS\",AND(Eingabeliste!AC148>50,Daten!F$3=FALSE)),1,0)+IF(AND(OR(G148=\"B\",G148=\"C\"),I148=\"XPS\",Eingabeliste!AC148>100),1,0))","v":0}]
[{"$f":"IF(Eingabeliste!A149=\"\",0,1)","v":0},{"$f":"Eingabeliste!B149","v":0},{"$f":"IFERROR(ROUND(Eingabeliste!J149/(COS((Eingabeliste!K149*PI())/180))-(SIN((Eingabeliste!K149*PI())/180)*2)+(Eingabeliste!M149-2.74)+IF(Eingabeliste!L149=0,0,Eingabeliste!L149-2.74)+IF(Eingabeliste!N149=Daten!N$6,0,12-1.86),1),\"\")","v":""},{"$f":"IF(OR(B149=0,Eingabeliste!E149=\"\"),0,MAX(Eingabeliste!E149,1000)*B149)","v":0},{"$f":"IFERROR((ROUNDUP(Eingabeliste!E149/Daten!$K$15,0)-1)*B149,\"\")","v":""},{"$f":"IF(Eingabeliste!N149=\"Pulverbesch.\",Daten!$D$1,Eingabeliste!N149)","v":""},{"$f":"Eingabeliste!AB149","v":""},{"$f":"Eingabeliste!AC149","v":""},{"$f":"Eingabeliste!AA149","v":""},{"$f":"Eingabeliste!I149","v":""},{"$f":"Eingabeliste!G149","v":""},{"$f":"Eingabeliste!H149","v":""},null,null,null,null,null,null,null,null,{"$f":"IF(OR(Eingabeliste!O149=\"Flexila PU\",Eingabeliste!O149=\"Flexila STB\"),Eingabeliste!B149,0)+IF(OR(Eingabeliste!S149=\"Flexila PU\",Eingabeliste!S149=\"Flexila STB\"),Eingabeliste!B149,0)","v":0},null,null,null,null,null,null,null,null,null,null,null,null,null,null,null,null,null,null,null,null,null,null,null,null,0,null,null,null,{"$f":"IF(A149=0,0,IF(C149>$C$2,1,0)+IF(AND(Daten!$F$3=TRUE,Zusammenfassung!J149>Preise!$A$70),1,0)+IF(AND(G149=\"D\",K149>Preise!$A$54),1,0)+IF(AND(OR(G149=\"B\",G149=\"C\"),I149<>\"XPS\",AND(Eingabeliste!AC149>50,Daten!F$3=FALSE)),1,0)+IF(AND(OR(G149=\"B\",G149=\"C\"),I149=\"XPS\",Eingabeliste!AC149>100),1,0))","v":0}]
[{"$f":"IF(Eingabeliste!A150=\"\",0,1)","v":0},{"$f":"Eingabeliste!B150","v":0},{"$f":"IFERROR(ROUND(Eingabeliste!J150/(COS((Eingabeliste!K150*PI())/180))-(SIN((Eingabeliste!K150*PI())/180)*2)+(Eingabeliste!M150-2.74)+IF(Eingabeliste!L150=0,0,Eingabeliste!L150-2.74)+IF(Eingabeliste!N150=Daten!N$6,0,12-1.86),1),\"\")","v":""},{"$f":"IF(OR(B150=0,Eingabeliste!E150=\"\"),0,MAX(Eingabeliste!E150,1000)*B150)","v":0},{"$f":"IFERROR((ROUNDUP(Eingabeliste!E150/Daten!$K$15,0)-1)*B150,\"\")","v":""},{"$f":"IF(Eingabeliste!N150=\"Pulverbesch.\",Daten!$D$1,Eingabeliste!N150)","v":""},{"$f":"Eingabeliste!AB150","v":""},{"$f":"Eingabeliste!AC150","v":""},{"$f":"Eingabeliste!AA150","v":""},{"$f":"Eingabeliste!I150","v":""},{"$f":"Eingabeliste!G150","v":""},{"$f":"Eingabeliste!H150","v":""},null,null,null,null,null,null,null,null,{"$f":"IF(OR(Eingabeliste!O150=\"Flexila PU\",Eingabeliste!O150=\"Flexila STB\"),Eingabeliste!B150,0)+IF(OR(Eingabeliste!S150=\"Flexila PU\",Eingabeliste!S150=\"Flexila STB\"),Eingabeliste!B150,0)","v":0},null,null,null,null,null,null,null,null,null,null,null,null,null,null,null,null,null,null,null,null,null,null,null,null,0,null,null,null,{"$f":"IF(A150=0,0,IF(C150>$C$2,1,0)+IF(AND(Daten!$F$3=TRUE,Zusammenfassung!J150>Preise!$A$70),1,0)+IF(AND(G150=\"D\",K150>Preise!$A$54),1,0)+IF(AND(OR(G150=\"B\",G150=\"C\"),I150<>\"XPS\",AND(Eingabeliste!AC150>50,Daten!F$3=FALSE)),1,0)+IF(AND(OR(G150=\"B\",G150=\"C\"),I150=\"XPS\",Eingabeliste!AC150>100),1,0))","v":0}]
[{"$f":"IF(Eingabeliste!A151=\"\",0,1)","v":0},{"$f":"Eingabeliste!B151","v":0},{"$f":"IFERROR(ROUND(Eingabeliste!J151/(COS((Eingabeliste!K151*PI())/180))-(SIN((Eingabeliste!K151*PI())/180)*2)+(Eingabeliste!M151-2.74)+IF(Eingabeliste!L151=0,0,Eingabeliste!L151-2.74)+IF(Eingabeliste!N151=Daten!N$6,0,12-1.86),1),\"\")","v":""},{"$f":"IF(OR(B151=0,Eingabeliste!E151=\"\"),0,MAX(Eingabeliste!E151,1000)*B151)","v":0},{"$f":"IFERROR((ROUNDUP(Eingabeliste!E151/Daten!$K$15,0)-1)*B151,\"\")","v":""},{"$f":"IF(Eingabeliste!N151=\"Pulverbesch.\",Daten!$D$1,Eingabeliste!N151)","v":""},{"$f":"Eingabeliste!AB151","v":""},{"$f":"Eingabeliste!AC151","v":""},{"$f":"Eingabeliste!AA151","v":""},{"$f":"Eingabeliste!I151","v":""},{"$f":"Eingabeliste!G151","v":""},{"$f":"Eingabeliste!H151","v":""},null,null,null,null,null,null,null,null,{"$f":"IF(OR(Eingabeliste!O151=\"Flexila PU\",Eingabeliste!O151=\"Flexila STB\"),Eingabeliste!B151,0)+IF(OR(Eingabeliste!S151=\"Flexila PU\",Eingabeliste!S151=\"Flexila STB\"),Eingabeliste!B151,0)","v":0},null,null,null,null,null,null,null,null,null,null,null,null,null,null,null,null,null,null,null,null,null,null,null,null,0,null,null,null,{"$f":"IF(A151=0,0,IF(C151>$C$2,1,0)+IF(AND(Daten!$F$3=TRUE,Zusammenfassung!J151>Preise!$A$70),1,0)+IF(AND(G151=\"D\",K151>Preise!$A$54),1,0)+IF(AND(OR(G151=\"B\",G151=\"C\"),I151<>\"XPS\",AND(Eingabeliste!AC151>50,Daten!F$3=FALSE)),1,0)+IF(AND(OR(G151=\"B\",G151=\"C\"),I151=\"XPS\",Eingabeliste!AC151>100),1,0))","v":0}]
[{"$f":"IF(Eingabeliste!A152=\"\",0,1)","v":0},{"$f":"Eingabeliste!B152","v":0},{"$f":"IFERROR(ROUND(Eingabeliste!J152/(COS((Eingabeliste!K152*PI())/180))-(SIN((Eingabeliste!K152*PI())/180)*2)+(Eingabeliste!M152-2.74)+IF(Eingabeliste!L152=0,0,Eingabeliste!L152-2.74)+IF(Eingabeliste!N152=Daten!N$6,0,12-1.86),1),\"\")","v":""},{"$f":"IF(OR(B152=0,Eingabeliste!E152=\"\"),0,MAX(Eingabeliste!E152,1000)*B152)","v":0},{"$f":"IFERROR((ROUNDUP(Eingabeliste!E152/Daten!$K$15,0)-1)*B152,\"\")","v":""},{"$f":"IF(Eingabeliste!N152=\"Pulverbesch.\",Daten!$D$1,Eingabeliste!N152)","v":""},{"$f":"Eingabeliste!AB152","v":""},{"$f":"Eingabeliste!AC152","v":""},{"$f":"Eingabeliste!AA152","v":""},{"$f":"Eingabeliste!I152","v":""},{"$f":"Eingabeliste!G152","v":""},{"$f":"Eingabeliste!H152","v":""},null,null,null,null,null,null,null,null,{"$f":"IF(OR(Eingabeliste!O152=\"Flexila PU\",Eingabeliste!O152=\"Flexila STB\"),Eingabeliste!B152,0)+IF(OR(Eingabeliste!S152=\"Flexila PU\",Eingabeliste!S152=\"Flexila STB\"),Eingabeliste!B152,0)","v":0},null,null,null,null,null,null,null,null,null,null,null,null,null,null,null,null,null,null,null,null,null,null,null,null,0,null,null,null,{"$f":"IF(A152=0,0,IF(C152>$C$2,1,0)+IF(AND(Daten!$F$3=TRUE,Zusammenfassung!J152>Preise!$A$70),1,0)+IF(AND(G152=\"D\",K152>Preise!$A$54),1,0)+IF(AND(OR(G152=\"B\",G152=\"C\"),I152<>\"XPS\",AND(Eingabeliste!AC152>50,Daten!F$3=FALSE)),1,0)+IF(AND(OR(G152=\"B\",G152=\"C\"),I152=\"XPS\",Eingabeliste!AC152>100),1,0))","v":0}]
[{"$f":"IF(Eingabeliste!A153=\"\",0,1)","v":0},{"$f":"Eingabeliste!B153","v":0},{"$f":"IFERROR(ROUND(Eingabeliste!J153/(COS((Eingabeliste!K153*PI())/180))-(SIN((Eingabeliste!K153*PI())/180)*2)+(Eingabeliste!M153-2.74)+IF(Eingabeliste!L153=0,0,Eingabeliste!L153-2.74)+IF(Eingabeliste!N153=Daten!N$6,0,12-1.86),1),\"\")","v":""},{"$f":"IF(OR(B153=0,Eingabeliste!E153=\"\"),0,MAX(Eingabeliste!E153,1000)*B153)","v":0},{"$f":"IFERROR((ROUNDUP(Eingabeliste!E153/Daten!$K$15,0)-1)*B153,\"\")","v":""},{"$f":"IF(Eingabeliste!N153=\"Pulverbesch.\",Daten!$D$1,Eingabeliste!N153)","v":""},{"$f":"Eingabeliste!AB153","v":""},{"$f":"Eingabeliste!AC153","v":""},{"$f":"Eingabeliste!AA153","v":""},{"$f":"Eingabeliste!I153","v":""},{"$f":"Eingabeliste!G153","v":""},{"$f":"Eingabeliste!H153","v":""},null,null,null,null,null,null,null,null,{"$f":"IF(OR(Eingabeliste!O153=\"Flexila PU\",Eingabeliste!O153=\"Flexila STB\"),Eingabeliste!B153,0)+IF(OR(Eingabeliste!S153=\"Flexila PU\",Eingabeliste!S153=\"Flexila STB\"),Eingabeliste!B153,0)","v":0},null,null,null,null,null,null,null,null,null,null,null,null,null,null,null,null,null,null,null,null,null,null,null,null,0,null,null,null,{"$f":"IF(A153=0,0,IF(C153>$C$2,1,0)+IF(AND(Daten!$F$3=TRUE,Zusammenfassung!J153>Preise!$A$70),1,0)+IF(AND(G153=\"D\",K153>Preise!$A$54),1,0)+IF(AND(OR(G153=\"B\",G153=\"C\"),I153<>\"XPS\",AND(Eingabeliste!AC153>50,Daten!F$3=FALSE)),1,0)+IF(AND(OR(G153=\"B\",G153=\"C\"),I153=\"XPS\",Eingabeliste!AC153>100),1,0))","v":0}]
[{"$f":"IF(Eingabeliste!A154=\"\",0,1)","v":0},{"$f":"Eingabeliste!B154","v":0},{"$f":"IFERROR(ROUND(Eingabeliste!J154/(COS((Eingabeliste!K154*PI())/180))-(SIN((Eingabeliste!K154*PI())/180)*2)+(Eingabeliste!M154-2.74)+IF(Eingabeliste!L154=0,0,Eingabeliste!L154-2.74)+IF(Eingabeliste!N154=Daten!N$6,0,12-1.86),1),\"\")","v":""},{"$f":"IF(OR(B154=0,Eingabeliste!E154=\"\"),0,MAX(Eingabeliste!E154,1000)*B154)","v":0},{"$f":"IFERROR((ROUNDUP(Eingabeliste!E154/Daten!$K$15,0)-1)*B154,\"\")","v":""},{"$f":"IF(Eingabeliste!N154=\"Pulverbesch.\",Daten!$D$1,Eingabeliste!N154)","v":""},{"$f":"Eingabeliste!AB154","v":""},{"$f":"Eingabeliste!AC154","v":""},{"$f":"Eingabeliste!AA154","v":""},{"$f":"Eingabeliste!I154","v":""},{"$f":"Eingabeliste!G154","v":""},{"$f":"Eingabeliste!H154","v":""},null,null,null,null,null,null,null,null,{"$f":"IF(OR(Eingabeliste!O154=\"Flexila PU\",Eingabeliste!O154=\"Flexila STB\"),Eingabeliste!B154,0)+IF(OR(Eingabeliste!S154=\"Flexila PU\",Eingabeliste!S154=\"Flexila STB\"),Eingabeliste!B154,0)","v":0},null,null,null,null,null,null,null,null,null,null,null,null,null,null,null,null,null,null,null,null,null,null,null,null,0,null,null,null,{"$f":"IF(A154=0,0,IF(C154>$C$2,1,0)+IF(AND(Daten!$F$3=TRUE,Zusammenfassung!J154>Preise!$A$70),1,0)+IF(AND(G154=\"D\",K154>Preise!$A$54),1,0)+IF(AND(OR(G154=\"B\",G154=\"C\"),I154<>\"XPS\",AND(Eingabeliste!AC154>50,Daten!F$3=FALSE)),1,0)+IF(AND(OR(G154=\"B\",G154=\"C\"),I154=\"XPS\",Eingabeliste!AC154>100),1,0))","v":0}]
[{"$f":"IF(Eingabeliste!A155=\"\",0,1)","v":0},{"$f":"Eingabeliste!B155","v":0},{"$f":"IFERROR(ROUND(Eingabeliste!J155/(COS((Eingabeliste!K155*PI())/180))-(SIN((Eingabeliste!K155*PI())/180)*2)+(Eingabeliste!M155-2.74)+IF(Eingabeliste!L155=0,0,Eingabeliste!L155-2.74)+IF(Eingabeliste!N155=Daten!N$6,0,12-1.86),1),\"\")","v":""},{"$f":"IF(OR(B155=0,Eingabeliste!E155=\"\"),0,MAX(Eingabeliste!E155,1000)*B155)","v":0},{"$f":"IFERROR((ROUNDUP(Eingabeliste!E155/Daten!$K$15,0)-1)*B155,\"\")","v":""},{"$f":"IF(Eingabeliste!N155=\"Pulverbesch.\",Daten!$D$1,Eingabeliste!N155)","v":""},{"$f":"Eingabeliste!AB155","v":""},{"$f":"Eingabeliste!AC155","v":""},{"$f":"Eingabeliste!AA155","v":""},{"$f":"Eingabeliste!I155","v":""},{"$f":"Eingabeliste!G155","v":""},{"$f":"Eingabeliste!H155","v":""},null,null,null,null,null,null,null,null,{"$f":"IF(OR(Eingabeliste!O155=\"Flexila PU\",Eingabeliste!O155=\"Flexila STB\"),Eingabeliste!B155,0)+IF(OR(Eingabeliste!S155=\"Flexila PU\",Eingabeliste!S155=\"Flexila STB\"),Eingabeliste!B155,0)","v":0},null,null,null,null,null,null,null,null,null,null,null,null,null,null,null,null,null,null,null,null,null,null,null,null,0,null,null,null,{"$f":"IF(A155=0,0,IF(C155>$C$2,1,0)+IF(AND(Daten!$F$3=TRUE,Zusammenfassung!J155>Preise!$A$70),1,0)+IF(AND(G155=\"D\",K155>Preise!$A$54),1,0)+IF(AND(OR(G155=\"B\",G155=\"C\"),I155<>\"XPS\",AND(Eingabeliste!AC155>50,Daten!F$3=FALSE)),1,0)+IF(AND(OR(G155=\"B\",G155=\"C\"),I155=\"XPS\",Eingabeliste!AC155>100),1,0))","v":0}]
[{"$f":"IF(Eingabeliste!A156=\"\",0,1)","v":0},{"$f":"Eingabeliste!B156","v":0},{"$f":"IFERROR(ROUND(Eingabeliste!J156/(COS((Eingabeliste!K156*PI())/180))-(SIN((Eingabeliste!K156*PI())/180)*2)+(Eingabeliste!M156-2.74)+IF(Eingabeliste!L156=0,0,Eingabeliste!L156-2.74)+IF(Eingabeliste!N156=Daten!N$6,0,12-1.86),1),\"\")","v":""},{"$f":"IF(OR(B156=0,Eingabeliste!E156=\"\"),0,MAX(Eingabeliste!E156,1000)*B156)","v":0},{"$f":"IFERROR((ROUNDUP(Eingabeliste!E156/Daten!$K$15,0)-1)*B156,\"\")","v":""},{"$f":"IF(Eingabeliste!N156=\"Pulverbesch.\",Daten!$D$1,Eingabeliste!N156)","v":""},{"$f":"Eingabeliste!AB156","v":""},{"$f":"Eingabeliste!AC156","v":""},{"$f":"Eingabeliste!AA156","v":""},{"$f":"Eingabeliste!I156","v":""},{"$f":"Eingabeliste!G156","v":""},{"$f":"Eingabeliste!H156","v":""},null,null,null,null,null,null,null,null,{"$f":"IF(OR(Eingabeliste!O156=\"Flexila PU\",Eingabeliste!O156=\"Flexila STB\"),Eingabeliste!B156,0)+IF(OR(Eingabeliste!S156=\"Flexila PU\",Eingabeliste!S156=\"Flexila STB\"),Eingabeliste!B156,0)","v":0},null,null,null,null,null,null,null,null,null,null,null,null,null,null,null,null,null,null,null,null,null,null,null,null,0,null,null,null,{"$f":"IF(A156=0,0,IF(C156>$C$2,1,0)+IF(AND(Daten!$F$3=TRUE,Zusammenfassung!J156>Preise!$A$70),1,0)+IF(AND(G156=\"D\",K156>Preise!$A$54),1,0)+IF(AND(OR(G156=\"B\",G156=\"C\"),I156<>\"XPS\",AND(Eingabeliste!AC156>50,Daten!F$3=FALSE)),1,0)+IF(AND(OR(G156=\"B\",G156=\"C\"),I156=\"XPS\",Eingabeliste!AC156>100),1,0))","v":0}]
[{"$f":"IF(Eingabeliste!A157=\"\",0,1)","v":0},{"$f":"Eingabeliste!B157","v":0},{"$f":"IFERROR(ROUND(Eingabeliste!J157/(COS((Eingabeliste!K157*PI())/180))-(SIN((Eingabeliste!K157*PI())/180)*2)+(Eingabeliste!M157-2.74)+IF(Eingabeliste!L157=0,0,Eingabeliste!L157-2.74)+IF(Eingabeliste!N157=Daten!N$6,0,12-1.86),1),\"\")","v":""},{"$f":"IF(OR(B157=0,Eingabeliste!E157=\"\"),0,MAX(Eingabeliste!E157,1000)*B157)","v":0},{"$f":"IFERROR((ROUNDUP(Eingabeliste!E157/Daten!$K$15,0)-1)*B157,\"\")","v":""},{"$f":"IF(Eingabeliste!N157=\"Pulverbesch.\",Daten!$D$1,Eingabeliste!N157)","v":""},{"$f":"Eingabeliste!AB157","v":""},{"$f":"Eingabeliste!AC157","v":""},{"$f":"Eingabeliste!AA157","v":""},{"$f":"Eingabeliste!I157","v":""},{"$f":"Eingabeliste!G157","v":""},{"$f":"Eingabeliste!H157","v":""},null,null,null,null,null,null,null,null,{"$f":"IF(OR(Eingabeliste!O157=\"Flexila PU\",Eingabeliste!O157=\"Flexila STB\"),Eingabeliste!B157,0)+IF(OR(Eingabeliste!S157=\"Flexila PU\",Eingabeliste!S157=\"Flexila STB\"),Eingabeliste!B157,0)","v":0},null,null,null,null,null,null,null,null,null,null,null,null,null,null,null,null,null,null,null,null,null,null,null,null,0,null,null,null,{"$f":"IF(A157=0,0,IF(C157>$C$2,1,0)+IF(AND(Daten!$F$3=TRUE,Zusammenfassung!J157>Preise!$A$70),1,0)+IF(AND(G157=\"D\",K157>Preise!$A$54),1,0)+IF(AND(OR(G157=\"B\",G157=\"C\"),I157<>\"XPS\",AND(Eingabeliste!AC157>50,Daten!F$3=FALSE)),1,0)+IF(AND(OR(G157=\"B\",G157=\"C\"),I157=\"XPS\",Eingabeliste!AC157>100),1,0))","v":0}]
[{"$f":"IF(Eingabeliste!A158=\"\",0,1)","v":0},{"$f":"Eingabeliste!B158","v":0},{"$f":"IFERROR(ROUND(Eingabeliste!J158/(COS((Eingabeliste!K158*PI())/180))-(SIN((Eingabeliste!K158*PI())/180)*2)+(Eingabeliste!M158-2.74)+IF(Eingabeliste!L158=0,0,Eingabeliste!L158-2.74)+IF(Eingabeliste!N158=Daten!N$6,0,12-1.86),1),\"\")","v":""},{"$f":"IF(OR(B158=0,Eingabeliste!E158=\"\"),0,MAX(Eingabeliste!E158,1000)*B158)","v":0},{"$f":"IFERROR((ROUNDUP(Eingabeliste!E158/Daten!$K$15,0)-1)*B158,\"\")","v":""},{"$f":"IF(Eingabeliste!N158=\"Pulverbesch.\",Daten!$D$1,Eingabeliste!N158)","v":""},{"$f":"Eingabeliste!AB158","v":""},{"$f":"Eingabeliste!AC158","v":""},{"$f":"Eingabeliste!AA158","v":""},{"$f":"Eingabeliste!I158","v":""},{"$f":"Eingabeliste!G158","v":""},{"$f":"Eingabeliste!H158","v":""},null,null,null,null,null,null,null,null,{"$f":"IF(OR(Eingabeliste!O158=\"Flexila PU\",Eingabeliste!O158=\"Flexila STB\"),Eingabeliste!B158,0)+IF(OR(Eingabeliste!S158=\"Flexila PU\",Eingabeliste!S158=\"Flexila STB\"),Eingabeliste!B158,0)","v":0},null,null,null,null,null,null,null,null,null,null,null,null,null,null,null,null,null,null,null,null,null,null,null,null,0,null,null,null,{"$f":"IF(A158=0,0,IF(C158>$C$2,1,0)+IF(AND(Daten!$F$3=TRUE,Zusammenfassung!J158>Preise!$A$70),1,0)+IF(AND(G158=\"D\",K158>Preise!$A$54),1,0)+IF(AND(OR(G158=\"B\",G158=\"C\"),I158<>\"XPS\",AND(Eingabeliste!AC158>50,Daten!F$3=FALSE)),1,0)+IF(AND(OR(G158=\"B\",G158=\"C\"),I158=\"XPS\",Eingabeliste!AC158>100),1,0))","v":0}]
[{"$f":"IF(Eingabeliste!A159=\"\",0,1)","v":0},{"$f":"Eingabeliste!B159","v":0},{"$f":"IFERROR(ROUND(Eingabeliste!J159/(COS((Eingabeliste!K159*PI())/180))-(SIN((Eingabeliste!K159*PI())/180)*2)+(Eingabeliste!M159-2.74)+IF(Eingabeliste!L159=0,0,Eingabeliste!L159-2.74)+IF(Eingabeliste!N159=Daten!N$6,0,12-1.86),1),\"\")","v":""},{"$f":"IF(OR(B159=0,Eingabeliste!E159=\"\"),0,MAX(Eingabeliste!E159,1000)*B159)","v":0},{"$f":"IFERROR((ROUNDUP(Eingabeliste!E159/Daten!$K$15,0)-1)*B159,\"\")","v":""},{"$f":"IF(Eingabeliste!N159=\"Pulverbesch.\",Daten!$D$1,Eingabeliste!N159)","v":""},{"$f":"Eingabeliste!AB159","v":""},{"$f":"Eingabeliste!AC159","v":""},{"$f":"Eingabeliste!AA159","v":""},{"$f":"Eingabeliste!I159","v":""},{"$f":"Eingabeliste!G159","v":""},{"$f":"Eingabeliste!H159","v":""},null,null,null,null,null,null,null,null,{"$f":"IF(OR(Eingabeliste!O159=\"Flexila PU\",Eingabeliste!O159=\"Flexila STB\"),Eingabeliste!B159,0)+IF(OR(Eingabeliste!S159=\"Flexila PU\",Eingabeliste!S159=\"Flexila STB\"),Eingabeliste!B159,0)","v":0},null,null,null,null,null,null,null,null,null,null,null,null,null,null,null,null,null,null,null,null,null,null,null,null,0,null,null,null,{"$f":"IF(A159=0,0,IF(C159>$C$2,1,0)+IF(AND(Daten!$F$3=TRUE,Zusammenfassung!J159>Preise!$A$70),1,0)+IF(AND(G159=\"D\",K159>Preise!$A$54),1,0)+IF(AND(OR(G159=\"B\",G159=\"C\"),I159<>\"XPS\",AND(Eingabeliste!AC159>50,Daten!F$3=FALSE)),1,0)+IF(AND(OR(G159=\"B\",G159=\"C\"),I159=\"XPS\",Eingabeliste!AC159>100),1,0))","v":0}]
[{"$f":"IF(Eingabeliste!A160=\"\",0,1)","v":0},{"$f":"Eingabeliste!B160","v":0},{"$f":"IFERROR(ROUND(Eingabeliste!J160/(COS((Eingabeliste!K160*PI())/180))-(SIN((Eingabeliste!K160*PI())/180)*2)+(Eingabeliste!M160-2.74)+IF(Eingabeliste!L160=0,0,Eingabeliste!L160-2.74)+IF(Eingabeliste!N160=Daten!N$6,0,12-1.86),1),\"\")","v":""},{"$f":"IF(OR(B160=0,Eingabeliste!E160=\"\"),0,MAX(Eingabeliste!E160,1000)*B160)","v":0},{"$f":"IFERROR((ROUNDUP(Eingabeliste!E160/Daten!$K$15,0)-1)*B160,\"\")","v":""},{"$f":"IF(Eingabeliste!N160=\"Pulverbesch.\",Daten!$D$1,Eingabeliste!N160)","v":""},{"$f":"Eingabeliste!AB160","v":""},{"$f":"Eingabeliste!AC160","v":""},{"$f":"Eingabeliste!AA160","v":""},{"$f":"Eingabeliste!I160","v":""},{"$f":"Eingabeliste!G160","v":""},{"$f":"Eingabeliste!H160","v":""},null,null,null,null,null,null,null,null,{"$f":"IF(OR(Eingabeliste!O160=\"Flexila PU\",Eingabeliste!O160=\"Flexila STB\"),Eingabeliste!B160,0)+IF(OR(Eingabeliste!S160=\"Flexila PU\",Eingabeliste!S160=\"Flexila STB\"),Eingabeliste!B160,0)","v":0},null,null,null,null,null,null,null,null,null,null,null,null,null,null,null,null,null,null,null,null,null,null,null,null,0,null,null,null,{"$f":"IF(A160=0,0,IF(C160>$C$2,1,0)+IF(AND(Daten!$F$3=TRUE,Zusammenfassung!J160>Preise!$A$70),1,0)+IF(AND(G160=\"D\",K160>Preise!$A$54),1,0)+IF(AND(OR(G160=\"B\",G160=\"C\"),I160<>\"XPS\",AND(Eingabeliste!AC160>50,Daten!F$3=FALSE)),1,0)+IF(AND(OR(G160=\"B\",G160=\"C\"),I160=\"XPS\",Eingabeliste!AC160>100),1,0))","v":0}]
[{"$f":"IF(Eingabeliste!A161=\"\",0,1)","v":0},{"$f":"Eingabeliste!B161","v":0},{"$f":"IFERROR(ROUND(Eingabeliste!J161/(COS((Eingabeliste!K161*PI())/180))-(SIN((Eingabeliste!K161*PI())/180)*2)+(Eingabeliste!M161-2.74)+IF(Eingabeliste!L161=0,0,Eingabeliste!L161-2.74)+IF(Eingabeliste!N161=Daten!N$6,0,12-1.86),1),\"\")","v":""},{"$f":"IF(OR(B161=0,Eingabeliste!E161=\"\"),0,MAX(Eingabeliste!E161,1000)*B161)","v":0},{"$f":"IFERROR((ROUNDUP(Eingabeliste!E161/Daten!$K$15,0)-1)*B161,\"\")","v":""},{"$f":"IF(Eingabeliste!N161=\"Pulverbesch.\",Daten!$D$1,Eingabeliste!N161)","v":""},{"$f":"Eingabeliste!AB161","v":""},{"$f":"Eingabeliste!AC161","v":""},{"$f":"Eingabeliste!AA161","v":""},{"$f":"Eingabeliste!I161","v":""},{"$f":"Eingabeliste!G161","v":""},{"$f":"Eingabeliste!H161","v":""},null,null,null,null,null,null,null,null,{"$f":"IF(OR(Eingabeliste!O161=\"Flexila PU\",Eingabeliste!O161=\"Flexila STB\"),Eingabeliste!B161,0)+IF(OR(Eingabeliste!S161=\"Flexila PU\",Eingabeliste!S161=\"Flexila STB\"),Eingabeliste!B161,0)","v":0},null,null,null,null,null,null,null,null,null,null,null,null,null,null,null,null,null,null,null,null,null,null,null,null,0,null,null,null,{"$f":"IF(A161=0,0,IF(C161>$C$2,1,0)+IF(AND(Daten!$F$3=TRUE,Zusammenfassung!J161>Preise!$A$70),1,0)+IF(AND(G161=\"D\",K161>Preise!$A$54),1,0)+IF(AND(OR(G161=\"B\",G161=\"C\"),I161<>\"XPS\",AND(Eingabeliste!AC161>50,Daten!F$3=FALSE)),1,0)+IF(AND(OR(G161=\"B\",G161=\"C\"),I161=\"XPS\",Eingabeliste!AC161>100),1,0))","v":0}]
[{"$f":"IF(Eingabeliste!A162=\"\",0,1)","v":0},{"$f":"Eingabeliste!B162","v":0},{"$f":"IFERROR(ROUND(Eingabeliste!J162/(COS((Eingabeliste!K162*PI())/180))-(SIN((Eingabeliste!K162*PI())/180)*2)+(Eingabeliste!M162-2.74)+IF(Eingabeliste!L162=0,0,Eingabeliste!L162-2.74)+IF(Eingabeliste!N162=Daten!N$6,0,12-1.86),1),\"\")","v":""},{"$f":"IF(OR(B162=0,Eingabeliste!E162=\"\"),0,MAX(Eingabeliste!E162,1000)*B162)","v":0},{"$f":"IFERROR((ROUNDUP(Eingabeliste!E162/Daten!$K$15,0)-1)*B162,\"\")","v":""},{"$f":"IF(Eingabeliste!N162=\"Pulverbesch.\",Daten!$D$1,Eingabeliste!N162)","v":""},{"$f":"Eingabeliste!AB162","v":""},{"$f":"Eingabeliste!AC162","v":""},{"$f":"Eingabeliste!AA162","v":""},{"$f":"Eingabeliste!I162","v":""},{"$f":"Eingabeliste!G162","v":""},{"$f":"Eingabeliste!H162","v":""},null,null,null,null,null,null,null,null,{"$f":"IF(OR(Eingabeliste!O162=\"Flexila PU\",Eingabeliste!O162=\"Flexila STB\"),Eingabeliste!B162,0)+IF(OR(Eingabeliste!S162=\"Flexila PU\",Eingabeliste!S162=\"Flexila STB\"),Eingabeliste!B162,0)","v":0},null,null,null,null,null,null,null,null,null,null,null,null,null,null,null,null,null,null,null,null,null,null,null,null,0,null,null,null,{"$f":"IF(A162=0,0,IF(C162>$C$2,1,0)+IF(AND(Daten!$F$3=TRUE,Zusammenfassung!J162>Preise!$A$70),1,0)+IF(AND(G162=\"D\",K162>Preise!$A$54),1,0)+IF(AND(OR(G162=\"B\",G162=\"C\"),I162<>\"XPS\",AND(Eingabeliste!AC162>50,Daten!F$3=FALSE)),1,0)+IF(AND(OR(G162=\"B\",G162=\"C\"),I162=\"XPS\",Eingabeliste!AC162>100),1,0))","v":0}]
[{"$f":"IF(Eingabeliste!A163=\"\",0,1)","v":0},{"$f":"Eingabeliste!B163","v":0},{"$f":"IFERROR(ROUND(Eingabeliste!J163/(COS((Eingabeliste!K163*PI())/180))-(SIN((Eingabeliste!K163*PI())/180)*2)+(Eingabeliste!M163-2.74)+IF(Eingabeliste!L163=0,0,Eingabeliste!L163-2.74)+IF(Eingabeliste!N163=Daten!N$6,0,12-1.86),1),\"\")","v":""},{"$f":"IF(OR(B163=0,Eingabeliste!E163=\"\"),0,MAX(Eingabeliste!E163,1000)*B163)","v":0},{"$f":"IFERROR((ROUNDUP(Eingabeliste!E163/Daten!$K$15,0)-1)*B163,\"\")","v":""},{"$f":"IF(Eingabeliste!N163=\"Pulverbesch.\",Daten!$D$1,Eingabeliste!N163)","v":""},{"$f":"Eingabeliste!AB163","v":""},{"$f":"Eingabeliste!AC163","v":""},{"$f":"Eingabeliste!AA163","v":""},{"$f":"Eingabeliste!I163","v":""},{"$f":"Eingabeliste!G163","v":""},{"$f":"Eingabeliste!H163","v":""},null,null,null,null,null,null,null,null,{"$f":"IF(OR(Eingabeliste!O163=\"Flexila PU\",Eingabeliste!O163=\"Flexila STB\"),Eingabeliste!B163,0)+IF(OR(Eingabeliste!S163=\"Flexila PU\",Eingabeliste!S163=\"Flexila STB\"),Eingabeliste!B163,0)","v":0},null,null,null,null,null,null,null,null,null,null,null,null,null,null,null,null,null,null,null,null,null,null,null,null,0,null,null,null,{"$f":"IF(A163=0,0,IF(C163>$C$2,1,0)+IF(AND(Daten!$F$3=TRUE,Zusammenfassung!J163>Preise!$A$70),1,0)+IF(AND(G163=\"D\",K163>Preise!$A$54),1,0)+IF(AND(OR(G163=\"B\",G163=\"C\"),I163<>\"XPS\",AND(Eingabeliste!AC163>50,Daten!F$3=FALSE)),1,0)+IF(AND(OR(G163=\"B\",G163=\"C\"),I163=\"XPS\",Eingabeliste!AC163>100),1,0))","v":0}]
[{"$f":"IF(Eingabeliste!A164=\"\",0,1)","v":0},{"$f":"Eingabeliste!B164","v":0},{"$f":"IFERROR(ROUND(Eingabeliste!J164/(COS((Eingabeliste!K164*PI())/180))-(SIN((Eingabeliste!K164*PI())/180)*2)+(Eingabeliste!M164-2.74)+IF(Eingabeliste!L164=0,0,Eingabeliste!L164-2.74)+IF(Eingabeliste!N164=Daten!N$6,0,12-1.86),1),\"\")","v":""},{"$f":"IF(OR(B164=0,Eingabeliste!E164=\"\"),0,MAX(Eingabeliste!E164,1000)*B164)","v":0},{"$f":"IFERROR((ROUNDUP(Eingabeliste!E164/Daten!$K$15,0)-1)*B164,\"\")","v":""},{"$f":"IF(Eingabeliste!N164=\"Pulverbesch.\",Daten!$D$1,Eingabeliste!N164)","v":""},{"$f":"Eingabeliste!AB164","v":""},{"$f":"Eingabeliste!AC164","v":""},{"$f":"Eingabeliste!AA164","v":""},{"$f":"Eingabeliste!I164","v":""},{"$f":"Eingabeliste!G164","v":""},{"$f":"Eingabeliste!H164","v":""},null,null,null,null,null,null,null,null,{"$f":"IF(OR(Eingabeliste!O164=\"Flexila PU\",Eingabeliste!O164=\"Flexila STB\"),Eingabeliste!B164,0)+IF(OR(Eingabeliste!S164=\"Flexila PU\",Eingabeliste!S164=\"Flexila STB\"),Eingabeliste!B164,0)","v":0},null,null,null,null,null,null,null,null,null,null,null,null,null,null,null,null,null,null,null,null,null,null,null,null,0,null,null,null,{"$f":"IF(A164=0,0,IF(C164>$C$2,1,0)+IF(AND(Daten!$F$3=TRUE,Zusammenfassung!J164>Preise!$A$70),1,0)+IF(AND(G164=\"D\",K164>Preise!$A$54),1,0)+IF(AND(OR(G164=\"B\",G164=\"C\"),I164<>\"XPS\",AND(Eingabeliste!AC164>50,Daten!F$3=FALSE)),1,0)+IF(AND(OR(G164=\"B\",G164=\"C\"),I164=\"XPS\",Eingabeliste!AC164>100),1,0))","v":0}]
[{"$f":"IF(Eingabeliste!A165=\"\",0,1)","v":0},{"$f":"Eingabeliste!B165","v":0},{"$f":"IFERROR(ROUND(Eingabeliste!J165/(COS((Eingabeliste!K165*PI())/180))-(SIN((Eingabeliste!K165*PI())/180)*2)+(Eingabeliste!M165-2.74)+IF(Eingabeliste!L165=0,0,Eingabeliste!L165-2.74)+IF(Eingabeliste!N165=Daten!N$6,0,12-1.86),1),\"\")","v":""},{"$f":"IF(OR(B165=0,Eingabeliste!E165=\"\"),0,MAX(Eingabeliste!E165,1000)*B165)","v":0},{"$f":"IFERROR((ROUNDUP(Eingabeliste!E165/Daten!$K$15,0)-1)*B165,\"\")","v":""},{"$f":"IF(Eingabeliste!N165=\"Pulverbesch.\",Daten!$D$1,Eingabeliste!N165)","v":""},{"$f":"Eingabeliste!AB165","v":""},{"$f":"Eingabeliste!AC165","v":""},{"$f":"Eingabeliste!AA165","v":""},{"$f":"Eingabeliste!I165","v":""},{"$f":"Eingabeliste!G165","v":""},{"$f":"Eingabeliste!H165","v":""},null,null,null,null,null,null,null,null,{"$f":"IF(OR(Eingabeliste!O165=\"Flexila PU\",Eingabeliste!O165=\"Flexila STB\"),Eingabeliste!B165,0)+IF(OR(Eingabeliste!S165=\"Flexila PU\",Eingabeliste!S165=\"Flexila STB\"),Eingabeliste!B165,0)","v":0},null,null,null,null,null,null,null,null,null,null,null,null,null,null,null,null,null,null,null,null,null,null,null,null,0,null,null,null,{"$f":"IF(A165=0,0,IF(C165>$C$2,1,0)+IF(AND(Daten!$F$3=TRUE,Zusammenfassung!J165>Preise!$A$70),1,0)+IF(AND(G165=\"D\",K165>Preise!$A$54),1,0)+IF(AND(OR(G165=\"B\",G165=\"C\"),I165<>\"XPS\",AND(Eingabeliste!AC165>50,Daten!F$3=FALSE)),1,0)+IF(AND(OR(G165=\"B\",G165=\"C\"),I165=\"XPS\",Eingabeliste!AC165>100),1,0))","v":0}]
[{"$f":"IF(Eingabeliste!A166=\"\",0,1)","v":0},{"$f":"Eingabeliste!B166","v":0},{"$f":"IFERROR(ROUND(Eingabeliste!J166/(COS((Eingabeliste!K166*PI())/180))-(SIN((Eingabeliste!K166*PI())/180)*2)+(Eingabeliste!M166-2.74)+IF(Eingabeliste!L166=0,0,Eingabeliste!L166-2.74)+IF(Eingabeliste!N166=Daten!N$6,0,12-1.86),1),\"\")","v":""},{"$f":"IF(OR(B166=0,Eingabeliste!E166=\"\"),0,MAX(Eingabeliste!E166,1000)*B166)","v":0},{"$f":"IFERROR((ROUNDUP(Eingabeliste!E166/Daten!$K$15,0)-1)*B166,\"\")","v":""},{"$f":"IF(Eingabeliste!N166=\"Pulverbesch.\",Daten!$D$1,Eingabeliste!N166)","v":""},{"$f":"Eingabeliste!AB166","v":""},{"$f":"Eingabeliste!AC166","v":""},{"$f":"Eingabeliste!AA166","v":""},{"$f":"Eingabeliste!I166","v":""},{"$f":"Eingabeliste!G166","v":""},{"$f":"Eingabeliste!H166","v":""},null,null,null,null,null,null,null,null,{"$f":"IF(OR(Eingabeliste!O166=\"Flexila PU\",Eingabeliste!O166=\"Flexila STB\"),Eingabeliste!B166,0)+IF(OR(Eingabeliste!S166=\"Flexila PU\",Eingabeliste!S166=\"Flexila STB\"),Eingabeliste!B166,0)","v":0},null,null,null,null,null,null,null,null,null,null,null,null,null,null,null,null,null,null,null,null,null,null,null,null,0,null,null,null,{"$f":"IF(A166=0,0,IF(C166>$C$2,1,0)+IF(AND(Daten!$F$3=TRUE,Zusammenfassung!J166>Preise!$A$70),1,0)+IF(AND(G166=\"D\",K166>Preise!$A$54),1,0)+IF(AND(OR(G166=\"B\",G166=\"C\"),I166<>\"XPS\",AND(Eingabeliste!AC166>50,Daten!F$3=FALSE)),1,0)+IF(AND(OR(G166=\"B\",G166=\"C\"),I166=\"XPS\",Eingabeliste!AC166>100),1,0))","v":0}]
[{"$f":"IF(Eingabeliste!A167=\"\",0,1)","v":0},{"$f":"Eingabeliste!B167","v":0},{"$f":"IFERROR(ROUND(Eingabeliste!J167/(COS((Eingabeliste!K167*PI())/180))-(SIN((Eingabeliste!K167*PI())/180)*2)+(Eingabeliste!M167-2.74)+IF(Eingabeliste!L167=0,0,Eingabeliste!L167-2.74)+IF(Eingabeliste!N167=Daten!N$6,0,12-1.86),1),\"\")","v":""},{"$f":"IF(OR(B167=0,Eingabeliste!E167=\"\"),0,MAX(Eingabeliste!E167,1000)*B167)","v":0},{"$f":"IFERROR((ROUNDUP(Eingabeliste!E167/Daten!$K$15,0)-1)*B167,\"\")","v":""},{"$f":"IF(Eingabeliste!N167=\"Pulverbesch.\",Daten!$D$1,Eingabeliste!N167)","v":""},{"$f":"Eingabeliste!AB167","v":""},{"$f":"Eingabeliste!AC167","v":""},{"$f":"Eingabeliste!AA167","v":""},{"$f":"Eingabeliste!I167","v":""},{"$f":"Eingabeliste!G167","v":""},{"$f":"Eingabeliste!H167","v":""},null,null,null,null,null,null,null,null,{"$f":"IF(OR(Eingabeliste!O167=\"Flexila PU\",Eingabeliste!O167=\"Flexila STB\"),Eingabeliste!B167,0)+IF(OR(Eingabeliste!S167=\"Flexila PU\",Eingabeliste!S167=\"Flexila STB\"),Eingabeliste!B167,0)","v":0},null,null,null,null,null,null,null,null,null,null,null,null,null,null,null,null,null,null,null,null,null,null,null,null,0,null,null,null,{"$f":"IF(A167=0,0,IF(C167>$C$2,1,0)+IF(AND(Daten!$F$3=TRUE,Zusammenfassung!J167>Preise!$A$70),1,0)+IF(AND(G167=\"D\",K167>Preise!$A$54),1,0)+IF(AND(OR(G167=\"B\",G167=\"C\"),I167<>\"XPS\",AND(Eingabeliste!AC167>50,Daten!F$3=FALSE)),1,0)+IF(AND(OR(G167=\"B\",G167=\"C\"),I167=\"XPS\",Eingabeliste!AC167>100),1,0))","v":0}]
[{"$f":"IF(Eingabeliste!A168=\"\",0,1)","v":0},{"$f":"Eingabeliste!B168","v":0},{"$f":"IFERROR(ROUND(Eingabeliste!J168/(COS((Eingabeliste!K168*PI())/180))-(SIN((Eingabeliste!K168*PI())/180)*2)+(Eingabeliste!M168-2.74)+IF(Eingabeliste!L168=0,0,Eingabeliste!L168-2.74)+IF(Eingabeliste!N168=Daten!N$6,0,12-1.86),1),\"\")","v":""},{"$f":"IF(OR(B168=0,Eingabeliste!E168=\"\"),0,MAX(Eingabeliste!E168,1000)*B168)","v":0},{"$f":"IFERROR((ROUNDUP(Eingabeliste!E168/Daten!$K$15,0)-1)*B168,\"\")","v":""},{"$f":"IF(Eingabeliste!N168=\"Pulverbesch.\",Daten!$D$1,Eingabeliste!N168)","v":""},{"$f":"Eingabeliste!AB168","v":""},{"$f":"Eingabeliste!AC168","v":""},{"$f":"Eingabeliste!AA168","v":""},{"$f":"Eingabeliste!I168","v":""},{"$f":"Eingabeliste!G168","v":""},{"$f":"Eingabeliste!H168","v":""},null,null,null,null,null,null,null,null,{"$f":"IF(OR(Eingabeliste!O168=\"Flexila PU\",Eingabeliste!O168=\"Flexila STB\"),Eingabeliste!B168,0)+IF(OR(Eingabeliste!S168=\"Flexila PU\",Eingabeliste!S168=\"Flexila STB\"),Eingabeliste!B168,0)","v":0},null,null,null,null,null,null,null,null,null,null,null,null,null,null,null,null,null,null,null,null,null,null,null,null,0,null,null,null,{"$f":"IF(A168=0,0,IF(C168>$C$2,1,0)+IF(AND(Daten!$F$3=TRUE,Zusammenfassung!J168>Preise!$A$70),1,0)+IF(AND(G168=\"D\",K168>Preise!$A$54),1,0)+IF(AND(OR(G168=\"B\",G168=\"C\"),I168<>\"XPS\",AND(Eingabeliste!AC168>50,Daten!F$3=FALSE)),1,0)+IF(AND(OR(G168=\"B\",G168=\"C\"),I168=\"XPS\",Eingabeliste!AC168>100),1,0))","v":0}]
[{"$f":"IF(Eingabeliste!A169=\"\",0,1)","v":0},{"$f":"Eingabeliste!B169","v":0},{"$f":"IFERROR(ROUND(Eingabeliste!J169/(COS((Eingabeliste!K169*PI())/180))-(SIN((Eingabeliste!K169*PI())/180)*2)+(Eingabeliste!M169-2.74)+IF(Eingabeliste!L169=0,0,Eingabeliste!L169-2.74)+IF(Eingabeliste!N169=Daten!N$6,0,12-1.86),1),\"\")","v":""},{"$f":"IF(OR(B169=0,Eingabeliste!E169=\"\"),0,MAX(Eingabeliste!E169,1000)*B169)","v":0},{"$f":"IFERROR((ROUNDUP(Eingabeliste!E169/Daten!$K$15,0)-1)*B169,\"\")","v":""},{"$f":"IF(Eingabeliste!N169=\"Pulverbesch.\",Daten!$D$1,Eingabeliste!N169)","v":""},{"$f":"Eingabeliste!AB169","v":""},{"$f":"Eingabeliste!AC169","v":""},{"$f":"Eingabeliste!AA169","v":""},{"$f":"Eingabeliste!I169","v":""},{"$f":"Eingabeliste!G169","v":""},{"$f":"Eingabeliste!H169","v":""},null,null,null,null,null,null,null,null,{"$f":"IF(OR(Eingabeliste!O169=\"Flexila PU\",Eingabeliste!O169=\"Flexila STB\"),Eingabeliste!B169,0)+IF(OR(Eingabeliste!S169=\"Flexila PU\",Eingabeliste!S169=\"Flexila STB\"),Eingabeliste!B169,0)","v":0},null,null,null,null,null,null,null,null,null,null,null,null,null,null,null,null,null,null,null,null,null,null,null,null,0,null,null,null,{"$f":"IF(A169=0,0,IF(C169>$C$2,1,0)+IF(AND(Daten!$F$3=TRUE,Zusammenfassung!J169>Preise!$A$70),1,0)+IF(AND(G169=\"D\",K169>Preise!$A$54),1,0)+IF(AND(OR(G169=\"B\",G169=\"C\"),I169<>\"XPS\",AND(Eingabeliste!AC169>50,Daten!F$3=FALSE)),1,0)+IF(AND(OR(G169=\"B\",G169=\"C\"),I169=\"XPS\",Eingabeliste!AC169>100),1,0))","v":0}]
[{"$f":"IF(Eingabeliste!A170=\"\",0,1)","v":0},{"$f":"Eingabeliste!B170","v":0},{"$f":"IFERROR(ROUND(Eingabeliste!J170/(COS((Eingabeliste!K170*PI())/180))-(SIN((Eingabeliste!K170*PI())/180)*2)+(Eingabeliste!M170-2.74)+IF(Eingabeliste!L170=0,0,Eingabeliste!L170-2.74)+IF(Eingabeliste!N170=Daten!N$6,0,12-1.86),1),\"\")","v":""},{"$f":"IF(OR(B170=0,Eingabeliste!E170=\"\"),0,MAX(Eingabeliste!E170,1000)*B170)","v":0},{"$f":"IFERROR((ROUNDUP(Eingabeliste!E170/Daten!$K$15,0)-1)*B170,\"\")","v":""},{"$f":"IF(Eingabeliste!N170=\"Pulverbesch.\",Daten!$D$1,Eingabeliste!N170)","v":""},{"$f":"Eingabeliste!AB170","v":""},{"$f":"Eingabeliste!AC170","v":""},{"$f":"Eingabeliste!AA170","v":""},{"$f":"Eingabeliste!I170","v":""},{"$f":"Eingabeliste!G170","v":""},{"$f":"Eingabeliste!H170","v":""},null,null,null,null,null,null,null,null,{"$f":"IF(OR(Eingabeliste!O170=\"Flexila PU\",Eingabeliste!O170=\"Flexila STB\"),Eingabeliste!B170,0)+IF(OR(Eingabeliste!S170=\"Flexila PU\",Eingabeliste!S170=\"Flexila STB\"),Eingabeliste!B170,0)","v":0},null,null,null,null,null,null,null,null,null,null,null,null,null,null,null,null,null,null,null,null,null,null,null,null,0,null,null,null,{"$f":"IF(A170=0,0,IF(C170>$C$2,1,0)+IF(AND(Daten!$F$3=TRUE,Zusammenfassung!J170>Preise!$A$70),1,0)+IF(AND(G170=\"D\",K170>Preise!$A$54),1,0)+IF(AND(OR(G170=\"B\",G170=\"C\"),I170<>\"XPS\",AND(Eingabeliste!AC170>50,Daten!F$3=FALSE)),1,0)+IF(AND(OR(G170=\"B\",G170=\"C\"),I170=\"XPS\",Eingabeliste!AC170>100),1,0))","v":0}]
[{"$f":"IF(Eingabeliste!A171=\"\",0,1)","v":0},{"$f":"Eingabeliste!B171","v":0},{"$f":"IFERROR(ROUND(Eingabeliste!J171/(COS((Eingabeliste!K171*PI())/180))-(SIN((Eingabeliste!K171*PI())/180)*2)+(Eingabeliste!M171-2.74)+IF(Eingabeliste!L171=0,0,Eingabeliste!L171-2.74)+IF(Eingabeliste!N171=Daten!N$6,0,12-1.86),1),\"\")","v":""},{"$f":"IF(OR(B171=0,Eingabeliste!E171=\"\"),0,MAX(Eingabeliste!E171,1000)*B171)","v":0},{"$f":"IFERROR((ROUNDUP(Eingabeliste!E171/Daten!$K$15,0)-1)*B171,\"\")","v":""},{"$f":"IF(Eingabeliste!N171=\"Pulverbesch.\",Daten!$D$1,Eingabeliste!N171)","v":""},{"$f":"Eingabeliste!AB171","v":""},{"$f":"Eingabeliste!AC171","v":""},{"$f":"Eingabeliste!AA171","v":""},{"$f":"Eingabeliste!I171","v":""},{"$f":"Eingabeliste!G171","v":""},{"$f":"Eingabeliste!H171","v":""},null,null,null,null,null,null,null,null,{"$f":"IF(OR(Eingabeliste!O171=\"Flexila PU\",Eingabeliste!O171=\"Flexila STB\"),Eingabeliste!B171,0)+IF(OR(Eingabeliste!S171=\"Flexila PU\",Eingabeliste!S171=\"Flexila STB\"),Eingabeliste!B171,0)","v":0},null,null,null,null,null,null,null,null,null,null,null,null,null,null,null,null,null,null,null,null,null,null,null,null,0,null,null,null,{"$f":"IF(A171=0,0,IF(C171>$C$2,1,0)+IF(AND(Daten!$F$3=TRUE,Zusammenfassung!J171>Preise!$A$70),1,0)+IF(AND(G171=\"D\",K171>Preise!$A$54),1,0)+IF(AND(OR(G171=\"B\",G171=\"C\"),I171<>\"XPS\",AND(Eingabeliste!AC171>50,Daten!F$3=FALSE)),1,0)+IF(AND(OR(G171=\"B\",G171=\"C\"),I171=\"XPS\",Eingabeliste!AC171>100),1,0))","v":0}]
[{"$f":"IF(Eingabeliste!A172=\"\",0,1)","v":0},{"$f":"Eingabeliste!B172","v":0},{"$f":"IFERROR(ROUND(Eingabeliste!J172/(COS((Eingabeliste!K172*PI())/180))-(SIN((Eingabeliste!K172*PI())/180)*2)+(Eingabeliste!M172-2.74)+IF(Eingabeliste!L172=0,0,Eingabeliste!L172-2.74)+IF(Eingabeliste!N172=Daten!N$6,0,12-1.86),1),\"\")","v":""},{"$f":"IF(OR(B172=0,Eingabeliste!E172=\"\"),0,MAX(Eingabeliste!E172,1000)*B172)","v":0},{"$f":"IFERROR((ROUNDUP(Eingabeliste!E172/Daten!$K$15,0)-1)*B172,\"\")","v":""},{"$f":"IF(Eingabeliste!N172=\"Pulverbesch.\",Daten!$D$1,Eingabeliste!N172)","v":""},{"$f":"Eingabeliste!AB172","v":""},{"$f":"Eingabeliste!AC172","v":""},{"$f":"Eingabeliste!AA172","v":""},{"$f":"Eingabeliste!I172","v":""},{"$f":"Eingabeliste!G172","v":""},{"$f":"Eingabeliste!H172","v":""},null,null,null,null,null,null,null,null,{"$f":"IF(OR(Eingabeliste!O172=\"Flexila PU\",Eingabeliste!O172=\"Flexila STB\"),Eingabeliste!B172,0)+IF(OR(Eingabeliste!S172=\"Flexila PU\",Eingabeliste!S172=\"Flexila STB\"),Eingabeliste!B172,0)","v":0},null,null,null,null,null,null,null,null,null,null,null,null,null,null,null,null,null,null,null,null,null,null,null,null,0,null,null,null,{"$f":"IF(A172=0,0,IF(C172>$C$2,1,0)+IF(AND(Daten!$F$3=TRUE,Zusammenfassung!J172>Preise!$A$70),1,0)+IF(AND(G172=\"D\",K172>Preise!$A$54),1,0)+IF(AND(OR(G172=\"B\",G172=\"C\"),I172<>\"XPS\",AND(Eingabeliste!AC172>50,Daten!F$3=FALSE)),1,0)+IF(AND(OR(G172=\"B\",G172=\"C\"),I172=\"XPS\",Eingabeliste!AC172>100),1,0))","v":0}]
[{"$f":"IF(Eingabeliste!A173=\"\",0,1)","v":0},{"$f":"Eingabeliste!B173","v":0},{"$f":"IFERROR(ROUND(Eingabeliste!J173/(COS((Eingabeliste!K173*PI())/180))-(SIN((Eingabeliste!K173*PI())/180)*2)+(Eingabeliste!M173-2.74)+IF(Eingabeliste!L173=0,0,Eingabeliste!L173-2.74)+IF(Eingabeliste!N173=Daten!N$6,0,12-1.86),1),\"\")","v":""},{"$f":"IF(OR(B173=0,Eingabeliste!E173=\"\"),0,MAX(Eingabeliste!E173,1000)*B173)","v":0},{"$f":"IFERROR((ROUNDUP(Eingabeliste!E173/Daten!$K$15,0)-1)*B173,\"\")","v":""},{"$f":"IF(Eingabeliste!N173=\"Pulverbesch.\",Daten!$D$1,Eingabeliste!N173)","v":""},{"$f":"Eingabeliste!AB173","v":""},{"$f":"Eingabeliste!AC173","v":""},{"$f":"Eingabeliste!AA173","v":""},{"$f":"Eingabeliste!I173","v":""},{"$f":"Eingabeliste!G173","v":""},{"$f":"Eingabeliste!H173","v":""},null,null,null,null,null,null,null,null,{"$f":"IF(OR(Eingabeliste!O173=\"Flexila PU\",Eingabeliste!O173=\"Flexila STB\"),Eingabeliste!B173,0)+IF(OR(Eingabeliste!S173=\"Flexila PU\",Eingabeliste!S173=\"Flexila STB\"),Eingabeliste!B173,0)","v":0},null,null,null,null,null,null,null,null,null,null,null,null,null,null,null,null,null,null,null,null,null,null,null,null,0,null,null,null,{"$f":"IF(A173=0,0,IF(C173>$C$2,1,0)+IF(AND(Daten!$F$3=TRUE,Zusammenfassung!J173>Preise!$A$70),1,0)+IF(AND(G173=\"D\",K173>Preise!$A$54),1,0)+IF(AND(OR(G173=\"B\",G173=\"C\"),I173<>\"XPS\",AND(Eingabeliste!AC173>50,Daten!F$3=FALSE)),1,0)+IF(AND(OR(G173=\"B\",G173=\"C\"),I173=\"XPS\",Eingabeliste!AC173>100),1,0))","v":0}]
[{"$f":"IF(Eingabeliste!A174=\"\",0,1)","v":0},{"$f":"Eingabeliste!B174","v":0},{"$f":"IFERROR(ROUND(Eingabeliste!J174/(COS((Eingabeliste!K174*PI())/180))-(SIN((Eingabeliste!K174*PI())/180)*2)+(Eingabeliste!M174-2.74)+IF(Eingabeliste!L174=0,0,Eingabeliste!L174-2.74)+IF(Eingabeliste!N174=Daten!N$6,0,12-1.86),1),\"\")","v":""},{"$f":"IF(OR(B174=0,Eingabeliste!E174=\"\"),0,MAX(Eingabeliste!E174,1000)*B174)","v":0},{"$f":"IFERROR((ROUNDUP(Eingabeliste!E174/Daten!$K$15,0)-1)*B174,\"\")","v":""},{"$f":"IF(Eingabeliste!N174=\"Pulverbesch.\",Daten!$D$1,Eingabeliste!N174)","v":""},{"$f":"Eingabeliste!AB174","v":""},{"$f":"Eingabeliste!AC174","v":""},{"$f":"Eingabeliste!AA174","v":""},{"$f":"Eingabeliste!I174","v":""},{"$f":"Eingabeliste!G174","v":""},{"$f":"Eingabeliste!H174","v":""},null,null,null,null,null,null,null,null,{"$f":"IF(OR(Eingabeliste!O174=\"Flexila PU\",Eingabeliste!O174=\"Flexila STB\"),Eingabeliste!B174,0)+IF(OR(Eingabeliste!S174=\"Flexila PU\",Eingabeliste!S174=\"Flexila STB\"),Eingabeliste!B174,0)","v":0},null,null,null,null,null,null,null,null,null,null,null,null,null,null,null,null,null,null,null,null,null,null,null,null,0,null,null,null,{"$f":"IF(A174=0,0,IF(C174>$C$2,1,0)+IF(AND(Daten!$F$3=TRUE,Zusammenfassung!J174>Preise!$A$70),1,0)+IF(AND(G174=\"D\",K174>Preise!$A$54),1,0)+IF(AND(OR(G174=\"B\",G174=\"C\"),I174<>\"XPS\",AND(Eingabeliste!AC174>50,Daten!F$3=FALSE)),1,0)+IF(AND(OR(G174=\"B\",G174=\"C\"),I174=\"XPS\",Eingabeliste!AC174>100),1,0))","v":0}]
[{"$f":"IF(Eingabeliste!A175=\"\",0,1)","v":0},{"$f":"Eingabeliste!B175","v":0},{"$f":"IFERROR(ROUND(Eingabeliste!J175/(COS((Eingabeliste!K175*PI())/180))-(SIN((Eingabeliste!K175*PI())/180)*2)+(Eingabeliste!M175-2.74)+IF(Eingabeliste!L175=0,0,Eingabeliste!L175-2.74)+IF(Eingabeliste!N175=Daten!N$6,0,12-1.86),1),\"\")","v":""},{"$f":"IF(OR(B175=0,Eingabeliste!E175=\"\"),0,MAX(Eingabeliste!E175,1000)*B175)","v":0},{"$f":"IFERROR((ROUNDUP(Eingabeliste!E175/Daten!$K$15,0)-1)*B175,\"\")","v":""},{"$f":"IF(Eingabeliste!N175=\"Pulverbesch.\",Daten!$D$1,Eingabeliste!N175)","v":""},{"$f":"Eingabeliste!AB175","v":""},{"$f":"Eingabeliste!AC175","v":""},{"$f":"Eingabeliste!AA175","v":""},{"$f":"Eingabeliste!I175","v":""},{"$f":"Eingabeliste!G175","v":""},{"$f":"Eingabeliste!H175","v":""},null,null,null,null,null,null,null,null,{"$f":"IF(OR(Eingabeliste!O175=\"Flexila PU\",Eingabeliste!O175=\"Flexila STB\"),Eingabeliste!B175,0)+IF(OR(Eingabeliste!S175=\"Flexila PU\",Eingabeliste!S175=\"Flexila STB\"),Eingabeliste!B175,0)","v":0},null,null,null,null,null,null,null,null,null,null,null,null,null,null,null,null,null,null,null,null,null,null,null,null,0,null,null,null,{"$f":"IF(A175=0,0,IF(C175>$C$2,1,0)+IF(AND(Daten!$F$3=TRUE,Zusammenfassung!J175>Preise!$A$70),1,0)+IF(AND(G175=\"D\",K175>Preise!$A$54),1,0)+IF(AND(OR(G175=\"B\",G175=\"C\"),I175<>\"XPS\",AND(Eingabeliste!AC175>50,Daten!F$3=FALSE)),1,0)+IF(AND(OR(G175=\"B\",G175=\"C\"),I175=\"XPS\",Eingabeliste!AC175>100),1,0))","v":0}]
[{"$f":"IF(Eingabeliste!A176=\"\",0,1)","v":0},{"$f":"Eingabeliste!B176","v":0},{"$f":"IFERROR(ROUND(Eingabeliste!J176/(COS((Eingabeliste!K176*PI())/180))-(SIN((Eingabeliste!K176*PI())/180)*2)+(Eingabeliste!M176-2.74)+IF(Eingabeliste!L176=0,0,Eingabeliste!L176-2.74)+IF(Eingabeliste!N176=Daten!N$6,0,12-1.86),1),\"\")","v":""},{"$f":"IF(OR(B176=0,Eingabeliste!E176=\"\"),0,MAX(Eingabeliste!E176,1000)*B176)","v":0},{"$f":"IFERROR((ROUNDUP(Eingabeliste!E176/Daten!$K$15,0)-1)*B176,\"\")","v":""},{"$f":"IF(Eingabeliste!N176=\"Pulverbesch.\",Daten!$D$1,Eingabeliste!N176)","v":""},{"$f":"Eingabeliste!AB176","v":""},{"$f":"Eingabeliste!AC176","v":""},{"$f":"Eingabeliste!AA176","v":""},{"$f":"Eingabeliste!I176","v":""},{"$f":"Eingabeliste!G176","v":""},{"$f":"Eingabeliste!H176","v":""},null,null,null,null,null,null,null,null,{"$f":"IF(OR(Eingabeliste!O176=\"Flexila PU\",Eingabeliste!O176=\"Flexila STB\"),Eingabeliste!B176,0)+IF(OR(Eingabeliste!S176=\"Flexila PU\",Eingabeliste!S176=\"Flexila STB\"),Eingabeliste!B176,0)","v":0},null,null,null,null,null,null,null,null,null,null,null,null,null,null,null,null,null,null,null,null,null,null,null,null,0,null,null,null,{"$f":"IF(A176=0,0,IF(C176>$C$2,1,0)+IF(AND(Daten!$F$3=TRUE,Zusammenfassung!J176>Preise!$A$70),1,0)+IF(AND(G176=\"D\",K176>Preise!$A$54),1,0)+IF(AND(OR(G176=\"B\",G176=\"C\"),I176<>\"XPS\",AND(Eingabeliste!AC176>50,Daten!F$3=FALSE)),1,0)+IF(AND(OR(G176=\"B\",G176=\"C\"),I176=\"XPS\",Eingabeliste!AC176>100),1,0))","v":0}]
[{"$f":"IF(Eingabeliste!A177=\"\",0,1)","v":0},{"$f":"Eingabeliste!B177","v":0},{"$f":"IFERROR(ROUND(Eingabeliste!J177/(COS((Eingabeliste!K177*PI())/180))-(SIN((Eingabeliste!K177*PI())/180)*2)+(Eingabeliste!M177-2.74)+IF(Eingabeliste!L177=0,0,Eingabeliste!L177-2.74)+IF(Eingabeliste!N177=Daten!N$6,0,12-1.86),1),\"\")","v":""},{"$f":"IF(OR(B177=0,Eingabeliste!E177=\"\"),0,MAX(Eingabeliste!E177,1000)*B177)","v":0},{"$f":"IFERROR((ROUNDUP(Eingabeliste!E177/Daten!$K$15,0)-1)*B177,\"\")","v":""},{"$f":"IF(Eingabeliste!N177=\"Pulverbesch.\",Daten!$D$1,Eingabeliste!N177)","v":""},{"$f":"Eingabeliste!AB177","v":""},{"$f":"Eingabeliste!AC177","v":""},{"$f":"Eingabeliste!AA177","v":""},{"$f":"Eingabeliste!I177","v":""},{"$f":"Eingabeliste!G177","v":""},{"$f":"Eingabeliste!H177","v":""},null,null,null,null,null,null,null,null,{"$f":"IF(OR(Eingabeliste!O177=\"Flexila PU\",Eingabeliste!O177=\"Flexila STB\"),Eingabeliste!B177,0)+IF(OR(Eingabeliste!S177=\"Flexila PU\",Eingabeliste!S177=\"Flexila STB\"),Eingabeliste!B177,0)","v":0},null,null,null,null,null,null,null,null,null,null,null,null,null,null,null,null,null,null,null,null,null,null,null,null,0,null,null,null,{"$f":"IF(A177=0,0,IF(C177>$C$2,1,0)+IF(AND(Daten!$F$3=TRUE,Zusammenfassung!J177>Preise!$A$70),1,0)+IF(AND(G177=\"D\",K177>Preise!$A$54),1,0)+IF(AND(OR(G177=\"B\",G177=\"C\"),I177<>\"XPS\",AND(Eingabeliste!AC177>50,Daten!F$3=FALSE)),1,0)+IF(AND(OR(G177=\"B\",G177=\"C\"),I177=\"XPS\",Eingabeliste!AC177>100),1,0))","v":0}]
[{"$f":"IF(Eingabeliste!A178=\"\",0,1)","v":0},{"$f":"Eingabeliste!B178","v":0},{"$f":"IFERROR(ROUND(Eingabeliste!J178/(COS((Eingabeliste!K178*PI())/180))-(SIN((Eingabeliste!K178*PI())/180)*2)+(Eingabeliste!M178-2.74)+IF(Eingabeliste!L178=0,0,Eingabeliste!L178-2.74)+IF(Eingabeliste!N178=Daten!N$6,0,12-1.86),1),\"\")","v":""},{"$f":"IF(OR(B178=0,Eingabeliste!E178=\"\"),0,MAX(Eingabeliste!E178,1000)*B178)","v":0},{"$f":"IFERROR((ROUNDUP(Eingabeliste!E178/Daten!$K$15,0)-1)*B178,\"\")","v":""},{"$f":"IF(Eingabeliste!N178=\"Pulverbesch.\",Daten!$D$1,Eingabeliste!N178)","v":""},{"$f":"Eingabeliste!AB178","v":""},{"$f":"Eingabeliste!AC178","v":""},{"$f":"Eingabeliste!AA178","v":""},{"$f":"Eingabeliste!I178","v":""},{"$f":"Eingabeliste!G178","v":""},{"$f":"Eingabeliste!H178","v":""},null,null,null,null,null,null,null,null,{"$f":"IF(OR(Eingabeliste!O178=\"Flexila PU\",Eingabeliste!O178=\"Flexila STB\"),Eingabeliste!B178,0)+IF(OR(Eingabeliste!S178=\"Flexila PU\",Eingabeliste!S178=\"Flexila STB\"),Eingabeliste!B178,0)","v":0},null,null,null,null,null,null,null,null,null,null,null,null,null,null,null,null,null,null,null,null,null,null,null,null,0,null,null,null,{"$f":"IF(A178=0,0,IF(C178>$C$2,1,0)+IF(AND(Daten!$F$3=TRUE,Zusammenfassung!J178>Preise!$A$70),1,0)+IF(AND(G178=\"D\",K178>Preise!$A$54),1,0)+IF(AND(OR(G178=\"B\",G178=\"C\"),I178<>\"XPS\",AND(Eingabeliste!AC178>50,Daten!F$3=FALSE)),1,0)+IF(AND(OR(G178=\"B\",G178=\"C\"),I178=\"XPS\",Eingabeliste!AC178>100),1,0))","v":0}]
[{"$f":"IF(Eingabeliste!A179=\"\",0,1)","v":0},{"$f":"Eingabeliste!B179","v":0},{"$f":"IFERROR(ROUND(Eingabeliste!J179/(COS((Eingabeliste!K179*PI())/180))-(SIN((Eingabeliste!K179*PI())/180)*2)+(Eingabeliste!M179-2.74)+IF(Eingabeliste!L179=0,0,Eingabeliste!L179-2.74)+IF(Eingabeliste!N179=Daten!N$6,0,12-1.86),1),\"\")","v":""},{"$f":"IF(OR(B179=0,Eingabeliste!E179=\"\"),0,MAX(Eingabeliste!E179,1000)*B179)","v":0},{"$f":"IFERROR((ROUNDUP(Eingabeliste!E179/Daten!$K$15,0)-1)*B179,\"\")","v":""},{"$f":"IF(Eingabeliste!N179=\"Pulverbesch.\",Daten!$D$1,Eingabeliste!N179)","v":""},{"$f":"Eingabeliste!AB179","v":""},{"$f":"Eingabeliste!AC179","v":""},{"$f":"Eingabeliste!AA179","v":""},{"$f":"Eingabeliste!I179","v":""},{"$f":"Eingabeliste!G179","v":""},{"$f":"Eingabeliste!H179","v":""},null,null,null,null,null,null,null,null,{"$f":"IF(OR(Eingabeliste!O179=\"Flexila PU\",Eingabeliste!O179=\"Flexila STB\"),Eingabeliste!B179,0)+IF(OR(Eingabeliste!S179=\"Flexila PU\",Eingabeliste!S179=\"Flexila STB\"),Eingabeliste!B179,0)","v":0},null,null,null,null,null,null,null,null,null,null,null,null,null,null,null,null,null,null,null,null,null,null,null,null,0,null,null,null,{"$f":"IF(A179=0,0,IF(C179>$C$2,1,0)+IF(AND(Daten!$F$3=TRUE,Zusammenfassung!J179>Preise!$A$70),1,0)+IF(AND(G179=\"D\",K179>Preise!$A$54),1,0)+IF(AND(OR(G179=\"B\",G179=\"C\"),I179<>\"XPS\",AND(Eingabeliste!AC179>50,Daten!F$3=FALSE)),1,0)+IF(AND(OR(G179=\"B\",G179=\"C\"),I179=\"XPS\",Eingabeliste!AC179>100),1,0))","v":0}]
[{"$f":"IF(Eingabeliste!A180=\"\",0,1)","v":0},{"$f":"Eingabeliste!B180","v":0},{"$f":"IFERROR(ROUND(Eingabeliste!J180/(COS((Eingabeliste!K180*PI())/180))-(SIN((Eingabeliste!K180*PI())/180)*2)+(Eingabeliste!M180-2.74)+IF(Eingabeliste!L180=0,0,Eingabeliste!L180-2.74)+IF(Eingabeliste!N180=Daten!N$6,0,12-1.86),1),\"\")","v":""},{"$f":"IF(OR(B180=0,Eingabeliste!E180=\"\"),0,MAX(Eingabeliste!E180,1000)*B180)","v":0},{"$f":"IFERROR((ROUNDUP(Eingabeliste!E180/Daten!$K$15,0)-1)*B180,\"\")","v":""},{"$f":"IF(Eingabeliste!N180=\"Pulverbesch.\",Daten!$D$1,Eingabeliste!N180)","v":""},{"$f":"Eingabeliste!AB180","v":""},{"$f":"Eingabeliste!AC180","v":""},{"$f":"Eingabeliste!AA180","v":""},{"$f":"Eingabeliste!I180","v":""},{"$f":"Eingabeliste!G180","v":""},{"$f":"Eingabeliste!H180","v":""},null,null,null,null,null,null,null,null,{"$f":"IF(OR(Eingabeliste!O180=\"Flexila PU\",Eingabeliste!O180=\"Flexila STB\"),Eingabeliste!B180,0)+IF(OR(Eingabeliste!S180=\"Flexila PU\",Eingabeliste!S180=\"Flexila STB\"),Eingabeliste!B180,0)","v":0},null,null,null,null,null,null,null,null,null,null,null,null,null,null,null,null,null,null,null,null,null,null,null,null,0,null,null,null,{"$f":"IF(A180=0,0,IF(C180>$C$2,1,0)+IF(AND(Daten!$F$3=TRUE,Zusammenfassung!J180>Preise!$A$70),1,0)+IF(AND(G180=\"D\",K180>Preise!$A$54),1,0)+IF(AND(OR(G180=\"B\",G180=\"C\"),I180<>\"XPS\",AND(Eingabeliste!AC180>50,Daten!F$3=FALSE)),1,0)+IF(AND(OR(G180=\"B\",G180=\"C\"),I180=\"XPS\",Eingabeliste!AC180>100),1,0))","v":0}]
[{"$f":"IF(Eingabeliste!A181=\"\",0,1)","v":0},{"$f":"Eingabeliste!B181","v":0},{"$f":"IFERROR(ROUND(Eingabeliste!J181/(COS((Eingabeliste!K181*PI())/180))-(SIN((Eingabeliste!K181*PI())/180)*2)+(Eingabeliste!M181-2.74)+IF(Eingabeliste!L181=0,0,Eingabeliste!L181-2.74)+IF(Eingabeliste!N181=Daten!N$6,0,12-1.86),1),\"\")","v":""},{"$f":"IF(OR(B181=0,Eingabeliste!E181=\"\"),0,MAX(Eingabeliste!E181,1000)*B181)","v":0},{"$f":"IFERROR((ROUNDUP(Eingabeliste!E181/Daten!$K$15,0)-1)*B181,\"\")","v":""},{"$f":"IF(Eingabeliste!N181=\"Pulverbesch.\",Daten!$D$1,Eingabeliste!N181)","v":""},{"$f":"Eingabeliste!AB181","v":""},{"$f":"Eingabeliste!AC181","v":""},{"$f":"Eingabeliste!AA181","v":""},{"$f":"Eingabeliste!I181","v":""},{"$f":"Eingabeliste!G181","v":""},{"$f":"Eingabeliste!H181","v":""},null,null,null,null,null,null,null,null,{"$f":"IF(OR(Eingabeliste!O181=\"Flexila PU\",Eingabeliste!O181=\"Flexila STB\"),Eingabeliste!B181,0)+IF(OR(Eingabeliste!S181=\"Flexila PU\",Eingabeliste!S181=\"Flexila STB\"),Eingabeliste!B181,0)","v":0},null,null,null,null,null,null,null,null,null,null,null,null,null,null,null,null,null,null,null,null,null,null,null,null,0,null,null,null,{"$f":"IF(A181=0,0,IF(C181>$C$2,1,0)+IF(AND(Daten!$F$3=TRUE,Zusammenfassung!J181>Preise!$A$70),1,0)+IF(AND(G181=\"D\",K181>Preise!$A$54),1,0)+IF(AND(OR(G181=\"B\",G181=\"C\"),I181<>\"XPS\",AND(Eingabeliste!AC181>50,Daten!F$3=FALSE)),1,0)+IF(AND(OR(G181=\"B\",G181=\"C\"),I181=\"XPS\",Eingabeliste!AC181>100),1,0))","v":0}]
[{"$f":"IF(Eingabeliste!A182=\"\",0,1)","v":0},{"$f":"Eingabeliste!B182","v":0},{"$f":"IFERROR(ROUND(Eingabeliste!J182/(COS((Eingabeliste!K182*PI())/180))-(SIN((Eingabeliste!K182*PI())/180)*2)+(Eingabeliste!M182-2.74)+IF(Eingabeliste!L182=0,0,Eingabeliste!L182-2.74)+IF(Eingabeliste!N182=Daten!N$6,0,12-1.86),1),\"\")","v":""},{"$f":"IF(OR(B182=0,Eingabeliste!E182=\"\"),0,MAX(Eingabeliste!E182,1000)*B182)","v":0},{"$f":"IFERROR((ROUNDUP(Eingabeliste!E182/Daten!$K$15,0)-1)*B182,\"\")","v":""},{"$f":"IF(Eingabeliste!N182=\"Pulverbesch.\",Daten!$D$1,Eingabeliste!N182)","v":""},{"$f":"Eingabeliste!AB182","v":""},{"$f":"Eingabeliste!AC182","v":""},{"$f":"Eingabeliste!AA182","v":""},{"$f":"Eingabeliste!I182","v":""},{"$f":"Eingabeliste!G182","v":""},{"$f":"Eingabeliste!H182","v":""},null,null,null,null,null,null,null,null,{"$f":"IF(OR(Eingabeliste!O182=\"Flexila PU\",Eingabeliste!O182=\"Flexila STB\"),Eingabeliste!B182,0)+IF(OR(Eingabeliste!S182=\"Flexila PU\",Eingabeliste!S182=\"Flexila STB\"),Eingabeliste!B182,0)","v":0},null,null,null,null,null,null,null,null,null,null,null,null,null,null,null,null,null,null,null,null,null,null,null,null,0,null,null,null,{"$f":"IF(A182=0,0,IF(C182>$C$2,1,0)+IF(AND(Daten!$F$3=TRUE,Zusammenfassung!J182>Preise!$A$70),1,0)+IF(AND(G182=\"D\",K182>Preise!$A$54),1,0)+IF(AND(OR(G182=\"B\",G182=\"C\"),I182<>\"XPS\",AND(Eingabeliste!AC182>50,Daten!F$3=FALSE)),1,0)+IF(AND(OR(G182=\"B\",G182=\"C\"),I182=\"XPS\",Eingabeliste!AC182>100),1,0))","v":0}]
[{"$f":"IF(Eingabeliste!A183=\"\",0,1)","v":0},{"$f":"Eingabeliste!B183","v":0},{"$f":"IFERROR(ROUND(Eingabeliste!J183/(COS((Eingabeliste!K183*PI())/180))-(SIN((Eingabeliste!K183*PI())/180)*2)+(Eingabeliste!M183-2.74)+IF(Eingabeliste!L183=0,0,Eingabeliste!L183-2.74)+IF(Eingabeliste!N183=Daten!N$6,0,12-1.86),1),\"\")","v":""},{"$f":"IF(OR(B183=0,Eingabeliste!E183=\"\"),0,MAX(Eingabeliste!E183,1000)*B183)","v":0},{"$f":"IFERROR((ROUNDUP(Eingabeliste!E183/Daten!$K$15,0)-1)*B183,\"\")","v":""},{"$f":"IF(Eingabeliste!N183=\"Pulverbesch.\",Daten!$D$1,Eingabeliste!N183)","v":""},{"$f":"Eingabeliste!AB183","v":""},{"$f":"Eingabeliste!AC183","v":""},{"$f":"Eingabeliste!AA183","v":""},{"$f":"Eingabeliste!I183","v":""},{"$f":"Eingabeliste!G183","v":""},{"$f":"Eingabeliste!H183","v":""},null,null,null,null,null,null,null,null,{"$f":"IF(OR(Eingabeliste!O183=\"Flexila PU\",Eingabeliste!O183=\"Flexila STB\"),Eingabeliste!B183,0)+IF(OR(Eingabeliste!S183=\"Flexila PU\",Eingabeliste!S183=\"Flexila STB\"),Eingabeliste!B183,0)","v":0},null,null,null,null,null,null,null,null,null,null,null,null,null,null,null,null,null,null,null,null,null,null,null,null,0,null,null,null,{"$f":"IF(A183=0,0,IF(C183>$C$2,1,0)+IF(AND(Daten!$F$3=TRUE,Zusammenfassung!J183>Preise!$A$70),1,0)+IF(AND(G183=\"D\",K183>Preise!$A$54),1,0)+IF(AND(OR(G183=\"B\",G183=\"C\"),I183<>\"XPS\",AND(Eingabeliste!AC183>50,Daten!F$3=FALSE)),1,0)+IF(AND(OR(G183=\"B\",G183=\"C\"),I183=\"XPS\",Eingabeliste!AC183>100),1,0))","v":0}]
[{"$f":"IF(Eingabeliste!A184=\"\",0,1)","v":0},{"$f":"Eingabeliste!B184","v":0},{"$f":"IFERROR(ROUND(Eingabeliste!J184/(COS((Eingabeliste!K184*PI())/180))-(SIN((Eingabeliste!K184*PI())/180)*2)+(Eingabeliste!M184-2.74)+IF(Eingabeliste!L184=0,0,Eingabeliste!L184-2.74)+IF(Eingabeliste!N184=Daten!N$6,0,12-1.86),1),\"\")","v":""},{"$f":"IF(OR(B184=0,Eingabeliste!E184=\"\"),0,MAX(Eingabeliste!E184,1000)*B184)","v":0},{"$f":"IFERROR((ROUNDUP(Eingabeliste!E184/Daten!$K$15,0)-1)*B184,\"\")","v":""},{"$f":"IF(Eingabeliste!N184=\"Pulverbesch.\",Daten!$D$1,Eingabeliste!N184)","v":""},{"$f":"Eingabeliste!AB184","v":""},{"$f":"Eingabeliste!AC184","v":""},{"$f":"Eingabeliste!AA184","v":""},{"$f":"Eingabeliste!I184","v":""},{"$f":"Eingabeliste!G184","v":""},{"$f":"Eingabeliste!H184","v":""},null,null,null,null,null,null,null,null,{"$f":"IF(OR(Eingabeliste!O184=\"Flexila PU\",Eingabeliste!O184=\"Flexila STB\"),Eingabeliste!B184,0)+IF(OR(Eingabeliste!S184=\"Flexila PU\",Eingabeliste!S184=\"Flexila STB\"),Eingabeliste!B184,0)","v":0},null,null,null,null,null,null,null,null,null,null,null,null,null,null,null,null,null,null,null,null,null,null,null,null,0,null,null,null,{"$f":"IF(A184=0,0,IF(C184>$C$2,1,0)+IF(AND(Daten!$F$3=TRUE,Zusammenfassung!J184>Preise!$A$70),1,0)+IF(AND(G184=\"D\",K184>Preise!$A$54),1,0)+IF(AND(OR(G184=\"B\",G184=\"C\"),I184<>\"XPS\",AND(Eingabeliste!AC184>50,Daten!F$3=FALSE)),1,0)+IF(AND(OR(G184=\"B\",G184=\"C\"),I184=\"XPS\",Eingabeliste!AC184>100),1,0))","v":0}]
[{"$f":"IF(Eingabeliste!A185=\"\",0,1)","v":0},{"$f":"Eingabeliste!B185","v":0},{"$f":"IFERROR(ROUND(Eingabeliste!J185/(COS((Eingabeliste!K185*PI())/180))-(SIN((Eingabeliste!K185*PI())/180)*2)+(Eingabeliste!M185-2.74)+IF(Eingabeliste!L185=0,0,Eingabeliste!L185-2.74)+IF(Eingabeliste!N185=Daten!N$6,0,12-1.86),1),\"\")","v":""},{"$f":"IF(OR(B185=0,Eingabeliste!E185=\"\"),0,MAX(Eingabeliste!E185,1000)*B185)","v":0},{"$f":"IFERROR((ROUNDUP(Eingabeliste!E185/Daten!$K$15,0)-1)*B185,\"\")","v":""},{"$f":"IF(Eingabeliste!N185=\"Pulverbesch.\",Daten!$D$1,Eingabeliste!N185)","v":""},{"$f":"Eingabeliste!AB185","v":""},{"$f":"Eingabeliste!AC185","v":""},{"$f":"Eingabeliste!AA185","v":""},{"$f":"Eingabeliste!I185","v":""},{"$f":"Eingabeliste!G185","v":""},{"$f":"Eingabeliste!H185","v":""},null,null,null,null,null,null,null,null,{"$f":"IF(OR(Eingabeliste!O185=\"Flexila PU\",Eingabeliste!O185=\"Flexila STB\"),Eingabeliste!B185,0)+IF(OR(Eingabeliste!S185=\"Flexila PU\",Eingabeliste!S185=\"Flexila STB\"),Eingabeliste!B185,0)","v":0},null,null,null,null,null,null,null,null,null,null,null,null,null,null,null,null,null,null,null,null,null,null,null,null,0,null,null,null,{"$f":"IF(A185=0,0,IF(C185>$C$2,1,0)+IF(AND(Daten!$F$3=TRUE,Zusammenfassung!J185>Preise!$A$70),1,0)+IF(AND(G185=\"D\",K185>Preise!$A$54),1,0)+IF(AND(OR(G185=\"B\",G185=\"C\"),I185<>\"XPS\",AND(Eingabeliste!AC185>50,Daten!F$3=FALSE)),1,0)+IF(AND(OR(G185=\"B\",G185=\"C\"),I185=\"XPS\",Eingabeliste!AC185>100),1,0))","v":0}]
[{"$f":"IF(Eingabeliste!A186=\"\",0,1)","v":0},{"$f":"Eingabeliste!B186","v":0},{"$f":"IFERROR(ROUND(Eingabeliste!J186/(COS((Eingabeliste!K186*PI())/180))-(SIN((Eingabeliste!K186*PI())/180)*2)+(Eingabeliste!M186-2.74)+IF(Eingabeliste!L186=0,0,Eingabeliste!L186-2.74)+IF(Eingabeliste!N186=Daten!N$6,0,12-1.86),1),\"\")","v":""},{"$f":"IF(OR(B186=0,Eingabeliste!E186=\"\"),0,MAX(Eingabeliste!E186,1000)*B186)","v":0},{"$f":"IFERROR((ROUNDUP(Eingabeliste!E186/Daten!$K$15,0)-1)*B186,\"\")","v":""},{"$f":"IF(Eingabeliste!N186=\"Pulverbesch.\",Daten!$D$1,Eingabeliste!N186)","v":""},{"$f":"Eingabeliste!AB186","v":""},{"$f":"Eingabeliste!AC186","v":""},{"$f":"Eingabeliste!AA186","v":""},{"$f":"Eingabeliste!I186","v":""},{"$f":"Eingabeliste!G186","v":""},{"$f":"Eingabeliste!H186","v":""},null,null,null,null,null,null,null,null,{"$f":"IF(OR(Eingabeliste!O186=\"Flexila PU\",Eingabeliste!O186=\"Flexila STB\"),Eingabeliste!B186,0)+IF(OR(Eingabeliste!S186=\"Flexila PU\",Eingabeliste!S186=\"Flexila STB\"),Eingabeliste!B186,0)","v":0},null,null,null,null,null,null,null,null,null,null,null,null,null,null,null,null,null,null,null,null,null,null,null,null,0,null,null,null,{"$f":"IF(A186=0,0,IF(C186>$C$2,1,0)+IF(AND(Daten!$F$3=TRUE,Zusammenfassung!J186>Preise!$A$70),1,0)+IF(AND(G186=\"D\",K186>Preise!$A$54),1,0)+IF(AND(OR(G186=\"B\",G186=\"C\"),I186<>\"XPS\",AND(Eingabeliste!AC186>50,Daten!F$3=FALSE)),1,0)+IF(AND(OR(G186=\"B\",G186=\"C\"),I186=\"XPS\",Eingabeliste!AC186>100),1,0))","v":0}]
[{"$f":"IF(Eingabeliste!A187=\"\",0,1)","v":0},{"$f":"Eingabeliste!B187","v":0},{"$f":"IFERROR(ROUND(Eingabeliste!J187/(COS((Eingabeliste!K187*PI())/180))-(SIN((Eingabeliste!K187*PI())/180)*2)+(Eingabeliste!M187-2.74)+IF(Eingabeliste!L187=0,0,Eingabeliste!L187-2.74)+IF(Eingabeliste!N187=Daten!N$6,0,12-1.86),1),\"\")","v":""},{"$f":"IF(OR(B187=0,Eingabeliste!E187=\"\"),0,MAX(Eingabeliste!E187,1000)*B187)","v":0},{"$f":"IFERROR((ROUNDUP(Eingabeliste!E187/Daten!$K$15,0)-1)*B187,\"\")","v":""},{"$f":"IF(Eingabeliste!N187=\"Pulverbesch.\",Daten!$D$1,Eingabeliste!N187)","v":""},{"$f":"Eingabeliste!AB187","v":""},{"$f":"Eingabeliste!AC187","v":""},{"$f":"Eingabeliste!AA187","v":""},{"$f":"Eingabeliste!I187","v":""},{"$f":"Eingabeliste!G187","v":""},{"$f":"Eingabeliste!H187","v":""},null,null,null,null,null,null,null,null,{"$f":"IF(OR(Eingabeliste!O187=\"Flexila PU\",Eingabeliste!O187=\"Flexila STB\"),Eingabeliste!B187,0)+IF(OR(Eingabeliste!S187=\"Flexila PU\",Eingabeliste!S187=\"Flexila STB\"),Eingabeliste!B187,0)","v":0},null,null,null,null,null,null,null,null,null,null,null,null,null,null,null,null,null,null,null,null,null,null,null,null,0,null,null,null,{"$f":"IF(A187=0,0,IF(C187>$C$2,1,0)+IF(AND(Daten!$F$3=TRUE,Zusammenfassung!J187>Preise!$A$70),1,0)+IF(AND(G187=\"D\",K187>Preise!$A$54),1,0)+IF(AND(OR(G187=\"B\",G187=\"C\"),I187<>\"XPS\",AND(Eingabeliste!AC187>50,Daten!F$3=FALSE)),1,0)+IF(AND(OR(G187=\"B\",G187=\"C\"),I187=\"XPS\",Eingabeliste!AC187>100),1,0))","v":0}]
[{"$f":"IF(Eingabeliste!A188=\"\",0,1)","v":0},{"$f":"Eingabeliste!B188","v":0},{"$f":"IFERROR(ROUND(Eingabeliste!J188/(COS((Eingabeliste!K188*PI())/180))-(SIN((Eingabeliste!K188*PI())/180)*2)+(Eingabeliste!M188-2.74)+IF(Eingabeliste!L188=0,0,Eingabeliste!L188-2.74)+IF(Eingabeliste!N188=Daten!N$6,0,12-1.86),1),\"\")","v":""},{"$f":"IF(OR(B188=0,Eingabeliste!E188=\"\"),0,MAX(Eingabeliste!E188,1000)*B188)","v":0},{"$f":"IFERROR((ROUNDUP(Eingabeliste!E188/Daten!$K$15,0)-1)*B188,\"\")","v":""},{"$f":"IF(Eingabeliste!N188=\"Pulverbesch.\",Daten!$D$1,Eingabeliste!N188)","v":""},{"$f":"Eingabeliste!AB188","v":""},{"$f":"Eingabeliste!AC188","v":""},{"$f":"Eingabeliste!AA188","v":""},{"$f":"Eingabeliste!I188","v":""},{"$f":"Eingabeliste!G188","v":""},{"$f":"Eingabeliste!H188","v":""},null,null,null,null,null,null,null,null,{"$f":"IF(OR(Eingabeliste!O188=\"Flexila PU\",Eingabeliste!O188=\"Flexila STB\"),Eingabeliste!B188,0)+IF(OR(Eingabeliste!S188=\"Flexila PU\",Eingabeliste!S188=\"Flexila STB\"),Eingabeliste!B188,0)","v":0},null,null,null,null,null,null,null,null,null,null,null,null,null,null,null,null,null,null,null,null,null,null,null,null,0,null,null,null,{"$f":"IF(A188=0,0,IF(C188>$C$2,1,0)+IF(AND(Daten!$F$3=TRUE,Zusammenfassung!J188>Preise!$A$70),1,0)+IF(AND(G188=\"D\",K188>Preise!$A$54),1,0)+IF(AND(OR(G188=\"B\",G188=\"C\"),I188<>\"XPS\",AND(Eingabeliste!AC188>50,Daten!F$3=FALSE)),1,0)+IF(AND(OR(G188=\"B\",G188=\"C\"),I188=\"XPS\",Eingabeliste!AC188>100),1,0))","v":0}]
[{"$f":"IF(Eingabeliste!A189=\"\",0,1)","v":0},{"$f":"Eingabeliste!B189","v":0},{"$f":"IFERROR(ROUND(Eingabeliste!J189/(COS((Eingabeliste!K189*PI())/180))-(SIN((Eingabeliste!K189*PI())/180)*2)+(Eingabeliste!M189-2.74)+IF(Eingabeliste!L189=0,0,Eingabeliste!L189-2.74)+IF(Eingabeliste!N189=Daten!N$6,0,12-1.86),1),\"\")","v":""},{"$f":"IF(OR(B189=0,Eingabeliste!E189=\"\"),0,MAX(Eingabeliste!E189,1000)*B189)","v":0},{"$f":"IFERROR((ROUNDUP(Eingabeliste!E189/Daten!$K$15,0)-1)*B189,\"\")","v":""},{"$f":"IF(Eingabeliste!N189=\"Pulverbesch.\",Daten!$D$1,Eingabeliste!N189)","v":""},{"$f":"Eingabeliste!AB189","v":""},{"$f":"Eingabeliste!AC189","v":""},{"$f":"Eingabeliste!AA189","v":""},{"$f":"Eingabeliste!I189","v":""},{"$f":"Eingabeliste!G189","v":""},{"$f":"Eingabeliste!H189","v":""},null,null,null,null,null,null,null,null,{"$f":"IF(OR(Eingabeliste!O189=\"Flexila PU\",Eingabeliste!O189=\"Flexila STB\"),Eingabeliste!B189,0)+IF(OR(Eingabeliste!S189=\"Flexila PU\",Eingabeliste!S189=\"Flexila STB\"),Eingabeliste!B189,0)","v":0},null,null,null,null,null,null,null,null,null,null,null,null,null,null,null,null,null,null,null,null,null,null,null,null,0,null,null,null,{"$f":"IF(A189=0,0,IF(C189>$C$2,1,0)+IF(AND(Daten!$F$3=TRUE,Zusammenfassung!J189>Preise!$A$70),1,0)+IF(AND(G189=\"D\",K189>Preise!$A$54),1,0)+IF(AND(OR(G189=\"B\",G189=\"C\"),I189<>\"XPS\",AND(Eingabeliste!AC189>50,Daten!F$3=FALSE)),1,0)+IF(AND(OR(G189=\"B\",G189=\"C\"),I189=\"XPS\",Eingabeliste!AC189>100),1,0))","v":0}]
[{"$f":"IF(Eingabeliste!A190=\"\",0,1)","v":0},{"$f":"Eingabeliste!B190","v":0},{"$f":"IFERROR(ROUND(Eingabeliste!J190/(COS((Eingabeliste!K190*PI())/180))-(SIN((Eingabeliste!K190*PI())/180)*2)+(Eingabeliste!M190-2.74)+IF(Eingabeliste!L190=0,0,Eingabeliste!L190-2.74)+IF(Eingabeliste!N190=Daten!N$6,0,12-1.86),1),\"\")","v":""},{"$f":"IF(OR(B190=0,Eingabeliste!E190=\"\"),0,MAX(Eingabeliste!E190,1000)*B190)","v":0},{"$f":"IFERROR((ROUNDUP(Eingabeliste!E190/Daten!$K$15,0)-1)*B190,\"\")","v":""},{"$f":"IF(Eingabeliste!N190=\"Pulverbesch.\",Daten!$D$1,Eingabeliste!N190)","v":""},{"$f":"Eingabeliste!AB190","v":""},{"$f":"Eingabeliste!AC190","v":""},{"$f":"Eingabeliste!AA190","v":""},{"$f":"Eingabeliste!I190","v":""},{"$f":"Eingabeliste!G190","v":""},{"$f":"Eingabeliste!H190","v":""},null,null,null,null,null,null,null,null,{"$f":"IF(OR(Eingabeliste!O190=\"Flexila PU\",Eingabeliste!O190=\"Flexila STB\"),Eingabeliste!B190,0)+IF(OR(Eingabeliste!S190=\"Flexila PU\",Eingabeliste!S190=\"Flexila STB\"),Eingabeliste!B190,0)","v":0},null,null,null,null,null,null,null,null,null,null,null,null,null,null,null,null,null,null,null,null,null,null,null,null,0,null,null,null,{"$f":"IF(A190=0,0,IF(C190>$C$2,1,0)+IF(AND(Daten!$F$3=TRUE,Zusammenfassung!J190>Preise!$A$70),1,0)+IF(AND(G190=\"D\",K190>Preise!$A$54),1,0)+IF(AND(OR(G190=\"B\",G190=\"C\"),I190<>\"XPS\",AND(Eingabeliste!AC190>50,Daten!F$3=FALSE)),1,0)+IF(AND(OR(G190=\"B\",G190=\"C\"),I190=\"XPS\",Eingabeliste!AC190>100),1,0))","v":0}]
[{"$f":"IF(Eingabeliste!A191=\"\",0,1)","v":0},{"$f":"Eingabeliste!B191","v":0},{"$f":"IFERROR(ROUND(Eingabeliste!J191/(COS((Eingabeliste!K191*PI())/180))-(SIN((Eingabeliste!K191*PI())/180)*2)+(Eingabeliste!M191-2.74)+IF(Eingabeliste!L191=0,0,Eingabeliste!L191-2.74)+IF(Eingabeliste!N191=Daten!N$6,0,12-1.86),1),\"\")","v":""},{"$f":"IF(OR(B191=0,Eingabeliste!E191=\"\"),0,MAX(Eingabeliste!E191,1000)*B191)","v":0},{"$f":"IFERROR((ROUNDUP(Eingabeliste!E191/Daten!$K$15,0)-1)*B191,\"\")","v":""},{"$f":"IF(Eingabeliste!N191=\"Pulverbesch.\",Daten!$D$1,Eingabeliste!N191)","v":""},{"$f":"Eingabeliste!AB191","v":""},{"$f":"Eingabeliste!AC191","v":""},{"$f":"Eingabeliste!AA191","v":""},{"$f":"Eingabeliste!I191","v":""},{"$f":"Eingabeliste!G191","v":""},{"$f":"Eingabeliste!H191","v":""},null,null,null,null,null,null,null,null,{"$f":"IF(OR(Eingabeliste!O191=\"Flexila PU\",Eingabeliste!O191=\"Flexila STB\"),Eingabeliste!B191,0)+IF(OR(Eingabeliste!S191=\"Flexila PU\",Eingabeliste!S191=\"Flexila STB\"),Eingabeliste!B191,0)","v":0},null,null,null,null,null,null,null,null,null,null,null,null,null,null,null,null,null,null,null,null,null,null,null,null,0,null,null,null,{"$f":"IF(A191=0,0,IF(C191>$C$2,1,0)+IF(AND(Daten!$F$3=TRUE,Zusammenfassung!J191>Preise!$A$70),1,0)+IF(AND(G191=\"D\",K191>Preise!$A$54),1,0)+IF(AND(OR(G191=\"B\",G191=\"C\"),I191<>\"XPS\",AND(Eingabeliste!AC191>50,Daten!F$3=FALSE)),1,0)+IF(AND(OR(G191=\"B\",G191=\"C\"),I191=\"XPS\",Eingabeliste!AC191>100),1,0))","v":0}]
[{"$f":"IF(Eingabeliste!A192=\"\",0,1)","v":0},{"$f":"Eingabeliste!B192","v":0},{"$f":"IFERROR(ROUND(Eingabeliste!J192/(COS((Eingabeliste!K192*PI())/180))-(SIN((Eingabeliste!K192*PI())/180)*2)+(Eingabeliste!M192-2.74)+IF(Eingabeliste!L192=0,0,Eingabeliste!L192-2.74)+IF(Eingabeliste!N192=Daten!N$6,0,12-1.86),1),\"\")","v":""},{"$f":"IF(OR(B192=0,Eingabeliste!E192=\"\"),0,MAX(Eingabeliste!E192,1000)*B192)","v":0},{"$f":"IFERROR((ROUNDUP(Eingabeliste!E192/Daten!$K$15,0)-1)*B192,\"\")","v":""},{"$f":"IF(Eingabeliste!N192=\"Pulverbesch.\",Daten!$D$1,Eingabeliste!N192)","v":""},{"$f":"Eingabeliste!AB192","v":""},{"$f":"Eingabeliste!AC192","v":""},{"$f":"Eingabeliste!AA192","v":""},{"$f":"Eingabeliste!I192","v":""},{"$f":"Eingabeliste!G192","v":""},{"$f":"Eingabeliste!H192","v":""},null,null,null,null,null,null,null,null,{"$f":"IF(OR(Eingabeliste!O192=\"Flexila PU\",Eingabeliste!O192=\"Flexila STB\"),Eingabeliste!B192,0)+IF(OR(Eingabeliste!S192=\"Flexila PU\",Eingabeliste!S192=\"Flexila STB\"),Eingabeliste!B192,0)","v":0},null,null,null,null,null,null,null,null,null,null,null,null,null,null,null,null,null,null,null,null,null,null,null,null,0,null,null,null,{"$f":"IF(A192=0,0,IF(C192>$C$2,1,0)+IF(AND(Daten!$F$3=TRUE,Zusammenfassung!J192>Preise!$A$70),1,0)+IF(AND(G192=\"D\",K192>Preise!$A$54),1,0)+IF(AND(OR(G192=\"B\",G192=\"C\"),I192<>\"XPS\",AND(Eingabeliste!AC192>50,Daten!F$3=FALSE)),1,0)+IF(AND(OR(G192=\"B\",G192=\"C\"),I192=\"XPS\",Eingabeliste!AC192>100),1,0))","v":0}]
[{"$f":"IF(Eingabeliste!A193=\"\",0,1)","v":0},{"$f":"Eingabeliste!B193","v":0},{"$f":"IFERROR(ROUND(Eingabeliste!J193/(COS((Eingabeliste!K193*PI())/180))-(SIN((Eingabeliste!K193*PI())/180)*2)+(Eingabeliste!M193-2.74)+IF(Eingabeliste!L193=0,0,Eingabeliste!L193-2.74)+IF(Eingabeliste!N193=Daten!N$6,0,12-1.86),1),\"\")","v":""},{"$f":"IF(OR(B193=0,Eingabeliste!E193=\"\"),0,MAX(Eingabeliste!E193,1000)*B193)","v":0},{"$f":"IFERROR((ROUNDUP(Eingabeliste!E193/Daten!$K$15,0)-1)*B193,\"\")","v":""},{"$f":"IF(Eingabeliste!N193=\"Pulverbesch.\",Daten!$D$1,Eingabeliste!N193)","v":""},{"$f":"Eingabeliste!AB193","v":""},{"$f":"Eingabeliste!AC193","v":""},{"$f":"Eingabeliste!AA193","v":""},{"$f":"Eingabeliste!I193","v":""},{"$f":"Eingabeliste!G193","v":""},{"$f":"Eingabeliste!H193","v":""},null,null,null,null,null,null,null,null,{"$f":"IF(OR(Eingabeliste!O193=\"Flexila PU\",Eingabeliste!O193=\"Flexila STB\"),Eingabeliste!B193,0)+IF(OR(Eingabeliste!S193=\"Flexila PU\",Eingabeliste!S193=\"Flexila STB\"),Eingabeliste!B193,0)","v":0},null,null,null,null,null,null,null,null,null,null,null,null,null,null,null,null,null,null,null,null,null,null,null,null,0,null,null,null,{"$f":"IF(A193=0,0,IF(C193>$C$2,1,0)+IF(AND(Daten!$F$3=TRUE,Zusammenfassung!J193>Preise!$A$70),1,0)+IF(AND(G193=\"D\",K193>Preise!$A$54),1,0)+IF(AND(OR(G193=\"B\",G193=\"C\"),I193<>\"XPS\",AND(Eingabeliste!AC193>50,Daten!F$3=FALSE)),1,0)+IF(AND(OR(G193=\"B\",G193=\"C\"),I193=\"XPS\",Eingabeliste!AC193>100),1,0))","v":0}]
[{"$f":"IF(Eingabeliste!A194=\"\",0,1)","v":0},{"$f":"Eingabeliste!B194","v":0},{"$f":"IFERROR(ROUND(Eingabeliste!J194/(COS((Eingabeliste!K194*PI())/180))-(SIN((Eingabeliste!K194*PI())/180)*2)+(Eingabeliste!M194-2.74)+IF(Eingabeliste!L194=0,0,Eingabeliste!L194-2.74)+IF(Eingabeliste!N194=Daten!N$6,0,12-1.86),1),\"\")","v":""},{"$f":"IF(OR(B194=0,Eingabeliste!E194=\"\"),0,MAX(Eingabeliste!E194,1000)*B194)","v":0},{"$f":"IFERROR((ROUNDUP(Eingabeliste!E194/Daten!$K$15,0)-1)*B194,\"\")","v":""},{"$f":"IF(Eingabeliste!N194=\"Pulverbesch.\",Daten!$D$1,Eingabeliste!N194)","v":""},{"$f":"Eingabeliste!AB194","v":""},{"$f":"Eingabeliste!AC194","v":""},{"$f":"Eingabeliste!AA194","v":""},{"$f":"Eingabeliste!I194","v":""},{"$f":"Eingabeliste!G194","v":""},{"$f":"Eingabeliste!H194","v":""},null,null,null,null,null,null,null,null,{"$f":"IF(OR(Eingabeliste!O194=\"Flexila PU\",Eingabeliste!O194=\"Flexila STB\"),Eingabeliste!B194,0)+IF(OR(Eingabeliste!S194=\"Flexila PU\",Eingabeliste!S194=\"Flexila STB\"),Eingabeliste!B194,0)","v":0},null,null,null,null,null,null,null,null,null,null,null,null,null,null,null,null,null,null,null,null,null,null,null,null,0,null,null,null,{"$f":"IF(A194=0,0,IF(C194>$C$2,1,0)+IF(AND(Daten!$F$3=TRUE,Zusammenfassung!J194>Preise!$A$70),1,0)+IF(AND(G194=\"D\",K194>Preise!$A$54),1,0)+IF(AND(OR(G194=\"B\",G194=\"C\"),I194<>\"XPS\",AND(Eingabeliste!AC194>50,Daten!F$3=FALSE)),1,0)+IF(AND(OR(G194=\"B\",G194=\"C\"),I194=\"XPS\",Eingabeliste!AC194>100),1,0))","v":0}]
[{"$f":"IF(Eingabeliste!A195=\"\",0,1)","v":0},{"$f":"Eingabeliste!B195","v":0},{"$f":"IFERROR(ROUND(Eingabeliste!J195/(COS((Eingabeliste!K195*PI())/180))-(SIN((Eingabeliste!K195*PI())/180)*2)+(Eingabeliste!M195-2.74)+IF(Eingabeliste!L195=0,0,Eingabeliste!L195-2.74)+IF(Eingabeliste!N195=Daten!N$6,0,12-1.86),1),\"\")","v":""},{"$f":"IF(OR(B195=0,Eingabeliste!E195=\"\"),0,MAX(Eingabeliste!E195,1000)*B195)","v":0},{"$f":"IFERROR((ROUNDUP(Eingabeliste!E195/Daten!$K$15,0)-1)*B195,\"\")","v":""},{"$f":"IF(Eingabeliste!N195=\"Pulverbesch.\",Daten!$D$1,Eingabeliste!N195)","v":""},{"$f":"Eingabeliste!AB195","v":""},{"$f":"Eingabeliste!AC195","v":""},{"$f":"Eingabeliste!AA195","v":""},{"$f":"Eingabeliste!I195","v":""},{"$f":"Eingabeliste!G195","v":""},{"$f":"Eingabeliste!H195","v":""},null,null,null,null,null,null,null,null,{"$f":"IF(OR(Eingabeliste!O195=\"Flexila PU\",Eingabeliste!O195=\"Flexila STB\"),Eingabeliste!B195,0)+IF(OR(Eingabeliste!S195=\"Flexila PU\",Eingabeliste!S195=\"Flexila STB\"),Eingabeliste!B195,0)","v":0},null,null,null,null,null,null,null,null,null,null,null,null,null,null,null,null,null,null,null,null,null,null,null,null,0,null,null,null,{"$f":"IF(A195=0,0,IF(C195>$C$2,1,0)+IF(AND(Daten!$F$3=TRUE,Zusammenfassung!J195>Preise!$A$70),1,0)+IF(AND(G195=\"D\",K195>Preise!$A$54),1,0)+IF(AND(OR(G195=\"B\",G195=\"C\"),I195<>\"XPS\",AND(Eingabeliste!AC195>50,Daten!F$3=FALSE)),1,0)+IF(AND(OR(G195=\"B\",G195=\"C\"),I195=\"XPS\",Eingabeliste!AC195>100),1,0))","v":0}]
[{"$f":"IF(Eingabeliste!A196=\"\",0,1)","v":0},{"$f":"Eingabeliste!B196","v":0},{"$f":"IFERROR(ROUND(Eingabeliste!J196/(COS((Eingabeliste!K196*PI())/180))-(SIN((Eingabeliste!K196*PI())/180)*2)+(Eingabeliste!M196-2.74)+IF(Eingabeliste!L196=0,0,Eingabeliste!L196-2.74)+IF(Eingabeliste!N196=Daten!N$6,0,12-1.86),1),\"\")","v":""},{"$f":"IF(OR(B196=0,Eingabeliste!E196=\"\"),0,MAX(Eingabeliste!E196,1000)*B196)","v":0},{"$f":"IFERROR((ROUNDUP(Eingabeliste!E196/Daten!$K$15,0)-1)*B196,\"\")","v":""},{"$f":"IF(Eingabeliste!N196=\"Pulverbesch.\",Daten!$D$1,Eingabeliste!N196)","v":""},{"$f":"Eingabeliste!AB196","v":""},{"$f":"Eingabeliste!AC196","v":""},{"$f":"Eingabeliste!AA196","v":""},{"$f":"Eingabeliste!I196","v":""},{"$f":"Eingabeliste!G196","v":""},{"$f":"Eingabeliste!H196","v":""},null,null,null,null,null,null,null,null,{"$f":"IF(OR(Eingabeliste!O196=\"Flexila PU\",Eingabeliste!O196=\"Flexila STB\"),Eingabeliste!B196,0)+IF(OR(Eingabeliste!S196=\"Flexila PU\",Eingabeliste!S196=\"Flexila STB\"),Eingabeliste!B196,0)","v":0},null,null,null,null,null,null,null,null,null,null,null,null,null,null,null,null,null,null,null,null,null,null,null,null,0,null,null,null,{"$f":"IF(A196=0,0,IF(C196>$C$2,1,0)+IF(AND(Daten!$F$3=TRUE,Zusammenfassung!J196>Preise!$A$70),1,0)+IF(AND(G196=\"D\",K196>Preise!$A$54),1,0)+IF(AND(OR(G196=\"B\",G196=\"C\"),I196<>\"XPS\",AND(Eingabeliste!AC196>50,Daten!F$3=FALSE)),1,0)+IF(AND(OR(G196=\"B\",G196=\"C\"),I196=\"XPS\",Eingabeliste!AC196>100),1,0))","v":0}]
[{"$f":"IF(Eingabeliste!A197=\"\",0,1)","v":0},{"$f":"Eingabeliste!B197","v":0},{"$f":"IFERROR(ROUND(Eingabeliste!J197/(COS((Eingabeliste!K197*PI())/180))-(SIN((Eingabeliste!K197*PI())/180)*2)+(Eingabeliste!M197-2.74)+IF(Eingabeliste!L197=0,0,Eingabeliste!L197-2.74)+IF(Eingabeliste!N197=Daten!N$6,0,12-1.86),1),\"\")","v":""},{"$f":"IF(OR(B197=0,Eingabeliste!E197=\"\"),0,MAX(Eingabeliste!E197,1000)*B197)","v":0},{"$f":"IFERROR((ROUNDUP(Eingabeliste!E197/Daten!$K$15,0)-1)*B197,\"\")","v":""},{"$f":"IF(Eingabeliste!N197=\"Pulverbesch.\",Daten!$D$1,Eingabeliste!N197)","v":""},{"$f":"Eingabeliste!AB197","v":""},{"$f":"Eingabeliste!AC197","v":""},{"$f":"Eingabeliste!AA197","v":""},{"$f":"Eingabeliste!I197","v":""},{"$f":"Eingabeliste!G197","v":""},{"$f":"Eingabeliste!H197","v":""},null,null,null,null,null,null,null,null,{"$f":"IF(OR(Eingabeliste!O197=\"Flexila PU\",Eingabeliste!O197=\"Flexila STB\"),Eingabeliste!B197,0)+IF(OR(Eingabeliste!S197=\"Flexila PU\",Eingabeliste!S197=\"Flexila STB\"),Eingabeliste!B197,0)","v":0},null,null,null,null,null,null,null,null,null,null,null,null,null,null,null,null,null,null,null,null,null,null,null,null,0,null,null,null,{"$f":"IF(A197=0,0,IF(C197>$C$2,1,0)+IF(AND(Daten!$F$3=TRUE,Zusammenfassung!J197>Preise!$A$70),1,0)+IF(AND(G197=\"D\",K197>Preise!$A$54),1,0)+IF(AND(OR(G197=\"B\",G197=\"C\"),I197<>\"XPS\",AND(Eingabeliste!AC197>50,Daten!F$3=FALSE)),1,0)+IF(AND(OR(G197=\"B\",G197=\"C\"),I197=\"XPS\",Eingabeliste!AC197>100),1,0))","v":0}]
[{"$f":"IF(Eingabeliste!A198=\"\",0,1)","v":0},{"$f":"Eingabeliste!B198","v":0},{"$f":"IFERROR(ROUND(Eingabeliste!J198/(COS((Eingabeliste!K198*PI())/180))-(SIN((Eingabeliste!K198*PI())/180)*2)+(Eingabeliste!M198-2.74)+IF(Eingabeliste!L198=0,0,Eingabeliste!L198-2.74)+IF(Eingabeliste!N198=Daten!N$6,0,12-1.86),1),\"\")","v":""},{"$f":"IF(OR(B198=0,Eingabeliste!E198=\"\"),0,MAX(Eingabeliste!E198,1000)*B198)","v":0},{"$f":"IFERROR((ROUNDUP(Eingabeliste!E198/Daten!$K$15,0)-1)*B198,\"\")","v":""},{"$f":"IF(Eingabeliste!N198=\"Pulverbesch.\",Daten!$D$1,Eingabeliste!N198)","v":""},{"$f":"Eingabeliste!AB198","v":""},{"$f":"Eingabeliste!AC198","v":""},{"$f":"Eingabeliste!AA198","v":""},{"$f":"Eingabeliste!I198","v":""},{"$f":"Eingabeliste!G198","v":""},{"$f":"Eingabeliste!H198","v":""},null,null,null,null,null,null,null,null,{"$f":"IF(OR(Eingabeliste!O198=\"Flexila PU\",Eingabeliste!O198=\"Flexila STB\"),Eingabeliste!B198,0)+IF(OR(Eingabeliste!S198=\"Flexila PU\",Eingabeliste!S198=\"Flexila STB\"),Eingabeliste!B198,0)","v":0},null,null,null,null,null,null,null,null,null,null,null,null,null,null,null,null,null,null,null,null,null,null,null,null,{"$f":"IF(B198=0,0,ROUNDUP(D198/800,0)+1)","v":0},null,null,null,{"$f":"IF(A198=0,0,IF(C198>$C$2,1,0)+IF(AND(Daten!$F$3=TRUE,Zusammenfassung!J198>Preise!$A$70),1,0)+IF(AND(G198=\"D\",K198>Preise!$A$54),1,0)+IF(AND(OR(G198=\"B\",G198=\"C\"),I198<>\"XPS\",AND(Eingabeliste!AC198>50,Daten!F$3=FALSE)),1,0)+IF(AND(OR(G198=\"B\",G198=\"C\"),I198=\"XPS\",Eingabeliste!AC198>100),1,0))","v":0}]
[{"$f":"IF(Eingabeliste!A199=\"\",0,1)","v":0},{"$f":"Eingabeliste!B199","v":0},{"$f":"IFERROR(ROUND(Eingabeliste!J199/(COS((Eingabeliste!K199*PI())/180))-(SIN((Eingabeliste!K199*PI())/180)*2)+(Eingabeliste!M199-2.74)+IF(Eingabeliste!L199=0,0,Eingabeliste!L199-2.74)+IF(Eingabeliste!N199=Daten!N$6,0,12-1.86),1),\"\")","v":""},{"$f":"IF(OR(B199=0,Eingabeliste!E199=\"\"),0,MAX(Eingabeliste!E199,1000)*B199)","v":0},{"$f":"IFERROR((ROUNDUP(Eingabeliste!E199/Daten!$K$15,0)-1)*B199,\"\")","v":""},{"$f":"IF(Eingabeliste!N199=\"Pulverbesch.\",Daten!$D$1,Eingabeliste!N199)","v":""},{"$f":"Eingabeliste!AB199","v":""},{"$f":"Eingabeliste!AC199","v":""},{"$f":"Eingabeliste!AA199","v":""},{"$f":"Eingabeliste!I199","v":""},{"$f":"Eingabeliste!G199","v":""},{"$f":"Eingabeliste!H199","v":""},null,null,null,null,null,null,null,null,{"$f":"IF(OR(Eingabeliste!O199=\"Flexila PU\",Eingabeliste!O199=\"Flexila STB\"),Eingabeliste!B199,0)+IF(OR(Eingabeliste!S199=\"Flexila PU\",Eingabeliste!S199=\"Flexila STB\"),Eingabeliste!B199,0)","v":0},null,null,null,null,null,null,null,null,null,null,null,null,null,null,null,null,null,null,null,null,null,null,null,null,0,null,null,null,{"$f":"IF(A199=0,0,IF(C199>$C$2,1,0)+IF(AND(Daten!$F$3=TRUE,Zusammenfassung!J199>Preise!$A$70),1,0)+IF(AND(G199=\"D\",K199>Preise!$A$54),1,0)+IF(AND(OR(G199=\"B\",G199=\"C\"),I199<>\"XPS\",AND(Eingabeliste!AC199>50,Daten!F$3=FALSE)),1,0)+IF(AND(OR(G199=\"B\",G199=\"C\"),I199=\"XPS\",Eingabeliste!AC199>100),1,0))","v":0}]
[{"$f":"IF(Eingabeliste!A200=\"\",0,1)","v":0},{"$f":"Eingabeliste!B200","v":0},{"$f":"IFERROR(ROUND(Eingabeliste!J200/(COS((Eingabeliste!K200*PI())/180))-(SIN((Eingabeliste!K200*PI())/180)*2)+(Eingabeliste!M200-2.74)+IF(Eingabeliste!L200=0,0,Eingabeliste!L200-2.74)+IF(Eingabeliste!N200=Daten!N$6,0,12-1.86),1),\"\")","v":""},{"$f":"IF(OR(B200=0,Eingabeliste!E200=\"\"),0,MAX(Eingabeliste!E200,1000)*B200)","v":0},{"$f":"IFERROR((ROUNDUP(Eingabeliste!E200/Daten!$K$15,0)-1)*B200,\"\")","v":""},{"$f":"IF(Eingabeliste!N200=\"Pulverbesch.\",Daten!$D$1,Eingabeliste!N200)","v":""},{"$f":"Eingabeliste!AB200","v":""},{"$f":"Eingabeliste!AC200","v":""},{"$f":"Eingabeliste!AA200","v":""},{"$f":"Eingabeliste!I200","v":""},{"$f":"Eingabeliste!G200","v":""},{"$f":"Eingabeliste!H200","v":""},null,null,null,null,null,null,null,null,{"$f":"IF(OR(Eingabeliste!O200=\"Flexila PU\",Eingabeliste!O200=\"Flexila STB\"),Eingabeliste!B200,0)+IF(OR(Eingabeliste!S200=\"Flexila PU\",Eingabeliste!S200=\"Flexila STB\"),Eingabeliste!B200,0)","v":0},null,null,null,null,null,null,null,null,null,null,null,null,null,null,null,null,null,null,null,null,null,null,null,null,0,null,null,null,{"$f":"IF(A200=0,0,IF(C200>$C$2,1,0)+IF(AND(Daten!$F$3=TRUE,Zusammenfassung!J200>Preise!$A$70),1,0)+IF(AND(G200=\"D\",K200>Preise!$A$54),1,0)+IF(AND(OR(G200=\"B\",G200=\"C\"),I200<>\"XPS\",AND(Eingabeliste!AC200>50,Daten!F$3=FALSE)),1,0)+IF(AND(OR(G200=\"B\",G200=\"C\"),I200=\"XPS\",Eingabeliste!AC200>100),1,0))","v":0}]
[{"$f":"IF(Eingabeliste!A201=\"\",0,1)","v":0},{"$f":"Eingabeliste!B201","v":0},{"$f":"IFERROR(ROUND(Eingabeliste!J201/(COS((Eingabeliste!K201*PI())/180))-(SIN((Eingabeliste!K201*PI())/180)*2)+(Eingabeliste!M201-2.74)+IF(Eingabeliste!L201=0,0,Eingabeliste!L201-2.74)+IF(Eingabeliste!N201=Daten!N$6,0,12-1.86),1),\"\")","v":""},{"$f":"IF(OR(B201=0,Eingabeliste!E201=\"\"),0,MAX(Eingabeliste!E201,1000)*B201)","v":0},{"$f":"IFERROR((ROUNDUP(Eingabeliste!E201/Daten!$K$15,0)-1)*B201,\"\")","v":""},{"$f":"IF(Eingabeliste!N201=\"Pulverbesch.\",Daten!$D$1,Eingabeliste!N201)","v":""},{"$f":"Eingabeliste!AB201","v":""},{"$f":"Eingabeliste!AC201","v":""},{"$f":"Eingabeliste!AA201","v":""},{"$f":"Eingabeliste!I201","v":""},{"$f":"Eingabeliste!G201","v":""},{"$f":"Eingabeliste!H201","v":""},null,null,null,null,null,null,null,null,{"$f":"IF(OR(Eingabeliste!O201=\"Flexila PU\",Eingabeliste!O201=\"Flexila STB\"),Eingabeliste!B201,0)+IF(OR(Eingabeliste!S201=\"Flexila PU\",Eingabeliste!S201=\"Flexila STB\"),Eingabeliste!B201,0)","v":0},null,null,null,null,null,null,null,null,null,null,null,null,null,null,null,null,null,null,null,null,null,null,null,null,0,null,null,null,{"$f":"IF(A201=0,0,IF(C201>$C$2,1,0)+IF(AND(Daten!$F$3=TRUE,Zusammenfassung!J201>Preise!$A$70),1,0)+IF(AND(G201=\"D\",K201>Preise!$A$54),1,0)+IF(AND(OR(G201=\"B\",G201=\"C\"),I201<>\"XPS\",AND(Eingabeliste!AC201>50,Daten!F$3=FALSE)),1,0)+IF(AND(OR(G201=\"B\",G201=\"C\"),I201=\"XPS\",Eingabeliste!AC201>100),1,0))","v":0}]
[{"$f":"IF(Eingabeliste!A202=\"\",0,1)","v":0},{"$f":"Eingabeliste!B202","v":0},{"$f":"IFERROR(ROUND(Eingabeliste!J202/(COS((Eingabeliste!K202*PI())/180))-(SIN((Eingabeliste!K202*PI())/180)*2)+(Eingabeliste!M202-2.74)+IF(Eingabeliste!L202=0,0,Eingabeliste!L202-2.74)+IF(Eingabeliste!N202=Daten!N$6,0,12-1.86),1),\"\")","v":""},{"$f":"IF(OR(B202=0,Eingabeliste!E202=\"\"),0,MAX(Eingabeliste!E202,1000)*B202)","v":0},{"$f":"IFERROR((ROUNDUP(Eingabeliste!E202/Daten!$K$15,0)-1)*B202,\"\")","v":""},{"$f":"IF(Eingabeliste!N202=\"Pulverbesch.\",Daten!$D$1,Eingabeliste!N202)","v":""},{"$f":"Eingabeliste!AB202","v":""},{"$f":"Eingabeliste!AC202","v":""},{"$f":"Eingabeliste!AA202","v":""},{"$f":"Eingabeliste!I202","v":""},{"$f":"Eingabeliste!G202","v":""},{"$f":"Eingabeliste!H202","v":""},null,null,null,null,null,null,null,null,{"$f":"IF(OR(Eingabeliste!O202=\"Flexila PU\",Eingabeliste!O202=\"Flexila STB\"),Eingabeliste!B202,0)+IF(OR(Eingabeliste!S202=\"Flexila PU\",Eingabeliste!S202=\"Flexila STB\"),Eingabeliste!B202,0)","v":0},null,null,null,null,null,null,null,null,null,null,null,null,null,null,null,null,null,null,null,null,null,null,null,null,0,null,null,null,{"$f":"IF(A202=0,0,IF(C202>$C$2,1,0)+IF(AND(Daten!$F$3=TRUE,Zusammenfassung!J202>Preise!$A$70),1,0)+IF(AND(G202=\"D\",K202>Preise!$A$54),1,0)+IF(AND(OR(G202=\"B\",G202=\"C\"),I202<>\"XPS\",AND(Eingabeliste!AC202>50,Daten!F$3=FALSE)),1,0)+IF(AND(OR(G202=\"B\",G202=\"C\"),I202=\"XPS\",Eingabeliste!AC202>100),1,0))","v":0}]
[{"$f":"IF(Eingabeliste!A203=\"\",0,1)","v":0},{"$f":"Eingabeliste!B203","v":0},{"$f":"IFERROR(ROUND(Eingabeliste!J203/(COS((Eingabeliste!K203*PI())/180))-(SIN((Eingabeliste!K203*PI())/180)*2)+(Eingabeliste!M203-2.74)+IF(Eingabeliste!L203=0,0,Eingabeliste!L203-2.74)+IF(Eingabeliste!N203=Daten!N$6,0,12-1.86),1),\"\")","v":""},{"$f":"IF(OR(B203=0,Eingabeliste!E203=\"\"),0,MAX(Eingabeliste!E203,1000)*B203)","v":0},{"$f":"IFERROR((ROUNDUP(Eingabeliste!E203/Daten!$K$15,0)-1)*B203,\"\")","v":""},{"$f":"IF(Eingabeliste!N203=\"Pulverbesch.\",Daten!$D$1,Eingabeliste!N203)","v":""},{"$f":"Eingabeliste!AB203","v":""},{"$f":"Eingabeliste!AC203","v":""},{"$f":"Eingabeliste!AA203","v":""},{"$f":"Eingabeliste!I203","v":""},{"$f":"Eingabeliste!G203","v":""},{"$f":"Eingabeliste!H203","v":""},null,null,null,null,null,null,null,null,{"$f":"IF(OR(Eingabeliste!O203=\"Flexila PU\",Eingabeliste!O203=\"Flexila STB\"),Eingabeliste!B203,0)+IF(OR(Eingabeliste!S203=\"Flexila PU\",Eingabeliste!S203=\"Flexila STB\"),Eingabeliste!B203,0)","v":0},null,null,null,null,null,null,null,null,null,null,null,null,null,null,null,null,null,null,null,null,null,null,null,null,0,null,null,null,{"$f":"IF(A203=0,0,IF(C203>$C$2,1,0)+IF(AND(Daten!$F$3=TRUE,Zusammenfassung!J203>Preise!$A$70),1,0)+IF(AND(G203=\"D\",K203>Preise!$A$54),1,0)+IF(AND(OR(G203=\"B\",G203=\"C\"),I203<>\"XPS\",AND(Eingabeliste!AC203>50,Daten!F$3=FALSE)),1,0)+IF(AND(OR(G203=\"B\",G203=\"C\"),I203=\"XPS\",Eingabeliste!AC203>100),1,0))","v":0}]
[{"$f":"IF(Eingabeliste!A204=\"\",0,1)","v":0},{"$f":"Eingabeliste!B204","v":0},{"$f":"IFERROR(ROUND(Eingabeliste!J204/(COS((Eingabeliste!K204*PI())/180))-(SIN((Eingabeliste!K204*PI())/180)*2)+(Eingabeliste!M204-2.74)+IF(Eingabeliste!L204=0,0,Eingabeliste!L204-2.74)+IF(Eingabeliste!N204=Daten!N$6,0,12-1.86),1),\"\")","v":""},{"$f":"IF(OR(B204=0,Eingabeliste!E204=\"\"),0,MAX(Eingabeliste!E204,1000)*B204)","v":0},{"$f":"IFERROR((ROUNDUP(Eingabeliste!E204/Daten!$K$15,0)-1)*B204,\"\")","v":""},{"$f":"IF(Eingabeliste!N204=\"Pulverbesch.\",Daten!$D$1,Eingabeliste!N204)","v":""},{"$f":"Eingabeliste!AB204","v":""},{"$f":"Eingabeliste!AC204","v":""},{"$f":"Eingabeliste!AA204","v":""},{"$f":"Eingabeliste!I204","v":""},{"$f":"Eingabeliste!G204","v":""},{"$f":"Eingabeliste!H204","v":""},null,null,null,null,null,null,null,null,{"$f":"IF(OR(Eingabeliste!O204=\"Flexila PU\",Eingabeliste!O204=\"Flexila STB\"),Eingabeliste!B204,0)+IF(OR(Eingabeliste!S204=\"Flexila PU\",Eingabeliste!S204=\"Flexila STB\"),Eingabeliste!B204,0)","v":0},null,null,null,null,null,null,null,null,null,null,null,null,null,null,null,null,null,null,null,null,null,null,null,null,0,null,null,null,{"$f":"IF(A204=0,0,IF(C204>$C$2,1,0)+IF(AND(Daten!$F$3=TRUE,Zusammenfassung!J204>Preise!$A$70),1,0)+IF(AND(G204=\"D\",K204>Preise!$A$54),1,0)+IF(AND(OR(G204=\"B\",G204=\"C\"),I204<>\"XPS\",AND(Eingabeliste!AC204>50,Daten!F$3=FALSE)),1,0)+IF(AND(OR(G204=\"B\",G204=\"C\"),I204=\"XPS\",Eingabeliste!AC204>100),1,0))","v":0}]
[{"$f":"IF(Eingabeliste!A205=\"\",0,1)","v":0},{"$f":"Eingabeliste!B205","v":0},{"$f":"IFERROR(ROUND(Eingabeliste!J205/(COS((Eingabeliste!K205*PI())/180))-(SIN((Eingabeliste!K205*PI())/180)*2)+(Eingabeliste!M205-2.74)+IF(Eingabeliste!L205=0,0,Eingabeliste!L205-2.74)+IF(Eingabeliste!N205=Daten!N$6,0,12-1.86),1),\"\")","v":""},{"$f":"IF(OR(B205=0,Eingabeliste!E205=\"\"),0,MAX(Eingabeliste!E205,1000)*B205)","v":0},{"$f":"IFERROR((ROUNDUP(Eingabeliste!E205/Daten!$K$15,0)-1)*B205,\"\")","v":""},{"$f":"IF(Eingabeliste!N205=\"Pulverbesch.\",Daten!$D$1,Eingabeliste!N205)","v":""},{"$f":"Eingabeliste!AB205","v":""},{"$f":"Eingabeliste!AC205","v":""},{"$f":"Eingabeliste!AA205","v":""},{"$f":"Eingabeliste!I205","v":""},{"$f":"Eingabeliste!G205","v":""},{"$f":"Eingabeliste!H205","v":""},null,null,null,null,null,null,null,null,{"$f":"IF(OR(Eingabeliste!O205=\"Flexila PU\",Eingabeliste!O205=\"Flexila STB\"),Eingabeliste!B205,0)+IF(OR(Eingabeliste!S205=\"Flexila PU\",Eingabeliste!S205=\"Flexila STB\"),Eingabeliste!B205,0)","v":0},null,null,null,null,null,null,null,null,null,null,null,null,null,null,null,null,null,null,null,null,null,null,null,null,0,null,null,null,{"$f":"IF(A205=0,0,IF(C205>$C$2,1,0)+IF(AND(Daten!$F$3=TRUE,Zusammenfassung!J205>Preise!$A$70),1,0)+IF(AND(G205=\"D\",K205>Preise!$A$54),1,0)+IF(AND(OR(G205=\"B\",G205=\"C\"),I205<>\"XPS\",AND(Eingabeliste!AC205>50,Daten!F$3=FALSE)),1,0)+IF(AND(OR(G205=\"B\",G205=\"C\"),I205=\"XPS\",Eingabeliste!AC205>100),1,0))","v":0}]
[{"$f":"IF(Eingabeliste!A206=\"\",0,1)","v":0},{"$f":"Eingabeliste!B206","v":0},{"$f":"IFERROR(ROUND(Eingabeliste!J206/(COS((Eingabeliste!K206*PI())/180))-(SIN((Eingabeliste!K206*PI())/180)*2)+(Eingabeliste!M206-2.74)+IF(Eingabeliste!L206=0,0,Eingabeliste!L206-2.74)+IF(Eingabeliste!N206=Daten!N$6,0,12-1.86),1),\"\")","v":""},{"$f":"IF(OR(B206=0,Eingabeliste!E206=\"\"),0,MAX(Eingabeliste!E206,1000)*B206)","v":0},{"$f":"IFERROR((ROUNDUP(Eingabeliste!E206/Daten!$K$15,0)-1)*B206,\"\")","v":""},{"$f":"IF(Eingabeliste!N206=\"Pulverbesch.\",Daten!$D$1,Eingabeliste!N206)","v":""},{"$f":"Eingabeliste!AB206","v":""},{"$f":"Eingabeliste!AC206","v":""},{"$f":"Eingabeliste!AA206","v":""},{"$f":"Eingabeliste!I206","v":""},{"$f":"Eingabeliste!G206","v":""},{"$f":"Eingabeliste!H206","v":""},null,null,null,null,null,null,null,null,{"$f":"IF(OR(Eingabeliste!O206=\"Flexila PU\",Eingabeliste!O206=\"Flexila STB\"),Eingabeliste!B206,0)+IF(OR(Eingabeliste!S206=\"Flexila PU\",Eingabeliste!S206=\"Flexila STB\"),Eingabeliste!B206,0)","v":0},null,null,null,null,null,null,null,null,null,null,null,null,null,null,null,null,null,null,null,null,null,null,null,null,0,null,null,null,{"$f":"IF(A206=0,0,IF(C206>$C$2,1,0)+IF(AND(Daten!$F$3=TRUE,Zusammenfassung!J206>Preise!$A$70),1,0)+IF(AND(G206=\"D\",K206>Preise!$A$54),1,0)+IF(AND(OR(G206=\"B\",G206=\"C\"),I206<>\"XPS\",AND(Eingabeliste!AC206>50,Daten!F$3=FALSE)),1,0)+IF(AND(OR(G206=\"B\",G206=\"C\"),I206=\"XPS\",Eingabeliste!AC206>100),1,0))","v":0}]
[{"$f":"IF(Eingabeliste!A207=\"\",0,1)","v":0},{"$f":"Eingabeliste!B207","v":0},{"$f":"IFERROR(ROUND(Eingabeliste!J207/(COS((Eingabeliste!K207*PI())/180))-(SIN((Eingabeliste!K207*PI())/180)*2)+(Eingabeliste!M207-2.74)+IF(Eingabeliste!L207=0,0,Eingabeliste!L207-2.74)+IF(Eingabeliste!N207=Daten!N$6,0,12-1.86),1),\"\")","v":""},{"$f":"IF(OR(B207=0,Eingabeliste!E207=\"\"),0,MAX(Eingabeliste!E207,1000)*B207)","v":0},{"$f":"IFERROR((ROUNDUP(Eingabeliste!E207/Daten!$K$15,0)-1)*B207,\"\")","v":""},{"$f":"IF(Eingabeliste!N207=\"Pulverbesch.\",Daten!$D$1,Eingabeliste!N207)","v":""},{"$f":"Eingabeliste!AB207","v":""},{"$f":"Eingabeliste!AC207","v":""},{"$f":"Eingabeliste!AA207","v":""},{"$f":"Eingabeliste!I207","v":""},{"$f":"Eingabeliste!G207","v":""},{"$f":"Eingabeliste!H207","v":""},null,null,null,null,null,null,null,null,{"$f":"IF(OR(Eingabeliste!O207=\"Flexila PU\",Eingabeliste!O207=\"Flexila STB\"),Eingabeliste!B207,0)+IF(OR(Eingabeliste!S207=\"Flexila PU\",Eingabeliste!S207=\"Flexila STB\"),Eingabeliste!B207,0)","v":0},null,null,null,null,null,null,null,null,null,null,null,null,null,null,null,null,null,null,null,null,null,null,null,null,0,null,null,null,{"$f":"IF(A207=0,0,IF(C207>$C$2,1,0)+IF(AND(Daten!$F$3=TRUE,Zusammenfassung!J207>Preise!$A$70),1,0)+IF(AND(G207=\"D\",K207>Preise!$A$54),1,0)+IF(AND(OR(G207=\"B\",G207=\"C\"),I207<>\"XPS\",AND(Eingabeliste!AC207>50,Daten!F$3=FALSE)),1,0)+IF(AND(OR(G207=\"B\",G207=\"C\"),I207=\"XPS\",Eingabeliste!AC207>100),1,0))","v":0}]
[{"$f":"IF(Eingabeliste!A208=\"\",0,1)","v":0},{"$f":"Eingabeliste!B208","v":0},{"$f":"IFERROR(ROUND(Eingabeliste!J208/(COS((Eingabeliste!K208*PI())/180))-(SIN((Eingabeliste!K208*PI())/180)*2)+(Eingabeliste!M208-2.74)+IF(Eingabeliste!L208=0,0,Eingabeliste!L208-2.74)+IF(Eingabeliste!N208=Daten!N$6,0,12-1.86),1),\"\")","v":""},{"$f":"IF(OR(B208=0,Eingabeliste!E208=\"\"),0,MAX(Eingabeliste!E208,1000)*B208)","v":0},{"$f":"IFERROR((ROUNDUP(Eingabeliste!E208/Daten!$K$15,0)-1)*B208,\"\")","v":""},{"$f":"IF(Eingabeliste!N208=\"Pulverbesch.\",Daten!$D$1,Eingabeliste!N208)","v":""},{"$f":"Eingabeliste!AB208","v":""},{"$f":"Eingabeliste!AC208","v":""},{"$f":"Eingabeliste!AA208","v":""},{"$f":"Eingabeliste!I208","v":""},{"$f":"Eingabeliste!G208","v":""},{"$f":"Eingabeliste!H208","v":""},null,null,null,null,null,null,null,null,{"$f":"IF(OR(Eingabeliste!O208=\"Flexila PU\",Eingabeliste!O208=\"Flexila STB\"),Eingabeliste!B208,0)+IF(OR(Eingabeliste!S208=\"Flexila PU\",Eingabeliste!S208=\"Flexila STB\"),Eingabeliste!B208,0)","v":0},null,null,null,null,null,null,null,null,null,null,null,null,null,null,null,null,null,null,null,null,null,null,null,null,0,null,null,null,{"$f":"IF(A208=0,0,IF(C208>$C$2,1,0)+IF(AND(Daten!$F$3=TRUE,Zusammenfassung!J208>Preise!$A$70),1,0)+IF(AND(G208=\"D\",K208>Preise!$A$54),1,0)+IF(AND(OR(G208=\"B\",G208=\"C\"),I208<>\"XPS\",AND(Eingabeliste!AC208>50,Daten!F$3=FALSE)),1,0)+IF(AND(OR(G208=\"B\",G208=\"C\"),I208=\"XPS\",Eingabeliste!AC208>100),1,0))","v":0}]
[{"$f":"IF(Eingabeliste!A209=\"\",0,1)","v":0},{"$f":"Eingabeliste!B209","v":0},{"$f":"IFERROR(ROUND(Eingabeliste!J209/(COS((Eingabeliste!K209*PI())/180))-(SIN((Eingabeliste!K209*PI())/180)*2)+(Eingabeliste!M209-2.74)+IF(Eingabeliste!L209=0,0,Eingabeliste!L209-2.74)+IF(Eingabeliste!N209=Daten!N$6,0,12-1.86),1),\"\")","v":""},{"$f":"IF(OR(B209=0,Eingabeliste!E209=\"\"),0,MAX(Eingabeliste!E209,1000)*B209)","v":0},{"$f":"IFERROR((ROUNDUP(Eingabeliste!E209/Daten!$K$15,0)-1)*B209,\"\")","v":""},{"$f":"IF(Eingabeliste!N209=\"Pulverbesch.\",Daten!$D$1,Eingabeliste!N209)","v":""},{"$f":"Eingabeliste!AB209","v":""},{"$f":"Eingabeliste!AC209","v":""},{"$f":"Eingabeliste!AA209","v":""},{"$f":"Eingabeliste!I209","v":""},{"$f":"Eingabeliste!G209","v":""},{"$f":"Eingabeliste!H209","v":""},null,null,null,null,null,null,null,null,{"$f":"IF(OR(Eingabeliste!O209=\"Flexila PU\",Eingabeliste!O209=\"Flexila STB\"),Eingabeliste!B209,0)+IF(OR(Eingabeliste!S209=\"Flexila PU\",Eingabeliste!S209=\"Flexila STB\"),Eingabeliste!B209,0)","v":0},null,null,null,null,null,null,null,null,null,null,null,null,null,null,null,null,null,null,null,null,null,null,null,null,0,null,null,null,{"$f":"IF(A209=0,0,IF(C209>$C$2,1,0)+IF(AND(Daten!$F$3=TRUE,Zusammenfassung!J209>Preise!$A$70),1,0)+IF(AND(G209=\"D\",K209>Preise!$A$54),1,0)+IF(AND(OR(G209=\"B\",G209=\"C\"),I209<>\"XPS\",AND(Eingabeliste!AC209>50,Daten!F$3=FALSE)),1,0)+IF(AND(OR(G209=\"B\",G209=\"C\"),I209=\"XPS\",Eingabeliste!AC209>100),1,0))","v":0}]
[{"$f":"IF(Eingabeliste!A210=\"\",0,1)","v":0},{"$f":"Eingabeliste!B210","v":0},{"$f":"IFERROR(ROUND(Eingabeliste!J210/(COS((Eingabeliste!K210*PI())/180))-(SIN((Eingabeliste!K210*PI())/180)*2)+(Eingabeliste!M210-2.74)+IF(Eingabeliste!L210=0,0,Eingabeliste!L210-2.74)+IF(Eingabeliste!N210=Daten!N$6,0,12-1.86),1),\"\")","v":""},{"$f":"IF(OR(B210=0,Eingabeliste!E210=\"\"),0,MAX(Eingabeliste!E210,1000)*B210)","v":0},{"$f":"IFERROR((ROUNDUP(Eingabeliste!E210/Daten!$K$15,0)-1)*B210,\"\")","v":""},{"$f":"IF(Eingabeliste!N210=\"Pulverbesch.\",Daten!$D$1,Eingabeliste!N210)","v":""},{"$f":"Eingabeliste!AB210","v":""},{"$f":"Eingabeliste!AC210","v":""},{"$f":"Eingabeliste!AA210","v":""},{"$f":"Eingabeliste!I210","v":""},{"$f":"Eingabeliste!G210","v":""},{"$f":"Eingabeliste!H210","v":""},null,null,null,null,null,null,null,null,{"$f":"IF(OR(Eingabeliste!O210=\"Flexila PU\",Eingabeliste!O210=\"Flexila STB\"),Eingabeliste!B210,0)+IF(OR(Eingabeliste!S210=\"Flexila PU\",Eingabeliste!S210=\"Flexila STB\"),Eingabeliste!B210,0)","v":0},null,null,null,null,null,null,null,null,null,null,null,null,null,null,null,null,null,null,null,null,null,null,null,null,0,null,null,null,{"$f":"IF(A210=0,0,IF(C210>$C$2,1,0)+IF(AND(Daten!$F$3=TRUE,Zusammenfassung!J210>Preise!$A$70),1,0)+IF(AND(G210=\"D\",K210>Preise!$A$54),1,0)+IF(AND(OR(G210=\"B\",G210=\"C\"),I210<>\"XPS\",AND(Eingabeliste!AC210>50,Daten!F$3=FALSE)),1,0)+IF(AND(OR(G210=\"B\",G210=\"C\"),I210=\"XPS\",Eingabeliste!AC210>100),1,0))","v":0}]
[{"$f":"IF(Eingabeliste!A211=\"\",0,1)","v":0},{"$f":"Eingabeliste!B211","v":0},{"$f":"IFERROR(ROUND(Eingabeliste!J211/(COS((Eingabeliste!K211*PI())/180))-(SIN((Eingabeliste!K211*PI())/180)*2)+(Eingabeliste!M211-2.74)+IF(Eingabeliste!L211=0,0,Eingabeliste!L211-2.74)+IF(Eingabeliste!N211=Daten!N$6,0,12-1.86),1),\"\")","v":""},{"$f":"IF(OR(B211=0,Eingabeliste!E211=\"\"),0,MAX(Eingabeliste!E211,1000)*B211)","v":0},{"$f":"IFERROR((ROUNDUP(Eingabeliste!E211/Daten!$K$15,0)-1)*B211,\"\")","v":""},{"$f":"IF(Eingabeliste!N211=\"Pulverbesch.\",Daten!$D$1,Eingabeliste!N211)","v":""},{"$f":"Eingabeliste!AB211","v":""},{"$f":"Eingabeliste!AC211","v":""},{"$f":"Eingabeliste!AA211","v":""},{"$f":"Eingabeliste!I211","v":""},{"$f":"Eingabeliste!G211","v":""},{"$f":"Eingabeliste!H211","v":""},null,null,null,null,null,null,null,null,{"$f":"IF(OR(Eingabeliste!O211=\"Flexila PU\",Eingabeliste!O211=\"Flexila STB\"),Eingabeliste!B211,0)+IF(OR(Eingabeliste!S211=\"Flexila PU\",Eingabeliste!S211=\"Flexila STB\"),Eingabeliste!B211,0)","v":0},null,null,null,null,null,null,null,null,null,null,null,null,null,null,null,null,null,null,null,null,null,null,null,null,0,null,null,null,{"$f":"IF(A211=0,0,IF(C211>$C$2,1,0)+IF(AND(Daten!$F$3=TRUE,Zusammenfassung!J211>Preise!$A$70),1,0)+IF(AND(G211=\"D\",K211>Preise!$A$54),1,0)+IF(AND(OR(G211=\"B\",G211=\"C\"),I211<>\"XPS\",AND(Eingabeliste!AC211>50,Daten!F$3=FALSE)),1,0)+IF(AND(OR(G211=\"B\",G211=\"C\"),I211=\"XPS\",Eingabeliste!AC211>100),1,0))","v":0}]
[{"$f":"IF(Eingabeliste!A212=\"\",0,1)","v":0},{"$f":"Eingabeliste!B212","v":0},{"$f":"IFERROR(ROUND(Eingabeliste!J212/(COS((Eingabeliste!K212*PI())/180))-(SIN((Eingabeliste!K212*PI())/180)*2)+(Eingabeliste!M212-2.74)+IF(Eingabeliste!L212=0,0,Eingabeliste!L212-2.74)+IF(Eingabeliste!N212=Daten!N$6,0,12-1.86),1),\"\")","v":""},{"$f":"IF(OR(B212=0,Eingabeliste!E212=\"\"),0,MAX(Eingabeliste!E212,1000)*B212)","v":0},{"$f":"IFERROR((ROUNDUP(Eingabeliste!E212/Daten!$K$15,0)-1)*B212,\"\")","v":""},{"$f":"IF(Eingabeliste!N212=\"Pulverbesch.\",Daten!$D$1,Eingabeliste!N212)","v":""},{"$f":"Eingabeliste!AB212","v":""},{"$f":"Eingabeliste!AC212","v":""},{"$f":"Eingabeliste!AA212","v":""},{"$f":"Eingabeliste!I212","v":""},{"$f":"Eingabeliste!G212","v":""},{"$f":"Eingabeliste!H212","v":""},null,null,null,null,null,null,null,null,{"$f":"IF(OR(Eingabeliste!O212=\"Flexila PU\",Eingabeliste!O212=\"Flexila STB\"),Eingabeliste!B212,0)+IF(OR(Eingabeliste!S212=\"Flexila PU\",Eingabeliste!S212=\"Flexila STB\"),Eingabeliste!B212,0)","v":0},null,null,null,null,null,null,null,null,null,null,null,null,null,null,null,null,null,null,null,null,null,null,null,null,0,null,null,null,{"$f":"IF(A212=0,0,IF(C212>$C$2,1,0)+IF(AND(Daten!$F$3=TRUE,Zusammenfassung!J212>Preise!$A$70),1,0)+IF(AND(G212=\"D\",K212>Preise!$A$54),1,0)+IF(AND(OR(G212=\"B\",G212=\"C\"),I212<>\"XPS\",AND(Eingabeliste!AC212>50,Daten!F$3=FALSE)),1,0)+IF(AND(OR(G212=\"B\",G212=\"C\"),I212=\"XPS\",Eingabeliste!AC212>100),1,0))","v":0}]
[{"$f":"IF(Eingabeliste!A213=\"\",0,1)","v":0},{"$f":"Eingabeliste!B213","v":0},{"$f":"IFERROR(ROUND(Eingabeliste!J213/(COS((Eingabeliste!K213*PI())/180))-(SIN((Eingabeliste!K213*PI())/180)*2)+(Eingabeliste!M213-2.74)+IF(Eingabeliste!L213=0,0,Eingabeliste!L213-2.74)+IF(Eingabeliste!N213=Daten!N$6,0,12-1.86),1),\"\")","v":""},{"$f":"IF(OR(B213=0,Eingabeliste!E213=\"\"),0,MAX(Eingabeliste!E213,1000)*B213)","v":0},{"$f":"IFERROR((ROUNDUP(Eingabeliste!E213/Daten!$K$15,0)-1)*B213,\"\")","v":""},{"$f":"IF(Eingabeliste!N213=\"Pulverbesch.\",Daten!$D$1,Eingabeliste!N213)","v":""},{"$f":"Eingabeliste!AB213","v":""},{"$f":"Eingabeliste!AC213","v":""},{"$f":"Eingabeliste!AA213","v":""},{"$f":"Eingabeliste!I213","v":""},{"$f":"Eingabeliste!G213","v":""},{"$f":"Eingabeliste!H213","v":""},null,null,null,null,null,null,null,null,{"$f":"IF(OR(Eingabeliste!O213=\"Flexila PU\",Eingabeliste!O213=\"Flexila STB\"),Eingabeliste!B213,0)+IF(OR(Eingabeliste!S213=\"Flexila PU\",Eingabeliste!S213=\"Flexila STB\"),Eingabeliste!B213,0)","v":0},null,null,null,null,null,null,null,null,null,null,null,null,null,null,null,null,null,null,null,null,null,null,null,null,0,null,null,null,{"$f":"IF(A213=0,0,IF(C213>$C$2,1,0)+IF(AND(Daten!$F$3=TRUE,Zusammenfassung!J213>Preise!$A$70),1,0)+IF(AND(G213=\"D\",K213>Preise!$A$54),1,0)+IF(AND(OR(G213=\"B\",G213=\"C\"),I213<>\"XPS\",AND(Eingabeliste!AC213>50,Daten!F$3=FALSE)),1,0)+IF(AND(OR(G213=\"B\",G213=\"C\"),I213=\"XPS\",Eingabeliste!AC213>100),1,0))","v":0}]
[{"$f":"IF(Eingabeliste!A214=\"\",0,1)","v":0},{"$f":"Eingabeliste!B214","v":0},{"$f":"IFERROR(ROUND(Eingabeliste!J214/(COS((Eingabeliste!K214*PI())/180))-(SIN((Eingabeliste!K214*PI())/180)*2)+(Eingabeliste!M214-2.74)+IF(Eingabeliste!L214=0,0,Eingabeliste!L214-2.74)+IF(Eingabeliste!N214=Daten!N$6,0,12-1.86),1),\"\")","v":""},{"$f":"IF(OR(B214=0,Eingabeliste!E214=\"\"),0,MAX(Eingabeliste!E214,1000)*B214)","v":0},{"$f":"IFERROR((ROUNDUP(Eingabeliste!E214/Daten!$K$15,0)-1)*B214,\"\")","v":""},{"$f":"IF(Eingabeliste!N214=\"Pulverbesch.\",Daten!$D$1,Eingabeliste!N214)","v":""},{"$f":"Eingabeliste!AB214","v":""},{"$f":"Eingabeliste!AC214","v":""},{"$f":"Eingabeliste!AA214","v":""},{"$f":"Eingabeliste!I214","v":""},{"$f":"Eingabeliste!G214","v":""},{"$f":"Eingabeliste!H214","v":""},null,null,null,null,null,null,null,null,{"$f":"IF(OR(Eingabeliste!O214=\"Flexila PU\",Eingabeliste!O214=\"Flexila STB\"),Eingabeliste!B214,0)+IF(OR(Eingabeliste!S214=\"Flexila PU\",Eingabeliste!S214=\"Flexila STB\"),Eingabeliste!B214,0)","v":0},null,null,null,null,null,null,null,null,null,null,null,null,null,null,null,null,null,null,null,null,null,null,null,null,0,null,null,null,{"$f":"IF(A214=0,0,IF(C214>$C$2,1,0)+IF(AND(Daten!$F$3=TRUE,Zusammenfassung!J214>Preise!$A$70),1,0)+IF(AND(G214=\"D\",K214>Preise!$A$54),1,0)+IF(AND(OR(G214=\"B\",G214=\"C\"),I214<>\"XPS\",AND(Eingabeliste!AC214>50,Daten!F$3=FALSE)),1,0)+IF(AND(OR(G214=\"B\",G214=\"C\"),I214=\"XPS\",Eingabeliste!AC214>100),1,0))","v":0}]
[{"$f":"IF(Eingabeliste!A215=\"\",0,1)","v":0},{"$f":"Eingabeliste!B215","v":0},{"$f":"IFERROR(ROUND(Eingabeliste!J215/(COS((Eingabeliste!K215*PI())/180))-(SIN((Eingabeliste!K215*PI())/180)*2)+(Eingabeliste!M215-2.74)+IF(Eingabeliste!L215=0,0,Eingabeliste!L215-2.74)+IF(Eingabeliste!N215=Daten!N$6,0,12-1.86),1),\"\")","v":""},{"$f":"IF(OR(B215=0,Eingabeliste!E215=\"\"),0,MAX(Eingabeliste!E215,1000)*B215)","v":0},{"$f":"IFERROR((ROUNDUP(Eingabeliste!E215/Daten!$K$15,0)-1)*B215,\"\")","v":""},{"$f":"IF(Eingabeliste!N215=\"Pulverbesch.\",Daten!$D$1,Eingabeliste!N215)","v":""},{"$f":"Eingabeliste!AB215","v":""},{"$f":"Eingabeliste!AC215","v":""},{"$f":"Eingabeliste!AA215","v":""},{"$f":"Eingabeliste!I215","v":""},{"$f":"Eingabeliste!G215","v":""},{"$f":"Eingabeliste!H215","v":""},null,null,null,null,null,null,null,null,{"$f":"IF(OR(Eingabeliste!O215=\"Flexila PU\",Eingabeliste!O215=\"Flexila STB\"),Eingabeliste!B215,0)+IF(OR(Eingabeliste!S215=\"Flexila PU\",Eingabeliste!S215=\"Flexila STB\"),Eingabeliste!B215,0)","v":0},null,null,null,null,null,null,null,null,null,null,null,null,null,null,null,null,null,null,null,null,null,null,null,null,0,null,null,null,{"$f":"IF(A215=0,0,IF(C215>$C$2,1,0)+IF(AND(Daten!$F$3=TRUE,Zusammenfassung!J215>Preise!$A$70),1,0)+IF(AND(G215=\"D\",K215>Preise!$A$54),1,0)+IF(AND(OR(G215=\"B\",G215=\"C\"),I215<>\"XPS\",AND(Eingabeliste!AC215>50,Daten!F$3=FALSE)),1,0)+IF(AND(OR(G215=\"B\",G215=\"C\"),I215=\"XPS\",Eingabeliste!AC215>100),1,0))","v":0}]
[{"$f":"IF(Eingabeliste!A216=\"\",0,1)","v":0},{"$f":"Eingabeliste!B216","v":0},{"$f":"IFERROR(ROUND(Eingabeliste!J216/(COS((Eingabeliste!K216*PI())/180))-(SIN((Eingabeliste!K216*PI())/180)*2)+(Eingabeliste!M216-2.74)+IF(Eingabeliste!L216=0,0,Eingabeliste!L216-2.74)+IF(Eingabeliste!N216=Daten!N$6,0,12-1.86),1),\"\")","v":""},{"$f":"IF(OR(B216=0,Eingabeliste!E216=\"\"),0,MAX(Eingabeliste!E216,1000)*B216)","v":0},{"$f":"IFERROR((ROUNDUP(Eingabeliste!E216/Daten!$K$15,0)-1)*B216,\"\")","v":""},{"$f":"IF(Eingabeliste!N216=\"Pulverbesch.\",Daten!$D$1,Eingabeliste!N216)","v":""},{"$f":"Eingabeliste!AB216","v":""},{"$f":"Eingabeliste!AC216","v":""},{"$f":"Eingabeliste!AA216","v":""},{"$f":"Eingabeliste!I216","v":""},{"$f":"Eingabeliste!G216","v":""},{"$f":"Eingabeliste!H216","v":""},null,null,null,null,null,null,null,null,{"$f":"IF(OR(Eingabeliste!O216=\"Flexila PU\",Eingabeliste!O216=\"Flexila STB\"),Eingabeliste!B216,0)+IF(OR(Eingabeliste!S216=\"Flexila PU\",Eingabeliste!S216=\"Flexila STB\"),Eingabeliste!B216,0)","v":0},null,null,null,null,null,null,null,null,null,null,null,null,null,null,null,null,null,null,null,null,null,null,null,null,0,null,null,null,{"$f":"IF(A216=0,0,IF(C216>$C$2,1,0)+IF(AND(Daten!$F$3=TRUE,Zusammenfassung!J216>Preise!$A$70),1,0)+IF(AND(G216=\"D\",K216>Preise!$A$54),1,0)+IF(AND(OR(G216=\"B\",G216=\"C\"),I216<>\"XPS\",AND(Eingabeliste!AC216>50,Daten!F$3=FALSE)),1,0)+IF(AND(OR(G216=\"B\",G216=\"C\"),I216=\"XPS\",Eingabeliste!AC216>100),1,0))","v":0}]
[{"$f":"IF(Eingabeliste!A217=\"\",0,1)","v":0},{"$f":"Eingabeliste!B217","v":0},{"$f":"IFERROR(ROUND(Eingabeliste!J217/(COS((Eingabeliste!K217*PI())/180))-(SIN((Eingabeliste!K217*PI())/180)*2)+(Eingabeliste!M217-2.74)+IF(Eingabeliste!L217=0,0,Eingabeliste!L217-2.74)+IF(Eingabeliste!N217=Daten!N$6,0,12-1.86),1),\"\")","v":""},{"$f":"IF(OR(B217=0,Eingabeliste!E217=\"\"),0,MAX(Eingabeliste!E217,1000)*B217)","v":0},{"$f":"IFERROR((ROUNDUP(Eingabeliste!E217/Daten!$K$15,0)-1)*B217,\"\")","v":""},{"$f":"IF(Eingabeliste!N217=\"Pulverbesch.\",Daten!$D$1,Eingabeliste!N217)","v":""},{"$f":"Eingabeliste!AB217","v":""},{"$f":"Eingabeliste!AC217","v":""},{"$f":"Eingabeliste!AA217","v":""},{"$f":"Eingabeliste!I217","v":""},{"$f":"Eingabeliste!G217","v":""},{"$f":"Eingabeliste!H217","v":""},null,null,null,null,null,null,null,null,{"$f":"IF(OR(Eingabeliste!O217=\"Flexila PU\",Eingabeliste!O217=\"Flexila STB\"),Eingabeliste!B217,0)+IF(OR(Eingabeliste!S217=\"Flexila PU\",Eingabeliste!S217=\"Flexila STB\"),Eingabeliste!B217,0)","v":0},null,null,null,null,null,null,null,null,null,null,null,null,null,null,null,null,null,null,null,null,null,null,null,null,0,null,null,null,{"$f":"IF(A217=0,0,IF(C217>$C$2,1,0)+IF(AND(Daten!$F$3=TRUE,Zusammenfassung!J217>Preise!$A$70),1,0)+IF(AND(G217=\"D\",K217>Preise!$A$54),1,0)+IF(AND(OR(G217=\"B\",G217=\"C\"),I217<>\"XPS\",AND(Eingabeliste!AC217>50,Daten!F$3=FALSE)),1,0)+IF(AND(OR(G217=\"B\",G217=\"C\"),I217=\"XPS\",Eingabeliste!AC217>100),1,0))","v":0}]
[{"$f":"IF(Eingabeliste!A218=\"\",0,1)","v":0},{"$f":"Eingabeliste!B218","v":0},{"$f":"IFERROR(ROUND(Eingabeliste!J218/(COS((Eingabeliste!K218*PI())/180))-(SIN((Eingabeliste!K218*PI())/180)*2)+(Eingabeliste!M218-2.74)+IF(Eingabeliste!L218=0,0,Eingabeliste!L218-2.74)+IF(Eingabeliste!N218=Daten!N$6,0,12-1.86),1),\"\")","v":""},{"$f":"IF(OR(B218=0,Eingabeliste!E218=\"\"),0,MAX(Eingabeliste!E218,1000)*B218)","v":0},{"$f":"IFERROR((ROUNDUP(Eingabeliste!E218/Daten!$K$15,0)-1)*B218,\"\")","v":""},{"$f":"IF(Eingabeliste!N218=\"Pulverbesch.\",Daten!$D$1,Eingabeliste!N218)","v":""},{"$f":"Eingabeliste!AB218","v":""},{"$f":"Eingabeliste!AC218","v":""},{"$f":"Eingabeliste!AA218","v":""},{"$f":"Eingabeliste!I218","v":""},{"$f":"Eingabeliste!G218","v":""},{"$f":"Eingabeliste!H218","v":""},null,null,null,null,null,null,null,null,{"$f":"IF(OR(Eingabeliste!O218=\"Flexila PU\",Eingabeliste!O218=\"Flexila STB\"),Eingabeliste!B218,0)+IF(OR(Eingabeliste!S218=\"Flexila PU\",Eingabeliste!S218=\"Flexila STB\"),Eingabeliste!B218,0)","v":0},null,null,null,null,null,null,null,null,null,null,null,null,null,null,null,null,null,null,null,null,null,null,null,null,0,null,null,null,{"$f":"IF(A218=0,0,IF(C218>$C$2,1,0)+IF(AND(Daten!$F$3=TRUE,Zusammenfassung!J218>Preise!$A$70),1,0)+IF(AND(G218=\"D\",K218>Preise!$A$54),1,0)+IF(AND(OR(G218=\"B\",G218=\"C\"),I218<>\"XPS\",AND(Eingabeliste!AC218>50,Daten!F$3=FALSE)),1,0)+IF(AND(OR(G218=\"B\",G218=\"C\"),I218=\"XPS\",Eingabeliste!AC218>100),1,0))","v":0}]
[{"$f":"IF(Eingabeliste!A219=\"\",0,1)","v":0},{"$f":"Eingabeliste!B219","v":0},{"$f":"IFERROR(ROUND(Eingabeliste!J219/(COS((Eingabeliste!K219*PI())/180))-(SIN((Eingabeliste!K219*PI())/180)*2)+(Eingabeliste!M219-2.74)+IF(Eingabeliste!L219=0,0,Eingabeliste!L219-2.74)+IF(Eingabeliste!N219=Daten!N$6,0,12-1.86),1),\"\")","v":""},{"$f":"IF(OR(B219=0,Eingabeliste!E219=\"\"),0,MAX(Eingabeliste!E219,1000)*B219)","v":0},{"$f":"IFERROR((ROUNDUP(Eingabeliste!E219/Daten!$K$15,0)-1)*B219,\"\")","v":""},{"$f":"IF(Eingabeliste!N219=\"Pulverbesch.\",Daten!$D$1,Eingabeliste!N219)","v":""},{"$f":"Eingabeliste!AB219","v":""},{"$f":"Eingabeliste!AC219","v":""},{"$f":"Eingabeliste!AA219","v":""},{"$f":"Eingabeliste!I219","v":""},{"$f":"Eingabeliste!G219","v":""},{"$f":"Eingabeliste!H219","v":""},null,null,null,null,null,null,null,null,{"$f":"IF(OR(Eingabeliste!O219=\"Flexila PU\",Eingabeliste!O219=\"Flexila STB\"),Eingabeliste!B219,0)+IF(OR(Eingabeliste!S219=\"Flexila PU\",Eingabeliste!S219=\"Flexila STB\"),Eingabeliste!B219,0)","v":0},null,null,null,null,null,null,null,null,null,null,null,null,null,null,null,null,null,null,null,null,null,null,null,null,0,null,null,null,{"$f":"IF(A219=0,0,IF(C219>$C$2,1,0)+IF(AND(Daten!$F$3=TRUE,Zusammenfassung!J219>Preise!$A$70),1,0)+IF(AND(G219=\"D\",K219>Preise!$A$54),1,0)+IF(AND(OR(G219=\"B\",G219=\"C\"),I219<>\"XPS\",AND(Eingabeliste!AC219>50,Daten!F$3=FALSE)),1,0)+IF(AND(OR(G219=\"B\",G219=\"C\"),I219=\"XPS\",Eingabeliste!AC219>100),1,0))","v":0}]
[{"$f":"IF(Eingabeliste!A220=\"\",0,1)","v":0},{"$f":"Eingabeliste!B220","v":0},{"$f":"IFERROR(ROUND(Eingabeliste!J220/(COS((Eingabeliste!K220*PI())/180))-(SIN((Eingabeliste!K220*PI())/180)*2)+(Eingabeliste!M220-2.74)+IF(Eingabeliste!L220=0,0,Eingabeliste!L220-2.74)+IF(Eingabeliste!N220=Daten!N$6,0,12-1.86),1),\"\")","v":""},{"$f":"IF(OR(B220=0,Eingabeliste!E220=\"\"),0,MAX(Eingabeliste!E220,1000)*B220)","v":0},{"$f":"IFERROR((ROUNDUP(Eingabeliste!E220/Daten!$K$15,0)-1)*B220,\"\")","v":""},{"$f":"IF(Eingabeliste!N220=\"Pulverbesch.\",Daten!$D$1,Eingabeliste!N220)","v":""},{"$f":"Eingabeliste!AB220","v":""},{"$f":"Eingabeliste!AC220","v":""},{"$f":"Eingabeliste!AA220","v":""},{"$f":"Eingabeliste!I220","v":""},{"$f":"Eingabeliste!G220","v":""},{"$f":"Eingabeliste!H220","v":""},null,null,null,null,null,null,null,null,{"$f":"IF(OR(Eingabeliste!O220=\"Flexila PU\",Eingabeliste!O220=\"Flexila STB\"),Eingabeliste!B220,0)+IF(OR(Eingabeliste!S220=\"Flexila PU\",Eingabeliste!S220=\"Flexila STB\"),Eingabeliste!B220,0)","v":0},null,null,null,null,null,null,null,null,null,null,null,null,null,null,null,null,null,null,null,null,null,null,null,null,0,null,null,null,{"$f":"IF(A220=0,0,IF(C220>$C$2,1,0)+IF(AND(Daten!$F$3=TRUE,Zusammenfassung!J220>Preise!$A$70),1,0)+IF(AND(G220=\"D\",K220>Preise!$A$54),1,0)+IF(AND(OR(G220=\"B\",G220=\"C\"),I220<>\"XPS\",AND(Eingabeliste!AC220>50,Daten!F$3=FALSE)),1,0)+IF(AND(OR(G220=\"B\",G220=\"C\"),I220=\"XPS\",Eingabeliste!AC220>100),1,0))","v":0}]
[{"$f":"IF(Eingabeliste!A221=\"\",0,1)","v":0},{"$f":"Eingabeliste!B221","v":0},{"$f":"IFERROR(ROUND(Eingabeliste!J221/(COS((Eingabeliste!K221*PI())/180))-(SIN((Eingabeliste!K221*PI())/180)*2)+(Eingabeliste!M221-2.74)+IF(Eingabeliste!L221=0,0,Eingabeliste!L221-2.74)+IF(Eingabeliste!N221=Daten!N$6,0,12-1.86),1),\"\")","v":""},{"$f":"IF(OR(B221=0,Eingabeliste!E221=\"\"),0,MAX(Eingabeliste!E221,1000)*B221)","v":0},{"$f":"IFERROR((ROUNDUP(Eingabeliste!E221/Daten!$K$15,0)-1)*B221,\"\")","v":""},{"$f":"IF(Eingabeliste!N221=\"Pulverbesch.\",Daten!$D$1,Eingabeliste!N221)","v":""},{"$f":"Eingabeliste!AB221","v":""},{"$f":"Eingabeliste!AC221","v":""},{"$f":"Eingabeliste!AA221","v":""},{"$f":"Eingabeliste!I221","v":""},{"$f":"Eingabeliste!G221","v":""},{"$f":"Eingabeliste!H221","v":""},null,null,null,null,null,null,null,null,{"$f":"IF(OR(Eingabeliste!O221=\"Flexila PU\",Eingabeliste!O221=\"Flexila STB\"),Eingabeliste!B221,0)+IF(OR(Eingabeliste!S221=\"Flexila PU\",Eingabeliste!S221=\"Flexila STB\"),Eingabeliste!B221,0)","v":0},null,null,null,null,null,null,null,null,null,null,null,null,null,null,null,null,null,null,null,null,null,null,null,null,0,null,null,null,{"$f":"IF(A221=0,0,IF(C221>$C$2,1,0)+IF(AND(Daten!$F$3=TRUE,Zusammenfassung!J221>Preise!$A$70),1,0)+IF(AND(G221=\"D\",K221>Preise!$A$54),1,0)+IF(AND(OR(G221=\"B\",G221=\"C\"),I221<>\"XPS\",AND(Eingabeliste!AC221>50,Daten!F$3=FALSE)),1,0)+IF(AND(OR(G221=\"B\",G221=\"C\"),I221=\"XPS\",Eingabeliste!AC221>100),1,0))","v":0}]
[{"$f":"IF(Eingabeliste!A222=\"\",0,1)","v":0},{"$f":"Eingabeliste!B222","v":0},{"$f":"IFERROR(ROUND(Eingabeliste!J222/(COS((Eingabeliste!K222*PI())/180))-(SIN((Eingabeliste!K222*PI())/180)*2)+(Eingabeliste!M222-2.74)+IF(Eingabeliste!L222=0,0,Eingabeliste!L222-2.74)+IF(Eingabeliste!N222=Daten!N$6,0,12-1.86),1),\"\")","v":""},{"$f":"IF(OR(B222=0,Eingabeliste!E222=\"\"),0,MAX(Eingabeliste!E222,1000)*B222)","v":0},{"$f":"IFERROR((ROUNDUP(Eingabeliste!E222/Daten!$K$15,0)-1)*B222,\"\")","v":""},{"$f":"IF(Eingabeliste!N222=\"Pulverbesch.\",Daten!$D$1,Eingabeliste!N222)","v":""},{"$f":"Eingabeliste!AB222","v":""},{"$f":"Eingabeliste!AC222","v":""},{"$f":"Eingabeliste!AA222","v":""},{"$f":"Eingabeliste!I222","v":""},{"$f":"Eingabeliste!G222","v":""},{"$f":"Eingabeliste!H222","v":""},null,null,null,null,null,null,null,null,{"$f":"IF(OR(Eingabeliste!O222=\"Flexila PU\",Eingabeliste!O222=\"Flexila STB\"),Eingabeliste!B222,0)+IF(OR(Eingabeliste!S222=\"Flexila PU\",Eingabeliste!S222=\"Flexila STB\"),Eingabeliste!B222,0)","v":0},null,null,null,null,null,null,null,null,null,null,null,null,null,null,null,null,null,null,null,null,null,null,null,null,0,null,null,null,{"$f":"IF(A222=0,0,IF(C222>$C$2,1,0)+IF(AND(Daten!$F$3=TRUE,Zusammenfassung!J222>Preise!$A$70),1,0)+IF(AND(G222=\"D\",K222>Preise!$A$54),1,0)+IF(AND(OR(G222=\"B\",G222=\"C\"),I222<>\"XPS\",AND(Eingabeliste!AC222>50,Daten!F$3=FALSE)),1,0)+IF(AND(OR(G222=\"B\",G222=\"C\"),I222=\"XPS\",Eingabeliste!AC222>100),1,0))","v":0}]
[{"$f":"IF(Eingabeliste!A223=\"\",0,1)","v":0},{"$f":"Eingabeliste!B223","v":0},{"$f":"IFERROR(ROUND(Eingabeliste!J223/(COS((Eingabeliste!K223*PI())/180))-(SIN((Eingabeliste!K223*PI())/180)*2)+(Eingabeliste!M223-2.74)+IF(Eingabeliste!L223=0,0,Eingabeliste!L223-2.74)+IF(Eingabeliste!N223=Daten!N$6,0,12-1.86),1),\"\")","v":""},{"$f":"IF(OR(B223=0,Eingabeliste!E223=\"\"),0,MAX(Eingabeliste!E223,1000)*B223)","v":0},{"$f":"IFERROR((ROUNDUP(Eingabeliste!E223/Daten!$K$15,0)-1)*B223,\"\")","v":""},{"$f":"IF(Eingabeliste!N223=\"Pulverbesch.\",Daten!$D$1,Eingabeliste!N223)","v":""},{"$f":"Eingabeliste!AB223","v":""},{"$f":"Eingabeliste!AC223","v":""},{"$f":"Eingabeliste!AA223","v":""},{"$f":"Eingabeliste!I223","v":""},{"$f":"Eingabeliste!G223","v":""},{"$f":"Eingabeliste!H223","v":""},null,null,null,null,null,null,null,null,{"$f":"IF(OR(Eingabeliste!O223=\"Flexila PU\",Eingabeliste!O223=\"Flexila STB\"),Eingabeliste!B223,0)+IF(OR(Eingabeliste!S223=\"Flexila PU\",Eingabeliste!S223=\"Flexila STB\"),Eingabeliste!B223,0)","v":0},null,null,null,null,null,null,null,null,null,null,null,null,null,null,null,null,null,null,null,null,null,null,null,null,0,null,null,null,{"$f":"IF(A223=0,0,IF(C223>$C$2,1,0)+IF(AND(Daten!$F$3=TRUE,Zusammenfassung!J223>Preise!$A$70),1,0)+IF(AND(G223=\"D\",K223>Preise!$A$54),1,0)+IF(AND(OR(G223=\"B\",G223=\"C\"),I223<>\"XPS\",AND(Eingabeliste!AC223>50,Daten!F$3=FALSE)),1,0)+IF(AND(OR(G223=\"B\",G223=\"C\"),I223=\"XPS\",Eingabeliste!AC223>100),1,0))","v":0}]
[{"$f":"IF(Eingabeliste!A224=\"\",0,1)","v":0},{"$f":"Eingabeliste!B224","v":0},{"$f":"IFERROR(ROUND(Eingabeliste!J224/(COS((Eingabeliste!K224*PI())/180))-(SIN((Eingabeliste!K224*PI())/180)*2)+(Eingabeliste!M224-2.74)+IF(Eingabeliste!L224=0,0,Eingabeliste!L224-2.74)+IF(Eingabeliste!N224=Daten!N$6,0,12-1.86),1),\"\")","v":""},{"$f":"IF(OR(B224=0,Eingabeliste!E224=\"\"),0,MAX(Eingabeliste!E224,1000)*B224)","v":0},{"$f":"IFERROR((ROUNDUP(Eingabeliste!E224/Daten!$K$15,0)-1)*B224,\"\")","v":""},{"$f":"IF(Eingabeliste!N224=\"Pulverbesch.\",Daten!$D$1,Eingabeliste!N224)","v":""},{"$f":"Eingabeliste!AB224","v":""},{"$f":"Eingabeliste!AC224","v":""},{"$f":"Eingabeliste!AA224","v":""},{"$f":"Eingabeliste!I224","v":""},{"$f":"Eingabeliste!G224","v":""},{"$f":"Eingabeliste!H224","v":""},null,null,null,null,null,null,null,null,{"$f":"IF(OR(Eingabeliste!O224=\"Flexila PU\",Eingabeliste!O224=\"Flexila STB\"),Eingabeliste!B224,0)+IF(OR(Eingabeliste!S224=\"Flexila PU\",Eingabeliste!S224=\"Flexila STB\"),Eingabeliste!B224,0)","v":0},null,null,null,null,null,null,null,null,null,null,null,null,null,null,null,null,null,null,null,null,null,null,null,null,0,null,null,null,{"$f":"IF(A224=0,0,IF(C224>$C$2,1,0)+IF(AND(Daten!$F$3=TRUE,Zusammenfassung!J224>Preise!$A$70),1,0)+IF(AND(G224=\"D\",K224>Preise!$A$54),1,0)+IF(AND(OR(G224=\"B\",G224=\"C\"),I224<>\"XPS\",AND(Eingabeliste!AC224>50,Daten!F$3=FALSE)),1,0)+IF(AND(OR(G224=\"B\",G224=\"C\"),I224=\"XPS\",Eingabeliste!AC224>100),1,0))","v":0}]
[{"$f":"IF(Eingabeliste!A225=\"\",0,1)","v":0},{"$f":"Eingabeliste!B225","v":0},{"$f":"IFERROR(ROUND(Eingabeliste!J225/(COS((Eingabeliste!K225*PI())/180))-(SIN((Eingabeliste!K225*PI())/180)*2)+(Eingabeliste!M225-2.74)+IF(Eingabeliste!L225=0,0,Eingabeliste!L225-2.74)+IF(Eingabeliste!N225=Daten!N$6,0,12-1.86),1),\"\")","v":""},{"$f":"IF(OR(B225=0,Eingabeliste!E225=\"\"),0,MAX(Eingabeliste!E225,1000)*B225)","v":0},{"$f":"IFERROR((ROUNDUP(Eingabeliste!E225/Daten!$K$15,0)-1)*B225,\"\")","v":""},{"$f":"IF(Eingabeliste!N225=\"Pulverbesch.\",Daten!$D$1,Eingabeliste!N225)","v":""},{"$f":"Eingabeliste!AB225","v":""},{"$f":"Eingabeliste!AC225","v":""},{"$f":"Eingabeliste!AA225","v":""},{"$f":"Eingabeliste!I225","v":""},{"$f":"Eingabeliste!G225","v":""},{"$f":"Eingabeliste!H225","v":""},null,null,null,null,null,null,null,null,{"$f":"IF(OR(Eingabeliste!O225=\"Flexila PU\",Eingabeliste!O225=\"Flexila STB\"),Eingabeliste!B225,0)+IF(OR(Eingabeliste!S225=\"Flexila PU\",Eingabeliste!S225=\"Flexila STB\"),Eingabeliste!B225,0)","v":0},null,null,null,null,null,null,null,null,null,null,null,null,null,null,null,null,null,null,null,null,null,null,null,null,0,null,null,null,{"$f":"IF(A225=0,0,IF(C225>$C$2,1,0)+IF(AND(Daten!$F$3=TRUE,Zusammenfassung!J225>Preise!$A$70),1,0)+IF(AND(G225=\"D\",K225>Preise!$A$54),1,0)+IF(AND(OR(G225=\"B\",G225=\"C\"),I225<>\"XPS\",AND(Eingabeliste!AC225>50,Daten!F$3=FALSE)),1,0)+IF(AND(OR(G225=\"B\",G225=\"C\"),I225=\"XPS\",Eingabeliste!AC225>100),1,0))","v":0}]
[{"$f":"IF(Eingabeliste!A226=\"\",0,1)","v":0},{"$f":"Eingabeliste!B226","v":0},{"$f":"IFERROR(ROUND(Eingabeliste!J226/(COS((Eingabeliste!K226*PI())/180))-(SIN((Eingabeliste!K226*PI())/180)*2)+(Eingabeliste!M226-2.74)+IF(Eingabeliste!L226=0,0,Eingabeliste!L226-2.74)+IF(Eingabeliste!N226=Daten!N$6,0,12-1.86),1),\"\")","v":""},{"$f":"IF(OR(B226=0,Eingabeliste!E226=\"\"),0,MAX(Eingabeliste!E226,1000)*B226)","v":0},{"$f":"IFERROR((ROUNDUP(Eingabeliste!E226/Daten!$K$15,0)-1)*B226,\"\")","v":""},{"$f":"IF(Eingabeliste!N226=\"Pulverbesch.\",Daten!$D$1,Eingabeliste!N226)","v":""},{"$f":"Eingabeliste!AB226","v":""},{"$f":"Eingabeliste!AC226","v":""},{"$f":"Eingabeliste!AA226","v":""},{"$f":"Eingabeliste!I226","v":""},{"$f":"Eingabeliste!G226","v":""},{"$f":"Eingabeliste!H226","v":""},null,null,null,null,null,null,null,null,{"$f":"IF(OR(Eingabeliste!O226=\"Flexila PU\",Eingabeliste!O226=\"Flexila STB\"),Eingabeliste!B226,0)+IF(OR(Eingabeliste!S226=\"Flexila PU\",Eingabeliste!S226=\"Flexila STB\"),Eingabeliste!B226,0)","v":0},null,null,null,null,null,null,null,null,null,null,null,null,null,null,null,null,null,null,null,null,null,null,null,null,0,null,null,null,{"$f":"IF(A226=0,0,IF(C226>$C$2,1,0)+IF(AND(Daten!$F$3=TRUE,Zusammenfassung!J226>Preise!$A$70),1,0)+IF(AND(G226=\"D\",K226>Preise!$A$54),1,0)+IF(AND(OR(G226=\"B\",G226=\"C\"),I226<>\"XPS\",AND(Eingabeliste!AC226>50,Daten!F$3=FALSE)),1,0)+IF(AND(OR(G226=\"B\",G226=\"C\"),I226=\"XPS\",Eingabeliste!AC226>100),1,0))","v":0}]
[{"$f":"IF(Eingabeliste!A227=\"\",0,1)","v":0},{"$f":"Eingabeliste!B227","v":0},{"$f":"IFERROR(ROUND(Eingabeliste!J227/(COS((Eingabeliste!K227*PI())/180))-(SIN((Eingabeliste!K227*PI())/180)*2)+(Eingabeliste!M227-2.74)+IF(Eingabeliste!L227=0,0,Eingabeliste!L227-2.74)+IF(Eingabeliste!N227=Daten!N$6,0,12-1.86),1),\"\")","v":""},{"$f":"IF(OR(B227=0,Eingabeliste!E227=\"\"),0,MAX(Eingabeliste!E227,1000)*B227)","v":0},{"$f":"IFERROR((ROUNDUP(Eingabeliste!E227/Daten!$K$15,0)-1)*B227,\"\")","v":""},{"$f":"IF(Eingabeliste!N227=\"Pulverbesch.\",Daten!$D$1,Eingabeliste!N227)","v":""},{"$f":"Eingabeliste!AB227","v":""},{"$f":"Eingabeliste!AC227","v":""},{"$f":"Eingabeliste!AA227","v":""},{"$f":"Eingabeliste!I227","v":""},{"$f":"Eingabeliste!G227","v":""},{"$f":"Eingabeliste!H227","v":""},null,null,null,null,null,null,null,null,{"$f":"IF(OR(Eingabeliste!O227=\"Flexila PU\",Eingabeliste!O227=\"Flexila STB\"),Eingabeliste!B227,0)+IF(OR(Eingabeliste!S227=\"Flexila PU\",Eingabeliste!S227=\"Flexila STB\"),Eingabeliste!B227,0)","v":0},null,null,null,null,null,null,null,null,null,null,null,null,null,null,null,null,null,null,null,null,null,null,null,null,0,null,null,null,{"$f":"IF(A227=0,0,IF(C227>$C$2,1,0)+IF(AND(Daten!$F$3=TRUE,Zusammenfassung!J227>Preise!$A$70),1,0)+IF(AND(G227=\"D\",K227>Preise!$A$54),1,0)+IF(AND(OR(G227=\"B\",G227=\"C\"),I227<>\"XPS\",AND(Eingabeliste!AC227>50,Daten!F$3=FALSE)),1,0)+IF(AND(OR(G227=\"B\",G227=\"C\"),I227=\"XPS\",Eingabeliste!AC227>100),1,0))","v":0}]
[{"$f":"IF(Eingabeliste!A228=\"\",0,1)","v":0},{"$f":"Eingabeliste!B228","v":0},{"$f":"IFERROR(ROUND(Eingabeliste!J228/(COS((Eingabeliste!K228*PI())/180))-(SIN((Eingabeliste!K228*PI())/180)*2)+(Eingabeliste!M228-2.74)+IF(Eingabeliste!L228=0,0,Eingabeliste!L228-2.74)+IF(Eingabeliste!N228=Daten!N$6,0,12-1.86),1),\"\")","v":""},{"$f":"IF(OR(B228=0,Eingabeliste!E228=\"\"),0,MAX(Eingabeliste!E228,1000)*B228)","v":0},{"$f":"IFERROR((ROUNDUP(Eingabeliste!E228/Daten!$K$15,0)-1)*B228,\"\")","v":""},{"$f":"IF(Eingabeliste!N228=\"Pulverbesch.\",Daten!$D$1,Eingabeliste!N228)","v":""},{"$f":"Eingabeliste!AB228","v":""},{"$f":"Eingabeliste!AC228","v":""},{"$f":"Eingabeliste!AA228","v":""},{"$f":"Eingabeliste!I228","v":""},{"$f":"Eingabeliste!G228","v":""},{"$f":"Eingabeliste!H228","v":""},null,null,null,null,null,null,null,null,{"$f":"IF(OR(Eingabeliste!O228=\"Flexila PU\",Eingabeliste!O228=\"Flexila STB\"),Eingabeliste!B228,0)+IF(OR(Eingabeliste!S228=\"Flexila PU\",Eingabeliste!S228=\"Flexila STB\"),Eingabeliste!B228,0)","v":0},null,null,null,null,null,null,null,null,null,null,null,null,null,null,null,null,null,null,null,null,null,null,null,null,0,null,null,null,{"$f":"IF(A228=0,0,IF(C228>$C$2,1,0)+IF(AND(Daten!$F$3=TRUE,Zusammenfassung!J228>Preise!$A$70),1,0)+IF(AND(G228=\"D\",K228>Preise!$A$54),1,0)+IF(AND(OR(G228=\"B\",G228=\"C\"),I228<>\"XPS\",AND(Eingabeliste!AC228>50,Daten!F$3=FALSE)),1,0)+IF(AND(OR(G228=\"B\",G228=\"C\"),I228=\"XPS\",Eingabeliste!AC228>100),1,0))","v":0}]
[{"$f":"IF(Eingabeliste!A229=\"\",0,1)","v":0},{"$f":"Eingabeliste!B229","v":0},{"$f":"IFERROR(ROUND(Eingabeliste!J229/(COS((Eingabeliste!K229*PI())/180))-(SIN((Eingabeliste!K229*PI())/180)*2)+(Eingabeliste!M229-2.74)+IF(Eingabeliste!L229=0,0,Eingabeliste!L229-2.74)+IF(Eingabeliste!N229=Daten!N$6,0,12-1.86),1),\"\")","v":""},{"$f":"IF(OR(B229=0,Eingabeliste!E229=\"\"),0,MAX(Eingabeliste!E229,1000)*B229)","v":0},{"$f":"IFERROR((ROUNDUP(Eingabeliste!E229/Daten!$K$15,0)-1)*B229,\"\")","v":""},{"$f":"IF(Eingabeliste!N229=\"Pulverbesch.\",Daten!$D$1,Eingabeliste!N229)","v":""},{"$f":"Eingabeliste!AB229","v":""},{"$f":"Eingabeliste!AC229","v":""},{"$f":"Eingabeliste!AA229","v":""},{"$f":"Eingabeliste!I229","v":""},{"$f":"Eingabeliste!G229","v":""},{"$f":"Eingabeliste!H229","v":""},null,null,null,null,null,null,null,null,{"$f":"IF(OR(Eingabeliste!O229=\"Flexila PU\",Eingabeliste!O229=\"Flexila STB\"),Eingabeliste!B229,0)+IF(OR(Eingabeliste!S229=\"Flexila PU\",Eingabeliste!S229=\"Flexila STB\"),Eingabeliste!B229,0)","v":0},null,null,null,null,null,null,null,null,null,null,null,null,null,null,null,null,null,null,null,null,null,null,null,null,0,null,null,null,{"$f":"IF(A229=0,0,IF(C229>$C$2,1,0)+IF(AND(Daten!$F$3=TRUE,Zusammenfassung!J229>Preise!$A$70),1,0)+IF(AND(G229=\"D\",K229>Preise!$A$54),1,0)+IF(AND(OR(G229=\"B\",G229=\"C\"),I229<>\"XPS\",AND(Eingabeliste!AC229>50,Daten!F$3=FALSE)),1,0)+IF(AND(OR(G229=\"B\",G229=\"C\"),I229=\"XPS\",Eingabeliste!AC229>100),1,0))","v":0}]
[{"$f":"IF(Eingabeliste!A230=\"\",0,1)","v":0},{"$f":"Eingabeliste!B230","v":0},{"$f":"IFERROR(ROUND(Eingabeliste!J230/(COS((Eingabeliste!K230*PI())/180))-(SIN((Eingabeliste!K230*PI())/180)*2)+(Eingabeliste!M230-2.74)+IF(Eingabeliste!L230=0,0,Eingabeliste!L230-2.74)+IF(Eingabeliste!N230=Daten!N$6,0,12-1.86),1),\"\")","v":""},{"$f":"IF(OR(B230=0,Eingabeliste!E230=\"\"),0,MAX(Eingabeliste!E230,1000)*B230)","v":0},{"$f":"IFERROR((ROUNDUP(Eingabeliste!E230/Daten!$K$15,0)-1)*B230,\"\")","v":""},{"$f":"IF(Eingabeliste!N230=\"Pulverbesch.\",Daten!$D$1,Eingabeliste!N230)","v":""},{"$f":"Eingabeliste!AB230","v":""},{"$f":"Eingabeliste!AC230","v":""},{"$f":"Eingabeliste!AA230","v":""},{"$f":"Eingabeliste!I230","v":""},{"$f":"Eingabeliste!G230","v":""},{"$f":"Eingabeliste!H230","v":""},null,null,null,null,null,null,null,null,{"$f":"IF(OR(Eingabeliste!O230=\"Flexila PU\",Eingabeliste!O230=\"Flexila STB\"),Eingabeliste!B230,0)+IF(OR(Eingabeliste!S230=\"Flexila PU\",Eingabeliste!S230=\"Flexila STB\"),Eingabeliste!B230,0)","v":0},null,null,null,null,null,null,null,null,null,null,null,null,null,null,null,null,null,null,null,null,null,null,null,null,0,null,null,null,{"$f":"IF(A230=0,0,IF(C230>$C$2,1,0)+IF(AND(Daten!$F$3=TRUE,Zusammenfassung!J230>Preise!$A$70),1,0)+IF(AND(G230=\"D\",K230>Preise!$A$54),1,0)+IF(AND(OR(G230=\"B\",G230=\"C\"),I230<>\"XPS\",AND(Eingabeliste!AC230>50,Daten!F$3=FALSE)),1,0)+IF(AND(OR(G230=\"B\",G230=\"C\"),I230=\"XPS\",Eingabeliste!AC230>100),1,0))","v":0}]
[{"$f":"IF(Eingabeliste!A231=\"\",0,1)","v":0},{"$f":"Eingabeliste!B231","v":0},{"$f":"IFERROR(ROUND(Eingabeliste!J231/(COS((Eingabeliste!K231*PI())/180))-(SIN((Eingabeliste!K231*PI())/180)*2)+(Eingabeliste!M231-2.74)+IF(Eingabeliste!L231=0,0,Eingabeliste!L231-2.74)+IF(Eingabeliste!N231=Daten!N$6,0,12-1.86),1),\"\")","v":""},{"$f":"IF(OR(B231=0,Eingabeliste!E231=\"\"),0,MAX(Eingabeliste!E231,1000)*B231)","v":0},{"$f":"IFERROR((ROUNDUP(Eingabeliste!E231/Daten!$K$15,0)-1)*B231,\"\")","v":""},{"$f":"IF(Eingabeliste!N231=\"Pulverbesch.\",Daten!$D$1,Eingabeliste!N231)","v":""},{"$f":"Eingabeliste!AB231","v":""},{"$f":"Eingabeliste!AC231","v":""},{"$f":"Eingabeliste!AA231","v":""},{"$f":"Eingabeliste!I231","v":""},{"$f":"Eingabeliste!G231","v":""},{"$f":"Eingabeliste!H231","v":""},null,null,null,null,null,null,null,null,{"$f":"IF(OR(Eingabeliste!O231=\"Flexila PU\",Eingabeliste!O231=\"Flexila STB\"),Eingabeliste!B231,0)+IF(OR(Eingabeliste!S231=\"Flexila PU\",Eingabeliste!S231=\"Flexila STB\"),Eingabeliste!B231,0)","v":0},null,null,null,null,null,null,null,null,null,null,null,null,null,null,null,null,null,null,null,null,null,null,null,null,0,null,null,null,{"$f":"IF(A231=0,0,IF(C231>$C$2,1,0)+IF(AND(Daten!$F$3=TRUE,Zusammenfassung!J231>Preise!$A$70),1,0)+IF(AND(G231=\"D\",K231>Preise!$A$54),1,0)+IF(AND(OR(G231=\"B\",G231=\"C\"),I231<>\"XPS\",AND(Eingabeliste!AC231>50,Daten!F$3=FALSE)),1,0)+IF(AND(OR(G231=\"B\",G231=\"C\"),I231=\"XPS\",Eingabeliste!AC231>100),1,0))","v":0}]
[{"$f":"IF(Eingabeliste!A232=\"\",0,1)","v":0},{"$f":"Eingabeliste!B232","v":0},{"$f":"IFERROR(ROUND(Eingabeliste!J232/(COS((Eingabeliste!K232*PI())/180))-(SIN((Eingabeliste!K232*PI())/180)*2)+(Eingabeliste!M232-2.74)+IF(Eingabeliste!L232=0,0,Eingabeliste!L232-2.74)+IF(Eingabeliste!N232=Daten!N$6,0,12-1.86),1),\"\")","v":""},{"$f":"IF(OR(B232=0,Eingabeliste!E232=\"\"),0,MAX(Eingabeliste!E232,1000)*B232)","v":0},{"$f":"IFERROR((ROUNDUP(Eingabeliste!E232/Daten!$K$15,0)-1)*B232,\"\")","v":""},{"$f":"IF(Eingabeliste!N232=\"Pulverbesch.\",Daten!$D$1,Eingabeliste!N232)","v":""},{"$f":"Eingabeliste!AB232","v":""},{"$f":"Eingabeliste!AC232","v":""},{"$f":"Eingabeliste!AA232","v":""},{"$f":"Eingabeliste!I232","v":""},{"$f":"Eingabeliste!G232","v":""},{"$f":"Eingabeliste!H232","v":""},null,null,null,null,null,null,null,null,{"$f":"IF(OR(Eingabeliste!O232=\"Flexila PU\",Eingabeliste!O232=\"Flexila STB\"),Eingabeliste!B232,0)+IF(OR(Eingabeliste!S232=\"Flexila PU\",Eingabeliste!S232=\"Flexila STB\"),Eingabeliste!B232,0)","v":0},null,null,null,null,null,null,null,null,null,null,null,null,null,null,null,null,null,null,null,null,null,null,null,null,0,null,null,null,{"$f":"IF(A232=0,0,IF(C232>$C$2,1,0)+IF(AND(Daten!$F$3=TRUE,Zusammenfassung!J232>Preise!$A$70),1,0)+IF(AND(G232=\"D\",K232>Preise!$A$54),1,0)+IF(AND(OR(G232=\"B\",G232=\"C\"),I232<>\"XPS\",AND(Eingabeliste!AC232>50,Daten!F$3=FALSE)),1,0)+IF(AND(OR(G232=\"B\",G232=\"C\"),I232=\"XPS\",Eingabeliste!AC232>100),1,0))","v":0}]
[{"$f":"IF(Eingabeliste!A233=\"\",0,1)","v":0},{"$f":"Eingabeliste!B233","v":0},{"$f":"IFERROR(ROUND(Eingabeliste!J233/(COS((Eingabeliste!K233*PI())/180))-(SIN((Eingabeliste!K233*PI())/180)*2)+(Eingabeliste!M233-2.74)+IF(Eingabeliste!L233=0,0,Eingabeliste!L233-2.74)+IF(Eingabeliste!N233=Daten!N$6,0,12-1.86),1),\"\")","v":""},{"$f":"IF(OR(B233=0,Eingabeliste!E233=\"\"),0,MAX(Eingabeliste!E233,1000)*B233)","v":0},{"$f":"IFERROR((ROUNDUP(Eingabeliste!E233/Daten!$K$15,0)-1)*B233,\"\")","v":""},{"$f":"IF(Eingabeliste!N233=\"Pulverbesch.\",Daten!$D$1,Eingabeliste!N233)","v":""},{"$f":"Eingabeliste!AB233","v":""},{"$f":"Eingabeliste!AC233","v":""},{"$f":"Eingabeliste!AA233","v":""},{"$f":"Eingabeliste!I233","v":""},{"$f":"Eingabeliste!G233","v":""},{"$f":"Eingabeliste!H233","v":""},null,null,null,null,null,null,null,null,{"$f":"IF(OR(Eingabeliste!O233=\"Flexila PU\",Eingabeliste!O233=\"Flexila STB\"),Eingabeliste!B233,0)+IF(OR(Eingabeliste!S233=\"Flexila PU\",Eingabeliste!S233=\"Flexila STB\"),Eingabeliste!B233,0)","v":0},null,null,null,null,null,null,null,null,null,null,null,null,null,null,null,null,null,null,null,null,null,null,null,null,0,null,null,null,{"$f":"IF(A233=0,0,IF(C233>$C$2,1,0)+IF(AND(Daten!$F$3=TRUE,Zusammenfassung!J233>Preise!$A$70),1,0)+IF(AND(G233=\"D\",K233>Preise!$A$54),1,0)+IF(AND(OR(G233=\"B\",G233=\"C\"),I233<>\"XPS\",AND(Eingabeliste!AC233>50,Daten!F$3=FALSE)),1,0)+IF(AND(OR(G233=\"B\",G233=\"C\"),I233=\"XPS\",Eingabeliste!AC233>100),1,0))","v":0}]
[{"$f":"IF(Eingabeliste!A234=\"\",0,1)","v":0},{"$f":"Eingabeliste!B234","v":0},{"$f":"IFERROR(ROUND(Eingabeliste!J234/(COS((Eingabeliste!K234*PI())/180))-(SIN((Eingabeliste!K234*PI())/180)*2)+(Eingabeliste!M234-2.74)+IF(Eingabeliste!L234=0,0,Eingabeliste!L234-2.74)+IF(Eingabeliste!N234=Daten!N$6,0,12-1.86),1),\"\")","v":""},{"$f":"IF(OR(B234=0,Eingabeliste!E234=\"\"),0,MAX(Eingabeliste!E234,1000)*B234)","v":0},{"$f":"IFERROR((ROUNDUP(Eingabeliste!E234/Daten!$K$15,0)-1)*B234,\"\")","v":""},{"$f":"IF(Eingabeliste!N234=\"Pulverbesch.\",Daten!$D$1,Eingabeliste!N234)","v":""},{"$f":"Eingabeliste!AB234","v":""},{"$f":"Eingabeliste!AC234","v":""},{"$f":"Eingabeliste!AA234","v":""},{"$f":"Eingabeliste!I234","v":""},{"$f":"Eingabeliste!G234","v":""},{"$f":"Eingabeliste!H234","v":""},null,null,null,null,null,null,null,null,{"$f":"IF(OR(Eingabeliste!O234=\"Flexila PU\",Eingabeliste!O234=\"Flexila STB\"),Eingabeliste!B234,0)+IF(OR(Eingabeliste!S234=\"Flexila PU\",Eingabeliste!S234=\"Flexila STB\"),Eingabeliste!B234,0)","v":0},null,null,null,null,null,null,null,null,null,null,null,null,null,null,null,null,null,null,null,null,null,null,null,null,0,null,null,null,{"$f":"IF(A234=0,0,IF(C234>$C$2,1,0)+IF(AND(Daten!$F$3=TRUE,Zusammenfassung!J234>Preise!$A$70),1,0)+IF(AND(G234=\"D\",K234>Preise!$A$54),1,0)+IF(AND(OR(G234=\"B\",G234=\"C\"),I234<>\"XPS\",AND(Eingabeliste!AC234>50,Daten!F$3=FALSE)),1,0)+IF(AND(OR(G234=\"B\",G234=\"C\"),I234=\"XPS\",Eingabeliste!AC234>100),1,0))","v":0}]
[{"$f":"IF(Eingabeliste!A235=\"\",0,1)","v":0},{"$f":"Eingabeliste!B235","v":0},{"$f":"IFERROR(ROUND(Eingabeliste!J235/(COS((Eingabeliste!K235*PI())/180))-(SIN((Eingabeliste!K235*PI())/180)*2)+(Eingabeliste!M235-2.74)+IF(Eingabeliste!L235=0,0,Eingabeliste!L235-2.74)+IF(Eingabeliste!N235=Daten!N$6,0,12-1.86),1),\"\")","v":""},{"$f":"IF(OR(B235=0,Eingabeliste!E235=\"\"),0,MAX(Eingabeliste!E235,1000)*B235)","v":0},{"$f":"IFERROR((ROUNDUP(Eingabeliste!E235/Daten!$K$15,0)-1)*B235,\"\")","v":""},{"$f":"IF(Eingabeliste!N235=\"Pulverbesch.\",Daten!$D$1,Eingabeliste!N235)","v":""},{"$f":"Eingabeliste!AB235","v":""},{"$f":"Eingabeliste!AC235","v":""},{"$f":"Eingabeliste!AA235","v":""},{"$f":"Eingabeliste!I235","v":""},{"$f":"Eingabeliste!G235","v":""},{"$f":"Eingabeliste!H235","v":""},null,null,null,null,null,null,null,null,{"$f":"IF(OR(Eingabeliste!O235=\"Flexila PU\",Eingabeliste!O235=\"Flexila STB\"),Eingabeliste!B235,0)+IF(OR(Eingabeliste!S235=\"Flexila PU\",Eingabeliste!S235=\"Flexila STB\"),Eingabeliste!B235,0)","v":0},null,null,null,null,null,null,null,null,null,null,null,null,null,null,null,null,null,null,null,null,null,null,null,null,0,null,null,null,{"$f":"IF(A235=0,0,IF(C235>$C$2,1,0)+IF(AND(Daten!$F$3=TRUE,Zusammenfassung!J235>Preise!$A$70),1,0)+IF(AND(G235=\"D\",K235>Preise!$A$54),1,0)+IF(AND(OR(G235=\"B\",G235=\"C\"),I235<>\"XPS\",AND(Eingabeliste!AC235>50,Daten!F$3=FALSE)),1,0)+IF(AND(OR(G235=\"B\",G235=\"C\"),I235=\"XPS\",Eingabeliste!AC235>100),1,0))","v":0}]
[{"$f":"IF(Eingabeliste!A236=\"\",0,1)","v":0},{"$f":"Eingabeliste!B236","v":0},{"$f":"IFERROR(ROUND(Eingabeliste!J236/(COS((Eingabeliste!K236*PI())/180))-(SIN((Eingabeliste!K236*PI())/180)*2)+(Eingabeliste!M236-2.74)+IF(Eingabeliste!L236=0,0,Eingabeliste!L236-2.74)+IF(Eingabeliste!N236=Daten!N$6,0,12-1.86),1),\"\")","v":""},{"$f":"IF(OR(B236=0,Eingabeliste!E236=\"\"),0,MAX(Eingabeliste!E236,1000)*B236)","v":0},{"$f":"IFERROR((ROUNDUP(Eingabeliste!E236/Daten!$K$15,0)-1)*B236,\"\")","v":""},{"$f":"IF(Eingabeliste!N236=\"Pulverbesch.\",Daten!$D$1,Eingabeliste!N236)","v":""},{"$f":"Eingabeliste!AB236","v":""},{"$f":"Eingabeliste!AC236","v":""},{"$f":"Eingabeliste!AA236","v":""},{"$f":"Eingabeliste!I236","v":""},{"$f":"Eingabeliste!G236","v":""},{"$f":"Eingabeliste!H236","v":""},null,null,null,null,null,null,null,null,{"$f":"IF(OR(Eingabeliste!O236=\"Flexila PU\",Eingabeliste!O236=\"Flexila STB\"),Eingabeliste!B236,0)+IF(OR(Eingabeliste!S236=\"Flexila PU\",Eingabeliste!S236=\"Flexila STB\"),Eingabeliste!B236,0)","v":0},null,null,null,null,null,null,null,null,null,null,null,null,null,null,null,null,null,null,null,null,null,null,null,null,0,null,null,null,{"$f":"IF(A236=0,0,IF(C236>$C$2,1,0)+IF(AND(Daten!$F$3=TRUE,Zusammenfassung!J236>Preise!$A$70),1,0)+IF(AND(G236=\"D\",K236>Preise!$A$54),1,0)+IF(AND(OR(G236=\"B\",G236=\"C\"),I236<>\"XPS\",AND(Eingabeliste!AC236>50,Daten!F$3=FALSE)),1,0)+IF(AND(OR(G236=\"B\",G236=\"C\"),I236=\"XPS\",Eingabeliste!AC236>100),1,0))","v":0}]
[{"$f":"IF(Eingabeliste!A237=\"\",0,1)","v":0},{"$f":"Eingabeliste!B237","v":0},{"$f":"IFERROR(ROUND(Eingabeliste!J237/(COS((Eingabeliste!K237*PI())/180))-(SIN((Eingabeliste!K237*PI())/180)*2)+(Eingabeliste!M237-2.74)+IF(Eingabeliste!L237=0,0,Eingabeliste!L237-2.74)+IF(Eingabeliste!N237=Daten!N$6,0,12-1.86),1),\"\")","v":""},{"$f":"IF(OR(B237=0,Eingabeliste!E237=\"\"),0,MAX(Eingabeliste!E237,1000)*B237)","v":0},{"$f":"IFERROR((ROUNDUP(Eingabeliste!E237/Daten!$K$15,0)-1)*B237,\"\")","v":""},{"$f":"IF(Eingabeliste!N237=\"Pulverbesch.\",Daten!$D$1,Eingabeliste!N237)","v":""},{"$f":"Eingabeliste!AB237","v":""},{"$f":"Eingabeliste!AC237","v":""},{"$f":"Eingabeliste!AA237","v":""},{"$f":"Eingabeliste!I237","v":""},{"$f":"Eingabeliste!G237","v":""},{"$f":"Eingabeliste!H237","v":""},null,null,null,null,null,null,null,null,{"$f":"IF(OR(Eingabeliste!O237=\"Flexila PU\",Eingabeliste!O237=\"Flexila STB\"),Eingabeliste!B237,0)+IF(OR(Eingabeliste!S237=\"Flexila PU\",Eingabeliste!S237=\"Flexila STB\"),Eingabeliste!B237,0)","v":0},null,null,null,null,null,null,null,null,null,null,null,null,null,null,null,null,null,null,null,null,null,null,null,null,0,null,null,null,{"$f":"IF(A237=0,0,IF(C237>$C$2,1,0)+IF(AND(Daten!$F$3=TRUE,Zusammenfassung!J237>Preise!$A$70),1,0)+IF(AND(G237=\"D\",K237>Preise!$A$54),1,0)+IF(AND(OR(G237=\"B\",G237=\"C\"),I237<>\"XPS\",AND(Eingabeliste!AC237>50,Daten!F$3=FALSE)),1,0)+IF(AND(OR(G237=\"B\",G237=\"C\"),I237=\"XPS\",Eingabeliste!AC237>100),1,0))","v":0}]
[{"$f":"IF(Eingabeliste!A238=\"\",0,1)","v":0},{"$f":"Eingabeliste!B238","v":0},{"$f":"IFERROR(ROUND(Eingabeliste!J238/(COS((Eingabeliste!K238*PI())/180))-(SIN((Eingabeliste!K238*PI())/180)*2)+(Eingabeliste!M238-2.74)+IF(Eingabeliste!L238=0,0,Eingabeliste!L238-2.74)+IF(Eingabeliste!N238=Daten!N$6,0,12-1.86),1),\"\")","v":""},{"$f":"IF(OR(B238=0,Eingabeliste!E238=\"\"),0,MAX(Eingabeliste!E238,1000)*B238)","v":0},{"$f":"IFERROR((ROUNDUP(Eingabeliste!E238/Daten!$K$15,0)-1)*B238,\"\")","v":""},{"$f":"IF(Eingabeliste!N238=\"Pulverbesch.\",Daten!$D$1,Eingabeliste!N238)","v":""},{"$f":"Eingabeliste!AB238","v":""},{"$f":"Eingabeliste!AC238","v":""},{"$f":"Eingabeliste!AA238","v":""},{"$f":"Eingabeliste!I238","v":""},{"$f":"Eingabeliste!G238","v":""},{"$f":"Eingabeliste!H238","v":""},null,null,null,null,null,null,null,null,{"$f":"IF(OR(Eingabeliste!O238=\"Flexila PU\",Eingabeliste!O238=\"Flexila STB\"),Eingabeliste!B238,0)+IF(OR(Eingabeliste!S238=\"Flexila PU\",Eingabeliste!S238=\"Flexila STB\"),Eingabeliste!B238,0)","v":0},null,null,null,null,null,null,null,null,null,null,null,null,null,null,null,null,null,null,null,null,null,null,null,null,0,null,null,null,{"$f":"IF(A238=0,0,IF(C238>$C$2,1,0)+IF(AND(Daten!$F$3=TRUE,Zusammenfassung!J238>Preise!$A$70),1,0)+IF(AND(G238=\"D\",K238>Preise!$A$54),1,0)+IF(AND(OR(G238=\"B\",G238=\"C\"),I238<>\"XPS\",AND(Eingabeliste!AC238>50,Daten!F$3=FALSE)),1,0)+IF(AND(OR(G238=\"B\",G238=\"C\"),I238=\"XPS\",Eingabeliste!AC238>100),1,0))","v":0}]
[{"$f":"IF(Eingabeliste!A239=\"\",0,1)","v":0},{"$f":"Eingabeliste!B239","v":0},{"$f":"IFERROR(ROUND(Eingabeliste!J239/(COS((Eingabeliste!K239*PI())/180))-(SIN((Eingabeliste!K239*PI())/180)*2)+(Eingabeliste!M239-2.74)+IF(Eingabeliste!L239=0,0,Eingabeliste!L239-2.74)+IF(Eingabeliste!N239=Daten!N$6,0,12-1.86),1),\"\")","v":""},{"$f":"IF(OR(B239=0,Eingabeliste!E239=\"\"),0,MAX(Eingabeliste!E239,1000)*B239)","v":0},{"$f":"IFERROR((ROUNDUP(Eingabeliste!E239/Daten!$K$15,0)-1)*B239,\"\")","v":""},{"$f":"IF(Eingabeliste!N239=\"Pulverbesch.\",Daten!$D$1,Eingabeliste!N239)","v":""},{"$f":"Eingabeliste!AB239","v":""},{"$f":"Eingabeliste!AC239","v":""},{"$f":"Eingabeliste!AA239","v":""},{"$f":"Eingabeliste!I239","v":""},{"$f":"Eingabeliste!G239","v":""},{"$f":"Eingabeliste!H239","v":""},null,null,null,null,null,null,null,null,{"$f":"IF(OR(Eingabeliste!O239=\"Flexila PU\",Eingabeliste!O239=\"Flexila STB\"),Eingabeliste!B239,0)+IF(OR(Eingabeliste!S239=\"Flexila PU\",Eingabeliste!S239=\"Flexila STB\"),Eingabeliste!B239,0)","v":0},null,null,null,null,null,null,null,null,null,null,null,null,null,null,null,null,null,null,null,null,null,null,null,null,0,null,null,null,{"$f":"IF(A239=0,0,IF(C239>$C$2,1,0)+IF(AND(Daten!$F$3=TRUE,Zusammenfassung!J239>Preise!$A$70),1,0)+IF(AND(G239=\"D\",K239>Preise!$A$54),1,0)+IF(AND(OR(G239=\"B\",G239=\"C\"),I239<>\"XPS\",AND(Eingabeliste!AC239>50,Daten!F$3=FALSE)),1,0)+IF(AND(OR(G239=\"B\",G239=\"C\"),I239=\"XPS\",Eingabeliste!AC239>100),1,0))","v":0}]
[{"$f":"IF(Eingabeliste!A240=\"\",0,1)","v":0},{"$f":"Eingabeliste!B240","v":0},{"$f":"IFERROR(ROUND(Eingabeliste!J240/(COS((Eingabeliste!K240*PI())/180))-(SIN((Eingabeliste!K240*PI())/180)*2)+(Eingabeliste!M240-2.74)+IF(Eingabeliste!L240=0,0,Eingabeliste!L240-2.74)+IF(Eingabeliste!N240=Daten!N$6,0,12-1.86),1),\"\")","v":""},{"$f":"IF(OR(B240=0,Eingabeliste!E240=\"\"),0,MAX(Eingabeliste!E240,1000)*B240)","v":0},{"$f":"IFERROR((ROUNDUP(Eingabeliste!E240/Daten!$K$15,0)-1)*B240,\"\")","v":""},{"$f":"IF(Eingabeliste!N240=\"Pulverbesch.\",Daten!$D$1,Eingabeliste!N240)","v":""},{"$f":"Eingabeliste!AB240","v":""},{"$f":"Eingabeliste!AC240","v":""},{"$f":"Eingabeliste!AA240","v":""},{"$f":"Eingabeliste!I240","v":""},{"$f":"Eingabeliste!G240","v":""},{"$f":"Eingabeliste!H240","v":""},null,null,null,null,null,null,null,null,{"$f":"IF(OR(Eingabeliste!O240=\"Flexila PU\",Eingabeliste!O240=\"Flexila STB\"),Eingabeliste!B240,0)+IF(OR(Eingabeliste!S240=\"Flexila PU\",Eingabeliste!S240=\"Flexila STB\"),Eingabeliste!B240,0)","v":0},null,null,null,null,null,null,null,null,null,null,null,null,null,null,null,null,null,null,null,null,null,null,null,null,0,null,null,null,{"$f":"IF(A240=0,0,IF(C240>$C$2,1,0)+IF(AND(Daten!$F$3=TRUE,Zusammenfassung!J240>Preise!$A$70),1,0)+IF(AND(G240=\"D\",K240>Preise!$A$54),1,0)+IF(AND(OR(G240=\"B\",G240=\"C\"),I240<>\"XPS\",AND(Eingabeliste!AC240>50,Daten!F$3=FALSE)),1,0)+IF(AND(OR(G240=\"B\",G240=\"C\"),I240=\"XPS\",Eingabeliste!AC240>100),1,0))","v":0}]
[{"$f":"IF(Eingabeliste!A241=\"\",0,1)","v":0},{"$f":"Eingabeliste!B241","v":0},{"$f":"IFERROR(ROUND(Eingabeliste!J241/(COS((Eingabeliste!K241*PI())/180))-(SIN((Eingabeliste!K241*PI())/180)*2)+(Eingabeliste!M241-2.74)+IF(Eingabeliste!L241=0,0,Eingabeliste!L241-2.74)+IF(Eingabeliste!N241=Daten!N$6,0,12-1.86),1),\"\")","v":""},{"$f":"IF(OR(B241=0,Eingabeliste!E241=\"\"),0,MAX(Eingabeliste!E241,1000)*B241)","v":0},{"$f":"IFERROR((ROUNDUP(Eingabeliste!E241/Daten!$K$15,0)-1)*B241,\"\")","v":""},{"$f":"IF(Eingabeliste!N241=\"Pulverbesch.\",Daten!$D$1,Eingabeliste!N241)","v":""},{"$f":"Eingabeliste!AB241","v":""},{"$f":"Eingabeliste!AC241","v":""},{"$f":"Eingabeliste!AA241","v":""},{"$f":"Eingabeliste!I241","v":""},{"$f":"Eingabeliste!G241","v":""},{"$f":"Eingabeliste!H241","v":""},null,null,null,null,null,null,null,null,{"$f":"IF(OR(Eingabeliste!O241=\"Flexila PU\",Eingabeliste!O241=\"Flexila STB\"),Eingabeliste!B241,0)+IF(OR(Eingabeliste!S241=\"Flexila PU\",Eingabeliste!S241=\"Flexila STB\"),Eingabeliste!B241,0)","v":0},null,null,null,null,null,null,null,null,null,null,null,null,null,null,null,null,null,null,null,null,null,null,null,null,0,null,null,null,{"$f":"IF(A241=0,0,IF(C241>$C$2,1,0)+IF(AND(Daten!$F$3=TRUE,Zusammenfassung!J241>Preise!$A$70),1,0)+IF(AND(G241=\"D\",K241>Preise!$A$54),1,0)+IF(AND(OR(G241=\"B\",G241=\"C\"),I241<>\"XPS\",AND(Eingabeliste!AC241>50,Daten!F$3=FALSE)),1,0)+IF(AND(OR(G241=\"B\",G241=\"C\"),I241=\"XPS\",Eingabeliste!AC241>100),1,0))","v":0}]
[{"$f":"IF(Eingabeliste!A242=\"\",0,1)","v":0},{"$f":"Eingabeliste!B242","v":0},{"$f":"IFERROR(ROUND(Eingabeliste!J242/(COS((Eingabeliste!K242*PI())/180))-(SIN((Eingabeliste!K242*PI())/180)*2)+(Eingabeliste!M242-2.74)+IF(Eingabeliste!L242=0,0,Eingabeliste!L242-2.74)+IF(Eingabeliste!N242=Daten!N$6,0,12-1.86),1),\"\")","v":""},{"$f":"IF(OR(B242=0,Eingabeliste!E242=\"\"),0,MAX(Eingabeliste!E242,1000)*B242)","v":0},{"$f":"IFERROR((ROUNDUP(Eingabeliste!E242/Daten!$K$15,0)-1)*B242,\"\")","v":""},{"$f":"IF(Eingabeliste!N242=\"Pulverbesch.\",Daten!$D$1,Eingabeliste!N242)","v":""},{"$f":"Eingabeliste!AB242","v":""},{"$f":"Eingabeliste!AC242","v":""},{"$f":"Eingabeliste!AA242","v":""},{"$f":"Eingabeliste!I242","v":""},{"$f":"Eingabeliste!G242","v":""},{"$f":"Eingabeliste!H242","v":""},null,null,null,null,null,null,null,null,{"$f":"IF(OR(Eingabeliste!O242=\"Flexila PU\",Eingabeliste!O242=\"Flexila STB\"),Eingabeliste!B242,0)+IF(OR(Eingabeliste!S242=\"Flexila PU\",Eingabeliste!S242=\"Flexila STB\"),Eingabeliste!B242,0)","v":0},null,null,null,null,null,null,null,null,null,null,null,null,null,null,null,null,null,null,null,null,null,null,null,null,0,null,null,null,{"$f":"IF(A242=0,0,IF(C242>$C$2,1,0)+IF(AND(Daten!$F$3=TRUE,Zusammenfassung!J242>Preise!$A$70),1,0)+IF(AND(G242=\"D\",K242>Preise!$A$54),1,0)+IF(AND(OR(G242=\"B\",G242=\"C\"),I242<>\"XPS\",AND(Eingabeliste!AC242>50,Daten!F$3=FALSE)),1,0)+IF(AND(OR(G242=\"B\",G242=\"C\"),I242=\"XPS\",Eingabeliste!AC242>100),1,0))","v":0}]
[{"$f":"IF(Eingabeliste!A243=\"\",0,1)","v":0},{"$f":"Eingabeliste!B243","v":0},{"$f":"IFERROR(ROUND(Eingabeliste!J243/(COS((Eingabeliste!K243*PI())/180))-(SIN((Eingabeliste!K243*PI())/180)*2)+(Eingabeliste!M243-2.74)+IF(Eingabeliste!L243=0,0,Eingabeliste!L243-2.74)+IF(Eingabeliste!N243=Daten!N$6,0,12-1.86),1),\"\")","v":""},{"$f":"IF(OR(B243=0,Eingabeliste!E243=\"\"),0,MAX(Eingabeliste!E243,1000)*B243)","v":0},{"$f":"IFERROR((ROUNDUP(Eingabeliste!E243/Daten!$K$15,0)-1)*B243,\"\")","v":""},{"$f":"IF(Eingabeliste!N243=\"Pulverbesch.\",Daten!$D$1,Eingabeliste!N243)","v":""},{"$f":"Eingabeliste!AB243","v":""},{"$f":"Eingabeliste!AC243","v":""},{"$f":"Eingabeliste!AA243","v":""},{"$f":"Eingabeliste!I243","v":""},{"$f":"Eingabeliste!G243","v":""},{"$f":"Eingabeliste!H243","v":""},null,null,null,null,null,null,null,null,{"$f":"IF(OR(Eingabeliste!O243=\"Flexila PU\",Eingabeliste!O243=\"Flexila STB\"),Eingabeliste!B243,0)+IF(OR(Eingabeliste!S243=\"Flexila PU\",Eingabeliste!S243=\"Flexila STB\"),Eingabeliste!B243,0)","v":0},null,null,null,null,null,null,null,null,null,null,null,null,null,null,null,null,null,null,null,null,null,null,null,null,0,null,null,null,{"$f":"IF(A243=0,0,IF(C243>$C$2,1,0)+IF(AND(Daten!$F$3=TRUE,Zusammenfassung!J243>Preise!$A$70),1,0)+IF(AND(G243=\"D\",K243>Preise!$A$54),1,0)+IF(AND(OR(G243=\"B\",G243=\"C\"),I243<>\"XPS\",AND(Eingabeliste!AC243>50,Daten!F$3=FALSE)),1,0)+IF(AND(OR(G243=\"B\",G243=\"C\"),I243=\"XPS\",Eingabeliste!AC243>100),1,0))","v":0}]
[{"$f":"IF(Eingabeliste!A244=\"\",0,1)","v":0},{"$f":"Eingabeliste!B244","v":0},{"$f":"IFERROR(ROUND(Eingabeliste!J244/(COS((Eingabeliste!K244*PI())/180))-(SIN((Eingabeliste!K244*PI())/180)*2)+(Eingabeliste!M244-2.74)+IF(Eingabeliste!L244=0,0,Eingabeliste!L244-2.74)+IF(Eingabeliste!N244=Daten!N$6,0,12-1.86),1),\"\")","v":""},{"$f":"IF(OR(B244=0,Eingabeliste!E244=\"\"),0,MAX(Eingabeliste!E244,1000)*B244)","v":0},{"$f":"IFERROR((ROUNDUP(Eingabeliste!E244/Daten!$K$15,0)-1)*B244,\"\")","v":""},{"$f":"IF(Eingabeliste!N244=\"Pulverbesch.\",Daten!$D$1,Eingabeliste!N244)","v":""},{"$f":"Eingabeliste!AB244","v":""},{"$f":"Eingabeliste!AC244","v":""},{"$f":"Eingabeliste!AA244","v":""},{"$f":"Eingabeliste!I244","v":""},{"$f":"Eingabeliste!G244","v":""},{"$f":"Eingabeliste!H244","v":""},null,null,null,null,null,null,null,null,{"$f":"IF(OR(Eingabeliste!O244=\"Flexila PU\",Eingabeliste!O244=\"Flexila STB\"),Eingabeliste!B244,0)+IF(OR(Eingabeliste!S244=\"Flexila PU\",Eingabeliste!S244=\"Flexila STB\"),Eingabeliste!B244,0)","v":0},null,null,null,null,null,null,null,null,null,null,null,null,null,null,null,null,null,null,null,null,null,null,null,null,0,null,null,null,{"$f":"IF(A244=0,0,IF(C244>$C$2,1,0)+IF(AND(Daten!$F$3=TRUE,Zusammenfassung!J244>Preise!$A$70),1,0)+IF(AND(G244=\"D\",K244>Preise!$A$54),1,0)+IF(AND(OR(G244=\"B\",G244=\"C\"),I244<>\"XPS\",AND(Eingabeliste!AC244>50,Daten!F$3=FALSE)),1,0)+IF(AND(OR(G244=\"B\",G244=\"C\"),I244=\"XPS\",Eingabeliste!AC244>100),1,0))","v":0}]
[{"$f":"IF(Eingabeliste!A245=\"\",0,1)","v":0},{"$f":"Eingabeliste!B245","v":0},{"$f":"IFERROR(ROUND(Eingabeliste!J245/(COS((Eingabeliste!K245*PI())/180))-(SIN((Eingabeliste!K245*PI())/180)*2)+(Eingabeliste!M245-2.74)+IF(Eingabeliste!L245=0,0,Eingabeliste!L245-2.74)+IF(Eingabeliste!N245=Daten!N$6,0,12-1.86),1),\"\")","v":""},{"$f":"IF(OR(B245=0,Eingabeliste!E245=\"\"),0,MAX(Eingabeliste!E245,1000)*B245)","v":0},{"$f":"IFERROR((ROUNDUP(Eingabeliste!E245/Daten!$K$15,0)-1)*B245,\"\")","v":""},{"$f":"IF(Eingabeliste!N245=\"Pulverbesch.\",Daten!$D$1,Eingabeliste!N245)","v":""},{"$f":"Eingabeliste!AB245","v":""},{"$f":"Eingabeliste!AC245","v":""},{"$f":"Eingabeliste!AA245","v":""},{"$f":"Eingabeliste!I245","v":""},{"$f":"Eingabeliste!G245","v":""},{"$f":"Eingabeliste!H245","v":""},null,null,null,null,null,null,null,null,{"$f":"IF(OR(Eingabeliste!O245=\"Flexila PU\",Eingabeliste!O245=\"Flexila STB\"),Eingabeliste!B245,0)+IF(OR(Eingabeliste!S245=\"Flexila PU\",Eingabeliste!S245=\"Flexila STB\"),Eingabeliste!B245,0)","v":0},null,null,null,null,null,null,null,null,null,null,null,null,null,null,null,null,null,null,null,null,null,null,null,null,0,null,null,null,{"$f":"IF(A245=0,0,IF(C245>$C$2,1,0)+IF(AND(Daten!$F$3=TRUE,Zusammenfassung!J245>Preise!$A$70),1,0)+IF(AND(G245=\"D\",K245>Preise!$A$54),1,0)+IF(AND(OR(G245=\"B\",G245=\"C\"),I245<>\"XPS\",AND(Eingabeliste!AC245>50,Daten!F$3=FALSE)),1,0)+IF(AND(OR(G245=\"B\",G245=\"C\"),I245=\"XPS\",Eingabeliste!AC245>100),1,0))","v":0}]
[{"$f":"IF(Eingabeliste!A246=\"\",0,1)","v":0},{"$f":"Eingabeliste!B246","v":0},{"$f":"IFERROR(ROUND(Eingabeliste!J246/(COS((Eingabeliste!K246*PI())/180))-(SIN((Eingabeliste!K246*PI())/180)*2)+(Eingabeliste!M246-2.74)+IF(Eingabeliste!L246=0,0,Eingabeliste!L246-2.74)+IF(Eingabeliste!N246=Daten!N$6,0,12-1.86),1),\"\")","v":""},{"$f":"IF(OR(B246=0,Eingabeliste!E246=\"\"),0,MAX(Eingabeliste!E246,1000)*B246)","v":0},{"$f":"IFERROR((ROUNDUP(Eingabeliste!E246/Daten!$K$15,0)-1)*B246,\"\")","v":""},{"$f":"IF(Eingabeliste!N246=\"Pulverbesch.\",Daten!$D$1,Eingabeliste!N246)","v":""},{"$f":"Eingabeliste!AB246","v":""},{"$f":"Eingabeliste!AC246","v":""},{"$f":"Eingabeliste!AA246","v":""},{"$f":"Eingabeliste!I246","v":""},{"$f":"Eingabeliste!G246","v":""},{"$f":"Eingabeliste!H246","v":""},null,null,null,null,null,null,null,null,{"$f":"IF(OR(Eingabeliste!O246=\"Flexila PU\",Eingabeliste!O246=\"Flexila STB\"),Eingabeliste!B246,0)+IF(OR(Eingabeliste!S246=\"Flexila PU\",Eingabeliste!S246=\"Flexila STB\"),Eingabeliste!B246,0)","v":0},null,null,null,null,null,null,null,null,null,null,null,null,null,null,null,null,null,null,null,null,null,null,null,null,0,null,null,null,{"$f":"IF(A246=0,0,IF(C246>$C$2,1,0)+IF(AND(Daten!$F$3=TRUE,Zusammenfassung!J246>Preise!$A$70),1,0)+IF(AND(G246=\"D\",K246>Preise!$A$54),1,0)+IF(AND(OR(G246=\"B\",G246=\"C\"),I246<>\"XPS\",AND(Eingabeliste!AC246>50,Daten!F$3=FALSE)),1,0)+IF(AND(OR(G246=\"B\",G246=\"C\"),I246=\"XPS\",Eingabeliste!AC246>100),1,0))","v":0}]
[{"$f":"IF(Eingabeliste!A247=\"\",0,1)","v":0},{"$f":"Eingabeliste!B247","v":0},{"$f":"IFERROR(ROUND(Eingabeliste!J247/(COS((Eingabeliste!K247*PI())/180))-(SIN((Eingabeliste!K247*PI())/180)*2)+(Eingabeliste!M247-2.74)+IF(Eingabeliste!L247=0,0,Eingabeliste!L247-2.74)+IF(Eingabeliste!N247=Daten!N$6,0,12-1.86),1),\"\")","v":""},{"$f":"IF(OR(B247=0,Eingabeliste!E247=\"\"),0,MAX(Eingabeliste!E247,1000)*B247)","v":0},{"$f":"IFERROR((ROUNDUP(Eingabeliste!E247/Daten!$K$15,0)-1)*B247,\"\")","v":""},{"$f":"IF(Eingabeliste!N247=\"Pulverbesch.\",Daten!$D$1,Eingabeliste!N247)","v":""},{"$f":"Eingabeliste!AB247","v":""},{"$f":"Eingabeliste!AC247","v":""},{"$f":"Eingabeliste!AA247","v":""},{"$f":"Eingabeliste!I247","v":""},{"$f":"Eingabeliste!G247","v":""},{"$f":"Eingabeliste!H247","v":""},null,null,null,null,null,null,null,null,{"$f":"IF(OR(Eingabeliste!O247=\"Flexila PU\",Eingabeliste!O247=\"Flexila STB\"),Eingabeliste!B247,0)+IF(OR(Eingabeliste!S247=\"Flexila PU\",Eingabeliste!S247=\"Flexila STB\"),Eingabeliste!B247,0)","v":0},null,null,null,null,null,null,null,null,null,null,null,null,null,null,null,null,null,null,null,null,null,null,null,null,0,null,null,null,{"$f":"IF(A247=0,0,IF(C247>$C$2,1,0)+IF(AND(Daten!$F$3=TRUE,Zusammenfassung!J247>Preise!$A$70),1,0)+IF(AND(G247=\"D\",K247>Preise!$A$54),1,0)+IF(AND(OR(G247=\"B\",G247=\"C\"),I247<>\"XPS\",AND(Eingabeliste!AC247>50,Daten!F$3=FALSE)),1,0)+IF(AND(OR(G247=\"B\",G247=\"C\"),I247=\"XPS\",Eingabeliste!AC247>100),1,0))","v":0}]
[{"$f":"IF(Eingabeliste!A248=\"\",0,1)","v":0},{"$f":"Eingabeliste!B248","v":0},{"$f":"IFERROR(ROUND(Eingabeliste!J248/(COS((Eingabeliste!K248*PI())/180))-(SIN((Eingabeliste!K248*PI())/180)*2)+(Eingabeliste!M248-2.74)+IF(Eingabeliste!L248=0,0,Eingabeliste!L248-2.74)+IF(Eingabeliste!N248=Daten!N$6,0,12-1.86),1),\"\")","v":""},{"$f":"IF(OR(B248=0,Eingabeliste!E248=\"\"),0,MAX(Eingabeliste!E248,1000)*B248)","v":0},{"$f":"IFERROR((ROUNDUP(Eingabeliste!E248/Daten!$K$15,0)-1)*B248,\"\")","v":""},{"$f":"IF(Eingabeliste!N248=\"Pulverbesch.\",Daten!$D$1,Eingabeliste!N248)","v":""},{"$f":"Eingabeliste!AB248","v":""},{"$f":"Eingabeliste!AC248","v":""},{"$f":"Eingabeliste!AA248","v":""},{"$f":"Eingabeliste!I248","v":""},{"$f":"Eingabeliste!G248","v":""},{"$f":"Eingabeliste!H248","v":""},null,null,null,null,null,null,null,null,{"$f":"IF(OR(Eingabeliste!O248=\"Flexila PU\",Eingabeliste!O248=\"Flexila STB\"),Eingabeliste!B248,0)+IF(OR(Eingabeliste!S248=\"Flexila PU\",Eingabeliste!S248=\"Flexila STB\"),Eingabeliste!B248,0)","v":0},null,null,null,null,null,null,null,null,null,null,null,null,null,null,null,null,null,null,null,null,null,null,null,null,0,null,null,null,{"$f":"IF(A248=0,0,IF(C248>$C$2,1,0)+IF(AND(Daten!$F$3=TRUE,Zusammenfassung!J248>Preise!$A$70),1,0)+IF(AND(G248=\"D\",K248>Preise!$A$54),1,0)+IF(AND(OR(G248=\"B\",G248=\"C\"),I248<>\"XPS\",AND(Eingabeliste!AC248>50,Daten!F$3=FALSE)),1,0)+IF(AND(OR(G248=\"B\",G248=\"C\"),I248=\"XPS\",Eingabeliste!AC248>100),1,0))","v":0}]
[{"$f":"IF(Eingabeliste!A249=\"\",0,1)","v":0},{"$f":"Eingabeliste!B249","v":0},{"$f":"IFERROR(ROUND(Eingabeliste!J249/(COS((Eingabeliste!K249*PI())/180))-(SIN((Eingabeliste!K249*PI())/180)*2)+(Eingabeliste!M249-2.74)+IF(Eingabeliste!L249=0,0,Eingabeliste!L249-2.74)+IF(Eingabeliste!N249=Daten!N$6,0,12-1.86),1),\"\")","v":""},{"$f":"IF(OR(B249=0,Eingabeliste!E249=\"\"),0,MAX(Eingabeliste!E249,1000)*B249)","v":0},{"$f":"IFERROR((ROUNDUP(Eingabeliste!E249/Daten!$K$15,0)-1)*B249,\"\")","v":""},{"$f":"IF(Eingabeliste!N249=\"Pulverbesch.\",Daten!$D$1,Eingabeliste!N249)","v":""},{"$f":"Eingabeliste!AB249","v":""},{"$f":"Eingabeliste!AC249","v":""},{"$f":"Eingabeliste!AA249","v":""},{"$f":"Eingabeliste!I249","v":""},{"$f":"Eingabeliste!G249","v":""},{"$f":"Eingabeliste!H249","v":""},null,null,null,null,null,null,null,null,{"$f":"IF(OR(Eingabeliste!O249=\"Flexila PU\",Eingabeliste!O249=\"Flexila STB\"),Eingabeliste!B249,0)+IF(OR(Eingabeliste!S249=\"Flexila PU\",Eingabeliste!S249=\"Flexila STB\"),Eingabeliste!B249,0)","v":0},null,null,null,null,null,null,null,null,null,null,null,null,null,null,null,null,null,null,null,null,null,null,null,null,0,null,null,null,{"$f":"IF(A249=0,0,IF(C249>$C$2,1,0)+IF(AND(Daten!$F$3=TRUE,Zusammenfassung!J249>Preise!$A$70),1,0)+IF(AND(G249=\"D\",K249>Preise!$A$54),1,0)+IF(AND(OR(G249=\"B\",G249=\"C\"),I249<>\"XPS\",AND(Eingabeliste!AC249>50,Daten!F$3=FALSE)),1,0)+IF(AND(OR(G249=\"B\",G249=\"C\"),I249=\"XPS\",Eingabeliste!AC249>100),1,0))","v":0}]
[{"$f":"IF(Eingabeliste!A250=\"\",0,1)","v":0},{"$f":"Eingabeliste!B250","v":0},{"$f":"IFERROR(ROUND(Eingabeliste!J250/(COS((Eingabeliste!K250*PI())/180))-(SIN((Eingabeliste!K250*PI())/180)*2)+(Eingabeliste!M250-2.74)+IF(Eingabeliste!L250=0,0,Eingabeliste!L250-2.74)+IF(Eingabeliste!N250=Daten!N$6,0,12-1.86),1),\"\")","v":""},{"$f":"IF(OR(B250=0,Eingabeliste!E250=\"\"),0,MAX(Eingabeliste!E250,1000)*B250)","v":0},{"$f":"IFERROR((ROUNDUP(Eingabeliste!E250/Daten!$K$15,0)-1)*B250,\"\")","v":""},{"$f":"IF(Eingabeliste!N250=\"Pulverbesch.\",Daten!$D$1,Eingabeliste!N250)","v":""},{"$f":"Eingabeliste!AB250","v":""},{"$f":"Eingabeliste!AC250","v":""},{"$f":"Eingabeliste!AA250","v":""},{"$f":"Eingabeliste!I250","v":""},{"$f":"Eingabeliste!G250","v":""},{"$f":"Eingabeliste!H250","v":""},null,null,null,null,null,null,null,null,{"$f":"IF(OR(Eingabeliste!O250=\"Flexila PU\",Eingabeliste!O250=\"Flexila STB\"),Eingabeliste!B250,0)+IF(OR(Eingabeliste!S250=\"Flexila PU\",Eingabeliste!S250=\"Flexila STB\"),Eingabeliste!B250,0)","v":0},null,null,null,null,null,null,null,null,null,null,null,null,null,null,null,null,null,null,null,null,null,null,null,null,0,null,null,null,{"$f":"IF(A250=0,0,IF(C250>$C$2,1,0)+IF(AND(Daten!$F$3=TRUE,Zusammenfassung!J250>Preise!$A$70),1,0)+IF(AND(G250=\"D\",K250>Preise!$A$54),1,0)+IF(AND(OR(G250=\"B\",G250=\"C\"),I250<>\"XPS\",AND(Eingabeliste!AC250>50,Daten!F$3=FALSE)),1,0)+IF(AND(OR(G250=\"B\",G250=\"C\"),I250=\"XPS\",Eingabeliste!AC250>100),1,0))","v":0}]
[{"$f":"IF(Eingabeliste!A251=\"\",0,1)","v":0},{"$f":"Eingabeliste!B251","v":0},{"$f":"IFERROR(ROUND(Eingabeliste!J251/(COS((Eingabeliste!K251*PI())/180))-(SIN((Eingabeliste!K251*PI())/180)*2)+(Eingabeliste!M251-2.74)+IF(Eingabeliste!L251=0,0,Eingabeliste!L251-2.74)+IF(Eingabeliste!N251=Daten!N$6,0,12-1.86),1),\"\")","v":""},{"$f":"IF(OR(B251=0,Eingabeliste!E251=\"\"),0,MAX(Eingabeliste!E251,1000)*B251)","v":0},{"$f":"IFERROR((ROUNDUP(Eingabeliste!E251/Daten!$K$15,0)-1)*B251,\"\")","v":""},{"$f":"IF(Eingabeliste!N251=\"Pulverbesch.\",Daten!$D$1,Eingabeliste!N251)","v":""},{"$f":"Eingabeliste!AB251","v":""},{"$f":"Eingabeliste!AC251","v":""},{"$f":"Eingabeliste!AA251","v":""},{"$f":"Eingabeliste!I251","v":""},{"$f":"Eingabeliste!G251","v":""},{"$f":"Eingabeliste!H251","v":""},null,null,null,null,null,null,null,null,{"$f":"IF(OR(Eingabeliste!O251=\"Flexila PU\",Eingabeliste!O251=\"Flexila STB\"),Eingabeliste!B251,0)+IF(OR(Eingabeliste!S251=\"Flexila PU\",Eingabeliste!S251=\"Flexila STB\"),Eingabeliste!B251,0)","v":0},null,null,null,null,null,null,null,null,null,null,null,null,null,null,null,null,null,null,null,null,null,null,null,null,0,null,null,null,{"$f":"IF(A251=0,0,IF(C251>$C$2,1,0)+IF(AND(Daten!$F$3=TRUE,Zusammenfassung!J251>Preise!$A$70),1,0)+IF(AND(G251=\"D\",K251>Preise!$A$54),1,0)+IF(AND(OR(G251=\"B\",G251=\"C\"),I251<>\"XPS\",AND(Eingabeliste!AC251>50,Daten!F$3=FALSE)),1,0)+IF(AND(OR(G251=\"B\",G251=\"C\"),I251=\"XPS\",Eingabeliste!AC251>100),1,0))","v":0}]
[{"$f":"IF(Eingabeliste!A252=\"\",0,1)","v":0},{"$f":"Eingabeliste!B252","v":0},{"$f":"IFERROR(ROUND(Eingabeliste!J252/(COS((Eingabeliste!K252*PI())/180))-(SIN((Eingabeliste!K252*PI())/180)*2)+(Eingabeliste!M252-2.74)+IF(Eingabeliste!L252=0,0,Eingabeliste!L252-2.74)+IF(Eingabeliste!N252=Daten!N$6,0,12-1.86),1),\"\")","v":""},{"$f":"IF(OR(B252=0,Eingabeliste!E252=\"\"),0,MAX(Eingabeliste!E252,1000)*B252)","v":0},{"$f":"IFERROR((ROUNDUP(Eingabeliste!E252/Daten!$K$15,0)-1)*B252,\"\")","v":""},{"$f":"IF(Eingabeliste!N252=\"Pulverbesch.\",Daten!$D$1,Eingabeliste!N252)","v":""},{"$f":"Eingabeliste!AB252","v":""},{"$f":"Eingabeliste!AC252","v":""},{"$f":"Eingabeliste!AA252","v":""},{"$f":"Eingabeliste!I252","v":""},{"$f":"Eingabeliste!G252","v":""},{"$f":"Eingabeliste!H252","v":""},null,null,null,null,null,null,null,null,{"$f":"IF(OR(Eingabeliste!O252=\"Flexila PU\",Eingabeliste!O252=\"Flexila STB\"),Eingabeliste!B252,0)+IF(OR(Eingabeliste!S252=\"Flexila PU\",Eingabeliste!S252=\"Flexila STB\"),Eingabeliste!B252,0)","v":0},null,null,null,null,null,null,null,null,null,null,null,null,null,null,null,null,null,null,null,null,null,null,null,null,0,null,null,null,{"$f":"IF(A252=0,0,IF(C252>$C$2,1,0)+IF(AND(Daten!$F$3=TRUE,Zusammenfassung!J252>Preise!$A$70),1,0)+IF(AND(G252=\"D\",K252>Preise!$A$54),1,0)+IF(AND(OR(G252=\"B\",G252=\"C\"),I252<>\"XPS\",AND(Eingabeliste!AC252>50,Daten!F$3=FALSE)),1,0)+IF(AND(OR(G252=\"B\",G252=\"C\"),I252=\"XPS\",Eingabeliste!AC252>100),1,0))","v":0}]
[{"$f":"IF(Eingabeliste!A253=\"\",0,1)","v":0},{"$f":"Eingabeliste!B253","v":0},{"$f":"IFERROR(ROUND(Eingabeliste!J253/(COS((Eingabeliste!K253*PI())/180))-(SIN((Eingabeliste!K253*PI())/180)*2)+(Eingabeliste!M253-2.74)+IF(Eingabeliste!L253=0,0,Eingabeliste!L253-2.74)+IF(Eingabeliste!N253=Daten!N$6,0,12-1.86),1),\"\")","v":""},{"$f":"IF(OR(B253=0,Eingabeliste!E253=\"\"),0,MAX(Eingabeliste!E253,1000)*B253)","v":0},{"$f":"IFERROR((ROUNDUP(Eingabeliste!E253/Daten!$K$15,0)-1)*B253,\"\")","v":""},{"$f":"IF(Eingabeliste!N253=\"Pulverbesch.\",Daten!$D$1,Eingabeliste!N253)","v":""},{"$f":"Eingabeliste!AB253","v":""},{"$f":"Eingabeliste!AC253","v":""},{"$f":"Eingabeliste!AA253","v":""},{"$f":"Eingabeliste!I253","v":""},{"$f":"Eingabeliste!G253","v":""},{"$f":"Eingabeliste!H253","v":""},null,null,null,null,null,null,null,null,{"$f":"IF(OR(Eingabeliste!O253=\"Flexila PU\",Eingabeliste!O253=\"Flexila STB\"),Eingabeliste!B253,0)+IF(OR(Eingabeliste!S253=\"Flexila PU\",Eingabeliste!S253=\"Flexila STB\"),Eingabeliste!B253,0)","v":0},null,null,null,null,null,null,null,null,null,null,null,null,null,null,null,null,null,null,null,null,null,null,null,null,0,null,null,null,{"$f":"IF(A253=0,0,IF(C253>$C$2,1,0)+IF(AND(Daten!$F$3=TRUE,Zusammenfassung!J253>Preise!$A$70),1,0)+IF(AND(G253=\"D\",K253>Preise!$A$54),1,0)+IF(AND(OR(G253=\"B\",G253=\"C\"),I253<>\"XPS\",AND(Eingabeliste!AC253>50,Daten!F$3=FALSE)),1,0)+IF(AND(OR(G253=\"B\",G253=\"C\"),I253=\"XPS\",Eingabeliste!AC253>100),1,0))","v":0}]
[{"$f":"IF(Eingabeliste!A254=\"\",0,1)","v":0},{"$f":"Eingabeliste!B254","v":0},{"$f":"IFERROR(ROUND(Eingabeliste!J254/(COS((Eingabeliste!K254*PI())/180))-(SIN((Eingabeliste!K254*PI())/180)*2)+(Eingabeliste!M254-2.74)+IF(Eingabeliste!L254=0,0,Eingabeliste!L254-2.74)+IF(Eingabeliste!N254=Daten!N$6,0,12-1.86),1),\"\")","v":""},{"$f":"IF(OR(B254=0,Eingabeliste!E254=\"\"),0,MAX(Eingabeliste!E254,1000)*B254)","v":0},{"$f":"IFERROR((ROUNDUP(Eingabeliste!E254/Daten!$K$15,0)-1)*B254,\"\")","v":""},{"$f":"IF(Eingabeliste!N254=\"Pulverbesch.\",Daten!$D$1,Eingabeliste!N254)","v":""},{"$f":"Eingabeliste!AB254","v":""},{"$f":"Eingabeliste!AC254","v":""},{"$f":"Eingabeliste!AA254","v":""},{"$f":"Eingabeliste!I254","v":""},{"$f":"Eingabeliste!G254","v":""},{"$f":"Eingabeliste!H254","v":""},null,null,null,null,null,null,null,null,{"$f":"IF(OR(Eingabeliste!O254=\"Flexila PU\",Eingabeliste!O254=\"Flexila STB\"),Eingabeliste!B254,0)+IF(OR(Eingabeliste!S254=\"Flexila PU\",Eingabeliste!S254=\"Flexila STB\"),Eingabeliste!B254,0)","v":0},null,null,null,null,null,null,null,null,null,null,null,null,null,null,null,null,null,null,null,null,null,null,null,null,0,null,null,null,{"$f":"IF(A254=0,0,IF(C254>$C$2,1,0)+IF(AND(Daten!$F$3=TRUE,Zusammenfassung!J254>Preise!$A$70),1,0)+IF(AND(G254=\"D\",K254>Preise!$A$54),1,0)+IF(AND(OR(G254=\"B\",G254=\"C\"),I254<>\"XPS\",AND(Eingabeliste!AC254>50,Daten!F$3=FALSE)),1,0)+IF(AND(OR(G254=\"B\",G254=\"C\"),I254=\"XPS\",Eingabeliste!AC254>100),1,0))","v":0}]
[{"$f":"IF(Eingabeliste!A255=\"\",0,1)","v":0},{"$f":"Eingabeliste!B255","v":0},{"$f":"IFERROR(ROUND(Eingabeliste!J255/(COS((Eingabeliste!K255*PI())/180))-(SIN((Eingabeliste!K255*PI())/180)*2)+(Eingabeliste!M255-2.74)+IF(Eingabeliste!L255=0,0,Eingabeliste!L255-2.74)+IF(Eingabeliste!N255=Daten!N$6,0,12-1.86),1),\"\")","v":""},{"$f":"IF(OR(B255=0,Eingabeliste!E255=\"\"),0,MAX(Eingabeliste!E255,1000)*B255)","v":0},{"$f":"IFERROR((ROUNDUP(Eingabeliste!E255/Daten!$K$15,0)-1)*B255,\"\")","v":""},{"$f":"IF(Eingabeliste!N255=\"Pulverbesch.\",Daten!$D$1,Eingabeliste!N255)","v":""},{"$f":"Eingabeliste!AB255","v":""},{"$f":"Eingabeliste!AC255","v":""},{"$f":"Eingabeliste!AA255","v":""},{"$f":"Eingabeliste!I255","v":""},{"$f":"Eingabeliste!G255","v":""},{"$f":"Eingabeliste!H255","v":""},null,null,null,null,null,null,null,null,{"$f":"IF(OR(Eingabeliste!O255=\"Flexila PU\",Eingabeliste!O255=\"Flexila STB\"),Eingabeliste!B255,0)+IF(OR(Eingabeliste!S255=\"Flexila PU\",Eingabeliste!S255=\"Flexila STB\"),Eingabeliste!B255,0)","v":0},null,null,null,null,null,null,null,null,null,null,null,null,null,null,null,null,null,null,null,null,null,null,null,null,0,null,null,null,{"$f":"IF(A255=0,0,IF(C255>$C$2,1,0)+IF(AND(Daten!$F$3=TRUE,Zusammenfassung!J255>Preise!$A$70),1,0)+IF(AND(G255=\"D\",K255>Preise!$A$54),1,0)+IF(AND(OR(G255=\"B\",G255=\"C\"),I255<>\"XPS\",AND(Eingabeliste!AC255>50,Daten!F$3=FALSE)),1,0)+IF(AND(OR(G255=\"B\",G255=\"C\"),I255=\"XPS\",Eingabeliste!AC255>100),1,0))","v":0}]
[{"$f":"IF(Eingabeliste!A256=\"\",0,1)","v":0},{"$f":"Eingabeliste!B256","v":0},{"$f":"IFERROR(ROUND(Eingabeliste!J256/(COS((Eingabeliste!K256*PI())/180))-(SIN((Eingabeliste!K256*PI())/180)*2)+(Eingabeliste!M256-2.74)+IF(Eingabeliste!L256=0,0,Eingabeliste!L256-2.74)+IF(Eingabeliste!N256=Daten!N$6,0,12-1.86),1),\"\")","v":""},{"$f":"IF(OR(B256=0,Eingabeliste!E256=\"\"),0,MAX(Eingabeliste!E256,1000)*B256)","v":0},{"$f":"IFERROR((ROUNDUP(Eingabeliste!E256/Daten!$K$15,0)-1)*B256,\"\")","v":""},{"$f":"IF(Eingabeliste!N256=\"Pulverbesch.\",Daten!$D$1,Eingabeliste!N256)","v":""},{"$f":"Eingabeliste!AB256","v":""},{"$f":"Eingabeliste!AC256","v":""},{"$f":"Eingabeliste!AA256","v":""},{"$f":"Eingabeliste!I256","v":""},{"$f":"Eingabeliste!G256","v":""},{"$f":"Eingabeliste!H256","v":""},null,null,null,null,null,null,null,null,{"$f":"IF(OR(Eingabeliste!O256=\"Flexila PU\",Eingabeliste!O256=\"Flexila STB\"),Eingabeliste!B256,0)+IF(OR(Eingabeliste!S256=\"Flexila PU\",Eingabeliste!S256=\"Flexila STB\"),Eingabeliste!B256,0)","v":0},null,null,null,null,null,null,null,null,null,null,null,null,null,null,null,null,null,null,null,null,null,null,null,null,0,null,null,null,{"$f":"IF(A256=0,0,IF(C256>$C$2,1,0)+IF(AND(Daten!$F$3=TRUE,Zusammenfassung!J256>Preise!$A$70),1,0)+IF(AND(G256=\"D\",K256>Preise!$A$54),1,0)+IF(AND(OR(G256=\"B\",G256=\"C\"),I256<>\"XPS\",AND(Eingabeliste!AC256>50,Daten!F$3=FALSE)),1,0)+IF(AND(OR(G256=\"B\",G256=\"C\"),I256=\"XPS\",Eingabeliste!AC256>100),1,0))","v":0}]
[{"$f":"IF(Eingabeliste!A257=\"\",0,1)","v":0},{"$f":"Eingabeliste!B257","v":0},{"$f":"IFERROR(ROUND(Eingabeliste!J257/(COS((Eingabeliste!K257*PI())/180))-(SIN((Eingabeliste!K257*PI())/180)*2)+(Eingabeliste!M257-2.74)+IF(Eingabeliste!L257=0,0,Eingabeliste!L257-2.74)+IF(Eingabeliste!N257=Daten!N$6,0,12-1.86),1),\"\")","v":""},{"$f":"IF(OR(B257=0,Eingabeliste!E257=\"\"),0,MAX(Eingabeliste!E257,1000)*B257)","v":0},{"$f":"IFERROR((ROUNDUP(Eingabeliste!E257/Daten!$K$15,0)-1)*B257,\"\")","v":""},{"$f":"IF(Eingabeliste!N257=\"Pulverbesch.\",Daten!$D$1,Eingabeliste!N257)","v":""},{"$f":"Eingabeliste!AB257","v":""},{"$f":"Eingabeliste!AC257","v":""},{"$f":"Eingabeliste!AA257","v":""},{"$f":"Eingabeliste!I257","v":""},{"$f":"Eingabeliste!G257","v":""},{"$f":"Eingabeliste!H257","v":""},null,null,null,null,null,null,null,null,{"$f":"IF(OR(Eingabeliste!O257=\"Flexila PU\",Eingabeliste!O257=\"Flexila STB\"),Eingabeliste!B257,0)+IF(OR(Eingabeliste!S257=\"Flexila PU\",Eingabeliste!S257=\"Flexila STB\"),Eingabeliste!B257,0)","v":0},null,null,null,null,null,null,null,null,null,null,null,null,null,null,null,null,null,null,null,null,null,null,null,null,0,null,null,null,{"$f":"IF(A257=0,0,IF(C257>$C$2,1,0)+IF(AND(Daten!$F$3=TRUE,Zusammenfassung!J257>Preise!$A$70),1,0)+IF(AND(G257=\"D\",K257>Preise!$A$54),1,0)+IF(AND(OR(G257=\"B\",G257=\"C\"),I257<>\"XPS\",AND(Eingabeliste!AC257>50,Daten!F$3=FALSE)),1,0)+IF(AND(OR(G257=\"B\",G257=\"C\"),I257=\"XPS\",Eingabeliste!AC257>100),1,0))","v":0}]
[{"$f":"IF(Eingabeliste!A258=\"\",0,1)","v":0},{"$f":"Eingabeliste!B258","v":0},{"$f":"IFERROR(ROUND(Eingabeliste!J258/(COS((Eingabeliste!K258*PI())/180))-(SIN((Eingabeliste!K258*PI())/180)*2)+(Eingabeliste!M258-2.74)+IF(Eingabeliste!L258=0,0,Eingabeliste!L258-2.74)+IF(Eingabeliste!N258=Daten!N$6,0,12-1.86),1),\"\")","v":""},{"$f":"IF(OR(B258=0,Eingabeliste!E258=\"\"),0,MAX(Eingabeliste!E258,1000)*B258)","v":0},{"$f":"IFERROR((ROUNDUP(Eingabeliste!E258/Daten!$K$15,0)-1)*B258,\"\")","v":""},{"$f":"IF(Eingabeliste!N258=\"Pulverbesch.\",Daten!$D$1,Eingabeliste!N258)","v":""},{"$f":"Eingabeliste!AB258","v":""},{"$f":"Eingabeliste!AC258","v":""},{"$f":"Eingabeliste!AA258","v":""},{"$f":"Eingabeliste!I258","v":""},{"$f":"Eingabeliste!G258","v":""},{"$f":"Eingabeliste!H258","v":""},null,null,null,null,null,null,null,null,{"$f":"IF(OR(Eingabeliste!O258=\"Flexila PU\",Eingabeliste!O258=\"Flexila STB\"),Eingabeliste!B258,0)+IF(OR(Eingabeliste!S258=\"Flexila PU\",Eingabeliste!S258=\"Flexila STB\"),Eingabeliste!B258,0)","v":0},null,null,null,null,null,null,null,null,null,null,null,null,null,null,null,null,null,null,null,null,null,null,null,null,0,null,null,null,{"$f":"IF(A258=0,0,IF(C258>$C$2,1,0)+IF(AND(Daten!$F$3=TRUE,Zusammenfassung!J258>Preise!$A$70),1,0)+IF(AND(G258=\"D\",K258>Preise!$A$54),1,0)+IF(AND(OR(G258=\"B\",G258=\"C\"),I258<>\"XPS\",AND(Eingabeliste!AC258>50,Daten!F$3=FALSE)),1,0)+IF(AND(OR(G258=\"B\",G258=\"C\"),I258=\"XPS\",Eingabeliste!AC258>100),1,0))","v":0}]
[{"$f":"IF(Eingabeliste!A259=\"\",0,1)","v":0},{"$f":"Eingabeliste!B259","v":0},{"$f":"IFERROR(ROUND(Eingabeliste!J259/(COS((Eingabeliste!K259*PI())/180))-(SIN((Eingabeliste!K259*PI())/180)*2)+(Eingabeliste!M259-2.74)+IF(Eingabeliste!L259=0,0,Eingabeliste!L259-2.74)+IF(Eingabeliste!N259=Daten!N$6,0,12-1.86),1),\"\")","v":""},{"$f":"IF(OR(B259=0,Eingabeliste!E259=\"\"),0,MAX(Eingabeliste!E259,1000)*B259)","v":0},{"$f":"IFERROR((ROUNDUP(Eingabeliste!E259/Daten!$K$15,0)-1)*B259,\"\")","v":""},{"$f":"IF(Eingabeliste!N259=\"Pulverbesch.\",Daten!$D$1,Eingabeliste!N259)","v":""},{"$f":"Eingabeliste!AB259","v":""},{"$f":"Eingabeliste!AC259","v":""},{"$f":"Eingabeliste!AA259","v":""},{"$f":"Eingabeliste!I259","v":""},{"$f":"Eingabeliste!G259","v":""},{"$f":"Eingabeliste!H259","v":""},null,null,null,null,null,null,null,null,{"$f":"IF(OR(Eingabeliste!O259=\"Flexila PU\",Eingabeliste!O259=\"Flexila STB\"),Eingabeliste!B259,0)+IF(OR(Eingabeliste!S259=\"Flexila PU\",Eingabeliste!S259=\"Flexila STB\"),Eingabeliste!B259,0)","v":0},null,null,null,null,null,null,null,null,null,null,null,null,null,null,null,null,null,null,null,null,null,null,null,null,0,null,null,null,{"$f":"IF(A259=0,0,IF(C259>$C$2,1,0)+IF(AND(Daten!$F$3=TRUE,Zusammenfassung!J259>Preise!$A$70),1,0)+IF(AND(G259=\"D\",K259>Preise!$A$54),1,0)+IF(AND(OR(G259=\"B\",G259=\"C\"),I259<>\"XPS\",AND(Eingabeliste!AC259>50,Daten!F$3=FALSE)),1,0)+IF(AND(OR(G259=\"B\",G259=\"C\"),I259=\"XPS\",Eingabeliste!AC259>100),1,0))","v":0}]
[{"$f":"IF(Eingabeliste!A260=\"\",0,1)","v":0},{"$f":"Eingabeliste!B260","v":0},{"$f":"IFERROR(ROUND(Eingabeliste!J260/(COS((Eingabeliste!K260*PI())/180))-(SIN((Eingabeliste!K260*PI())/180)*2)+(Eingabeliste!M260-2.74)+IF(Eingabeliste!L260=0,0,Eingabeliste!L260-2.74)+IF(Eingabeliste!N260=Daten!N$6,0,12-1.86),1),\"\")","v":""},{"$f":"IF(OR(B260=0,Eingabeliste!E260=\"\"),0,MAX(Eingabeliste!E260,1000)*B260)","v":0},{"$f":"IFERROR((ROUNDUP(Eingabeliste!E260/Daten!$K$15,0)-1)*B260,\"\")","v":""},{"$f":"IF(Eingabeliste!N260=\"Pulverbesch.\",Daten!$D$1,Eingabeliste!N260)","v":""},{"$f":"Eingabeliste!AB260","v":""},{"$f":"Eingabeliste!AC260","v":""},{"$f":"Eingabeliste!AA260","v":""},{"$f":"Eingabeliste!I260","v":""},{"$f":"Eingabeliste!G260","v":""},{"$f":"Eingabeliste!H260","v":""},null,null,null,null,null,null,null,null,{"$f":"IF(OR(Eingabeliste!O260=\"Flexila PU\",Eingabeliste!O260=\"Flexila STB\"),Eingabeliste!B260,0)+IF(OR(Eingabeliste!S260=\"Flexila PU\",Eingabeliste!S260=\"Flexila STB\"),Eingabeliste!B260,0)","v":0},null,null,null,null,null,null,null,null,null,null,null,null,null,null,null,null,null,null,null,null,null,null,null,null,0,null,null,null,{"$f":"IF(A260=0,0,IF(C260>$C$2,1,0)+IF(AND(Daten!$F$3=TRUE,Zusammenfassung!J260>Preise!$A$70),1,0)+IF(AND(G260=\"D\",K260>Preise!$A$54),1,0)+IF(AND(OR(G260=\"B\",G260=\"C\"),I260<>\"XPS\",AND(Eingabeliste!AC260>50,Daten!F$3=FALSE)),1,0)+IF(AND(OR(G260=\"B\",G260=\"C\"),I260=\"XPS\",Eingabeliste!AC260>100),1,0))","v":0}]
[{"$f":"IF(Eingabeliste!A261=\"\",0,1)","v":0},{"$f":"Eingabeliste!B261","v":0},{"$f":"IFERROR(ROUND(Eingabeliste!J261/(COS((Eingabeliste!K261*PI())/180))-(SIN((Eingabeliste!K261*PI())/180)*2)+(Eingabeliste!M261-2.74)+IF(Eingabeliste!L261=0,0,Eingabeliste!L261-2.74)+IF(Eingabeliste!N261=Daten!N$6,0,12-1.86),1),\"\")","v":""},{"$f":"IF(OR(B261=0,Eingabeliste!E261=\"\"),0,MAX(Eingabeliste!E261,1000)*B261)","v":0},{"$f":"IFERROR((ROUNDUP(Eingabeliste!E261/Daten!$K$15,0)-1)*B261,\"\")","v":""},{"$f":"IF(Eingabeliste!N261=\"Pulverbesch.\",Daten!$D$1,Eingabeliste!N261)","v":""},{"$f":"Eingabeliste!AB261","v":""},{"$f":"Eingabeliste!AC261","v":""},{"$f":"Eingabeliste!AA261","v":""},{"$f":"Eingabeliste!I261","v":""},{"$f":"Eingabeliste!G261","v":""},{"$f":"Eingabeliste!H261","v":""},null,null,null,null,null,null,null,null,{"$f":"IF(OR(Eingabeliste!O261=\"Flexila PU\",Eingabeliste!O261=\"Flexila STB\"),Eingabeliste!B261,0)+IF(OR(Eingabeliste!S261=\"Flexila PU\",Eingabeliste!S261=\"Flexila STB\"),Eingabeliste!B261,0)","v":0},null,null,null,null,null,null,null,null,null,null,null,null,null,null,null,null,null,null,null,null,null,null,null,null,0,null,null,null,{"$f":"IF(A261=0,0,IF(C261>$C$2,1,0)+IF(AND(Daten!$F$3=TRUE,Zusammenfassung!J261>Preise!$A$70),1,0)+IF(AND(G261=\"D\",K261>Preise!$A$54),1,0)+IF(AND(OR(G261=\"B\",G261=\"C\"),I261<>\"XPS\",AND(Eingabeliste!AC261>50,Daten!F$3=FALSE)),1,0)+IF(AND(OR(G261=\"B\",G261=\"C\"),I261=\"XPS\",Eingabeliste!AC261>100),1,0))","v":0}]
[{"$f":"IF(Eingabeliste!A262=\"\",0,1)","v":0},{"$f":"Eingabeliste!B262","v":0},{"$f":"IFERROR(ROUND(Eingabeliste!J262/(COS((Eingabeliste!K262*PI())/180))-(SIN((Eingabeliste!K262*PI())/180)*2)+(Eingabeliste!M262-2.74)+IF(Eingabeliste!L262=0,0,Eingabeliste!L262-2.74)+IF(Eingabeliste!N262=Daten!N$6,0,12-1.86),1),\"\")","v":""},{"$f":"IF(OR(B262=0,Eingabeliste!E262=\"\"),0,MAX(Eingabeliste!E262,1000)*B262)","v":0},{"$f":"IFERROR((ROUNDUP(Eingabeliste!E262/Daten!$K$15,0)-1)*B262,\"\")","v":""},{"$f":"IF(Eingabeliste!N262=\"Pulverbesch.\",Daten!$D$1,Eingabeliste!N262)","v":""},{"$f":"Eingabeliste!AB262","v":""},{"$f":"Eingabeliste!AC262","v":""},{"$f":"Eingabeliste!AA262","v":""},{"$f":"Eingabeliste!I262","v":""},{"$f":"Eingabeliste!G262","v":""},{"$f":"Eingabeliste!H262","v":""},null,null,null,null,null,null,null,null,{"$f":"IF(OR(Eingabeliste!O262=\"Flexila PU\",Eingabeliste!O262=\"Flexila STB\"),Eingabeliste!B262,0)+IF(OR(Eingabeliste!S262=\"Flexila PU\",Eingabeliste!S262=\"Flexila STB\"),Eingabeliste!B262,0)","v":0},null,null,null,null,null,null,null,null,null,null,null,null,null,null,null,null,null,null,null,null,null,null,null,null,{"$f":"IF(B262=0,0,ROUNDUP(D262/800,0)+1)","v":0},null,null,null,{"$f":"IF(A262=0,0,IF(C262>$C$2,1,0)+IF(AND(Daten!$F$3=TRUE,Zusammenfassung!J262>Preise!$A$70),1,0)+IF(AND(G262=\"D\",K262>Preise!$A$54),1,0)+IF(AND(OR(G262=\"B\",G262=\"C\"),I262<>\"XPS\",AND(Eingabeliste!AC262>50,Daten!F$3=FALSE)),1,0)+IF(AND(OR(G262=\"B\",G262=\"C\"),I262=\"XPS\",Eingabeliste!AC262>100),1,0))","v":0}]
[{"$f":"IF(Eingabeliste!A263=\"\",0,1)","v":0},{"$f":"Eingabeliste!B263","v":0},{"$f":"IFERROR(ROUND(Eingabeliste!J263/(COS((Eingabeliste!K263*PI())/180))-(SIN((Eingabeliste!K263*PI())/180)*2)+(Eingabeliste!M263-2.74)+IF(Eingabeliste!L263=0,0,Eingabeliste!L263-2.74)+IF(Eingabeliste!N263=Daten!N$6,0,12-1.86),1),\"\")","v":""},{"$f":"IF(OR(B263=0,Eingabeliste!E263=\"\"),0,MAX(Eingabeliste!E263,1000)*B263)","v":0},{"$f":"IFERROR((ROUNDUP(Eingabeliste!E263/Daten!$K$15,0)-1)*B263,\"\")","v":""},{"$f":"IF(Eingabeliste!N263=\"Pulverbesch.\",Daten!$D$1,Eingabeliste!N263)","v":""},{"$f":"Eingabeliste!AB263","v":""},{"$f":"Eingabeliste!AC263","v":""},{"$f":"Eingabeliste!AA263","v":""},{"$f":"Eingabeliste!I263","v":""},{"$f":"Eingabeliste!G263","v":""},{"$f":"Eingabeliste!H263","v":""},null,null,null,null,null,null,null,null,{"$f":"IF(OR(Eingabeliste!O263=\"Flexila PU\",Eingabeliste!O263=\"Flexila STB\"),Eingabeliste!B263,0)+IF(OR(Eingabeliste!S263=\"Flexila PU\",Eingabeliste!S263=\"Flexila STB\"),Eingabeliste!B263,0)","v":0},null,null,null,null,null,null,null,null,null,null,null,null,null,null,null,null,null,null,null,null,null,null,null,null,0,null,null,null,{"$f":"IF(A263=0,0,IF(C263>$C$2,1,0)+IF(AND(Daten!$F$3=TRUE,Zusammenfassung!J263>Preise!$A$70),1,0)+IF(AND(G263=\"D\",K263>Preise!$A$54),1,0)+IF(AND(OR(G263=\"B\",G263=\"C\"),I263<>\"XPS\",AND(Eingabeliste!AC263>50,Daten!F$3=FALSE)),1,0)+IF(AND(OR(G263=\"B\",G263=\"C\"),I263=\"XPS\",Eingabeliste!AC263>100),1,0))","v":0}]
[{"$f":"IF(Eingabeliste!A264=\"\",0,1)","v":0},{"$f":"Eingabeliste!B264","v":0},{"$f":"IFERROR(ROUND(Eingabeliste!J264/(COS((Eingabeliste!K264*PI())/180))-(SIN((Eingabeliste!K264*PI())/180)*2)+(Eingabeliste!M264-2.74)+IF(Eingabeliste!L264=0,0,Eingabeliste!L264-2.74)+IF(Eingabeliste!N264=Daten!N$6,0,12-1.86),1),\"\")","v":""},{"$f":"IF(OR(B264=0,Eingabeliste!E264=\"\"),0,MAX(Eingabeliste!E264,1000)*B264)","v":0},{"$f":"IFERROR((ROUNDUP(Eingabeliste!E264/Daten!$K$15,0)-1)*B264,\"\")","v":""},{"$f":"IF(Eingabeliste!N264=\"Pulverbesch.\",Daten!$D$1,Eingabeliste!N264)","v":""},{"$f":"Eingabeliste!AB264","v":""},{"$f":"Eingabeliste!AC264","v":""},{"$f":"Eingabeliste!AA264","v":""},{"$f":"Eingabeliste!I264","v":""},{"$f":"Eingabeliste!G264","v":""},{"$f":"Eingabeliste!H264","v":""},null,null,null,null,null,null,null,null,{"$f":"IF(OR(Eingabeliste!O264=\"Flexila PU\",Eingabeliste!O264=\"Flexila STB\"),Eingabeliste!B264,0)+IF(OR(Eingabeliste!S264=\"Flexila PU\",Eingabeliste!S264=\"Flexila STB\"),Eingabeliste!B264,0)","v":0},null,null,null,null,null,null,null,null,null,null,null,null,null,null,null,null,null,null,null,null,null,null,null,null,0,null,null,null,{"$f":"IF(A264=0,0,IF(C264>$C$2,1,0)+IF(AND(Daten!$F$3=TRUE,Zusammenfassung!J264>Preise!$A$70),1,0)+IF(AND(G264=\"D\",K264>Preise!$A$54),1,0)+IF(AND(OR(G264=\"B\",G264=\"C\"),I264<>\"XPS\",AND(Eingabeliste!AC264>50,Daten!F$3=FALSE)),1,0)+IF(AND(OR(G264=\"B\",G264=\"C\"),I264=\"XPS\",Eingabeliste!AC264>100),1,0))","v":0}]
[{"$f":"IF(Eingabeliste!A265=\"\",0,1)","v":0},{"$f":"Eingabeliste!B265","v":0},{"$f":"IFERROR(ROUND(Eingabeliste!J265/(COS((Eingabeliste!K265*PI())/180))-(SIN((Eingabeliste!K265*PI())/180)*2)+(Eingabeliste!M265-2.74)+IF(Eingabeliste!L265=0,0,Eingabeliste!L265-2.74)+IF(Eingabeliste!N265=Daten!N$6,0,12-1.86),1),\"\")","v":""},{"$f":"IF(OR(B265=0,Eingabeliste!E265=\"\"),0,MAX(Eingabeliste!E265,1000)*B265)","v":0},{"$f":"IFERROR((ROUNDUP(Eingabeliste!E265/Daten!$K$15,0)-1)*B265,\"\")","v":""},{"$f":"IF(Eingabeliste!N265=\"Pulverbesch.\",Daten!$D$1,Eingabeliste!N265)","v":""},{"$f":"Eingabeliste!AB265","v":""},{"$f":"Eingabeliste!AC265","v":""},{"$f":"Eingabeliste!AA265","v":""},{"$f":"Eingabeliste!I265","v":""},{"$f":"Eingabeliste!G265","v":""},{"$f":"Eingabeliste!H265","v":""},null,null,null,null,null,null,null,null,{"$f":"IF(OR(Eingabeliste!O265=\"Flexila PU\",Eingabeliste!O265=\"Flexila STB\"),Eingabeliste!B265,0)+IF(OR(Eingabeliste!S265=\"Flexila PU\",Eingabeliste!S265=\"Flexila STB\"),Eingabeliste!B265,0)","v":0},null,null,null,null,null,null,null,null,null,null,null,null,null,null,null,null,null,null,null,null,null,null,null,null,0,null,null,null,{"$f":"IF(A265=0,0,IF(C265>$C$2,1,0)+IF(AND(Daten!$F$3=TRUE,Zusammenfassung!J265>Preise!$A$70),1,0)+IF(AND(G265=\"D\",K265>Preise!$A$54),1,0)+IF(AND(OR(G265=\"B\",G265=\"C\"),I265<>\"XPS\",AND(Eingabeliste!AC265>50,Daten!F$3=FALSE)),1,0)+IF(AND(OR(G265=\"B\",G265=\"C\"),I265=\"XPS\",Eingabeliste!AC265>100),1,0))","v":0}]
[{"$f":"IF(Eingabeliste!A266=\"\",0,1)","v":0},{"$f":"Eingabeliste!B266","v":0},{"$f":"IFERROR(ROUND(Eingabeliste!J266/(COS((Eingabeliste!K266*PI())/180))-(SIN((Eingabeliste!K266*PI())/180)*2)+(Eingabeliste!M266-2.74)+IF(Eingabeliste!L266=0,0,Eingabeliste!L266-2.74)+IF(Eingabeliste!N266=Daten!N$6,0,12-1.86),1),\"\")","v":""},{"$f":"IF(OR(B266=0,Eingabeliste!E266=\"\"),0,MAX(Eingabeliste!E266,1000)*B266)","v":0},{"$f":"IFERROR((ROUNDUP(Eingabeliste!E266/Daten!$K$15,0)-1)*B266,\"\")","v":""},{"$f":"IF(Eingabeliste!N266=\"Pulverbesch.\",Daten!$D$1,Eingabeliste!N266)","v":""},{"$f":"Eingabeliste!AB266","v":""},{"$f":"Eingabeliste!AC266","v":""},{"$f":"Eingabeliste!AA266","v":""},{"$f":"Eingabeliste!I266","v":""},{"$f":"Eingabeliste!G266","v":""},{"$f":"Eingabeliste!H266","v":""},null,null,null,null,null,null,null,null,{"$f":"IF(OR(Eingabeliste!O266=\"Flexila PU\",Eingabeliste!O266=\"Flexila STB\"),Eingabeliste!B266,0)+IF(OR(Eingabeliste!S266=\"Flexila PU\",Eingabeliste!S266=\"Flexila STB\"),Eingabeliste!B266,0)","v":0},null,null,null,null,null,null,null,null,null,null,null,null,null,null,null,null,null,null,null,null,null,null,null,null,0,null,null,null,{"$f":"IF(A266=0,0,IF(C266>$C$2,1,0)+IF(AND(Daten!$F$3=TRUE,Zusammenfassung!J266>Preise!$A$70),1,0)+IF(AND(G266=\"D\",K266>Preise!$A$54),1,0)+IF(AND(OR(G266=\"B\",G266=\"C\"),I266<>\"XPS\",AND(Eingabeliste!AC266>50,Daten!F$3=FALSE)),1,0)+IF(AND(OR(G266=\"B\",G266=\"C\"),I266=\"XPS\",Eingabeliste!AC266>100),1,0))","v":0}]
[{"$f":"IF(Eingabeliste!A267=\"\",0,1)","v":0},{"$f":"Eingabeliste!B267","v":0},{"$f":"IFERROR(ROUND(Eingabeliste!J267/(COS((Eingabeliste!K267*PI())/180))-(SIN((Eingabeliste!K267*PI())/180)*2)+(Eingabeliste!M267-2.74)+IF(Eingabeliste!L267=0,0,Eingabeliste!L267-2.74)+IF(Eingabeliste!N267=Daten!N$6,0,12-1.86),1),\"\")","v":""},{"$f":"IF(OR(B267=0,Eingabeliste!E267=\"\"),0,MAX(Eingabeliste!E267,1000)*B267)","v":0},{"$f":"IFERROR((ROUNDUP(Eingabeliste!E267/Daten!$K$15,0)-1)*B267,\"\")","v":""},{"$f":"IF(Eingabeliste!N267=\"Pulverbesch.\",Daten!$D$1,Eingabeliste!N267)","v":""},{"$f":"Eingabeliste!AB267","v":""},{"$f":"Eingabeliste!AC267","v":""},{"$f":"Eingabeliste!AA267","v":""},{"$f":"Eingabeliste!I267","v":""},{"$f":"Eingabeliste!G267","v":""},{"$f":"Eingabeliste!H267","v":""},null,null,null,null,null,null,null,null,{"$f":"IF(OR(Eingabeliste!O267=\"Flexila PU\",Eingabeliste!O267=\"Flexila STB\"),Eingabeliste!B267,0)+IF(OR(Eingabeliste!S267=\"Flexila PU\",Eingabeliste!S267=\"Flexila STB\"),Eingabeliste!B267,0)","v":0},null,null,null,null,null,null,null,null,null,null,null,null,null,null,null,null,null,null,null,null,null,null,null,null,0,null,null,null,{"$f":"IF(A267=0,0,IF(C267>$C$2,1,0)+IF(AND(Daten!$F$3=TRUE,Zusammenfassung!J267>Preise!$A$70),1,0)+IF(AND(G267=\"D\",K267>Preise!$A$54),1,0)+IF(AND(OR(G267=\"B\",G267=\"C\"),I267<>\"XPS\",AND(Eingabeliste!AC267>50,Daten!F$3=FALSE)),1,0)+IF(AND(OR(G267=\"B\",G267=\"C\"),I267=\"XPS\",Eingabeliste!AC267>100),1,0))","v":0}]
[{"$f":"IF(Eingabeliste!A268=\"\",0,1)","v":0},{"$f":"Eingabeliste!B268","v":0},{"$f":"IFERROR(ROUND(Eingabeliste!J268/(COS((Eingabeliste!K268*PI())/180))-(SIN((Eingabeliste!K268*PI())/180)*2)+(Eingabeliste!M268-2.74)+IF(Eingabeliste!L268=0,0,Eingabeliste!L268-2.74)+IF(Eingabeliste!N268=Daten!N$6,0,12-1.86),1),\"\")","v":""},{"$f":"IF(OR(B268=0,Eingabeliste!E268=\"\"),0,MAX(Eingabeliste!E268,1000)*B268)","v":0},{"$f":"IFERROR((ROUNDUP(Eingabeliste!E268/Daten!$K$15,0)-1)*B268,\"\")","v":""},{"$f":"IF(Eingabeliste!N268=\"Pulverbesch.\",Daten!$D$1,Eingabeliste!N268)","v":""},{"$f":"Eingabeliste!AB268","v":""},{"$f":"Eingabeliste!AC268","v":""},{"$f":"Eingabeliste!AA268","v":""},{"$f":"Eingabeliste!I268","v":""},{"$f":"Eingabeliste!G268","v":""},{"$f":"Eingabeliste!H268","v":""},null,null,null,null,null,null,null,null,{"$f":"IF(OR(Eingabeliste!O268=\"Flexila PU\",Eingabeliste!O268=\"Flexila STB\"),Eingabeliste!B268,0)+IF(OR(Eingabeliste!S268=\"Flexila PU\",Eingabeliste!S268=\"Flexila STB\"),Eingabeliste!B268,0)","v":0},null,null,null,null,null,null,null,null,null,null,null,null,null,null,null,null,null,null,null,null,null,null,null,null,0,null,null,null,{"$f":"IF(A268=0,0,IF(C268>$C$2,1,0)+IF(AND(Daten!$F$3=TRUE,Zusammenfassung!J268>Preise!$A$70),1,0)+IF(AND(G268=\"D\",K268>Preise!$A$54),1,0)+IF(AND(OR(G268=\"B\",G268=\"C\"),I268<>\"XPS\",AND(Eingabeliste!AC268>50,Daten!F$3=FALSE)),1,0)+IF(AND(OR(G268=\"B\",G268=\"C\"),I268=\"XPS\",Eingabeliste!AC268>100),1,0))","v":0}]
[{"$f":"IF(Eingabeliste!A269=\"\",0,1)","v":0},{"$f":"Eingabeliste!B269","v":0},{"$f":"IFERROR(ROUND(Eingabeliste!J269/(COS((Eingabeliste!K269*PI())/180))-(SIN((Eingabeliste!K269*PI())/180)*2)+(Eingabeliste!M269-2.74)+IF(Eingabeliste!L269=0,0,Eingabeliste!L269-2.74)+IF(Eingabeliste!N269=Daten!N$6,0,12-1.86),1),\"\")","v":""},{"$f":"IF(OR(B269=0,Eingabeliste!E269=\"\"),0,MAX(Eingabeliste!E269,1000)*B269)","v":0},{"$f":"IFERROR((ROUNDUP(Eingabeliste!E269/Daten!$K$15,0)-1)*B269,\"\")","v":""},{"$f":"IF(Eingabeliste!N269=\"Pulverbesch.\",Daten!$D$1,Eingabeliste!N269)","v":""},{"$f":"Eingabeliste!AB269","v":""},{"$f":"Eingabeliste!AC269","v":""},{"$f":"Eingabeliste!AA269","v":""},{"$f":"Eingabeliste!I269","v":""},{"$f":"Eingabeliste!G269","v":""},{"$f":"Eingabeliste!H269","v":""},null,null,null,null,null,null,null,null,{"$f":"IF(OR(Eingabeliste!O269=\"Flexila PU\",Eingabeliste!O269=\"Flexila STB\"),Eingabeliste!B269,0)+IF(OR(Eingabeliste!S269=\"Flexila PU\",Eingabeliste!S269=\"Flexila STB\"),Eingabeliste!B269,0)","v":0},null,null,null,null,null,null,null,null,null,null,null,null,null,null,null,null,null,null,null,null,null,null,null,null,0,null,null,null,{"$f":"IF(A269=0,0,IF(C269>$C$2,1,0)+IF(AND(Daten!$F$3=TRUE,Zusammenfassung!J269>Preise!$A$70),1,0)+IF(AND(G269=\"D\",K269>Preise!$A$54),1,0)+IF(AND(OR(G269=\"B\",G269=\"C\"),I269<>\"XPS\",AND(Eingabeliste!AC269>50,Daten!F$3=FALSE)),1,0)+IF(AND(OR(G269=\"B\",G269=\"C\"),I269=\"XPS\",Eingabeliste!AC269>100),1,0))","v":0}]
[{"$f":"IF(Eingabeliste!A270=\"\",0,1)","v":0},{"$f":"Eingabeliste!B270","v":0},{"$f":"IFERROR(ROUND(Eingabeliste!J270/(COS((Eingabeliste!K270*PI())/180))-(SIN((Eingabeliste!K270*PI())/180)*2)+(Eingabeliste!M270-2.74)+IF(Eingabeliste!L270=0,0,Eingabeliste!L270-2.74)+IF(Eingabeliste!N270=Daten!N$6,0,12-1.86),1),\"\")","v":""},{"$f":"IF(OR(B270=0,Eingabeliste!E270=\"\"),0,MAX(Eingabeliste!E270,1000)*B270)","v":0},{"$f":"IFERROR((ROUNDUP(Eingabeliste!E270/Daten!$K$15,0)-1)*B270,\"\")","v":""},{"$f":"IF(Eingabeliste!N270=\"Pulverbesch.\",Daten!$D$1,Eingabeliste!N270)","v":""},{"$f":"Eingabeliste!AB270","v":""},{"$f":"Eingabeliste!AC270","v":""},{"$f":"Eingabeliste!AA270","v":""},{"$f":"Eingabeliste!I270","v":""},{"$f":"Eingabeliste!G270","v":""},{"$f":"Eingabeliste!H270","v":""},null,null,null,null,null,null,null,null,{"$f":"IF(OR(Eingabeliste!O270=\"Flexila PU\",Eingabeliste!O270=\"Flexila STB\"),Eingabeliste!B270,0)+IF(OR(Eingabeliste!S270=\"Flexila PU\",Eingabeliste!S270=\"Flexila STB\"),Eingabeliste!B270,0)","v":0},null,null,null,null,null,null,null,null,null,null,null,null,null,null,null,null,null,null,null,null,null,null,null,null,0,null,null,null,{"$f":"IF(A270=0,0,IF(C270>$C$2,1,0)+IF(AND(Daten!$F$3=TRUE,Zusammenfassung!J270>Preise!$A$70),1,0)+IF(AND(G270=\"D\",K270>Preise!$A$54),1,0)+IF(AND(OR(G270=\"B\",G270=\"C\"),I270<>\"XPS\",AND(Eingabeliste!AC270>50,Daten!F$3=FALSE)),1,0)+IF(AND(OR(G270=\"B\",G270=\"C\"),I270=\"XPS\",Eingabeliste!AC270>100),1,0))","v":0}]
[{"$f":"IF(Eingabeliste!A271=\"\",0,1)","v":0},{"$f":"Eingabeliste!B271","v":0},{"$f":"IFERROR(ROUND(Eingabeliste!J271/(COS((Eingabeliste!K271*PI())/180))-(SIN((Eingabeliste!K271*PI())/180)*2)+(Eingabeliste!M271-2.74)+IF(Eingabeliste!L271=0,0,Eingabeliste!L271-2.74)+IF(Eingabeliste!N271=Daten!N$6,0,12-1.86),1),\"\")","v":""},{"$f":"IF(OR(B271=0,Eingabeliste!E271=\"\"),0,MAX(Eingabeliste!E271,1000)*B271)","v":0},{"$f":"IFERROR((ROUNDUP(Eingabeliste!E271/Daten!$K$15,0)-1)*B271,\"\")","v":""},{"$f":"IF(Eingabeliste!N271=\"Pulverbesch.\",Daten!$D$1,Eingabeliste!N271)","v":""},{"$f":"Eingabeliste!AB271","v":""},{"$f":"Eingabeliste!AC271","v":""},{"$f":"Eingabeliste!AA271","v":""},{"$f":"Eingabeliste!I271","v":""},{"$f":"Eingabeliste!G271","v":""},{"$f":"Eingabeliste!H271","v":""},null,null,null,null,null,null,null,null,{"$f":"IF(OR(Eingabeliste!O271=\"Flexila PU\",Eingabeliste!O271=\"Flexila STB\"),Eingabeliste!B271,0)+IF(OR(Eingabeliste!S271=\"Flexila PU\",Eingabeliste!S271=\"Flexila STB\"),Eingabeliste!B271,0)","v":0},null,null,null,null,null,null,null,null,null,null,null,null,null,null,null,null,null,null,null,null,null,null,null,null,0,null,null,null,{"$f":"IF(A271=0,0,IF(C271>$C$2,1,0)+IF(AND(Daten!$F$3=TRUE,Zusammenfassung!J271>Preise!$A$70),1,0)+IF(AND(G271=\"D\",K271>Preise!$A$54),1,0)+IF(AND(OR(G271=\"B\",G271=\"C\"),I271<>\"XPS\",AND(Eingabeliste!AC271>50,Daten!F$3=FALSE)),1,0)+IF(AND(OR(G271=\"B\",G271=\"C\"),I271=\"XPS\",Eingabeliste!AC271>100),1,0))","v":0}]
[{"$f":"IF(Eingabeliste!A272=\"\",0,1)","v":0},{"$f":"Eingabeliste!B272","v":0},{"$f":"IFERROR(ROUND(Eingabeliste!J272/(COS((Eingabeliste!K272*PI())/180))-(SIN((Eingabeliste!K272*PI())/180)*2)+(Eingabeliste!M272-2.74)+IF(Eingabeliste!L272=0,0,Eingabeliste!L272-2.74)+IF(Eingabeliste!N272=Daten!N$6,0,12-1.86),1),\"\")","v":""},{"$f":"IF(OR(B272=0,Eingabeliste!E272=\"\"),0,MAX(Eingabeliste!E272,1000)*B272)","v":0},{"$f":"IFERROR((ROUNDUP(Eingabeliste!E272/Daten!$K$15,0)-1)*B272,\"\")","v":""},{"$f":"IF(Eingabeliste!N272=\"Pulverbesch.\",Daten!$D$1,Eingabeliste!N272)","v":""},{"$f":"Eingabeliste!AB272","v":""},{"$f":"Eingabeliste!AC272","v":""},{"$f":"Eingabeliste!AA272","v":""},{"$f":"Eingabeliste!I272","v":""},{"$f":"Eingabeliste!G272","v":""},{"$f":"Eingabeliste!H272","v":""},null,null,null,null,null,null,null,null,{"$f":"IF(OR(Eingabeliste!O272=\"Flexila PU\",Eingabeliste!O272=\"Flexila STB\"),Eingabeliste!B272,0)+IF(OR(Eingabeliste!S272=\"Flexila PU\",Eingabeliste!S272=\"Flexila STB\"),Eingabeliste!B272,0)","v":0},null,null,null,null,null,null,null,null,null,null,null,null,null,null,null,null,null,null,null,null,null,null,null,null,0,null,null,null,{"$f":"IF(A272=0,0,IF(C272>$C$2,1,0)+IF(AND(Daten!$F$3=TRUE,Zusammenfassung!J272>Preise!$A$70),1,0)+IF(AND(G272=\"D\",K272>Preise!$A$54),1,0)+IF(AND(OR(G272=\"B\",G272=\"C\"),I272<>\"XPS\",AND(Eingabeliste!AC272>50,Daten!F$3=FALSE)),1,0)+IF(AND(OR(G272=\"B\",G272=\"C\"),I272=\"XPS\",Eingabeliste!AC272>100),1,0))","v":0}]
[{"$f":"IF(Eingabeliste!A273=\"\",0,1)","v":0},{"$f":"Eingabeliste!B273","v":0},{"$f":"IFERROR(ROUND(Eingabeliste!J273/(COS((Eingabeliste!K273*PI())/180))-(SIN((Eingabeliste!K273*PI())/180)*2)+(Eingabeliste!M273-2.74)+IF(Eingabeliste!L273=0,0,Eingabeliste!L273-2.74)+IF(Eingabeliste!N273=Daten!N$6,0,12-1.86),1),\"\")","v":""},{"$f":"IF(OR(B273=0,Eingabeliste!E273=\"\"),0,MAX(Eingabeliste!E273,1000)*B273)","v":0},{"$f":"IFERROR((ROUNDUP(Eingabeliste!E273/Daten!$K$15,0)-1)*B273,\"\")","v":""},{"$f":"IF(Eingabeliste!N273=\"Pulverbesch.\",Daten!$D$1,Eingabeliste!N273)","v":""},{"$f":"Eingabeliste!AB273","v":""},{"$f":"Eingabeliste!AC273","v":""},{"$f":"Eingabeliste!AA273","v":""},{"$f":"Eingabeliste!I273","v":""},{"$f":"Eingabeliste!G273","v":""},{"$f":"Eingabeliste!H273","v":""},null,null,null,null,null,null,null,null,{"$f":"IF(OR(Eingabeliste!O273=\"Flexila PU\",Eingabeliste!O273=\"Flexila STB\"),Eingabeliste!B273,0)+IF(OR(Eingabeliste!S273=\"Flexila PU\",Eingabeliste!S273=\"Flexila STB\"),Eingabeliste!B273,0)","v":0},null,null,null,null,null,null,null,null,null,null,null,null,null,null,null,null,null,null,null,null,null,null,null,null,0,null,null,null,{"$f":"IF(A273=0,0,IF(C273>$C$2,1,0)+IF(AND(Daten!$F$3=TRUE,Zusammenfassung!J273>Preise!$A$70),1,0)+IF(AND(G273=\"D\",K273>Preise!$A$54),1,0)+IF(AND(OR(G273=\"B\",G273=\"C\"),I273<>\"XPS\",AND(Eingabeliste!AC273>50,Daten!F$3=FALSE)),1,0)+IF(AND(OR(G273=\"B\",G273=\"C\"),I273=\"XPS\",Eingabeliste!AC273>100),1,0))","v":0}]
[{"$f":"IF(Eingabeliste!A274=\"\",0,1)","v":0},{"$f":"Eingabeliste!B274","v":0},{"$f":"IFERROR(ROUND(Eingabeliste!J274/(COS((Eingabeliste!K274*PI())/180))-(SIN((Eingabeliste!K274*PI())/180)*2)+(Eingabeliste!M274-2.74)+IF(Eingabeliste!L274=0,0,Eingabeliste!L274-2.74)+IF(Eingabeliste!N274=Daten!N$6,0,12-1.86),1),\"\")","v":""},{"$f":"IF(OR(B274=0,Eingabeliste!E274=\"\"),0,MAX(Eingabeliste!E274,1000)*B274)","v":0},{"$f":"IFERROR((ROUNDUP(Eingabeliste!E274/Daten!$K$15,0)-1)*B274,\"\")","v":""},{"$f":"IF(Eingabeliste!N274=\"Pulverbesch.\",Daten!$D$1,Eingabeliste!N274)","v":""},{"$f":"Eingabeliste!AB274","v":""},{"$f":"Eingabeliste!AC274","v":""},{"$f":"Eingabeliste!AA274","v":""},{"$f":"Eingabeliste!I274","v":""},{"$f":"Eingabeliste!G274","v":""},{"$f":"Eingabeliste!H274","v":""},null,null,null,null,null,null,null,null,{"$f":"IF(OR(Eingabeliste!O274=\"Flexila PU\",Eingabeliste!O274=\"Flexila STB\"),Eingabeliste!B274,0)+IF(OR(Eingabeliste!S274=\"Flexila PU\",Eingabeliste!S274=\"Flexila STB\"),Eingabeliste!B274,0)","v":0},null,null,null,null,null,null,null,null,null,null,null,null,null,null,null,null,null,null,null,null,null,null,null,null,0,null,null,null,{"$f":"IF(A274=0,0,IF(C274>$C$2,1,0)+IF(AND(Daten!$F$3=TRUE,Zusammenfassung!J274>Preise!$A$70),1,0)+IF(AND(G274=\"D\",K274>Preise!$A$54),1,0)+IF(AND(OR(G274=\"B\",G274=\"C\"),I274<>\"XPS\",AND(Eingabeliste!AC274>50,Daten!F$3=FALSE)),1,0)+IF(AND(OR(G274=\"B\",G274=\"C\"),I274=\"XPS\",Eingabeliste!AC274>100),1,0))","v":0}]
[{"$f":"IF(Eingabeliste!A275=\"\",0,1)","v":0},{"$f":"Eingabeliste!B275","v":0},{"$f":"IFERROR(ROUND(Eingabeliste!J275/(COS((Eingabeliste!K275*PI())/180))-(SIN((Eingabeliste!K275*PI())/180)*2)+(Eingabeliste!M275-2.74)+IF(Eingabeliste!L275=0,0,Eingabeliste!L275-2.74)+IF(Eingabeliste!N275=Daten!N$6,0,12-1.86),1),\"\")","v":""},{"$f":"IF(OR(B275=0,Eingabeliste!E275=\"\"),0,MAX(Eingabeliste!E275,1000)*B275)","v":0},{"$f":"IFERROR((ROUNDUP(Eingabeliste!E275/Daten!$K$15,0)-1)*B275,\"\")","v":""},{"$f":"IF(Eingabeliste!N275=\"Pulverbesch.\",Daten!$D$1,Eingabeliste!N275)","v":""},{"$f":"Eingabeliste!AB275","v":""},{"$f":"Eingabeliste!AC275","v":""},{"$f":"Eingabeliste!AA275","v":""},{"$f":"Eingabeliste!I275","v":""},{"$f":"Eingabeliste!G275","v":""},{"$f":"Eingabeliste!H275","v":""},null,null,null,null,null,null,null,null,{"$f":"IF(OR(Eingabeliste!O275=\"Flexila PU\",Eingabeliste!O275=\"Flexila STB\"),Eingabeliste!B275,0)+IF(OR(Eingabeliste!S275=\"Flexila PU\",Eingabeliste!S275=\"Flexila STB\"),Eingabeliste!B275,0)","v":0},null,null,null,null,null,null,null,null,null,null,null,null,null,null,null,null,null,null,null,null,null,null,null,null,0,null,null,null,{"$f":"IF(A275=0,0,IF(C275>$C$2,1,0)+IF(AND(Daten!$F$3=TRUE,Zusammenfassung!J275>Preise!$A$70),1,0)+IF(AND(G275=\"D\",K275>Preise!$A$54),1,0)+IF(AND(OR(G275=\"B\",G275=\"C\"),I275<>\"XPS\",AND(Eingabeliste!AC275>50,Daten!F$3=FALSE)),1,0)+IF(AND(OR(G275=\"B\",G275=\"C\"),I275=\"XPS\",Eingabeliste!AC275>100),1,0))","v":0}]
[{"$f":"IF(Eingabeliste!A276=\"\",0,1)","v":0},{"$f":"Eingabeliste!B276","v":0},{"$f":"IFERROR(ROUND(Eingabeliste!J276/(COS((Eingabeliste!K276*PI())/180))-(SIN((Eingabeliste!K276*PI())/180)*2)+(Eingabeliste!M276-2.74)+IF(Eingabeliste!L276=0,0,Eingabeliste!L276-2.74)+IF(Eingabeliste!N276=Daten!N$6,0,12-1.86),1),\"\")","v":""},{"$f":"IF(OR(B276=0,Eingabeliste!E276=\"\"),0,MAX(Eingabeliste!E276,1000)*B276)","v":0},{"$f":"IFERROR((ROUNDUP(Eingabeliste!E276/Daten!$K$15,0)-1)*B276,\"\")","v":""},{"$f":"IF(Eingabeliste!N276=\"Pulverbesch.\",Daten!$D$1,Eingabeliste!N276)","v":""},{"$f":"Eingabeliste!AB276","v":""},{"$f":"Eingabeliste!AC276","v":""},{"$f":"Eingabeliste!AA276","v":""},{"$f":"Eingabeliste!I276","v":""},{"$f":"Eingabeliste!G276","v":""},{"$f":"Eingabeliste!H276","v":""},null,null,null,null,null,null,null,null,{"$f":"IF(OR(Eingabeliste!O276=\"Flexila PU\",Eingabeliste!O276=\"Flexila STB\"),Eingabeliste!B276,0)+IF(OR(Eingabeliste!S276=\"Flexila PU\",Eingabeliste!S276=\"Flexila STB\"),Eingabeliste!B276,0)","v":0},null,null,null,null,null,null,null,null,null,null,null,null,null,null,null,null,null,null,null,null,null,null,null,null,0,null,null,null,{"$f":"IF(A276=0,0,IF(C276>$C$2,1,0)+IF(AND(Daten!$F$3=TRUE,Zusammenfassung!J276>Preise!$A$70),1,0)+IF(AND(G276=\"D\",K276>Preise!$A$54),1,0)+IF(AND(OR(G276=\"B\",G276=\"C\"),I276<>\"XPS\",AND(Eingabeliste!AC276>50,Daten!F$3=FALSE)),1,0)+IF(AND(OR(G276=\"B\",G276=\"C\"),I276=\"XPS\",Eingabeliste!AC276>100),1,0))","v":0}]
[{"$f":"IF(Eingabeliste!A277=\"\",0,1)","v":0},{"$f":"Eingabeliste!B277","v":0},{"$f":"IFERROR(ROUND(Eingabeliste!J277/(COS((Eingabeliste!K277*PI())/180))-(SIN((Eingabeliste!K277*PI())/180)*2)+(Eingabeliste!M277-2.74)+IF(Eingabeliste!L277=0,0,Eingabeliste!L277-2.74)+IF(Eingabeliste!N277=Daten!N$6,0,12-1.86),1),\"\")","v":""},{"$f":"IF(OR(B277=0,Eingabeliste!E277=\"\"),0,MAX(Eingabeliste!E277,1000)*B277)","v":0},{"$f":"IFERROR((ROUNDUP(Eingabeliste!E277/Daten!$K$15,0)-1)*B277,\"\")","v":""},{"$f":"IF(Eingabeliste!N277=\"Pulverbesch.\",Daten!$D$1,Eingabeliste!N277)","v":""},{"$f":"Eingabeliste!AB277","v":""},{"$f":"Eingabeliste!AC277","v":""},{"$f":"Eingabeliste!AA277","v":""},{"$f":"Eingabeliste!I277","v":""},{"$f":"Eingabeliste!G277","v":""},{"$f":"Eingabeliste!H277","v":""},null,null,null,null,null,null,null,null,{"$f":"IF(OR(Eingabeliste!O277=\"Flexila PU\",Eingabeliste!O277=\"Flexila STB\"),Eingabeliste!B277,0)+IF(OR(Eingabeliste!S277=\"Flexila PU\",Eingabeliste!S277=\"Flexila STB\"),Eingabeliste!B277,0)","v":0},null,null,null,null,null,null,null,null,null,null,null,null,null,null,null,null,null,null,null,null,null,null,null,null,0,null,null,null,{"$f":"IF(A277=0,0,IF(C277>$C$2,1,0)+IF(AND(Daten!$F$3=TRUE,Zusammenfassung!J277>Preise!$A$70),1,0)+IF(AND(G277=\"D\",K277>Preise!$A$54),1,0)+IF(AND(OR(G277=\"B\",G277=\"C\"),I277<>\"XPS\",AND(Eingabeliste!AC277>50,Daten!F$3=FALSE)),1,0)+IF(AND(OR(G277=\"B\",G277=\"C\"),I277=\"XPS\",Eingabeliste!AC277>100),1,0))","v":0}]
[{"$f":"IF(Eingabeliste!A278=\"\",0,1)","v":0},{"$f":"Eingabeliste!B278","v":0},{"$f":"IFERROR(ROUND(Eingabeliste!J278/(COS((Eingabeliste!K278*PI())/180))-(SIN((Eingabeliste!K278*PI())/180)*2)+(Eingabeliste!M278-2.74)+IF(Eingabeliste!L278=0,0,Eingabeliste!L278-2.74)+IF(Eingabeliste!N278=Daten!N$6,0,12-1.86),1),\"\")","v":""},{"$f":"IF(OR(B278=0,Eingabeliste!E278=\"\"),0,MAX(Eingabeliste!E278,1000)*B278)","v":0},{"$f":"IFERROR((ROUNDUP(Eingabeliste!E278/Daten!$K$15,0)-1)*B278,\"\")","v":""},{"$f":"IF(Eingabeliste!N278=\"Pulverbesch.\",Daten!$D$1,Eingabeliste!N278)","v":""},{"$f":"Eingabeliste!AB278","v":""},{"$f":"Eingabeliste!AC278","v":""},{"$f":"Eingabeliste!AA278","v":""},{"$f":"Eingabeliste!I278","v":""},{"$f":"Eingabeliste!G278","v":""},{"$f":"Eingabeliste!H278","v":""},null,null,null,null,null,null,null,null,{"$f":"IF(OR(Eingabeliste!O278=\"Flexila PU\",Eingabeliste!O278=\"Flexila STB\"),Eingabeliste!B278,0)+IF(OR(Eingabeliste!S278=\"Flexila PU\",Eingabeliste!S278=\"Flexila STB\"),Eingabeliste!B278,0)","v":0},null,null,null,null,null,null,null,null,null,null,null,null,null,null,null,null,null,null,null,null,null,null,null,null,0,null,null,null,{"$f":"IF(A278=0,0,IF(C278>$C$2,1,0)+IF(AND(Daten!$F$3=TRUE,Zusammenfassung!J278>Preise!$A$70),1,0)+IF(AND(G278=\"D\",K278>Preise!$A$54),1,0)+IF(AND(OR(G278=\"B\",G278=\"C\"),I278<>\"XPS\",AND(Eingabeliste!AC278>50,Daten!F$3=FALSE)),1,0)+IF(AND(OR(G278=\"B\",G278=\"C\"),I278=\"XPS\",Eingabeliste!AC278>100),1,0))","v":0}]
[{"$f":"IF(Eingabeliste!A279=\"\",0,1)","v":0},{"$f":"Eingabeliste!B279","v":0},{"$f":"IFERROR(ROUND(Eingabeliste!J279/(COS((Eingabeliste!K279*PI())/180))-(SIN((Eingabeliste!K279*PI())/180)*2)+(Eingabeliste!M279-2.74)+IF(Eingabeliste!L279=0,0,Eingabeliste!L279-2.74)+IF(Eingabeliste!N279=Daten!N$6,0,12-1.86),1),\"\")","v":""},{"$f":"IF(OR(B279=0,Eingabeliste!E279=\"\"),0,MAX(Eingabeliste!E279,1000)*B279)","v":0},{"$f":"IFERROR((ROUNDUP(Eingabeliste!E279/Daten!$K$15,0)-1)*B279,\"\")","v":""},{"$f":"IF(Eingabeliste!N279=\"Pulverbesch.\",Daten!$D$1,Eingabeliste!N279)","v":""},{"$f":"Eingabeliste!AB279","v":""},{"$f":"Eingabeliste!AC279","v":""},{"$f":"Eingabeliste!AA279","v":""},{"$f":"Eingabeliste!I279","v":""},{"$f":"Eingabeliste!G279","v":""},{"$f":"Eingabeliste!H279","v":""},null,null,null,null,null,null,null,null,{"$f":"IF(OR(Eingabeliste!O279=\"Flexila PU\",Eingabeliste!O279=\"Flexila STB\"),Eingabeliste!B279,0)+IF(OR(Eingabeliste!S279=\"Flexila PU\",Eingabeliste!S279=\"Flexila STB\"),Eingabeliste!B279,0)","v":0},null,null,null,null,null,null,null,null,null,null,null,null,null,null,null,null,null,null,null,null,null,null,null,null,0,null,null,null,{"$f":"IF(A279=0,0,IF(C279>$C$2,1,0)+IF(AND(Daten!$F$3=TRUE,Zusammenfassung!J279>Preise!$A$70),1,0)+IF(AND(G279=\"D\",K279>Preise!$A$54),1,0)+IF(AND(OR(G279=\"B\",G279=\"C\"),I279<>\"XPS\",AND(Eingabeliste!AC279>50,Daten!F$3=FALSE)),1,0)+IF(AND(OR(G279=\"B\",G279=\"C\"),I279=\"XPS\",Eingabeliste!AC279>100),1,0))","v":0}]
[{"$f":"IF(Eingabeliste!A280=\"\",0,1)","v":0},{"$f":"Eingabeliste!B280","v":0},{"$f":"IFERROR(ROUND(Eingabeliste!J280/(COS((Eingabeliste!K280*PI())/180))-(SIN((Eingabeliste!K280*PI())/180)*2)+(Eingabeliste!M280-2.74)+IF(Eingabeliste!L280=0,0,Eingabeliste!L280-2.74)+IF(Eingabeliste!N280=Daten!N$6,0,12-1.86),1),\"\")","v":""},{"$f":"IF(OR(B280=0,Eingabeliste!E280=\"\"),0,MAX(Eingabeliste!E280,1000)*B280)","v":0},{"$f":"IFERROR((ROUNDUP(Eingabeliste!E280/Daten!$K$15,0)-1)*B280,\"\")","v":""},{"$f":"IF(Eingabeliste!N280=\"Pulverbesch.\",Daten!$D$1,Eingabeliste!N280)","v":""},{"$f":"Eingabeliste!AB280","v":""},{"$f":"Eingabeliste!AC280","v":""},{"$f":"Eingabeliste!AA280","v":""},{"$f":"Eingabeliste!I280","v":""},{"$f":"Eingabeliste!G280","v":""},{"$f":"Eingabeliste!H280","v":""},null,null,null,null,null,null,null,null,{"$f":"IF(OR(Eingabeliste!O280=\"Flexila PU\",Eingabeliste!O280=\"Flexila STB\"),Eingabeliste!B280,0)+IF(OR(Eingabeliste!S280=\"Flexila PU\",Eingabeliste!S280=\"Flexila STB\"),Eingabeliste!B280,0)","v":0},null,null,null,null,null,null,null,null,null,null,null,null,null,null,null,null,null,null,null,null,null,null,null,null,0,null,null,null,{"$f":"IF(A280=0,0,IF(C280>$C$2,1,0)+IF(AND(Daten!$F$3=TRUE,Zusammenfassung!J280>Preise!$A$70),1,0)+IF(AND(G280=\"D\",K280>Preise!$A$54),1,0)+IF(AND(OR(G280=\"B\",G280=\"C\"),I280<>\"XPS\",AND(Eingabeliste!AC280>50,Daten!F$3=FALSE)),1,0)+IF(AND(OR(G280=\"B\",G280=\"C\"),I280=\"XPS\",Eingabeliste!AC280>100),1,0))","v":0}]
[{"$f":"IF(Eingabeliste!A281=\"\",0,1)","v":0},{"$f":"Eingabeliste!B281","v":0},{"$f":"IFERROR(ROUND(Eingabeliste!J281/(COS((Eingabeliste!K281*PI())/180))-(SIN((Eingabeliste!K281*PI())/180)*2)+(Eingabeliste!M281-2.74)+IF(Eingabeliste!L281=0,0,Eingabeliste!L281-2.74)+IF(Eingabeliste!N281=Daten!N$6,0,12-1.86),1),\"\")","v":""},{"$f":"IF(OR(B281=0,Eingabeliste!E281=\"\"),0,MAX(Eingabeliste!E281,1000)*B281)","v":0},{"$f":"IFERROR((ROUNDUP(Eingabeliste!E281/Daten!$K$15,0)-1)*B281,\"\")","v":""},{"$f":"IF(Eingabeliste!N281=\"Pulverbesch.\",Daten!$D$1,Eingabeliste!N281)","v":""},{"$f":"Eingabeliste!AB281","v":""},{"$f":"Eingabeliste!AC281","v":""},{"$f":"Eingabeliste!AA281","v":""},{"$f":"Eingabeliste!I281","v":""},{"$f":"Eingabeliste!G281","v":""},{"$f":"Eingabeliste!H281","v":""},null,null,null,null,null,null,null,null,{"$f":"IF(OR(Eingabeliste!O281=\"Flexila PU\",Eingabeliste!O281=\"Flexila STB\"),Eingabeliste!B281,0)+IF(OR(Eingabeliste!S281=\"Flexila PU\",Eingabeliste!S281=\"Flexila STB\"),Eingabeliste!B281,0)","v":0},null,null,null,null,null,null,null,null,null,null,null,null,null,null,null,null,null,null,null,null,null,null,null,null,0,null,null,null,{"$f":"IF(A281=0,0,IF(C281>$C$2,1,0)+IF(AND(Daten!$F$3=TRUE,Zusammenfassung!J281>Preise!$A$70),1,0)+IF(AND(G281=\"D\",K281>Preise!$A$54),1,0)+IF(AND(OR(G281=\"B\",G281=\"C\"),I281<>\"XPS\",AND(Eingabeliste!AC281>50,Daten!F$3=FALSE)),1,0)+IF(AND(OR(G281=\"B\",G281=\"C\"),I281=\"XPS\",Eingabeliste!AC281>100),1,0))","v":0}]
[{"$f":"IF(Eingabeliste!A282=\"\",0,1)","v":0},{"$f":"Eingabeliste!B282","v":0},{"$f":"IFERROR(ROUND(Eingabeliste!J282/(COS((Eingabeliste!K282*PI())/180))-(SIN((Eingabeliste!K282*PI())/180)*2)+(Eingabeliste!M282-2.74)+IF(Eingabeliste!L282=0,0,Eingabeliste!L282-2.74)+IF(Eingabeliste!N282=Daten!N$6,0,12-1.86),1),\"\")","v":""},{"$f":"IF(OR(B282=0,Eingabeliste!E282=\"\"),0,MAX(Eingabeliste!E282,1000)*B282)","v":0},{"$f":"IFERROR((ROUNDUP(Eingabeliste!E282/Daten!$K$15,0)-1)*B282,\"\")","v":""},{"$f":"IF(Eingabeliste!N282=\"Pulverbesch.\",Daten!$D$1,Eingabeliste!N282)","v":""},{"$f":"Eingabeliste!AB282","v":""},{"$f":"Eingabeliste!AC282","v":""},{"$f":"Eingabeliste!AA282","v":""},{"$f":"Eingabeliste!I282","v":""},{"$f":"Eingabeliste!G282","v":""},{"$f":"Eingabeliste!H282","v":""},null,null,null,null,null,null,null,null,{"$f":"IF(OR(Eingabeliste!O282=\"Flexila PU\",Eingabeliste!O282=\"Flexila STB\"),Eingabeliste!B282,0)+IF(OR(Eingabeliste!S282=\"Flexila PU\",Eingabeliste!S282=\"Flexila STB\"),Eingabeliste!B282,0)","v":0},null,null,null,null,null,null,null,null,null,null,null,null,null,null,null,null,null,null,null,null,null,null,null,null,0,null,null,null,{"$f":"IF(A282=0,0,IF(C282>$C$2,1,0)+IF(AND(Daten!$F$3=TRUE,Zusammenfassung!J282>Preise!$A$70),1,0)+IF(AND(G282=\"D\",K282>Preise!$A$54),1,0)+IF(AND(OR(G282=\"B\",G282=\"C\"),I282<>\"XPS\",AND(Eingabeliste!AC282>50,Daten!F$3=FALSE)),1,0)+IF(AND(OR(G282=\"B\",G282=\"C\"),I282=\"XPS\",Eingabeliste!AC282>100),1,0))","v":0}]
[{"$f":"IF(Eingabeliste!A283=\"\",0,1)","v":0},{"$f":"Eingabeliste!B283","v":0},{"$f":"IFERROR(ROUND(Eingabeliste!J283/(COS((Eingabeliste!K283*PI())/180))-(SIN((Eingabeliste!K283*PI())/180)*2)+(Eingabeliste!M283-2.74)+IF(Eingabeliste!L283=0,0,Eingabeliste!L283-2.74)+IF(Eingabeliste!N283=Daten!N$6,0,12-1.86),1),\"\")","v":""},{"$f":"IF(OR(B283=0,Eingabeliste!E283=\"\"),0,MAX(Eingabeliste!E283,1000)*B283)","v":0},{"$f":"IFERROR((ROUNDUP(Eingabeliste!E283/Daten!$K$15,0)-1)*B283,\"\")","v":""},{"$f":"IF(Eingabeliste!N283=\"Pulverbesch.\",Daten!$D$1,Eingabeliste!N283)","v":""},{"$f":"Eingabeliste!AB283","v":""},{"$f":"Eingabeliste!AC283","v":""},{"$f":"Eingabeliste!AA283","v":""},{"$f":"Eingabeliste!I283","v":""},{"$f":"Eingabeliste!G283","v":""},{"$f":"Eingabeliste!H283","v":""},null,null,null,null,null,null,null,null,{"$f":"IF(OR(Eingabeliste!O283=\"Flexila PU\",Eingabeliste!O283=\"Flexila STB\"),Eingabeliste!B283,0)+IF(OR(Eingabeliste!S283=\"Flexila PU\",Eingabeliste!S283=\"Flexila STB\"),Eingabeliste!B283,0)","v":0},null,null,null,null,null,null,null,null,null,null,null,null,null,null,null,null,null,null,null,null,null,null,null,null,0,null,null,null,{"$f":"IF(A283=0,0,IF(C283>$C$2,1,0)+IF(AND(Daten!$F$3=TRUE,Zusammenfassung!J283>Preise!$A$70),1,0)+IF(AND(G283=\"D\",K283>Preise!$A$54),1,0)+IF(AND(OR(G283=\"B\",G283=\"C\"),I283<>\"XPS\",AND(Eingabeliste!AC283>50,Daten!F$3=FALSE)),1,0)+IF(AND(OR(G283=\"B\",G283=\"C\"),I283=\"XPS\",Eingabeliste!AC283>100),1,0))","v":0}]
[{"$f":"IF(Eingabeliste!A284=\"\",0,1)","v":0},{"$f":"Eingabeliste!B284","v":0},{"$f":"IFERROR(ROUND(Eingabeliste!J284/(COS((Eingabeliste!K284*PI())/180))-(SIN((Eingabeliste!K284*PI())/180)*2)+(Eingabeliste!M284-2.74)+IF(Eingabeliste!L284=0,0,Eingabeliste!L284-2.74)+IF(Eingabeliste!N284=Daten!N$6,0,12-1.86),1),\"\")","v":""},{"$f":"IF(OR(B284=0,Eingabeliste!E284=\"\"),0,MAX(Eingabeliste!E284,1000)*B284)","v":0},{"$f":"IFERROR((ROUNDUP(Eingabeliste!E284/Daten!$K$15,0)-1)*B284,\"\")","v":""},{"$f":"IF(Eingabeliste!N284=\"Pulverbesch.\",Daten!$D$1,Eingabeliste!N284)","v":""},{"$f":"Eingabeliste!AB284","v":""},{"$f":"Eingabeliste!AC284","v":""},{"$f":"Eingabeliste!AA284","v":""},{"$f":"Eingabeliste!I284","v":""},{"$f":"Eingabeliste!G284","v":""},{"$f":"Eingabeliste!H284","v":""},null,null,null,null,null,null,null,null,{"$f":"IF(OR(Eingabeliste!O284=\"Flexila PU\",Eingabeliste!O284=\"Flexila STB\"),Eingabeliste!B284,0)+IF(OR(Eingabeliste!S284=\"Flexila PU\",Eingabeliste!S284=\"Flexila STB\"),Eingabeliste!B284,0)","v":0},null,null,null,null,null,null,null,null,null,null,null,null,null,null,null,null,null,null,null,null,null,null,null,null,0,null,null,null,{"$f":"IF(A284=0,0,IF(C284>$C$2,1,0)+IF(AND(Daten!$F$3=TRUE,Zusammenfassung!J284>Preise!$A$70),1,0)+IF(AND(G284=\"D\",K284>Preise!$A$54),1,0)+IF(AND(OR(G284=\"B\",G284=\"C\"),I284<>\"XPS\",AND(Eingabeliste!AC284>50,Daten!F$3=FALSE)),1,0)+IF(AND(OR(G284=\"B\",G284=\"C\"),I284=\"XPS\",Eingabeliste!AC284>100),1,0))","v":0}]
[{"$f":"IF(Eingabeliste!A285=\"\",0,1)","v":0},{"$f":"Eingabeliste!B285","v":0},{"$f":"IFERROR(ROUND(Eingabeliste!J285/(COS((Eingabeliste!K285*PI())/180))-(SIN((Eingabeliste!K285*PI())/180)*2)+(Eingabeliste!M285-2.74)+IF(Eingabeliste!L285=0,0,Eingabeliste!L285-2.74)+IF(Eingabeliste!N285=Daten!N$6,0,12-1.86),1),\"\")","v":""},{"$f":"IF(OR(B285=0,Eingabeliste!E285=\"\"),0,MAX(Eingabeliste!E285,1000)*B285)","v":0},{"$f":"IFERROR((ROUNDUP(Eingabeliste!E285/Daten!$K$15,0)-1)*B285,\"\")","v":""},{"$f":"IF(Eingabeliste!N285=\"Pulverbesch.\",Daten!$D$1,Eingabeliste!N285)","v":""},{"$f":"Eingabeliste!AB285","v":""},{"$f":"Eingabeliste!AC285","v":""},{"$f":"Eingabeliste!AA285","v":""},{"$f":"Eingabeliste!I285","v":""},{"$f":"Eingabeliste!G285","v":""},{"$f":"Eingabeliste!H285","v":""},null,null,null,null,null,null,null,null,{"$f":"IF(OR(Eingabeliste!O285=\"Flexila PU\",Eingabeliste!O285=\"Flexila STB\"),Eingabeliste!B285,0)+IF(OR(Eingabeliste!S285=\"Flexila PU\",Eingabeliste!S285=\"Flexila STB\"),Eingabeliste!B285,0)","v":0},null,null,null,null,null,null,null,null,null,null,null,null,null,null,null,null,null,null,null,null,null,null,null,null,0,null,null,null,{"$f":"IF(A285=0,0,IF(C285>$C$2,1,0)+IF(AND(Daten!$F$3=TRUE,Zusammenfassung!J285>Preise!$A$70),1,0)+IF(AND(G285=\"D\",K285>Preise!$A$54),1,0)+IF(AND(OR(G285=\"B\",G285=\"C\"),I285<>\"XPS\",AND(Eingabeliste!AC285>50,Daten!F$3=FALSE)),1,0)+IF(AND(OR(G285=\"B\",G285=\"C\"),I285=\"XPS\",Eingabeliste!AC285>100),1,0))","v":0}]
[{"$f":"IF(Eingabeliste!A286=\"\",0,1)","v":0},{"$f":"Eingabeliste!B286","v":0},{"$f":"IFERROR(ROUND(Eingabeliste!J286/(COS((Eingabeliste!K286*PI())/180))-(SIN((Eingabeliste!K286*PI())/180)*2)+(Eingabeliste!M286-2.74)+IF(Eingabeliste!L286=0,0,Eingabeliste!L286-2.74)+IF(Eingabeliste!N286=Daten!N$6,0,12-1.86),1),\"\")","v":""},{"$f":"IF(OR(B286=0,Eingabeliste!E286=\"\"),0,MAX(Eingabeliste!E286,1000)*B286)","v":0},{"$f":"IFERROR((ROUNDUP(Eingabeliste!E286/Daten!$K$15,0)-1)*B286,\"\")","v":""},{"$f":"IF(Eingabeliste!N286=\"Pulverbesch.\",Daten!$D$1,Eingabeliste!N286)","v":""},{"$f":"Eingabeliste!AB286","v":""},{"$f":"Eingabeliste!AC286","v":""},{"$f":"Eingabeliste!AA286","v":""},{"$f":"Eingabeliste!I286","v":""},{"$f":"Eingabeliste!G286","v":""},{"$f":"Eingabeliste!H286","v":""},null,null,null,null,null,null,null,null,{"$f":"IF(OR(Eingabeliste!O286=\"Flexila PU\",Eingabeliste!O286=\"Flexila STB\"),Eingabeliste!B286,0)+IF(OR(Eingabeliste!S286=\"Flexila PU\",Eingabeliste!S286=\"Flexila STB\"),Eingabeliste!B286,0)","v":0},null,null,null,null,null,null,null,null,null,null,null,null,null,null,null,null,null,null,null,null,null,null,null,null,0,null,null,null,{"$f":"IF(A286=0,0,IF(C286>$C$2,1,0)+IF(AND(Daten!$F$3=TRUE,Zusammenfassung!J286>Preise!$A$70),1,0)+IF(AND(G286=\"D\",K286>Preise!$A$54),1,0)+IF(AND(OR(G286=\"B\",G286=\"C\"),I286<>\"XPS\",AND(Eingabeliste!AC286>50,Daten!F$3=FALSE)),1,0)+IF(AND(OR(G286=\"B\",G286=\"C\"),I286=\"XPS\",Eingabeliste!AC286>100),1,0))","v":0}]
[{"$f":"IF(Eingabeliste!A287=\"\",0,1)","v":0},{"$f":"Eingabeliste!B287","v":0},{"$f":"IFERROR(ROUND(Eingabeliste!J287/(COS((Eingabeliste!K287*PI())/180))-(SIN((Eingabeliste!K287*PI())/180)*2)+(Eingabeliste!M287-2.74)+IF(Eingabeliste!L287=0,0,Eingabeliste!L287-2.74)+IF(Eingabeliste!N287=Daten!N$6,0,12-1.86),1),\"\")","v":""},{"$f":"IF(OR(B287=0,Eingabeliste!E287=\"\"),0,MAX(Eingabeliste!E287,1000)*B287)","v":0},{"$f":"IFERROR((ROUNDUP(Eingabeliste!E287/Daten!$K$15,0)-1)*B287,\"\")","v":""},{"$f":"IF(Eingabeliste!N287=\"Pulverbesch.\",Daten!$D$1,Eingabeliste!N287)","v":""},{"$f":"Eingabeliste!AB287","v":""},{"$f":"Eingabeliste!AC287","v":""},{"$f":"Eingabeliste!AA287","v":""},{"$f":"Eingabeliste!I287","v":""},{"$f":"Eingabeliste!G287","v":""},{"$f":"Eingabeliste!H287","v":""},null,null,null,null,null,null,null,null,{"$f":"IF(OR(Eingabeliste!O287=\"Flexila PU\",Eingabeliste!O287=\"Flexila STB\"),Eingabeliste!B287,0)+IF(OR(Eingabeliste!S287=\"Flexila PU\",Eingabeliste!S287=\"Flexila STB\"),Eingabeliste!B287,0)","v":0},null,null,null,null,null,null,null,null,null,null,null,null,null,null,null,null,null,null,null,null,null,null,null,null,0,null,null,null,{"$f":"IF(A287=0,0,IF(C287>$C$2,1,0)+IF(AND(Daten!$F$3=TRUE,Zusammenfassung!J287>Preise!$A$70),1,0)+IF(AND(G287=\"D\",K287>Preise!$A$54),1,0)+IF(AND(OR(G287=\"B\",G287=\"C\"),I287<>\"XPS\",AND(Eingabeliste!AC287>50,Daten!F$3=FALSE)),1,0)+IF(AND(OR(G287=\"B\",G287=\"C\"),I287=\"XPS\",Eingabeliste!AC287>100),1,0))","v":0}]
[{"$f":"IF(Eingabeliste!A288=\"\",0,1)","v":0},{"$f":"Eingabeliste!B288","v":0},{"$f":"IFERROR(ROUND(Eingabeliste!J288/(COS((Eingabeliste!K288*PI())/180))-(SIN((Eingabeliste!K288*PI())/180)*2)+(Eingabeliste!M288-2.74)+IF(Eingabeliste!L288=0,0,Eingabeliste!L288-2.74)+IF(Eingabeliste!N288=Daten!N$6,0,12-1.86),1),\"\")","v":""},{"$f":"IF(OR(B288=0,Eingabeliste!E288=\"\"),0,MAX(Eingabeliste!E288,1000)*B288)","v":0},{"$f":"IFERROR((ROUNDUP(Eingabeliste!E288/Daten!$K$15,0)-1)*B288,\"\")","v":""},{"$f":"IF(Eingabeliste!N288=\"Pulverbesch.\",Daten!$D$1,Eingabeliste!N288)","v":""},{"$f":"Eingabeliste!AB288","v":""},{"$f":"Eingabeliste!AC288","v":""},{"$f":"Eingabeliste!AA288","v":""},{"$f":"Eingabeliste!I288","v":""},{"$f":"Eingabeliste!G288","v":""},{"$f":"Eingabeliste!H288","v":""},null,null,null,null,null,null,null,null,{"$f":"IF(OR(Eingabeliste!O288=\"Flexila PU\",Eingabeliste!O288=\"Flexila STB\"),Eingabeliste!B288,0)+IF(OR(Eingabeliste!S288=\"Flexila PU\",Eingabeliste!S288=\"Flexila STB\"),Eingabeliste!B288,0)","v":0},null,null,null,null,null,null,null,null,null,null,null,null,null,null,null,null,null,null,null,null,null,null,null,null,0,null,null,null,{"$f":"IF(A288=0,0,IF(C288>$C$2,1,0)+IF(AND(Daten!$F$3=TRUE,Zusammenfassung!J288>Preise!$A$70),1,0)+IF(AND(G288=\"D\",K288>Preise!$A$54),1,0)+IF(AND(OR(G288=\"B\",G288=\"C\"),I288<>\"XPS\",AND(Eingabeliste!AC288>50,Daten!F$3=FALSE)),1,0)+IF(AND(OR(G288=\"B\",G288=\"C\"),I288=\"XPS\",Eingabeliste!AC288>100),1,0))","v":0}]
[{"$f":"IF(Eingabeliste!A289=\"\",0,1)","v":0},{"$f":"Eingabeliste!B289","v":0},{"$f":"IFERROR(ROUND(Eingabeliste!J289/(COS((Eingabeliste!K289*PI())/180))-(SIN((Eingabeliste!K289*PI())/180)*2)+(Eingabeliste!M289-2.74)+IF(Eingabeliste!L289=0,0,Eingabeliste!L289-2.74)+IF(Eingabeliste!N289=Daten!N$6,0,12-1.86),1),\"\")","v":""},{"$f":"IF(OR(B289=0,Eingabeliste!E289=\"\"),0,MAX(Eingabeliste!E289,1000)*B289)","v":0},{"$f":"IFERROR((ROUNDUP(Eingabeliste!E289/Daten!$K$15,0)-1)*B289,\"\")","v":""},{"$f":"IF(Eingabeliste!N289=\"Pulverbesch.\",Daten!$D$1,Eingabeliste!N289)","v":""},{"$f":"Eingabeliste!AB289","v":""},{"$f":"Eingabeliste!AC289","v":""},{"$f":"Eingabeliste!AA289","v":""},{"$f":"Eingabeliste!I289","v":""},{"$f":"Eingabeliste!G289","v":""},{"$f":"Eingabeliste!H289","v":""},null,null,null,null,null,null,null,null,{"$f":"IF(OR(Eingabeliste!O289=\"Flexila PU\",Eingabeliste!O289=\"Flexila STB\"),Eingabeliste!B289,0)+IF(OR(Eingabeliste!S289=\"Flexila PU\",Eingabeliste!S289=\"Flexila STB\"),Eingabeliste!B289,0)","v":0},null,null,null,null,null,null,null,null,null,null,null,null,null,null,null,null,null,null,null,null,null,null,null,null,0,null,null,null,{"$f":"IF(A289=0,0,IF(C289>$C$2,1,0)+IF(AND(Daten!$F$3=TRUE,Zusammenfassung!J289>Preise!$A$70),1,0)+IF(AND(G289=\"D\",K289>Preise!$A$54),1,0)+IF(AND(OR(G289=\"B\",G289=\"C\"),I289<>\"XPS\",AND(Eingabeliste!AC289>50,Daten!F$3=FALSE)),1,0)+IF(AND(OR(G289=\"B\",G289=\"C\"),I289=\"XPS\",Eingabeliste!AC289>100),1,0))","v":0}]
[{"$f":"IF(Eingabeliste!A290=\"\",0,1)","v":0},{"$f":"Eingabeliste!B290","v":0},{"$f":"IFERROR(ROUND(Eingabeliste!J290/(COS((Eingabeliste!K290*PI())/180))-(SIN((Eingabeliste!K290*PI())/180)*2)+(Eingabeliste!M290-2.74)+IF(Eingabeliste!L290=0,0,Eingabeliste!L290-2.74)+IF(Eingabeliste!N290=Daten!N$6,0,12-1.86),1),\"\")","v":""},{"$f":"IF(OR(B290=0,Eingabeliste!E290=\"\"),0,MAX(Eingabeliste!E290,1000)*B290)","v":0},{"$f":"IFERROR((ROUNDUP(Eingabeliste!E290/Daten!$K$15,0)-1)*B290,\"\")","v":""},{"$f":"IF(Eingabeliste!N290=\"Pulverbesch.\",Daten!$D$1,Eingabeliste!N290)","v":""},{"$f":"Eingabeliste!AB290","v":""},{"$f":"Eingabeliste!AC290","v":""},{"$f":"Eingabeliste!AA290","v":""},{"$f":"Eingabeliste!I290","v":""},{"$f":"Eingabeliste!G290","v":""},{"$f":"Eingabeliste!H290","v":""},null,null,null,null,null,null,null,null,{"$f":"IF(OR(Eingabeliste!O290=\"Flexila PU\",Eingabeliste!O290=\"Flexila STB\"),Eingabeliste!B290,0)+IF(OR(Eingabeliste!S290=\"Flexila PU\",Eingabeliste!S290=\"Flexila STB\"),Eingabeliste!B290,0)","v":0},null,null,null,null,null,null,null,null,null,null,null,null,null,null,null,null,null,null,null,null,null,null,null,null,0,null,null,null,{"$f":"IF(A290=0,0,IF(C290>$C$2,1,0)+IF(AND(Daten!$F$3=TRUE,Zusammenfassung!J290>Preise!$A$70),1,0)+IF(AND(G290=\"D\",K290>Preise!$A$54),1,0)+IF(AND(OR(G290=\"B\",G290=\"C\"),I290<>\"XPS\",AND(Eingabeliste!AC290>50,Daten!F$3=FALSE)),1,0)+IF(AND(OR(G290=\"B\",G290=\"C\"),I290=\"XPS\",Eingabeliste!AC290>100),1,0))","v":0}]
[{"$f":"IF(Eingabeliste!A291=\"\",0,1)","v":0},{"$f":"Eingabeliste!B291","v":0},{"$f":"IFERROR(ROUND(Eingabeliste!J291/(COS((Eingabeliste!K291*PI())/180))-(SIN((Eingabeliste!K291*PI())/180)*2)+(Eingabeliste!M291-2.74)+IF(Eingabeliste!L291=0,0,Eingabeliste!L291-2.74)+IF(Eingabeliste!N291=Daten!N$6,0,12-1.86),1),\"\")","v":""},{"$f":"IF(OR(B291=0,Eingabeliste!E291=\"\"),0,MAX(Eingabeliste!E291,1000)*B291)","v":0},{"$f":"IFERROR((ROUNDUP(Eingabeliste!E291/Daten!$K$15,0)-1)*B291,\"\")","v":""},{"$f":"IF(Eingabeliste!N291=\"Pulverbesch.\",Daten!$D$1,Eingabeliste!N291)","v":""},{"$f":"Eingabeliste!AB291","v":""},{"$f":"Eingabeliste!AC291","v":""},{"$f":"Eingabeliste!AA291","v":""},{"$f":"Eingabeliste!I291","v":""},{"$f":"Eingabeliste!G291","v":""},{"$f":"Eingabeliste!H291","v":""},null,null,null,null,null,null,null,null,{"$f":"IF(OR(Eingabeliste!O291=\"Flexila PU\",Eingabeliste!O291=\"Flexila STB\"),Eingabeliste!B291,0)+IF(OR(Eingabeliste!S291=\"Flexila PU\",Eingabeliste!S291=\"Flexila STB\"),Eingabeliste!B291,0)","v":0},null,null,null,null,null,null,null,null,null,null,null,null,null,null,null,null,null,null,null,null,null,null,null,null,0,null,null,null,{"$f":"IF(A291=0,0,IF(C291>$C$2,1,0)+IF(AND(Daten!$F$3=TRUE,Zusammenfassung!J291>Preise!$A$70),1,0)+IF(AND(G291=\"D\",K291>Preise!$A$54),1,0)+IF(AND(OR(G291=\"B\",G291=\"C\"),I291<>\"XPS\",AND(Eingabeliste!AC291>50,Daten!F$3=FALSE)),1,0)+IF(AND(OR(G291=\"B\",G291=\"C\"),I291=\"XPS\",Eingabeliste!AC291>100),1,0))","v":0}]
[{"$f":"IF(Eingabeliste!A292=\"\",0,1)","v":0},{"$f":"Eingabeliste!B292","v":0},{"$f":"IFERROR(ROUND(Eingabeliste!J292/(COS((Eingabeliste!K292*PI())/180))-(SIN((Eingabeliste!K292*PI())/180)*2)+(Eingabeliste!M292-2.74)+IF(Eingabeliste!L292=0,0,Eingabeliste!L292-2.74)+IF(Eingabeliste!N292=Daten!N$6,0,12-1.86),1),\"\")","v":""},{"$f":"IF(OR(B292=0,Eingabeliste!E292=\"\"),0,MAX(Eingabeliste!E292,1000)*B292)","v":0},{"$f":"IFERROR((ROUNDUP(Eingabeliste!E292/Daten!$K$15,0)-1)*B292,\"\")","v":""},{"$f":"IF(Eingabeliste!N292=\"Pulverbesch.\",Daten!$D$1,Eingabeliste!N292)","v":""},{"$f":"Eingabeliste!AB292","v":""},{"$f":"Eingabeliste!AC292","v":""},{"$f":"Eingabeliste!AA292","v":""},{"$f":"Eingabeliste!I292","v":""},{"$f":"Eingabeliste!G292","v":""},{"$f":"Eingabeliste!H292","v":""},null,null,null,null,null,null,null,null,{"$f":"IF(OR(Eingabeliste!O292=\"Flexila PU\",Eingabeliste!O292=\"Flexila STB\"),Eingabeliste!B292,0)+IF(OR(Eingabeliste!S292=\"Flexila PU\",Eingabeliste!S292=\"Flexila STB\"),Eingabeliste!B292,0)","v":0},null,null,null,null,null,null,null,null,null,null,null,null,null,null,null,null,null,null,null,null,null,null,null,null,0,null,null,null,{"$f":"IF(A292=0,0,IF(C292>$C$2,1,0)+IF(AND(Daten!$F$3=TRUE,Zusammenfassung!J292>Preise!$A$70),1,0)+IF(AND(G292=\"D\",K292>Preise!$A$54),1,0)+IF(AND(OR(G292=\"B\",G292=\"C\"),I292<>\"XPS\",AND(Eingabeliste!AC292>50,Daten!F$3=FALSE)),1,0)+IF(AND(OR(G292=\"B\",G292=\"C\"),I292=\"XPS\",Eingabeliste!AC292>100),1,0))","v":0}]
[{"$f":"IF(Eingabeliste!A293=\"\",0,1)","v":0},{"$f":"Eingabeliste!B293","v":0},{"$f":"IFERROR(ROUND(Eingabeliste!J293/(COS((Eingabeliste!K293*PI())/180))-(SIN((Eingabeliste!K293*PI())/180)*2)+(Eingabeliste!M293-2.74)+IF(Eingabeliste!L293=0,0,Eingabeliste!L293-2.74)+IF(Eingabeliste!N293=Daten!N$6,0,12-1.86),1),\"\")","v":""},{"$f":"IF(OR(B293=0,Eingabeliste!E293=\"\"),0,MAX(Eingabeliste!E293,1000)*B293)","v":0},{"$f":"IFERROR((ROUNDUP(Eingabeliste!E293/Daten!$K$15,0)-1)*B293,\"\")","v":""},{"$f":"IF(Eingabeliste!N293=\"Pulverbesch.\",Daten!$D$1,Eingabeliste!N293)","v":""},{"$f":"Eingabeliste!AB293","v":""},{"$f":"Eingabeliste!AC293","v":""},{"$f":"Eingabeliste!AA293","v":""},{"$f":"Eingabeliste!I293","v":""},{"$f":"Eingabeliste!G293","v":""},{"$f":"Eingabeliste!H293","v":""},null,null,null,null,null,null,null,null,{"$f":"IF(OR(Eingabeliste!O293=\"Flexila PU\",Eingabeliste!O293=\"Flexila STB\"),Eingabeliste!B293,0)+IF(OR(Eingabeliste!S293=\"Flexila PU\",Eingabeliste!S293=\"Flexila STB\"),Eingabeliste!B293,0)","v":0},null,null,null,null,null,null,null,null,null,null,null,null,null,null,null,null,null,null,null,null,null,null,null,null,0,null,null,null,{"$f":"IF(A293=0,0,IF(C293>$C$2,1,0)+IF(AND(Daten!$F$3=TRUE,Zusammenfassung!J293>Preise!$A$70),1,0)+IF(AND(G293=\"D\",K293>Preise!$A$54),1,0)+IF(AND(OR(G293=\"B\",G293=\"C\"),I293<>\"XPS\",AND(Eingabeliste!AC293>50,Daten!F$3=FALSE)),1,0)+IF(AND(OR(G293=\"B\",G293=\"C\"),I293=\"XPS\",Eingabeliste!AC293>100),1,0))","v":0}]
[{"$f":"IF(Eingabeliste!A294=\"\",0,1)","v":0},{"$f":"Eingabeliste!B294","v":0},{"$f":"IFERROR(ROUND(Eingabeliste!J294/(COS((Eingabeliste!K294*PI())/180))-(SIN((Eingabeliste!K294*PI())/180)*2)+(Eingabeliste!M294-2.74)+IF(Eingabeliste!L294=0,0,Eingabeliste!L294-2.74)+IF(Eingabeliste!N294=Daten!N$6,0,12-1.86),1),\"\")","v":""},{"$f":"IF(OR(B294=0,Eingabeliste!E294=\"\"),0,MAX(Eingabeliste!E294,1000)*B294)","v":0},{"$f":"IFERROR((ROUNDUP(Eingabeliste!E294/Daten!$K$15,0)-1)*B294,\"\")","v":""},{"$f":"IF(Eingabeliste!N294=\"Pulverbesch.\",Daten!$D$1,Eingabeliste!N294)","v":""},{"$f":"Eingabeliste!AB294","v":""},{"$f":"Eingabeliste!AC294","v":""},{"$f":"Eingabeliste!AA294","v":""},{"$f":"Eingabeliste!I294","v":""},{"$f":"Eingabeliste!G294","v":""},{"$f":"Eingabeliste!H294","v":""},null,null,null,null,null,null,null,null,{"$f":"IF(OR(Eingabeliste!O294=\"Flexila PU\",Eingabeliste!O294=\"Flexila STB\"),Eingabeliste!B294,0)+IF(OR(Eingabeliste!S294=\"Flexila PU\",Eingabeliste!S294=\"Flexila STB\"),Eingabeliste!B294,0)","v":0},null,null,null,null,null,null,null,null,null,null,null,null,null,null,null,null,null,null,null,null,null,null,null,null,0,null,null,null,{"$f":"IF(A294=0,0,IF(C294>$C$2,1,0)+IF(AND(Daten!$F$3=TRUE,Zusammenfassung!J294>Preise!$A$70),1,0)+IF(AND(G294=\"D\",K294>Preise!$A$54),1,0)+IF(AND(OR(G294=\"B\",G294=\"C\"),I294<>\"XPS\",AND(Eingabeliste!AC294>50,Daten!F$3=FALSE)),1,0)+IF(AND(OR(G294=\"B\",G294=\"C\"),I294=\"XPS\",Eingabeliste!AC294>100),1,0))","v":0}]
[{"$f":"IF(Eingabeliste!A295=\"\",0,1)","v":0},{"$f":"Eingabeliste!B295","v":0},{"$f":"IFERROR(ROUND(Eingabeliste!J295/(COS((Eingabeliste!K295*PI())/180))-(SIN((Eingabeliste!K295*PI())/180)*2)+(Eingabeliste!M295-2.74)+IF(Eingabeliste!L295=0,0,Eingabeliste!L295-2.74)+IF(Eingabeliste!N295=Daten!N$6,0,12-1.86),1),\"\")","v":""},{"$f":"IF(OR(B295=0,Eingabeliste!E295=\"\"),0,MAX(Eingabeliste!E295,1000)*B295)","v":0},{"$f":"IFERROR((ROUNDUP(Eingabeliste!E295/Daten!$K$15,0)-1)*B295,\"\")","v":""},{"$f":"IF(Eingabeliste!N295=\"Pulverbesch.\",Daten!$D$1,Eingabeliste!N295)","v":""},{"$f":"Eingabeliste!AB295","v":""},{"$f":"Eingabeliste!AC295","v":""},{"$f":"Eingabeliste!AA295","v":""},{"$f":"Eingabeliste!I295","v":""},{"$f":"Eingabeliste!G295","v":""},{"$f":"Eingabeliste!H295","v":""},null,null,null,null,null,null,null,null,{"$f":"IF(OR(Eingabeliste!O295=\"Flexila PU\",Eingabeliste!O295=\"Flexila STB\"),Eingabeliste!B295,0)+IF(OR(Eingabeliste!S295=\"Flexila PU\",Eingabeliste!S295=\"Flexila STB\"),Eingabeliste!B295,0)","v":0},null,null,null,null,null,null,null,null,null,null,null,null,null,null,null,null,null,null,null,null,null,null,null,null,0,null,null,null,{"$f":"IF(A295=0,0,IF(C295>$C$2,1,0)+IF(AND(Daten!$F$3=TRUE,Zusammenfassung!J295>Preise!$A$70),1,0)+IF(AND(G295=\"D\",K295>Preise!$A$54),1,0)+IF(AND(OR(G295=\"B\",G295=\"C\"),I295<>\"XPS\",AND(Eingabeliste!AC295>50,Daten!F$3=FALSE)),1,0)+IF(AND(OR(G295=\"B\",G295=\"C\"),I295=\"XPS\",Eingabeliste!AC295>100),1,0))","v":0}]
[{"$f":"IF(Eingabeliste!A296=\"\",0,1)","v":0},{"$f":"Eingabeliste!B296","v":0},{"$f":"IFERROR(ROUND(Eingabeliste!J296/(COS((Eingabeliste!K296*PI())/180))-(SIN((Eingabeliste!K296*PI())/180)*2)+(Eingabeliste!M296-2.74)+IF(Eingabeliste!L296=0,0,Eingabeliste!L296-2.74)+IF(Eingabeliste!N296=Daten!N$6,0,12-1.86),1),\"\")","v":""},{"$f":"IF(OR(B296=0,Eingabeliste!E296=\"\"),0,MAX(Eingabeliste!E296,1000)*B296)","v":0},{"$f":"IFERROR((ROUNDUP(Eingabeliste!E296/Daten!$K$15,0)-1)*B296,\"\")","v":""},{"$f":"IF(Eingabeliste!N296=\"Pulverbesch.\",Daten!$D$1,Eingabeliste!N296)","v":""},{"$f":"Eingabeliste!AB296","v":""},{"$f":"Eingabeliste!AC296","v":""},{"$f":"Eingabeliste!AA296","v":""},{"$f":"Eingabeliste!I296","v":""},{"$f":"Eingabeliste!G296","v":""},{"$f":"Eingabeliste!H296","v":""},null,null,null,null,null,null,null,null,{"$f":"IF(OR(Eingabeliste!O296=\"Flexila PU\",Eingabeliste!O296=\"Flexila STB\"),Eingabeliste!B296,0)+IF(OR(Eingabeliste!S296=\"Flexila PU\",Eingabeliste!S296=\"Flexila STB\"),Eingabeliste!B296,0)","v":0},null,null,null,null,null,null,null,null,null,null,null,null,null,null,null,null,null,null,null,null,null,null,null,null,0,null,null,null,{"$f":"IF(A296=0,0,IF(C296>$C$2,1,0)+IF(AND(Daten!$F$3=TRUE,Zusammenfassung!J296>Preise!$A$70),1,0)+IF(AND(G296=\"D\",K296>Preise!$A$54),1,0)+IF(AND(OR(G296=\"B\",G296=\"C\"),I296<>\"XPS\",AND(Eingabeliste!AC296>50,Daten!F$3=FALSE)),1,0)+IF(AND(OR(G296=\"B\",G296=\"C\"),I296=\"XPS\",Eingabeliste!AC296>100),1,0))","v":0}]
[{"$f":"IF(Eingabeliste!A297=\"\",0,1)","v":0},{"$f":"Eingabeliste!B297","v":0},{"$f":"IFERROR(ROUND(Eingabeliste!J297/(COS((Eingabeliste!K297*PI())/180))-(SIN((Eingabeliste!K297*PI())/180)*2)+(Eingabeliste!M297-2.74)+IF(Eingabeliste!L297=0,0,Eingabeliste!L297-2.74)+IF(Eingabeliste!N297=Daten!N$6,0,12-1.86),1),\"\")","v":""},{"$f":"IF(OR(B297=0,Eingabeliste!E297=\"\"),0,MAX(Eingabeliste!E297,1000)*B297)","v":0},{"$f":"IFERROR((ROUNDUP(Eingabeliste!E297/Daten!$K$15,0)-1)*B297,\"\")","v":""},{"$f":"IF(Eingabeliste!N297=\"Pulverbesch.\",Daten!$D$1,Eingabeliste!N297)","v":""},{"$f":"Eingabeliste!AB297","v":""},{"$f":"Eingabeliste!AC297","v":""},{"$f":"Eingabeliste!AA297","v":""},{"$f":"Eingabeliste!I297","v":""},{"$f":"Eingabeliste!G297","v":""},{"$f":"Eingabeliste!H297","v":""},null,null,null,null,null,null,null,null,{"$f":"IF(OR(Eingabeliste!O297=\"Flexila PU\",Eingabeliste!O297=\"Flexila STB\"),Eingabeliste!B297,0)+IF(OR(Eingabeliste!S297=\"Flexila PU\",Eingabeliste!S297=\"Flexila STB\"),Eingabeliste!B297,0)","v":0},null,null,null,null,null,null,null,null,null,null,null,null,null,null,null,null,null,null,null,null,null,null,null,null,0,null,null,null,{"$f":"IF(A297=0,0,IF(C297>$C$2,1,0)+IF(AND(Daten!$F$3=TRUE,Zusammenfassung!J297>Preise!$A$70),1,0)+IF(AND(G297=\"D\",K297>Preise!$A$54),1,0)+IF(AND(OR(G297=\"B\",G297=\"C\"),I297<>\"XPS\",AND(Eingabeliste!AC297>50,Daten!F$3=FALSE)),1,0)+IF(AND(OR(G297=\"B\",G297=\"C\"),I297=\"XPS\",Eingabeliste!AC297>100),1,0))","v":0}]
[{"$f":"IF(Eingabeliste!A298=\"\",0,1)","v":0},{"$f":"Eingabeliste!B298","v":0},{"$f":"IFERROR(ROUND(Eingabeliste!J298/(COS((Eingabeliste!K298*PI())/180))-(SIN((Eingabeliste!K298*PI())/180)*2)+(Eingabeliste!M298-2.74)+IF(Eingabeliste!L298=0,0,Eingabeliste!L298-2.74)+IF(Eingabeliste!N298=Daten!N$6,0,12-1.86),1),\"\")","v":""},{"$f":"IF(OR(B298=0,Eingabeliste!E298=\"\"),0,MAX(Eingabeliste!E298,1000)*B298)","v":0},{"$f":"IFERROR((ROUNDUP(Eingabeliste!E298/Daten!$K$15,0)-1)*B298,\"\")","v":""},{"$f":"IF(Eingabeliste!N298=\"Pulverbesch.\",Daten!$D$1,Eingabeliste!N298)","v":""},{"$f":"Eingabeliste!AB298","v":""},{"$f":"Eingabeliste!AC298","v":""},{"$f":"Eingabeliste!AA298","v":""},{"$f":"Eingabeliste!I298","v":""},{"$f":"Eingabeliste!G298","v":""},{"$f":"Eingabeliste!H298","v":""},null,null,null,null,null,null,null,null,{"$f":"IF(OR(Eingabeliste!O298=\"Flexila PU\",Eingabeliste!O298=\"Flexila STB\"),Eingabeliste!B298,0)+IF(OR(Eingabeliste!S298=\"Flexila PU\",Eingabeliste!S298=\"Flexila STB\"),Eingabeliste!B298,0)","v":0},null,null,null,null,null,null,null,null,null,null,null,null,null,null,null,null,null,null,null,null,null,null,null,null,0,null,null,null,{"$f":"IF(A298=0,0,IF(C298>$C$2,1,0)+IF(AND(Daten!$F$3=TRUE,Zusammenfassung!J298>Preise!$A$70),1,0)+IF(AND(G298=\"D\",K298>Preise!$A$54),1,0)+IF(AND(OR(G298=\"B\",G298=\"C\"),I298<>\"XPS\",AND(Eingabeliste!AC298>50,Daten!F$3=FALSE)),1,0)+IF(AND(OR(G298=\"B\",G298=\"C\"),I298=\"XPS\",Eingabeliste!AC298>100),1,0))","v":0}]
[{"$f":"IF(Eingabeliste!A299=\"\",0,1)","v":0},{"$f":"Eingabeliste!B299","v":0},{"$f":"IFERROR(ROUND(Eingabeliste!J299/(COS((Eingabeliste!K299*PI())/180))-(SIN((Eingabeliste!K299*PI())/180)*2)+(Eingabeliste!M299-2.74)+IF(Eingabeliste!L299=0,0,Eingabeliste!L299-2.74)+IF(Eingabeliste!N299=Daten!N$6,0,12-1.86),1),\"\")","v":""},{"$f":"IF(OR(B299=0,Eingabeliste!E299=\"\"),0,MAX(Eingabeliste!E299,1000)*B299)","v":0},{"$f":"IFERROR((ROUNDUP(Eingabeliste!E299/Daten!$K$15,0)-1)*B299,\"\")","v":""},{"$f":"IF(Eingabeliste!N299=\"Pulverbesch.\",Daten!$D$1,Eingabeliste!N299)","v":""},{"$f":"Eingabeliste!AB299","v":""},{"$f":"Eingabeliste!AC299","v":""},{"$f":"Eingabeliste!AA299","v":""},{"$f":"Eingabeliste!I299","v":""},{"$f":"Eingabeliste!G299","v":""},{"$f":"Eingabeliste!H299","v":""},null,null,null,null,null,null,null,null,{"$f":"IF(OR(Eingabeliste!O299=\"Flexila PU\",Eingabeliste!O299=\"Flexila STB\"),Eingabeliste!B299,0)+IF(OR(Eingabeliste!S299=\"Flexila PU\",Eingabeliste!S299=\"Flexila STB\"),Eingabeliste!B299,0)","v":0},null,null,null,null,null,null,null,null,null,null,null,null,null,null,null,null,null,null,null,null,null,null,null,null,0,null,null,null,{"$f":"IF(A299=0,0,IF(C299>$C$2,1,0)+IF(AND(Daten!$F$3=TRUE,Zusammenfassung!J299>Preise!$A$70),1,0)+IF(AND(G299=\"D\",K299>Preise!$A$54),1,0)+IF(AND(OR(G299=\"B\",G299=\"C\"),I299<>\"XPS\",AND(Eingabeliste!AC299>50,Daten!F$3=FALSE)),1,0)+IF(AND(OR(G299=\"B\",G299=\"C\"),I299=\"XPS\",Eingabeliste!AC299>100),1,0))","v":0}]
[{"$f":"IF(Eingabeliste!A300=\"\",0,1)","v":0},{"$f":"Eingabeliste!B300","v":0},{"$f":"IFERROR(ROUND(Eingabeliste!J300/(COS((Eingabeliste!K300*PI())/180))-(SIN((Eingabeliste!K300*PI())/180)*2)+(Eingabeliste!M300-2.74)+IF(Eingabeliste!L300=0,0,Eingabeliste!L300-2.74)+IF(Eingabeliste!N300=Daten!N$6,0,12-1.86),1),\"\")","v":""},{"$f":"IF(OR(B300=0,Eingabeliste!E300=\"\"),0,MAX(Eingabeliste!E300,1000)*B300)","v":0},{"$f":"IFERROR((ROUNDUP(Eingabeliste!E300/Daten!$K$15,0)-1)*B300,\"\")","v":""},{"$f":"IF(Eingabeliste!N300=\"Pulverbesch.\",Daten!$D$1,Eingabeliste!N300)","v":""},{"$f":"Eingabeliste!AB300","v":""},{"$f":"Eingabeliste!AC300","v":""},{"$f":"Eingabeliste!AA300","v":""},{"$f":"Eingabeliste!I300","v":""},{"$f":"Eingabeliste!G300","v":""},{"$f":"Eingabeliste!H300","v":""},null,null,null,null,null,null,null,null,{"$f":"IF(OR(Eingabeliste!O300=\"Flexila PU\",Eingabeliste!O300=\"Flexila STB\"),Eingabeliste!B300,0)+IF(OR(Eingabeliste!S300=\"Flexila PU\",Eingabeliste!S300=\"Flexila STB\"),Eingabeliste!B300,0)","v":0},null,null,null,null,null,null,null,null,null,null,null,null,null,null,null,null,null,null,null,null,null,null,null,null,0,null,null,null,{"$f":"IF(A300=0,0,IF(C300>$C$2,1,0)+IF(AND(Daten!$F$3=TRUE,Zusammenfassung!J300>Preise!$A$70),1,0)+IF(AND(G300=\"D\",K300>Preise!$A$54),1,0)+IF(AND(OR(G300=\"B\",G300=\"C\"),I300<>\"XPS\",AND(Eingabeliste!AC300>50,Daten!F$3=FALSE)),1,0)+IF(AND(OR(G300=\"B\",G300=\"C\"),I300=\"XPS\",Eingabeliste!AC300>100),1,0))","v":0}]
[{"$f":"IF(Eingabeliste!A301=\"\",0,1)","v":0},{"$f":"Eingabeliste!B301","v":0},{"$f":"IFERROR(ROUND(Eingabeliste!J301/(COS((Eingabeliste!K301*PI())/180))-(SIN((Eingabeliste!K301*PI())/180)*2)+(Eingabeliste!M301-2.74)+IF(Eingabeliste!L301=0,0,Eingabeliste!L301-2.74)+IF(Eingabeliste!N301=Daten!N$6,0,12-1.86),1),\"\")","v":""},{"$f":"IF(OR(B301=0,Eingabeliste!E301=\"\"),0,MAX(Eingabeliste!E301,1000)*B301)","v":0},{"$f":"IFERROR((ROUNDUP(Eingabeliste!E301/Daten!$K$15,0)-1)*B301,\"\")","v":""},{"$f":"IF(Eingabeliste!N301=\"Pulverbesch.\",Daten!$D$1,Eingabeliste!N301)","v":""},{"$f":"Eingabeliste!AB301","v":""},{"$f":"Eingabeliste!AC301","v":""},{"$f":"Eingabeliste!AA301","v":""},{"$f":"Eingabeliste!I301","v":""},{"$f":"Eingabeliste!G301","v":""},{"$f":"Eingabeliste!H301","v":""},null,null,null,null,null,null,null,null,{"$f":"IF(OR(Eingabeliste!O301=\"Flexila PU\",Eingabeliste!O301=\"Flexila STB\"),Eingabeliste!B301,0)+IF(OR(Eingabeliste!S301=\"Flexila PU\",Eingabeliste!S301=\"Flexila STB\"),Eingabeliste!B301,0)","v":0},null,null,null,null,null,null,null,null,null,null,null,null,null,null,null,null,null,null,null,null,null,null,null,null,0,null,null,null,{"$f":"IF(A301=0,0,IF(C301>$C$2,1,0)+IF(AND(Daten!$F$3=TRUE,Zusammenfassung!J301>Preise!$A$70),1,0)+IF(AND(G301=\"D\",K301>Preise!$A$54),1,0)+IF(AND(OR(G301=\"B\",G301=\"C\"),I301<>\"XPS\",AND(Eingabeliste!AC301>50,Daten!F$3=FALSE)),1,0)+IF(AND(OR(G301=\"B\",G301=\"C\"),I301=\"XPS\",Eingabeliste!AC301>100),1,0))","v":0}]
[{"$f":"IF(Eingabeliste!A302=\"\",0,1)","v":0},{"$f":"Eingabeliste!B302","v":0},{"$f":"IFERROR(ROUND(Eingabeliste!J302/(COS((Eingabeliste!K302*PI())/180))-(SIN((Eingabeliste!K302*PI())/180)*2)+(Eingabeliste!M302-2.74)+IF(Eingabeliste!L302=0,0,Eingabeliste!L302-2.74)+IF(Eingabeliste!N302=Daten!N$6,0,12-1.86),1),\"\")","v":""},{"$f":"IF(OR(B302=0,Eingabeliste!E302=\"\"),0,MAX(Eingabeliste!E302,1000)*B302)","v":0},{"$f":"IFERROR((ROUNDUP(Eingabeliste!E302/Daten!$K$15,0)-1)*B302,\"\")","v":""},{"$f":"IF(Eingabeliste!N302=\"Pulverbesch.\",Daten!$D$1,Eingabeliste!N302)","v":""},{"$f":"Eingabeliste!AB302","v":""},{"$f":"Eingabeliste!AC302","v":""},{"$f":"Eingabeliste!AA302","v":""},{"$f":"Eingabeliste!I302","v":""},{"$f":"Eingabeliste!G302","v":""},{"$f":"Eingabeliste!H302","v":""},null,null,null,null,null,null,null,null,{"$f":"IF(OR(Eingabeliste!O302=\"Flexila PU\",Eingabeliste!O302=\"Flexila STB\"),Eingabeliste!B302,0)+IF(OR(Eingabeliste!S302=\"Flexila PU\",Eingabeliste!S302=\"Flexila STB\"),Eingabeliste!B302,0)","v":0},null,null,null,null,null,null,null,null,null,null,null,null,null,null,null,null,null,null,null,null,null,null,null,null,0,null,null,null,{"$f":"IF(A302=0,0,IF(C302>$C$2,1,0)+IF(AND(Daten!$F$3=TRUE,Zusammenfassung!J302>Preise!$A$70),1,0)+IF(AND(G302=\"D\",K302>Preise!$A$54),1,0)+IF(AND(OR(G302=\"B\",G302=\"C\"),I302<>\"XPS\",AND(Eingabeliste!AC302>50,Daten!F$3=FALSE)),1,0)+IF(AND(OR(G302=\"B\",G302=\"C\"),I302=\"XPS\",Eingabeliste!AC302>100),1,0))","v":0}]
[{"$f":"IF(Eingabeliste!A303=\"\",0,1)","v":0},{"$f":"Eingabeliste!B303","v":0},{"$f":"IFERROR(ROUND(Eingabeliste!J303/(COS((Eingabeliste!K303*PI())/180))-(SIN((Eingabeliste!K303*PI())/180)*2)+(Eingabeliste!M303-2.74)+IF(Eingabeliste!L303=0,0,Eingabeliste!L303-2.74)+IF(Eingabeliste!N303=Daten!N$6,0,12-1.86),1),\"\")","v":""},{"$f":"IF(OR(B303=0,Eingabeliste!E303=\"\"),0,MAX(Eingabeliste!E303,1000)*B303)","v":0},{"$f":"IFERROR((ROUNDUP(Eingabeliste!E303/Daten!$K$15,0)-1)*B303,\"\")","v":""},{"$f":"IF(Eingabeliste!N303=\"Pulverbesch.\",Daten!$D$1,Eingabeliste!N303)","v":""},{"$f":"Eingabeliste!AB303","v":""},{"$f":"Eingabeliste!AC303","v":""},{"$f":"Eingabeliste!AA303","v":""},{"$f":"Eingabeliste!I303","v":""},{"$f":"Eingabeliste!G303","v":""},{"$f":"Eingabeliste!H303","v":""},null,null,null,null,null,null,null,null,{"$f":"IF(OR(Eingabeliste!O303=\"Flexila PU\",Eingabeliste!O303=\"Flexila STB\"),Eingabeliste!B303,0)+IF(OR(Eingabeliste!S303=\"Flexila PU\",Eingabeliste!S303=\"Flexila STB\"),Eingabeliste!B303,0)","v":0},null,null,null,null,null,null,null,null,null,null,null,null,null,null,null,null,null,null,null,null,null,null,null,null,0,null,null,null,{"$f":"IF(A303=0,0,IF(C303>$C$2,1,0)+IF(AND(Daten!$F$3=TRUE,Zusammenfassung!J303>Preise!$A$70),1,0)+IF(AND(G303=\"D\",K303>Preise!$A$54),1,0)+IF(AND(OR(G303=\"B\",G303=\"C\"),I303<>\"XPS\",AND(Eingabeliste!AC303>50,Daten!F$3=FALSE)),1,0)+IF(AND(OR(G303=\"B\",G303=\"C\"),I303=\"XPS\",Eingabeliste!AC303>100),1,0))","v":0}]
[{"$f":"IF(Eingabeliste!A304=\"\",0,1)","v":0},{"$f":"Eingabeliste!B304","v":0},{"$f":"IFERROR(ROUND(Eingabeliste!J304/(COS((Eingabeliste!K304*PI())/180))-(SIN((Eingabeliste!K304*PI())/180)*2)+(Eingabeliste!M304-2.74)+IF(Eingabeliste!L304=0,0,Eingabeliste!L304-2.74)+IF(Eingabeliste!N304=Daten!N$6,0,12-1.86),1),\"\")","v":""},{"$f":"IF(OR(B304=0,Eingabeliste!E304=\"\"),0,MAX(Eingabeliste!E304,1000)*B304)","v":0},{"$f":"IFERROR((ROUNDUP(Eingabeliste!E304/Daten!$K$15,0)-1)*B304,\"\")","v":""},{"$f":"IF(Eingabeliste!N304=\"Pulverbesch.\",Daten!$D$1,Eingabeliste!N304)","v":""},{"$f":"Eingabeliste!AB304","v":""},{"$f":"Eingabeliste!AC304","v":""},{"$f":"Eingabeliste!AA304","v":""},{"$f":"Eingabeliste!I304","v":""},{"$f":"Eingabeliste!G304","v":""},{"$f":"Eingabeliste!H304","v":""},null,null,null,null,null,null,null,null,{"$f":"IF(OR(Eingabeliste!O304=\"Flexila PU\",Eingabeliste!O304=\"Flexila STB\"),Eingabeliste!B304,0)+IF(OR(Eingabeliste!S304=\"Flexila PU\",Eingabeliste!S304=\"Flexila STB\"),Eingabeliste!B304,0)","v":0},null,null,null,null,null,null,null,null,null,null,null,null,null,null,null,null,null,null,null,null,null,null,null,null,0,null,null,null,{"$f":"IF(A304=0,0,IF(C304>$C$2,1,0)+IF(AND(Daten!$F$3=TRUE,Zusammenfassung!J304>Preise!$A$70),1,0)+IF(AND(G304=\"D\",K304>Preise!$A$54),1,0)+IF(AND(OR(G304=\"B\",G304=\"C\"),I304<>\"XPS\",AND(Eingabeliste!AC304>50,Daten!F$3=FALSE)),1,0)+IF(AND(OR(G304=\"B\",G304=\"C\"),I304=\"XPS\",Eingabeliste!AC304>100),1,0))","v":0}]
[{"$f":"IF(Eingabeliste!A305=\"\",0,1)","v":0},{"$f":"Eingabeliste!B305","v":0},{"$f":"IFERROR(ROUND(Eingabeliste!J305/(COS((Eingabeliste!K305*PI())/180))-(SIN((Eingabeliste!K305*PI())/180)*2)+(Eingabeliste!M305-2.74)+IF(Eingabeliste!L305=0,0,Eingabeliste!L305-2.74)+IF(Eingabeliste!N305=Daten!N$6,0,12-1.86),1),\"\")","v":""},{"$f":"IF(OR(B305=0,Eingabeliste!E305=\"\"),0,MAX(Eingabeliste!E305,1000)*B305)","v":0},{"$f":"IFERROR((ROUNDUP(Eingabeliste!E305/Daten!$K$15,0)-1)*B305,\"\")","v":""},{"$f":"IF(Eingabeliste!N305=\"Pulverbesch.\",Daten!$D$1,Eingabeliste!N305)","v":""},{"$f":"Eingabeliste!AB305","v":""},{"$f":"Eingabeliste!AC305","v":""},{"$f":"Eingabeliste!AA305","v":""},{"$f":"Eingabeliste!I305","v":""},{"$f":"Eingabeliste!G305","v":""},{"$f":"Eingabeliste!H305","v":""},null,null,null,null,null,null,null,null,{"$f":"IF(OR(Eingabeliste!O305=\"Flexila PU\",Eingabeliste!O305=\"Flexila STB\"),Eingabeliste!B305,0)+IF(OR(Eingabeliste!S305=\"Flexila PU\",Eingabeliste!S305=\"Flexila STB\"),Eingabeliste!B305,0)","v":0},null,null,null,null,null,null,null,null,null,null,null,null,null,null,null,null,null,null,null,null,null,null,null,null,0,null,null,null,{"$f":"IF(A305=0,0,IF(C305>$C$2,1,0)+IF(AND(Daten!$F$3=TRUE,Zusammenfassung!J305>Preise!$A$70),1,0)+IF(AND(G305=\"D\",K305>Preise!$A$54),1,0)+IF(AND(OR(G305=\"B\",G305=\"C\"),I305<>\"XPS\",AND(Eingabeliste!AC305>50,Daten!F$3=FALSE)),1,0)+IF(AND(OR(G305=\"B\",G305=\"C\"),I305=\"XPS\",Eingabeliste!AC305>100),1,0))","v":0}]
[{"$f":"IF(Eingabeliste!A306=\"\",0,1)","v":0},{"$f":"Eingabeliste!B306","v":0},{"$f":"IFERROR(ROUND(Eingabeliste!J306/(COS((Eingabeliste!K306*PI())/180))-(SIN((Eingabeliste!K306*PI())/180)*2)+(Eingabeliste!M306-2.74)+IF(Eingabeliste!L306=0,0,Eingabeliste!L306-2.74)+IF(Eingabeliste!N306=Daten!N$6,0,12-1.86),1),\"\")","v":""},{"$f":"IF(OR(B306=0,Eingabeliste!E306=\"\"),0,MAX(Eingabeliste!E306,1000)*B306)","v":0},{"$f":"IFERROR((ROUNDUP(Eingabeliste!E306/Daten!$K$15,0)-1)*B306,\"\")","v":""},{"$f":"IF(Eingabeliste!N306=\"Pulverbesch.\",Daten!$D$1,Eingabeliste!N306)","v":""},{"$f":"Eingabeliste!AB306","v":""},{"$f":"Eingabeliste!AC306","v":""},{"$f":"Eingabeliste!AA306","v":""},{"$f":"Eingabeliste!I306","v":""},{"$f":"Eingabeliste!G306","v":""},{"$f":"Eingabeliste!H306","v":""},null,null,null,null,null,null,null,null,{"$f":"IF(OR(Eingabeliste!O306=\"Flexila PU\",Eingabeliste!O306=\"Flexila STB\"),Eingabeliste!B306,0)+IF(OR(Eingabeliste!S306=\"Flexila PU\",Eingabeliste!S306=\"Flexila STB\"),Eingabeliste!B306,0)","v":0},null,null,null,null,null,null,null,null,null,null,null,null,null,null,null,null,null,null,null,null,null,null,null,null,0,null,null,null,{"$f":"IF(A306=0,0,IF(C306>$C$2,1,0)+IF(AND(Daten!$F$3=TRUE,Zusammenfassung!J306>Preise!$A$70),1,0)+IF(AND(G306=\"D\",K306>Preise!$A$54),1,0)+IF(AND(OR(G306=\"B\",G306=\"C\"),I306<>\"XPS\",AND(Eingabeliste!AC306>50,Daten!F$3=FALSE)),1,0)+IF(AND(OR(G306=\"B\",G306=\"C\"),I306=\"XPS\",Eingabeliste!AC306>100),1,0))","v":0}]
[{"$f":"IF(Eingabeliste!A307=\"\",0,1)","v":0},{"$f":"Eingabeliste!B307","v":0},{"$f":"IFERROR(ROUND(Eingabeliste!J307/(COS((Eingabeliste!K307*PI())/180))-(SIN((Eingabeliste!K307*PI())/180)*2)+(Eingabeliste!M307-2.74)+IF(Eingabeliste!L307=0,0,Eingabeliste!L307-2.74)+IF(Eingabeliste!N307=Daten!N$6,0,12-1.86),1),\"\")","v":""},{"$f":"IF(OR(B307=0,Eingabeliste!E307=\"\"),0,MAX(Eingabeliste!E307,1000)*B307)","v":0},{"$f":"IFERROR((ROUNDUP(Eingabeliste!E307/Daten!$K$15,0)-1)*B307,\"\")","v":""},{"$f":"IF(Eingabeliste!N307=\"Pulverbesch.\",Daten!$D$1,Eingabeliste!N307)","v":""},{"$f":"Eingabeliste!AB307","v":""},{"$f":"Eingabeliste!AC307","v":""},{"$f":"Eingabeliste!AA307","v":""},{"$f":"Eingabeliste!I307","v":""},{"$f":"Eingabeliste!G307","v":""},{"$f":"Eingabeliste!H307","v":""},null,null,null,null,null,null,null,null,{"$f":"IF(OR(Eingabeliste!O307=\"Flexila PU\",Eingabeliste!O307=\"Flexila STB\"),Eingabeliste!B307,0)+IF(OR(Eingabeliste!S307=\"Flexila PU\",Eingabeliste!S307=\"Flexila STB\"),Eingabeliste!B307,0)","v":0},null,null,null,null,null,null,null,null,null,null,null,null,null,null,null,null,null,null,null,null,null,null,null,null,0,null,null,null,{"$f":"IF(A307=0,0,IF(C307>$C$2,1,0)+IF(AND(Daten!$F$3=TRUE,Zusammenfassung!J307>Preise!$A$70),1,0)+IF(AND(G307=\"D\",K307>Preise!$A$54),1,0)+IF(AND(OR(G307=\"B\",G307=\"C\"),I307<>\"XPS\",AND(Eingabeliste!AC307>50,Daten!F$3=FALSE)),1,0)+IF(AND(OR(G307=\"B\",G307=\"C\"),I307=\"XPS\",Eingabeliste!AC307>100),1,0))","v":0}]
[{"$f":"IF(Eingabeliste!A308=\"\",0,1)","v":0},{"$f":"Eingabeliste!B308","v":0},{"$f":"IFERROR(ROUND(Eingabeliste!J308/(COS((Eingabeliste!K308*PI())/180))-(SIN((Eingabeliste!K308*PI())/180)*2)+(Eingabeliste!M308-2.74)+IF(Eingabeliste!L308=0,0,Eingabeliste!L308-2.74)+IF(Eingabeliste!N308=Daten!N$6,0,12-1.86),1),\"\")","v":""},{"$f":"IF(OR(B308=0,Eingabeliste!E308=\"\"),0,MAX(Eingabeliste!E308,1000)*B308)","v":0},{"$f":"IFERROR((ROUNDUP(Eingabeliste!E308/Daten!$K$15,0)-1)*B308,\"\")","v":""},{"$f":"IF(Eingabeliste!N308=\"Pulverbesch.\",Daten!$D$1,Eingabeliste!N308)","v":""},{"$f":"Eingabeliste!AB308","v":""},{"$f":"Eingabeliste!AC308","v":""},{"$f":"Eingabeliste!AA308","v":""},{"$f":"Eingabeliste!I308","v":""},{"$f":"Eingabeliste!G308","v":""},{"$f":"Eingabeliste!H308","v":""},null,null,null,null,null,null,null,null,{"$f":"IF(OR(Eingabeliste!O308=\"Flexila PU\",Eingabeliste!O308=\"Flexila STB\"),Eingabeliste!B308,0)+IF(OR(Eingabeliste!S308=\"Flexila PU\",Eingabeliste!S308=\"Flexila STB\"),Eingabeliste!B308,0)","v":0},null,null,null,null,null,null,null,null,null,null,null,null,null,null,null,null,null,null,null,null,null,null,null,null,0,null,null,null,{"$f":"IF(A308=0,0,IF(C308>$C$2,1,0)+IF(AND(Daten!$F$3=TRUE,Zusammenfassung!J308>Preise!$A$70),1,0)+IF(AND(G308=\"D\",K308>Preise!$A$54),1,0)+IF(AND(OR(G308=\"B\",G308=\"C\"),I308<>\"XPS\",AND(Eingabeliste!AC308>50,Daten!F$3=FALSE)),1,0)+IF(AND(OR(G308=\"B\",G308=\"C\"),I308=\"XPS\",Eingabeliste!AC308>100),1,0))","v":0}]
[{"$f":"IF(Eingabeliste!A309=\"\",0,1)","v":0},{"$f":"Eingabeliste!B309","v":0},{"$f":"IFERROR(ROUND(Eingabeliste!J309/(COS((Eingabeliste!K309*PI())/180))-(SIN((Eingabeliste!K309*PI())/180)*2)+(Eingabeliste!M309-2.74)+IF(Eingabeliste!L309=0,0,Eingabeliste!L309-2.74)+IF(Eingabeliste!N309=Daten!N$6,0,12-1.86),1),\"\")","v":""},{"$f":"IF(OR(B309=0,Eingabeliste!E309=\"\"),0,MAX(Eingabeliste!E309,1000)*B309)","v":0},{"$f":"IFERROR((ROUNDUP(Eingabeliste!E309/Daten!$K$15,0)-1)*B309,\"\")","v":""},{"$f":"IF(Eingabeliste!N309=\"Pulverbesch.\",Daten!$D$1,Eingabeliste!N309)","v":""},{"$f":"Eingabeliste!AB309","v":""},{"$f":"Eingabeliste!AC309","v":""},{"$f":"Eingabeliste!AA309","v":""},{"$f":"Eingabeliste!I309","v":""},{"$f":"Eingabeliste!G309","v":""},{"$f":"Eingabeliste!H309","v":""},null,null,null,null,null,null,null,null,{"$f":"IF(OR(Eingabeliste!O309=\"Flexila PU\",Eingabeliste!O309=\"Flexila STB\"),Eingabeliste!B309,0)+IF(OR(Eingabeliste!S309=\"Flexila PU\",Eingabeliste!S309=\"Flexila STB\"),Eingabeliste!B309,0)","v":0},null,null,null,null,null,null,null,null,null,null,null,null,null,null,null,null,null,null,null,null,null,null,null,null,0,null,null,null,{"$f":"IF(A309=0,0,IF(C309>$C$2,1,0)+IF(AND(Daten!$F$3=TRUE,Zusammenfassung!J309>Preise!$A$70),1,0)+IF(AND(G309=\"D\",K309>Preise!$A$54),1,0)+IF(AND(OR(G309=\"B\",G309=\"C\"),I309<>\"XPS\",AND(Eingabeliste!AC309>50,Daten!F$3=FALSE)),1,0)+IF(AND(OR(G309=\"B\",G309=\"C\"),I309=\"XPS\",Eingabeliste!AC309>100),1,0))","v":0}]
[{"$f":"IF(Eingabeliste!A310=\"\",0,1)","v":0},{"$f":"Eingabeliste!B310","v":0},{"$f":"IFERROR(ROUND(Eingabeliste!J310/(COS((Eingabeliste!K310*PI())/180))-(SIN((Eingabeliste!K310*PI())/180)*2)+(Eingabeliste!M310-2.74)+IF(Eingabeliste!L310=0,0,Eingabeliste!L310-2.74)+IF(Eingabeliste!N310=Daten!N$6,0,12-1.86),1),\"\")","v":""},{"$f":"IF(OR(B310=0,Eingabeliste!E310=\"\"),0,MAX(Eingabeliste!E310,1000)*B310)","v":0},{"$f":"IFERROR((ROUNDUP(Eingabeliste!E310/Daten!$K$15,0)-1)*B310,\"\")","v":""},{"$f":"IF(Eingabeliste!N310=\"Pulverbesch.\",Daten!$D$1,Eingabeliste!N310)","v":""},{"$f":"Eingabeliste!AB310","v":""},{"$f":"Eingabeliste!AC310","v":""},{"$f":"Eingabeliste!AA310","v":""},{"$f":"Eingabeliste!I310","v":""},{"$f":"Eingabeliste!G310","v":""},{"$f":"Eingabeliste!H310","v":""},null,null,null,null,null,null,null,null,{"$f":"IF(OR(Eingabeliste!O310=\"Flexila PU\",Eingabeliste!O310=\"Flexila STB\"),Eingabeliste!B310,0)+IF(OR(Eingabeliste!S310=\"Flexila PU\",Eingabeliste!S310=\"Flexila STB\"),Eingabeliste!B310,0)","v":0},null,null,null,null,null,null,null,null,null,null,null,null,null,null,null,null,null,null,null,null,null,null,null,null,0,null,null,null,{"$f":"IF(A310=0,0,IF(C310>$C$2,1,0)+IF(AND(Daten!$F$3=TRUE,Zusammenfassung!J310>Preise!$A$70),1,0)+IF(AND(G310=\"D\",K310>Preise!$A$54),1,0)+IF(AND(OR(G310=\"B\",G310=\"C\"),I310<>\"XPS\",AND(Eingabeliste!AC310>50,Daten!F$3=FALSE)),1,0)+IF(AND(OR(G310=\"B\",G310=\"C\"),I310=\"XPS\",Eingabeliste!AC310>100),1,0))","v":0}]
[{"$f":"IF(Eingabeliste!A311=\"\",0,1)","v":0},{"$f":"Eingabeliste!B311","v":0},{"$f":"IFERROR(ROUND(Eingabeliste!J311/(COS((Eingabeliste!K311*PI())/180))-(SIN((Eingabeliste!K311*PI())/180)*2)+(Eingabeliste!M311-2.74)+IF(Eingabeliste!L311=0,0,Eingabeliste!L311-2.74)+IF(Eingabeliste!N311=Daten!N$6,0,12-1.86),1),\"\")","v":""},{"$f":"IF(OR(B311=0,Eingabeliste!E311=\"\"),0,MAX(Eingabeliste!E311,1000)*B311)","v":0},{"$f":"IFERROR((ROUNDUP(Eingabeliste!E311/Daten!$K$15,0)-1)*B311,\"\")","v":""},{"$f":"IF(Eingabeliste!N311=\"Pulverbesch.\",Daten!$D$1,Eingabeliste!N311)","v":""},{"$f":"Eingabeliste!AB311","v":""},{"$f":"Eingabeliste!AC311","v":""},{"$f":"Eingabeliste!AA311","v":""},{"$f":"Eingabeliste!I311","v":""},{"$f":"Eingabeliste!G311","v":""},{"$f":"Eingabeliste!H311","v":""},null,null,null,null,null,null,null,null,{"$f":"IF(OR(Eingabeliste!O311=\"Flexila PU\",Eingabeliste!O311=\"Flexila STB\"),Eingabeliste!B311,0)+IF(OR(Eingabeliste!S311=\"Flexila PU\",Eingabeliste!S311=\"Flexila STB\"),Eingabeliste!B311,0)","v":0},null,null,null,null,null,null,null,null,null,null,null,null,null,null,null,null,null,null,null,null,null,null,null,null,0,null,null,null,{"$f":"IF(A311=0,0,IF(C311>$C$2,1,0)+IF(AND(Daten!$F$3=TRUE,Zusammenfassung!J311>Preise!$A$70),1,0)+IF(AND(G311=\"D\",K311>Preise!$A$54),1,0)+IF(AND(OR(G311=\"B\",G311=\"C\"),I311<>\"XPS\",AND(Eingabeliste!AC311>50,Daten!F$3=FALSE)),1,0)+IF(AND(OR(G311=\"B\",G311=\"C\"),I311=\"XPS\",Eingabeliste!AC311>100),1,0))","v":0}]
[{"$f":"IF(Eingabeliste!A312=\"\",0,1)","v":0},{"$f":"Eingabeliste!B312","v":0},{"$f":"IFERROR(ROUND(Eingabeliste!J312/(COS((Eingabeliste!K312*PI())/180))-(SIN((Eingabeliste!K312*PI())/180)*2)+(Eingabeliste!M312-2.74)+IF(Eingabeliste!L312=0,0,Eingabeliste!L312-2.74)+IF(Eingabeliste!N312=Daten!N$6,0,12-1.86),1),\"\")","v":""},{"$f":"IF(OR(B312=0,Eingabeliste!E312=\"\"),0,MAX(Eingabeliste!E312,1000)*B312)","v":0},{"$f":"IFERROR((ROUNDUP(Eingabeliste!E312/Daten!$K$15,0)-1)*B312,\"\")","v":""},{"$f":"IF(Eingabeliste!N312=\"Pulverbesch.\",Daten!$D$1,Eingabeliste!N312)","v":""},{"$f":"Eingabeliste!AB312","v":""},{"$f":"Eingabeliste!AC312","v":""},{"$f":"Eingabeliste!AA312","v":""},{"$f":"Eingabeliste!I312","v":""},{"$f":"Eingabeliste!G312","v":""},{"$f":"Eingabeliste!H312","v":""},null,null,null,null,null,null,null,null,{"$f":"IF(OR(Eingabeliste!O312=\"Flexila PU\",Eingabeliste!O312=\"Flexila STB\"),Eingabeliste!B312,0)+IF(OR(Eingabeliste!S312=\"Flexila PU\",Eingabeliste!S312=\"Flexila STB\"),Eingabeliste!B312,0)","v":0},null,null,null,null,null,null,null,null,null,null,null,null,null,null,null,null,null,null,null,null,null,null,null,null,0,null,null,null,{"$f":"IF(A312=0,0,IF(C312>$C$2,1,0)+IF(AND(Daten!$F$3=TRUE,Zusammenfassung!J312>Preise!$A$70),1,0)+IF(AND(G312=\"D\",K312>Preise!$A$54),1,0)+IF(AND(OR(G312=\"B\",G312=\"C\"),I312<>\"XPS\",AND(Eingabeliste!AC312>50,Daten!F$3=FALSE)),1,0)+IF(AND(OR(G312=\"B\",G312=\"C\"),I312=\"XPS\",Eingabeliste!AC312>100),1,0))","v":0}]
[{"$f":"IF(Eingabeliste!A313=\"\",0,1)","v":0},{"$f":"Eingabeliste!B313","v":0},{"$f":"IFERROR(ROUND(Eingabeliste!J313/(COS((Eingabeliste!K313*PI())/180))-(SIN((Eingabeliste!K313*PI())/180)*2)+(Eingabeliste!M313-2.74)+IF(Eingabeliste!L313=0,0,Eingabeliste!L313-2.74)+IF(Eingabeliste!N313=Daten!N$6,0,12-1.86),1),\"\")","v":""},{"$f":"IF(OR(B313=0,Eingabeliste!E313=\"\"),0,MAX(Eingabeliste!E313,1000)*B313)","v":0},{"$f":"IFERROR((ROUNDUP(Eingabeliste!E313/Daten!$K$15,0)-1)*B313,\"\")","v":""},{"$f":"IF(Eingabeliste!N313=\"Pulverbesch.\",Daten!$D$1,Eingabeliste!N313)","v":""},{"$f":"Eingabeliste!AB313","v":""},{"$f":"Eingabeliste!AC313","v":""},{"$f":"Eingabeliste!AA313","v":""},{"$f":"Eingabeliste!I313","v":""},{"$f":"Eingabeliste!G313","v":""},{"$f":"Eingabeliste!H313","v":""},null,null,null,null,null,null,null,null,{"$f":"IF(OR(Eingabeliste!O313=\"Flexila PU\",Eingabeliste!O313=\"Flexila STB\"),Eingabeliste!B313,0)+IF(OR(Eingabeliste!S313=\"Flexila PU\",Eingabeliste!S313=\"Flexila STB\"),Eingabeliste!B313,0)","v":0},null,null,null,null,null,null,null,null,null,null,null,null,null,null,null,null,null,null,null,null,null,null,null,null,0,null,null,null,{"$f":"IF(A313=0,0,IF(C313>$C$2,1,0)+IF(AND(Daten!$F$3=TRUE,Zusammenfassung!J313>Preise!$A$70),1,0)+IF(AND(G313=\"D\",K313>Preise!$A$54),1,0)+IF(AND(OR(G313=\"B\",G313=\"C\"),I313<>\"XPS\",AND(Eingabeliste!AC313>50,Daten!F$3=FALSE)),1,0)+IF(AND(OR(G313=\"B\",G313=\"C\"),I313=\"XPS\",Eingabeliste!AC313>100),1,0))","v":0}]
[{"$f":"IF(Eingabeliste!A314=\"\",0,1)","v":0},{"$f":"Eingabeliste!B314","v":0},{"$f":"IFERROR(ROUND(Eingabeliste!J314/(COS((Eingabeliste!K314*PI())/180))-(SIN((Eingabeliste!K314*PI())/180)*2)+(Eingabeliste!M314-2.74)+IF(Eingabeliste!L314=0,0,Eingabeliste!L314-2.74)+IF(Eingabeliste!N314=Daten!N$6,0,12-1.86),1),\"\")","v":""},{"$f":"IF(OR(B314=0,Eingabeliste!E314=\"\"),0,MAX(Eingabeliste!E314,1000)*B314)","v":0},{"$f":"IFERROR((ROUNDUP(Eingabeliste!E314/Daten!$K$15,0)-1)*B314,\"\")","v":""},{"$f":"IF(Eingabeliste!N314=\"Pulverbesch.\",Daten!$D$1,Eingabeliste!N314)","v":""},{"$f":"Eingabeliste!AB314","v":""},{"$f":"Eingabeliste!AC314","v":""},{"$f":"Eingabeliste!AA314","v":""},{"$f":"Eingabeliste!I314","v":""},{"$f":"Eingabeliste!G314","v":""},{"$f":"Eingabeliste!H314","v":""},null,null,null,null,null,null,null,null,{"$f":"IF(OR(Eingabeliste!O314=\"Flexila PU\",Eingabeliste!O314=\"Flexila STB\"),Eingabeliste!B314,0)+IF(OR(Eingabeliste!S314=\"Flexila PU\",Eingabeliste!S314=\"Flexila STB\"),Eingabeliste!B314,0)","v":0},null,null,null,null,null,null,null,null,null,null,null,null,null,null,null,null,null,null,null,null,null,null,null,null,0,null,null,null,{"$f":"IF(A314=0,0,IF(C314>$C$2,1,0)+IF(AND(Daten!$F$3=TRUE,Zusammenfassung!J314>Preise!$A$70),1,0)+IF(AND(G314=\"D\",K314>Preise!$A$54),1,0)+IF(AND(OR(G314=\"B\",G314=\"C\"),I314<>\"XPS\",AND(Eingabeliste!AC314>50,Daten!F$3=FALSE)),1,0)+IF(AND(OR(G314=\"B\",G314=\"C\"),I314=\"XPS\",Eingabeliste!AC314>100),1,0))","v":0}]
[{"$f":"IF(Eingabeliste!A315=\"\",0,1)","v":0},{"$f":"Eingabeliste!B315","v":0},{"$f":"IFERROR(ROUND(Eingabeliste!J315/(COS((Eingabeliste!K315*PI())/180))-(SIN((Eingabeliste!K315*PI())/180)*2)+(Eingabeliste!M315-2.74)+IF(Eingabeliste!L315=0,0,Eingabeliste!L315-2.74)+IF(Eingabeliste!N315=Daten!N$6,0,12-1.86),1),\"\")","v":""},{"$f":"IF(OR(B315=0,Eingabeliste!E315=\"\"),0,MAX(Eingabeliste!E315,1000)*B315)","v":0},{"$f":"IFERROR((ROUNDUP(Eingabeliste!E315/Daten!$K$15,0)-1)*B315,\"\")","v":""},{"$f":"IF(Eingabeliste!N315=\"Pulverbesch.\",Daten!$D$1,Eingabeliste!N315)","v":""},{"$f":"Eingabeliste!AB315","v":""},{"$f":"Eingabeliste!AC315","v":""},{"$f":"Eingabeliste!AA315","v":""},{"$f":"Eingabeliste!I315","v":""},{"$f":"Eingabeliste!G315","v":""},{"$f":"Eingabeliste!H315","v":""},null,null,null,null,null,null,null,null,{"$f":"IF(OR(Eingabeliste!O315=\"Flexila PU\",Eingabeliste!O315=\"Flexila STB\"),Eingabeliste!B315,0)+IF(OR(Eingabeliste!S315=\"Flexila PU\",Eingabeliste!S315=\"Flexila STB\"),Eingabeliste!B315,0)","v":0},null,null,null,null,null,null,null,null,null,null,null,null,null,null,null,null,null,null,null,null,null,null,null,null,0,null,null,null,{"$f":"IF(A315=0,0,IF(C315>$C$2,1,0)+IF(AND(Daten!$F$3=TRUE,Zusammenfassung!J315>Preise!$A$70),1,0)+IF(AND(G315=\"D\",K315>Preise!$A$54),1,0)+IF(AND(OR(G315=\"B\",G315=\"C\"),I315<>\"XPS\",AND(Eingabeliste!AC315>50,Daten!F$3=FALSE)),1,0)+IF(AND(OR(G315=\"B\",G315=\"C\"),I315=\"XPS\",Eingabeliste!AC315>100),1,0))","v":0}]
[{"$f":"IF(Eingabeliste!A316=\"\",0,1)","v":0},{"$f":"Eingabeliste!B316","v":0},{"$f":"IFERROR(ROUND(Eingabeliste!J316/(COS((Eingabeliste!K316*PI())/180))-(SIN((Eingabeliste!K316*PI())/180)*2)+(Eingabeliste!M316-2.74)+IF(Eingabeliste!L316=0,0,Eingabeliste!L316-2.74)+IF(Eingabeliste!N316=Daten!N$6,0,12-1.86),1),\"\")","v":""},{"$f":"IF(OR(B316=0,Eingabeliste!E316=\"\"),0,MAX(Eingabeliste!E316,1000)*B316)","v":0},{"$f":"IFERROR((ROUNDUP(Eingabeliste!E316/Daten!$K$15,0)-1)*B316,\"\")","v":""},{"$f":"IF(Eingabeliste!N316=\"Pulverbesch.\",Daten!$D$1,Eingabeliste!N316)","v":""},{"$f":"Eingabeliste!AB316","v":""},{"$f":"Eingabeliste!AC316","v":""},{"$f":"Eingabeliste!AA316","v":""},{"$f":"Eingabeliste!I316","v":""},{"$f":"Eingabeliste!G316","v":""},{"$f":"Eingabeliste!H316","v":""},null,null,null,null,null,null,null,null,{"$f":"IF(OR(Eingabeliste!O316=\"Flexila PU\",Eingabeliste!O316=\"Flexila STB\"),Eingabeliste!B316,0)+IF(OR(Eingabeliste!S316=\"Flexila PU\",Eingabeliste!S316=\"Flexila STB\"),Eingabeliste!B316,0)","v":0},null,null,null,null,null,null,null,null,null,null,null,null,null,null,null,null,null,null,null,null,null,null,null,null,0,null,null,null,{"$f":"IF(A316=0,0,IF(C316>$C$2,1,0)+IF(AND(Daten!$F$3=TRUE,Zusammenfassung!J316>Preise!$A$70),1,0)+IF(AND(G316=\"D\",K316>Preise!$A$54),1,0)+IF(AND(OR(G316=\"B\",G316=\"C\"),I316<>\"XPS\",AND(Eingabeliste!AC316>50,Daten!F$3=FALSE)),1,0)+IF(AND(OR(G316=\"B\",G316=\"C\"),I316=\"XPS\",Eingabeliste!AC316>100),1,0))","v":0}]
[{"$f":"IF(Eingabeliste!A317=\"\",0,1)","v":0},{"$f":"Eingabeliste!B317","v":0},{"$f":"IFERROR(ROUND(Eingabeliste!J317/(COS((Eingabeliste!K317*PI())/180))-(SIN((Eingabeliste!K317*PI())/180)*2)+(Eingabeliste!M317-2.74)+IF(Eingabeliste!L317=0,0,Eingabeliste!L317-2.74)+IF(Eingabeliste!N317=Daten!N$6,0,12-1.86),1),\"\")","v":""},{"$f":"IF(OR(B317=0,Eingabeliste!E317=\"\"),0,MAX(Eingabeliste!E317,1000)*B317)","v":0},{"$f":"IFERROR((ROUNDUP(Eingabeliste!E317/Daten!$K$15,0)-1)*B317,\"\")","v":""},{"$f":"IF(Eingabeliste!N317=\"Pulverbesch.\",Daten!$D$1,Eingabeliste!N317)","v":""},{"$f":"Eingabeliste!AB317","v":""},{"$f":"Eingabeliste!AC317","v":""},{"$f":"Eingabeliste!AA317","v":""},{"$f":"Eingabeliste!I317","v":""},{"$f":"Eingabeliste!G317","v":""},{"$f":"Eingabeliste!H317","v":""},null,null,null,null,null,null,null,null,{"$f":"IF(OR(Eingabeliste!O317=\"Flexila PU\",Eingabeliste!O317=\"Flexila STB\"),Eingabeliste!B317,0)+IF(OR(Eingabeliste!S317=\"Flexila PU\",Eingabeliste!S317=\"Flexila STB\"),Eingabeliste!B317,0)","v":0},null,null,null,null,null,null,null,null,null,null,null,null,null,null,null,null,null,null,null,null,null,null,null,null,0,null,null,null,{"$f":"IF(A317=0,0,IF(C317>$C$2,1,0)+IF(AND(Daten!$F$3=TRUE,Zusammenfassung!J317>Preise!$A$70),1,0)+IF(AND(G317=\"D\",K317>Preise!$A$54),1,0)+IF(AND(OR(G317=\"B\",G317=\"C\"),I317<>\"XPS\",AND(Eingabeliste!AC317>50,Daten!F$3=FALSE)),1,0)+IF(AND(OR(G317=\"B\",G317=\"C\"),I317=\"XPS\",Eingabeliste!AC317>100),1,0))","v":0}]
[{"$f":"IF(Eingabeliste!A318=\"\",0,1)","v":0},{"$f":"Eingabeliste!B318","v":0},{"$f":"IFERROR(ROUND(Eingabeliste!J318/(COS((Eingabeliste!K318*PI())/180))-(SIN((Eingabeliste!K318*PI())/180)*2)+(Eingabeliste!M318-2.74)+IF(Eingabeliste!L318=0,0,Eingabeliste!L318-2.74)+IF(Eingabeliste!N318=Daten!N$6,0,12-1.86),1),\"\")","v":""},{"$f":"IF(OR(B318=0,Eingabeliste!E318=\"\"),0,MAX(Eingabeliste!E318,1000)*B318)","v":0},{"$f":"IFERROR((ROUNDUP(Eingabeliste!E318/Daten!$K$15,0)-1)*B318,\"\")","v":""},{"$f":"IF(Eingabeliste!N318=\"Pulverbesch.\",Daten!$D$1,Eingabeliste!N318)","v":""},{"$f":"Eingabeliste!AB318","v":""},{"$f":"Eingabeliste!AC318","v":""},{"$f":"Eingabeliste!AA318","v":""},{"$f":"Eingabeliste!I318","v":""},{"$f":"Eingabeliste!G318","v":""},{"$f":"Eingabeliste!H318","v":""},null,null,null,null,null,null,null,null,{"$f":"IF(OR(Eingabeliste!O318=\"Flexila PU\",Eingabeliste!O318=\"Flexila STB\"),Eingabeliste!B318,0)+IF(OR(Eingabeliste!S318=\"Flexila PU\",Eingabeliste!S318=\"Flexila STB\"),Eingabeliste!B318,0)","v":0},null,null,null,null,null,null,null,null,null,null,null,null,null,null,null,null,null,null,null,null,null,null,null,null,0,null,null,null,{"$f":"IF(A318=0,0,IF(C318>$C$2,1,0)+IF(AND(Daten!$F$3=TRUE,Zusammenfassung!J318>Preise!$A$70),1,0)+IF(AND(G318=\"D\",K318>Preise!$A$54),1,0)+IF(AND(OR(G318=\"B\",G318=\"C\"),I318<>\"XPS\",AND(Eingabeliste!AC318>50,Daten!F$3=FALSE)),1,0)+IF(AND(OR(G318=\"B\",G318=\"C\"),I318=\"XPS\",Eingabeliste!AC318>100),1,0))","v":0}]
[{"$f":"IF(Eingabeliste!A319=\"\",0,1)","v":0},{"$f":"Eingabeliste!B319","v":0},{"$f":"IFERROR(ROUND(Eingabeliste!J319/(COS((Eingabeliste!K319*PI())/180))-(SIN((Eingabeliste!K319*PI())/180)*2)+(Eingabeliste!M319-2.74)+IF(Eingabeliste!L319=0,0,Eingabeliste!L319-2.74)+IF(Eingabeliste!N319=Daten!N$6,0,12-1.86),1),\"\")","v":""},{"$f":"IF(OR(B319=0,Eingabeliste!E319=\"\"),0,MAX(Eingabeliste!E319,1000)*B319)","v":0},{"$f":"IFERROR((ROUNDUP(Eingabeliste!E319/Daten!$K$15,0)-1)*B319,\"\")","v":""},{"$f":"IF(Eingabeliste!N319=\"Pulverbesch.\",Daten!$D$1,Eingabeliste!N319)","v":""},{"$f":"Eingabeliste!AB319","v":""},{"$f":"Eingabeliste!AC319","v":""},{"$f":"Eingabeliste!AA319","v":""},{"$f":"Eingabeliste!I319","v":""},{"$f":"Eingabeliste!G319","v":""},{"$f":"Eingabeliste!H319","v":""},null,null,null,null,null,null,null,null,{"$f":"IF(OR(Eingabeliste!O319=\"Flexila PU\",Eingabeliste!O319=\"Flexila STB\"),Eingabeliste!B319,0)+IF(OR(Eingabeliste!S319=\"Flexila PU\",Eingabeliste!S319=\"Flexila STB\"),Eingabeliste!B319,0)","v":0},null,null,null,null,null,null,null,null,null,null,null,null,null,null,null,null,null,null,null,null,null,null,null,null,0,null,null,null,{"$f":"IF(A319=0,0,IF(C319>$C$2,1,0)+IF(AND(Daten!$F$3=TRUE,Zusammenfassung!J319>Preise!$A$70),1,0)+IF(AND(G319=\"D\",K319>Preise!$A$54),1,0)+IF(AND(OR(G319=\"B\",G319=\"C\"),I319<>\"XPS\",AND(Eingabeliste!AC319>50,Daten!F$3=FALSE)),1,0)+IF(AND(OR(G319=\"B\",G319=\"C\"),I319=\"XPS\",Eingabeliste!AC319>100),1,0))","v":0}]
[{"$f":"IF(Eingabeliste!A320=\"\",0,1)","v":0},{"$f":"Eingabeliste!B320","v":0},{"$f":"IFERROR(ROUND(Eingabeliste!J320/(COS((Eingabeliste!K320*PI())/180))-(SIN((Eingabeliste!K320*PI())/180)*2)+(Eingabeliste!M320-2.74)+IF(Eingabeliste!L320=0,0,Eingabeliste!L320-2.74)+IF(Eingabeliste!N320=Daten!N$6,0,12-1.86),1),\"\")","v":""},{"$f":"IF(OR(B320=0,Eingabeliste!E320=\"\"),0,MAX(Eingabeliste!E320,1000)*B320)","v":0},{"$f":"IFERROR((ROUNDUP(Eingabeliste!E320/Daten!$K$15,0)-1)*B320,\"\")","v":""},{"$f":"IF(Eingabeliste!N320=\"Pulverbesch.\",Daten!$D$1,Eingabeliste!N320)","v":""},{"$f":"Eingabeliste!AB320","v":""},{"$f":"Eingabeliste!AC320","v":""},{"$f":"Eingabeliste!AA320","v":""},{"$f":"Eingabeliste!I320","v":""},{"$f":"Eingabeliste!G320","v":""},{"$f":"Eingabeliste!H320","v":""},null,null,null,null,null,null,null,null,{"$f":"IF(OR(Eingabeliste!O320=\"Flexila PU\",Eingabeliste!O320=\"Flexila STB\"),Eingabeliste!B320,0)+IF(OR(Eingabeliste!S320=\"Flexila PU\",Eingabeliste!S320=\"Flexila STB\"),Eingabeliste!B320,0)","v":0},null,null,null,null,null,null,null,null,null,null,null,null,null,null,null,null,null,null,null,null,null,null,null,null,0,null,null,null,{"$f":"IF(A320=0,0,IF(C320>$C$2,1,0)+IF(AND(Daten!$F$3=TRUE,Zusammenfassung!J320>Preise!$A$70),1,0)+IF(AND(G320=\"D\",K320>Preise!$A$54),1,0)+IF(AND(OR(G320=\"B\",G320=\"C\"),I320<>\"XPS\",AND(Eingabeliste!AC320>50,Daten!F$3=FALSE)),1,0)+IF(AND(OR(G320=\"B\",G320=\"C\"),I320=\"XPS\",Eingabeliste!AC320>100),1,0))","v":0}]
[{"$f":"IF(Eingabeliste!A321=\"\",0,1)","v":0},{"$f":"Eingabeliste!B321","v":0},{"$f":"IFERROR(ROUND(Eingabeliste!J321/(COS((Eingabeliste!K321*PI())/180))-(SIN((Eingabeliste!K321*PI())/180)*2)+(Eingabeliste!M321-2.74)+IF(Eingabeliste!L321=0,0,Eingabeliste!L321-2.74)+IF(Eingabeliste!N321=Daten!N$6,0,12-1.86),1),\"\")","v":""},{"$f":"IF(OR(B321=0,Eingabeliste!E321=\"\"),0,MAX(Eingabeliste!E321,1000)*B321)","v":0},{"$f":"IFERROR((ROUNDUP(Eingabeliste!E321/Daten!$K$15,0)-1)*B321,\"\")","v":""},{"$f":"IF(Eingabeliste!N321=\"Pulverbesch.\",Daten!$D$1,Eingabeliste!N321)","v":""},{"$f":"Eingabeliste!AB321","v":""},{"$f":"Eingabeliste!AC321","v":""},{"$f":"Eingabeliste!AA321","v":""},{"$f":"Eingabeliste!I321","v":""},{"$f":"Eingabeliste!G321","v":""},{"$f":"Eingabeliste!H321","v":""},null,null,null,null,null,null,null,null,{"$f":"IF(OR(Eingabeliste!O321=\"Flexila PU\",Eingabeliste!O321=\"Flexila STB\"),Eingabeliste!B321,0)+IF(OR(Eingabeliste!S321=\"Flexila PU\",Eingabeliste!S321=\"Flexila STB\"),Eingabeliste!B321,0)","v":0},null,null,null,null,null,null,null,null,null,null,null,null,null,null,null,null,null,null,null,null,null,null,null,null,0,null,null,null,{"$f":"IF(A321=0,0,IF(C321>$C$2,1,0)+IF(AND(Daten!$F$3=TRUE,Zusammenfassung!J321>Preise!$A$70),1,0)+IF(AND(G321=\"D\",K321>Preise!$A$54),1,0)+IF(AND(OR(G321=\"B\",G321=\"C\"),I321<>\"XPS\",AND(Eingabeliste!AC321>50,Daten!F$3=FALSE)),1,0)+IF(AND(OR(G321=\"B\",G321=\"C\"),I321=\"XPS\",Eingabeliste!AC321>100),1,0))","v":0}]
[{"$f":"IF(Eingabeliste!A322=\"\",0,1)","v":0},{"$f":"Eingabeliste!B322","v":0},{"$f":"IFERROR(ROUND(Eingabeliste!J322/(COS((Eingabeliste!K322*PI())/180))-(SIN((Eingabeliste!K322*PI())/180)*2)+(Eingabeliste!M322-2.74)+IF(Eingabeliste!L322=0,0,Eingabeliste!L322-2.74)+IF(Eingabeliste!N322=Daten!N$6,0,12-1.86),1),\"\")","v":""},{"$f":"IF(OR(B322=0,Eingabeliste!E322=\"\"),0,MAX(Eingabeliste!E322,1000)*B322)","v":0},{"$f":"IFERROR((ROUNDUP(Eingabeliste!E322/Daten!$K$15,0)-1)*B322,\"\")","v":""},{"$f":"IF(Eingabeliste!N322=\"Pulverbesch.\",Daten!$D$1,Eingabeliste!N322)","v":""},{"$f":"Eingabeliste!AB322","v":""},{"$f":"Eingabeliste!AC322","v":""},{"$f":"Eingabeliste!AA322","v":""},{"$f":"Eingabeliste!I322","v":""},{"$f":"Eingabeliste!G322","v":""},{"$f":"Eingabeliste!H322","v":""},null,null,null,null,null,null,null,null,{"$f":"IF(OR(Eingabeliste!O322=\"Flexila PU\",Eingabeliste!O322=\"Flexila STB\"),Eingabeliste!B322,0)+IF(OR(Eingabeliste!S322=\"Flexila PU\",Eingabeliste!S322=\"Flexila STB\"),Eingabeliste!B322,0)","v":0},null,null,null,null,null,null,null,null,null,null,null,null,null,null,null,null,null,null,null,null,null,null,null,null,0,null,null,null,{"$f":"IF(A322=0,0,IF(C322>$C$2,1,0)+IF(AND(Daten!$F$3=TRUE,Zusammenfassung!J322>Preise!$A$70),1,0)+IF(AND(G322=\"D\",K322>Preise!$A$54),1,0)+IF(AND(OR(G322=\"B\",G322=\"C\"),I322<>\"XPS\",AND(Eingabeliste!AC322>50,Daten!F$3=FALSE)),1,0)+IF(AND(OR(G322=\"B\",G322=\"C\"),I322=\"XPS\",Eingabeliste!AC322>100),1,0))","v":0}]
[{"$f":"IF(Eingabeliste!A323=\"\",0,1)","v":0},{"$f":"Eingabeliste!B323","v":0},{"$f":"IFERROR(ROUND(Eingabeliste!J323/(COS((Eingabeliste!K323*PI())/180))-(SIN((Eingabeliste!K323*PI())/180)*2)+(Eingabeliste!M323-2.74)+IF(Eingabeliste!L323=0,0,Eingabeliste!L323-2.74)+IF(Eingabeliste!N323=Daten!N$6,0,12-1.86),1),\"\")","v":""},{"$f":"IF(OR(B323=0,Eingabeliste!E323=\"\"),0,MAX(Eingabeliste!E323,1000)*B323)","v":0},{"$f":"IFERROR((ROUNDUP(Eingabeliste!E323/Daten!$K$15,0)-1)*B323,\"\")","v":""},{"$f":"IF(Eingabeliste!N323=\"Pulverbesch.\",Daten!$D$1,Eingabeliste!N323)","v":""},{"$f":"Eingabeliste!AB323","v":""},{"$f":"Eingabeliste!AC323","v":""},{"$f":"Eingabeliste!AA323","v":""},{"$f":"Eingabeliste!I323","v":""},{"$f":"Eingabeliste!G323","v":""},{"$f":"Eingabeliste!H323","v":""},null,null,null,null,null,null,null,null,{"$f":"IF(OR(Eingabeliste!O323=\"Flexila PU\",Eingabeliste!O323=\"Flexila STB\"),Eingabeliste!B323,0)+IF(OR(Eingabeliste!S323=\"Flexila PU\",Eingabeliste!S323=\"Flexila STB\"),Eingabeliste!B323,0)","v":0},null,null,null,null,null,null,null,null,null,null,null,null,null,null,null,null,null,null,null,null,null,null,null,null,0,null,null,null,{"$f":"IF(A323=0,0,IF(C323>$C$2,1,0)+IF(AND(Daten!$F$3=TRUE,Zusammenfassung!J323>Preise!$A$70),1,0)+IF(AND(G323=\"D\",K323>Preise!$A$54),1,0)+IF(AND(OR(G323=\"B\",G323=\"C\"),I323<>\"XPS\",AND(Eingabeliste!AC323>50,Daten!F$3=FALSE)),1,0)+IF(AND(OR(G323=\"B\",G323=\"C\"),I323=\"XPS\",Eingabeliste!AC323>100),1,0))","v":0}]
[{"$f":"IF(Eingabeliste!A324=\"\",0,1)","v":0},{"$f":"Eingabeliste!B324","v":0},{"$f":"IFERROR(ROUND(Eingabeliste!J324/(COS((Eingabeliste!K324*PI())/180))-(SIN((Eingabeliste!K324*PI())/180)*2)+(Eingabeliste!M324-2.74)+IF(Eingabeliste!L324=0,0,Eingabeliste!L324-2.74)+IF(Eingabeliste!N324=Daten!N$6,0,12-1.86),1),\"\")","v":""},{"$f":"IF(OR(B324=0,Eingabeliste!E324=\"\"),0,MAX(Eingabeliste!E324,1000)*B324)","v":0},{"$f":"IFERROR((ROUNDUP(Eingabeliste!E324/Daten!$K$15,0)-1)*B324,\"\")","v":""},{"$f":"IF(Eingabeliste!N324=\"Pulverbesch.\",Daten!$D$1,Eingabeliste!N324)","v":""},{"$f":"Eingabeliste!AB324","v":""},{"$f":"Eingabeliste!AC324","v":""},{"$f":"Eingabeliste!AA324","v":""},{"$f":"Eingabeliste!I324","v":""},{"$f":"Eingabeliste!G324","v":""},{"$f":"Eingabeliste!H324","v":""},null,null,null,null,null,null,null,null,{"$f":"IF(OR(Eingabeliste!O324=\"Flexila PU\",Eingabeliste!O324=\"Flexila STB\"),Eingabeliste!B324,0)+IF(OR(Eingabeliste!S324=\"Flexila PU\",Eingabeliste!S324=\"Flexila STB\"),Eingabeliste!B324,0)","v":0},null,null,null,null,null,null,null,null,null,null,null,null,null,null,null,null,null,null,null,null,null,null,null,null,0,null,null,null,{"$f":"IF(A324=0,0,IF(C324>$C$2,1,0)+IF(AND(Daten!$F$3=TRUE,Zusammenfassung!J324>Preise!$A$70),1,0)+IF(AND(G324=\"D\",K324>Preise!$A$54),1,0)+IF(AND(OR(G324=\"B\",G324=\"C\"),I324<>\"XPS\",AND(Eingabeliste!AC324>50,Daten!F$3=FALSE)),1,0)+IF(AND(OR(G324=\"B\",G324=\"C\"),I324=\"XPS\",Eingabeliste!AC324>100),1,0))","v":0}]
[{"$f":"IF(Eingabeliste!A325=\"\",0,1)","v":0},{"$f":"Eingabeliste!B325","v":0},{"$f":"IFERROR(ROUND(Eingabeliste!J325/(COS((Eingabeliste!K325*PI())/180))-(SIN((Eingabeliste!K325*PI())/180)*2)+(Eingabeliste!M325-2.74)+IF(Eingabeliste!L325=0,0,Eingabeliste!L325-2.74)+IF(Eingabeliste!N325=Daten!N$6,0,12-1.86),1),\"\")","v":""},{"$f":"IF(OR(B325=0,Eingabeliste!E325=\"\"),0,MAX(Eingabeliste!E325,1000)*B325)","v":0},{"$f":"IFERROR((ROUNDUP(Eingabeliste!E325/Daten!$K$15,0)-1)*B325,\"\")","v":""},{"$f":"IF(Eingabeliste!N325=\"Pulverbesch.\",Daten!$D$1,Eingabeliste!N325)","v":""},{"$f":"Eingabeliste!AB325","v":""},{"$f":"Eingabeliste!AC325","v":""},{"$f":"Eingabeliste!AA325","v":""},{"$f":"Eingabeliste!I325","v":""},{"$f":"Eingabeliste!G325","v":""},{"$f":"Eingabeliste!H325","v":""},null,null,null,null,null,null,null,null,{"$f":"IF(OR(Eingabeliste!O325=\"Flexila PU\",Eingabeliste!O325=\"Flexila STB\"),Eingabeliste!B325,0)+IF(OR(Eingabeliste!S325=\"Flexila PU\",Eingabeliste!S325=\"Flexila STB\"),Eingabeliste!B325,0)","v":0},null,null,null,null,null,null,null,null,null,null,null,null,null,null,null,null,null,null,null,null,null,null,null,null,0,null,null,null,{"$f":"IF(A325=0,0,IF(C325>$C$2,1,0)+IF(AND(Daten!$F$3=TRUE,Zusammenfassung!J325>Preise!$A$70),1,0)+IF(AND(G325=\"D\",K325>Preise!$A$54),1,0)+IF(AND(OR(G325=\"B\",G325=\"C\"),I325<>\"XPS\",AND(Eingabeliste!AC325>50,Daten!F$3=FALSE)),1,0)+IF(AND(OR(G325=\"B\",G325=\"C\"),I325=\"XPS\",Eingabeliste!AC325>100),1,0))","v":0}]
[{"$f":"IF(Eingabeliste!A326=\"\",0,1)","v":0},{"$f":"Eingabeliste!B326","v":0},{"$f":"IFERROR(ROUND(Eingabeliste!J326/(COS((Eingabeliste!K326*PI())/180))-(SIN((Eingabeliste!K326*PI())/180)*2)+(Eingabeliste!M326-2.74)+IF(Eingabeliste!L326=0,0,Eingabeliste!L326-2.74)+IF(Eingabeliste!N326=Daten!N$6,0,12-1.86),1),\"\")","v":""},{"$f":"IF(OR(B326=0,Eingabeliste!E326=\"\"),0,MAX(Eingabeliste!E326,1000)*B326)","v":0},{"$f":"IFERROR((ROUNDUP(Eingabeliste!E326/Daten!$K$15,0)-1)*B326,\"\")","v":""},{"$f":"IF(Eingabeliste!N326=\"Pulverbesch.\",Daten!$D$1,Eingabeliste!N326)","v":""},{"$f":"Eingabeliste!AB326","v":""},{"$f":"Eingabeliste!AC326","v":""},{"$f":"Eingabeliste!AA326","v":""},{"$f":"Eingabeliste!I326","v":""},{"$f":"Eingabeliste!G326","v":""},{"$f":"Eingabeliste!H326","v":""},null,null,null,null,null,null,null,null,{"$f":"IF(OR(Eingabeliste!O326=\"Flexila PU\",Eingabeliste!O326=\"Flexila STB\"),Eingabeliste!B326,0)+IF(OR(Eingabeliste!S326=\"Flexila PU\",Eingabeliste!S326=\"Flexila STB\"),Eingabeliste!B326,0)","v":0},null,null,null,null,null,null,null,null,null,null,null,null,null,null,null,null,null,null,null,null,null,null,null,null,{"$f":"IF(B326=0,0,ROUNDUP(D326/800,0)+1)","v":0},null,null,null,{"$f":"IF(A326=0,0,IF(C326>$C$2,1,0)+IF(AND(Daten!$F$3=TRUE,Zusammenfassung!J326>Preise!$A$70),1,0)+IF(AND(G326=\"D\",K326>Preise!$A$54),1,0)+IF(AND(OR(G326=\"B\",G326=\"C\"),I326<>\"XPS\",AND(Eingabeliste!AC326>50,Daten!F$3=FALSE)),1,0)+IF(AND(OR(G326=\"B\",G326=\"C\"),I326=\"XPS\",Eingabeliste!AC326>100),1,0))","v":0}]
[{"$f":"IF(Eingabeliste!A327=\"\",0,1)","v":0},{"$f":"Eingabeliste!B327","v":0},{"$f":"IFERROR(ROUND(Eingabeliste!J327/(COS((Eingabeliste!K327*PI())/180))-(SIN((Eingabeliste!K327*PI())/180)*2)+(Eingabeliste!M327-2.74)+IF(Eingabeliste!L327=0,0,Eingabeliste!L327-2.74)+IF(Eingabeliste!N327=Daten!N$6,0,12-1.86),1),\"\")","v":""},{"$f":"IF(OR(B327=0,Eingabeliste!E327=\"\"),0,MAX(Eingabeliste!E327,1000)*B327)","v":0},{"$f":"IFERROR((ROUNDUP(Eingabeliste!E327/Daten!$K$15,0)-1)*B327,\"\")","v":""},{"$f":"IF(Eingabeliste!N327=\"Pulverbesch.\",Daten!$D$1,Eingabeliste!N327)","v":""},{"$f":"Eingabeliste!AB327","v":""},{"$f":"Eingabeliste!AC327","v":""},{"$f":"Eingabeliste!AA327","v":""},{"$f":"Eingabeliste!I327","v":""},{"$f":"Eingabeliste!G327","v":""},{"$f":"Eingabeliste!H327","v":""},null,null,null,null,null,null,null,null,{"$f":"IF(OR(Eingabeliste!O327=\"Flexila PU\",Eingabeliste!O327=\"Flexila STB\"),Eingabeliste!B327,0)+IF(OR(Eingabeliste!S327=\"Flexila PU\",Eingabeliste!S327=\"Flexila STB\"),Eingabeliste!B327,0)","v":0},null,null,null,null,null,null,null,null,null,null,null,null,null,null,null,null,null,null,null,null,null,null,null,null,0,null,null,null,{"$f":"IF(A327=0,0,IF(C327>$C$2,1,0)+IF(AND(Daten!$F$3=TRUE,Zusammenfassung!J327>Preise!$A$70),1,0)+IF(AND(G327=\"D\",K327>Preise!$A$54),1,0)+IF(AND(OR(G327=\"B\",G327=\"C\"),I327<>\"XPS\",AND(Eingabeliste!AC327>50,Daten!F$3=FALSE)),1,0)+IF(AND(OR(G327=\"B\",G327=\"C\"),I327=\"XPS\",Eingabeliste!AC327>100),1,0))","v":0}]
[{"$f":"IF(Eingabeliste!A328=\"\",0,1)","v":0},{"$f":"Eingabeliste!B328","v":0},{"$f":"IFERROR(ROUND(Eingabeliste!J328/(COS((Eingabeliste!K328*PI())/180))-(SIN((Eingabeliste!K328*PI())/180)*2)+(Eingabeliste!M328-2.74)+IF(Eingabeliste!L328=0,0,Eingabeliste!L328-2.74)+IF(Eingabeliste!N328=Daten!N$6,0,12-1.86),1),\"\")","v":""},{"$f":"IF(OR(B328=0,Eingabeliste!E328=\"\"),0,MAX(Eingabeliste!E328,1000)*B328)","v":0},{"$f":"IFERROR((ROUNDUP(Eingabeliste!E328/Daten!$K$15,0)-1)*B328,\"\")","v":""},{"$f":"IF(Eingabeliste!N328=\"Pulverbesch.\",Daten!$D$1,Eingabeliste!N328)","v":""},{"$f":"Eingabeliste!AB328","v":""},{"$f":"Eingabeliste!AC328","v":""},{"$f":"Eingabeliste!AA328","v":""},{"$f":"Eingabeliste!I328","v":""},{"$f":"Eingabeliste!G328","v":""},{"$f":"Eingabeliste!H328","v":""},null,null,null,null,null,null,null,null,{"$f":"IF(OR(Eingabeliste!O328=\"Flexila PU\",Eingabeliste!O328=\"Flexila STB\"),Eingabeliste!B328,0)+IF(OR(Eingabeliste!S328=\"Flexila PU\",Eingabeliste!S328=\"Flexila STB\"),Eingabeliste!B328,0)","v":0},null,null,null,null,null,null,null,null,null,null,null,null,null,null,null,null,null,null,null,null,null,null,null,null,0,null,null,null,{"$f":"IF(A328=0,0,IF(C328>$C$2,1,0)+IF(AND(Daten!$F$3=TRUE,Zusammenfassung!J328>Preise!$A$70),1,0)+IF(AND(G328=\"D\",K328>Preise!$A$54),1,0)+IF(AND(OR(G328=\"B\",G328=\"C\"),I328<>\"XPS\",AND(Eingabeliste!AC328>50,Daten!F$3=FALSE)),1,0)+IF(AND(OR(G328=\"B\",G328=\"C\"),I328=\"XPS\",Eingabeliste!AC328>100),1,0))","v":0}]
[{"$f":"IF(Eingabeliste!A329=\"\",0,1)","v":0},{"$f":"Eingabeliste!B329","v":0},{"$f":"IFERROR(ROUND(Eingabeliste!J329/(COS((Eingabeliste!K329*PI())/180))-(SIN((Eingabeliste!K329*PI())/180)*2)+(Eingabeliste!M329-2.74)+IF(Eingabeliste!L329=0,0,Eingabeliste!L329-2.74)+IF(Eingabeliste!N329=Daten!N$6,0,12-1.86),1),\"\")","v":""},{"$f":"IF(OR(B329=0,Eingabeliste!E329=\"\"),0,MAX(Eingabeliste!E329,1000)*B329)","v":0},{"$f":"IFERROR((ROUNDUP(Eingabeliste!E329/Daten!$K$15,0)-1)*B329,\"\")","v":""},{"$f":"IF(Eingabeliste!N329=\"Pulverbesch.\",Daten!$D$1,Eingabeliste!N329)","v":""},{"$f":"Eingabeliste!AB329","v":""},{"$f":"Eingabeliste!AC329","v":""},{"$f":"Eingabeliste!AA329","v":""},{"$f":"Eingabeliste!I329","v":""},{"$f":"Eingabeliste!G329","v":""},{"$f":"Eingabeliste!H329","v":""},null,null,null,null,null,null,null,null,{"$f":"IF(OR(Eingabeliste!O329=\"Flexila PU\",Eingabeliste!O329=\"Flexila STB\"),Eingabeliste!B329,0)+IF(OR(Eingabeliste!S329=\"Flexila PU\",Eingabeliste!S329=\"Flexila STB\"),Eingabeliste!B329,0)","v":0},null,null,null,null,null,null,null,null,null,null,null,null,null,null,null,null,null,null,null,null,null,null,null,null,0,null,null,null,{"$f":"IF(A329=0,0,IF(C329>$C$2,1,0)+IF(AND(Daten!$F$3=TRUE,Zusammenfassung!J329>Preise!$A$70),1,0)+IF(AND(G329=\"D\",K329>Preise!$A$54),1,0)+IF(AND(OR(G329=\"B\",G329=\"C\"),I329<>\"XPS\",AND(Eingabeliste!AC329>50,Daten!F$3=FALSE)),1,0)+IF(AND(OR(G329=\"B\",G329=\"C\"),I329=\"XPS\",Eingabeliste!AC329>100),1,0))","v":0}]
[{"$f":"IF(Eingabeliste!A330=\"\",0,1)","v":0},{"$f":"Eingabeliste!B330","v":0},{"$f":"IFERROR(ROUND(Eingabeliste!J330/(COS((Eingabeliste!K330*PI())/180))-(SIN((Eingabeliste!K330*PI())/180)*2)+(Eingabeliste!M330-2.74)+IF(Eingabeliste!L330=0,0,Eingabeliste!L330-2.74)+IF(Eingabeliste!N330=Daten!N$6,0,12-1.86),1),\"\")","v":""},{"$f":"IF(OR(B330=0,Eingabeliste!E330=\"\"),0,MAX(Eingabeliste!E330,1000)*B330)","v":0},{"$f":"IFERROR((ROUNDUP(Eingabeliste!E330/Daten!$K$15,0)-1)*B330,\"\")","v":""},{"$f":"IF(Eingabeliste!N330=\"Pulverbesch.\",Daten!$D$1,Eingabeliste!N330)","v":""},{"$f":"Eingabeliste!AB330","v":""},{"$f":"Eingabeliste!AC330","v":""},{"$f":"Eingabeliste!AA330","v":""},{"$f":"Eingabeliste!I330","v":""},{"$f":"Eingabeliste!G330","v":""},{"$f":"Eingabeliste!H330","v":""},null,null,null,null,null,null,null,null,{"$f":"IF(OR(Eingabeliste!O330=\"Flexila PU\",Eingabeliste!O330=\"Flexila STB\"),Eingabeliste!B330,0)+IF(OR(Eingabeliste!S330=\"Flexila PU\",Eingabeliste!S330=\"Flexila STB\"),Eingabeliste!B330,0)","v":0},null,null,null,null,null,null,null,null,null,null,null,null,null,null,null,null,null,null,null,null,null,null,null,null,0,null,null,null,{"$f":"IF(A330=0,0,IF(C330>$C$2,1,0)+IF(AND(Daten!$F$3=TRUE,Zusammenfassung!J330>Preise!$A$70),1,0)+IF(AND(G330=\"D\",K330>Preise!$A$54),1,0)+IF(AND(OR(G330=\"B\",G330=\"C\"),I330<>\"XPS\",AND(Eingabeliste!AC330>50,Daten!F$3=FALSE)),1,0)+IF(AND(OR(G330=\"B\",G330=\"C\"),I330=\"XPS\",Eingabeliste!AC330>100),1,0))","v":0}]
[{"$f":"IF(Eingabeliste!A331=\"\",0,1)","v":0},{"$f":"Eingabeliste!B331","v":0},{"$f":"IFERROR(ROUND(Eingabeliste!J331/(COS((Eingabeliste!K331*PI())/180))-(SIN((Eingabeliste!K331*PI())/180)*2)+(Eingabeliste!M331-2.74)+IF(Eingabeliste!L331=0,0,Eingabeliste!L331-2.74)+IF(Eingabeliste!N331=Daten!N$6,0,12-1.86),1),\"\")","v":""},{"$f":"IF(OR(B331=0,Eingabeliste!E331=\"\"),0,MAX(Eingabeliste!E331,1000)*B331)","v":0},{"$f":"IFERROR((ROUNDUP(Eingabeliste!E331/Daten!$K$15,0)-1)*B331,\"\")","v":""},{"$f":"IF(Eingabeliste!N331=\"Pulverbesch.\",Daten!$D$1,Eingabeliste!N331)","v":""},{"$f":"Eingabeliste!AB331","v":""},{"$f":"Eingabeliste!AC331","v":""},{"$f":"Eingabeliste!AA331","v":""},{"$f":"Eingabeliste!I331","v":""},{"$f":"Eingabeliste!G331","v":""},{"$f":"Eingabeliste!H331","v":""},null,null,null,null,null,null,null,null,{"$f":"IF(OR(Eingabeliste!O331=\"Flexila PU\",Eingabeliste!O331=\"Flexila STB\"),Eingabeliste!B331,0)+IF(OR(Eingabeliste!S331=\"Flexila PU\",Eingabeliste!S331=\"Flexila STB\"),Eingabeliste!B331,0)","v":0},null,null,null,null,null,null,null,null,null,null,null,null,null,null,null,null,null,null,null,null,null,null,null,null,0,null,null,null,{"$f":"IF(A331=0,0,IF(C331>$C$2,1,0)+IF(AND(Daten!$F$3=TRUE,Zusammenfassung!J331>Preise!$A$70),1,0)+IF(AND(G331=\"D\",K331>Preise!$A$54),1,0)+IF(AND(OR(G331=\"B\",G331=\"C\"),I331<>\"XPS\",AND(Eingabeliste!AC331>50,Daten!F$3=FALSE)),1,0)+IF(AND(OR(G331=\"B\",G331=\"C\"),I331=\"XPS\",Eingabeliste!AC331>100),1,0))","v":0}]
[{"$f":"IF(Eingabeliste!A332=\"\",0,1)","v":0},{"$f":"Eingabeliste!B332","v":0},{"$f":"IFERROR(ROUND(Eingabeliste!J332/(COS((Eingabeliste!K332*PI())/180))-(SIN((Eingabeliste!K332*PI())/180)*2)+(Eingabeliste!M332-2.74)+IF(Eingabeliste!L332=0,0,Eingabeliste!L332-2.74)+IF(Eingabeliste!N332=Daten!N$6,0,12-1.86),1),\"\")","v":""},{"$f":"IF(OR(B332=0,Eingabeliste!E332=\"\"),0,MAX(Eingabeliste!E332,1000)*B332)","v":0},{"$f":"IFERROR((ROUNDUP(Eingabeliste!E332/Daten!$K$15,0)-1)*B332,\"\")","v":""},{"$f":"IF(Eingabeliste!N332=\"Pulverbesch.\",Daten!$D$1,Eingabeliste!N332)","v":""},{"$f":"Eingabeliste!AB332","v":""},{"$f":"Eingabeliste!AC332","v":""},{"$f":"Eingabeliste!AA332","v":""},{"$f":"Eingabeliste!I332","v":""},{"$f":"Eingabeliste!G332","v":""},{"$f":"Eingabeliste!H332","v":""},null,null,null,null,null,null,null,null,{"$f":"IF(OR(Eingabeliste!O332=\"Flexila PU\",Eingabeliste!O332=\"Flexila STB\"),Eingabeliste!B332,0)+IF(OR(Eingabeliste!S332=\"Flexila PU\",Eingabeliste!S332=\"Flexila STB\"),Eingabeliste!B332,0)","v":0},null,null,null,null,null,null,null,null,null,null,null,null,null,null,null,null,null,null,null,null,null,null,null,null,0,null,null,null,{"$f":"IF(A332=0,0,IF(C332>$C$2,1,0)+IF(AND(Daten!$F$3=TRUE,Zusammenfassung!J332>Preise!$A$70),1,0)+IF(AND(G332=\"D\",K332>Preise!$A$54),1,0)+IF(AND(OR(G332=\"B\",G332=\"C\"),I332<>\"XPS\",AND(Eingabeliste!AC332>50,Daten!F$3=FALSE)),1,0)+IF(AND(OR(G332=\"B\",G332=\"C\"),I332=\"XPS\",Eingabeliste!AC332>100),1,0))","v":0}]
[{"$f":"IF(Eingabeliste!A333=\"\",0,1)","v":0},{"$f":"Eingabeliste!B333","v":0},{"$f":"IFERROR(ROUND(Eingabeliste!J333/(COS((Eingabeliste!K333*PI())/180))-(SIN((Eingabeliste!K333*PI())/180)*2)+(Eingabeliste!M333-2.74)+IF(Eingabeliste!L333=0,0,Eingabeliste!L333-2.74)+IF(Eingabeliste!N333=Daten!N$6,0,12-1.86),1),\"\")","v":""},{"$f":"IF(OR(B333=0,Eingabeliste!E333=\"\"),0,MAX(Eingabeliste!E333,1000)*B333)","v":0},{"$f":"IFERROR((ROUNDUP(Eingabeliste!E333/Daten!$K$15,0)-1)*B333,\"\")","v":""},{"$f":"IF(Eingabeliste!N333=\"Pulverbesch.\",Daten!$D$1,Eingabeliste!N333)","v":""},{"$f":"Eingabeliste!AB333","v":""},{"$f":"Eingabeliste!AC333","v":""},{"$f":"Eingabeliste!AA333","v":""},{"$f":"Eingabeliste!I333","v":""},{"$f":"Eingabeliste!G333","v":""},{"$f":"Eingabeliste!H333","v":""},null,null,null,null,null,null,null,null,{"$f":"IF(OR(Eingabeliste!O333=\"Flexila PU\",Eingabeliste!O333=\"Flexila STB\"),Eingabeliste!B333,0)+IF(OR(Eingabeliste!S333=\"Flexila PU\",Eingabeliste!S333=\"Flexila STB\"),Eingabeliste!B333,0)","v":0},null,null,null,null,null,null,null,null,null,null,null,null,null,null,null,null,null,null,null,null,null,null,null,null,0,null,null,null,{"$f":"IF(A333=0,0,IF(C333>$C$2,1,0)+IF(AND(Daten!$F$3=TRUE,Zusammenfassung!J333>Preise!$A$70),1,0)+IF(AND(G333=\"D\",K333>Preise!$A$54),1,0)+IF(AND(OR(G333=\"B\",G333=\"C\"),I333<>\"XPS\",AND(Eingabeliste!AC333>50,Daten!F$3=FALSE)),1,0)+IF(AND(OR(G333=\"B\",G333=\"C\"),I333=\"XPS\",Eingabeliste!AC333>100),1,0))","v":0}]
[{"$f":"IF(Eingabeliste!A334=\"\",0,1)","v":0},{"$f":"Eingabeliste!B334","v":0},{"$f":"IFERROR(ROUND(Eingabeliste!J334/(COS((Eingabeliste!K334*PI())/180))-(SIN((Eingabeliste!K334*PI())/180)*2)+(Eingabeliste!M334-2.74)+IF(Eingabeliste!L334=0,0,Eingabeliste!L334-2.74)+IF(Eingabeliste!N334=Daten!N$6,0,12-1.86),1),\"\")","v":""},{"$f":"IF(OR(B334=0,Eingabeliste!E334=\"\"),0,MAX(Eingabeliste!E334,1000)*B334)","v":0},{"$f":"IFERROR((ROUNDUP(Eingabeliste!E334/Daten!$K$15,0)-1)*B334,\"\")","v":""},{"$f":"IF(Eingabeliste!N334=\"Pulverbesch.\",Daten!$D$1,Eingabeliste!N334)","v":""},{"$f":"Eingabeliste!AB334","v":""},{"$f":"Eingabeliste!AC334","v":""},{"$f":"Eingabeliste!AA334","v":""},{"$f":"Eingabeliste!I334","v":""},{"$f":"Eingabeliste!G334","v":""},{"$f":"Eingabeliste!H334","v":""},null,null,null,null,null,null,null,null,{"$f":"IF(OR(Eingabeliste!O334=\"Flexila PU\",Eingabeliste!O334=\"Flexila STB\"),Eingabeliste!B334,0)+IF(OR(Eingabeliste!S334=\"Flexila PU\",Eingabeliste!S334=\"Flexila STB\"),Eingabeliste!B334,0)","v":0},null,null,null,null,null,null,null,null,null,null,null,null,null,null,null,null,null,null,null,null,null,null,null,null,0,null,null,null,{"$f":"IF(A334=0,0,IF(C334>$C$2,1,0)+IF(AND(Daten!$F$3=TRUE,Zusammenfassung!J334>Preise!$A$70),1,0)+IF(AND(G334=\"D\",K334>Preise!$A$54),1,0)+IF(AND(OR(G334=\"B\",G334=\"C\"),I334<>\"XPS\",AND(Eingabeliste!AC334>50,Daten!F$3=FALSE)),1,0)+IF(AND(OR(G334=\"B\",G334=\"C\"),I334=\"XPS\",Eingabeliste!AC334>100),1,0))","v":0}]
[{"$f":"IF(Eingabeliste!A335=\"\",0,1)","v":0},{"$f":"Eingabeliste!B335","v":0},{"$f":"IFERROR(ROUND(Eingabeliste!J335/(COS((Eingabeliste!K335*PI())/180))-(SIN((Eingabeliste!K335*PI())/180)*2)+(Eingabeliste!M335-2.74)+IF(Eingabeliste!L335=0,0,Eingabeliste!L335-2.74)+IF(Eingabeliste!N335=Daten!N$6,0,12-1.86),1),\"\")","v":""},{"$f":"IF(OR(B335=0,Eingabeliste!E335=\"\"),0,MAX(Eingabeliste!E335,1000)*B335)","v":0},{"$f":"IFERROR((ROUNDUP(Eingabeliste!E335/Daten!$K$15,0)-1)*B335,\"\")","v":""},{"$f":"IF(Eingabeliste!N335=\"Pulverbesch.\",Daten!$D$1,Eingabeliste!N335)","v":""},{"$f":"Eingabeliste!AB335","v":""},{"$f":"Eingabeliste!AC335","v":""},{"$f":"Eingabeliste!AA335","v":""},{"$f":"Eingabeliste!I335","v":""},{"$f":"Eingabeliste!G335","v":""},{"$f":"Eingabeliste!H335","v":""},null,null,null,null,null,null,null,null,{"$f":"IF(OR(Eingabeliste!O335=\"Flexila PU\",Eingabeliste!O335=\"Flexila STB\"),Eingabeliste!B335,0)+IF(OR(Eingabeliste!S335=\"Flexila PU\",Eingabeliste!S335=\"Flexila STB\"),Eingabeliste!B335,0)","v":0},null,null,null,null,null,null,null,null,null,null,null,null,null,null,null,null,null,null,null,null,null,null,null,null,0,null,null,null,{"$f":"IF(A335=0,0,IF(C335>$C$2,1,0)+IF(AND(Daten!$F$3=TRUE,Zusammenfassung!J335>Preise!$A$70),1,0)+IF(AND(G335=\"D\",K335>Preise!$A$54),1,0)+IF(AND(OR(G335=\"B\",G335=\"C\"),I335<>\"XPS\",AND(Eingabeliste!AC335>50,Daten!F$3=FALSE)),1,0)+IF(AND(OR(G335=\"B\",G335=\"C\"),I335=\"XPS\",Eingabeliste!AC335>100),1,0))","v":0}]
[{"$f":"IF(Eingabeliste!A336=\"\",0,1)","v":0},{"$f":"Eingabeliste!B336","v":0},{"$f":"IFERROR(ROUND(Eingabeliste!J336/(COS((Eingabeliste!K336*PI())/180))-(SIN((Eingabeliste!K336*PI())/180)*2)+(Eingabeliste!M336-2.74)+IF(Eingabeliste!L336=0,0,Eingabeliste!L336-2.74)+IF(Eingabeliste!N336=Daten!N$6,0,12-1.86),1),\"\")","v":""},{"$f":"IF(OR(B336=0,Eingabeliste!E336=\"\"),0,MAX(Eingabeliste!E336,1000)*B336)","v":0},{"$f":"IFERROR((ROUNDUP(Eingabeliste!E336/Daten!$K$15,0)-1)*B336,\"\")","v":""},{"$f":"IF(Eingabeliste!N336=\"Pulverbesch.\",Daten!$D$1,Eingabeliste!N336)","v":""},{"$f":"Eingabeliste!AB336","v":""},{"$f":"Eingabeliste!AC336","v":""},{"$f":"Eingabeliste!AA336","v":""},{"$f":"Eingabeliste!I336","v":""},{"$f":"Eingabeliste!G336","v":""},{"$f":"Eingabeliste!H336","v":""},null,null,null,null,null,null,null,null,{"$f":"IF(OR(Eingabeliste!O336=\"Flexila PU\",Eingabeliste!O336=\"Flexila STB\"),Eingabeliste!B336,0)+IF(OR(Eingabeliste!S336=\"Flexila PU\",Eingabeliste!S336=\"Flexila STB\"),Eingabeliste!B336,0)","v":0},null,null,null,null,null,null,null,null,null,null,null,null,null,null,null,null,null,null,null,null,null,null,null,null,0,null,null,null,{"$f":"IF(A336=0,0,IF(C336>$C$2,1,0)+IF(AND(Daten!$F$3=TRUE,Zusammenfassung!J336>Preise!$A$70),1,0)+IF(AND(G336=\"D\",K336>Preise!$A$54),1,0)+IF(AND(OR(G336=\"B\",G336=\"C\"),I336<>\"XPS\",AND(Eingabeliste!AC336>50,Daten!F$3=FALSE)),1,0)+IF(AND(OR(G336=\"B\",G336=\"C\"),I336=\"XPS\",Eingabeliste!AC336>100),1,0))","v":0}]
[{"$f":"IF(Eingabeliste!A337=\"\",0,1)","v":0},{"$f":"Eingabeliste!B337","v":0},{"$f":"IFERROR(ROUND(Eingabeliste!J337/(COS((Eingabeliste!K337*PI())/180))-(SIN((Eingabeliste!K337*PI())/180)*2)+(Eingabeliste!M337-2.74)+IF(Eingabeliste!L337=0,0,Eingabeliste!L337-2.74)+IF(Eingabeliste!N337=Daten!N$6,0,12-1.86),1),\"\")","v":""},{"$f":"IF(OR(B337=0,Eingabeliste!E337=\"\"),0,MAX(Eingabeliste!E337,1000)*B337)","v":0},{"$f":"IFERROR((ROUNDUP(Eingabeliste!E337/Daten!$K$15,0)-1)*B337,\"\")","v":""},{"$f":"IF(Eingabeliste!N337=\"Pulverbesch.\",Daten!$D$1,Eingabeliste!N337)","v":""},{"$f":"Eingabeliste!AB337","v":""},{"$f":"Eingabeliste!AC337","v":""},{"$f":"Eingabeliste!AA337","v":""},{"$f":"Eingabeliste!I337","v":""},{"$f":"Eingabeliste!G337","v":""},{"$f":"Eingabeliste!H337","v":""},null,null,null,null,null,null,null,null,{"$f":"IF(OR(Eingabeliste!O337=\"Flexila PU\",Eingabeliste!O337=\"Flexila STB\"),Eingabeliste!B337,0)+IF(OR(Eingabeliste!S337=\"Flexila PU\",Eingabeliste!S337=\"Flexila STB\"),Eingabeliste!B337,0)","v":0},null,null,null,null,null,null,null,null,null,null,null,null,null,null,null,null,null,null,null,null,null,null,null,null,0,null,null,null,{"$f":"IF(A337=0,0,IF(C337>$C$2,1,0)+IF(AND(Daten!$F$3=TRUE,Zusammenfassung!J337>Preise!$A$70),1,0)+IF(AND(G337=\"D\",K337>Preise!$A$54),1,0)+IF(AND(OR(G337=\"B\",G337=\"C\"),I337<>\"XPS\",AND(Eingabeliste!AC337>50,Daten!F$3=FALSE)),1,0)+IF(AND(OR(G337=\"B\",G337=\"C\"),I337=\"XPS\",Eingabeliste!AC337>100),1,0))","v":0}]
[{"$f":"IF(Eingabeliste!A338=\"\",0,1)","v":0},{"$f":"Eingabeliste!B338","v":0},{"$f":"IFERROR(ROUND(Eingabeliste!J338/(COS((Eingabeliste!K338*PI())/180))-(SIN((Eingabeliste!K338*PI())/180)*2)+(Eingabeliste!M338-2.74)+IF(Eingabeliste!L338=0,0,Eingabeliste!L338-2.74)+IF(Eingabeliste!N338=Daten!N$6,0,12-1.86),1),\"\")","v":""},{"$f":"IF(OR(B338=0,Eingabeliste!E338=\"\"),0,MAX(Eingabeliste!E338,1000)*B338)","v":0},{"$f":"IFERROR((ROUNDUP(Eingabeliste!E338/Daten!$K$15,0)-1)*B338,\"\")","v":""},{"$f":"IF(Eingabeliste!N338=\"Pulverbesch.\",Daten!$D$1,Eingabeliste!N338)","v":""},{"$f":"Eingabeliste!AB338","v":""},{"$f":"Eingabeliste!AC338","v":""},{"$f":"Eingabeliste!AA338","v":""},{"$f":"Eingabeliste!I338","v":""},{"$f":"Eingabeliste!G338","v":""},{"$f":"Eingabeliste!H338","v":""},null,null,null,null,null,null,null,null,{"$f":"IF(OR(Eingabeliste!O338=\"Flexila PU\",Eingabeliste!O338=\"Flexila STB\"),Eingabeliste!B338,0)+IF(OR(Eingabeliste!S338=\"Flexila PU\",Eingabeliste!S338=\"Flexila STB\"),Eingabeliste!B338,0)","v":0},null,null,null,null,null,null,null,null,null,null,null,null,null,null,null,null,null,null,null,null,null,null,null,null,0,null,null,null,{"$f":"IF(A338=0,0,IF(C338>$C$2,1,0)+IF(AND(Daten!$F$3=TRUE,Zusammenfassung!J338>Preise!$A$70),1,0)+IF(AND(G338=\"D\",K338>Preise!$A$54),1,0)+IF(AND(OR(G338=\"B\",G338=\"C\"),I338<>\"XPS\",AND(Eingabeliste!AC338>50,Daten!F$3=FALSE)),1,0)+IF(AND(OR(G338=\"B\",G338=\"C\"),I338=\"XPS\",Eingabeliste!AC338>100),1,0))","v":0}]
[{"$f":"IF(Eingabeliste!A339=\"\",0,1)","v":0},{"$f":"Eingabeliste!B339","v":0},{"$f":"IFERROR(ROUND(Eingabeliste!J339/(COS((Eingabeliste!K339*PI())/180))-(SIN((Eingabeliste!K339*PI())/180)*2)+(Eingabeliste!M339-2.74)+IF(Eingabeliste!L339=0,0,Eingabeliste!L339-2.74)+IF(Eingabeliste!N339=Daten!N$6,0,12-1.86),1),\"\")","v":""},{"$f":"IF(OR(B339=0,Eingabeliste!E339=\"\"),0,MAX(Eingabeliste!E339,1000)*B339)","v":0},{"$f":"IFERROR((ROUNDUP(Eingabeliste!E339/Daten!$K$15,0)-1)*B339,\"\")","v":""},{"$f":"IF(Eingabeliste!N339=\"Pulverbesch.\",Daten!$D$1,Eingabeliste!N339)","v":""},{"$f":"Eingabeliste!AB339","v":""},{"$f":"Eingabeliste!AC339","v":""},{"$f":"Eingabeliste!AA339","v":""},{"$f":"Eingabeliste!I339","v":""},{"$f":"Eingabeliste!G339","v":""},{"$f":"Eingabeliste!H339","v":""},null,null,null,null,null,null,null,null,{"$f":"IF(OR(Eingabeliste!O339=\"Flexila PU\",Eingabeliste!O339=\"Flexila STB\"),Eingabeliste!B339,0)+IF(OR(Eingabeliste!S339=\"Flexila PU\",Eingabeliste!S339=\"Flexila STB\"),Eingabeliste!B339,0)","v":0},null,null,null,null,null,null,null,null,null,null,null,null,null,null,null,null,null,null,null,null,null,null,null,null,0,null,null,null,{"$f":"IF(A339=0,0,IF(C339>$C$2,1,0)+IF(AND(Daten!$F$3=TRUE,Zusammenfassung!J339>Preise!$A$70),1,0)+IF(AND(G339=\"D\",K339>Preise!$A$54),1,0)+IF(AND(OR(G339=\"B\",G339=\"C\"),I339<>\"XPS\",AND(Eingabeliste!AC339>50,Daten!F$3=FALSE)),1,0)+IF(AND(OR(G339=\"B\",G339=\"C\"),I339=\"XPS\",Eingabeliste!AC339>100),1,0))","v":0}]
[{"$f":"IF(Eingabeliste!A340=\"\",0,1)","v":0},{"$f":"Eingabeliste!B340","v":0},{"$f":"IFERROR(ROUND(Eingabeliste!J340/(COS((Eingabeliste!K340*PI())/180))-(SIN((Eingabeliste!K340*PI())/180)*2)+(Eingabeliste!M340-2.74)+IF(Eingabeliste!L340=0,0,Eingabeliste!L340-2.74)+IF(Eingabeliste!N340=Daten!N$6,0,12-1.86),1),\"\")","v":""},{"$f":"IF(OR(B340=0,Eingabeliste!E340=\"\"),0,MAX(Eingabeliste!E340,1000)*B340)","v":0},{"$f":"IFERROR((ROUNDUP(Eingabeliste!E340/Daten!$K$15,0)-1)*B340,\"\")","v":""},{"$f":"IF(Eingabeliste!N340=\"Pulverbesch.\",Daten!$D$1,Eingabeliste!N340)","v":""},{"$f":"Eingabeliste!AB340","v":""},{"$f":"Eingabeliste!AC340","v":""},{"$f":"Eingabeliste!AA340","v":""},{"$f":"Eingabeliste!I340","v":""},{"$f":"Eingabeliste!G340","v":""},{"$f":"Eingabeliste!H340","v":""},null,null,null,null,null,null,null,null,{"$f":"IF(OR(Eingabeliste!O340=\"Flexila PU\",Eingabeliste!O340=\"Flexila STB\"),Eingabeliste!B340,0)+IF(OR(Eingabeliste!S340=\"Flexila PU\",Eingabeliste!S340=\"Flexila STB\"),Eingabeliste!B340,0)","v":0},null,null,null,null,null,null,null,null,null,null,null,null,null,null,null,null,null,null,null,null,null,null,null,null,0,null,null,null,{"$f":"IF(A340=0,0,IF(C340>$C$2,1,0)+IF(AND(Daten!$F$3=TRUE,Zusammenfassung!J340>Preise!$A$70),1,0)+IF(AND(G340=\"D\",K340>Preise!$A$54),1,0)+IF(AND(OR(G340=\"B\",G340=\"C\"),I340<>\"XPS\",AND(Eingabeliste!AC340>50,Daten!F$3=FALSE)),1,0)+IF(AND(OR(G340=\"B\",G340=\"C\"),I340=\"XPS\",Eingabeliste!AC340>100),1,0))","v":0}]

{"sheet":"Daten","index":2,"n_rows":24,"n_cols":31,"rows_kept":24,"cut":false,"hidden":true,"merged":[]}
["Offerte?","Bestellung","Oberfläche","Farblos eloxiert","Typ ISO","A","Dichtungsband lose",false,null,"Auswahl ISO","Ohne",null,"Auswahl Oberfläche","Farblos eloxiert","Alu elox","Abw.",null,null,null,null,null,null,null,null,null,null,null,null,null,null,0]
["Direkt",true,"Farbton","Farbton","Material ISO","Ohne","Dichtungsband lose",null,null,null,"EPS",null,{"$f":"IF(MID(D1,1,1)=\"P\",\"Pulverbesch.\",D1)","v":"Farblos eloxiert"},{"$f":"IF(MID(D1,1,1)=\"P\",\"Pulverbesch.\",\"Gerstenkorn roh\")","v":"Gerstenkorn roh"},{"$f":"IF(N2=\"Gerstenkorn roh\",\"Reiskorn\",\"Alu roh\")","v":"Reiskorn"},0]
["Ausmass",false,"Schutzfolie?",false,"SEC",false,"F-SEC",false,null,null,"EPS grau",null,null,{"$f":"IF(MID(D1,1,1)=\"P\",\"Gerstenkorn roh\",\"Riffelblech roh\")","v":"Riffelblech roh"},{"$f":"IF(N3=\"Riffelblech roh\",\"Riffelblech\",\"Gerstenkorn\")","v":"Riffelblech"},151]
["AD",200,"Alle gleich?",true,"SEC Aufd.",false,"Dichtungsband geklebt",false,null,null,"XPS",null,null,{"$f":"IF(MID(D1,1,1)=\"P\",\"Riffelblech roh\", \"\")","v":""},"Riffelblech",201]
["C","??","matt?",false,"Thermo-HS",false,"Flex 290",false,null,null,null,null,null,null,null,251]
["Überstand",45,"Anschluss seitlich","Stehbord","Steinwolle",false,"Flex 290",null,null,null,null,null,null,null,null,301]
["RS",10,"Alle gleich?",true,"Dämmhöhe B",50,"Flex 600",false,null,null,null,null,null,null,null,351]
["Express?",false,"Flexila?",false,"Überstand Li",50,"Flex 600",null,null,0,0.27,{"$f":"IF(AND(Preise!$AA$2>=Daten!J8,Preise!$AA$2<J9),K8,0)","v":0.27},"Ohne",null,null,401]
["Wunschtermin","??.??.??","Auflagewinkel?",false,"Übsterand Re",50,"PU 310",false,null,50,0.32,{"$f":"IF(AND(Preise!$AA$2>=Daten!J9,Preise!$AA$2<J10),K9,0)","v":0},"Boden",null,null,451]
[null,null,"geklinkt?",false,"Überstand Hi",5,"PU 310",null,null,100,0.35,{"$f":"IF(AND(Preise!$AA$2>=Daten!J10,Preise!$AA$2<J11),K10,0)","v":0},"Putzbord",null,null,501]
[null,null,"Mass X",10,null,null,"7.5 x 50",false,null,200,0.37,{"$f":"IF(AND(Preise!$AA$2>=Daten!J11,Preise!$AA$2<J12),K11,0)","v":0},"Stehbord","Jalousiebord",null,551]
[null,null,"Ha",15,null,null,"7.5 x 50",null,null,400,"Anfrage",{"$f":"IF(AND(Preise!$AA$2>=Daten!J12,Preise!$AA$2<J13),K12,0)","v":0},"Stehbord HB"]
[null,null,"Va",40,null,null,"7.5 x 70",false,null,null,null,null,"Flexila STB","Blechanschlussprofil"]
[null,null,"Gefälle",4,null,null,"7.5 x 70",null,null,null,null,null,"Flexila PU"]
["Firma",null,"Bh PU",27,null,null,"7.5 x 110",false,null,"Banklänge max",3050]
["Ansprechperson",null,"Bb PU",20,null,null,"7.5 x 110",null,null,"Preis bis m¹",400]
["Telefon","Telefonnummer","Bb Flex","25mm",null,null,"4.2 x 19",false]
["Objekt",null,"E PU",35,null,null,"4.2 x 19"]
["Lieferung",{"$f":"IF(MID(B23,1,3)=\"Abh\",\"ab Werk\",\"Lieferung\")","v":"ab Werk"},"Bh STB",24,null,null,"4.2 x 38",false]
["Lieferadresse","Lieferadresse","Xu STB","-",null,null,"4.2 x 38"]
["Bemerkungen",null,"E STB",45,null,null,"Befestigungsbügel",false,null,"SEC",{"$f":"IF(AND(F3=TRUE,F4=TRUE),\"Ja - mit Aufdopplung seitlich\",IF(AND(F3=FALSE,F4=FALSE),\"Nein\",\"Ja - OHNE Aufdopplung seitlich\"))","v":"Nein"}]
["Mit MT",false,null,null,null,null,"Befestigungsbügel",0,null,"Option ISO",{"$f":"IF(AND(F5=TRUE,F6=TRUE),\"Mit Steinwoll- und Hartschaumkaschierung\",IF(F5=TRUE,\"Mit Thermo-Hartschaum-Kaschierung\",IF(F6=TRUE,\"Mit Steinwoll-Kaschierung\",\"Ohne\")))","v":"Ohne"}]
["Lieferung","Abholung Werk Kägiswil",null,null,null,null,null,null,null,"BPU",{"$f":"_xlfn.NUMBERVALUE(IF(D8=TRUE,LEFT(D17,2),D16))","v":20}]
["Mit Ausmass",false]

{"sheet":"Preise","index":3,"n_rows":151,"n_cols":39,"rows_kept":151,"cut":false,"hidden":true,"merged":[[24,36,24,37],[22,32,22,33],[22,34,22,35],[22,36,22,37],[23,26,23,27],[23,28,23,29],[23,30,23,31],[23,32,23,33],[23,34,23,35],[23,36,23,37],[21,30,21,31],[21,28,21,29],[21,26,21,27],[22,26,22,27],[22,28,22,29],[22,30,22,31],[16,26,16,27],[30,36,30,37],[30,34,30,35],[30,32,30,33],[30,30,30,31],[30,28,30,29],[30,26,30,27],[20,36,20,37],[20,34,20,35],[20,32,20,33],[20,30,20,31],[20,28,20,29],[20,26,20,27],[21,36,21,37],[21,34,21,35],[21,32,21,33],[16,36,16,37],[16,34,16,35],[16,32,16,33],[16,30,16,31],[16,28,16,29],[0,23,0,25],[1,1,1,3],[9,23,9,25],[7,23,7,25],[5,23,5,25],[4,23,4,25],[3,23,3,25],[2,23,2,25],[1,23,1,25],[1,16,1,18],[1,13,1,15],[1,10,1,12],[1,7,1,9],[1,4,1,6]]}
["Fensterbänke",null,null,null,null,null,null,null,null,null,null,null,null,null,null,null,null,null,null,null,null,null,null,"Zusammenfassung"]
["Abw",{"$f":"Daten!N1","v":"Farblos eloxiert"},null,null,"Pulverbeschichtet RAL",null,null,"Pulverbeschichtet NCS",null,null,"Pulverbeschichtet IGP",null,null,"Gerstenkorn roh",null,null,"Riffelblech roh",null,null,null,null,null,null,"Fensterbänke",null,null,{"$f":"Zusammenfassung!D4","v":0},{"$f":"T13+T25+T37+J76+N76","v":0}]
[0,30,{"$f":"ROUND(SUMIFS(Zusammenfassung!$D$5:$D$340,Zusammenfassung!$F$5:$F$340,B$2,Zusammenfassung!$C$5:$C$340,\">=\"&$A3,Zusammenfassung!$C$5:$C$340,\"<\"&$A4,Zusammenfassung!$U$5:$U$340,0)/1000,1)","v":0},{"$f":"IFERROR(B3*C3,0)","v":0},43,{"$f":"ROUND(SUMIFS(Zusammenfassung!$D$5:$D$340,Zusammenfassung!$F$5:$F$340,E$2,Zusammenfassung!$C$5:$C$340,\">=\"&$A3,Zusammenfassung!$C$5:$C$340,\"<\"&$A4,Zusammenfassung!$U$5:$U$340,0)/1000,1)","v":0},{"$f":"IFERROR(E3*F3,0)","v":0},48,{"$f":"ROUND(SUMIFS(Zusammenfassung!$D$5:$D$340,Zusammenfassung!$F$5:$F$340,H$2,Zusammenfassung!$C$5:$C$340,\">=\"&$A3,Zusammenfassung!$C$5:$C$340,\"<\"&$A4,Zusammenfassung!$U$5:$U$340,0)/1000,1)","v":0},{"$f":"IFERROR(H3*I3,0)","v":0},{"$f":"H3","v":48},{"$f":"ROUND(SUMIFS(Zusammenfassung!$D$5:$D$340,Zusammenfassung!$F$5:$F$340,K$2,Zusammenfassung!$C$5:$C$340,\">=\"&$A3,Zusammenfassung!$C$5:$C$340,\"<\"&$A4,Zusammenfassung!$U$5:$U$340,0)/1000,1)","v":0},{"$f":"IFERROR(K3*L3,0)","v":0},41.5,{"$f":"ROUND(SUMIFS(Zusammenfassung!$D$5:$D$340,Zusammenfassung!$F$5:$F$340,N$2,Zusammenfassung!$C$5:$C$340,\">=\"&$A3,Zusammenfassung!$C$5:$C$340,\"<\"&$A4,Zusammenfassung!$U$5:$U$340,0)/1000,1)","v":0},{"$f":"IFERROR(N3*O3,0)","v":0},35,{"$f":"ROUND(SUMIFS(Zusammenfassung!$D$5:$D$340,Zusammenfassung!$F$5:$F$340,Q$2,Zusammenfassung!$C$5:$C$340,\">=\"&$A3,Zusammenfassung!$C$5:$C$340,\"<\"&$A4,Zusammenfassung!$U$5:$U$340,0)/1000,1)","v":0},{"$f":"IFERROR(Q3*R3,0)","v":0},null,null,null,null,"Isolation",null,null,{"$f":"C46+F46+I46+L46+O46+R46+U46+X46+C55+F55+C55+I55+L55+O55+R55+U55+X55+AA55+AD55+AG55+AJ55+C64+F64+I64+L64+O64+R64+F25+I25+L25+O25+R25+C25+C37+F37+I37+L37+O37+R37","v":0},{"$f":"Z46+AL55+T64+T71","v":0}]
[150,35,{"$f":"ROUND(SUMIFS(Zusammenfassung!$D$5:$D$340,Zusammenfassung!$F$5:$F$340,B$2,Zusammenfassung!$C$5:$C$340,\">=\"&$A4,Zusammenfassung!$C$5:$C$340,\"<\"&$A5,Zusammenfassung!$U$5:$U$340,0)/1000,1)","v":0},{"$f":"IFERROR(B4*C4,0)","v":0},47.5,{"$f":"ROUND(SUMIFS(Zusammenfassung!$D$5:$D$340,Zusammenfassung!$F$5:$F$340,E$2,Zusammenfassung!$C$5:$C$340,\">=\"&$A4,Zusammenfassung!$C$5:$C$340,\"<\"&$A5,Zusammenfassung!$U$5:$U$340,0)/1000,1)","v":0},{"$f":"IFERROR(E4*F4,0)","v":0},49.5,{"$f":"ROUND(SUMIFS(Zusammenfassung!$D$5:$D$340,Zusammenfassung!$F$5:$F$340,H$2,Zusammenfassung!$C$5:$C$340,\">=\"&$A4,Zusammenfassung!$C$5:$C$340,\"<\"&$A5,Zusammenfassung!$U$5:$U$340,0)/1000,1)","v":0},{"$f":"IFERROR(H4*I4,0)","v":0},49.5,{"$f":"ROUND(SUMIFS(Zusammenfassung!$D$5:$D$340,Zusammenfassung!$F$5:$F$340,K$2,Zusammenfassung!$C$5:$C$340,\">=\"&$A4,Zusammenfassung!$C$5:$C$340,\"<\"&$A5,Zusammenfassung!$U$5:$U$340,0)/1000,1)","v":0},{"$f":"IFERROR(K4*L4,0)","v":0},50,{"$f":"ROUND(SUMIFS(Zusammenfassung!$D$5:$D$340,Zusammenfassung!$F$5:$F$340,N$2,Zusammenfassung!$C$5:$C$340,\">=\"&$A4,Zusammenfassung!$C$5:$C$340,\"<\"&$A5,Zusammenfassung!$U$5:$U$340,0)/1000,1)","v":0},{"$f":"IFERROR(N4*O4,0)","v":0},41,{"$f":"ROUND(SUMIFS(Zusammenfassung!$D$5:$D$340,Zusammenfassung!$F$5:$F$340,Q$2,Zusammenfassung!$C$5:$C$340,\">=\"&$A4,Zusammenfassung!$C$5:$C$340,\"<\"&$A5,Zusammenfassung!$U$5:$U$340,0)/1000,1)","v":0},{"$f":"IFERROR(Q4*R4,0)","v":0},null,null,null,null,"An- und Abschlüsse",null,null,{"$f":"C90","v":0},{"$f":"D90+D151","v":0}]
[200,40,{"$f":"ROUND(SUMIFS(Zusammenfassung!$D$5:$D$340,Zusammenfassung!$F$5:$F$340,B$2,Zusammenfassung!$C$5:$C$340,\">=\"&$A5,Zusammenfassung!$C$5:$C$340,\"<\"&$A6,Zusammenfassung!$U$5:$U$340,0)/1000,1)","v":0},0,55.5,{"$f":"ROUND(SUMIFS(Zusammenfassung!$D$5:$D$340,Zusammenfassung!$F$5:$F$340,E$2,Zusammenfassung!$C$5:$C$340,\">=\"&$A5,Zusammenfassung!$C$5:$C$340,\"<\"&$A6,Zusammenfassung!$U$5:$U$340,0)/1000,1)","v":0},0,58,{"$f":"ROUND(SUMIFS(Zusammenfassung!$D$5:$D$340,Zusammenfassung!$F$5:$F$340,H$2,Zusammenfassung!$C$5:$C$340,\">=\"&$A5,Zusammenfassung!$C$5:$C$340,\"<\"&$A6,Zusammenfassung!$U$5:$U$340,0)/1000,1)","v":0},0,58,{"$f":"ROUND(SUMIFS(Zusammenfassung!$D$5:$D$340,Zusammenfassung!$F$5:$F$340,K$2,Zusammenfassung!$C$5:$C$340,\">=\"&$A5,Zusammenfassung!$C$5:$C$340,\"<\"&$A6,Zusammenfassung!$U$5:$U$340,0)/1000,1)","v":0},0,58.5,{"$f":"ROUND(SUMIFS(Zusammenfassung!$D$5:$D$340,Zusammenfassung!$F$5:$F$340,N$2,Zusammenfassung!$C$5:$C$340,\">=\"&$A5,Zusammenfassung!$C$5:$C$340,\"<\"&$A6,Zusammenfassung!$U$5:$U$340,0)/1000,1)","v":0},0,47,{"$f":"ROUND(SUMIFS(Zusammenfassung!$D$5:$D$340,Zusammenfassung!$F$5:$F$340,Q$2,Zusammenfassung!$C$5:$C$340,\">=\"&$A5,Zusammenfassung!$C$5:$C$340,\"<\"&$A6,Zusammenfassung!$U$5:$U$340,0)/1000,1)","v":0},0,null,null,null,null,"Dilatationen",null,null,{"$f":"C100","v":0},{"$f":"D100","v":0}]
[250,45,{"$f":"ROUND(SUMIFS(Zusammenfassung!$D$5:$D$340,Zusammenfassung!$F$5:$F$340,B$2,Zusammenfassung!$C$5:$C$340,\">=\"&$A6,Zusammenfassung!$C$5:$C$340,\"<\"&$A7,Zusammenfassung!$U$5:$U$340,0)/1000,1)","v":0},0,63,{"$f":"ROUND(SUMIFS(Zusammenfassung!$D$5:$D$340,Zusammenfassung!$F$5:$F$340,E$2,Zusammenfassung!$C$5:$C$340,\">=\"&$A6,Zusammenfassung!$C$5:$C$340,\"<\"&$A7,Zusammenfassung!$U$5:$U$340,0)/1000,1)","v":0},0,65.5,{"$f":"ROUND(SUMIFS(Zusammenfassung!$D$5:$D$340,Zusammenfassung!$F$5:$F$340,H$2,Zusammenfassung!$C$5:$C$340,\">=\"&$A6,Zusammenfassung!$C$5:$C$340,\"<\"&$A7,Zusammenfassung!$U$5:$U$340,0)/1000,1)","v":0},0,65.5,{"$f":"ROUND(SUMIFS(Zusammenfassung!$D$5:$D$340,Zusammenfassung!$F$5:$F$340,K$2,Zusammenfassung!$C$5:$C$340,\">=\"&$A6,Zusammenfassung!$C$5:$C$340,\"<\"&$A7,Zusammenfassung!$U$5:$U$340,0)/1000,1)","v":0},0,67.5,{"$f":"ROUND(SUMIFS(Zusammenfassung!$D$5:$D$340,Zusammenfassung!$F$5:$F$340,N$2,Zusammenfassung!$C$5:$C$340,\">=\"&$A6,Zusammenfassung!$C$5:$C$340,\"<\"&$A7,Zusammenfassung!$U$5:$U$340,0)/1000,1)","v":0},0,53.5,{"$f":"ROUND(SUMIFS(Zusammenfassung!$D$5:$D$340,Zusammenfassung!$F$5:$F$340,Q$2,Zusammenfassung!$C$5:$C$340,\">=\"&$A6,Zusammenfassung!$C$5:$C$340,\"<\"&$A7,Zusammenfassung!$U$5:$U$340,0)/1000,1)","v":0},0,null,null,null,null,"Summe Produktionsart.",null,null,{"$f":"SUM(Daten!L8:L14)","v":0.27},{"$f":"SUM(AB2:AB5)-(SUM(AB2:AB5)*AA6)","v":0}]
[300,50.5,{"$f":"ROUND(SUMIFS(Zusammenfassung!$D$5:$D$340,Zusammenfassung!$F$5:$F$340,B$2,Zusammenfassung!$C$5:$C$340,\">=\"&$A7,Zusammenfassung!$C$5:$C$340,\"<\"&$A8,Zusammenfassung!$U$5:$U$340,0)/1000,1)","v":0},0,70,{"$f":"ROUND(SUMIFS(Zusammenfassung!$D$5:$D$340,Zusammenfassung!$F$5:$F$340,E$2,Zusammenfassung!$C$5:$C$340,\">=\"&$A7,Zusammenfassung!$C$5:$C$340,\"<\"&$A8,Zusammenfassung!$U$5:$U$340,0)/1000,1)","v":0},0,73.5,{"$f":"ROUND(SUMIFS(Zusammenfassung!$D$5:$D$340,Zusammenfassung!$F$5:$F$340,H$2,Zusammenfassung!$C$5:$C$340,\">=\"&$A7,Zusammenfassung!$C$5:$C$340,\"<\"&$A8,Zusammenfassung!$U$5:$U$340,0)/1000,1)","v":0},0,73.5,{"$f":"ROUND(SUMIFS(Zusammenfassung!$D$5:$D$340,Zusammenfassung!$F$5:$F$340,K$2,Zusammenfassung!$C$5:$C$340,\">=\"&$A7,Zusammenfassung!$C$5:$C$340,\"<\"&$A8,Zusammenfassung!$U$5:$U$340,0)/1000,1)","v":0},0,76,{"$f":"ROUND(SUMIFS(Zusammenfassung!$D$5:$D$340,Zusammenfassung!$F$5:$F$340,N$2,Zusammenfassung!$C$5:$C$340,\">=\"&$A7,Zusammenfassung!$C$5:$C$340,\"<\"&$A8,Zusammenfassung!$U$5:$U$340,0)/1000,1)","v":0},0,60,{"$f":"ROUND(SUMIFS(Zusammenfassung!$D$5:$D$340,Zusammenfassung!$F$5:$F$340,Q$2,Zusammenfassung!$C$5:$C$340,\">=\"&$A7,Zusammenfassung!$C$5:$C$340,\"<\"&$A8,Zusammenfassung!$U$5:$U$340,0)/1000,1)","v":0},0,null,null,null,null,"Express",200,2000,0.1,{"$f":"IF(AA2=0,0,IF(Daten!B8=TRUE,MIN(MAX(AB6*AA7,Y7),Z7),0))","v":0}]
[350,55.5,{"$f":"ROUND(SUMIFS(Zusammenfassung!$D$5:$D$340,Zusammenfassung!$F$5:$F$340,B$2,Zusammenfassung!$C$5:$C$340,\">=\"&$A8,Zusammenfassung!$C$5:$C$340,\"<\"&$A9,Zusammenfassung!$U$5:$U$340,0)/1000,1)","v":0},0,77,{"$f":"ROUND(SUMIFS(Zusammenfassung!$D$5:$D$340,Zusammenfassung!$F$5:$F$340,E$2,Zusammenfassung!$C$5:$C$340,\">=\"&$A8,Zusammenfassung!$C$5:$C$340,\"<\"&$A9,Zusammenfassung!$U$5:$U$340,0)/1000,1)","v":0},0,80,{"$f":"ROUND(SUMIFS(Zusammenfassung!$D$5:$D$340,Zusammenfassung!$F$5:$F$340,H$2,Zusammenfassung!$C$5:$C$340,\">=\"&$A8,Zusammenfassung!$C$5:$C$340,\"<\"&$A9,Zusammenfassung!$U$5:$U$340,0)/1000,1)","v":0},0,80,{"$f":"ROUND(SUMIFS(Zusammenfassung!$D$5:$D$340,Zusammenfassung!$F$5:$F$340,K$2,Zusammenfassung!$C$5:$C$340,\">=\"&$A8,Zusammenfassung!$C$5:$C$340,\"<\"&$A9,Zusammenfassung!$U$5:$U$340,0)/1000,1)","v":0},0,84.5,{"$f":"ROUND(SUMIFS(Zusammenfassung!$D$5:$D$340,Zusammenfassung!$F$5:$F$340,N$2,Zusammenfassung!$C$5:$C$340,\">=\"&$A8,Zusammenfassung!$C$5:$C$340,\"<\"&$A9,Zusammenfassung!$U$5:$U$340,0)/1000,1)","v":0},0,66.5,{"$f":"ROUND(SUMIFS(Zusammenfassung!$D$5:$D$340,Zusammenfassung!$F$5:$F$340,Q$2,Zusammenfassung!$C$5:$C$340,\">=\"&$A8,Zusammenfassung!$C$5:$C$340,\"<\"&$A9,Zusammenfassung!$U$5:$U$340,0)/1000,1)","v":0},0,null,null,null,null,"Rüst- und Einricht",null,null,500,{"$f":"IF(AA2=0,0,IF((AB6+AB7)<AA8,60,0))","v":0}]
[400,61,{"$f":"ROUND(SUMIFS(Zusammenfassung!$D$5:$D$340,Zusammenfassung!$F$5:$F$340,B$2,Zusammenfassung!$C$5:$C$340,\">=\"&$A9,Zusammenfassung!$C$5:$C$340,\"<\"&$A10,Zusammenfassung!$U$5:$U$340,0)/1000,1)","v":0},0,85,{"$f":"ROUND(SUMIFS(Zusammenfassung!$D$5:$D$340,Zusammenfassung!$F$5:$F$340,E$2,Zusammenfassung!$C$5:$C$340,\">=\"&$A9,Zusammenfassung!$C$5:$C$340,\"<\"&$A10,Zusammenfassung!$U$5:$U$340,0)/1000,1)","v":0},0,88,{"$f":"ROUND(SUMIFS(Zusammenfassung!$D$5:$D$340,Zusammenfassung!$F$5:$F$340,H$2,Zusammenfassung!$C$5:$C$340,\">=\"&$A9,Zusammenfassung!$C$5:$C$340,\"<\"&$A10,Zusammenfassung!$U$5:$U$340,0)/1000,1)","v":0},0,88,{"$f":"ROUND(SUMIFS(Zusammenfassung!$D$5:$D$340,Zusammenfassung!$F$5:$F$340,K$2,Zusammenfassung!$C$5:$C$340,\">=\"&$A9,Zusammenfassung!$C$5:$C$340,\"<\"&$A10,Zusammenfassung!$U$5:$U$340,0)/1000,1)","v":0},0,93.5,{"$f":"ROUND(SUMIFS(Zusammenfassung!$D$5:$D$340,Zusammenfassung!$F$5:$F$340,N$2,Zusammenfassung!$C$5:$C$340,\">=\"&$A9,Zusammenfassung!$C$5:$C$340,\"<\"&$A10,Zusammenfassung!$U$5:$U$340,0)/1000,1)","v":0},0,73,{"$f":"ROUND(SUMIFS(Zusammenfassung!$D$5:$D$340,Zusammenfassung!$F$5:$F$340,Q$2,Zusammenfassung!$C$5:$C$340,\">=\"&$A9,Zusammenfassung!$C$5:$C$340,\"<\"&$A10,Zusammenfassung!$U$5:$U$340,0)/1000,1)","v":0},0,null,null,null,null,"Gesamt gerundet",null,null,1,{"$f":"IF(Zusammenfassung!AX4>0,\"Auf Anfrage\",ROUND((AB6+AB8+AB7)/AA9,0)*AA9)","v":0}]
[450,66,{"$f":"ROUND(SUMIFS(Zusammenfassung!$D$5:$D$340,Zusammenfassung!$F$5:$F$340,B$2,Zusammenfassung!$C$5:$C$340,\">=\"&$A10,Zusammenfassung!$C$5:$C$340,\"<\"&$A11,Zusammenfassung!$U$5:$U$340,0)/1000,1)","v":0},0,90.5,{"$f":"ROUND(SUMIFS(Zusammenfassung!$D$5:$D$340,Zusammenfassung!$F$5:$F$340,E$2,Zusammenfassung!$C$5:$C$340,\">=\"&$A10,Zusammenfassung!$C$5:$C$340,\"<\"&$A11,Zusammenfassung!$U$5:$U$340,0)/1000,1)","v":0},0,94,{"$f":"ROUND(SUMIFS(Zusammenfassung!$D$5:$D$340,Zusammenfassung!$F$5:$F$340,H$2,Zusammenfassung!$C$5:$C$340,\">=\"&$A10,Zusammenfassung!$C$5:$C$340,\"<\"&$A11,Zusammenfassung!$U$5:$U$340,0)/1000,1)","v":0},0,94,{"$f":"ROUND(SUMIFS(Zusammenfassung!$D$5:$D$340,Zusammenfassung!$F$5:$F$340,K$2,Zusammenfassung!$C$5:$C$340,\">=\"&$A10,Zusammenfassung!$C$5:$C$340,\"<\"&$A11,Zusammenfassung!$U$5:$U$340,0)/1000,1)","v":0},0,102,{"$f":"ROUND(SUMIFS(Zusammenfassung!$D$5:$D$340,Zusammenfassung!$F$5:$F$340,N$2,Zusammenfassung!$C$5:$C$340,\">=\"&$A10,Zusammenfassung!$C$5:$C$340,\"<\"&$A11,Zusammenfassung!$U$5:$U$340,0)/1000,1)","v":0},0,79,{"$f":"ROUND(SUMIFS(Zusammenfassung!$D$5:$D$340,Zusammenfassung!$F$5:$F$340,Q$2,Zusammenfassung!$C$5:$C$340,\">=\"&$A10,Zusammenfassung!$C$5:$C$340,\"<\"&$A11,Zusammenfassung!$U$5:$U$340,0)/1000,1)","v":0},0,null,null,null,null,"Montagematerial",null,null,1,{"$f":"ROUND((D119/AA10),0)*AA10","v":0}]
[500,71,{"$f":"ROUND(SUMIFS(Zusammenfassung!$D$5:$D$340,Zusammenfassung!$F$5:$F$340,B$2,Zusammenfassung!$C$5:$C$340,\">=\"&$A11,Zusammenfassung!$C$5:$C$340,\"<\"&$A12,Zusammenfassung!$U$5:$U$340,0)/1000,1)","v":0},0,98.5,{"$f":"ROUND(SUMIFS(Zusammenfassung!$D$5:$D$340,Zusammenfassung!$F$5:$F$340,E$2,Zusammenfassung!$C$5:$C$340,\">=\"&$A11,Zusammenfassung!$C$5:$C$340,\"<\"&$A12,Zusammenfassung!$U$5:$U$340,0)/1000,1)","v":0},0,101.5,{"$f":"ROUND(SUMIFS(Zusammenfassung!$D$5:$D$340,Zusammenfassung!$F$5:$F$340,H$2,Zusammenfassung!$C$5:$C$340,\">=\"&$A11,Zusammenfassung!$C$5:$C$340,\"<\"&$A12,Zusammenfassung!$U$5:$U$340,0)/1000,1)","v":0},0,101.5,{"$f":"ROUND(SUMIFS(Zusammenfassung!$D$5:$D$340,Zusammenfassung!$F$5:$F$340,K$2,Zusammenfassung!$C$5:$C$340,\">=\"&$A11,Zusammenfassung!$C$5:$C$340,\"<\"&$A12,Zusammenfassung!$U$5:$U$340,0)/1000,1)","v":0},0,109,{"$f":"ROUND(SUMIFS(Zusammenfassung!$D$5:$D$340,Zusammenfassung!$F$5:$F$340,N$2,Zusammenfassung!$C$5:$C$340,\">=\"&$A11,Zusammenfassung!$C$5:$C$340,\"<\"&$A12,Zusammenfassung!$U$5:$U$340,0)/1000,1)","v":0},0,85,{"$f":"ROUND(SUMIFS(Zusammenfassung!$D$5:$D$340,Zusammenfassung!$F$5:$F$340,Q$2,Zusammenfassung!$C$5:$C$340,\">=\"&$A11,Zusammenfassung!$C$5:$C$340,\"<\"&$A12,Zusammenfassung!$U$5:$U$340,0)/1000,1)","v":0},0,null,null,null,null,"Gesamt gerundet",null,null,50,{"$f":"IFERROR(ROUND(IF(Zusammenfassung!AX4>0,\"Auf Anfrage\",AB9+AB10)/AA11,0)*AA11,\"Auf Anfrage\")","v":0}]
[550,"Anfrage",{"$f":"ROUND(SUMIFS(Zusammenfassung!$D$5:$D$340,Zusammenfassung!$F$5:$F$340,B$2,Zusammenfassung!$C$5:$C$340,\">=\"&$A12,Zusammenfassung!$C$5:$C$340,\"<\"&$A13,Zusammenfassung!$U$5:$U$340,0)/1000,1)","v":0},0,"Anfrage",{"$f":"ROUND(SUMIFS(Zusammenfassung!$D$5:$D$340,Zusammenfassung!$F$5:$F$340,E$2,Zusammenfassung!$C$5:$C$340,\">=\"&$A12,Zusammenfassung!$C$5:$C$340,\"<\"&$A13,Zusammenfassung!$U$5:$U$340,0)/1000,1)","v":0},0,"Anfrage",{"$f":"ROUND(SUMIFS(Zusammenfassung!$D$5:$D$340,Zusammenfassung!$F$5:$F$340,H$2,Zusammenfassung!$C$5:$C$340,\">=\"&$A12,Zusammenfassung!$C$5:$C$340,\"<\"&$A13,Zusammenfassung!$U$5:$U$340,0)/1000,1)","v":0},0,"Anfrage",{"$f":"ROUND(SUMIFS(Zusammenfassung!$D$5:$D$340,Zusammenfassung!$F$5:$F$340,K$2,Zusammenfassung!$C$5:$C$340,\">=\"&$A12,Zusammenfassung!$C$5:$C$340,\"<\"&$A13,Zusammenfassung!$U$5:$U$340,0)/1000,1)","v":0},0,{"$f":"K12","v":"Anfrage"},{"$f":"ROUND(SUMIFS(Zusammenfassung!$D$5:$D$340,Zusammenfassung!$F$5:$F$340,N$2,Zusammenfassung!$C$5:$C$340,\">=\"&$A12,Zusammenfassung!$C$5:$C$340,\"<\"&$A13,Zusammenfassung!$U$5:$U$340,0)/1000,1)","v":0},0,{"$f":"N12","v":"Anfrage"},{"$f":"ROUND(SUMIFS(Zusammenfassung!$D$5:$D$340,Zusammenfassung!$F$5:$F$340,Q$2,Zusammenfassung!$C$5:$C$340,\">=\"&$A12,Zusammenfassung!$C$5:$C$340,\"<\"&$A13,Zusammenfassung!$U$5:$U$340,0)/1000,1)","v":0},0]
[null,null,{"$f":"SUM(C3:C12)","v":0},{"$f":"SUM(D3:D12)","v":0},null,0,0,null,0,0,null,0,0,null,0,0,null,0,0,{"$f":"D13+G13+J13+M13+P13+S13","v":0}]
["Fensterbänke Flexila"]
[0,56,{"$f":"IF(Daten!$F$3=TRUE,0,ROUND(SUMIFS(Zusammenfassung!$D$5:$D$340,Zusammenfassung!$F$5:$F$340,B$2,Zusammenfassung!$C$5:$C$340,\">=\"&$A15,Zusammenfassung!$C$5:$C$340,\"<\"&$A16,Zusammenfassung!$U$5:$U$340,\"<>0\")/1000,1))","v":0},{"$f":"IFERROR(B15*C15,0)","v":0},74,{"$f":"IF(Daten!$F$3=TRUE,0,ROUND(SUMIFS(Zusammenfassung!$D$5:$D$340,Zusammenfassung!$F$5:$F$340,E$2,Zusammenfassung!$C$5:$C$340,\">=\"&$A15,Zusammenfassung!$C$5:$C$340,\"<\"&$A16,Zusammenfassung!$U$5:$U$340,\"<>0\")/1000,1))","v":0},{"$f":"IFERROR(E15*F15,0)","v":0},76.5,{"$f":"IF(Daten!$F$3=TRUE,0,ROUND(SUMIFS(Zusammenfassung!$D$5:$D$340,Zusammenfassung!$F$5:$F$340,H$2,Zusammenfassung!$C$5:$C$340,\">=\"&$A15,Zusammenfassung!$C$5:$C$340,\"<\"&$A16,Zusammenfassung!$U$5:$U$340,\"<>0\")/1000,1))","v":0},{"$f":"IFERROR(H15*I15,0)","v":0},{"$f":"H15","v":76.5},{"$f":"IF(Daten!$F$3=TRUE,0,ROUND(SUMIFS(Zusammenfassung!$D$5:$D$340,Zusammenfassung!$F$5:$F$340,K$2,Zusammenfassung!$C$5:$C$340,\">=\"&$A15,Zusammenfassung!$C$5:$C$340,\"<\"&$A16,Zusammenfassung!$U$5:$U$340,\"<>0\")/1000,1))","v":0},{"$f":"IFERROR(K15*L15,0)","v":0},"Anfrage",{"$f":"IF(Daten!$F$3=TRUE,0,ROUND(SUMIFS(Zusammenfassung!$D$5:$D$340,Zusammenfassung!$F$5:$F$340,N$2,Zusammenfassung!$C$5:$C$340,\">=\"&$A15,Zusammenfassung!$C$5:$C$340,\"<\"&$A16,Zusammenfassung!$U$5:$U$340,\"<>0\")/1000,1))","v":0},{"$f":"IFERROR(N15*O15,0)","v":0},"Anfrage",{"$f":"IF(Daten!$F$3=TRUE,0,ROUND(SUMIFS(Zusammenfassung!$D$5:$D$340,Zusammenfassung!$F$5:$F$340,Q$2,Zusammenfassung!$C$5:$C$340,\">=\"&$A15,Zusammenfassung!$C$5:$C$340,\"<\"&$A16,Zusammenfassung!$U$5:$U$340,\"<>0\")/1000,1))","v":0},{"$f":"IFERROR(Q15*R15,0)","v":0}]
[150,62,{"$f":"IF(Daten!$F$3=TRUE,0,ROUND(SUMIFS(Zusammenfassung!$D$5:$D$340,Zusammenfassung!$F$5:$F$340,B$2,Zusammenfassung!$C$5:$C$340,\">=\"&$A16,Zusammenfassung!$C$5:$C$340,\"<\"&$A17,Zusammenfassung!$U$5:$U$340,\"<>0\")/1000,1))","v":0},{"$f":"IFERROR(B16*C16,0)","v":0},80,{"$f":"IF(Daten!$F$3=TRUE,0,ROUND(SUMIFS(Zusammenfassung!$D$5:$D$340,Zusammenfassung!$F$5:$F$340,E$2,Zusammenfassung!$C$5:$C$340,\">=\"&$A16,Zusammenfassung!$C$5:$C$340,\"<\"&$A17,Zusammenfassung!$U$5:$U$340,\"<>0\")/1000,1))","v":0},{"$f":"IFERROR(E16*F16,0)","v":0},82,{"$f":"IF(Daten!$F$3=TRUE,0,ROUND(SUMIFS(Zusammenfassung!$D$5:$D$340,Zusammenfassung!$F$5:$F$340,H$2,Zusammenfassung!$C$5:$C$340,\">=\"&$A16,Zusammenfassung!$C$5:$C$340,\"<\"&$A17,Zusammenfassung!$U$5:$U$340,\"<>0\")/1000,1))","v":0},{"$f":"IFERROR(H16*I16,0)","v":0},82,{"$f":"IF(Daten!$F$3=TRUE,0,ROUND(SUMIFS(Zusammenfassung!$D$5:$D$340,Zusammenfassung!$F$5:$F$340,K$2,Zusammenfassung!$C$5:$C$340,\">=\"&$A16,Zusammenfassung!$C$5:$C$340,\"<\"&$A17,Zusammenfassung!$U$5:$U$340,\"<>0\")/1000,1))","v":0},{"$f":"IFERROR(K16*L16,0)","v":0},"Anfrage",{"$f":"IF(Daten!$F$3=TRUE,0,ROUND(SUMIFS(Zusammenfassung!$D$5:$D$340,Zusammenfassung!$F$5:$F$340,N$2,Zusammenfassung!$C$5:$C$340,\">=\"&$A16,Zusammenfassung!$C$5:$C$340,\"<\"&$A17,Zusammenfassung!$U$5:$U$340,\"<>0\")/1000,1))","v":0},{"$f":"IFERROR(N16*O16,0)","v":0},"Anfrage",{"$f":"IF(Daten!$F$3=TRUE,0,ROUND(SUMIFS(Zusammenfassung!$D$5:$D$340,Zusammenfassung!$F$5:$F$340,Q$2,Zusammenfassung!$C$5:$C$340,\">=\"&$A16,Zusammenfassung!$C$5:$C$340,\"<\"&$A17,Zusammenfassung!$U$5:$U$340,\"<>0\")/1000,1))","v":0},{"$f":"IFERROR(Q16*R16,0)","v":0}]
[200,68,{"$f":"IF(Daten!$F$3=TRUE,0,ROUND(SUMIFS(Zusammenfassung!$D$5:$D$340,Zusammenfassung!$F$5:$F$340,B$2,Zusammenfassung!$C$5:$C$340,\">=\"&$A17,Zusammenfassung!$C$5:$C$340,\"<\"&$A18,Zusammenfassung!$U$5:$U$340,\"<>0\")/1000,1))","v":0},0,91.5,{"$f":"IF(Daten!$F$3=TRUE,0,ROUND(SUMIFS(Zusammenfassung!$D$5:$D$340,Zusammenfassung!$F$5:$F$340,E$2,Zusammenfassung!$C$5:$C$340,\">=\"&$A17,Zusammenfassung!$C$5:$C$340,\"<\"&$A18,Zusammenfassung!$U$5:$U$340,\"<>0\")/1000,1))","v":0},0,94,{"$f":"IF(Daten!$F$3=TRUE,0,ROUND(SUMIFS(Zusammenfassung!$D$5:$D$340,Zusammenfassung!$F$5:$F$340,H$2,Zusammenfassung!$C$5:$C$340,\">=\"&$A17,Zusammenfassung!$C$5:$C$340,\"<\"&$A18,Zusammenfassung!$U$5:$U$340,\"<>0\")/1000,1))","v":0},0,94,{"$f":"IF(Daten!$F$3=TRUE,0,ROUND(SUMIFS(Zusammenfassung!$D$5:$D$340,Zusammenfassung!$F$5:$F$340,K$2,Zusammenfassung!$C$5:$C$340,\">=\"&$A17,Zusammenfassung!$C$5:$C$340,\"<\"&$A18,Zusammenfassung!$U$5:$U$340,\"<>0\")/1000,1))","v":0},0,"Anfrage",{"$f":"IF(Daten!$F$3=TRUE,0,ROUND(SUMIFS(Zusammenfassung!$D$5:$D$340,Zusammenfassung!$F$5:$F$340,N$2,Zusammenfassung!$C$5:$C$340,\">=\"&$A17,Zusammenfassung!$C$5:$C$340,\"<\"&$A18,Zusammenfassung!$U$5:$U$340,\"<>0\")/1000,1))","v":0},0,"Anfrage",{"$f":"IF(Daten!$F$3=TRUE,0,ROUND(SUMIFS(Zusammenfassung!$D$5:$D$340,Zusammenfassung!$F$5:$F$340,Q$2,Zusammenfassung!$C$5:$C$340,\">=\"&$A17,Zusammenfassung!$C$5:$C$340,\"<\"&$A18,Zusammenfassung!$U$5:$U$340,\"<>0\")/1000,1))","v":0},0,null,null,null,null,"Liefertermin",null,null,0,null,50,null,100,null,200,null,300,null,500]
[250,75,{"$f":"IF(Daten!$F$3=TRUE,0,ROUND(SUMIFS(Zusammenfassung!$D$5:$D$340,Zusammenfassung!$F$5:$F$340,B$2,Zusammenfassung!$C$5:$C$340,\">=\"&$A18,Zusammenfassung!$C$5:$C$340,\"<\"&$A19,Zusammenfassung!$U$5:$U$340,\"<>0\")/1000,1))","v":0},0,101.5,{"$f":"IF(Daten!$F$3=TRUE,0,ROUND(SUMIFS(Zusammenfassung!$D$5:$D$340,Zusammenfassung!$F$5:$F$340,E$2,Zusammenfassung!$C$5:$C$340,\">=\"&$A18,Zusammenfassung!$C$5:$C$340,\"<\"&$A19,Zusammenfassung!$U$5:$U$340,\"<>0\")/1000,1))","v":0},0,103.5,{"$f":"IF(Daten!$F$3=TRUE,0,ROUND(SUMIFS(Zusammenfassung!$D$5:$D$340,Zusammenfassung!$F$5:$F$340,H$2,Zusammenfassung!$C$5:$C$340,\">=\"&$A18,Zusammenfassung!$C$5:$C$340,\"<\"&$A19,Zusammenfassung!$U$5:$U$340,\"<>0\")/1000,1))","v":0},0,103.5,{"$f":"IF(Daten!$F$3=TRUE,0,ROUND(SUMIFS(Zusammenfassung!$D$5:$D$340,Zusammenfassung!$F$5:$F$340,K$2,Zusammenfassung!$C$5:$C$340,\">=\"&$A18,Zusammenfassung!$C$5:$C$340,\"<\"&$A19,Zusammenfassung!$U$5:$U$340,\"<>0\")/1000,1))","v":0},0,"Anfrage",{"$f":"IF(Daten!$F$3=TRUE,0,ROUND(SUMIFS(Zusammenfassung!$D$5:$D$340,Zusammenfassung!$F$5:$F$340,N$2,Zusammenfassung!$C$5:$C$340,\">=\"&$A18,Zusammenfassung!$C$5:$C$340,\"<\"&$A19,Zusammenfassung!$U$5:$U$340,\"<>0\")/1000,1))","v":0},0,"Anfrage",{"$f":"IF(Daten!$F$3=TRUE,0,ROUND(SUMIFS(Zusammenfassung!$D$5:$D$340,Zusammenfassung!$F$5:$F$340,Q$2,Zusammenfassung!$C$5:$C$340,\">=\"&$A18,Zusammenfassung!$C$5:$C$340,\"<\"&$A19,Zusammenfassung!$U$5:$U$340,\"<>0\")/1000,1))","v":0},0,null,null,null,null,null,null,null,"normal","Express","normal","Express","normal","Express","normal","Express","normal","Express","normal","Express"]
[300,83.5,{"$f":"IF(Daten!$F$3=TRUE,0,ROUND(SUMIFS(Zusammenfassung!$D$5:$D$340,Zusammenfassung!$F$5:$F$340,B$2,Zusammenfassung!$C$5:$C$340,\">=\"&$A19,Zusammenfassung!$C$5:$C$340,\"<\"&$A20,Zusammenfassung!$U$5:$U$340,\"<>0\")/1000,1))","v":0},0,114.5,{"$f":"IF(Daten!$F$3=TRUE,0,ROUND(SUMIFS(Zusammenfassung!$D$5:$D$340,Zusammenfassung!$F$5:$F$340,E$2,Zusammenfassung!$C$5:$C$340,\">=\"&$A19,Zusammenfassung!$C$5:$C$340,\"<\"&$A20,Zusammenfassung!$U$5:$U$340,\"<>0\")/1000,1))","v":0},0,119,{"$f":"IF(Daten!$F$3=TRUE,0,ROUND(SUMIFS(Zusammenfassung!$D$5:$D$340,Zusammenfassung!$F$5:$F$340,H$2,Zusammenfassung!$C$5:$C$340,\">=\"&$A19,Zusammenfassung!$C$5:$C$340,\"<\"&$A20,Zusammenfassung!$U$5:$U$340,\"<>0\")/1000,1))","v":0},0,119,{"$f":"IF(Daten!$F$3=TRUE,0,ROUND(SUMIFS(Zusammenfassung!$D$5:$D$340,Zusammenfassung!$F$5:$F$340,K$2,Zusammenfassung!$C$5:$C$340,\">=\"&$A19,Zusammenfassung!$C$5:$C$340,\"<\"&$A20,Zusammenfassung!$U$5:$U$340,\"<>0\")/1000,1))","v":0},0,"Anfrage",{"$f":"IF(Daten!$F$3=TRUE,0,ROUND(SUMIFS(Zusammenfassung!$D$5:$D$340,Zusammenfassung!$F$5:$F$340,N$2,Zusammenfassung!$C$5:$C$340,\">=\"&$A19,Zusammenfassung!$C$5:$C$340,\"<\"&$A20,Zusammenfassung!$U$5:$U$340,\"<>0\")/1000,1))","v":0},0,"Anfrage",{"$f":"IF(Daten!$F$3=TRUE,0,ROUND(SUMIFS(Zusammenfassung!$D$5:$D$340,Zusammenfassung!$F$5:$F$340,Q$2,Zusammenfassung!$C$5:$C$340,\">=\"&$A19,Zusammenfassung!$C$5:$C$340,\"<\"&$A20,Zusammenfassung!$U$5:$U$340,\"<>0\")/1000,1))","v":0},0,null,null,null,null,"FB Typ A","elox/roh",null,5,3,5,3,7,"-","Auf Anfrage","-","Auf Anfrage","-","Auf Anfrage","-"]
[350,91,{"$f":"IF(Daten!$F$3=TRUE,0,ROUND(SUMIFS(Zusammenfassung!$D$5:$D$340,Zusammenfassung!$F$5:$F$340,B$2,Zusammenfassung!$C$5:$C$340,\">=\"&$A20,Zusammenfassung!$C$5:$C$340,\"<\"&$A21,Zusammenfassung!$U$5:$U$340,\"<>0\")/1000,1))","v":0},0,127,{"$f":"IF(Daten!$F$3=TRUE,0,ROUND(SUMIFS(Zusammenfassung!$D$5:$D$340,Zusammenfassung!$F$5:$F$340,E$2,Zusammenfassung!$C$5:$C$340,\">=\"&$A20,Zusammenfassung!$C$5:$C$340,\"<\"&$A21,Zusammenfassung!$U$5:$U$340,\"<>0\")/1000,1))","v":0},0,128,{"$f":"IF(Daten!$F$3=TRUE,0,ROUND(SUMIFS(Zusammenfassung!$D$5:$D$340,Zusammenfassung!$F$5:$F$340,H$2,Zusammenfassung!$C$5:$C$340,\">=\"&$A20,Zusammenfassung!$C$5:$C$340,\"<\"&$A21,Zusammenfassung!$U$5:$U$340,\"<>0\")/1000,1))","v":0},0,128,{"$f":"IF(Daten!$F$3=TRUE,0,ROUND(SUMIFS(Zusammenfassung!$D$5:$D$340,Zusammenfassung!$F$5:$F$340,K$2,Zusammenfassung!$C$5:$C$340,\">=\"&$A20,Zusammenfassung!$C$5:$C$340,\"<\"&$A21,Zusammenfassung!$U$5:$U$340,\"<>0\")/1000,1))","v":0},0,"Anfrage",{"$f":"IF(Daten!$F$3=TRUE,0,ROUND(SUMIFS(Zusammenfassung!$D$5:$D$340,Zusammenfassung!$F$5:$F$340,N$2,Zusammenfassung!$C$5:$C$340,\">=\"&$A20,Zusammenfassung!$C$5:$C$340,\"<\"&$A21,Zusammenfassung!$U$5:$U$340,\"<>0\")/1000,1))","v":0},0,"Anfrage",{"$f":"IF(Daten!$F$3=TRUE,0,ROUND(SUMIFS(Zusammenfassung!$D$5:$D$340,Zusammenfassung!$F$5:$F$340,Q$2,Zusammenfassung!$C$5:$C$340,\">=\"&$A20,Zusammenfassung!$C$5:$C$340,\"<\"&$A21,Zusammenfassung!$U$5:$U$340,\"<>0\")/1000,1))","v":0},0,null,null,null,null,null,"pulverb.",null,14,8,14,8,17,"-","Auf Anfrage","-","Auf Anfrage","-","Auf Anfrage","-"]
[400,99.5,{"$f":"IF(Daten!$F$3=TRUE,0,ROUND(SUMIFS(Zusammenfassung!$D$5:$D$340,Zusammenfassung!$F$5:$F$340,B$2,Zusammenfassung!$C$5:$C$340,\">=\"&$A21,Zusammenfassung!$C$5:$C$340,\"<\"&$A22,Zusammenfassung!$U$5:$U$340,\"<>0\")/1000,1))","v":0},0,141,{"$f":"IF(Daten!$F$3=TRUE,0,ROUND(SUMIFS(Zusammenfassung!$D$5:$D$340,Zusammenfassung!$F$5:$F$340,E$2,Zusammenfassung!$C$5:$C$340,\">=\"&$A21,Zusammenfassung!$C$5:$C$340,\"<\"&$A22,Zusammenfassung!$U$5:$U$340,\"<>0\")/1000,1))","v":0},0,143.5,{"$f":"IF(Daten!$F$3=TRUE,0,ROUND(SUMIFS(Zusammenfassung!$D$5:$D$340,Zusammenfassung!$F$5:$F$340,H$2,Zusammenfassung!$C$5:$C$340,\">=\"&$A21,Zusammenfassung!$C$5:$C$340,\"<\"&$A22,Zusammenfassung!$U$5:$U$340,\"<>0\")/1000,1))","v":0},0,143.5,{"$f":"IF(Daten!$F$3=TRUE,0,ROUND(SUMIFS(Zusammenfassung!$D$5:$D$340,Zusammenfassung!$F$5:$F$340,K$2,Zusammenfassung!$C$5:$C$340,\">=\"&$A21,Zusammenfassung!$C$5:$C$340,\"<\"&$A22,Zusammenfassung!$U$5:$U$340,\"<>0\")/1000,1))","v":0},0,"Anfrage",{"$f":"IF(Daten!$F$3=TRUE,0,ROUND(SUMIFS(Zusammenfassung!$D$5:$D$340,Zusammenfassung!$F$5:$F$340,N$2,Zusammenfassung!$C$5:$C$340,\">=\"&$A21,Zusammenfassung!$C$5:$C$340,\"<\"&$A22,Zusammenfassung!$U$5:$U$340,\"<>0\")/1000,1))","v":0},0,"Anfrage",{"$f":"IF(Daten!$F$3=TRUE,0,ROUND(SUMIFS(Zusammenfassung!$D$5:$D$340,Zusammenfassung!$F$5:$F$340,Q$2,Zusammenfassung!$C$5:$C$340,\">=\"&$A21,Zusammenfassung!$C$5:$C$340,\"<\"&$A22,Zusammenfassung!$U$5:$U$340,\"<>0\")/1000,1))","v":0},0,null,null,null,null,"ISO",null,null,2,null,3,null,4,null,4,null,"Auf Anfrage",null,"Auf Anfrage"]
[450,105,{"$f":"IF(Daten!$F$3=TRUE,0,ROUND(SUMIFS(Zusammenfassung!$D$5:$D$340,Zusammenfassung!$F$5:$F$340,B$2,Zusammenfassung!$C$5:$C$340,\">=\"&$A22,Zusammenfassung!$C$5:$C$340,\"<\"&$A23,Zusammenfassung!$U$5:$U$340,\"<>0\")/1000,1))","v":0},0,152,{"$f":"IF(Daten!$F$3=TRUE,0,ROUND(SUMIFS(Zusammenfassung!$D$5:$D$340,Zusammenfassung!$F$5:$F$340,E$2,Zusammenfassung!$C$5:$C$340,\">=\"&$A22,Zusammenfassung!$C$5:$C$340,\"<\"&$A23,Zusammenfassung!$U$5:$U$340,\"<>0\")/1000,1))","v":0},0,155,{"$f":"IF(Daten!$F$3=TRUE,0,ROUND(SUMIFS(Zusammenfassung!$D$5:$D$340,Zusammenfassung!$F$5:$F$340,H$2,Zusammenfassung!$C$5:$C$340,\">=\"&$A22,Zusammenfassung!$C$5:$C$340,\"<\"&$A23,Zusammenfassung!$U$5:$U$340,\"<>0\")/1000,1))","v":0},0,155,{"$f":"IF(Daten!$F$3=TRUE,0,ROUND(SUMIFS(Zusammenfassung!$D$5:$D$340,Zusammenfassung!$F$5:$F$340,K$2,Zusammenfassung!$C$5:$C$340,\">=\"&$A22,Zusammenfassung!$C$5:$C$340,\"<\"&$A23,Zusammenfassung!$U$5:$U$340,\"<>0\")/1000,1))","v":0},0,"Anfrage",{"$f":"IF(Daten!$F$3=TRUE,0,ROUND(SUMIFS(Zusammenfassung!$D$5:$D$340,Zusammenfassung!$F$5:$F$340,N$2,Zusammenfassung!$C$5:$C$340,\">=\"&$A22,Zusammenfassung!$C$5:$C$340,\"<\"&$A23,Zusammenfassung!$U$5:$U$340,\"<>0\")/1000,1))","v":0},0,"Anfrage",{"$f":"IF(Daten!$F$3=TRUE,0,ROUND(SUMIFS(Zusammenfassung!$D$5:$D$340,Zusammenfassung!$F$5:$F$340,Q$2,Zusammenfassung!$C$5:$C$340,\">=\"&$A22,Zusammenfassung!$C$5:$C$340,\"<\"&$A23,Zusammenfassung!$U$5:$U$340,\"<>0\")/1000,1))","v":0},0,null,null,null,null,"Flexila",null,null,3,null,1,null,2,null,2,null,"Auf Anfrage",null,"Auf Anfrage"]
[500,113,{"$f":"IF(Daten!$F$3=TRUE,0,ROUND(SUMIFS(Zusammenfassung!$D$5:$D$340,Zusammenfassung!$F$5:$F$340,B$2,Zusammenfassung!$C$5:$C$340,\">=\"&$A23,Zusammenfassung!$C$5:$C$340,\"<\"&$A24,Zusammenfassung!$U$5:$U$340,\"<>0\")/1000,1))","v":0},0,164,{"$f":"IF(Daten!$F$3=TRUE,0,ROUND(SUMIFS(Zusammenfassung!$D$5:$D$340,Zusammenfassung!$F$5:$F$340,E$2,Zusammenfassung!$C$5:$C$340,\">=\"&$A23,Zusammenfassung!$C$5:$C$340,\"<\"&$A24,Zusammenfassung!$U$5:$U$340,\"<>0\")/1000,1))","v":0},0,167,{"$f":"IF(Daten!$F$3=TRUE,0,ROUND(SUMIFS(Zusammenfassung!$D$5:$D$340,Zusammenfassung!$F$5:$F$340,H$2,Zusammenfassung!$C$5:$C$340,\">=\"&$A23,Zusammenfassung!$C$5:$C$340,\"<\"&$A24,Zusammenfassung!$U$5:$U$340,\"<>0\")/1000,1))","v":0},0,167,{"$f":"IF(Daten!$F$3=TRUE,0,ROUND(SUMIFS(Zusammenfassung!$D$5:$D$340,Zusammenfassung!$F$5:$F$340,K$2,Zusammenfassung!$C$5:$C$340,\">=\"&$A23,Zusammenfassung!$C$5:$C$340,\"<\"&$A24,Zusammenfassung!$U$5:$U$340,\"<>0\")/1000,1))","v":0},0,"Anfrage",{"$f":"IF(Daten!$F$3=TRUE,0,ROUND(SUMIFS(Zusammenfassung!$D$5:$D$340,Zusammenfassung!$F$5:$F$340,N$2,Zusammenfassung!$C$5:$C$340,\">=\"&$A23,Zusammenfassung!$C$5:$C$340,\"<\"&$A24,Zusammenfassung!$U$5:$U$340,\"<>0\")/1000,1))","v":0},0,"Anfrage",{"$f":"IF(Daten!$F$3=TRUE,0,ROUND(SUMIFS(Zusammenfassung!$D$5:$D$340,Zusammenfassung!$F$5:$F$340,Q$2,Zusammenfassung!$C$5:$C$340,\">=\"&$A23,Zusammenfassung!$C$5:$C$340,\"<\"&$A24,Zusammenfassung!$U$5:$U$340,\"<>0\")/1000,1))","v":0},0,null,null,null,null,"Lieferung",null,null,1,null,1,null,1,null,1,null,"Auf Anfrage",null,"Auf Anfrage"]
[550,"Anfrage",{"$f":"IF(Daten!$F$3=TRUE,0,ROUND(SUMIFS(Zusammenfassung!$D$5:$D$340,Zusammenfassung!$F$5:$F$340,B$2,Zusammenfassung!$C$5:$C$340,\">=\"&$A24,Zusammenfassung!$C$5:$C$340,\"<\"&$A25,Zusammenfassung!$U$5:$U$340,\"<>0\")/1000,1))","v":0},0,"Anfrage",{"$f":"IF(Daten!$F$3=TRUE,0,ROUND(SUMIFS(Zusammenfassung!$D$5:$D$340,Zusammenfassung!$F$5:$F$340,E$2,Zusammenfassung!$C$5:$C$340,\">=\"&$A24,Zusammenfassung!$C$5:$C$340,\"<\"&$A25,Zusammenfassung!$U$5:$U$340,\"<>0\")/1000,1))","v":0},0,"Anfrage",{"$f":"IF(Daten!$F$3=TRUE,0,ROUND(SUMIFS(Zusammenfassung!$D$5:$D$340,Zusammenfassung!$F$5:$F$340,H$2,Zusammenfassung!$C$5:$C$340,\">=\"&$A24,Zusammenfassung!$C$5:$C$340,\"<\"&$A25,Zusammenfassung!$U$5:$U$340,\"<>0\")/1000,1))","v":0},0,"Anfrage",{"$f":"IF(Daten!$F$3=TRUE,0,ROUND(SUMIFS(Zusammenfassung!$D$5:$D$340,Zusammenfassung!$F$5:$F$340,K$2,Zusammenfassung!$C$5:$C$340,\">=\"&$A24,Zusammenfassung!$C$5:$C$340,\"<\"&$A25,Zusammenfassung!$U$5:$U$340,\"<>0\")/1000,1))","v":0},0,{"$f":"K24","v":"Anfrage"},{"$f":"IF(Daten!$F$3=TRUE,0,ROUND(SUMIFS(Zusammenfassung!$D$5:$D$340,Zusammenfassung!$F$5:$F$340,N$2,Zusammenfassung!$C$5:$C$340,\">=\"&$A24,Zusammenfassung!$C$5:$C$340,\"<\"&$A25,Zusammenfassung!$U$5:$U$340,\"<>0\")/1000,1))","v":0},0,{"$f":"N24","v":"Anfrage"},{"$f":"IF(Daten!$F$3=TRUE,0,ROUND(SUMIFS(Zusammenfassung!$D$5:$D$340,Zusammenfassung!$F$5:$F$340,Q$2,Zusammenfassung!$C$5:$C$340,\">=\"&$A24,Zusammenfassung!$C$5:$C$340,\"<\"&$A25,Zusammenfassung!$U$5:$U$340,\"<>0\")/1000,1))","v":0},0,null,null,null,null,"Dirchtungsband",null,1,{"$f":"IF(AND($AA$2>AA17,$AA$2<AC17),IFERROR(IF(Daten!$B$8=FALSE,IF(MID(Daten!$D$1,1,1)=\"P\",AA20,AA19)+IF($AA$3=0,0,AA21)+IF($T$25+$T$37=0,0,AA22-IF($AA$3=0,IF($C$108>0,$Z$24,0),AA21))+IF(Daten!$B$19=\"ab Werk\",0,AA23),IF(MID(Daten!$D$1,1,1)=\"P\",AB20,AB19)+IF($AA$3=0,0,AA21)+IF($T$25+$T$37=0,0,AA22-IF($AA$3=0,0,AA21))+IF(Daten!$B$19=\"ab Werk\",0,AA23)),\"Auf Anfrage\"),0)","v":0},null,{"$f":"IF(AND($AA$2>AC17,$AA$2<AE17),IFERROR(IF(Daten!$B$8=FALSE,IF(MID(Daten!$D$1,1,1)=\"P\",AC20,AC19)+IF($AA$3=0,0,AC21)+IF($T$25+$T$37=0,0,AC22-IF($AA$3=0,IF($C$108>0,$Z$24,0),AC21))+IF(Daten!$B$19=\"ab Werk\",0,AC23),IF(MID(Daten!$D$1,1,1)=\"P\",AD20,AD19)+IF($AA$3=0,0,AC21)+IF($T$25+$T$37=0,0,AC22-IF($AA$3=0,0,AC21))+IF(Daten!$B$19=\"ab Werk\",0,AC23)),\"Auf Anfrage\"),0)","v":0},null,{"$f":"IF(AND($AA$2>AE17,$AA$2<AG17),IFERROR(IF(Daten!$B$8=FALSE,IF(MID(Daten!$D$1,1,1)=\"P\",AE20,AE19)+IF($AA$3=0,0,AE21)+IF($T$25+$T$37=0,0,AE22-IF($AA$3=0,IF($C$108>0,$Z$24,0),AE21))+IF(Daten!$B$19=\"ab Werk\",0,AE23),IF(MID(Daten!$D$1,1,1)=\"P\",AF20,AF19)+IF($AA$3=0,0,AE21)+IF($T$25+$T$37=0,0,AE22-IF($AA$3=0,0,AE21))+IF(Daten!$B$19=\"ab Werk\",0,AE23)),\"Auf Anfrage\"),0)","v":0},null,{"$f":"IF(AND($AA$2>AG17,$AA$2<AI17),IFERROR(IF(Daten!$B$8=FALSE,IF(MID(Daten!$D$1,1,1)=\"P\",AG20,AG19)+IF($AA$3=0,0,AG21)+IF($T$25+$T$37=0,0,AG22-IF($AA$3=0,IF($C$108>0,$Z$24,0),AG21))+IF(Daten!$B$19=\"ab Werk\",0,AG23),IF(MID(Daten!$D$1,1,1)=\"P\",AH20,AH19)+IF($AA$3=0,0,AG21)+IF($T$25+$T$37=0,0,AG22-IF($AA$3=0,0,AG21))+IF(Daten!$B$19=\"ab Werk\",0,AG23)),\"Auf Anfrage\"),0)","v":0},null,{"$f":"IF(AND($AA$2>AI17,$AA$2<AK17),IFERROR(IF(Daten!$B$8=FALSE,IF(MID(Daten!$D$1,1,1)=\"P\",AI20,AI19)+IF($AA$3=0,0,AI21)+IF($T$25+$T$37=0,0,AI22-IF($AA$3=0,IF($C$108>0,$Z$24,0),AI21))+IF(Daten!$B$19=\"ab Werk\",0,AI23),IF(MID(Daten!$D$1,1,1)=\"P\",AJ20,AJ19)+IF($AA$3=0,0,AI21)+IF($T$25+$T$37=0,0,AI22-IF($AA$3=0,0,AI21))+IF(Daten!$B$19=\"ab Werk\",0,AI23)),\"Auf Anfrage\"),0)","v":0},null,{"$f":"IF(AND($AA$2>AK17,$AA$2<AM17),IFERROR(IF(Daten!$B$8=FALSE,IF(MID(Daten!$D$1,1,1)=\"P\",AK20,AK19)+IF($AA$3=0,0,AK21)+IF($T$25+$T$37=0,0,AK22-IF($AA$3=0,IF($C$108>0,$Z$24,0),AK21))+IF(Daten!$B$19=\"ab Werk\",0,AK23),IF(MID(Daten!$D$1,1,1)=\"P\",AL20,AL19)+IF($AA$3=0,0,AK21)+IF($T$25+$T$37=0,0,AK22-IF($AA$3=0,0,AK21))+IF(Daten!$B$19=\"ab Werk\",0,AK23)),\"Auf Anfrage\"),0)","v":0},null,{"$f":"IF(SUM(AA24:AL24)=0,\"Auf Anfrage\",SUM(AA24:AL24))","v":"Auf Anfrage"}]
[null,null,{"$f":"SUM(C15:C24)","v":0},{"$f":"SUM(D15:D24)","v":0},null,0,0,null,0,0,null,0,0,null,0,0,null,0,0,{"$f":"D25+G25+J25+M25+P25+S25","v":0}]
["Fensterbänke Flexila-SEC"]
[0,65,{"$f":"IF(Daten!$F$3=FALSE,0,ROUND(SUMIFS(Zusammenfassung!$D$5:$D$340,Zusammenfassung!$F$5:$F$340,B$2,Zusammenfassung!$C$5:$C$340,\">=\"&$A27,Zusammenfassung!$C$5:$C$340,\"<\"&$A28,Zusammenfassung!$U$5:$U$340,\"<>0\")/1000,1))","v":0},{"$f":"IFERROR(B27*C27,0)","v":0},78,{"$f":"IF(Daten!$F$3=FALSE,0,ROUND(SUMIFS(Zusammenfassung!$D$5:$D$340,Zusammenfassung!$F$5:$F$340,E$2,Zusammenfassung!$C$5:$C$340,\">=\"&$A27,Zusammenfassung!$C$5:$C$340,\"<\"&$A28,Zusammenfassung!$U$5:$U$340,\"<>0\")/1000,1))","v":0},{"$f":"IFERROR(E27*F27,0)","v":0},81,{"$f":"IF(Daten!$F$3=FALSE,0,ROUND(SUMIFS(Zusammenfassung!$D$5:$D$340,Zusammenfassung!$F$5:$F$340,H$2,Zusammenfassung!$C$5:$C$340,\">=\"&$A27,Zusammenfassung!$C$5:$C$340,\"<\"&$A28,Zusammenfassung!$U$5:$U$340,\"<>0\")/1000,1))","v":0},{"$f":"IFERROR(H27*I27,0)","v":0},{"$f":"H27","v":81},{"$f":"IF(Daten!$F$3=FALSE,0,ROUND(SUMIFS(Zusammenfassung!$D$5:$D$340,Zusammenfassung!$F$5:$F$340,K$2,Zusammenfassung!$C$5:$C$340,\">=\"&$A27,Zusammenfassung!$C$5:$C$340,\"<\"&$A28,Zusammenfassung!$U$5:$U$340,\"<>0\")/1000,1))","v":0},{"$f":"IFERROR(K27*L27,0)","v":0},"Anfrage",{"$f":"IF(Daten!$F$3=FALSE,0,ROUND(SUMIFS(Zusammenfassung!$D$5:$D$340,Zusammenfassung!$F$5:$F$340,N$2,Zusammenfassung!$C$5:$C$340,\">=\"&$A27,Zusammenfassung!$C$5:$C$340,\"<\"&$A28,Zusammenfassung!$U$5:$U$340,\"<>0\")/1000,1))","v":0},{"$f":"IFERROR(N27*O27,0)","v":0},"Anfrage",{"$f":"IF(Daten!$F$3=FALSE,0,ROUND(SUMIFS(Zusammenfassung!$D$5:$D$340,Zusammenfassung!$F$5:$F$340,Q$2,Zusammenfassung!$C$5:$C$340,\">=\"&$A27,Zusammenfassung!$C$5:$C$340,\"<\"&$A28,Zusammenfassung!$U$5:$U$340,\"<>0\")/1000,1))","v":0},{"$f":"IFERROR(Q27*R27,0)","v":0}]
[150,73,{"$f":"IF(Daten!$F$3=FALSE,0,ROUND(SUMIFS(Zusammenfassung!$D$5:$D$340,Zusammenfassung!$F$5:$F$340,B$2,Zusammenfassung!$C$5:$C$340,\">=\"&$A28,Zusammenfassung!$C$5:$C$340,\"<\"&$A29,Zusammenfassung!$U$5:$U$340,\"<>0\")/1000,1))","v":0},{"$f":"IFERROR(B28*C28,0)","v":0},84.5,{"$f":"IF(Daten!$F$3=FALSE,0,ROUND(SUMIFS(Zusammenfassung!$D$5:$D$340,Zusammenfassung!$F$5:$F$340,E$2,Zusammenfassung!$C$5:$C$340,\">=\"&$A28,Zusammenfassung!$C$5:$C$340,\"<\"&$A29,Zusammenfassung!$U$5:$U$340,\"<>0\")/1000,1))","v":0},{"$f":"IFERROR(E28*F28,0)","v":0},86.5,{"$f":"IF(Daten!$F$3=FALSE,0,ROUND(SUMIFS(Zusammenfassung!$D$5:$D$340,Zusammenfassung!$F$5:$F$340,H$2,Zusammenfassung!$C$5:$C$340,\">=\"&$A28,Zusammenfassung!$C$5:$C$340,\"<\"&$A29,Zusammenfassung!$U$5:$U$340,\"<>0\")/1000,1))","v":0},{"$f":"IFERROR(H28*I28,0)","v":0},86.5,{"$f":"IF(Daten!$F$3=FALSE,0,ROUND(SUMIFS(Zusammenfassung!$D$5:$D$340,Zusammenfassung!$F$5:$F$340,K$2,Zusammenfassung!$C$5:$C$340,\">=\"&$A28,Zusammenfassung!$C$5:$C$340,\"<\"&$A29,Zusammenfassung!$U$5:$U$340,\"<>0\")/1000,1))","v":0},{"$f":"IFERROR(K28*L28,0)","v":0},"Anfrage",{"$f":"IF(Daten!$F$3=FALSE,0,ROUND(SUMIFS(Zusammenfassung!$D$5:$D$340,Zusammenfassung!$F$5:$F$340,N$2,Zusammenfassung!$C$5:$C$340,\">=\"&$A28,Zusammenfassung!$C$5:$C$340,\"<\"&$A29,Zusammenfassung!$U$5:$U$340,\"<>0\")/1000,1))","v":0},{"$f":"IFERROR(N28*O28,0)","v":0},"Anfrage",{"$f":"IF(Daten!$F$3=FALSE,0,ROUND(SUMIFS(Zusammenfassung!$D$5:$D$340,Zusammenfassung!$F$5:$F$340,Q$2,Zusammenfassung!$C$5:$C$340,\">=\"&$A28,Zusammenfassung!$C$5:$C$340,\"<\"&$A29,Zusammenfassung!$U$5:$U$340,\"<>0\")/1000,1))","v":0},{"$f":"IFERROR(Q28*R28,0)","v":0}]
[200,81,{"$f":"IF(Daten!$F$3=FALSE,0,ROUND(SUMIFS(Zusammenfassung!$D$5:$D$340,Zusammenfassung!$F$5:$F$340,B$2,Zusammenfassung!$C$5:$C$340,\">=\"&$A29,Zusammenfassung!$C$5:$C$340,\"<\"&$A30,Zusammenfassung!$U$5:$U$340,\"<>0\")/1000,1))","v":0},0,96.5,{"$f":"IF(Daten!$F$3=FALSE,0,ROUND(SUMIFS(Zusammenfassung!$D$5:$D$340,Zusammenfassung!$F$5:$F$340,E$2,Zusammenfassung!$C$5:$C$340,\">=\"&$A29,Zusammenfassung!$C$5:$C$340,\"<\"&$A30,Zusammenfassung!$U$5:$U$340,\"<>0\")/1000,1))","v":0},0,99,{"$f":"IF(Daten!$F$3=FALSE,0,ROUND(SUMIFS(Zusammenfassung!$D$5:$D$340,Zusammenfassung!$F$5:$F$340,H$2,Zusammenfassung!$C$5:$C$340,\">=\"&$A29,Zusammenfassung!$C$5:$C$340,\"<\"&$A30,Zusammenfassung!$U$5:$U$340,\"<>0\")/1000,1))","v":0},0,99,{"$f":"IF(Daten!$F$3=FALSE,0,ROUND(SUMIFS(Zusammenfassung!$D$5:$D$340,Zusammenfassung!$F$5:$F$340,K$2,Zusammenfassung!$C$5:$C$340,\">=\"&$A29,Zusammenfassung!$C$5:$C$340,\"<\"&$A30,Zusammenfassung!$U$5:$U$340,\"<>0\")/1000,1))","v":0},0,"Anfrage",{"$f":"IF(Daten!$F$3=FALSE,0,ROUND(SUMIFS(Zusammenfassung!$D$5:$D$340,Zusammenfassung!$F$5:$F$340,N$2,Zusammenfassung!$C$5:$C$340,\">=\"&$A29,Zusammenfassung!$C$5:$C$340,\"<\"&$A30,Zusammenfassung!$U$5:$U$340,\"<>0\")/1000,1))","v":0},0,"Anfrage",{"$f":"IF(Daten!$F$3=FALSE,0,ROUND(SUMIFS(Zusammenfassung!$D$5:$D$340,Zusammenfassung!$F$5:$F$340,Q$2,Zusammenfassung!$C$5:$C$340,\">=\"&$A29,Zusammenfassung!$C$5:$C$340,\"<\"&$A30,Zusammenfassung!$U$5:$U$340,\"<>0\")/1000,1))","v":0},0]
[250,92,{"$f":"IF(Daten!$F$3=FALSE,0,ROUND(SUMIFS(Zusammenfassung!$D$5:$D$340,Zusammenfassung!$F$5:$F$340,B$2,Zusammenfassung!$C$5:$C$340,\">=\"&$A30,Zusammenfassung!$C$5:$C$340,\"<\"&$A31,Zusammenfassung!$U$5:$U$340,\"<>0\")/1000,1))","v":0},0,107,{"$f":"IF(Daten!$F$3=FALSE,0,ROUND(SUMIFS(Zusammenfassung!$D$5:$D$340,Zusammenfassung!$F$5:$F$340,E$2,Zusammenfassung!$C$5:$C$340,\">=\"&$A30,Zusammenfassung!$C$5:$C$340,\"<\"&$A31,Zusammenfassung!$U$5:$U$340,\"<>0\")/1000,1))","v":0},0,110,{"$f":"IF(Daten!$F$3=FALSE,0,ROUND(SUMIFS(Zusammenfassung!$D$5:$D$340,Zusammenfassung!$F$5:$F$340,H$2,Zusammenfassung!$C$5:$C$340,\">=\"&$A30,Zusammenfassung!$C$5:$C$340,\"<\"&$A31,Zusammenfassung!$U$5:$U$340,\"<>0\")/1000,1))","v":0},0,110,{"$f":"IF(Daten!$F$3=FALSE,0,ROUND(SUMIFS(Zusammenfassung!$D$5:$D$340,Zusammenfassung!$F$5:$F$340,K$2,Zusammenfassung!$C$5:$C$340,\">=\"&$A30,Zusammenfassung!$C$5:$C$340,\"<\"&$A31,Zusammenfassung!$U$5:$U$340,\"<>0\")/1000,1))","v":0},0,"Anfrage",{"$f":"IF(Daten!$F$3=FALSE,0,ROUND(SUMIFS(Zusammenfassung!$D$5:$D$340,Zusammenfassung!$F$5:$F$340,N$2,Zusammenfassung!$C$5:$C$340,\">=\"&$A30,Zusammenfassung!$C$5:$C$340,\"<\"&$A31,Zusammenfassung!$U$5:$U$340,\"<>0\")/1000,1))","v":0},0,"Anfrage",{"$f":"IF(Daten!$F$3=FALSE,0,ROUND(SUMIFS(Zusammenfassung!$D$5:$D$340,Zusammenfassung!$F$5:$F$340,Q$2,Zusammenfassung!$C$5:$C$340,\">=\"&$A30,Zusammenfassung!$C$5:$C$340,\"<\"&$A31,Zusammenfassung!$U$5:$U$340,\"<>0\")/1000,1))","v":0},0]
[300,103.5,{"$f":"IF(Daten!$F$3=FALSE,0,ROUND(SUMIFS(Zusammenfassung!$D$5:$D$340,Zusammenfassung!$F$5:$F$340,B$2,Zusammenfassung!$C$5:$C$340,\">=\"&$A31,Zusammenfassung!$C$5:$C$340,\"<\"&$A32,Zusammenfassung!$U$5:$U$340,\"<>0\")/1000,1))","v":0},0,121.5,{"$f":"IF(Daten!$F$3=FALSE,0,ROUND(SUMIFS(Zusammenfassung!$D$5:$D$340,Zusammenfassung!$F$5:$F$340,E$2,Zusammenfassung!$C$5:$C$340,\">=\"&$A31,Zusammenfassung!$C$5:$C$340,\"<\"&$A32,Zusammenfassung!$U$5:$U$340,\"<>0\")/1000,1))","v":0},0,126,{"$f":"IF(Daten!$F$3=FALSE,0,ROUND(SUMIFS(Zusammenfassung!$D$5:$D$340,Zusammenfassung!$F$5:$F$340,H$2,Zusammenfassung!$C$5:$C$340,\">=\"&$A31,Zusammenfassung!$C$5:$C$340,\"<\"&$A32,Zusammenfassung!$U$5:$U$340,\"<>0\")/1000,1))","v":0},0,126,{"$f":"IF(Daten!$F$3=FALSE,0,ROUND(SUMIFS(Zusammenfassung!$D$5:$D$340,Zusammenfassung!$F$5:$F$340,K$2,Zusammenfassung!$C$5:$C$340,\">=\"&$A31,Zusammenfassung!$C$5:$C$340,\"<\"&$A32,Zusammenfassung!$U$5:$U$340,\"<>0\")/1000,1))","v":0},0,"Anfrage",{"$f":"IF(Daten!$F$3=FALSE,0,ROUND(SUMIFS(Zusammenfassung!$D$5:$D$340,Zusammenfassung!$F$5:$F$340,N$2,Zusammenfassung!$C$5:$C$340,\">=\"&$A31,Zusammenfassung!$C$5:$C$340,\"<\"&$A32,Zusammenfassung!$U$5:$U$340,\"<>0\")/1000,1))","v":0},0,"Anfrage",{"$f":"IF(Daten!$F$3=FALSE,0,ROUND(SUMIFS(Zusammenfassung!$D$5:$D$340,Zusammenfassung!$F$5:$F$340,Q$2,Zusammenfassung!$C$5:$C$340,\">=\"&$A31,Zusammenfassung!$C$5:$C$340,\"<\"&$A32,Zusammenfassung!$U$5:$U$340,\"<>0\")/1000,1))","v":0},0]
[350,113.5,{"$f":"IF(Daten!$F$3=FALSE,0,ROUND(SUMIFS(Zusammenfassung!$D$5:$D$340,Zusammenfassung!$F$5:$F$340,B$2,Zusammenfassung!$C$5:$C$340,\">=\"&$A32,Zusammenfassung!$C$5:$C$340,\"<\"&$A33,Zusammenfassung!$U$5:$U$340,\"<>0\")/1000,1))","v":0},0,135.5,{"$f":"IF(Daten!$F$3=FALSE,0,ROUND(SUMIFS(Zusammenfassung!$D$5:$D$340,Zusammenfassung!$F$5:$F$340,E$2,Zusammenfassung!$C$5:$C$340,\">=\"&$A32,Zusammenfassung!$C$5:$C$340,\"<\"&$A33,Zusammenfassung!$U$5:$U$340,\"<>0\")/1000,1))","v":0},0,136.5,{"$f":"IF(Daten!$F$3=FALSE,0,ROUND(SUMIFS(Zusammenfassung!$D$5:$D$340,Zusammenfassung!$F$5:$F$340,H$2,Zusammenfassung!$C$5:$C$340,\">=\"&$A32,Zusammenfassung!$C$5:$C$340,\"<\"&$A33,Zusammenfassung!$U$5:$U$340,\"<>0\")/1000,1))","v":0},0,136.5,{"$f":"IF(Daten!$F$3=FALSE,0,ROUND(SUMIFS(Zusammenfassung!$D$5:$D$340,Zusammenfassung!$F$5:$F$340,K$2,Zusammenfassung!$C$5:$C$340,\">=\"&$A32,Zusammenfassung!$C$5:$C$340,\"<\"&$A33,Zusammenfassung!$U$5:$U$340,\"<>0\")/1000,1))","v":0},0,"Anfrage",{"$f":"IF(Daten!$F$3=FALSE,0,ROUND(SUMIFS(Zusammenfassung!$D$5:$D$340,Zusammenfassung!$F$5:$F$340,N$2,Zusammenfassung!$C$5:$C$340,\">=\"&$A32,Zusammenfassung!$C$5:$C$340,\"<\"&$A33,Zusammenfassung!$U$5:$U$340,\"<>0\")/1000,1))","v":0},0,"Anfrage",{"$f":"IF(Daten!$F$3=FALSE,0,ROUND(SUMIFS(Zusammenfassung!$D$5:$D$340,Zusammenfassung!$F$5:$F$340,Q$2,Zusammenfassung!$C$5:$C$340,\">=\"&$A32,Zusammenfassung!$C$5:$C$340,\"<\"&$A33,Zusammenfassung!$U$5:$U$340,\"<>0\")/1000,1))","v":0},0]
[400,125,{"$f":"IF(Daten!$F$3=FALSE,0,ROUND(SUMIFS(Zusammenfassung!$D$5:$D$340,Zusammenfassung!$F$5:$F$340,B$2,Zusammenfassung!$C$5:$C$340,\">=\"&$A33,Zusammenfassung!$C$5:$C$340,\"<\"&$A34,Zusammenfassung!$U$5:$U$340,\"<>0\")/1000,1))","v":0},0,150.5,{"$f":"IF(Daten!$F$3=FALSE,0,ROUND(SUMIFS(Zusammenfassung!$D$5:$D$340,Zusammenfassung!$F$5:$F$340,E$2,Zusammenfassung!$C$5:$C$340,\">=\"&$A33,Zusammenfassung!$C$5:$C$340,\"<\"&$A34,Zusammenfassung!$U$5:$U$340,\"<>0\")/1000,1))","v":0},0,152,{"$f":"IF(Daten!$F$3=FALSE,0,ROUND(SUMIFS(Zusammenfassung!$D$5:$D$340,Zusammenfassung!$F$5:$F$340,H$2,Zusammenfassung!$C$5:$C$340,\">=\"&$A33,Zusammenfassung!$C$5:$C$340,\"<\"&$A34,Zusammenfassung!$U$5:$U$340,\"<>0\")/1000,1))","v":0},0,152,{"$f":"IF(Daten!$F$3=FALSE,0,ROUND(SUMIFS(Zusammenfassung!$D$5:$D$340,Zusammenfassung!$F$5:$F$340,K$2,Zusammenfassung!$C$5:$C$340,\">=\"&$A33,Zusammenfassung!$C$5:$C$340,\"<\"&$A34,Zusammenfassung!$U$5:$U$340,\"<>0\")/1000,1))","v":0},0,"Anfrage",{"$f":"IF(Daten!$F$3=FALSE,0,ROUND(SUMIFS(Zusammenfassung!$D$5:$D$340,Zusammenfassung!$F$5:$F$340,N$2,Zusammenfassung!$C$5:$C$340,\">=\"&$A33,Zusammenfassung!$C$5:$C$340,\"<\"&$A34,Zusammenfassung!$U$5:$U$340,\"<>0\")/1000,1))","v":0},0,"Anfrage",{"$f":"IF(Daten!$F$3=FALSE,0,ROUND(SUMIFS(Zusammenfassung!$D$5:$D$340,Zusammenfassung!$F$5:$F$340,Q$2,Zusammenfassung!$C$5:$C$340,\">=\"&$A33,Zusammenfassung!$C$5:$C$340,\"<\"&$A34,Zusammenfassung!$U$5:$U$340,\"<>0\")/1000,1))","v":0},0]
[450,133.5,{"$f":"IF(Daten!$F$3=FALSE,0,ROUND(SUMIFS(Zusammenfassung!$D$5:$D$340,Zusammenfassung!$F$5:$F$340,B$2,Zusammenfassung!$C$5:$C$340,\">=\"&$A34,Zusammenfassung!$C$5:$C$340,\"<\"&$A35,Zusammenfassung!$U$5:$U$340,\"<>0\")/1000,1))","v":0},0,163,{"$f":"IF(Daten!$F$3=FALSE,0,ROUND(SUMIFS(Zusammenfassung!$D$5:$D$340,Zusammenfassung!$F$5:$F$340,E$2,Zusammenfassung!$C$5:$C$340,\">=\"&$A34,Zusammenfassung!$C$5:$C$340,\"<\"&$A35,Zusammenfassung!$U$5:$U$340,\"<>0\")/1000,1))","v":0},0,166,{"$f":"IF(Daten!$F$3=FALSE,0,ROUND(SUMIFS(Zusammenfassung!$D$5:$D$340,Zusammenfassung!$F$5:$F$340,H$2,Zusammenfassung!$C$5:$C$340,\">=\"&$A34,Zusammenfassung!$C$5:$C$340,\"<\"&$A35,Zusammenfassung!$U$5:$U$340,\"<>0\")/1000,1))","v":0},0,166,{"$f":"IF(Daten!$F$3=FALSE,0,ROUND(SUMIFS(Zusammenfassung!$D$5:$D$340,Zusammenfassung!$F$5:$F$340,K$2,Zusammenfassung!$C$5:$C$340,\">=\"&$A34,Zusammenfassung!$C$5:$C$340,\"<\"&$A35,Zusammenfassung!$U$5:$U$340,\"<>0\")/1000,1))","v":0},0,"Anfrage",{"$f":"IF(Daten!$F$3=FALSE,0,ROUND(SUMIFS(Zusammenfassung!$D$5:$D$340,Zusammenfassung!$F$5:$F$340,N$2,Zusammenfassung!$C$5:$C$340,\">=\"&$A34,Zusammenfassung!$C$5:$C$340,\"<\"&$A35,Zusammenfassung!$U$5:$U$340,\"<>0\")/1000,1))","v":0},0,"Anfrage",{"$f":"IF(Daten!$F$3=FALSE,0,ROUND(SUMIFS(Zusammenfassung!$D$5:$D$340,Zusammenfassung!$F$5:$F$340,Q$2,Zusammenfassung!$C$5:$C$340,\">=\"&$A34,Zusammenfassung!$C$5:$C$340,\"<\"&$A35,Zusammenfassung!$U$5:$U$340,\"<>0\")/1000,1))","v":0},0]
[500,144,{"$f":"IF(Daten!$F$3=FALSE,0,ROUND(SUMIFS(Zusammenfassung!$D$5:$D$340,Zusammenfassung!$F$5:$F$340,B$2,Zusammenfassung!$C$5:$C$340,\">=\"&$A35,Zusammenfassung!$C$5:$C$340,\"<\"&$A36,Zusammenfassung!$U$5:$U$340,\"<>0\")/1000,1))","v":0},0,175,{"$f":"IF(Daten!$F$3=FALSE,0,ROUND(SUMIFS(Zusammenfassung!$D$5:$D$340,Zusammenfassung!$F$5:$F$340,E$2,Zusammenfassung!$C$5:$C$340,\">=\"&$A35,Zusammenfassung!$C$5:$C$340,\"<\"&$A36,Zusammenfassung!$U$5:$U$340,\"<>0\")/1000,1))","v":0},0,179,{"$f":"IF(Daten!$F$3=FALSE,0,ROUND(SUMIFS(Zusammenfassung!$D$5:$D$340,Zusammenfassung!$F$5:$F$340,H$2,Zusammenfassung!$C$5:$C$340,\">=\"&$A35,Zusammenfassung!$C$5:$C$340,\"<\"&$A36,Zusammenfassung!$U$5:$U$340,\"<>0\")/1000,1))","v":0},0,179,{"$f":"IF(Daten!$F$3=FALSE,0,ROUND(SUMIFS(Zusammenfassung!$D$5:$D$340,Zusammenfassung!$F$5:$F$340,K$2,Zusammenfassung!$C$5:$C$340,\">=\"&$A35,Zusammenfassung!$C$5:$C$340,\"<\"&$A36,Zusammenfassung!$U$5:$U$340,\"<>0\")/1000,1))","v":0},0,"Anfrage",{"$f":"IF(Daten!$F$3=FALSE,0,ROUND(SUMIFS(Zusammenfassung!$D$5:$D$340,Zusammenfassung!$F$5:$F$340,N$2,Zusammenfassung!$C$5:$C$340,\">=\"&$A35,Zusammenfassung!$C$5:$C$340,\"<\"&$A36,Zusammenfassung!$U$5:$U$340,\"<>0\")/1000,1))","v":0},0,"Anfrage",{"$f":"IF(Daten!$F$3=FALSE,0,ROUND(SUMIFS(Zusammenfassung!$D$5:$D$340,Zusammenfassung!$F$5:$F$340,Q$2,Zusammenfassung!$C$5:$C$340,\">=\"&$A35,Zusammenfassung!$C$5:$C$340,\"<\"&$A36,Zusammenfassung!$U$5:$U$340,\"<>0\")/1000,1))","v":0},0]
[550,"Anfrage",{"$f":"IF(Daten!$F$3=FALSE,0,ROUND(SUMIFS(Zusammenfassung!$D$5:$D$340,Zusammenfassung!$F$5:$F$340,B$2,Zusammenfassung!$C$5:$C$340,\">=\"&$A36,Zusammenfassung!$C$5:$C$340,\"<\"&$A37,Zusammenfassung!$U$5:$U$340,\"<>0\")/1000,1))","v":0},0,"Anfrage",{"$f":"IF(Daten!$F$3=FALSE,0,ROUND(SUMIFS(Zusammenfassung!$D$5:$D$340,Zusammenfassung!$F$5:$F$340,E$2,Zusammenfassung!$C$5:$C$340,\">=\"&$A36,Zusammenfassung!$C$5:$C$340,\"<\"&$A37,Zusammenfassung!$U$5:$U$340,\"<>0\")/1000,1))","v":0},0,"Anfrage",{"$f":"IF(Daten!$F$3=FALSE,0,ROUND(SUMIFS(Zusammenfassung!$D$5:$D$340,Zusammenfassung!$F$5:$F$340,H$2,Zusammenfassung!$C$5:$C$340,\">=\"&$A36,Zusammenfassung!$C$5:$C$340,\"<\"&$A37,Zusammenfassung!$U$5:$U$340,\"<>0\")/1000,1))","v":0},0,"Anfrage",{"$f":"IF(Daten!$F$3=FALSE,0,ROUND(SUMIFS(Zusammenfassung!$D$5:$D$340,Zusammenfassung!$F$5:$F$340,K$2,Zusammenfassung!$C$5:$C$340,\">=\"&$A36,Zusammenfassung!$C$5:$C$340,\"<\"&$A37,Zusammenfassung!$U$5:$U$340,\"<>0\")/1000,1))","v":0},0,{"$f":"K36","v":"Anfrage"},{"$f":"IF(Daten!$F$3=FALSE,0,ROUND(SUMIFS(Zusammenfassung!$D$5:$D$340,Zusammenfassung!$F$5:$F$340,N$2,Zusammenfassung!$C$5:$C$340,\">=\"&$A36,Zusammenfassung!$C$5:$C$340,\"<\"&$A37,Zusammenfassung!$U$5:$U$340,\"<>0\")/1000,1))","v":0},0,{"$f":"N36","v":"Anfrage"},{"$f":"IF(Daten!$F$3=FALSE,0,ROUND(SUMIFS(Zusammenfassung!$D$5:$D$340,Zusammenfassung!$F$5:$F$340,Q$2,Zusammenfassung!$C$5:$C$340,\">=\"&$A36,Zusammenfassung!$C$5:$C$340,\"<\"&$A37,Zusammenfassung!$U$5:$U$340,\"<>0\")/1000,1))","v":0},0]
[null,null,{"$f":"SUM(C27:C36)","v":0},{"$f":"SUM(D27:D36)-(SUM(D27:D36)*$D40)","v":0},null,{"$f":"SUM(F27:F36)-(SUM(F27:F36)*$D40)","v":0},{"$f":"SUM(G27:G36)-(SUM(G27:G36)*$D40)","v":0},null,{"$f":"SUM(I27:I36)-(SUM(I27:I36)*$D40)","v":0},{"$f":"SUM(J27:J36)-(SUM(J27:J36)*$D40)","v":0},null,{"$f":"SUM(L27:L36)-(SUM(L27:L36)*$D40)","v":0},{"$f":"SUM(M27:M36)-(SUM(M27:M36)*$D40)","v":0},null,{"$f":"SUM(O27:O36)-(SUM(O27:O36)*$D40)","v":0},{"$f":"SUM(P27:P36)-(SUM(P27:P36)*$D40)","v":0},null,{"$f":"SUM(R27:R36)-(SUM(R27:R36)*$D40)","v":0},{"$f":"SUM(S27:S36)-(SUM(S27:S36)*$D40)","v":0},0]
["Isolation",null,"EPS",0,50,null,null,null,"XPS",0,50,null,null,null,"XPS",51,80,null,null,null,"XPS",81,100]
[null,"B",null,null,"C",null,null,"B",null,null,"C",null,null,"B",null,null,"C",null,null,"B",null,null,"C"]
[0,26,{"$f":"ROUND(SUMIFS(Zusammenfassung!$D$5:$D$340,Zusammenfassung!$G$5:$G$340,B$39,Zusammenfassung!$J$5:$J$340,\">=\"&$A40,Zusammenfassung!$J$5:$J$340,\"<\"&$A41,Zusammenfassung!$U$5:$U$340,0,Zusammenfassung!$H$5:$H$340,\">\"&D$38,Zusammenfassung!$H$5:$H$340,\"<=\"&E$38,Zusammenfassung!$I$5:$I$340,C$38)/1000,1)","v":0},{"$f":"IFERROR(C40*B40,0)","v":0},24,{"$f":"ROUND(SUMIFS(Zusammenfassung!$D$5:$D$340,Zusammenfassung!$G$5:$G$340,E$39,Zusammenfassung!$J$5:$J$340,\">=\"&$A40,Zusammenfassung!$J$5:$J$340,\"<\"&$A41,Zusammenfassung!$U$5:$U$340,0,Zusammenfassung!$H$5:$H$340,\">\"&D$38,Zusammenfassung!$H$5:$H$340,\"<=\"&E$38,Zusammenfassung!$I$5:$I$340,C$38)/1000,1)","v":0},{"$f":"IFERROR(F40*E40,0)","v":0},31,{"$f":"ROUND(SUMIFS(Zusammenfassung!$D$5:$D$340,Zusammenfassung!$G$5:$G$340,H$39,Zusammenfassung!$J$5:$J$340,\">=\"&$A40,Zusammenfassung!$J$5:$J$340,\"<\"&$A41,Zusammenfassung!$U$5:$U$340,0,Zusammenfassung!$H$5:$H$340,\">\"&J$38,Zusammenfassung!$H$5:$H$340,\"<=\"&K$38,Zusammenfassung!$I$5:$I$340,I$38)/1000,1)","v":0},{"$f":"IFERROR(I40*H40,0)","v":0},26,{"$f":"ROUND(SUMIFS(Zusammenfassung!$D$5:$D$340,Zusammenfassung!$G$5:$G$340,K$39,Zusammenfassung!$J$5:$J$340,\">=\"&$A40,Zusammenfassung!$J$5:$J$340,\"<\"&$A41,Zusammenfassung!$U$5:$U$340,0,Zusammenfassung!$H$5:$H$340,\">\"&J$38,Zusammenfassung!$H$5:$H$340,\"<=\"&K$38,Zusammenfassung!$I$5:$I$340,I$38)/1000,1)","v":0},{"$f":"IFERROR(L40*K40,0)","v":0},37,{"$f":"ROUND(SUMIFS(Zusammenfassung!$D$5:$D$340,Zusammenfassung!$G$5:$G$340,N$39,Zusammenfassung!$J$5:$J$340,\">=\"&$A40,Zusammenfassung!$J$5:$J$340,\"<\"&$A41,Zusammenfassung!$U$5:$U$340,0,Zusammenfassung!$H$5:$H$340,\">\"&P$38,Zusammenfassung!$H$5:$H$340,\"<=\"&Q$38,Zusammenfassung!$I$5:$I$340,O$38)/1000,1)","v":0},{"$f":"IFERROR(O40*N40,0)","v":0},33.5,{"$f":"ROUND(SUMIFS(Zusammenfassung!$D$5:$D$340,Zusammenfassung!$G$5:$G$340,Q$39,Zusammenfassung!$J$5:$J$340,\">=\"&$A40,Zusammenfassung!$J$5:$J$340,\"<\"&$A41,Zusammenfassung!$U$5:$U$340,0,Zusammenfassung!$H$5:$H$340,\">\"&P$38,Zusammenfassung!$H$5:$H$340,\"<=\"&Q$38,Zusammenfassung!$I$5:$I$340,O$38)/1000,1)","v":0},{"$f":"IFERROR(R40*Q40,0)","v":0},41,{"$f":"ROUND(SUMIFS(Zusammenfassung!$D$5:$D$340,Zusammenfassung!$G$5:$G$340,T$39,Zusammenfassung!$J$5:$J$340,\">=\"&$A40,Zusammenfassung!$J$5:$J$340,\"<\"&$A41,Zusammenfassung!$U$5:$U$340,0,Zusammenfassung!$H$5:$H$340,\">\"&V$38,Zusammenfassung!$H$5:$H$340,\"<=\"&W$38,Zusammenfassung!$I$5:$I$340,U$38)/1000,1)","v":0},{"$f":"IFERROR(U40*T40,0)","v":0},37.5,{"$f":"ROUND(SUMIFS(Zusammenfassung!$D$5:$D$340,Zusammenfassung!$G$5:$G$340,W$39,Zusammenfassung!$J$5:$J$340,\">=\"&$A40,Zusammenfassung!$J$5:$J$340,\"<\"&$A41,Zusammenfassung!$U$5:$U$340,0,Zusammenfassung!$H$5:$H$340,\">\"&V$38,Zusammenfassung!$H$5:$H$340,\"<=\"&W$38,Zusammenfassung!$I$5:$I$340,U$38)/1000,1)","v":0},{"$f":"IFERROR(X40*W40,0)","v":0}]
[150,28,{"$f":"ROUND(SUMIFS(Zusammenfassung!$D$5:$D$340,Zusammenfassung!$G$5:$G$340,B$39,Zusammenfassung!$J$5:$J$340,\">=\"&$A41,Zusammenfassung!$J$5:$J$340,\"<\"&$A42,Zusammenfassung!$U$5:$U$340,0,Zusammenfassung!$H$5:$H$340,\">\"&D$38,Zusammenfassung!$H$5:$H$340,\"<=\"&E$38,Zusammenfassung!$I$5:$I$340,C$38)/1000,1)","v":0},{"$f":"IFERROR(C41*B41,0)","v":0},26,{"$f":"ROUND(SUMIFS(Zusammenfassung!$D$5:$D$340,Zusammenfassung!$G$5:$G$340,E$39,Zusammenfassung!$J$5:$J$340,\">=\"&$A41,Zusammenfassung!$J$5:$J$340,\"<\"&$A42,Zusammenfassung!$U$5:$U$340,0,Zusammenfassung!$H$5:$H$340,\">\"&D$38,Zusammenfassung!$H$5:$H$340,\"<=\"&E$38,Zusammenfassung!$I$5:$I$340,C$38)/1000,1)","v":0},{"$f":"IFERROR(F41*E41,0)","v":0},33.5,{"$f":"ROUND(SUMIFS(Zusammenfassung!$D$5:$D$340,Zusammenfassung!$G$5:$G$340,H$39,Zusammenfassung!$J$5:$J$340,\">=\"&$A41,Zusammenfassung!$J$5:$J$340,\"<\"&$A42,Zusammenfassung!$U$5:$U$340,0,Zusammenfassung!$H$5:$H$340,\">\"&J$38,Zusammenfassung!$H$5:$H$340,\"<=\"&K$38,Zusammenfassung!$I$5:$I$340,I$38)/1000,1)","v":0},{"$f":"IFERROR(I41*H41,0)","v":0},29,{"$f":"ROUND(SUMIFS(Zusammenfassung!$D$5:$D$340,Zusammenfassung!$G$5:$G$340,K$39,Zusammenfassung!$J$5:$J$340,\">=\"&$A41,Zusammenfassung!$J$5:$J$340,\"<\"&$A42,Zusammenfassung!$U$5:$U$340,0,Zusammenfassung!$H$5:$H$340,\">\"&J$38,Zusammenfassung!$H$5:$H$340,\"<=\"&K$38,Zusammenfassung!$I$5:$I$340,I$38)/1000,1)","v":0},{"$f":"IFERROR(L41*K41,0)","v":0},39.5,{"$f":"ROUND(SUMIFS(Zusammenfassung!$D$5:$D$340,Zusammenfassung!$G$5:$G$340,N$39,Zusammenfassung!$J$5:$J$340,\">=\"&$A41,Zusammenfassung!$J$5:$J$340,\"<\"&$A42,Zusammenfassung!$U$5:$U$340,0,Zusammenfassung!$H$5:$H$340,\">\"&P$38,Zusammenfassung!$H$5:$H$340,\"<=\"&Q$38,Zusammenfassung!$I$5:$I$340,O$38)/1000,1)","v":0},{"$f":"IFERROR(O41*N41,0)","v":0},35.5,{"$f":"ROUND(SUMIFS(Zusammenfassung!$D$5:$D$340,Zusammenfassung!$G$5:$G$340,Q$39,Zusammenfassung!$J$5:$J$340,\">=\"&$A41,Zusammenfassung!$J$5:$J$340,\"<\"&$A42,Zusammenfassung!$U$5:$U$340,0,Zusammenfassung!$H$5:$H$340,\">\"&P$38,Zusammenfassung!$H$5:$H$340,\"<=\"&Q$38,Zusammenfassung!$I$5:$I$340,O$38)/1000,1)","v":0},{"$f":"IFERROR(R41*Q41,0)","v":0},44,{"$f":"ROUND(SUMIFS(Zusammenfassung!$D$5:$D$340,Zusammenfassung!$G$5:$G$340,T$39,Zusammenfassung!$J$5:$J$340,\">=\"&$A41,Zusammenfassung!$J$5:$J$340,\"<\"&$A42,Zusammenfassung!$U$5:$U$340,0,Zusammenfassung!$H$5:$H$340,\">\"&V$38,Zusammenfassung!$H$5:$H$340,\"<=\"&W$38,Zusammenfassung!$I$5:$I$340,U$38)/1000,1)","v":0},{"$f":"IFERROR(U41*T41,0)","v":0},40,{"$f":"ROUND(SUMIFS(Zusammenfassung!$D$5:$D$340,Zusammenfassung!$G$5:$G$340,W$39,Zusammenfassung!$J$5:$J$340,\">=\"&$A41,Zusammenfassung!$J$5:$J$340,\"<\"&$A42,Zusammenfassung!$U$5:$U$340,0,Zusammenfassung!$H$5:$H$340,\">\"&V$38,Zusammenfassung!$H$5:$H$340,\"<=\"&W$38,Zusammenfassung!$I$5:$I$340,U$38)/1000,1)","v":0},{"$f":"IFERROR(X41*W41,0)","v":0}]
[201,30,{"$f":"ROUND(SUMIFS(Zusammenfassung!$D$5:$D$340,Zusammenfassung!$G$5:$G$340,B$39,Zusammenfassung!$J$5:$J$340,\">=\"&$A42,Zusammenfassung!$J$5:$J$340,\"<\"&$A43,Zusammenfassung!$U$5:$U$340,0,Zusammenfassung!$H$5:$H$340,\">\"&D$38,Zusammenfassung!$H$5:$H$340,\"<=\"&E$38,Zusammenfassung!$I$5:$I$340,C$38)/1000,1)","v":0},0,28,{"$f":"ROUND(SUMIFS(Zusammenfassung!$D$5:$D$340,Zusammenfassung!$G$5:$G$340,E$39,Zusammenfassung!$J$5:$J$340,\">=\"&$A42,Zusammenfassung!$J$5:$J$340,\"<\"&$A43,Zusammenfassung!$U$5:$U$340,0,Zusammenfassung!$H$5:$H$340,\">\"&D$38,Zusammenfassung!$H$5:$H$340,\"<=\"&E$38,Zusammenfassung!$I$5:$I$340,C$38)/1000,1)","v":0},0,37,{"$f":"ROUND(SUMIFS(Zusammenfassung!$D$5:$D$340,Zusammenfassung!$G$5:$G$340,H$39,Zusammenfassung!$J$5:$J$340,\">=\"&$A42,Zusammenfassung!$J$5:$J$340,\"<\"&$A43,Zusammenfassung!$U$5:$U$340,0,Zusammenfassung!$H$5:$H$340,\">\"&J$38,Zusammenfassung!$H$5:$H$340,\"<=\"&K$38,Zusammenfassung!$I$5:$I$340,I$38)/1000,1)","v":0},0,31.5,{"$f":"ROUND(SUMIFS(Zusammenfassung!$D$5:$D$340,Zusammenfassung!$G$5:$G$340,K$39,Zusammenfassung!$J$5:$J$340,\">=\"&$A42,Zusammenfassung!$J$5:$J$340,\"<\"&$A43,Zusammenfassung!$U$5:$U$340,0,Zusammenfassung!$H$5:$H$340,\">\"&J$38,Zusammenfassung!$H$5:$H$340,\"<=\"&K$38,Zusammenfassung!$I$5:$I$340,I$38)/1000,1)","v":0},0,43,{"$f":"ROUND(SUMIFS(Zusammenfassung!$D$5:$D$340,Zusammenfassung!$G$5:$G$340,N$39,Zusammenfassung!$J$5:$J$340,\">=\"&$A42,Zusammenfassung!$J$5:$J$340,\"<\"&$A43,Zusammenfassung!$U$5:$U$340,0,Zusammenfassung!$H$5:$H$340,\">\"&P$38,Zusammenfassung!$H$5:$H$340,\"<=\"&Q$38,Zusammenfassung!$I$5:$I$340,O$38)/1000,1)","v":0},0,39,{"$f":"ROUND(SUMIFS(Zusammenfassung!$D$5:$D$340,Zusammenfassung!$G$5:$G$340,Q$39,Zusammenfassung!$J$5:$J$340,\">=\"&$A42,Zusammenfassung!$J$5:$J$340,\"<\"&$A43,Zusammenfassung!$U$5:$U$340,0,Zusammenfassung!$H$5:$H$340,\">\"&P$38,Zusammenfassung!$H$5:$H$340,\"<=\"&Q$38,Zusammenfassung!$I$5:$I$340,O$38)/1000,1)","v":0},0,48.5,{"$f":"ROUND(SUMIFS(Zusammenfassung!$D$5:$D$340,Zusammenfassung!$G$5:$G$340,T$39,Zusammenfassung!$J$5:$J$340,\">=\"&$A42,Zusammenfassung!$J$5:$J$340,\"<\"&$A43,Zusammenfassung!$U$5:$U$340,0,Zusammenfassung!$H$5:$H$340,\">\"&V$38,Zusammenfassung!$H$5:$H$340,\"<=\"&W$38,Zusammenfassung!$I$5:$I$340,U$38)/1000,1)","v":0},0,44,{"$f":"ROUND(SUMIFS(Zusammenfassung!$D$5:$D$340,Zusammenfassung!$G$5:$G$340,W$39,Zusammenfassung!$J$5:$J$340,\">=\"&$A42,Zusammenfassung!$J$5:$J$340,\"<\"&$A43,Zusammenfassung!$U$5:$U$340,0,Zusammenfassung!$H$5:$H$340,\">\"&V$38,Zusammenfassung!$H$5:$H$340,\"<=\"&W$38,Zusammenfassung!$I$5:$I$340,U$38)/1000,1)","v":0},0]
[251,33,{"$f":"ROUND(SUMIFS(Zusammenfassung!$D$5:$D$340,Zusammenfassung!$G$5:$G$340,B$39,Zusammenfassung!$J$5:$J$340,\">=\"&$A43,Zusammenfassung!$J$5:$J$340,\"<\"&$A44,Zusammenfassung!$U$5:$U$340,0,Zusammenfassung!$H$5:$H$340,\">\"&D$38,Zusammenfassung!$H$5:$H$340,\"<=\"&E$38,Zusammenfassung!$I$5:$I$340,C$38)/1000,1)","v":0},0,29,{"$f":"ROUND(SUMIFS(Zusammenfassung!$D$5:$D$340,Zusammenfassung!$G$5:$G$340,E$39,Zusammenfassung!$J$5:$J$340,\">=\"&$A43,Zusammenfassung!$J$5:$J$340,\"<\"&$A44,Zusammenfassung!$U$5:$U$340,0,Zusammenfassung!$H$5:$H$340,\">\"&D$38,Zusammenfassung!$H$5:$H$340,\"<=\"&E$38,Zusammenfassung!$I$5:$I$340,C$38)/1000,1)","v":0},0,40,{"$f":"ROUND(SUMIFS(Zusammenfassung!$D$5:$D$340,Zusammenfassung!$G$5:$G$340,H$39,Zusammenfassung!$J$5:$J$340,\">=\"&$A43,Zusammenfassung!$J$5:$J$340,\"<\"&$A44,Zusammenfassung!$U$5:$U$340,0,Zusammenfassung!$H$5:$H$340,\">\"&J$38,Zusammenfassung!$H$5:$H$340,\"<=\"&K$38,Zusammenfassung!$I$5:$I$340,I$38)/1000,1)","v":0},0,35,{"$f":"ROUND(SUMIFS(Zusammenfassung!$D$5:$D$340,Zusammenfassung!$G$5:$G$340,K$39,Zusammenfassung!$J$5:$J$340,\">=\"&$A43,Zusammenfassung!$J$5:$J$340,\"<\"&$A44,Zusammenfassung!$U$5:$U$340,0,Zusammenfassung!$H$5:$H$340,\">\"&J$38,Zusammenfassung!$H$5:$H$340,\"<=\"&K$38,Zusammenfassung!$I$5:$I$340,I$38)/1000,1)","v":0},0,46,{"$f":"ROUND(SUMIFS(Zusammenfassung!$D$5:$D$340,Zusammenfassung!$G$5:$G$340,N$39,Zusammenfassung!$J$5:$J$340,\">=\"&$A43,Zusammenfassung!$J$5:$J$340,\"<\"&$A44,Zusammenfassung!$U$5:$U$340,0,Zusammenfassung!$H$5:$H$340,\">\"&P$38,Zusammenfassung!$H$5:$H$340,\"<=\"&Q$38,Zusammenfassung!$I$5:$I$340,O$38)/1000,1)","v":0},0,42,{"$f":"ROUND(SUMIFS(Zusammenfassung!$D$5:$D$340,Zusammenfassung!$G$5:$G$340,Q$39,Zusammenfassung!$J$5:$J$340,\">=\"&$A43,Zusammenfassung!$J$5:$J$340,\"<\"&$A44,Zusammenfassung!$U$5:$U$340,0,Zusammenfassung!$H$5:$H$340,\">\"&P$38,Zusammenfassung!$H$5:$H$340,\"<=\"&Q$38,Zusammenfassung!$I$5:$I$340,O$38)/1000,1)","v":0},0,51.5,{"$f":"ROUND(SUMIFS(Zusammenfassung!$D$5:$D$340,Zusammenfassung!$G$5:$G$340,T$39,Zusammenfassung!$J$5:$J$340,\">=\"&$A43,Zusammenfassung!$J$5:$J$340,\"<\"&$A44,Zusammenfassung!$U$5:$U$340,0,Zusammenfassung!$H$5:$H$340,\">\"&V$38,Zusammenfassung!$H$5:$H$340,\"<=\"&W$38,Zusammenfassung!$I$5:$I$340,U$38)/1000,1)","v":0},0,47.5,{"$f":"ROUND(SUMIFS(Zusammenfassung!$D$5:$D$340,Zusammenfassung!$G$5:$G$340,W$39,Zusammenfassung!$J$5:$J$340,\">=\"&$A43,Zusammenfassung!$J$5:$J$340,\"<\"&$A44,Zusammenfassung!$U$5:$U$340,0,Zusammenfassung!$H$5:$H$340,\">\"&V$38,Zusammenfassung!$H$5:$H$340,\"<=\"&W$38,Zusammenfassung!$I$5:$I$340,U$38)/1000,1)","v":0},0]
[301,37,{"$f":"ROUND(SUMIFS(Zusammenfassung!$D$5:$D$340,Zusammenfassung!$G$5:$G$340,B$39,Zusammenfassung!$J$5:$J$340,\">=\"&$A44,Zusammenfassung!$J$5:$J$340,\"<\"&$A45,Zusammenfassung!$U$5:$U$340,0,Zusammenfassung!$H$5:$H$340,\">\"&D$38,Zusammenfassung!$H$5:$H$340,\"<=\"&E$38,Zusammenfassung!$I$5:$I$340,C$38)/1000,1)","v":0},0,32,{"$f":"ROUND(SUMIFS(Zusammenfassung!$D$5:$D$340,Zusammenfassung!$G$5:$G$340,E$39,Zusammenfassung!$J$5:$J$340,\">=\"&$A44,Zusammenfassung!$J$5:$J$340,\"<\"&$A45,Zusammenfassung!$U$5:$U$340,0,Zusammenfassung!$H$5:$H$340,\">\"&D$38,Zusammenfassung!$H$5:$H$340,\"<=\"&E$38,Zusammenfassung!$I$5:$I$340,C$38)/1000,1)","v":0},0,43,{"$f":"ROUND(SUMIFS(Zusammenfassung!$D$5:$D$340,Zusammenfassung!$G$5:$G$340,H$39,Zusammenfassung!$J$5:$J$340,\">=\"&$A44,Zusammenfassung!$J$5:$J$340,\"<\"&$A45,Zusammenfassung!$U$5:$U$340,0,Zusammenfassung!$H$5:$H$340,\">\"&J$38,Zusammenfassung!$H$5:$H$340,\"<=\"&K$38,Zusammenfassung!$I$5:$I$340,I$38)/1000,1)","v":0},0,40,{"$f":"ROUND(SUMIFS(Zusammenfassung!$D$5:$D$340,Zusammenfassung!$G$5:$G$340,K$39,Zusammenfassung!$J$5:$J$340,\">=\"&$A44,Zusammenfassung!$J$5:$J$340,\"<\"&$A45,Zusammenfassung!$U$5:$U$340,0,Zusammenfassung!$H$5:$H$340,\">\"&J$38,Zusammenfassung!$H$5:$H$340,\"<=\"&K$38,Zusammenfassung!$I$5:$I$340,I$38)/1000,1)","v":0},0,52,{"$f":"ROUND(SUMIFS(Zusammenfassung!$D$5:$D$340,Zusammenfassung!$G$5:$G$340,N$39,Zusammenfassung!$J$5:$J$340,\">=\"&$A44,Zusammenfassung!$J$5:$J$340,\"<\"&$A45,Zusammenfassung!$U$5:$U$340,0,Zusammenfassung!$H$5:$H$340,\">\"&P$38,Zusammenfassung!$H$5:$H$340,\"<=\"&Q$38,Zusammenfassung!$I$5:$I$340,O$38)/1000,1)","v":0},0,48.5,{"$f":"ROUND(SUMIFS(Zusammenfassung!$D$5:$D$340,Zusammenfassung!$G$5:$G$340,Q$39,Zusammenfassung!$J$5:$J$340,\">=\"&$A44,Zusammenfassung!$J$5:$J$340,\"<\"&$A45,Zusammenfassung!$U$5:$U$340,0,Zusammenfassung!$H$5:$H$340,\">\"&P$38,Zusammenfassung!$H$5:$H$340,\"<=\"&Q$38,Zusammenfassung!$I$5:$I$340,O$38)/1000,1)","v":0},0,58,{"$f":"ROUND(SUMIFS(Zusammenfassung!$D$5:$D$340,Zusammenfassung!$G$5:$G$340,T$39,Zusammenfassung!$J$5:$J$340,\">=\"&$A44,Zusammenfassung!$J$5:$J$340,\"<\"&$A45,Zusammenfassung!$U$5:$U$340,0,Zusammenfassung!$H$5:$H$340,\">\"&V$38,Zusammenfassung!$H$5:$H$340,\"<=\"&W$38,Zusammenfassung!$I$5:$I$340,U$38)/1000,1)","v":0},0,54.5,{"$f":"ROUND(SUMIFS(Zusammenfassung!$D$5:$D$340,Zusammenfassung!$G$5:$G$340,W$39,Zusammenfassung!$J$5:$J$340,\">=\"&$A44,Zusammenfassung!$J$5:$J$340,\"<\"&$A45,Zusammenfassung!$U$5:$U$340,0,Zusammenfassung!$H$5:$H$340,\">\"&V$38,Zusammenfassung!$H$5:$H$340,\"<=\"&W$38,Zusammenfassung!$I$5:$I$340,U$38)/1000,1)","v":0},0]
[351,"Anfrage",{"$f":"ROUND(SUMIFS(Zusammenfassung!$D$5:$D$340,Zusammenfassung!$G$5:$G$340,B$39,Zusammenfassung!$J$5:$J$340,\">=\"&$A45,Zusammenfassung!$J$5:$J$340,\"<\"&$A46,Zusammenfassung!$U$5:$U$340,0,Zusammenfassung!$H$5:$H$340,\">\"&D$38,Zusammenfassung!$H$5:$H$340,\"<=\"&E$38,Zusammenfassung!$I$5:$I$340,C$38)/1000,1)","v":0},0,"Anfrage",{"$f":"ROUND(SUMIFS(Zusammenfassung!$D$5:$D$340,Zusammenfassung!$G$5:$G$340,E$39,Zusammenfassung!$J$5:$J$340,\">=\"&$A45,Zusammenfassung!$J$5:$J$340,\"<\"&$A46,Zusammenfassung!$U$5:$U$340,0,Zusammenfassung!$H$5:$H$340,\">\"&D$38,Zusammenfassung!$H$5:$H$340,\"<=\"&E$38,Zusammenfassung!$I$5:$I$340,C$38)/1000,1)","v":0},0,"Anfrage",{"$f":"ROUND(SUMIFS(Zusammenfassung!$D$5:$D$340,Zusammenfassung!$G$5:$G$340,H$39,Zusammenfassung!$J$5:$J$340,\">=\"&$A45,Zusammenfassung!$J$5:$J$340,\"<\"&$A46,Zusammenfassung!$U$5:$U$340,0,Zusammenfassung!$H$5:$H$340,\">\"&J$38,Zusammenfassung!$H$5:$H$340,\"<=\"&K$38,Zusammenfassung!$I$5:$I$340,I$38)/1000,1)","v":0},0,"Anfrage",{"$f":"ROUND(SUMIFS(Zusammenfassung!$D$5:$D$340,Zusammenfassung!$G$5:$G$340,K$39,Zusammenfassung!$J$5:$J$340,\">=\"&$A45,Zusammenfassung!$J$5:$J$340,\"<\"&$A46,Zusammenfassung!$U$5:$U$340,0,Zusammenfassung!$H$5:$H$340,\">\"&J$38,Zusammenfassung!$H$5:$H$340,\"<=\"&K$38,Zusammenfassung!$I$5:$I$340,I$38)/1000,1)","v":0},0,"Anfrage",{"$f":"ROUND(SUMIFS(Zusammenfassung!$D$5:$D$340,Zusammenfassung!$G$5:$G$340,N$39,Zusammenfassung!$J$5:$J$340,\">=\"&$A45,Zusammenfassung!$J$5:$J$340,\"<\"&$A46,Zusammenfassung!$U$5:$U$340,0,Zusammenfassung!$H$5:$H$340,\">\"&P$38,Zusammenfassung!$H$5:$H$340,\"<=\"&Q$38,Zusammenfassung!$I$5:$I$340,O$38)/1000,1)","v":0},0,"Anfrage",{"$f":"ROUND(SUMIFS(Zusammenfassung!$D$5:$D$340,Zusammenfassung!$G$5:$G$340,Q$39,Zusammenfassung!$J$5:$J$340,\">=\"&$A45,Zusammenfassung!$J$5:$J$340,\"<\"&$A46,Zusammenfassung!$U$5:$U$340,0,Zusammenfassung!$H$5:$H$340,\">\"&P$38,Zusammenfassung!$H$5:$H$340,\"<=\"&Q$38,Zusammenfassung!$I$5:$I$340,O$38)/1000,1)","v":0},0,"Anfrage",{"$f":"ROUND(SUMIFS(Zusammenfassung!$D$5:$D$340,Zusammenfassung!$G$5:$G$340,T$39,Zusammenfassung!$J$5:$J$340,\">=\"&$A45,Zusammenfassung!$J$5:$J$340,\"<\"&$A46,Zusammenfassung!$U$5:$U$340,0,Zusammenfassung!$H$5:$H$340,\">\"&V$38,Zusammenfassung!$H$5:$H$340,\"<=\"&W$38,Zusammenfassung!$I$5:$I$340,U$38)/1000,1)","v":0},0,"Anfrage",{"$f":"ROUND(SUMIFS(Zusammenfassung!$D$5:$D$340,Zusammenfassung!$G$5:$G$340,W$39,Zusammenfassung!$J$5:$J$340,\">=\"&$A45,Zusammenfassung!$J$5:$J$340,\"<\"&$A46,Zusammenfassung!$U$5:$U$340,0,Zusammenfassung!$H$5:$H$340,\">\"&V$38,Zusammenfassung!$H$5:$H$340,\"<=\"&W$38,Zusammenfassung!$I$5:$I$340,U$38)/1000,1)","v":0},0]
[null,null,{"$f":"SUM(C40:C45)","v":0},{"$f":"SUM(D40:D45)","v":0},null,0,0,null,{"$f":"SUM(I40:I45)","v":0},{"$f":"SUM(J40:J45)","v":0},null,{"$f":"SUM(L40:L45)","v":0},{"$f":"SUM(M40:M45)","v":0},null,{"$f":"SUM(O40:O45)","v":0},{"$f":"SUM(P40:P45)","v":0},null,{"$f":"SUM(R40:R45)","v":0},{"$f":"SUM(S40:S45)","v":0},null,{"$f":"SUM(U40:U45)","v":0},{"$f":"SUM(V40:V45)","v":0},null,{"$f":"SUM(X40:X45)","v":0},{"$f":"SUM(Y40:Y45)","v":0},{"$f":"D46+G46+J46+M46+P46+S46+V46+Y46","v":0}]
["Isolation",null,"EPS",null,null,null,null,null,null,null,null,null,null,null,null,null,null,null,null,null,"EPS grau"]
[null,"D",140,null,null,160,null,null,180,null,null,200,null,null,220,null,null,240,null,"D",140,null,null,160,null,null,180,null,null,200,null,null,220,null,null,240]
[0,38,{"$f":"IF(Daten!$F$6=TRUE,0,ROUND(SUMIFS(Zusammenfassung!$D$5:$D$340,Zusammenfassung!$G$5:$G$340,$B$48,Zusammenfassung!$K$5:$K$340,\">=\"&$A49,Zusammenfassung!$K$5:$K$340,\"<\"&$A50,Zusammenfassung!$U$5:$U$340,0,Zusammenfassung!$L$5:$L$340,\"=\"&C$48,Zusammenfassung!$I$5:$I$340,$C$47)/1000,1))","v":0},{"$f":"IFERROR(B49*C49,0)","v":0},39,{"$f":"IF(Daten!$F$6=TRUE,0,ROUND(SUMIFS(Zusammenfassung!$D$5:$D$340,Zusammenfassung!$G$5:$G$340,$B$48,Zusammenfassung!$K$5:$K$340,\">=\"&$A49,Zusammenfassung!$K$5:$K$340,\"<\"&$A50,Zusammenfassung!$U$5:$U$340,0,Zusammenfassung!$L$5:$L$340,\"=\"&F$48,Zusammenfassung!$I$5:$I$340,$C$47)/1000,1))","v":0},{"$f":"IFERROR(E49*F49,0)","v":0},41,{"$f":"IF(Daten!$F$6=TRUE,0,ROUND(SUMIFS(Zusammenfassung!$D$5:$D$340,Zusammenfassung!$G$5:$G$340,$B$48,Zusammenfassung!$K$5:$K$340,\">=\"&$A49,Zusammenfassung!$K$5:$K$340,\"<\"&$A50,Zusammenfassung!$U$5:$U$340,0,Zusammenfassung!$L$5:$L$340,\"=\"&I$48,Zusammenfassung!$I$5:$I$340,$C$47)/1000,1))","v":0},{"$f":"IFERROR(H49*I49,0)","v":0},43,{"$f":"IF(Daten!$F$6=TRUE,0,ROUND(SUMIFS(Zusammenfassung!$D$5:$D$340,Zusammenfassung!$G$5:$G$340,$B$48,Zusammenfassung!$K$5:$K$340,\">=\"&$A49,Zusammenfassung!$K$5:$K$340,\"<\"&$A50,Zusammenfassung!$U$5:$U$340,0,Zusammenfassung!$L$5:$L$340,\"=\"&L$48,Zusammenfassung!$I$5:$I$340,$C$47)/1000,1))","v":0},{"$f":"IFERROR(K49*L49,0)","v":0},45,{"$f":"IF(Daten!$F$6=TRUE,0,ROUND(SUMIFS(Zusammenfassung!$D$5:$D$340,Zusammenfassung!$G$5:$G$340,$B$48,Zusammenfassung!$K$5:$K$340,\">=\"&$A49,Zusammenfassung!$K$5:$K$340,\"<\"&$A50,Zusammenfassung!$U$5:$U$340,0,Zusammenfassung!$L$5:$L$340,\"=\"&O$48,Zusammenfassung!$I$5:$I$340,$C$47)/1000,1))","v":0},{"$f":"IFERROR(N49*O49,0)","v":0},47.5,{"$f":"IF(Daten!$F$6=TRUE,0,ROUND(SUMIFS(Zusammenfassung!$D$5:$D$340,Zusammenfassung!$G$5:$G$340,$B$48,Zusammenfassung!$K$5:$K$340,\">=\"&$A49,Zusammenfassung!$K$5:$K$340,\"<\"&$A50,Zusammenfassung!$U$5:$U$340,0,Zusammenfassung!$L$5:$L$340,\"=\"&R$48,Zusammenfassung!$I$5:$I$340,$C$47)/1000,1))","v":0},{"$f":"IFERROR(Q49*R49,0)","v":0},41.5,{"$f":"ROUND(SUMIFS(Zusammenfassung!$D$5:$D$340,Zusammenfassung!$G$5:$G$340,$B$48,Zusammenfassung!$K$5:$K$340,\">=\"&$A49,Zusammenfassung!$K$5:$K$340,\"<\"&$A50,Zusammenfassung!$U$5:$U$340,0,Zusammenfassung!$L$5:$L$340,\"=\"&U$48,Zusammenfassung!$I$5:$I$340,$U$47)/1000,1)","v":0},{"$f":"IFERROR(T49*U49,0)","v":0},43,{"$f":"ROUND(SUMIFS(Zusammenfassung!$D$5:$D$340,Zusammenfassung!$G$5:$G$340,$B$48,Zusammenfassung!$K$5:$K$340,\">=\"&$A49,Zusammenfassung!$K$5:$K$340,\"<\"&$A50,Zusammenfassung!$U$5:$U$340,0,Zusammenfassung!$L$5:$L$340,\"=\"&X$48,Zusammenfassung!$I$5:$I$340,$U$47)/1000,1)","v":0},{"$f":"IFERROR(W49*X49,0)","v":0},44.5,{"$f":"ROUND(SUMIFS(Zusammenfassung!$D$5:$D$340,Zusammenfassung!$G$5:$G$340,$B$48,Zusammenfassung!$K$5:$K$340,\">=\"&$A49,Zusammenfassung!$K$5:$K$340,\"<\"&$A50,Zusammenfassung!$U$5:$U$340,0,Zusammenfassung!$L$5:$L$340,\"=\"&AA$48,Zusammenfassung!$I$5:$I$340,$U$47)/1000,1)","v":0},{"$f":"IFERROR(Z49*AA49,0)","v":0},47,{"$f":"ROUND(SUMIFS(Zusammenfassung!$D$5:$D$340,Zusammenfassung!$G$5:$G$340,$B$48,Zusammenfassung!$K$5:$K$340,\">=\"&$A49,Zusammenfassung!$K$5:$K$340,\"<\"&$A50,Zusammenfassung!$U$5:$U$340,0,Zusammenfassung!$L$5:$L$340,\"=\"&AD$48,Zusammenfassung!$I$5:$I$340,$U$47)/1000,1)","v":0},{"$f":"IFERROR(AC49*AD49,0)","v":0},49,{"$f":"ROUND(SUMIFS(Zusammenfassung!$D$5:$D$340,Zusammenfassung!$G$5:$G$340,$B$48,Zusammenfassung!$K$5:$K$340,\">=\"&$A49,Zusammenfassung!$K$5:$K$340,\"<\"&$A50,Zusammenfassung!$U$5:$U$340,0,Zusammenfassung!$L$5:$L$340,\"=\"&AG$48,Zusammenfassung!$I$5:$I$340,$U$47)/1000,1)","v":0},{"$f":"IFERROR(AF49*AG49,0)","v":0},53,{"$f":"ROUND(SUMIFS(Zusammenfassung!$D$5:$D$340,Zusammenfassung!$G$5:$G$340,$B$48,Zusammenfassung!$K$5:$K$340,\">=\"&$A49,Zusammenfassung!$K$5:$K$340,\"<\"&$A50,Zusammenfassung!$U$5:$U$340,0,Zusammenfassung!$L$5:$L$340,\"=\"&AJ$48,Zusammenfassung!$I$5:$I$340,$U$47)/1000,1)","v":0},{"$f":"IFERROR(AI49*AJ49,0)","v":0}]
[10,39.5,{"$f":"IF(Daten!$F$6=TRUE,0,ROUND(SUMIFS(Zusammenfassung!$D$5:$D$340,Zusammenfassung!$G$5:$G$340,$B$48,Zusammenfassung!$K$5:$K$340,\">=\"&$A50,Zusammenfassung!$K$5:$K$340,\"<\"&$A51,Zusammenfassung!$U$5:$U$340,0,Zusammenfassung!$L$5:$L$340,\"=\"&C$48,Zusammenfassung!$I$5:$I$340,$C$47)/1000,1))","v":0},{"$f":"IFERROR(B50*C50,0)","v":0},41.5,{"$f":"IF(Daten!$F$6=TRUE,0,ROUND(SUMIFS(Zusammenfassung!$D$5:$D$340,Zusammenfassung!$G$5:$G$340,$B$48,Zusammenfassung!$K$5:$K$340,\">=\"&$A50,Zusammenfassung!$K$5:$K$340,\"<\"&$A51,Zusammenfassung!$U$5:$U$340,0,Zusammenfassung!$L$5:$L$340,\"=\"&F$48,Zusammenfassung!$I$5:$I$340,$C$47)/1000,1))","v":0},{"$f":"IFERROR(E50*F50,0)","v":0},44.5,{"$f":"IF(Daten!$F$6=TRUE,0,ROUND(SUMIFS(Zusammenfassung!$D$5:$D$340,Zusammenfassung!$G$5:$G$340,$B$48,Zusammenfassung!$K$5:$K$340,\">=\"&$A50,Zusammenfassung!$K$5:$K$340,\"<\"&$A51,Zusammenfassung!$U$5:$U$340,0,Zusammenfassung!$L$5:$L$340,\"=\"&I$48,Zusammenfassung!$I$5:$I$340,$C$47)/1000,1))","v":0},{"$f":"IFERROR(H50*I50,0)","v":0},45.5,{"$f":"IF(Daten!$F$6=TRUE,0,ROUND(SUMIFS(Zusammenfassung!$D$5:$D$340,Zusammenfassung!$G$5:$G$340,$B$48,Zusammenfassung!$K$5:$K$340,\">=\"&$A50,Zusammenfassung!$K$5:$K$340,\"<\"&$A51,Zusammenfassung!$U$5:$U$340,0,Zusammenfassung!$L$5:$L$340,\"=\"&L$48,Zusammenfassung!$I$5:$I$340,$C$47)/1000,1))","v":0},{"$f":"IFERROR(K50*L50,0)","v":0},49,{"$f":"IF(Daten!$F$6=TRUE,0,ROUND(SUMIFS(Zusammenfassung!$D$5:$D$340,Zusammenfassung!$G$5:$G$340,$B$48,Zusammenfassung!$K$5:$K$340,\">=\"&$A50,Zusammenfassung!$K$5:$K$340,\"<\"&$A51,Zusammenfassung!$U$5:$U$340,0,Zusammenfassung!$L$5:$L$340,\"=\"&O$48,Zusammenfassung!$I$5:$I$340,$C$47)/1000,1))","v":0},{"$f":"IFERROR(N50*O50,0)","v":0},51.5,{"$f":"IF(Daten!$F$6=TRUE,0,ROUND(SUMIFS(Zusammenfassung!$D$5:$D$340,Zusammenfassung!$G$5:$G$340,$B$48,Zusammenfassung!$K$5:$K$340,\">=\"&$A50,Zusammenfassung!$K$5:$K$340,\"<\"&$A51,Zusammenfassung!$U$5:$U$340,0,Zusammenfassung!$L$5:$L$340,\"=\"&R$48,Zusammenfassung!$I$5:$I$340,$C$47)/1000,1))","v":0},{"$f":"IFERROR(Q50*R50,0)","v":0},43,{"$f":"ROUND(SUMIFS(Zusammenfassung!$D$5:$D$340,Zusammenfassung!$G$5:$G$340,$B$48,Zusammenfassung!$K$5:$K$340,\">=\"&$A50,Zusammenfassung!$K$5:$K$340,\"<\"&$A51,Zusammenfassung!$U$5:$U$340,0,Zusammenfassung!$L$5:$L$340,\"=\"&U$48,Zusammenfassung!$I$5:$I$340,$U$47)/1000,1)","v":0},{"$f":"IFERROR(T50*U50,0)","v":0},45,{"$f":"ROUND(SUMIFS(Zusammenfassung!$D$5:$D$340,Zusammenfassung!$G$5:$G$340,$B$48,Zusammenfassung!$K$5:$K$340,\">=\"&$A50,Zusammenfassung!$K$5:$K$340,\"<\"&$A51,Zusammenfassung!$U$5:$U$340,0,Zusammenfassung!$L$5:$L$340,\"=\"&X$48,Zusammenfassung!$I$5:$I$340,$U$47)/1000,1)","v":0},{"$f":"IFERROR(W50*X50,0)","v":0},48,{"$f":"ROUND(SUMIFS(Zusammenfassung!$D$5:$D$340,Zusammenfassung!$G$5:$G$340,$B$48,Zusammenfassung!$K$5:$K$340,\">=\"&$A50,Zusammenfassung!$K$5:$K$340,\"<\"&$A51,Zusammenfassung!$U$5:$U$340,0,Zusammenfassung!$L$5:$L$340,\"=\"&AA$48,Zusammenfassung!$I$5:$I$340,$U$47)/1000,1)","v":0},{"$f":"IFERROR(Z50*AA50,0)","v":0},50,{"$f":"ROUND(SUMIFS(Zusammenfassung!$D$5:$D$340,Zusammenfassung!$G$5:$G$340,$B$48,Zusammenfassung!$K$5:$K$340,\">=\"&$A50,Zusammenfassung!$K$5:$K$340,\"<\"&$A51,Zusammenfassung!$U$5:$U$340,0,Zusammenfassung!$L$5:$L$340,\"=\"&AD$48,Zusammenfassung!$I$5:$I$340,$U$47)/1000,1)","v":0},{"$f":"IFERROR(AC50*AD50,0)","v":0},53.5,{"$f":"ROUND(SUMIFS(Zusammenfassung!$D$5:$D$340,Zusammenfassung!$G$5:$G$340,$B$48,Zusammenfassung!$K$5:$K$340,\">=\"&$A50,Zusammenfassung!$K$5:$K$340,\"<\"&$A51,Zusammenfassung!$U$5:$U$340,0,Zusammenfassung!$L$5:$L$340,\"=\"&AG$48,Zusammenfassung!$I$5:$I$340,$U$47)/1000,1)","v":0},{"$f":"IFERROR(AF50*AG50,0)","v":0},56,{"$f":"ROUND(SUMIFS(Zusammenfassung!$D$5:$D$340,Zusammenfassung!$G$5:$G$340,$B$48,Zusammenfassung!$K$5:$K$340,\">=\"&$A50,Zusammenfassung!$K$5:$K$340,\"<\"&$A51,Zusammenfassung!$U$5:$U$340,0,Zusammenfassung!$L$5:$L$340,\"=\"&AJ$48,Zusammenfassung!$I$5:$I$340,$U$47)/1000,1)","v":0},{"$f":"IFERROR(AI50*AJ50,0)","v":0}]
[51,41.5,{"$f":"IF(Daten!$F$6=TRUE,0,ROUND(SUMIFS(Zusammenfassung!$D$5:$D$340,Zusammenfassung!$G$5:$G$340,$B$48,Zusammenfassung!$K$5:$K$340,\">=\"&$A51,Zusammenfassung!$K$5:$K$340,\"<\"&$A52,Zusammenfassung!$U$5:$U$340,0,Zusammenfassung!$L$5:$L$340,\"=\"&C$48,Zusammenfassung!$I$5:$I$340,$C$47)/1000,1))","v":0},0,44,{"$f":"IF(Daten!$F$6=TRUE,0,ROUND(SUMIFS(Zusammenfassung!$D$5:$D$340,Zusammenfassung!$G$5:$G$340,$B$48,Zusammenfassung!$K$5:$K$340,\">=\"&$A51,Zusammenfassung!$K$5:$K$340,\"<\"&$A52,Zusammenfassung!$U$5:$U$340,0,Zusammenfassung!$L$5:$L$340,\"=\"&F$48,Zusammenfassung!$I$5:$I$340,$C$47)/1000,1))","v":0},0,47,{"$f":"IF(Daten!$F$6=TRUE,0,ROUND(SUMIFS(Zusammenfassung!$D$5:$D$340,Zusammenfassung!$G$5:$G$340,$B$48,Zusammenfassung!$K$5:$K$340,\">=\"&$A51,Zusammenfassung!$K$5:$K$340,\"<\"&$A52,Zusammenfassung!$U$5:$U$340,0,Zusammenfassung!$L$5:$L$340,\"=\"&I$48,Zusammenfassung!$I$5:$I$340,$C$47)/1000,1))","v":0},0,49,{"$f":"IF(Daten!$F$6=TRUE,0,ROUND(SUMIFS(Zusammenfassung!$D$5:$D$340,Zusammenfassung!$G$5:$G$340,$B$48,Zusammenfassung!$K$5:$K$340,\">=\"&$A51,Zusammenfassung!$K$5:$K$340,\"<\"&$A52,Zusammenfassung!$U$5:$U$340,0,Zusammenfassung!$L$5:$L$340,\"=\"&L$48,Zusammenfassung!$I$5:$I$340,$C$47)/1000,1))","v":0},0,52,{"$f":"IF(Daten!$F$6=TRUE,0,ROUND(SUMIFS(Zusammenfassung!$D$5:$D$340,Zusammenfassung!$G$5:$G$340,$B$48,Zusammenfassung!$K$5:$K$340,\">=\"&$A51,Zusammenfassung!$K$5:$K$340,\"<\"&$A52,Zusammenfassung!$U$5:$U$340,0,Zusammenfassung!$L$5:$L$340,\"=\"&O$48,Zusammenfassung!$I$5:$I$340,$C$47)/1000,1))","v":0},0,55,{"$f":"IF(Daten!$F$6=TRUE,0,ROUND(SUMIFS(Zusammenfassung!$D$5:$D$340,Zusammenfassung!$G$5:$G$340,$B$48,Zusammenfassung!$K$5:$K$340,\">=\"&$A51,Zusammenfassung!$K$5:$K$340,\"<\"&$A52,Zusammenfassung!$U$5:$U$340,0,Zusammenfassung!$L$5:$L$340,\"=\"&R$48,Zusammenfassung!$I$5:$I$340,$C$47)/1000,1))","v":0},0,44.5,{"$f":"ROUND(SUMIFS(Zusammenfassung!$D$5:$D$340,Zusammenfassung!$G$5:$G$340,$B$48,Zusammenfassung!$K$5:$K$340,\">=\"&$A51,Zusammenfassung!$K$5:$K$340,\"<\"&$A52,Zusammenfassung!$U$5:$U$340,0,Zusammenfassung!$L$5:$L$340,\"=\"&U$48,Zusammenfassung!$I$5:$I$340,$U$47)/1000,1)","v":0},0,48,{"$f":"ROUND(SUMIFS(Zusammenfassung!$D$5:$D$340,Zusammenfassung!$G$5:$G$340,$B$48,Zusammenfassung!$K$5:$K$340,\">=\"&$A51,Zusammenfassung!$K$5:$K$340,\"<\"&$A52,Zusammenfassung!$U$5:$U$340,0,Zusammenfassung!$L$5:$L$340,\"=\"&X$48,Zusammenfassung!$I$5:$I$340,$U$47)/1000,1)","v":0},0,51.5,{"$f":"ROUND(SUMIFS(Zusammenfassung!$D$5:$D$340,Zusammenfassung!$G$5:$G$340,$B$48,Zusammenfassung!$K$5:$K$340,\">=\"&$A51,Zusammenfassung!$K$5:$K$340,\"<\"&$A52,Zusammenfassung!$U$5:$U$340,0,Zusammenfassung!$L$5:$L$340,\"=\"&AA$48,Zusammenfassung!$I$5:$I$340,$U$47)/1000,1)","v":0},0,54,{"$f":"ROUND(SUMIFS(Zusammenfassung!$D$5:$D$340,Zusammenfassung!$G$5:$G$340,$B$48,Zusammenfassung!$K$5:$K$340,\">=\"&$A51,Zusammenfassung!$K$5:$K$340,\"<\"&$A52,Zusammenfassung!$U$5:$U$340,0,Zusammenfassung!$L$5:$L$340,\"=\"&AD$48,Zusammenfassung!$I$5:$I$340,$U$47)/1000,1)","v":0},0,57,{"$f":"ROUND(SUMIFS(Zusammenfassung!$D$5:$D$340,Zusammenfassung!$G$5:$G$340,$B$48,Zusammenfassung!$K$5:$K$340,\">=\"&$A51,Zusammenfassung!$K$5:$K$340,\"<\"&$A52,Zusammenfassung!$U$5:$U$340,0,Zusammenfassung!$L$5:$L$340,\"=\"&AG$48,Zusammenfassung!$I$5:$I$340,$U$47)/1000,1)","v":0},0,60,{"$f":"ROUND(SUMIFS(Zusammenfassung!$D$5:$D$340,Zusammenfassung!$G$5:$G$340,$B$48,Zusammenfassung!$K$5:$K$340,\">=\"&$A51,Zusammenfassung!$K$5:$K$340,\"<\"&$A52,Zusammenfassung!$U$5:$U$340,0,Zusammenfassung!$L$5:$L$340,\"=\"&AJ$48,Zusammenfassung!$I$5:$I$340,$U$47)/1000,1)","v":0},0]
[101,43.5,{"$f":"IF(Daten!$F$6=TRUE,0,ROUND(SUMIFS(Zusammenfassung!$D$5:$D$340,Zusammenfassung!$G$5:$G$340,$B$48,Zusammenfassung!$K$5:$K$340,\">=\"&$A52,Zusammenfassung!$K$5:$K$340,\"<\"&$A53,Zusammenfassung!$U$5:$U$340,0,Zusammenfassung!$L$5:$L$340,\"=\"&C$48,Zusammenfassung!$I$5:$I$340,$C$47)/1000,1))","v":0},0,45.5,{"$f":"IF(Daten!$F$6=TRUE,0,ROUND(SUMIFS(Zusammenfassung!$D$5:$D$340,Zusammenfassung!$G$5:$G$340,$B$48,Zusammenfassung!$K$5:$K$340,\">=\"&$A52,Zusammenfassung!$K$5:$K$340,\"<\"&$A53,Zusammenfassung!$U$5:$U$340,0,Zusammenfassung!$L$5:$L$340,\"=\"&F$48,Zusammenfassung!$I$5:$I$340,$C$47)/1000,1))","v":0},0,49.5,{"$f":"IF(Daten!$F$6=TRUE,0,ROUND(SUMIFS(Zusammenfassung!$D$5:$D$340,Zusammenfassung!$G$5:$G$340,$B$48,Zusammenfassung!$K$5:$K$340,\">=\"&$A52,Zusammenfassung!$K$5:$K$340,\"<\"&$A53,Zusammenfassung!$U$5:$U$340,0,Zusammenfassung!$L$5:$L$340,\"=\"&I$48,Zusammenfassung!$I$5:$I$340,$C$47)/1000,1))","v":0},0,52,{"$f":"IF(Daten!$F$6=TRUE,0,ROUND(SUMIFS(Zusammenfassung!$D$5:$D$340,Zusammenfassung!$G$5:$G$340,$B$48,Zusammenfassung!$K$5:$K$340,\">=\"&$A52,Zusammenfassung!$K$5:$K$340,\"<\"&$A53,Zusammenfassung!$U$5:$U$340,0,Zusammenfassung!$L$5:$L$340,\"=\"&L$48,Zusammenfassung!$I$5:$I$340,$C$47)/1000,1))","v":0},0,54,{"$f":"IF(Daten!$F$6=TRUE,0,ROUND(SUMIFS(Zusammenfassung!$D$5:$D$340,Zusammenfassung!$G$5:$G$340,$B$48,Zusammenfassung!$K$5:$K$340,\">=\"&$A52,Zusammenfassung!$K$5:$K$340,\"<\"&$A53,Zusammenfassung!$U$5:$U$340,0,Zusammenfassung!$L$5:$L$340,\"=\"&O$48,Zusammenfassung!$I$5:$I$340,$C$47)/1000,1))","v":0},0,56.5,{"$f":"IF(Daten!$F$6=TRUE,0,ROUND(SUMIFS(Zusammenfassung!$D$5:$D$340,Zusammenfassung!$G$5:$G$340,$B$48,Zusammenfassung!$K$5:$K$340,\">=\"&$A52,Zusammenfassung!$K$5:$K$340,\"<\"&$A53,Zusammenfassung!$U$5:$U$340,0,Zusammenfassung!$L$5:$L$340,\"=\"&R$48,Zusammenfassung!$I$5:$I$340,$C$47)/1000,1))","v":0},0,47.5,{"$f":"ROUND(SUMIFS(Zusammenfassung!$D$5:$D$340,Zusammenfassung!$G$5:$G$340,$B$48,Zusammenfassung!$K$5:$K$340,\">=\"&$A52,Zusammenfassung!$K$5:$K$340,\"<\"&$A53,Zusammenfassung!$U$5:$U$340,0,Zusammenfassung!$L$5:$L$340,\"=\"&U$48,Zusammenfassung!$I$5:$I$340,$U$47)/1000,1)","v":0},0,50.5,{"$f":"ROUND(SUMIFS(Zusammenfassung!$D$5:$D$340,Zusammenfassung!$G$5:$G$340,$B$48,Zusammenfassung!$K$5:$K$340,\">=\"&$A52,Zusammenfassung!$K$5:$K$340,\"<\"&$A53,Zusammenfassung!$U$5:$U$340,0,Zusammenfassung!$L$5:$L$340,\"=\"&X$48,Zusammenfassung!$I$5:$I$340,$U$47)/1000,1)","v":0},0,55.5,{"$f":"ROUND(SUMIFS(Zusammenfassung!$D$5:$D$340,Zusammenfassung!$G$5:$G$340,$B$48,Zusammenfassung!$K$5:$K$340,\">=\"&$A52,Zusammenfassung!$K$5:$K$340,\"<\"&$A53,Zusammenfassung!$U$5:$U$340,0,Zusammenfassung!$L$5:$L$340,\"=\"&AA$48,Zusammenfassung!$I$5:$I$340,$U$47)/1000,1)","v":0},0,58,{"$f":"ROUND(SUMIFS(Zusammenfassung!$D$5:$D$340,Zusammenfassung!$G$5:$G$340,$B$48,Zusammenfassung!$K$5:$K$340,\">=\"&$A52,Zusammenfassung!$K$5:$K$340,\"<\"&$A53,Zusammenfassung!$U$5:$U$340,0,Zusammenfassung!$L$5:$L$340,\"=\"&AD$48,Zusammenfassung!$I$5:$I$340,$U$47)/1000,1)","v":0},0,60,{"$f":"ROUND(SUMIFS(Zusammenfassung!$D$5:$D$340,Zusammenfassung!$G$5:$G$340,$B$48,Zusammenfassung!$K$5:$K$340,\">=\"&$A52,Zusammenfassung!$K$5:$K$340,\"<\"&$A53,Zusammenfassung!$U$5:$U$340,0,Zusammenfassung!$L$5:$L$340,\"=\"&AG$48,Zusammenfassung!$I$5:$I$340,$U$47)/1000,1)","v":0},0,62,{"$f":"ROUND(SUMIFS(Zusammenfassung!$D$5:$D$340,Zusammenfassung!$G$5:$G$340,$B$48,Zusammenfassung!$K$5:$K$340,\">=\"&$A52,Zusammenfassung!$K$5:$K$340,\"<\"&$A53,Zusammenfassung!$U$5:$U$340,0,Zusammenfassung!$L$5:$L$340,\"=\"&AJ$48,Zusammenfassung!$I$5:$I$340,$U$47)/1000,1)","v":0},0]
[141,44.5,{"$f":"IF(Daten!$F$6=TRUE,0,ROUND(SUMIFS(Zusammenfassung!$D$5:$D$340,Zusammenfassung!$G$5:$G$340,$B$48,Zusammenfassung!$K$5:$K$340,\">=\"&$A53,Zusammenfassung!$K$5:$K$340,\"<\"&$A54,Zusammenfassung!$U$5:$U$340,0,Zusammenfassung!$L$5:$L$340,\"=\"&C$48,Zusammenfassung!$I$5:$I$340,$C$47)/1000,1))","v":0},0,47,{"$f":"IF(Daten!$F$6=TRUE,0,ROUND(SUMIFS(Zusammenfassung!$D$5:$D$340,Zusammenfassung!$G$5:$G$340,$B$48,Zusammenfassung!$K$5:$K$340,\">=\"&$A53,Zusammenfassung!$K$5:$K$340,\"<\"&$A54,Zusammenfassung!$U$5:$U$340,0,Zusammenfassung!$L$5:$L$340,\"=\"&F$48,Zusammenfassung!$I$5:$I$340,$C$47)/1000,1))","v":0},0,50.5,{"$f":"IF(Daten!$F$6=TRUE,0,ROUND(SUMIFS(Zusammenfassung!$D$5:$D$340,Zusammenfassung!$G$5:$G$340,$B$48,Zusammenfassung!$K$5:$K$340,\">=\"&$A53,Zusammenfassung!$K$5:$K$340,\"<\"&$A54,Zusammenfassung!$U$5:$U$340,0,Zusammenfassung!$L$5:$L$340,\"=\"&I$48,Zusammenfassung!$I$5:$I$340,$C$47)/1000,1))","v":0},0,53,{"$f":"IF(Daten!$F$6=TRUE,0,ROUND(SUMIFS(Zusammenfassung!$D$5:$D$340,Zusammenfassung!$G$5:$G$340,$B$48,Zusammenfassung!$K$5:$K$340,\">=\"&$A53,Zusammenfassung!$K$5:$K$340,\"<\"&$A54,Zusammenfassung!$U$5:$U$340,0,Zusammenfassung!$L$5:$L$340,\"=\"&L$48,Zusammenfassung!$I$5:$I$340,$C$47)/1000,1))","v":0},0,55.5,{"$f":"IF(Daten!$F$6=TRUE,0,ROUND(SUMIFS(Zusammenfassung!$D$5:$D$340,Zusammenfassung!$G$5:$G$340,$B$48,Zusammenfassung!$K$5:$K$340,\">=\"&$A53,Zusammenfassung!$K$5:$K$340,\"<\"&$A54,Zusammenfassung!$U$5:$U$340,0,Zusammenfassung!$L$5:$L$340,\"=\"&O$48,Zusammenfassung!$I$5:$I$340,$C$47)/1000,1))","v":0},0,57.5,{"$f":"IF(Daten!$F$6=TRUE,0,ROUND(SUMIFS(Zusammenfassung!$D$5:$D$340,Zusammenfassung!$G$5:$G$340,$B$48,Zusammenfassung!$K$5:$K$340,\">=\"&$A53,Zusammenfassung!$K$5:$K$340,\"<\"&$A54,Zusammenfassung!$U$5:$U$340,0,Zusammenfassung!$L$5:$L$340,\"=\"&R$48,Zusammenfassung!$I$5:$I$340,$C$47)/1000,1))","v":0},0,48.5,{"$f":"ROUND(SUMIFS(Zusammenfassung!$D$5:$D$340,Zusammenfassung!$G$5:$G$340,$B$48,Zusammenfassung!$K$5:$K$340,\">=\"&$A53,Zusammenfassung!$K$5:$K$340,\"<\"&$A54,Zusammenfassung!$U$5:$U$340,0,Zusammenfassung!$L$5:$L$340,\"=\"&U$48,Zusammenfassung!$I$5:$I$340,$U$47)/1000,1)","v":0},0,53,{"$f":"ROUND(SUMIFS(Zusammenfassung!$D$5:$D$340,Zusammenfassung!$G$5:$G$340,$B$48,Zusammenfassung!$K$5:$K$340,\">=\"&$A53,Zusammenfassung!$K$5:$K$340,\"<\"&$A54,Zusammenfassung!$U$5:$U$340,0,Zusammenfassung!$L$5:$L$340,\"=\"&X$48,Zusammenfassung!$I$5:$I$340,$U$47)/1000,1)","v":0},0,57,{"$f":"ROUND(SUMIFS(Zusammenfassung!$D$5:$D$340,Zusammenfassung!$G$5:$G$340,$B$48,Zusammenfassung!$K$5:$K$340,\">=\"&$A53,Zusammenfassung!$K$5:$K$340,\"<\"&$A54,Zusammenfassung!$U$5:$U$340,0,Zusammenfassung!$L$5:$L$340,\"=\"&AA$48,Zusammenfassung!$I$5:$I$340,$U$47)/1000,1)","v":0},0,59.5,{"$f":"ROUND(SUMIFS(Zusammenfassung!$D$5:$D$340,Zusammenfassung!$G$5:$G$340,$B$48,Zusammenfassung!$K$5:$K$340,\">=\"&$A53,Zusammenfassung!$K$5:$K$340,\"<\"&$A54,Zusammenfassung!$U$5:$U$340,0,Zusammenfassung!$L$5:$L$340,\"=\"&AD$48,Zusammenfassung!$I$5:$I$340,$U$47)/1000,1)","v":0},0,61.5,{"$f":"ROUND(SUMIFS(Zusammenfassung!$D$5:$D$340,Zusammenfassung!$G$5:$G$340,$B$48,Zusammenfassung!$K$5:$K$340,\">=\"&$A53,Zusammenfassung!$K$5:$K$340,\"<\"&$A54,Zusammenfassung!$U$5:$U$340,0,Zusammenfassung!$L$5:$L$340,\"=\"&AG$48,Zusammenfassung!$I$5:$I$340,$U$47)/1000,1)","v":0},0,63.5,{"$f":"ROUND(SUMIFS(Zusammenfassung!$D$5:$D$340,Zusammenfassung!$G$5:$G$340,$B$48,Zusammenfassung!$K$5:$K$340,\">=\"&$A53,Zusammenfassung!$K$5:$K$340,\"<\"&$A54,Zusammenfassung!$U$5:$U$340,0,Zusammenfassung!$L$5:$L$340,\"=\"&AJ$48,Zusammenfassung!$I$5:$I$340,$U$47)/1000,1)","v":0},0]
[161,"Anfrage",{"$f":"IF(Daten!$F$6=TRUE,0,ROUND(SUMIFS(Zusammenfassung!$D$5:$D$340,Zusammenfassung!$G$5:$G$340,$B$48,Zusammenfassung!$K$5:$K$340,\">=\"&$A54,Zusammenfassung!$K$5:$K$340,\"<\"&$A55,Zusammenfassung!$U$5:$U$340,0,Zusammenfassung!$L$5:$L$340,\"=\"&C$48,Zusammenfassung!$I$5:$I$340,$C$47)/1000,1))","v":0},0,"Anfrage",{"$f":"IF(Daten!$F$6=TRUE,0,ROUND(SUMIFS(Zusammenfassung!$D$5:$D$340,Zusammenfassung!$G$5:$G$340,$B$48,Zusammenfassung!$K$5:$K$340,\">=\"&$A54,Zusammenfassung!$K$5:$K$340,\"<\"&$A55,Zusammenfassung!$U$5:$U$340,0,Zusammenfassung!$L$5:$L$340,\"=\"&F$48,Zusammenfassung!$I$5:$I$340,$C$47)/1000,1))","v":0},0,"Anfrage",{"$f":"IF(Daten!$F$6=TRUE,0,ROUND(SUMIFS(Zusammenfassung!$D$5:$D$340,Zusammenfassung!$G$5:$G$340,$B$48,Zusammenfassung!$K$5:$K$340,\">=\"&$A54,Zusammenfassung!$K$5:$K$340,\"<\"&$A55,Zusammenfassung!$U$5:$U$340,0,Zusammenfassung!$L$5:$L$340,\"=\"&I$48,Zusammenfassung!$I$5:$I$340,$C$47)/1000,1))","v":0},0,"Anfrage",{"$f":"IF(Daten!$F$6=TRUE,0,ROUND(SUMIFS(Zusammenfassung!$D$5:$D$340,Zusammenfassung!$G$5:$G$340,$B$48,Zusammenfassung!$K$5:$K$340,\">=\"&$A54,Zusammenfassung!$K$5:$K$340,\"<\"&$A55,Zusammenfassung!$U$5:$U$340,0,Zusammenfassung!$L$5:$L$340,\"=\"&L$48,Zusammenfassung!$I$5:$I$340,$C$47)/1000,1))","v":0},0,"Anfrage",{"$f":"IF(Daten!$F$6=TRUE,0,ROUND(SUMIFS(Zusammenfassung!$D$5:$D$340,Zusammenfassung!$G$5:$G$340,$B$48,Zusammenfassung!$K$5:$K$340,\">=\"&$A54,Zusammenfassung!$K$5:$K$340,\"<\"&$A55,Zusammenfassung!$U$5:$U$340,0,Zusammenfassung!$L$5:$L$340,\"=\"&O$48,Zusammenfassung!$I$5:$I$340,$C$47)/1000,1))","v":0},0,"Anfrage",{"$f":"IF(Daten!$F$6=TRUE,0,ROUND(SUMIFS(Zusammenfassung!$D$5:$D$340,Zusammenfassung!$G$5:$G$340,$B$48,Zusammenfassung!$K$5:$K$340,\">=\"&$A54,Zusammenfassung!$K$5:$K$340,\"<\"&$A55,Zusammenfassung!$U$5:$U$340,0,Zusammenfassung!$L$5:$L$340,\"=\"&R$48,Zusammenfassung!$I$5:$I$340,$C$47)/1000,1))","v":0},0,"Anfrage",{"$f":"ROUND(SUMIFS(Zusammenfassung!$D$5:$D$340,Zusammenfassung!$G$5:$G$340,$B$48,Zusammenfassung!$K$5:$K$340,\">=\"&$A54,Zusammenfassung!$K$5:$K$340,\"<\"&$A55,Zusammenfassung!$U$5:$U$340,0,Zusammenfassung!$L$5:$L$340,\"=\"&U$48,Zusammenfassung!$I$5:$I$340,$U$47)/1000,1)","v":0},0,"Anfrage",{"$f":"ROUND(SUMIFS(Zusammenfassung!$D$5:$D$340,Zusammenfassung!$G$5:$G$340,$B$48,Zusammenfassung!$K$5:$K$340,\">=\"&$A54,Zusammenfassung!$K$5:$K$340,\"<\"&$A55,Zusammenfassung!$U$5:$U$340,0,Zusammenfassung!$L$5:$L$340,\"=\"&X$48,Zusammenfassung!$I$5:$I$340,$U$47)/1000,1)","v":0},0,"Anfrage",{"$f":"ROUND(SUMIFS(Zusammenfassung!$D$5:$D$340,Zusammenfassung!$G$5:$G$340,$B$48,Zusammenfassung!$K$5:$K$340,\">=\"&$A54,Zusammenfassung!$K$5:$K$340,\"<\"&$A55,Zusammenfassung!$U$5:$U$340,0,Zusammenfassung!$L$5:$L$340,\"=\"&AA$48,Zusammenfassung!$I$5:$I$340,$U$47)/1000,1)","v":0},0,"Anfrage",{"$f":"ROUND(SUMIFS(Zusammenfassung!$D$5:$D$340,Zusammenfassung!$G$5:$G$340,$B$48,Zusammenfassung!$K$5:$K$340,\">=\"&$A54,Zusammenfassung!$K$5:$K$340,\"<\"&$A55,Zusammenfassung!$U$5:$U$340,0,Zusammenfassung!$L$5:$L$340,\"=\"&AD$48,Zusammenfassung!$I$5:$I$340,$U$47)/1000,1)","v":0},0,"Anfrage",{"$f":"ROUND(SUMIFS(Zusammenfassung!$D$5:$D$340,Zusammenfassung!$G$5:$G$340,$B$48,Zusammenfassung!$K$5:$K$340,\">=\"&$A54,Zusammenfassung!$K$5:$K$340,\"<\"&$A55,Zusammenfassung!$U$5:$U$340,0,Zusammenfassung!$L$5:$L$340,\"=\"&AG$48,Zusammenfassung!$I$5:$I$340,$U$47)/1000,1)","v":0},0,"Anfrage",{"$f":"ROUND(SUMIFS(Zusammenfassung!$D$5:$D$340,Zusammenfassung!$G$5:$G$340,$B$48,Zusammenfassung!$K$5:$K$340,\">=\"&$A54,Zusammenfassung!$K$5:$K$340,\"<\"&$A55,Zusammenfassung!$U$5:$U$340,0,Zusammenfassung!$L$5:$L$340,\"=\"&AJ$48,Zusammenfassung!$I$5:$I$340,$U$47)/1000,1)","v":0},0]
[null,null,{"$f":"SUM(C49:C54)","v":0},{"$f":"SUM(D49:D54)","v":0},null,{"$f":"SUM(F49:F54)","v":0},{"$f":"SUM(G49:G54)","v":0},null,{"$f":"SUM(I49:I54)","v":0},{"$f":"SUM(J49:J54)","v":0},null,{"$f":"SUM(L49:L54)","v":0},{"$f":"SUM(M49:M54)","v":0},null,{"$f":"SUM(O49:O54)","v":0},{"$f":"SUM(P49:P54)","v":0},null,{"$f":"SUM(R49:R54)","v":0},{"$f":"SUM(S49:S54)","v":0},null,{"$f":"SUM(U49:U54)","v":0},{"$f":"SUM(V49:V54)","v":0},null,{"$f":"SUM(X49:X54)","v":0},{"$f":"SUM(Y49:Y54)","v":0},null,{"$f":"SUM(AA49:AA54)","v":0},{"$f":"SUM(AB49:AB54)","v":0},null,{"$f":"SUM(AD49:AD54)","v":0},{"$f":"SUM(AE49:AE54)","v":0},null,{"$f":"SUM(AG49:AG54)","v":0},{"$f":"SUM(AH49:AH54)","v":0},null,{"$f":"SUM(AJ49:AJ54)","v":0},{"$f":"SUM(AK49:AK54)","v":0},{"$f":"D55+G55+J55+M55+P55+S55+V55+Y55+AB55+AE55+AH55+AK55","v":0}]
["Isolation",null,"EPS",null,"mit Steinwoll-Kaschierung"]
[null,"D",140,null,null,160,null,null,180,null,null,200,null,null,220,null,null,240]
[0,55.5,{"$f":"IF(Daten!$F$6=FALSE,0,ROUND(SUMIFS(Zusammenfassung!$D$5:$D$340,Zusammenfassung!$G$5:$G$340,$B$57,Zusammenfassung!$K$5:$K$340,\">=\"&$A58,Zusammenfassung!$K$5:$K$340,\"<\"&$A59,Zusammenfassung!$U$5:$U$340,0,Zusammenfassung!$L$5:$L$340,\"=\"&C$57,Zusammenfassung!$I$5:$I$340,$C$56)/1000,1))","v":0},{"$f":"IFERROR(B58*C58,0)","v":0},59.5,{"$f":"IF(Daten!$F$6=FALSE,0,ROUND(SUMIFS(Zusammenfassung!$D$5:$D$340,Zusammenfassung!$G$5:$G$340,$B$57,Zusammenfassung!$K$5:$K$340,\">=\"&$A58,Zusammenfassung!$K$5:$K$340,\"<\"&$A59,Zusammenfassung!$U$5:$U$340,0,Zusammenfassung!$L$5:$L$340,\"=\"&F$57,Zusammenfassung!$I$5:$I$340,$C$56)/1000,1))","v":0},{"$f":"IFERROR(E58*F58,0)","v":0},61.5,{"$f":"IF(Daten!$F$6=FALSE,0,ROUND(SUMIFS(Zusammenfassung!$D$5:$D$340,Zusammenfassung!$G$5:$G$340,$B$57,Zusammenfassung!$K$5:$K$340,\">=\"&$A58,Zusammenfassung!$K$5:$K$340,\"<\"&$A59,Zusammenfassung!$U$5:$U$340,0,Zusammenfassung!$L$5:$L$340,\"=\"&I$57,Zusammenfassung!$I$5:$I$340,$C$56)/1000,1))","v":0},{"$f":"IFERROR(H58*I58,0)","v":0},63.5,{"$f":"IF(Daten!$F$6=FALSE,0,ROUND(SUMIFS(Zusammenfassung!$D$5:$D$340,Zusammenfassung!$G$5:$G$340,$B$57,Zusammenfassung!$K$5:$K$340,\">=\"&$A58,Zusammenfassung!$K$5:$K$340,\"<\"&$A59,Zusammenfassung!$U$5:$U$340,0,Zusammenfassung!$L$5:$L$340,\"=\"&L$57,Zusammenfassung!$I$5:$I$340,$C$56)/1000,1))","v":0},{"$f":"IFERROR(K58*L58,0)","v":0},65.5,{"$f":"IF(Daten!$F$6=FALSE,0,ROUND(SUMIFS(Zusammenfassung!$D$5:$D$340,Zusammenfassung!$G$5:$G$340,$B$57,Zusammenfassung!$K$5:$K$340,\">=\"&$A58,Zusammenfassung!$K$5:$K$340,\"<\"&$A59,Zusammenfassung!$U$5:$U$340,0,Zusammenfassung!$L$5:$L$340,\"=\"&O$57,Zusammenfassung!$I$5:$I$340,$C$56)/1000,1))","v":0},{"$f":"IFERROR(N58*O58,0)","v":0},67.5,{"$f":"IF(Daten!$F$6=FALSE,0,ROUND(SUMIFS(Zusammenfassung!$D$5:$D$340,Zusammenfassung!$G$5:$G$340,$B$57,Zusammenfassung!$K$5:$K$340,\">=\"&$A58,Zusammenfassung!$K$5:$K$340,\"<\"&$A59,Zusammenfassung!$U$5:$U$340,0,Zusammenfassung!$L$5:$L$340,\"=\"&R$57,Zusammenfassung!$I$5:$I$340,$C$56)/1000,1))","v":0},{"$f":"IFERROR(Q58*R58,0)","v":0}]
[10,57,{"$f":"IF(Daten!$F$6=FALSE,0,ROUND(SUMIFS(Zusammenfassung!$D$5:$D$340,Zusammenfassung!$G$5:$G$340,$B$57,Zusammenfassung!$K$5:$K$340,\">=\"&$A59,Zusammenfassung!$K$5:$K$340,\"<\"&$A60,Zusammenfassung!$U$5:$U$340,0,Zusammenfassung!$L$5:$L$340,\"=\"&C$57,Zusammenfassung!$I$5:$I$340,$C$56)/1000,1))","v":0},{"$f":"IFERROR(B59*C59,0)","v":0},61,{"$f":"IF(Daten!$F$6=FALSE,0,ROUND(SUMIFS(Zusammenfassung!$D$5:$D$340,Zusammenfassung!$G$5:$G$340,$B$57,Zusammenfassung!$K$5:$K$340,\">=\"&$A59,Zusammenfassung!$K$5:$K$340,\"<\"&$A60,Zusammenfassung!$U$5:$U$340,0,Zusammenfassung!$L$5:$L$340,\"=\"&F$57,Zusammenfassung!$I$5:$I$340,$C$56)/1000,1))","v":0},{"$f":"IFERROR(E59*F59,0)","v":0},63.5,{"$f":"IF(Daten!$F$6=FALSE,0,ROUND(SUMIFS(Zusammenfassung!$D$5:$D$340,Zusammenfassung!$G$5:$G$340,$B$57,Zusammenfassung!$K$5:$K$340,\">=\"&$A59,Zusammenfassung!$K$5:$K$340,\"<\"&$A60,Zusammenfassung!$U$5:$U$340,0,Zusammenfassung!$L$5:$L$340,\"=\"&I$57,Zusammenfassung!$I$5:$I$340,$C$56)/1000,1))","v":0},{"$f":"IFERROR(H59*I59,0)","v":0},65.5,{"$f":"IF(Daten!$F$6=FALSE,0,ROUND(SUMIFS(Zusammenfassung!$D$5:$D$340,Zusammenfassung!$G$5:$G$340,$B$57,Zusammenfassung!$K$5:$K$340,\">=\"&$A59,Zusammenfassung!$K$5:$K$340,\"<\"&$A60,Zusammenfassung!$U$5:$U$340,0,Zusammenfassung!$L$5:$L$340,\"=\"&L$57,Zusammenfassung!$I$5:$I$340,$C$56)/1000,1))","v":0},{"$f":"IFERROR(K59*L59,0)","v":0},67.5,{"$f":"IF(Daten!$F$6=FALSE,0,ROUND(SUMIFS(Zusammenfassung!$D$5:$D$340,Zusammenfassung!$G$5:$G$340,$B$57,Zusammenfassung!$K$5:$K$340,\">=\"&$A59,Zusammenfassung!$K$5:$K$340,\"<\"&$A60,Zusammenfassung!$U$5:$U$340,0,Zusammenfassung!$L$5:$L$340,\"=\"&O$57,Zusammenfassung!$I$5:$I$340,$C$56)/1000,1))","v":0},{"$f":"IFERROR(N59*O59,0)","v":0},71.5,{"$f":"IF(Daten!$F$6=FALSE,0,ROUND(SUMIFS(Zusammenfassung!$D$5:$D$340,Zusammenfassung!$G$5:$G$340,$B$57,Zusammenfassung!$K$5:$K$340,\">=\"&$A59,Zusammenfassung!$K$5:$K$340,\"<\"&$A60,Zusammenfassung!$U$5:$U$340,0,Zusammenfassung!$L$5:$L$340,\"=\"&R$57,Zusammenfassung!$I$5:$I$340,$C$56)/1000,1))","v":0},{"$f":"IFERROR(Q59*R59,0)","v":0}]
[51,58.5,{"$f":"IF(Daten!$F$6=FALSE,0,ROUND(SUMIFS(Zusammenfassung!$D$5:$D$340,Zusammenfassung!$G$5:$G$340,$B$57,Zusammenfassung!$K$5:$K$340,\">=\"&$A60,Zusammenfassung!$K$5:$K$340,\"<\"&$A61,Zusammenfassung!$U$5:$U$340,0,Zusammenfassung!$L$5:$L$340,\"=\"&C$57,Zusammenfassung!$I$5:$I$340,$C$56)/1000,1))","v":0},0,62.5,{"$f":"IF(Daten!$F$6=FALSE,0,ROUND(SUMIFS(Zusammenfassung!$D$5:$D$340,Zusammenfassung!$G$5:$G$340,$B$57,Zusammenfassung!$K$5:$K$340,\">=\"&$A60,Zusammenfassung!$K$5:$K$340,\"<\"&$A61,Zusammenfassung!$U$5:$U$340,0,Zusammenfassung!$L$5:$L$340,\"=\"&F$57,Zusammenfassung!$I$5:$I$340,$C$56)/1000,1))","v":0},0,65.5,{"$f":"IF(Daten!$F$6=FALSE,0,ROUND(SUMIFS(Zusammenfassung!$D$5:$D$340,Zusammenfassung!$G$5:$G$340,$B$57,Zusammenfassung!$K$5:$K$340,\">=\"&$A60,Zusammenfassung!$K$5:$K$340,\"<\"&$A61,Zusammenfassung!$U$5:$U$340,0,Zusammenfassung!$L$5:$L$340,\"=\"&I$57,Zusammenfassung!$I$5:$I$340,$C$56)/1000,1))","v":0},0,68,{"$f":"IF(Daten!$F$6=FALSE,0,ROUND(SUMIFS(Zusammenfassung!$D$5:$D$340,Zusammenfassung!$G$5:$G$340,$B$57,Zusammenfassung!$K$5:$K$340,\">=\"&$A60,Zusammenfassung!$K$5:$K$340,\"<\"&$A61,Zusammenfassung!$U$5:$U$340,0,Zusammenfassung!$L$5:$L$340,\"=\"&L$57,Zusammenfassung!$I$5:$I$340,$C$56)/1000,1))","v":0},0,71.5,{"$f":"IF(Daten!$F$6=FALSE,0,ROUND(SUMIFS(Zusammenfassung!$D$5:$D$340,Zusammenfassung!$G$5:$G$340,$B$57,Zusammenfassung!$K$5:$K$340,\">=\"&$A60,Zusammenfassung!$K$5:$K$340,\"<\"&$A61,Zusammenfassung!$U$5:$U$340,0,Zusammenfassung!$L$5:$L$340,\"=\"&O$57,Zusammenfassung!$I$5:$I$340,$C$56)/1000,1))","v":0},0,73.5,{"$f":"IF(Daten!$F$6=FALSE,0,ROUND(SUMIFS(Zusammenfassung!$D$5:$D$340,Zusammenfassung!$G$5:$G$340,$B$57,Zusammenfassung!$K$5:$K$340,\">=\"&$A60,Zusammenfassung!$K$5:$K$340,\"<\"&$A61,Zusammenfassung!$U$5:$U$340,0,Zusammenfassung!$L$5:$L$340,\"=\"&R$57,Zusammenfassung!$I$5:$I$340,$C$56)/1000,1))","v":0},0]
[101,62,{"$f":"IF(Daten!$F$6=FALSE,0,ROUND(SUMIFS(Zusammenfassung!$D$5:$D$340,Zusammenfassung!$G$5:$G$340,$B$57,Zusammenfassung!$K$5:$K$340,\">=\"&$A61,Zusammenfassung!$K$5:$K$340,\"<\"&$A62,Zusammenfassung!$U$5:$U$340,0,Zusammenfassung!$L$5:$L$340,\"=\"&C$57,Zusammenfassung!$I$5:$I$340,$C$56)/1000,1))","v":0},0,65,{"$f":"IF(Daten!$F$6=FALSE,0,ROUND(SUMIFS(Zusammenfassung!$D$5:$D$340,Zusammenfassung!$G$5:$G$340,$B$57,Zusammenfassung!$K$5:$K$340,\">=\"&$A61,Zusammenfassung!$K$5:$K$340,\"<\"&$A62,Zusammenfassung!$U$5:$U$340,0,Zusammenfassung!$L$5:$L$340,\"=\"&F$57,Zusammenfassung!$I$5:$I$340,$C$56)/1000,1))","v":0},0,68,{"$f":"IF(Daten!$F$6=FALSE,0,ROUND(SUMIFS(Zusammenfassung!$D$5:$D$340,Zusammenfassung!$G$5:$G$340,$B$57,Zusammenfassung!$K$5:$K$340,\">=\"&$A61,Zusammenfassung!$K$5:$K$340,\"<\"&$A62,Zusammenfassung!$U$5:$U$340,0,Zusammenfassung!$L$5:$L$340,\"=\"&I$57,Zusammenfassung!$I$5:$I$340,$C$56)/1000,1))","v":0},0,71.5,{"$f":"IF(Daten!$F$6=FALSE,0,ROUND(SUMIFS(Zusammenfassung!$D$5:$D$340,Zusammenfassung!$G$5:$G$340,$B$57,Zusammenfassung!$K$5:$K$340,\">=\"&$A61,Zusammenfassung!$K$5:$K$340,\"<\"&$A62,Zusammenfassung!$U$5:$U$340,0,Zusammenfassung!$L$5:$L$340,\"=\"&L$57,Zusammenfassung!$I$5:$I$340,$C$56)/1000,1))","v":0},0,75.5,{"$f":"IF(Daten!$F$6=FALSE,0,ROUND(SUMIFS(Zusammenfassung!$D$5:$D$340,Zusammenfassung!$G$5:$G$340,$B$57,Zusammenfassung!$K$5:$K$340,\">=\"&$A61,Zusammenfassung!$K$5:$K$340,\"<\"&$A62,Zusammenfassung!$U$5:$U$340,0,Zusammenfassung!$L$5:$L$340,\"=\"&O$57,Zusammenfassung!$I$5:$I$340,$C$56)/1000,1))","v":0},0,75.5,{"$f":"IF(Daten!$F$6=FALSE,0,ROUND(SUMIFS(Zusammenfassung!$D$5:$D$340,Zusammenfassung!$G$5:$G$340,$B$57,Zusammenfassung!$K$5:$K$340,\">=\"&$A61,Zusammenfassung!$K$5:$K$340,\"<\"&$A62,Zusammenfassung!$U$5:$U$340,0,Zusammenfassung!$L$5:$L$340,\"=\"&R$57,Zusammenfassung!$I$5:$I$340,$C$56)/1000,1))","v":0},0]
[141,62.5,{"$f":"IF(Daten!$F$6=FALSE,0,ROUND(SUMIFS(Zusammenfassung!$D$5:$D$340,Zusammenfassung!$G$5:$G$340,$B$57,Zusammenfassung!$K$5:$K$340,\">=\"&$A62,Zusammenfassung!$K$5:$K$340,\"<\"&$A63,Zusammenfassung!$U$5:$U$340,0,Zusammenfassung!$L$5:$L$340,\"=\"&C$57,Zusammenfassung!$I$5:$I$340,$C$56)/1000,1))","v":0},0,66.5,{"$f":"IF(Daten!$F$6=FALSE,0,ROUND(SUMIFS(Zusammenfassung!$D$5:$D$340,Zusammenfassung!$G$5:$G$340,$B$57,Zusammenfassung!$K$5:$K$340,\">=\"&$A62,Zusammenfassung!$K$5:$K$340,\"<\"&$A63,Zusammenfassung!$U$5:$U$340,0,Zusammenfassung!$L$5:$L$340,\"=\"&F$57,Zusammenfassung!$I$5:$I$340,$C$56)/1000,1))","v":0},0,70.5,{"$f":"IF(Daten!$F$6=FALSE,0,ROUND(SUMIFS(Zusammenfassung!$D$5:$D$340,Zusammenfassung!$G$5:$G$340,$B$57,Zusammenfassung!$K$5:$K$340,\">=\"&$A62,Zusammenfassung!$K$5:$K$340,\"<\"&$A63,Zusammenfassung!$U$5:$U$340,0,Zusammenfassung!$L$5:$L$340,\"=\"&I$57,Zusammenfassung!$I$5:$I$340,$C$56)/1000,1))","v":0},0,73.5,{"$f":"IF(Daten!$F$6=FALSE,0,ROUND(SUMIFS(Zusammenfassung!$D$5:$D$340,Zusammenfassung!$G$5:$G$340,$B$57,Zusammenfassung!$K$5:$K$340,\">=\"&$A62,Zusammenfassung!$K$5:$K$340,\"<\"&$A63,Zusammenfassung!$U$5:$U$340,0,Zusammenfassung!$L$5:$L$340,\"=\"&L$57,Zusammenfassung!$I$5:$I$340,$C$56)/1000,1))","v":0},0,77.5,{"$f":"IF(Daten!$F$6=FALSE,0,ROUND(SUMIFS(Zusammenfassung!$D$5:$D$340,Zusammenfassung!$G$5:$G$340,$B$57,Zusammenfassung!$K$5:$K$340,\">=\"&$A62,Zusammenfassung!$K$5:$K$340,\"<\"&$A63,Zusammenfassung!$U$5:$U$340,0,Zusammenfassung!$L$5:$L$340,\"=\"&O$57,Zusammenfassung!$I$5:$I$340,$C$56)/1000,1))","v":0},0,77.5,{"$f":"IF(Daten!$F$6=FALSE,0,ROUND(SUMIFS(Zusammenfassung!$D$5:$D$340,Zusammenfassung!$G$5:$G$340,$B$57,Zusammenfassung!$K$5:$K$340,\">=\"&$A62,Zusammenfassung!$K$5:$K$340,\"<\"&$A63,Zusammenfassung!$U$5:$U$340,0,Zusammenfassung!$L$5:$L$340,\"=\"&R$57,Zusammenfassung!$I$5:$I$340,$C$56)/1000,1))","v":0},0]
[161,"Anfrage",{"$f":"IF(Daten!$F$6=FALSE,0,ROUND(SUMIFS(Zusammenfassung!$D$5:$D$340,Zusammenfassung!$G$5:$G$340,$B$57,Zusammenfassung!$K$5:$K$340,\">=\"&$A63,Zusammenfassung!$K$5:$K$340,\"<\"&$A64,Zusammenfassung!$U$5:$U$340,0,Zusammenfassung!$L$5:$L$340,\"=\"&C$57,Zusammenfassung!$I$5:$I$340,$C$56)/1000,1))","v":0},0,"Anfrage",{"$f":"IF(Daten!$F$6=FALSE,0,ROUND(SUMIFS(Zusammenfassung!$D$5:$D$340,Zusammenfassung!$G$5:$G$340,$B$57,Zusammenfassung!$K$5:$K$340,\">=\"&$A63,Zusammenfassung!$K$5:$K$340,\"<\"&$A64,Zusammenfassung!$U$5:$U$340,0,Zusammenfassung!$L$5:$L$340,\"=\"&F$57,Zusammenfassung!$I$5:$I$340,$C$56)/1000,1))","v":0},0,"Anfrage",{"$f":"IF(Daten!$F$6=FALSE,0,ROUND(SUMIFS(Zusammenfassung!$D$5:$D$340,Zusammenfassung!$G$5:$G$340,$B$57,Zusammenfassung!$K$5:$K$340,\">=\"&$A63,Zusammenfassung!$K$5:$K$340,\"<\"&$A64,Zusammenfassung!$U$5:$U$340,0,Zusammenfassung!$L$5:$L$340,\"=\"&I$57,Zusammenfassung!$I$5:$I$340,$C$56)/1000,1))","v":0},0,"Anfrage",{"$f":"IF(Daten!$F$6=FALSE,0,ROUND(SUMIFS(Zusammenfassung!$D$5:$D$340,Zusammenfassung!$G$5:$G$340,$B$57,Zusammenfassung!$K$5:$K$340,\">=\"&$A63,Zusammenfassung!$K$5:$K$340,\"<\"&$A64,Zusammenfassung!$U$5:$U$340,0,Zusammenfassung!$L$5:$L$340,\"=\"&L$57,Zusammenfassung!$I$5:$I$340,$C$56)/1000,1))","v":0},0,"Anfrage",{"$f":"IF(Daten!$F$6=FALSE,0,ROUND(SUMIFS(Zusammenfassung!$D$5:$D$340,Zusammenfassung!$G$5:$G$340,$B$57,Zusammenfassung!$K$5:$K$340,\">=\"&$A63,Zusammenfassung!$K$5:$K$340,\"<\"&$A64,Zusammenfassung!$U$5:$U$340,0,Zusammenfassung!$L$5:$L$340,\"=\"&O$57,Zusammenfassung!$I$5:$I$340,$C$56)/1000,1))","v":0},0,"Anfrage",{"$f":"IF(Daten!$F$6=FALSE,0,ROUND(SUMIFS(Zusammenfassung!$D$5:$D$340,Zusammenfassung!$G$5:$G$340,$B$57,Zusammenfassung!$K$5:$K$340,\">=\"&$A63,Zusammenfassung!$K$5:$K$340,\"<\"&$A64,Zusammenfassung!$U$5:$U$340,0,Zusammenfassung!$L$5:$L$340,\"=\"&R$57,Zusammenfassung!$I$5:$I$340,$C$56)/1000,1))","v":0},0]
[null,null,{"$f":"SUM(C58:C63)","v":0},{"$f":"SUM(D58:D63)","v":0},null,{"$f":"SUM(F58:F63)","v":0},{"$f":"SUM(G58:G63)","v":0},null,{"$f":"SUM(I58:I63)","v":0},{"$f":"SUM(J58:J63)","v":0},null,{"$f":"SUM(L58:L63)","v":0},{"$f":"SUM(M58:M63)","v":0},null,{"$f":"SUM(O58:O63)","v":0},{"$f":"SUM(P58:P63)","v":0},null,{"$f":"SUM(R58:R63)","v":0},{"$f":"SUM(S58:S63)","v":0},{"$f":"D64+G64+J64+M64+P64+S64","v":0}]
["Thermo-Hartschaum-Kaschierung"]
[null,"B","EPS",null,"C","EPS",null,"B","XPS",null,"C","XPS",null,"D","EPS",null,"D","EPS Grau"]
[0,13.2,{"$f":"IF(Daten!$F$5=FALSE,0,ROUND(SUMIFS(Zusammenfassung!$D$5:$D$340,Zusammenfassung!$G$5:$G$340,B$66,Zusammenfassung!$I$5:$I$340,C$66,Zusammenfassung!$J$5:$J$340,\">\"&$A67,Zusammenfassung!$J$5:$J$340,\"<=\"&$A68)/1000,1))","v":0},{"$f":"IFERROR(B67*C67,0)","v":0},13.2,{"$f":"IF(Daten!$F$5=FALSE,0,ROUND(SUMIFS(Zusammenfassung!$D$5:$D$340,Zusammenfassung!$G$5:$G$340,E$66,Zusammenfassung!$I$5:$I$340,F$66,Zusammenfassung!$J$5:$J$340,\">\"&$A67,Zusammenfassung!$J$5:$J$340,\"<=\"&$A68)/1000,1))","v":0},{"$f":"IFERROR(E67*F67,0)","v":0},0,{"$f":"IF(Daten!$F$5=FALSE,0,ROUND(SUMIFS(Zusammenfassung!$D$5:$D$340,Zusammenfassung!$G$5:$G$340,H$66,Zusammenfassung!$I$5:$I$340,I$66,Zusammenfassung!$J$5:$J$340,\">\"&$A67,Zusammenfassung!$J$5:$J$340,\"<=\"&$A68)/1000,1))","v":0},{"$f":"IFERROR(H67*I67,0)","v":0},0,{"$f":"IF(Daten!$F$5=FALSE,0,ROUND(SUMIFS(Zusammenfassung!$D$5:$D$340,Zusammenfassung!$G$5:$G$340,K$66,Zusammenfassung!$I$5:$I$340,L$66,Zusammenfassung!$J$5:$J$340,\">\"&$A67,Zusammenfassung!$J$5:$J$340,\"<=\"&$A68)/1000,1))","v":0},{"$f":"IFERROR(K67*L67,0)","v":0},13.2,{"$f":"IF(Daten!$F$5=FALSE,0,ROUND(SUMIFS(Zusammenfassung!$D$5:$D$340,Zusammenfassung!$G$5:$G$340,N$66,Zusammenfassung!$I$5:$I$340,O$66,Zusammenfassung!$J$5:$J$340,\">\"&$A67,Zusammenfassung!$J$5:$J$340,\"<=\"&$A68)/1000,1))","v":0},{"$f":"IFERROR(N67*O67,0)","v":0},13.2,{"$f":"IF(Daten!$F$5=FALSE,0,ROUND(SUMIFS(Zusammenfassung!$D$5:$D$340,Zusammenfassung!$G$5:$G$340,Q$66,Zusammenfassung!$I$5:$I$340,R$66,Zusammenfassung!$J$5:$J$340,\">\"&$A67,Zusammenfassung!$J$5:$J$340,\"<=\"&$A68)/1000,1))","v":0},{"$f":"IFERROR(Q67*R67,0)","v":0}]
[200,19.3,{"$f":"IF(Daten!$F$5=FALSE,0,ROUND(SUMIFS(Zusammenfassung!$D$5:$D$340,Zusammenfassung!$G$5:$G$340,B$66,Zusammenfassung!$I$5:$I$340,C$66,Zusammenfassung!$J$5:$J$340,\">\"&$A68,Zusammenfassung!$J$5:$J$340,\"<=\"&$A69)/1000,1))","v":0},{"$f":"IFERROR(B68*C68,0)","v":0},19.3,{"$f":"IF(Daten!$F$5=FALSE,0,ROUND(SUMIFS(Zusammenfassung!$D$5:$D$340,Zusammenfassung!$G$5:$G$340,E$66,Zusammenfassung!$I$5:$I$340,F$66,Zusammenfassung!$J$5:$J$340,\">\"&$A68,Zusammenfassung!$J$5:$J$340,\"<=\"&$A69)/1000,1))","v":0},{"$f":"IFERROR(E68*F68,0)","v":0},0,{"$f":"IF(Daten!$F$5=FALSE,0,ROUND(SUMIFS(Zusammenfassung!$D$5:$D$340,Zusammenfassung!$G$5:$G$340,H$66,Zusammenfassung!$I$5:$I$340,I$66,Zusammenfassung!$J$5:$J$340,\">\"&$A68,Zusammenfassung!$J$5:$J$340,\"<=\"&$A69)/1000,1))","v":0},{"$f":"IFERROR(H68*I68,0)","v":0},0,{"$f":"IF(Daten!$F$5=FALSE,0,ROUND(SUMIFS(Zusammenfassung!$D$5:$D$340,Zusammenfassung!$G$5:$G$340,K$66,Zusammenfassung!$I$5:$I$340,L$66,Zusammenfassung!$J$5:$J$340,\">\"&$A68,Zusammenfassung!$J$5:$J$340,\"<=\"&$A69)/1000,1))","v":0},{"$f":"IFERROR(K68*L68,0)","v":0},19.3,{"$f":"IF(Daten!$F$5=FALSE,0,ROUND(SUMIFS(Zusammenfassung!$D$5:$D$340,Zusammenfassung!$G$5:$G$340,N$66,Zusammenfassung!$I$5:$I$340,O$66,Zusammenfassung!$J$5:$J$340,\">\"&$A68,Zusammenfassung!$J$5:$J$340,\"<=\"&$A69)/1000,1))","v":0},{"$f":"IFERROR(N68*O68,0)","v":0},19.3,{"$f":"IF(Daten!$F$5=FALSE,0,ROUND(SUMIFS(Zusammenfassung!$D$5:$D$340,Zusammenfassung!$G$5:$G$340,Q$66,Zusammenfassung!$I$5:$I$340,R$66,Zusammenfassung!$J$5:$J$340,\">\"&$A68,Zusammenfassung!$J$5:$J$340,\"<=\"&$A69)/1000,1))","v":0},{"$f":"IFERROR(Q68*R68,0)","v":0}]
[300,25.5,{"$f":"IF(Daten!$F$5=FALSE,0,ROUND(SUMIFS(Zusammenfassung!$D$5:$D$340,Zusammenfassung!$G$5:$G$340,B$66,Zusammenfassung!$I$5:$I$340,C$66,Zusammenfassung!$J$5:$J$340,\">\"&$A69,Zusammenfassung!$J$5:$J$340,\"<=\"&$A70)/1000,1))","v":0},0,25.5,{"$f":"IF(Daten!$F$5=FALSE,0,ROUND(SUMIFS(Zusammenfassung!$D$5:$D$340,Zusammenfassung!$G$5:$G$340,E$66,Zusammenfassung!$I$5:$I$340,F$66,Zusammenfassung!$J$5:$J$340,\">\"&$A69,Zusammenfassung!$J$5:$J$340,\"<=\"&$A70)/1000,1))","v":0},0,0,{"$f":"IF(Daten!$F$5=FALSE,0,ROUND(SUMIFS(Zusammenfassung!$D$5:$D$340,Zusammenfassung!$G$5:$G$340,H$66,Zusammenfassung!$I$5:$I$340,I$66,Zusammenfassung!$J$5:$J$340,\">\"&$A69,Zusammenfassung!$J$5:$J$340,\"<=\"&$A70)/1000,1))","v":0},0,0,{"$f":"IF(Daten!$F$5=FALSE,0,ROUND(SUMIFS(Zusammenfassung!$D$5:$D$340,Zusammenfassung!$G$5:$G$340,K$66,Zusammenfassung!$I$5:$I$340,L$66,Zusammenfassung!$J$5:$J$340,\">\"&$A69,Zusammenfassung!$J$5:$J$340,\"<=\"&$A70)/1000,1))","v":0},0,25.5,{"$f":"IF(Daten!$F$5=FALSE,0,ROUND(SUMIFS(Zusammenfassung!$D$5:$D$340,Zusammenfassung!$G$5:$G$340,N$66,Zusammenfassung!$I$5:$I$340,O$66,Zusammenfassung!$J$5:$J$340,\">\"&$A69,Zusammenfassung!$J$5:$J$340,\"<=\"&$A70)/1000,1))","v":0},0,25.5,{"$f":"IF(Daten!$F$5=FALSE,0,ROUND(SUMIFS(Zusammenfassung!$D$5:$D$340,Zusammenfassung!$G$5:$G$340,Q$66,Zusammenfassung!$I$5:$I$340,R$66,Zusammenfassung!$J$5:$J$340,\">\"&$A69,Zusammenfassung!$J$5:$J$340,\"<=\"&$A70)/1000,1))","v":0},0]
[400,"Anfrage",{"$f":"IF(Daten!$F$5=FALSE,0,ROUND(SUMIFS(Zusammenfassung!$D$5:$D$340,Zusammenfassung!$G$5:$G$340,B$66,Zusammenfassung!$I$5:$I$340,C$66,Zusammenfassung!$J$5:$J$340,\">\"&$A70,Zusammenfassung!$J$5:$J$340,\"<=\"&$A71)/1000,1))","v":0},0,"Anfrage",{"$f":"IF(Daten!$F$5=FALSE,0,ROUND(SUMIFS(Zusammenfassung!$D$5:$D$340,Zusammenfassung!$G$5:$G$340,E$66,Zusammenfassung!$I$5:$I$340,F$66,Zusammenfassung!$J$5:$J$340,\">\"&$A70,Zusammenfassung!$J$5:$J$340,\"<=\"&$A71)/1000,1))","v":0},0,0,{"$f":"IF(Daten!$F$5=FALSE,0,ROUND(SUMIFS(Zusammenfassung!$D$5:$D$340,Zusammenfassung!$G$5:$G$340,H$66,Zusammenfassung!$I$5:$I$340,I$66,Zusammenfassung!$J$5:$J$340,\">\"&$A70,Zusammenfassung!$J$5:$J$340,\"<=\"&$A71)/1000,1))","v":0},0,0,{"$f":"IF(Daten!$F$5=FALSE,0,ROUND(SUMIFS(Zusammenfassung!$D$5:$D$340,Zusammenfassung!$G$5:$G$340,K$66,Zusammenfassung!$I$5:$I$340,L$66,Zusammenfassung!$J$5:$J$340,\">\"&$A70,Zusammenfassung!$J$5:$J$340,\"<=\"&$A71)/1000,1))","v":0},0,"Anfrage",{"$f":"IF(Daten!$F$5=FALSE,0,ROUND(SUMIFS(Zusammenfassung!$D$5:$D$340,Zusammenfassung!$G$5:$G$340,N$66,Zusammenfassung!$I$5:$I$340,O$66,Zusammenfassung!$J$5:$J$340,\">\"&$A70,Zusammenfassung!$J$5:$J$340,\"<=\"&$A71)/1000,1))","v":0},0,"Anfrage",{"$f":"IF(Daten!$F$5=FALSE,0,ROUND(SUMIFS(Zusammenfassung!$D$5:$D$340,Zusammenfassung!$G$5:$G$340,Q$66,Zusammenfassung!$I$5:$I$340,R$66,Zusammenfassung!$J$5:$J$340,\">\"&$A70,Zusammenfassung!$J$5:$J$340,\"<=\"&$A71)/1000,1))","v":0},0]
[null,null,{"$f":"SUM(C67:C70)","v":0},{"$f":"SUM(D67:D70)","v":0},null,{"$f":"SUM(F67:F70)","v":0},{"$f":"SUM(G67:G70)","v":0},null,{"$f":"SUM(I67:I70)","v":0},{"$f":"SUM(J67:J70)","v":0},null,{"$f":"SUM(L67:L70)","v":0},{"$f":"SUM(M67:M70)","v":0},null,{"$f":"SUM(O67:O70)","v":0},{"$f":"SUM(P67:P70)","v":0},null,{"$f":"SUM(R67:R70)","v":0},{"$f":"SUM(S67:S70)","v":0},{"$f":"D71+G71+J71+M71+P71+S71","v":0}]
["An- und Abschlüsse",null,null,null,null,null,"Schutzfolie",null,null,null,"Zuschläge","Pulverbeschichtet RAL","Pulverbeschichtet NCS","Pulverbeschichtet IGP"]
["Putzbord 15x27",4.8,{"$f":"Zusammenfassung!M4","v":0},{"$f":"B73*C73","v":0},null,null,0,-7,{"$f":"IF(Daten!$D$3=FALSE,ROUND(SUMIFS(Zusammenfassung!D$5:D$340,Eingabeliste!$N$5:$N$340,\"Pulverbeschichtet\",Zusammenfassung!C$5:C$340,\">\"&G73,Zusammenfassung!C$5:C$340,\"<=\"&G74)/1000,1),0)","v":0},{"$f":"IFERROR(H73*I73,0)","v":0},0,{"$f":"IF(ROUND(SUMIFS(Zusammenfassung!$D$5:$D$340,Zusammenfassung!$F$5:$F$340,L$72)/1000,1)>$K73,180,0)*IF(ROUND(SUMIFS(Zusammenfassung!$D$5:$D$340,Zusammenfassung!$F$5:$F$340,L$72)/1000,1)<$K74,1,0)","v":0},{"$f":"IF(ROUND(SUMIFS(Zusammenfassung!$D$5:$D$340,Zusammenfassung!$F$5:$F$340,M$72)/1000,1)>$K73,250,0)*IF(ROUND(SUMIFS(Zusammenfassung!$D$5:$D$340,Zusammenfassung!$F$5:$F$340,M$72)/1000,1)<$K74,1,0)","v":0},{"$f":"IF(ROUND(SUMIFS(Zusammenfassung!$D$5:$D$340,Zusammenfassung!$F$5:$F$340,N$72)/1000,1)>$K73,250,0)*IF(ROUND(SUMIFS(Zusammenfassung!$D$5:$D$340,Zusammenfassung!$F$5:$F$340,N$72)/1000,1)<$K74,1,0)","v":0}]
["Putzbord 15x37",6,{"$f":"Zusammenfassung!N4","v":0},{"$f":"B74*C74","v":0},null,null,350,-11,{"$f":"IF(Daten!$D$3=FALSE,ROUND(SUMIFS(Zusammenfassung!D$5:D$340,Eingabeliste!$N$5:$N$340,\"Pulverbeschichtet\",Zusammenfassung!C$5:C$340,\">\"&G74,Zusammenfassung!C$5:C$340,\"<=\"&G75)/1000,1),0)","v":0},{"$f":"IFERROR(H74*I74,0)","v":0},50,{"$f":"IF(ROUND(SUMIFS(Zusammenfassung!$D$5:$D$340,Zusammenfassung!$F$5:$F$340,L$72)/1000,1)>$K74,130,0)*IF(ROUND(SUMIFS(Zusammenfassung!$D$5:$D$340,Zusammenfassung!$F$5:$F$340,L$72)/1000,1)<$K75,1,0)","v":0},{"$f":"IF(ROUND(SUMIFS(Zusammenfassung!$D$5:$D$340,Zusammenfassung!$F$5:$F$340,M$72)/1000,1)>$K74,180,0)*IF(ROUND(SUMIFS(Zusammenfassung!$D$5:$D$340,Zusammenfassung!$F$5:$F$340,M$72)/1000,1)<$K75,1,0)","v":0},{"$f":"IF(ROUND(SUMIFS(Zusammenfassung!$D$5:$D$340,Zusammenfassung!$F$5:$F$340,N$72)/1000,1)>$K74,180,0)*IF(ROUND(SUMIFS(Zusammenfassung!$D$5:$D$340,Zusammenfassung!$F$5:$F$340,N$72)/1000,1)<$K75,1,0)","v":0}]
["Stehbord 24mm",3.7,{"$f":"Zusammenfassung!P4+Zusammenfassung!R4","v":0},0,null,null,500,"Anfrage",{"$f":"IF(Daten!$D$3=FALSE,ROUND(SUMIFS(Zusammenfassung!D$5:D$340,Eingabeliste!$N$5:$N$340,\"Pulverbeschichtet\",Zusammenfassung!C$5:C$340,\">\"&G75,Zusammenfassung!C$5:C$340,\"<=\"&G76)/1000,1),0)","v":0},0,100,{"$f":"IF(ROUND(SUMIFS(Zusammenfassung!$D$5:$D$340,Zusammenfassung!$F$5:$F$340,L$72)/1000,1)>$K75,0,0)*IF(ROUND(SUMIFS(Zusammenfassung!$D$5:$D$340,Zusammenfassung!$F$5:$F$340,L$72)/1000,1)<$K76,1,0)","v":0},{"$f":"IF(ROUND(SUMIFS(Zusammenfassung!$D$5:$D$340,Zusammenfassung!$F$5:$F$340,M$72)/1000,1)>$K75,0,0)*IF(ROUND(SUMIFS(Zusammenfassung!$D$5:$D$340,Zusammenfassung!$F$5:$F$340,M$72)/1000,1)<$K76,1,0)","v":0},{"$f":"IF(ROUND(SUMIFS(Zusammenfassung!$D$5:$D$340,Zusammenfassung!$F$5:$F$340,N$72)/1000,1)>$K75,0,0)*IF(ROUND(SUMIFS(Zusammenfassung!$D$5:$D$340,Zusammenfassung!$F$5:$F$340,N$72)/1000,1)<$K76,1,0)","v":0}]
["Pu-Flexila bis 300 (Pulverb.)",22,{"$f":"Zusammenfassung!U4+Zusammenfassung!V4","v":0},0,null,null,null,null,{"$f":"SUM(I73:I75)","v":0},{"$f":"SUM(J73:J75)","v":0},null,null,null,{"$f":"SUM(L73:N75)","v":0}]
["Pu-Flexila ab 301 (Pulverb.)",23,{"$f":"Zusammenfassung!W4+Zusammenfassung!X4","v":0},0]
["Pu-Flexila spez. (Pulverb.)",36,{"$f":"Zusammenfassung!Y4","v":0},0]
["Pu-Flexila bis 300 (elox)",22,{"$f":"Zusammenfassung!Z4+Zusammenfassung!AA4","v":0},0]
["Pu-Flexila ab 301 (elox)",23,{"$f":"Zusammenfassung!AB4+Zusammenfassung!AC4","v":0},0]
["Pu-Flexila spez.  (elox)",50,{"$f":"Zusammenfassung!AD4","v":0},0]
["Pu/STB Spez.",8,{"$f":"Zusammenfassung!O4+Zusammenfassung!Q4+Zusammenfassung!S4","v":0},0]
["Boden bis 300mm",26,{"$f":"Zusammenfassung!AI4","v":0},0]
["Boden 301-500mm",34,{"$f":"Zusammenfassung!AJ4","v":0},0]
["Ausklink hinten",2,{"$f":"Zusammenfassung!T4","v":0},0]
["STB-Flexila bis 300 (Pulverb.)",21,{"$f":"Zusammenfassung!AE4","v":0},0]
["STB-Flexila ab 301 (Pulverb.)",22,{"$f":"Zusammenfassung!AF4","v":0},0]
["STB-Flexila bis 300 (elox)",21,{"$f":"Zusammenfassung!AG4","v":0},0]
["STB-Flexila ab 301 (elox)",22,{"$f":"Zusammenfassung!AH4","v":0},0]
[null,null,{"$f":"SUM(C73:C85)","v":0},{"$f":"SUM(D73:D89)","v":0}]
["Dilatationen"]
["vormontiert bis 300 pulver.",15,{"$f":"Zusammenfassung!AR4","v":0},{"$f":"B92*C92","v":0}]
["vormontiert 301-500 pulver.",17,{"$f":"Zusammenfassung!AS4","v":0},{"$f":"B93*C93","v":0}]
["vormontiert bis 300",11.5,{"$f":"Zusammenfassung!AP4","v":0},0]
["vormontiert 301-500",13.5,{"$f":"Zusammenfassung!AQ4","v":0},0]
["lose bis 300 pulver.",10.5,{"$f":"Zusammenfassung!AN4","v":0},0]
["lose 301-500 pulver.",12,{"$f":"Zusammenfassung!AO4","v":0},0]
["lose bis 300",7.5,{"$f":"Zusammenfassung!AL4","v":0},0]
["lose 301-500",9,{"$f":"Zusammenfassung!AM4","v":0},0]
[null,null,{"$f":"SUM(C92:C99)","v":0},{"$f":"SUM(D92:D99)","v":0}]
[]
[]
[]
[]
["Montagematerial"]
["Befestigungbügel",9,{"$f":"Zusammenfassung!AT4","v":0},{"$f":"B106*C106","v":0}]
["Dichtungsband lose",8.5,{"$f":"Zusammenfassung!AU4","v":0},{"$f":"B107*C107","v":0}]
["Dichtungsband geklebt",3.5,{"$f":"Zusammenfassung!AV4","v":0},0]
["Dichtungsband F-SEC",13.5,{"$f":"Zusammenfassung!AW4","v":0},0]
["Rahmenschraube 7.5x50",24,{"$f":"Daten!H12","v":0},0]
["Rahmenschraube 7.5x70",26,{"$f":"Daten!H14","v":0},0]
["Rahmenschraube 7.5x110",28,{"$f":"Daten!H16","v":0},0]
["Selbstbohrschrauben 4.2x19",11,{"$f":"Daten!H18","v":0},0]
["Selbstbohrschrauben 4.2x38",14,{"$f":"Daten!H20","v":0},0]
["Feba-Flex MS 290ml",9.5,{"$f":"Daten!H6","v":0},0]
["Feba-Flex MS 600ml",17.5,{"$f":"Daten!H8","v":0},0]
["Feba-PU",11.5,{"$f":"Daten!H10","v":0},0]
["Wasserwaage",58,{"$f":"Daten!H25","v":0},0]
[null,null,null,{"$f":"SUM(D106:D118)","v":0}]
[]
[]
[]
[]
[]
[]
["Diverses"]
["Jalousieklinkung",2.8,{"$f":"IF(Daten!D6=\"Jalousiebord\",Preise!C75,0)","v":0},{"$f":"C127*B127","v":0}]
["Mehrpreis Stehbord HB",3,{"$f":"IF(Daten!D6=\"Stehbord HB\",Preise!C75,0)","v":0},{"$f":"C128*B128","v":0}]
[]
[]
[]
[]
[]
[]
[]
[]
[]
[]
[]
[]
[]
[]
[]
[]
[]
[]
[]
[]
[]
[]
[null,null,null,{"$f":"SUM(D127:D150)","v":0}]